Workbook

Sheet config
B2: Ecole de : | C2: xxxxxxxx
C3: Année : | D3: 2019 | E3: ="/ "&D3+1 -> / 2020
B4: Enseignants:
B5: Colonne1
B6: Enseignant 1
B7: Enseignant 2 | K7: Année | L7: =$D$3 -> 2019
B8: enseignant 3
B9: enseignant 4 | K9: 1er Janvier | L9: =DATE($L$7,1,1) -> 43466 | M9: =_xlfn.FORMULATEXT(L9) -> #NAME?
B10: enseignant 5 | K10: Pâques | L10: =ROUND(DATE($L$7,4,MOD(234-11*MOD($L$7,19),30))/7,)*7-6 -> 43576 | M10: =_xlfn.FORMULATEXT(L10) -> #NAME?
B11: enseignant 6 | K11: Lundi de Pâques | L11: =L10+1 -> 43577 | M11: =_xlfn.FORMULATEXT(L11) -> #NAME?
B12: enseignant 7 | K12: 1er Mai | L12: =DATE($L$7,5,1) -> 43586 | M12: =_xlfn.FORMULATEXT(L12) -> #NAME?
B13: enseignant 8 | K13: 8 Mai | L13: =DATE($L$7,5,8) -> 43593 | M13: =_xlfn.FORMULATEXT(L13) -> #NAME?
B14: enseignant 9 | K14: Ascenscion | L14: =L10+39 -> 43615 | M14: =_xlfn.FORMULATEXT(L14) -> #NAME?
B15: enseignant 10 | K15: Pentecôte | L15: =L10+49 -> 43625 | M15: =_xlfn.FORMULATEXT(L15) -> #NAME?
B16: enseignant 11 | K16: Lundi de la Pentecôte | L16: =L10+50 -> 43626 | M16: =_xlfn.FORMULATEXT(L16) -> #NAME?
B17: enseignant 12 | K17: 14 Juillet | L17: =DATE($L$7,7,14) -> 43660 | M17: =_xlfn.FORMULATEXT(L17) -> #NAME?
B18: enseignant 13 | K18: 15 Août | L18: =DATE($L$7,8,15) -> 43692 | M18: =_xlfn.FORMULATEXT(L18) -> #NAME?
B19: enseignant 14 | K19: 1er Novembre | L19: =DATE($L$7,11,1) -> 43770 | M19: =_xlfn.FORMULATEXT(L19) -> #NAME?
B20: enseignant 15 | K20: 11 Novembre | L20: =DATE($L$7,11,11) -> 43780 | M20: =_xlfn.FORMULATEXT(L20) -> #NAME?
B21: enseignant 16 | K21: 25 Décembre | L21: =DATE($L$7,12,25) -> 43824 | M21: =_xlfn.FORMULATEXT(L21) -> #NAME?
B22: enseignant 17
B23: enseignant 18
B24: enseignant 19
B25: enseignant 20 | K25: Date d'entrée | L25: =DATE($D$3,8,1) -> 43678
B26: enseignant 21
L27: Début | M27: Fin
K28: Août | L28: =L25 -> 43678 | M28: =EOMONTH(L28,0) -> 43708
K29: Septembre | L29: =EDATE(L28,1) -> 43709 | M29: =EOMONTH(L29,0) -> 43738
K30: Octobre | L30: =EDATE(L29,1) -> 43739 | M30: =EOMONTH(L30,0) -> 43769
K31: Novembre | L31: =EDATE(L30,1) -> 43770 | M31: =EOMONTH(L31,0) -> 43799
K32: Décembre | L32: =EDATE(L31,1) -> 43800 | M32: =EOMONTH(L32,0) -> 43830
K33: Janvier | L33: =EDATE(L32,1) -> 43831 | M33: =EOMONTH(L33,0) -> 43861
K34: Février | L34: =EDATE(L33,1) -> 43862 | M34: =EOMONTH(L34,0) -> 43890
K35: Mars | L35: =EDATE(L34,1) -> 43891 | M35: =EOMONTH(L35,0) -> 43921
K36: Avril | L36: =EDATE(L35,1) -> 43922 | M36: =EOMONTH(L36,0) -> 43951
K37: Mai | L37: =EDATE(L36,1) -> 43952 | M37: =EOMONTH(L37,0) -> 43982
K38: Juin | L38: =EDATE(L37,1) -> 43983 | M38: =EOMONTH(L38,0) -> 44012
K39: Juillet | L39: =EDATE(L38,1) -> 44013 | M39: =EOMONTH(L39,0) -> 44043
I43: vacances scolaire mayotte
K46: date début | L46: date fin
...

Sheet aout
A1: =config!L28 -> 43678
A2: =config!M28 -> 43708
A3: =TODAY() -> 43646 | F3: =A1 -> 43678 | G3: =F3+1 -> 43679 | H3: =G3+1 -> 43680 | I3: =H3+1 -> 43681 | J3: =I3+1 -> 43682 | K3: =J3+1 -> 43683 | L3: =K3+1 -> 43684 | M3: =L3+1 -> 43685 | N3: =M3+1 -> 43686 | ... AG3: =AF3+1 -> 43705 | AH3: =IFERROR(IF(AG3+1>$A$2,"",AG3+1),"") -> 43706 | AI3: =IFERROR(IF(AH3+1>$A$2,"",AH3+1),"") -> 43707 | AJ3: =IFERROR(IF(AI3+1>$A$2,"",AI3+1),"") -> 43708
A4: Ecole : | C4: =config!C2 -> xxxxxxxx | K4: =TEXT(A1,"mmmmmmmmmmmm")& TEXT(A1," aaaa") -> août 2019
A5: Directeur : | C5: Mr rrrrrrrrr
D7: Semaine n°: | F7: =IF(F9="L","S "&WEEKNUM(F3),"") | G7: =IF(G9="L","S "&WEEKNUM(G3),"") | H7: =IF(H9="L","S "&WEEKNUM(H3),"") | I7: =IF(I9="L","S "&WEEKNUM(I3),"") | J7: =IF(J9="L","S "&WEEKNUM(J3),"") -> S 32 | K7: =IF(K9="L","S "&WEEKNUM(K3),"") | L7: =IF(L9="L","S "&WEEKNUM(L3),"") | M7: =IF(M9="L","S "&WEEKNUM(M3),"") | ... AJ7: =IF(AJ9="L","S "&WEEKNUM(AJ3),"")
F8: =DAY(F3) -> 1 | G8: =DAY(G3) -> 2 | H8: =DAY(H3) -> 3 | I8: =DAY(I3) -> 4 | J8: =DAY(J3) -> 5 | K8: =DAY(K3) -> 6 | L8: =DAY(L3) -> 7 | M8: =DAY(M3) -> 8 | ... AG8: =DAY(AG3) -> 28 | AH8: =IFERROR(DAY(AH3),"") -> 29 | AI8: =IFERROR(DAY(AI3),"") -> 30 | AJ8: =IFERROR(DAY(AJ3),"") -> 31
B9: Enseignants | C9: Congés | D9: Maladie | E9: Grèves | F9: =CHOOSE(WEEKDAY(F3),"D","L","M","M","J","V","S") -> J | G9: =CHOOSE(WEEKDAY(G3),"D","L","M","M","J","V","S") -> V | H9: =CHOOSE(WEEKDAY(H3),"D","L","M","M","J","V","S") -> S | I9: =CHOOSE(WEEKDAY(I3),"D","L","M","M","J","V","S") -> D | J9: =CHOOSE(WEEKDAY(J3),"D","L","M","M","J","V","S") -> L | K9: =CHOOSE(WEEKDAY(K3),"D","L","M","M","J","V","S") -> M | L9: =CHOOSE(WEEKDAY(L3),"D","L","M","M","J","V","S") -> M | M9: =CHOOSE(WEEKDAY(M3),"D","L","M","M","J","V","S") -> J | ... AJ9: =CHOOSE(WEEKDAY(AJ3),"D","L","M","M","J","V","S") -> S
B10: =IF(config!B6<>"",config!B6,"") -> Enseignant 1 | C10: =COUNTIF(F10:AJ10,"C") -> 0 | D10: =COUNTIF(G10:AK10,"M") -> 1 | E10: =COUNTIF(H10:AL10,"G") -> 0 | G10: M
B11: =IF(config!B7<>"",config!B7,"") -> Enseignant 2 | C11: =COUNTIF(F11:AJ11,"C") -> 1 | D11: =COUNTIF(G11:AK11,"M") -> 1 | E11: =COUNTIF(H11:AL11,"G") -> 0 | L11: M | M11: C
B12: =IF(config!B8<>"",config!B8,"") -> enseignant 3 | C12: =COUNTIF(F12:AJ12,"C") -> 1 | D12: =COUNTIF(G12:AK12,"M") -> 1 | E12: =COUNTIF(H12:AL12,"G") -> 0 | M12: C | N12: M
B13: =IF(config!B9<>"",config!B9,"") -> enseignant 4 | C13: =COUNTIF(F13:AJ13,"C") -> 0 | D13: =COUNTIF(G13:AK13,"M") -> 0 | E13: =COUNTIF(H13:AL13,"G") -> 0
B14: =IF(config!B10<>"",config!B10,"") -> enseignant 5 | C14: =COUNTIF(F14:AJ14,"C") -> 0 | D14: =COUNTIF(G14:AK14,"M") -> 0 | E14: =COUNTIF(H14:AL14,"G") -> 0
B15: =IF(config!B11<>"",config!B11,"") -> enseignant 6 | C15: =COUNTIF(F15:AJ15,"C") -> 0 | D15: =COUNTIF(G15:AK15,"M") -> 0 | E15: =COUNTIF(H15:AL15,"G") -> 0
B16: =IF(config!B12<>"",config!B12,"") -> enseignant 7 | C16: =COUNTIF(F16:AJ16,"C") -> 0 | D16: =COUNTIF(G16:AK16,"M") -> 0 | E16: =COUNTIF(H16:AL16,"G") -> 2 | M16: G | N16: G
B17: =IF(config!B13<>"",config!B13,"") -> enseignant 8 | C17: =COUNTIF(F17:AJ17,"C") -> 0 | D17: =COUNTIF(G17:AK17,"M") -> 0 | E17: =COUNTIF(H17:AL17,"G") -> 0
B18: =IF(config!B14<>"",config!B14,"") -> enseignant 9 | C18: =COUNTIF(F18:AJ18,"C") -> 0 | D18: =COUNTIF(G18:AK18,"M") -> 0 | E18: =COUNTIF(H18:AL18,"G") -> 0
B19: =IF(config!B15<>"",config!B15,"") -> enseignant 10 | C19: =COUNTIF(F19:AJ19,"C") -> 0 | D19: =COUNTIF(G19:AK19,"M") -> 0 | E19: =COUNTIF(H19:AL19,"G") -> 0
B20: =IF(config!B16<>"",config!B16,"") -> enseignant 11 | C20: =COUNTIF(F20:AJ20,"C") -> 0 | D20: =COUNTIF(G20:AK20,"M") -> 0 | E20: =COUNTIF(H20:AL20,"G") -> 0
B21: =IF(config!B17<>"",config!B17,"") -> enseignant 12 | C21: =COUNTIF(F21:AJ21,"C") -> 0 | D21: =COUNTIF(G21:AK21,"M") -> 0 | E21: =COUNTIF(H21:AL21,"G") -> 0
B22: =IF(config!B18<>"",config!B18,"") -> enseignant 13 | C22: =COUNTIF(F22:AJ22,"C") -> 0 | D22: =COUNTIF(G22:AK22,"M") -> 0 | E22: =COUNTIF(H22:AL22,"G") -> 0
B23: =IF(config!B19<>"",config!B19,"") -> enseignant 14 | C23: =COUNTIF(F23:AJ23,"C") -> 0 | D23: =COUNTIF(G23:AK23,"M") -> 0 | E23: =COUNTIF(H23:AL23,"G") -> 0
B24: =IF(config!B20<>"",config!B20,"") -> enseignant 15 | C24: =COUNTIF(F24:AJ24,"C") -> 0 | D24: =COUNTIF(G24:AK24,"M") -> 0 | E24: =COUNTIF(H24:AL24,"G") -> 0
B25: =IF(config!B21<>"",config!B21,"") -> enseignant 16 | C25: =COUNTIF(F25:AJ25,"C") -> 0 | D25: =COUNTIF(G25:AK25,"M") -> 0 | E25: =COUNTIF(H25:AL25,"G") -> 0
B26: =IF(config!B22<>"",config!B22,"") -> enseignant 17 | C26: =COUNTIF(F26:AJ26,"C") -> 0 | D26: =COUNTIF(G26:AK26,"M") -> 0 | E26: =COUNTIF(H26:AL26,"G") -> 0
B27: =IF(config!B23<>"",config!B23,"") -> enseignant 18 | C27: =COUNTIF(F27:AJ27,"C") -> 0 | D27: =COUNTIF(G27:AK27,"M") -> 0 | E27: =COUNTIF(H27:AL27,"G") -> 0
B28: =IF(config!B24<>"",config!B24,"") -> enseignant 19 | C28: =COUNTIF(F28:AJ28,"C") -> 0 | D28: =COUNTIF(G28:AK28,"M") -> 0 | E28: =COUNTIF(H28:AL28,"G") -> 0
... B30: =IF(config!B26<>"",config!B26,"") -> enseignant 21 | C30: =COUNTIF(F30:AJ30,"C") -> 0 | D30: =COUNTIF(G30:AK30,"M") -> 0 | E30: =COUNTIF(H30:AL30,"G") -> 0
B31: =IF(config!B27<>"",config!B27,"")
B32: =IF(config!B28<>"",config!B28,"") | D32: Congés | F32: C | J32: Maladie | M32: M | P32: Formation | T32: F
B33: =IF(config!B29<>"",config!B29,"") | D33: Grève | F33: G | I33: Congé Mat | M33: CM | S33: Vacances scolaires
B34: =IF(config!B30<>"",config!B30,"")

Sheet septembre
A1: =config!L29 -> 43709
A2: =config!M29 -> 43738
A3: =TODAY() -> 43646 | F3: =A1 -> 43709 | G3: =F3+1 -> 43710 | H3: =G3+1 -> 43711 | I3: =H3+1 -> 43712 | J3: =I3+1 -> 43713 | K3: =J3+1 -> 43714 | L3: =K3+1 -> 43715 | M3: =L3+1 -> 43716 | N3: =M3+1 -> 43717 | ... AG3: =AF3+1 -> 43736 | AH3: =IFERROR(IF(AG3+1>$A$2,"",AG3+1),"") -> 43737 | AI3: =IFERROR(IF(AH3+1>$A$2,"",AH3+1),"") -> 43738 | AJ3: =IFERROR(IF(AI3+1>$A$2,"",AI3+1),"")
A4: Ecole : | C4: =aout!C4 -> xxxxxxxx | K4: =TEXT(A1,"mmmmmmmmmmmm")& TEXT(A1," aaaa") -> septembre 2019
A5: Directeur : | C5: =aout!C5 -> Mr rrrrrrrrr
F6: =IF(AND(F$3>=config!$K$50,F$3<=config!$L$50),"1","")
D7: Semaine n°: | F7: =IF(F9="L","S "&WEEKNUM(F3),"") | G7: =IF(G9="L","S "&WEEKNUM(G3),"") -> S 36 | H7: =IF(H9="L","S "&WEEKNUM(H3),"") | I7: =IF(I9="L","S "&WEEKNUM(I3),"") | J7: =IF(J9="L","S "&WEEKNUM(J3),"") | K7: =IF(K9="L","S "&WEEKNUM(K3),"") | L7: =IF(L9="L","S "&WEEKNUM(L3),"") | M7: =IF(M9="L","S "&WEEKNUM(M3),"") | ... AG7: =IF(AG9="L","S "&WEEKNUM(AG3),"") | AH7: =IFERROR(IF(AH9="L","S "&WEEKNUM(AH3),""),"") | AI7: =IFERROR(IF(AI9="L","S "&WEEKNUM(AI3),""),"") -> S 40 | AJ7: =IFERROR(IF(AJ9="L","S "&WEEKNUM(AJ3),""),"")
F8: =DAY(F3) -> 1 | G8: =DAY(G3) -> 2 | H8: =DAY(H3) -> 3 | I8: =DAY(I3) -> 4 | J8: =DAY(J3) -> 5 | K8: =DAY(K3) -> 6 | L8: =DAY(L3) -> 7 | M8: =DAY(M3) -> 8 | ... AG8: =DAY(AG3) -> 28 | AH8: =IFERROR(DAY(AH3),"") -> 29 | AI8: =IFERROR(DAY(AI3),"") -> 30 | AJ8: =IFERROR(DAY(AJ3),"")
B9: Enseignants | C9: Congés | D9: Maladie | E9: Grèves | F9: =CHOOSE(WEEKDAY(F3),"D","L","M","M","J","V","S") -> D | G9: =CHOOSE(WEEKDAY(G3),"D","L","M","M","J","V","S") -> L | H9: =CHOOSE(WEEKDAY(H3),"D","L","M","M","J","V","S") -> M | I9: =CHOOSE(WEEKDAY(I3),"D","L","M","M","J","V","S") -> M | J9: =CHOOSE(WEEKDAY(J3),"D","L","M","M","J","V","S") -> J | K9: =CHOOSE(WEEKDAY(K3),"D","L","M","M","J","V","S") -> V | L9: =CHOOSE(WEEKDAY(L3),"D","L","M","M","J","V","S") -> S | M9: =CHOOSE(WEEKDAY(M3),"D","L","M","M","J","V","S") -> D | ... AG9: =CHOOSE(WEEKDAY(AG3),"D","L","M","M","J","V","S") -> S | AH9: =IFERROR(CHOOSE(WEEKDAY(AH3),"D","L","M","M","J","V","S"),"") -> D | AI9: =IFERROR(CHOOSE(WEEKDAY(AI3),"D","L","M","M","J","V","S"),"") -> L | AJ9: =IFERROR(CHOOSE(WEEKDAY(AJ3),"D","L","M","M","J","V","S"),"")
B10: =IF(config!B6<>"",config!B6,"") -> Enseignant 1 | C10: =COUNTIF(F10:AJ10,"C") -> 1 | D10: =COUNTIF(G10:AK10,"M") -> 0 | E10: =COUNTIF(H10:AL10,"G") -> 0 | N10: C
B11: =IF(config!B7<>"",config!B7,"") -> Enseignant 2 | C11: =COUNTIF(F11:AJ11,"C") -> 0 | D11: =COUNTIF(G11:AK11,"M") -> 0 | E11: =COUNTIF(H11:AL11,"G") -> 0
B12: =IF(config!B8<>"",config!B8,"") -> enseignant 3 | C12: =COUNTIF(F12:AJ12,"C") -> 0 | D12: =COUNTIF(G12:AK12,"M") -> 0 | E12: =COUNTIF(H12:AL12,"G") -> 0
B13: =IF(config!B9<>"",config!B9,"") -> enseignant 4 | C13: =COUNTIF(F13:AJ13,"C") -> 1 | D13: =COUNTIF(G13:AK13,"M") -> 0 | E13: =COUNTIF(H13:AL13,"G") -> 2 | L13: G | M13: G | N13: C
B14: =IF(config!B10<>"",config!B10,"") -> enseignant 5 | C14: =COUNTIF(F14:AJ14,"C") -> 0 | D14: =COUNTIF(G14:AK14,"M") -> 0 | E14: =COUNTIF(H14:AL14,"G") -> 0
B15: =IF(config!B11<>"",config!B11,"") -> enseignant 6 | C15: =COUNTIF(F15:AJ15,"C") -> 0 | D15: =COUNTIF(G15:AK15,"M") -> 0 | E15: =COUNTIF(H15:AL15,"G") -> 0
B16: =IF(config!B12<>"",config!B12,"") -> enseignant 7 | C16: =COUNTIF(F16:AJ16,"C") -> 0 | D16: =COUNTIF(G16:AK16,"M") -> 0 | E16: =COUNTIF(H16:AL16,"G") -> 0
B17: =IF(config!B13<>"",config!B13,"") -> enseignant 8 | C17: =COUNTIF(F17:AJ17,"C") -> 0 | D17: =COUNTIF(G17:AK17,"M") -> 3 | E17: =COUNTIF(H17:AL17,"G") -> 0 | G17: M | O17: M | P17: M
B18: =IF(config!B14<>"",config!B14,"") -> enseignant 9 | C18: =COUNTIF(F18:AJ18,"C") -> 0 | D18: =COUNTIF(G18:AK18,"M") -> 0 | E18: =COUNTIF(H18:AL18,"G") -> 0 | F18: M
B19: =IF(config!B15<>"",config!B15,"") -> enseignant 10 | C19: =COUNTIF(F19:AJ19,"C") -> 0 | D19: =COUNTIF(G19:AK19,"M") -> 1 | E19: =COUNTIF(H19:AL19,"G") -> 0 | AA19: M
B20: =IF(config!B16<>"",config!B16,"") -> enseignant 11 | C20: =COUNTIF(F20:AJ20,"C") -> 0 | D20: =COUNTIF(G20:AK20,"M") -> 0 | E20: =COUNTIF(H20:AL20,"G") -> 0
B21: =IF(config!B17<>"",config!B17,"") -> enseignant 12 | C21: =COUNTIF(F21:AJ21,"C") -> 0 | D21: =COUNTIF(G21:AK21,"M") -> 0 | E21: =COUNTIF(H21:AL21,"G") -> 0
B22: =IF(config!B18<>"",config!B18,"") -> enseignant 13 | C22: =COUNTIF(F22:AJ22,"C") -> 1 | D22: =COUNTIF(G22:AK22,"M") -> 2 | E22: =COUNTIF(H22:AL22,"G") -> 0 | G22: M | J22: C | K22: M
B23: =IF(config!B19<>"",config!B19,"") -> enseignant 14 | C23: =COUNTIF(F23:AJ23,"C") -> 0 | D23: =COUNTIF(G23:AK23,"M") -> 0 | E23: =COUNTIF(H23:AL23,"G") -> 1 | L23: G
B24: =IF(config!B20<>"",config!B20,"") -> enseignant 15 | C24: =COUNTIF(F24:AJ24,"C") -> 0 | D24: =COUNTIF(G24:AK24,"M") -> 0 | E24: =COUNTIF(H24:AL24,"G") -> 0
B25: =IF(config!B21<>"",config!B21,"") -> enseignant 16 | C25: =COUNTIF(F25:AJ25,"C") -> 0 | D25: =COUNTIF(G25:AK25,"M") -> 3 | E25: =COUNTIF(H25:AL25,"G") -> 0 | V25: M | W25: M | X25: M
B26: =IF(config!B22<>"",config!B22,"") -> enseignant 17 | C26: =COUNTIF(F26:AJ26,"C") -> 0 | D26: =COUNTIF(G26:AK26,"M") -> 0 | E26: =COUNTIF(H26:AL26,"G") -> 0
B27: =IF(config!B23<>"",config!B23,"") -> enseignant 18 | C27: =COUNTIF(F27:AJ27,"C") -> 0 | D27: =COUNTIF(G27:AK27,"M") -> 0 | E27: =COUNTIF(H27:AL27,"G") -> 0
B28: =IF(config!B24<>"",config!B24,"") -> enseignant 19 | C28: =COUNTIF(F28:AJ28,"C") -> 0 | D28: =COUNTIF(G28:AK28,"M") -> 0 | E28: =COUNTIF(H28:AL28,"G") -> 0
B29: =IF(config!B25<>"",config!B25,"") -> enseignant 20 | C29: =COUNTIF(F29:AJ29,"C") -> 0 | D29: =COUNTIF(G29:AK29,"M") -> 0 | E29: =COUNTIF(H29:AL29,"G") -> 0
B30: =IF(config!B27<>"",config!B27,"") | F30: =IF(AND(F$3>=config!$K$50,F$3<=config!$L$50),"1","") | G30: =IF(AND(G$3>=config!$K$50,G$3<=config!$L$50),"1","") | H30: =IF(AND(H$3>=config!$K$50,H$3<=config!$L$50),"1","") | I30: =IF(AND(I$3>=config!$K$50,I$3<=config!$L$50),"1","") | J30: =IF(AND(J$3>=config!$K$50,J$3<=config!$L$50),"1","") | K30: =IF(AND(K$3>=config!$K$50,K$3<=config!$L$50),"1","") | L30: =IF(AND(L$3>=config!$K$50,L$3<=config!$L$50),"1","") | M30: =IF(AND(M$3>=config!$K$50,M$3<=config!$L$50),"1","") | ... AJ30: =IF(AND(AJ$3>=config!$K$50,AJ$3<=config!$L$50),"1","")
B31: =IF(config!B28<>"",config!B28,"") | D31: Congés | F31: C | J31: Maladie | M31: M
B32: =IF(config!B29<>"",config!B29,"") | D32: Grève | F32: G | K32: Grossesse
B33: =IF(config!B30<>"",config!B30,"")

Sheet octobre
A1: =config!L30 -> 43739
A2: =config!M31 -> 43799
A3: =TODAY() -> 43646 | F3: =A1 -> 43739 | G3: =F3+1 -> 43740 | H3: =G3+1 -> 43741 | I3: =H3+1 -> 43742 | J3: =I3+1 -> 43743 | K3: =J3+1 -> 43744 | L3: =K3+1 -> 43745 | M3: =L3+1 -> 43746 | N3: =M3+1 -> 43747 | ... AG3: =AF3+1 -> 43766 | AH3: =IFERROR(IF(AG3+1>$A$2,"",AG3+1),"") -> 43767 | AI3: =IFERROR(IF(AH3+1>$A$2,"",AH3+1),"") -> 43768 | AJ3: =IFERROR(IF(AI3+1>$A$2,"",AI3+1),"") -> 43769
A4: Ecole : | C4: =config!C2 -> xxxxxxxx | K4: =TEXT(A1,"mmmmmmmmmmmm")& TEXT(A1," aaaa") -> octobre 2019
A5: Directeur : | C5: =aout!C5 -> Mr rrrrrrrrr
D7: Semaine n°: | F7: =IF(F9="L","S "&WEEKNUM(F3),"") | G7: =IF(G9="L","S "&WEEKNUM(G3),"") | H7: =IF(H9="L","S "&WEEKNUM(H3),"") | I7: =IF(I9="L","S "&WEEKNUM(I3),"") | J7: =IF(J9="L","S "&WEEKNUM(J3),"") | K7: =IF(K9="L","S "&WEEKNUM(K3),"") | L7: =IF(L9="L","S "&WEEKNUM(L3),"") -> S 41 | M7: =IF(M9="L","S "&WEEKNUM(M3),"") | ... AJ7: =IF(AJ9="L","S "&WEEKNUM(AJ3),"")
F8: =DAY(F3) -> 1 | G8: =DAY(G3) -> 2 | H8: =DAY(H3) -> 3 | I8: =DAY(I3) -> 4 | J8: =DAY(J3) -> 5 | K8: =DAY(K3) -> 6 | L8: =DAY(L3) -> 7 | M8: =DAY(M3) -> 8 | ... AG8: =DAY(AG3) -> 28 | AH8: =IFERROR(DAY(AH3),"") -> 29 | AI8: =IFERROR(DAY(AI3),"") -> 30 | AJ8: =IFERROR(DAY(AJ3),"") -> 31
B9: Enseignants | C9: Congés | D9: Maladie | E9: Grèves | F9: =CHOOSE(WEEKDAY(F3),"D","L","M","M","J","V","S") -> M | G9: =CHOOSE(WEEKDAY(G3),"D","L","M","M","J","V","S") -> M | H9: =CHOOSE(WEEKDAY(H3),"D","L","M","M","J","V","S") -> J | I9: =CHOOSE(WEEKDAY(I3),"D","L","M","M","J","V","S") -> V | J9: =CHOOSE(WEEKDAY(J3),"D","L","M","M","J","V","S") -> S | K9: =CHOOSE(WEEKDAY(K3),"D","L","M","M","J","V","S") -> D | L9: =CHOOSE(WEEKDAY(L3),"D","L","M","M","J","V","S") -> L | M9: =CHOOSE(WEEKDAY(M3),"D","L","M","M","J","V","S") -> M | ... AJ9: =CHOOSE(WEEKDAY(AJ3),"D","L","M","M","J","V","S") -> J
B10: =IF(config!B6<>"",config!B6,"") -> Enseignant 1 | C10: =COUNTIF(F10:AJ10,"C") -> 0 | D10: =COUNTIF(G10:AK10,"M") -> 0 | E10: =COUNTIF(H10:AL10,"G") -> 0
B11: =IF(config!B7<>"",config!B7,"") -> Enseignant 2 | C11: =COUNTIF(F11:AJ11,"C") -> 0 | D11: =COUNTIF(G11:AK11,"M") -> 0 | E11: =COUNTIF(H11:AL11,"G") -> 0
B12: =IF(config!B8<>"",config!B8,"") -> enseignant 3 | C12: =COUNTIF(F12:AJ12,"C") -> 0 | D12: =COUNTIF(G12:AK12,"M") -> 0 | E12: =COUNTIF(H12:AL12,"G") -> 0
B13: =IF(config!B9<>"",config!B9,"") -> enseignant 4 | C13: =COUNTIF(F13:AJ13,"C") -> 0 | D13: =COUNTIF(G13:AK13,"M") -> 0 | E13: =COUNTIF(H13:AL13,"G") -> 0
B14: =IF(config!B10<>"",config!B10,"") -> enseignant 5 | C14: =COUNTIF(F14:AJ14,"C") -> 0 | D14: =COUNTIF(G14:AK14,"M") -> 0 | E14: =COUNTIF(H14:AL14,"G") -> 0
B15: =IF(config!B11<>"",config!B11,"") -> enseignant 6 | C15: =COUNTIF(F15:AJ15,"C") -> 0 | D15: =COUNTIF(G15:AK15,"M") -> 0 | E15: =COUNTIF(H15:AL15,"G") -> 0
B16: =IF(config!B12<>"",config!B12,"") -> enseignant 7 | C16: =COUNTIF(F16:AJ16,"C") -> 0 | D16: =COUNTIF(G16:AK16,"M") -> 0 | E16: =COUNTIF(H16:AL16,"G") -> 0
B17: =IF(config!B13<>"",config!B13,"") -> enseignant 8 | C17: =COUNTIF(F17:AJ17,"C") -> 0 | D17: =COUNTIF(G17:AK17,"M") -> 0 | E17: =COUNTIF(H17:AL17,"G") -> 0
B18: =IF(config!B14<>"",config!B14,"") -> enseignant 9 | C18: =COUNTIF(F18:AJ18,"C") -> 0 | D18: =COUNTIF(G18:AK18,"M") -> 0 | E18: =COUNTIF(H18:AL18,"G") -> 0
B19: =IF(config!B15<>"",config!B15,"") -> enseignant 10 | C19: =COUNTIF(F19:AJ19,"C") -> 0 | D19: =COUNTIF(G19:AK19,"M") -> 0 | E19: =COUNTIF(H19:AL19,"G") -> 0
B20: =IF(config!B16<>"",config!B16,"") -> enseignant 11 | C20: =COUNTIF(F20:AJ20,"C") -> 0 | D20: =COUNTIF(G20:AK20,"M") -> 0 | E20: =COUNTIF(H20:AL20,"G") -> 0
B21: =IF(config!B17<>"",config!B17,"") -> enseignant 12 | C21: =COUNTIF(F21:AJ21,"C") -> 0 | D21: =COUNTIF(G21:AK21,"M") -> 1 | E21: =COUNTIF(H21:AL21,"G") -> 0 | P21: M
B22: =IF(config!B18<>"",config!B18,"") -> enseignant 13 | C22: =COUNTIF(F22:AJ22,"C") -> 0 | D22: =COUNTIF(G22:AK22,"M") -> 0 | E22: =COUNTIF(H22:AL22,"G") -> 0
B23: =IF(config!B19<>"",config!B19,"") -> enseignant 14 | C23: =COUNTIF(F23:AJ23,"C") -> 0 | D23: =COUNTIF(G23:AK23,"M") -> 0 | E23: =COUNTIF(H23:AL23,"G") -> 0
B24: =IF(config!B20<>"",config!B20,"") -> enseignant 15 | C24: =COUNTIF(F24:AJ24,"C") -> 0 | D24: =COUNTIF(G24:AK24,"M") -> 0 | E24: =COUNTIF(H24:AL24,"G") -> 0
B25: =IF(config!B21<>"",config!B21,"") -> enseignant 16 | C25: =COUNTIF(F25:AJ25,"C") -> 0 | D25: =COUNTIF(G25:AK25,"M") -> 0 | E25: =COUNTIF(H25:AL25,"G") -> 0
B26: =IF(config!B22<>"",config!B22,"") -> enseignant 17 | C26: =COUNTIF(F26:AJ26,"C") -> 0 | D26: =COUNTIF(G26:AK26,"M") -> 0 | E26: =COUNTIF(H26:AL26,"G") -> 0
B27: =IF(config!B23<>"",config!B23,"") -> enseignant 18 | C27: =COUNTIF(F27:AJ27,"C") -> 0 | D27: =COUNTIF(G27:AK27,"M") -> 0 | E27: =COUNTIF(H27:AL27,"G") -> 0
B28: =IF(config!B24<>"",config!B24,"") -> enseignant 19 | C28: =COUNTIF(F28:AJ28,"C") -> 0 | D28: =COUNTIF(G28:AK28,"M") -> 0 | E28: =COUNTIF(H28:AL28,"G") -> 0
B29: =IF(config!B25<>"",config!B25,"") -> enseignant 20 | C29: =COUNTIF(F29:AJ29,"C") -> 0 | D29: =COUNTIF(G29:AK29,"M") -> 0 | E29: =COUNTIF(H29:AL29,"G") -> 0
B30: =IF(config!B27<>"",config!B27,"")
B31: =IF(config!B28<>"",config!B28,"") | D31: Congés | F31: C | J31: Maladie | M31: M
B32: =IF(config!B29<>"",config!B29,"") | D32: Grève | F32: G | K32: Grossesse
B33: =IF(config!B30<>"",config!B30,"")

Sheet novembre
A1: =config!L31 -> 43770
A2: =config!M31 -> 43799
A3: =TODAY() -> 43646 | F3: =A1 -> 43770 | G3: =F3+1 -> 43771 | H3: =G3+1 -> 43772 | I3: =H3+1 -> 43773 | J3: =I3+1 -> 43774 | K3: =J3+1 -> 43775 | L3: =K3+1 -> 43776 | M3: =L3+1 -> 43777 | N3: =M3+1 -> 43778 | ... AG3: =AF3+1 -> 43797 | AH3: =IFERROR(IF(AG3+1>$A$2,"",AG3+1),"") -> 43798 | AI3: =IFERROR(IF(AH3+1>$A$2,"",AH3+1),"") -> 43799 | AJ3: =IFERROR(IF(AI3+1>$A$2,"",AI3+1),"")
A4: Ecole : | C4: =config!C2 -> xxxxxxxx | K4: =TEXT(A1,"mmmmmmmmmmmm")& TEXT(A1," aaaa") -> novembre 2019
A5: Directeur : | C5: =aout!C5 -> Mr rrrrrrrrr
D7: Semaine n°: | F7: =IF(F9="L","S "&WEEKNUM(F3),"") | G7: =IF(G9="L","S "&WEEKNUM(G3),"") | H7: =IF(H9="L","S "&WEEKNUM(H3),"") | I7: =IF(I9="L","S "&WEEKNUM(I3),"") -> S 45 | J7: =IF(J9="L","S "&WEEKNUM(J3),"") | K7: =IF(K9="L","S "&WEEKNUM(K3),"") | L7: =IF(L9="L","S "&WEEKNUM(L3),"") | M7: =IF(M9="L","S "&WEEKNUM(M3),"") | ... AG7: =IF(AG9="L","S "&WEEKNUM(AG3),"") | AH7: =IFERROR(IF(AH9="L","S "&WEEKNUM(AH3),""),"") | AI7: =IFERROR(IF(AI9="L","S "&WEEKNUM(AI3),""),"") | AJ7: =IFERROR(IF(AJ9="L","S "&WEEKNUM(AJ3),""),"")
F8: =DAY(F3) -> 1 | G8: =DAY(G3) -> 2 | H8: =DAY(H3) -> 3 | I8: =DAY(I3) -> 4 | J8: =DAY(J3) -> 5 | K8: =DAY(K3) -> 6 | L8: =DAY(L3) -> 7 | M8: =DAY(M3) -> 8 | ... AG8: =DAY(AG3) -> 28 | AH8: =IFERROR(DAY(AH3),"") -> 29 | AI8: =IFERROR(DAY(AI3),"") -> 30 | AJ8: =IFERROR(DAY(AJ3),"")
B9: Enseignants | C9: Congés | D9: Maladie | E9: Grèves | F9: =CHOOSE(WEEKDAY(F3),"D","L","M","M","J","V","S") -> V | G9: =CHOOSE(WEEKDAY(G3),"D","L","M","M","J","V","S") -> S | H9: =CHOOSE(WEEKDAY(H3),"D","L","M","M","J","V","S") -> D | I9: =CHOOSE(WEEKDAY(I3),"D","L","M","M","J","V","S") -> L | J9: =CHOOSE(WEEKDAY(J3),"D","L","M","M","J","V","S") -> M | K9: =CHOOSE(WEEKDAY(K3),"D","L","M","M","J","V","S") -> M | L9: =CHOOSE(WEEKDAY(L3),"D","L","M","M","J","V","S") -> J | M9: =CHOOSE(WEEKDAY(M3),"D","L","M","M","J","V","S") -> V | ... AG9: =CHOOSE(WEEKDAY(AG3),"D","L","M","M","J","V","S") -> J | AH9: =IFERROR(CHOOSE(WEEKDAY(AH3),"D","L","M","M","J","V","S"),"") -> V | AI9: =IFERROR(CHOOSE(WEEKDAY(AI3),"D","L","M","M","J","V","S"),"") -> S | AJ9: =IFERROR(CHOOSE(WEEKDAY(AJ3),"D","L","M","M","J","V","S"),"")
B10: =IF(config!B6<>"",config!B6,"") -> Enseignant 1 | C10: =COUNTIF(F10:AJ10,"C") -> 0 | D10: =COUNTIF(G10:AK10,"M") -> 0 | E10: =COUNTIF(H10:AL10,"G") -> 2 | H10: G | I10: G
B11: =IF(config!B7<>"",config!B7,"") -> Enseignant 2 | C11: =COUNTIF(F11:AJ11,"C") -> 0 | D11: =COUNTIF(G11:AK11,"M") -> 0 | E11: =COUNTIF(H11:AL11,"G") -> 0
B12: =IF(config!B8<>"",config!B8,"") -> enseignant 3 | C12: =COUNTIF(F12:AJ12,"C") -> 0 | D12: =COUNTIF(G12:AK12,"M") -> 0 | E12: =COUNTIF(H12:AL12,"G") -> 0
B13: =IF(config!B9<>"",config!B9,"") -> enseignant 4 | C13: =COUNTIF(F13:AJ13,"C") -> 0 | D13: =COUNTIF(G13:AK13,"M") -> 0 | E13: =COUNTIF(H13:AL13,"G") -> 0
B14: =IF(config!B10<>"",config!B10,"") -> enseignant 5 | C14: =COUNTIF(F14:AJ14,"C") -> 0 | D14: =COUNTIF(G14:AK14,"M") -> 0 | E14: =COUNTIF(H14:AL14,"G") -> 0
B15: =IF(config!B11<>"",config!B11,"") -> enseignant 6 | C15: =COUNTIF(F15:AJ15,"C") -> 0 | D15: =COUNTIF(G15:AK15,"M") -> 0 | E15: =COUNTIF(H15:AL15,"G") -> 0
B16: =IF(config!B12<>"",config!B12,"") -> enseignant 7 | C16: =COUNTIF(F16:AJ16,"C") -> 0 | D16: =COUNTIF(G16:AK16,"M") -> 0 | E16: =COUNTIF(H16:AL16,"G") -> 0
B17: =IF(config!B13<>"",config!B13,"") -> enseignant 8 | C17: =COUNTIF(F17:AJ17,"C") -> 0 | D17: =COUNTIF(G17:AK17,"M") -> 1 | E17: =COUNTIF(H17:AL17,"G") -> 0 | Y17: M
B18: =IF(config!B14<>"",config!B14,"") -> enseignant 9 | C18: =COUNTIF(F18:AJ18,"C") -> 1 | D18: =COUNTIF(G18:AK18,"M") -> 5 | E18: =COUNTIF(H18:AL18,"G") -> 0 | M18: M | N18: M | O18: M | P18: M | Q18: M | Z18: C
B19: =IF(config!B15<>"",config!B15,"") -> enseignant 10 | C19: =COUNTIF(F19:AJ19,"C") -> 0 | D19: =COUNTIF(G19:AK19,"M") -> 0 | E19: =COUNTIF(H19:AL19,"G") -> 0
B20: =IF(config!B16<>"",config!B16,"") -> enseignant 11 | C20: =COUNTIF(F20:AJ20,"C") -> 0 | D20: =COUNTIF(G20:AK20,"M") -> 0 | E20: =COUNTIF(H20:AL20,"G") -> 0
B21: =IF(config!B17<>"",config!B17,"") -> enseignant 12 | C21: =COUNTIF(F21:AJ21,"C") -> 0 | D21: =COUNTIF(G21:AK21,"M") -> 0 | E21: =COUNTIF(H21:AL21,"G") -> 0
B22: =IF(config!B18<>"",config!B18,"") -> enseignant 13 | C22: =COUNTIF(F22:AJ22,"C") -> 0 | D22: =COUNTIF(G22:AK22,"M") -> 0 | E22: =COUNTIF(H22:AL22,"G") -> 0
B23: =IF(config!B19<>"",config!B19,"") -> enseignant 14 | C23: =COUNTIF(F23:AJ23,"C") -> 0 | D23: =COUNTIF(G23:AK23,"M") -> 0 | E23: =COUNTIF(H23:AL23,"G") -> 0
B24: =IF(config!B20<>"",config!B20,"") -> enseignant 15 | C24: =COUNTIF(F24:AJ24,"C") -> 0 | D24: =COUNTIF(G24:AK24,"M") -> 0 | E24: =COUNTIF(H24:AL24,"G") -> 0
B25: =IF(config!B21<>"",config!B21,"") -> enseignant 16 | C25: =COUNTIF(F25:AJ25,"C") -> 0 | D25: =COUNTIF(G25:AK25,"M") -> 0 | E25: =COUNTIF(H25:AL25,"G") -> 0
B26: =IF(config!B22<>"",config!B22,"") -> enseignant 17 | C26: =COUNTIF(F26:AJ26,"C") -> 0 | D26: =COUNTIF(G26:AK26,"M") -> 0 | E26: =COUNTIF(H26:AL26,"G") -> 0
B27: =IF(config!B23<>"",config!B23,"") -> enseignant 18 | C27: =COUNTIF(F27:AJ27,"C") -> 0 | D27: =COUNTIF(G27:AK27,"M") -> 0 | E27: =COUNTIF(H27:AL27,"G") -> 0
B28: =IF(config!B24<>"",config!B24,"") -> enseignant 19 | C28: =COUNTIF(F28:AJ28,"C") -> 0 | D28: =COUNTIF(G28:AK28,"M") -> 0 | E28: =COUNTIF(H28:AL28,"G") -> 0
B29: =IF(config!B25<>"",config!B25,"") -> enseignant 20 | C29: =COUNTIF(F29:AJ29,"C") -> 0 | D29: =COUNTIF(G29:AK29,"M") -> 0 | E29: =COUNTIF(H29:AL29,"G") -> 0
B30: =IF(config!B27<>"",config!B27,"")
B31: =IF(config!B28<>"",config!B28,"") | D31: Congés | F31: C | J31: Maladie | M31: M
B32: =IF(config!B29<>"",config!B29,"") | D32: Grève | F32: G | K32: Grossesse
B33: =IF(config!B30<>"",config!B30,"")

Sheet decembre
A1: =config!L32 -> 43800
A2: =config!M32 -> 43830
A3: =TODAY() -> 43646 | F3: =A1 -> 43800 | G3: =F3+1 -> 43801 | H3: =G3+1 -> 43802 | I3: =H3+1 -> 43803 | J3: =I3+1 -> 43804 | K3: =J3+1 -> 43805 | L3: =K3+1 -> 43806 | M3: =L3+1 -> 43807 | N3: =M3+1 -> 43808 | ... AG3: =AF3+1 -> 43827 | AH3: =IFERROR(IF(AG3+1>$A$2,"",AG3+1),"") -> 43828 | AI3: =IFERROR(IF(AH3+1>$A$2,"",AH3+1),"") -> 43829 | AJ3: =IFERROR(IF(AI3+1>$A$2,"",AI3+1),"") -> 43830
A4: Ecole : | C4: =config!C2 -> xxxxxxxx | K4: =TEXT(A1,"mmmmmmmmmmmm")& TEXT(A1," aaaa") -> décembre 2019
A5: Directeur : | C5: =aout!C5 -> Mr rrrrrrrrr
D7: Semaine n°: | F7: =IF(F9="L","S "&WEEKNUM(F3),"") | G7: =IF(G9="L","S "&WEEKNUM(G3),"") -> S 49 | H7: =IF(H9="L","S "&WEEKNUM(H3),"") | I7: =IF(I9="L","S "&WEEKNUM(I3),"") | J7: =IF(J9="L","S "&WEEKNUM(J3),"") | K7: =IF(K9="L","S "&WEEKNUM(K3),"") | L7: =IF(L9="L","S "&WEEKNUM(L3),"") | M7: =IF(M9="L","S "&WEEKNUM(M3),"") | ... AG7: =IF(AG9="L","S "&WEEKNUM(AG3),"") | AH7: =IFERROR(IF(AH9="L","S "&WEEKNUM(AH3),""),"") | AI7: =IFERROR(IF(AI9="L","S "&WEEKNUM(AI3),""),"") -> S 53 | AJ7: =IFERROR(IF(AJ9="L","S "&WEEKNUM(AJ3),""),"")
F8: =DAY(F3) -> 1 | G8: =DAY(G3) -> 2 | H8: =DAY(H3) -> 3 | I8: =DAY(I3) -> 4 | J8: =DAY(J3) -> 5 | K8: =DAY(K3) -> 6 | L8: =DAY(L3) -> 7 | M8: =DAY(M3) -> 8 | ... AG8: =DAY(AG3) -> 28 | AH8: =IFERROR(DAY(AH3),"") -> 29 | AI8: =IFERROR(DAY(AI3),"") -> 30 | AJ8: =IFERROR(DAY(AJ3),"") -> 31
B9: Enseignants | C9: Congés | D9: Maladie | E9: Grèves | F9: =CHOOSE(WEEKDAY(F3),"D","L","M","M","J","V","S") -> D | G9: =CHOOSE(WEEKDAY(G3),"D","L","M","M","J","V","S") -> L | H9: =CHOOSE(WEEKDAY(H3),"D","L","M","M","J","V","S") -> M | I9: =CHOOSE(WEEKDAY(I3),"D","L","M","M","J","V","S") -> M | J9: =CHOOSE(WEEKDAY(J3),"D","L","M","M","J","V","S") -> J | K9: =CHOOSE(WEEKDAY(K3),"D","L","M","M","J","V","S") -> V | L9: =CHOOSE(WEEKDAY(L3),"D","L","M","M","J","V","S") -> S | M9: =CHOOSE(WEEKDAY(M3),"D","L","M","M","J","V","S") -> D | ... AG9: =CHOOSE(WEEKDAY(AG3),"D","L","M","M","J","V","S") -> S | AH9: =IFERROR(CHOOSE(WEEKDAY(AH3),"D","L","M","M","J","V","S"),"") -> D | AI9: =IFERROR(CHOOSE(WEEKDAY(AI3),"D","L","M","M","J","V","S"),"") -> L | AJ9: =IFERROR(CHOOSE(WEEKDAY(AJ3),"D","L","M","M","J","V","S"),"") -> M
B10: =IF(config!B6<>"",config!B6,"") -> Enseignant 1 | C10: =COUNTIF(F10:AJ10,"C") -> 0 | D10: =COUNTIF(G10:AK10,"M") -> 0 | E10: =COUNTIF(H10:AL10,"G") -> 0
B11: =IF(config!B7<>"",config!B7,"") -> Enseignant 2 | C11: =COUNTIF(F11:AJ11,"C") -> 0 | D11: =COUNTIF(G11:AK11,"M") -> 0 | E11: =COUNTIF(H11:AL11,"G") -> 0
B12: =IF(config!B8<>"",config!B8,"") -> enseignant 3 | C12: =COUNTIF(F12:AJ12,"C") -> 0 | D12: =COUNTIF(G12:AK12,"M") -> 0 | E12: =COUNTIF(H12:AL12,"G") -> 0
B13: =IF(config!B9<>"",config!B9,"") -> enseignant 4 | C13: =COUNTIF(F13:AJ13,"C") -> 0 | D13: =COUNTIF(G13:AK13,"M") -> 0 | E13: =COUNTIF(H13:AL13,"G") -> 0
B14: =IF(config!B10<>"",config!B10,"") -> enseignant 5 | C14: =COUNTIF(F14:AJ14,"C") -> 0 | D14: =COUNTIF(G14:AK14,"M") -> 0 | E14: =COUNTIF(H14:AL14,"G") -> 0
B15: =IF(config!B11<>"",config!B11,"") -> enseignant 6 | C15: =COUNTIF(F15:AJ15,"C") -> 0 | D15: =COUNTIF(G15:AK15,"M") -> 0 | E15: =COUNTIF(H15:AL15,"G") -> 0
B16: =IF(config!B12<>"",config!B12,"") -> enseignant 7 | C16: =COUNTIF(F16:AJ16,"C") -> 0 | D16: =COUNTIF(G16:AK16,"M") -> 0 | E16: =COUNTIF(H16:AL16,"G") -> 0
B17: =IF(config!B13<>"",config!B13,"") -> enseignant 8 | C17: =COUNTIF(F17:AJ17,"C") -> 0 | D17: =COUNTIF(G17:AK17,"M") -> 0 | E17: =COUNTIF(H17:AL17,"G") -> 0
B18: =IF(config!B14<>"",config!B14,"") -> enseignant 9 | C18: =COUNTIF(F18:AJ18,"C") -> 0 | D18: =COUNTIF(G18:AK18,"M") -> 0 | E18: =COUNTIF(H18:AL18,"G") -> 0
B19: =IF(config!B15<>"",config!B15,"") -> enseignant 10 | C19: =COUNTIF(F19:AJ19,"C") -> 0 | D19: =COUNTIF(G19:AK19,"M") -> 0 | E19: =COUNTIF(H19:AL19,"G") -> 0
B20: =IF(config!B16<>"",config!B16,"") -> enseignant 11 | C20: =COUNTIF(F20:AJ20,"C") -> 0 | D20: =COUNTIF(G20:AK20,"M") -> 0 | E20: =COUNTIF(H20:AL20,"G") -> 0
B21: =IF(config!B17<>"",config!B17,"") -> enseignant 12 | C21: =COUNTIF(F21:AJ21,"C") -> 0 | D21: =COUNTIF(G21:AK21,"M") -> 0 | E21: =COUNTIF(H21:AL21,"G") -> 0
... B29: =IF(config!B25<>"",config!B25,"") -> enseignant 20 | C29: =COUNTIF(F29:AJ29,"C") -> 0 | D29: =COUNTIF(G29:AK29,"M") -> 0 | E29: =COUNTIF(H29:AL29,"G") -> 0
B30: =IF(config!B27<>"",config!B27,"")
B31: =IF(config!B28<>"",config!B28,"") | D31: Congés | F31: C | J31: Maladie | M31: M
B32: =IF(config!B29<>"",config!B29,"") | D32: Grève | F32: G | K32: Grossesse
B33: =IF(config!B30<>"",config!B30,"")
