Workbook

Sheet livraisons
A1: ref_colis_1 | B1: ref_colis_2 | C1: ref_colis_3 | D1: recap_produit(s) | E1: volume (L) | F1: poids (kg) | G1: notes
A2: produit_4 | B2: produit_3 | C2: produit_5 | D2: =A2&CHAR(10)&B2&CHAR(10)&C2 -> produit_4 produit_3 produit_5 | E2: =IF(COUNTA(A2:C2)=0,0,SUM(VLOOKUP(A2,T_Colis[],5,FALSE),IF(B2<>"",VLOOKUP(B2,T_Colis[],5,FALSE),0),IF(C2<>"",VLOOKUP(C2,T_Colis[],5,FALSE),0))) -> 13.306 | F2: =IF(COUNTA(A2:C2)=0,"",SUM((VLOOKUP(A2,data_colis!A3:F26,6,FALSE)),IF(B2<>"",((VLOOKUP(B2,data_colis!A3:F26,6,FALSE))),IF(C2<>"",((VLOOKUP(C2,data_colis!A3:F26,6,FALSE))))))) -> 1.87
D3: =A3&CHAR(10)&B3&CHAR(10)&C3 | E3: =IF(COUNTA(A3:C3)=0,"",SUM((VLOOKUP(A3,data_colis!A4:F27,5,FALSE)),IF(B3<>"",((VLOOKUP(B3,data_colis!A4:F27,5,FALSE))),IF(C3<>"",((VLOOKUP(C3,data_colis!A4:F27,5,FALSE))))))) | F3: =IF(COUNTA(A3:C3)=0,"",SUM((VLOOKUP(A3,data_colis!A4:F27,6,FALSE)),IF(B3<>"",((VLOOKUP(B3,data_colis!A4:F27,6,FALSE))),IF(C3<>"",((VLOOKUP(C3,data_colis!A4:F27,6,FALSE)))))))
D4: =A4&CHAR(10)&B4&CHAR(10)&C4 | F4: =IF(COUNTA(A4:C4)=0,"",SUM((VLOOKUP(A4,data_colis!A5:F28,6,FALSE)),IF(B4<>"",((VLOOKUP(B4,data_colis!A5:F28,6,FALSE))),IF(C4<>"",((VLOOKUP(C4,data_colis!A5:F28,6,FALSE)))))))
D5: =A5&CHAR(10)&B5&CHAR(10)&C5 | E5: =IF(COUNTA(A5:C5)=0,"",SUM((VLOOKUP(A5,data_colis!A6:F29,5,FALSE)),IF(B5<>"",((VLOOKUP(B5,data_colis!A6:F29,5,FALSE))),IF(C5<>"",((VLOOKUP(C5,data_colis!A6:F29,5,FALSE))))))) | F5: =IF(COUNTA(A5:C5)=0,"",SUM((VLOOKUP(A5,data_colis!A6:F29,6,FALSE)),IF(B5<>"",((VLOOKUP(B5,data_colis!A6:F29,6,FALSE))),IF(C5<>"",((VLOOKUP(C5,data_colis!A6:F29,6,FALSE)))))))
D6: =A6&CHAR(10)&B6&CHAR(10)&C6 | E6: =IF(COUNTA(A6:C6)=0,"",SUM((VLOOKUP(A6,data_colis!A7:F30,5,FALSE)),IF(B6<>"",((VLOOKUP(B6,data_colis!A7:F30,5,FALSE))),IF(C6<>"",((VLOOKUP(C6,data_colis!A7:F30,5,FALSE))))))) | F6: =IF(COUNTA(A6:C6)=0,"",SUM((VLOOKUP(A6,data_colis!A7:F30,6,FALSE)),IF(B6<>"",((VLOOKUP(B6,data_colis!A7:F30,6,FALSE))),IF(C6<>"",((VLOOKUP(C6,data_colis!A7:F30,6,FALSE)))))))
D7: =A7&CHAR(10)&B7&CHAR(10)&C7 | E7: =IF(COUNTA(A7:C7)=0,"",SUM((VLOOKUP(A7,data_colis!A8:F31,5,FALSE)),IF(B7<>"",((VLOOKUP(B7,data_colis!A8:F31,5,FALSE))),IF(C7<>"",((VLOOKUP(C7,data_colis!A8:F31,5,FALSE))))))) | F7: =IF(COUNTA(A7:C7)=0,"",SUM((VLOOKUP(A7,data_colis!A8:F31,6,FALSE)),IF(B7<>"",((VLOOKUP(B7,data_colis!A8:F31,6,FALSE))),IF(C7<>"",((VLOOKUP(C7,data_colis!A8:F31,6,FALSE)))))))
D8: =A8&CHAR(10)&B8&CHAR(10)&C8 | E8: =IF(COUNTA(A8:C8)=0,"",SUM((VLOOKUP(A8,data_colis!A9:F32,5,FALSE)),IF(B8<>"",((VLOOKUP(B8,data_colis!A9:F32,5,FALSE))),IF(C8<>"",((VLOOKUP(C8,data_colis!A9:F32,5,FALSE))))))) | F8: =IF(COUNTA(A8:C8)=0,"",SUM((VLOOKUP(A8,data_colis!A9:F32,6,FALSE)),IF(B8<>"",((VLOOKUP(B8,data_colis!A9:F32,6,FALSE))),IF(C8<>"",((VLOOKUP(C8,data_colis!A9:F32,6,FALSE)))))))
D9: =A9&CHAR(10)&B9&CHAR(10)&C9 | E9: =IF(COUNTA(A9:C9)=0,"",SUM((VLOOKUP(A9,data_colis!A10:F33,5,FALSE)),IF(B9<>"",((VLOOKUP(B9,data_colis!A10:F33,5,FALSE))),IF(C9<>"",((VLOOKUP(C9,data_colis!A10:F33,5,FALSE))))))) | F9: =IF(COUNTA(A9:C9)=0,"",SUM((VLOOKUP(A9,data_colis!A10:F33,6,FALSE)),IF(B9<>"",((VLOOKUP(B9,data_colis!A10:F33,6,FALSE))),IF(C9<>"",((VLOOKUP(C9,data_colis!A10:F33,6,FALSE)))))))
D10: =A10&CHAR(10)&B10&CHAR(10)&C10 | E10: =IF(COUNTA(A10:C10)=0,"",SUM((VLOOKUP(A10,data_colis!A11:F34,5,FALSE)),IF(B10<>"",((VLOOKUP(B10,data_colis!A11:F34,5,FALSE))),IF(C10<>"",((VLOOKUP(C10,data_colis!A11:F34,5,FALSE))))))) | F10: =IF(COUNTA(A10:C10)=0,"",SUM((VLOOKUP(A10,data_colis!A11:F34,6,FALSE)),IF(B10<>"",((VLOOKUP(B10,data_colis!A11:F34,6,FALSE))),IF(C10<>"",((VLOOKUP(C10,data_colis!A11:F34,6,FALSE)))))))
D11: =A11&CHAR(10)&B11&CHAR(10)&C11 | E11: =IF(COUNTA(A11:C11)=0,"",SUM((VLOOKUP(A11,data_colis!A12:F35,5,FALSE)),IF(B11<>"",((VLOOKUP(B11,data_colis!A12:F35,5,FALSE))),IF(C11<>"",((VLOOKUP(C11,data_colis!A12:F35,5,FALSE))))))) | F11: =IF(COUNTA(A11:C11)=0,"",SUM((VLOOKUP(A11,data_colis!A12:F35,6,FALSE)),IF(B11<>"",((VLOOKUP(B11,data_colis!A12:F35,6,FALSE))),IF(C11<>"",((VLOOKUP(C11,data_colis!A12:F35,6,FALSE)))))))
D12: =A12&CHAR(10)&B12&CHAR(10)&C12 | E12: =IF(COUNTA(A12:C12)=0,"",SUM((VLOOKUP(A12,data_colis!A13:F36,5,FALSE)),IF(B12<>"",((VLOOKUP(B12,data_colis!A13:F36,5,FALSE))),IF(C12<>"",((VLOOKUP(C12,data_colis!A13:F36,5,FALSE))))))) | F12: =IF(COUNTA(A12:C12)=0,"",SUM((VLOOKUP(A12,data_colis!A13:F36,6,FALSE)),IF(B12<>"",((VLOOKUP(B12,data_colis!A13:F36,6,FALSE))),IF(C12<>"",((VLOOKUP(C12,data_colis!A13:F36,6,FALSE)))))))
D13: =A13&CHAR(10)&B13&CHAR(10)&C13 | E13: =IF(COUNTA(A13:C13)=0,"",SUM((VLOOKUP(A13,data_colis!A14:F37,5,FALSE)),IF(B13<>"",((VLOOKUP(B13,data_colis!A14:F37,5,FALSE))),IF(C13<>"",((VLOOKUP(C13,data_colis!A14:F37,5,FALSE))))))) | F13: =IF(COUNTA(A13:C13)=0,"",SUM((VLOOKUP(A13,data_colis!A14:F37,6,FALSE)),IF(B13<>"",((VLOOKUP(B13,data_colis!A14:F37,6,FALSE))),IF(C13<>"",((VLOOKUP(C13,data_colis!A14:F37,6,FALSE)))))))
D14: =A14&CHAR(10)&B14&CHAR(10)&C14 | E14: =IF(COUNTA(A14:C14)=0,"",SUM((VLOOKUP(A14,data_colis!A15:F38,5,FALSE)),IF(B14<>"",((VLOOKUP(B14,data_colis!A15:F38,5,FALSE))),IF(C14<>"",((VLOOKUP(C14,data_colis!A15:F38,5,FALSE))))))) | F14: =IF(COUNTA(A14:C14)=0,"",SUM((VLOOKUP(A14,data_colis!A15:F38,6,FALSE)),IF(B14<>"",((VLOOKUP(B14,data_colis!A15:F38,6,FALSE))),IF(C14<>"",((VLOOKUP(C14,data_colis!A15:F38,6,FALSE)))))))
D15: =A15&CHAR(10)&B15&CHAR(10)&C15 | E15: =IF(COUNTA(A15:C15)=0,"",SUM((VLOOKUP(A15,data_colis!A16:F39,5,FALSE)),IF(B15<>"",((VLOOKUP(B15,data_colis!A16:F39,5,FALSE))),IF(C15<>"",((VLOOKUP(C15,data_colis!A16:F39,5,FALSE))))))) | F15: =IF(COUNTA(A15:C15)=0,"",SUM((VLOOKUP(A15,data_colis!A16:F39,6,FALSE)),IF(B15<>"",((VLOOKUP(B15,data_colis!A16:F39,6,FALSE))),IF(C15<>"",((VLOOKUP(C15,data_colis!A16:F39,6,FALSE)))))))
D16: =A16&CHAR(10)&B16&CHAR(10)&C16 | E16: =IF(COUNTA(A16:C16)=0,"",SUM((VLOOKUP(A16,data_colis!A17:F40,5,FALSE)),IF(B16<>"",((VLOOKUP(B16,data_colis!A17:F40,5,FALSE))),IF(C16<>"",((VLOOKUP(C16,data_colis!A17:F40,5,FALSE))))))) | F16: =IF(COUNTA(A16:C16)=0,"",SUM((VLOOKUP(A16,data_colis!A17:F40,6,FALSE)),IF(B16<>"",((VLOOKUP(B16,data_colis!A17:F40,6,FALSE))),IF(C16<>"",((VLOOKUP(C16,data_colis!A17:F40,6,FALSE)))))))
... D999: =A999&CHAR(10)&B999&CHAR(10)&C999 | E999: =IF(COUNTA(A999:C999)=0,"",SUM((VLOOKUP(A999,data_colis!A1000:F1023,5,FALSE)),IF(B999<>"",((VLOOKUP(B999,data_colis!A1000:F1023,5,FALSE))),IF(C999<>"",((VLOOKUP(C999,data_colis!A1000:F1023,5,FALSE))))))) | F999: =IF(COUNTA(A999:C999)=0,"",SUM((VLOOKUP(A999,data_colis!A1000:F1023,6,FALSE)),IF(B999<>"",((VLOOKUP(B999,data_colis!A1000:F1023,6,FALSE))),IF(C999<>"",((VLOOKUP(C999,data_colis!A1000:F1023,6,FALSE)))))))

Sheet data_colis
A1: Modèle | B1: L | C1: l2 | D1: h | E1: Volume (L) | F1: Poids plein (kg)
A2: produit_1 | B2: 8 | C2: 8 | D2: 13 | E2: =(B2/10)*(C2/10)*(D2/10) -> 0.832 | F2: 0.32
A3: produit_2 | B3: 11 | C3: 11 | D3: 18 | E3: =(B3/10)*(C3/10)*(D3/10) -> 2.178 | F3: 0.7
A4: produit_3 | B4: 10 | C4: 10 | D4: 24 | E4: =(B4/10)*(C4/10)*(D4/10) -> 2.4 | F4: 0.47
A5: produit_4 | B5: 14 | C5: 15 | D5: 23 | E5: =(B5/10)*(C5/10)*(D5/10) -> 4.83 | F5: 1.4
A6: produit_5 | B6: 14 | C6: 14 | D6: 31 | E6: =(B6/10)*(C6/10)*(D6/10) -> 6.076 | F6: 3
A7: produit_6 | B7: 17 | C7: 17 | D7: 25 | E7: =(B7/10)*(C7/10)*(D7/10) -> 7.225 | F7: 2.4
A8: produit_7 | B8: 16 | C8: 16 | D8: 30 | E8: =(B8/10)*(C8/10)*(D8/10) -> 7.68 | F8: 3
A9: produit_8 | B9: 18 | C9: 18 | D9: 34 | E9: =(B9/10)*(C9/10)*(D9/10) -> 11.016 | F9: 3
A10: produit_9 | B10: 20 | C10: 19 | D10: 30 | E10: =(B10/10)*(C10/10)*(D10/10) -> 11.4 | F10: 3
A11: produit_10 | B11: 18 | C11: 18 | D11: 41 | E11: =(B11/10)*(C11/10)*(D11/10) -> 13.284 | F11: 4.2
A12: produit_11 | B12: 21 | C12: 21 | D12: 31 | E12: =(B12/10)*(C12/10)*(D12/10) -> 13.671 | F12: 5.3
A13: produit_12 | B13: 29 | C13: 15 | D13: 34 | E13: =(B13/10)*(C13/10)*(D13/10) -> 14.79 | F13: 2.3
... A25: produit_24 | B25: 31 | C25: 31 | D25: 77 | E25: =(B25/10)*(C25/10)*(D25/10) -> 73.997 | F25: 13.5
