Workbook
Name REPARTITEUR: [4]POTENTIEL_FTTH_RE_SR!$AB$2:$HO$2

Sheet BP_RE
A1: REPARTITEUR | B1: ACA
A2: SOUS_REPARTITEUR | B2: W04
A3: NOMBRE DE SOUS REPARTITEUR DANS LA SR | B3: =+SUMIF([4]POTENTIEL_FTTH_RE_SR!$A$3:$A$726,B1,[4]POTENTIEL_FTTH_RE_SR!$C$3:$C$726) -> 15
A4: PARC ADSL RE | B4: =+SUMIF([4]POTENTIEL_FTTH_RE_SR!$A$3:$A$726,B1,[4]POTENTIEL_FTTH_RE_SR!P3:P726)/[4]POTENTIEL_FTTH_RE_SR!$P$727 -> 0.03479387
C6: 2017 | D6: =+C6+1 -> 2018 | E6: =+D6+1 -> 2019 | F6: =+E6+1 -> 2020 | G6: =+F6+1 -> 2021 | H6: =+G6+1 -> 2022 | I6: =+H6+1 -> 2023 | J6: =+I6+1 -> 2024 | K6: =+J6+1 -> 2025 | ... M6: =+L6+1 -> 2027 | N6: CUMUL
A7: nombre de mois d'exploitation technique | C7: 4 | D7: 12 | E7: 12 | F7: 12 | G7: 12 | H7: 12 | I7: 12 | J7: 12 | K7: 12 | L7: 12 | M7: =12-C7 -> 8
A8: nombre de mois d'exploitation commerciale | C8: 3 | D8: 12 | E8: 12 | F8: 12 | G8: 12 | H8: 12 | I8: 12 | J8: 12 | K8: 12 | L8: 12 | M8: =12-C8 -> 9
A156: OPEX | C156: =+C157+C164+C170+C175+C161 -> 0 | D156: =+D157+D164+D170+D175+D161 -> 0 | E156: =+E157+E164+E170+E175+E161 -> 0 | F156: =+F157+F164+F170+F175+F161 -> 0 | G156: =+G157+G164+G170+G175+G161 -> 0 | H156: =+H157+H164+H170+H175+H161 -> 0 | I156: =+I157+I164+I170+I175+I161 -> 0 | J156: =+J157+J164+J170+J175+J161 -> 0 | ... M156: =+M157+M164+M170+M175+M161 -> 0 | N156: =SUM(C156:M156) -> 0
A189: CAPEX
A233: WACC | C233: 0.14
A234: VAN | C234: =C228+NPV($C$233,D228:M228) -> 0
A235: TRI | C235: =IRR(C228:M228) -> #NUM!
A236: Payback | C236: =SUM(C231:M231) -> 0

Sheet SYNTHESE
A1: repartiteur | B1: NBRE SR | C1: VAN | D1: TRI | E1: PAYBACK | F1: 2017 | G1: 2018 | H1: =+G1+1 -> 2019 | I1: =+H1+1 -> 2020
A2: ACA | B2: =+IF($A2=BP_RE!$B$1,BP_RE!$B$3,FALSE) -> 15 | C2: =+IF($A2=BP_RE!$B$1,BP_RE!$B$234,FALSE) -> 0 | D2: =+IF($A2=BP_RE!$B$1,BP_RE!$B$235,FALSE) -> 0 | E2: =+IF($A2=BP_RE!$B$1,BP_RE!$B$236,FALSE) -> 0 | F2: =+IF($A2=BP_RE!$B$1,BP_RE!B$189,FALSE) -> 0 | G2: =+IF($A2=BP_RE!$B$1,BP_RE!C$189,FALSE) -> 0 | H2: =+IF($A2=BP_RE!$B$1,BP_RE!D$189,FALSE) -> 0 | I2: =+IF($A2=BP_RE!$B$1,BP_RE!E$189,FALSE) -> 0
A3: ACI | B3: =+IF($A3=BP_RE!$B$1,BP_RE!$B$3,FALSE) -> FALSE | C3: =+IF($A3=BP_RE!$B$1,BP_RE!$B$234,FALSE) -> FALSE | D3: =+IF($A3=BP_RE!$B$1,BP_RE!$B$235,FALSE) -> FALSE | E3: =+IF($A3=BP_RE!$B$1,BP_RE!$B$236,FALSE) -> FALSE | F3: =+IF($A3=BP_RE!$B$1,BP_RE!B$189,FALSE) -> FALSE | G3: =+IF($A3=BP_RE!$B$1,BP_RE!C$189,FALSE) -> FALSE | H3: =+IF($A3=BP_RE!$B$1,BP_RE!D$189,FALSE) -> FALSE | I3: =+IF($A3=BP_RE!$B$1,BP_RE!E$189,FALSE) -> FALSE
A4: AER | B4: =+IF($A4=BP_RE!$B$1,BP_RE!$B$3,FALSE) -> FALSE | C4: =+IF($A4=BP_RE!$B$1,BP_RE!$B$234,FALSE) -> FALSE | D4: =+IF($A4=BP_RE!$B$1,BP_RE!$B$235,FALSE) -> FALSE | E4: =+IF($A4=BP_RE!$B$1,BP_RE!$B$236,FALSE) -> FALSE | F4: =+IF($A4=BP_RE!$B$1,BP_RE!B$189,FALSE) -> FALSE | G4: =+IF($A4=BP_RE!$B$1,BP_RE!C$189,FALSE) -> FALSE | H4: =+IF($A4=BP_RE!$B$1,BP_RE!D$189,FALSE) -> FALSE | I4: =+IF($A4=BP_RE!$B$1,BP_RE!E$189,FALSE) -> FALSE
A5: ALM | B5: =+IF($A5=BP_RE!$B$1,BP_RE!$B$3,FALSE) -> FALSE | C5: =+IF($A5=BP_RE!$B$1,BP_RE!$B$234,FALSE) -> FALSE | D5: =+IF($A5=BP_RE!$B$1,BP_RE!$B$235,FALSE) -> FALSE | E5: =+IF($A5=BP_RE!$B$1,BP_RE!$B$236,FALSE) -> FALSE | F5: =+IF($A5=BP_RE!$B$1,BP_RE!B$189,FALSE) -> FALSE | G5: =+IF($A5=BP_RE!$B$1,BP_RE!C$189,FALSE) -> FALSE | H5: =+IF($A5=BP_RE!$B$1,BP_RE!D$189,FALSE) -> FALSE | I5: =+IF($A5=BP_RE!$B$1,BP_RE!E$189,FALSE) -> FALSE
A6: ASM | B6: =+IF($A6=BP_RE!$B$1,BP_RE!$B$3,FALSE) -> FALSE | C6: =+IF($A6=BP_RE!$B$1,BP_RE!$B$234,FALSE) -> FALSE | D6: =+IF($A6=BP_RE!$B$1,BP_RE!$B$235,FALSE) -> FALSE | E6: =+IF($A6=BP_RE!$B$1,BP_RE!$B$236,FALSE) -> FALSE | F6: =+IF($A6=BP_RE!$B$1,BP_RE!B$189,FALSE) -> FALSE | G6: =+IF($A6=BP_RE!$B$1,BP_RE!C$189,FALSE) -> FALSE | H6: =+IF($A6=BP_RE!$B$1,BP_RE!D$189,FALSE) -> FALSE | I6: =+IF($A6=BP_RE!$B$1,BP_RE!E$189,FALSE) -> FALSE
A7: ASS | B7: =+IF($A7=BP_RE!$B$1,BP_RE!$B$3,FALSE) -> FALSE | C7: =+IF($A7=BP_RE!$B$1,BP_RE!$B$234,FALSE) -> FALSE | D7: =+IF($A7=BP_RE!$B$1,BP_RE!$B$235,FALSE) -> FALSE | E7: =+IF($A7=BP_RE!$B$1,BP_RE!$B$236,FALSE) -> FALSE | F7: =+IF($A7=BP_RE!$B$1,BP_RE!B$189,FALSE) -> FALSE | G7: =+IF($A7=BP_RE!$B$1,BP_RE!C$189,FALSE) -> FALSE | H7: =+IF($A7=BP_RE!$B$1,BP_RE!D$189,FALSE) -> FALSE | I7: =+IF($A7=BP_RE!$B$1,BP_RE!E$189,FALSE) -> FALSE
A8: BAL | B8: =+IF($A8=BP_RE!$B$1,BP_RE!$B$3,FALSE) -> FALSE | C8: =+IF($A8=BP_RE!$B$1,BP_RE!$B$234,FALSE) -> FALSE | D8: =+IF($A8=BP_RE!$B$1,BP_RE!$B$235,FALSE) -> FALSE | E8: =+IF($A8=BP_RE!$B$1,BP_RE!$B$236,FALSE) -> FALSE | F8: =+IF($A8=BP_RE!$B$1,BP_RE!B$189,FALSE) -> FALSE | G8: =+IF($A8=BP_RE!$B$1,BP_RE!C$189,FALSE) -> FALSE | H8: =+IF($A8=BP_RE!$B$1,BP_RE!D$189,FALSE) -> FALSE | I8: =+IF($A8=BP_RE!$B$1,BP_RE!E$189,FALSE) -> FALSE
A9: BAM | B9: =+IF($A9=BP_RE!$B$1,BP_RE!$B$3,FALSE) -> FALSE | C9: =+IF($A9=BP_RE!$B$1,BP_RE!$B$234,FALSE) -> FALSE | D9: =+IF($A9=BP_RE!$B$1,BP_RE!$B$235,FALSE) -> FALSE | E9: =+IF($A9=BP_RE!$B$1,BP_RE!$B$236,FALSE) -> FALSE | F9: =+IF($A9=BP_RE!$B$1,BP_RE!B$189,FALSE) -> FALSE | G9: =+IF($A9=BP_RE!$B$1,BP_RE!C$189,FALSE) -> FALSE | H9: =+IF($A9=BP_RE!$B$1,BP_RE!D$189,FALSE) -> FALSE | I9: =+IF($A9=BP_RE!$B$1,BP_RE!E$189,FALSE) -> FALSE
A10: BGY | B10: =+IF($A10=BP_RE!$B$1,BP_RE!$B$3,FALSE) -> FALSE | C10: =+IF($A10=BP_RE!$B$1,BP_RE!$B$234,FALSE) -> FALSE | D10: =+IF($A10=BP_RE!$B$1,BP_RE!$B$235,FALSE) -> FALSE | E10: =+IF($A10=BP_RE!$B$1,BP_RE!$B$236,FALSE) -> FALSE | F10: =+IF($A10=BP_RE!$B$1,BP_RE!B$189,FALSE) -> FALSE | G10: =+IF($A10=BP_RE!$B$1,BP_RE!C$189,FALSE) -> FALSE | H10: =+IF($A10=BP_RE!$B$1,BP_RE!D$189,FALSE) -> FALSE | I10: =+IF($A10=BP_RE!$B$1,BP_RE!E$189,FALSE) -> FALSE
A11: BIG | B11: =+IF($A11=BP_RE!$B$1,BP_RE!$B$3,FALSE) -> FALSE | C11: =+IF($A11=BP_RE!$B$1,BP_RE!$B$234,FALSE) -> FALSE | D11: =+IF($A11=BP_RE!$B$1,BP_RE!$B$235,FALSE) -> FALSE | E11: =+IF($A11=BP_RE!$B$1,BP_RE!$B$236,FALSE) -> FALSE | F11: =+IF($A11=BP_RE!$B$1,BP_RE!B$189,FALSE) -> FALSE | G11: =+IF($A11=BP_RE!$B$1,BP_RE!C$189,FALSE) -> FALSE | H11: =+IF($A11=BP_RE!$B$1,BP_RE!D$189,FALSE) -> FALSE | I11: =+IF($A11=BP_RE!$B$1,BP_RE!E$189,FALSE) -> FALSE
A12: BIR | B12: =+IF($A12=BP_RE!$B$1,BP_RE!$B$3,FALSE) -> FALSE | C12: =+IF($A12=BP_RE!$B$1,BP_RE!$B$234,FALSE) -> FALSE | D12: =+IF($A12=BP_RE!$B$1,BP_RE!$B$235,FALSE) -> FALSE | E12: =+IF($A12=BP_RE!$B$1,BP_RE!$B$236,FALSE) -> FALSE | F12: =+IF($A12=BP_RE!$B$1,BP_RE!B$189,FALSE) -> FALSE | G12: =+IF($A12=BP_RE!$B$1,BP_RE!C$189,FALSE) -> FALSE | H12: =+IF($A12=BP_RE!$B$1,BP_RE!D$189,FALSE) -> FALSE | I12: =+IF($A12=BP_RE!$B$1,BP_RE!E$189,FALSE) -> FALSE
A13: BKL | B13: =+IF($A13=BP_RE!$B$1,BP_RE!$B$3,FALSE) -> FALSE | C13: =+IF($A13=BP_RE!$B$1,BP_RE!$B$234,FALSE) -> FALSE | D13: =+IF($A13=BP_RE!$B$1,BP_RE!$B$235,FALSE) -> FALSE | E13: =+IF($A13=BP_RE!$B$1,BP_RE!$B$236,FALSE) -> FALSE | F13: =+IF($A13=BP_RE!$B$1,BP_RE!B$189,FALSE) -> FALSE | G13: =+IF($A13=BP_RE!$B$1,BP_RE!C$189,FALSE) -> FALSE | H13: =+IF($A13=BP_RE!$B$1,BP_RE!D$189,FALSE) -> FALSE | I13: =+IF($A13=BP_RE!$B$1,BP_RE!E$189,FALSE) -> FALSE
... A197: ZIG | B197: =+IF($A197=BP_RE!$B$1,BP_RE!$B$3,FALSE) -> FALSE | C197: =+IF($A197=BP_RE!$B$1,BP_RE!$B$234,FALSE) -> FALSE | D197: =+IF($A197=BP_RE!$B$1,BP_RE!$B$235,FALSE) -> FALSE | E197: =+IF($A197=BP_RE!$B$1,BP_RE!$B$236,FALSE) -> FALSE | F197: =+IF($A197=BP_RE!$B$1,BP_RE!B$189,FALSE) -> FALSE | G197: =+IF($A197=BP_RE!$B$1,BP_RE!C$189,FALSE) -> FALSE | H197: =+IF($A197=BP_RE!$B$1,BP_RE!D$189,FALSE) -> FALSE | I197: =+IF($A197=BP_RE!$B$1,BP_RE!E$189,FALSE) -> FALSE
