Workbook

Sheet Base codification
A1: Ma référence | B1: ma désignation | C1: ref commercant A | D1: Désignations commercant A | E1: Ma référence | F1: ref commercant b | G1: Désignations commercant b | H1: Ma référence | I1: ref commercant c | J1: Désignations commercant c
A2: 78420 | B2: CORRECTEUR POCKET MOUSE TIPPEX L10M | C2: 803311 | D2: CORREC.POCKETMOUSSE400242709 | E2: 78420 | F2: 139293 | G2: TIPP-EX POCKET MOUSE 4.2MM WH | H2: 78420 | I2: 101200 | J2: Dévidoir de correction frontale POCKETmouse TIPP-EX,bande 4,2mm.
A3: 78430 | B3: CALCULATRICE BUREAU KARA 540 | C3: 815295 | D3: CALCULDEPOCHECCSB1422 | E3: 78430 | F3: 2515582 | G3: CALC DE BUREAU blabun BS7830X 10 CHIF | H3: 78430 | I3: 136208 | J3: Machine à relier COMBBIND C110
A4: 78430 | B4: CALCULATRICE BUREAU KARA 540 | C4: 180749 | D4: PHOCALCULPOCHECCSB210XXD8 | E4: 78430 | F4: 2515582 | G4: CALC DE BUREAU blabun BS7830X 10 CHIF | H4: 78430 | I4: 279069 | J4: Produit inconnu
A5: 78430 | B5: CALCULATRICE BUREAU KARA 540 | C5: 815294 | D5: CALCULPOCHECCSB1421EURO | E5: 78430 | F5: 2515558 | G5: CALC DE POCHE blabun BS7868 8 CHIFFRES | H5: 78430 | I5: 279069 | J5: Produit inconnu
A6: 78430 | B6: CALCULATRICE BUREAU KARA 540 | C6: 5087588 | D6: CAL POCHE 10CH CITIZEN CPC110 | E6: 78430 | F6: 3343391 | G6: CALC DE BUREAU atal 10 CHIFFRES 1126 | H6: 78430 | I6: 279104 | J6: Calculatrice de bureau compacte dadi CCM10 solaire
A7: 78430 | B7: CALCULATRICE BUREAU KARA 540 | C7: 5841882 | D7: CALCULATRICE ATIVA AT-810 | E7: 78430 | F7: 3343391 | G7: CALC DE BUREAU atal 10 CHIFFRES 1126 | H7: 78430 | I7: 279104 | J7: Calculatrice de bureau compacte dadi CCM10 solaire
A8: 78430 | B8: CALCULATRICE BUREAU KARA 540 | C8: 6392610 | D8: CAL POCHE PHON SB2048 | E8: 78430 | F8: 3343391 | G8: CALC DE BUREAU atal 10 CHIFFRES 1126 | H8: 78430 | I8: 279104 | J8: Calculatrice de bureau compacte dadi CCM10 solaire
A9: 78430 | B9: CALCULATRICE BUREAU KARA 540 | C9: 801072 | D9: CALCULATRICECCSB71EUR | E9: 78430 | F9: 3343391 | G9: CALC DE BUREAU atal 10 CHIFFRES 1126 | H9: 78430 | I9: 279104 | J9: Calculatrice de bureau compacte dadi CCM10 solaire
A10: 78430 | B10: CALCULATRICE BUREAU KARA 540 | C10: 803317 | D10: CALCULATRICE BUR PHONICA SB 907 | E10: 78430 | F10: 3343391 | G10: CALC DE BUREAU atal 10 CHIFFRES 1126 | H10: 78430 | I10: 279104 | J10: Calculatrice de bureau compacte dadi CCM10 solaire
A11: 78430 | B11: CALCULATRICE BUREAU KARA 540 | C11: 815256 | D11: CALCULATRICE540CMSATIVA | E11: 78430 | F11: 3343391 | G11: CALC DE BUREAU atal 10 CHIFFRES 1126 | H11: 78430 | I11: 279104 | J11: Calculatrice de bureau compacte dadi CCM10 solaire
A12: 78430 | B12: CALCULATRICE BUREAU KARA 540 | C12: 979075 | D12: CALCULATRICE10CHIFFREAT711ATIVA | E12: 78430 | F12: 3343391 | G12: CALC DE BUREAU atal 10 CHIFFRES 1126 | H12: 78430 | I12: 279104 | J12: Calculatrice de bureau compacte dadi CCM10 solaire
A13: 78430 | B13: CALCULATRICE BUREAU KARA 540 | C13: 806667 | D13: CALCULATRICE PHONICA SB 1010 | E13: 78430 | F13: 3343391 | G13: CALC DE BUREAU atal 10 CHIFFRES 1126 | H13: 78430 | I13: 279104 | J13: Calculatrice de bureau compacte dadi CCM10 solaire
A14: 78430 | B14: CALCULATRICE BUREAU KARA 540 | C14: 815254 | E14: 78430 | F14: 3343391 | G14: CALC DE BUREAU atal 10 CHIFFRES 1126 | H14: 78430 | I14: 279104 | J14: Calculatrice de bureau compacte dadi CCM10 solaire
A15: 78430 | B15: CALCULATRICE BUREAU KARA 540 | C15: 979073 | D15: CALCULATRICE DE POCHE/EURO AT-710 | E15: 78430 | F15: 3343391 | G15: CALC DE BUREAU atal 10 CHIFFRES 1126 | H15: 78430 | I15: 279104 | J15: Calculatrice de bureau compacte dadi CCM10 solaire
A16: 78430 | B16: CALCULATRICE BUREAU KARA 540 | C16: 180749 | D16: PHOCALCULPOCHECCSB210XXD8 | E16: 78430 | F16: 2515582 | G16: CALC DE BUREAU blabun BS7830X 10 CHIF | H16: 78430 | I16: 279104 | J16: Calculatrice de bureau compacte dadi CCM10 solaire
A17: 78430 | B17: CALCULATRICE BUREAU KARA 540 | C17: 180749 | D17: PHOCALCULPOCHECCSB210XXD8 | E17: 78430 | F17: 3343391 | G17: 3.343.391 CALC DE BUREAU atal 10 CHIFFRES 1126 | H17: 78430 | I17: 279104 | J17: Calculatrice de bureau compacte dadi CCM10 solaire
A18: 78430 | B18: CALCULATRICE BUREAU KARA 540 | C18: 5841846 | D18: CAL BUREAU ATIVA AT-812E | E18: 78430 | F18: 3343391 | G18: CALC DE BUREAU atal 10 CHIFFRES 1126 | H18: 78430 | I18: 279104 | J18: Calculatrice de bureau compacte dadi CCM10 solaire
A19: 78430 | B19: CALCULATRICE BUREAU KARA 540 | C19: 5841864 | D19: CAL BUREAU ATIVA AT-812T | E19: 78430 | F19: 3343391 | G19: CALC DE BUREAU atal 10 CHIFFRES 1126 | H19: 78430 | I19: 279104 | J19: Calculatrice de bureau compacte dadi CCM10 solaire
A20: 78432 | E20: 78432 | F20: 4214368 | G20: SAVON MAINS ECOLOGIQUE ECOVER 500 ML | H20: 78432
A21: 78433 | E21: 78433 | F21: 4339644 | G21: AEROSOL DESODORISANT CITRON 750 ML | H21: 78433 | I21: 258041 | J21: Désodorisant BOLDAIR parfum Citron - 750 ml
A22: 78433 | C22: 817058 | D22: DESCCOAIRWICKFLEURBLANCHE | E22: 78433 | F22: 1047953 | G22: AIRWICK DESODO SPRAY WHITE FLOWERS | H22: 78433 | I22: 259266 | J22: Désodorisant AIRWICK parfum Muguet Fleurs blanches - 300 ml
A23: 78433 | C23: 800971 | D23: AEROSOL500MLBOLDAIRCCEURS | E23: 78433 | F23: 3068366 | G23: AEROSOL BOLDAIR DESTRUCTEUR D'ODEUR NEUTRE 500ML | H23: 78433 | I23: 259249 | J23: Désodorisant destructeur d'odeurs persistantes BOLDAIR 500 ml
A24: 78435 | C24: 813253 | D24: DESCCO.FLEUR CHAMPS 750ML 2035501 | E24: 78435 | F24: 3801703 | G24: AEROSOL BOLDAIR ACTIV SENSITIV 750 ML | H24: 78435 | I24: 259263 | J24: Désodorisant activ bien-être - pour personne sensible
A25: 78440 | B25: X2 MARQUEURS ONYX OGIVE GD MODELE NOIR | C25: 129490 | D25: SUPERONYXGEANTNOIR1891 | E25: 78440 | F25: 148033 | G25: MARQUEUR PERMANENT EDDING 800 NOIR | H25: 78440
A26: 78441 | C26: 5442768 | D26: DésCCorisant aérosol 750ml fruits rouges | E26: 78441 | H26: 78441
A27: 78441 | E27: 78441 | F27: 4339677 | G27: AEROSOL DESODORISANT PAMPLEMOUSSE 750ML | H27: 78441
A28: 78443 | B28: BTE 12 CRAYONS ECOLUTIONS HB | C28: 127222 | D28: X12 CRAYON EVOLUTION HB 650 | E28: 78443 | F28: 127053 | G28: DZ CRAYON 2B atal TETE TREMPEE | H28: 78443 | I28: 100035 | J28: Crayon graphite BIC EVOLUTION 650 HB
A29: 78445 | B29: CALCULATRICE BUREAU KARA 560 | C29: 540688 | D29: CALCBUREAUATIVAAT71412C | E29: 78445 | F29: 3780059 | G29: CALC DE BUREAU CITIZEN SDC-4310 12 CHIF | H29: 78445 | I29: 279165 | J29: 0
A30: 78445 | B30: CALCULATRICE BUREAU KARA 560 | C30: 540688 | D30: CALCBUREAUATIVAAT71412C | E30: 78445 | F30: 3343403 | G30: CALCULATRICE DE BUREAU 12 CHIFFRES - ECRAN LCD mémoire 3 touches,calcul taxes, fonction conversion monétaire, 2 taux, touche de correction -ALIMENTATION solaire ou pile LR44 fournie (L15,6 X l9,8 X ép2,8 cm). Poids 142GR | H30: 78445 | I30: 102983 | J30: Calculatrice de bureau 12 chiffres dadi C1522 conversion solaire
A31: 78445 | B31: CALCULATRICE BUREAU KARA 560 | C31: 180716 | D31: CALCULATRICECCSB212 | E31: 78445 | F31: 3343403 | G31: CALCULATRICE DE BUREAU 12 CHIFFRES - ECRAN LCD mémoire 3 touches,calcul taxes, fonction conversion monétaire, 2 taux, touche de correction -ALIMENTATION solaire ou pile LR44 fournie (L15,6 X l9,8 X ép2,8 cm). Poids 142GR | H31: 78445 | I31: 102983 | J31: Calculatrice de bureau 12 chiffres dadi C1522 conversion solaire
A32: 78445 | B32: CALCULATRICE BUREAU KARA 560 | C32: 540688 | D32: CALCBUREAUATIVAAT71412C | E32: 78445 | F32: 3343403 | G32: CALCULATRICE DE BUREAU 12 CHIFFRES - ECRAN LCD mémoire 3 touches,calcul taxes, fonction conversion monétaire, 2 taux, touche de correction -ALIMENTATION solaire ou pile LR44 fournie (L15,6 X l9,8 X ép2,8 cm). Poids 142GR | H32: 78445 | I32: 102983 | J32: Calculatrice de bureau 12 chiffres dadi C1522 conversion solaire
A33: 78445 | B33: CALCULATRICE BUREAU KARA 560 | C33: 5841810 | D33: CALCULATRICE ATIVA AT-811 | E33: 78445 | F33: 3343403 | G33: CALCULATRICE DE BUREAU 12 CHIFFRES - ECRAN LCD mémoire 3 touches,calcul taxes, fonction conversion monétaire, 2 taux, touche de correction -ALIMENTATION solaire ou pile LR44 fournie (L15,6 X l9,8 X ép2,8 cm). Poids 142GR | H33: 78445 | I33: 102983 | J33: Calculatrice de bureau 12 chiffres dadi C1522 conversion solaire
A34: 78445 | B34: CALCULATRICE BUREAU KARA 560 | C34: 817004 | D34: CALCULCCEUROPHONICASB1613 | E34: 78445 | F34: 3343403 | G34: CALCULATRICE DE BUREAU 12 CHIFFRES - ECRAN LCD mémoire 3 touches,calcul taxes, fonction conversion monétaire, 2 taux, touche de correction -ALIMENTATION solaire ou pile LR44 fournie (L15,6 X l9,8 X ép2,8 cm). Poids 142GR | H34: 78445 | I34: 102983 | J34: Calculatrice de bureau 12 chiffres dadi C1522 conversion solaire
A35: 78445 | B35: CALCULATRICE BUREAU KARA 560 | C35: 803299 | D35: CALCULATRICE SB 900 EURO | E35: 78445 | F35: 3343403 | G35: CALCULATRICE DE BUREAU 12 CHIFFRES - ECRAN LCD mémoire 3 touches,calcul taxes, fonction conversion monétaire, 2 taux, touche de correction -ALIMENTATION solaire ou pile LR44 fournie (L15,6 X l9,8 X ép2,8 cm). Poids 142GR | H35: 78445 | I35: 102983 | J35: Calculatrice de bureau 12 chiffres dadi C1522 conversion solaire
A36: 78445 | B36: CALCULATRICE BUREAU KARA 560 | C36: 5841828 | D36: CALCULATRICE ATIVA AT-830ECO | E36: 78445 | F36: 3343403 | G36: CALCULATRICE DE BUREAU 12 CHIFFRES - ECRAN LCD mémoire 3 touches,calcul taxes, fonction conversion monétaire, 2 taux, touche de correction -ALIMENTATION solaire ou pile LR44 fournie (L15,6 X l9,8 X ép2,8 cm). Poids 142GR | H36: 78445 | I36: 102983 | J36: Calculatrice de bureau 12 chiffres dadi C1522 conversion solaire
A37: 78445 | B37: CALCULATRICE BUREAU KARA 560 | C37: 540688 | D37: CALCBUREAUATIVAAT71412C | E37: 78445 | F37: 3343414 | G37: CALC DE BUREAU blabun 12 CHIFFRES 1129 | H37: 78445 | I37: 102983 | J37: Calculatrice de bureau 12 chiffres dadi C1522 conversion solaire
A38: 78445 | B38: CALCULATRICE BUREAU KARA 560 | C38: 540688 | D38: CALCBUREAUATIVAAT71412C | E38: 78445 | F38: 3343414 | G38: CALC DE BUREAU blabun 12 CHIFFRES 1129 | H38: 78445 | I38: 102983 | J38: Calculatrice de bureau 12 chiffres dadi C1522 conversion solaire
A39: 78445 | B39: CALCULATRICE BUREAU KARA 560 | C39: 5841792 | D39: CALCULATRICE ATIVA AT-814 | E39: 78445 | F39: 3343403 | G39: CALCULATRICE DE BUREAU 12 CHIFFRES - ECRAN LCD mémoire 3 touches,calcul taxes, fonction conversion monétaire, 2 taux, touche de correction -ALIMENTATION solaire ou pile LR44 fournie (L15,6 X l9,8 X ép2,8 cm). Poids 142GR | H39: 78445 | I39: 102983 | J39: Calculatrice de bureau 12 chiffres dadi C1522 conversion solaire
A40: 78451 | B40: X50 STYLOS BIC ECO CLIC STIC NOIR | C40: 5387481 | D40: PK60 BALLPT BU BIC ROUND ECO | E40: 78451 | F40: 4560739 | G40: BIC ECOLUTIONS CLIC STIC RT B/PEN BLUE | H40: 78451 | I40: 172497 | J40: Stylo bille BIC Round Stick Ecolutions- Ecriture moyenne - bleu
...

Sheet Transcodification
B3: Commercant | M3: commercant a
M4: commercant b
M5: commercant c
A6: Références commercant | B6: Ref commercant | C6: Ma référence
A7: 6851655
A8: 6851664
A9: 6851673
A10: 6851808
A11: 6851817
A12: 6851826
A13: 6851835
A14: 6851844
A15: 6851853
A16: 6851862
A17: 6851871
A18: 6864174
... A27: 6870177
B28: =IF(ISNA(VLOOKUP(A28,'Base codification'!$C:$E,3,FALSE)),"",VLOOKUP(A28,'Base codification'!$C:$E,3,FALSE))
B29: =IF(ISNA(VLOOKUP(A29,'Base codification'!$C:$E,3,FALSE)),"",VLOOKUP(A29,'Base codification'!$C:$E,3,FALSE)) | C29: =IF(ISNA(VLOOKUP(A29,'Base codification'!$C:$E,4,FALSE)),"",VLOOKUP(A29,'Base codification'!$C:$E,4,FALSE))
B30: =IF(ISNA(VLOOKUP(A30,'Base codification'!$C:$E,3,FALSE)),"",VLOOKUP(A30,'Base codification'!$C:$E,3,FALSE)) | C30: =IF(ISNA(VLOOKUP(A30,'Base codification'!$C:$E,4,FALSE)),"",VLOOKUP(A30,'Base codification'!$C:$E,4,FALSE))
B31: =IF(ISNA(VLOOKUP(A31,'Base codification'!$C:$E,3,FALSE)),"",VLOOKUP(A31,'Base codification'!$C:$E,3,FALSE)) | C31: =IF(ISNA(VLOOKUP(A31,'Base codification'!$C:$E,4,FALSE)),"",VLOOKUP(A31,'Base codification'!$C:$E,4,FALSE))
B32: =IF(ISNA(VLOOKUP(A32,'Base codification'!$C:$E,3,FALSE)),"",VLOOKUP(A32,'Base codification'!$C:$E,3,FALSE)) | C32: =IF(ISNA(VLOOKUP(A32,'Base codification'!$C:$E,4,FALSE)),"",VLOOKUP(A32,'Base codification'!$C:$E,4,FALSE))
B33: =IF(ISNA(VLOOKUP(A33,'Base codification'!$C:$E,3,FALSE)),"",VLOOKUP(A33,'Base codification'!$C:$E,3,FALSE)) | C33: =IF(ISNA(VLOOKUP(A33,'Base codification'!$C:$E,4,FALSE)),"",VLOOKUP(A33,'Base codification'!$C:$E,4,FALSE))
B34: =IF(ISNA(VLOOKUP(A34,'Base codification'!$C:$E,3,FALSE)),"",VLOOKUP(A34,'Base codification'!$C:$E,3,FALSE)) | C34: =IF(ISNA(VLOOKUP(A34,'Base codification'!$C:$E,4,FALSE)),"",VLOOKUP(A34,'Base codification'!$C:$E,4,FALSE))
B35: =IF(ISNA(VLOOKUP(A35,'Base codification'!$C:$E,3,FALSE)),"",VLOOKUP(A35,'Base codification'!$C:$E,3,FALSE)) | C35: =IF(ISNA(VLOOKUP(A35,'Base codification'!$C:$E,4,FALSE)),"",VLOOKUP(A35,'Base codification'!$C:$E,4,FALSE))
B36: =IF(ISNA(VLOOKUP(A36,'Base codification'!$C:$E,3,FALSE)),"",VLOOKUP(A36,'Base codification'!$C:$E,3,FALSE)) | C36: =IF(ISNA(VLOOKUP(A36,'Base codification'!$C:$E,4,FALSE)),"",VLOOKUP(A36,'Base codification'!$C:$E,4,FALSE))
B37: =IF(ISNA(VLOOKUP(A37,'Base codification'!$C:$E,3,FALSE)),"",VLOOKUP(A37,'Base codification'!$C:$E,3,FALSE)) | C37: =IF(ISNA(VLOOKUP(A37,'Base codification'!$C:$E,4,FALSE)),"",VLOOKUP(A37,'Base codification'!$C:$E,4,FALSE))
B38: =IF(ISNA(VLOOKUP(A38,'Base codification'!$C:$E,3,FALSE)),"",VLOOKUP(A38,'Base codification'!$C:$E,3,FALSE)) | C38: =IF(ISNA(VLOOKUP(A38,'Base codification'!$C:$E,4,FALSE)),"",VLOOKUP(A38,'Base codification'!$C:$E,4,FALSE))
B39: =IF(ISNA(VLOOKUP(A39,'Base codification'!$C:$E,3,FALSE)),"",VLOOKUP(A39,'Base codification'!$C:$E,3,FALSE)) | C39: =IF(ISNA(VLOOKUP(A39,'Base codification'!$C:$E,4,FALSE)),"",VLOOKUP(A39,'Base codification'!$C:$E,4,FALSE))
B40: =IF(ISNA(VLOOKUP(A40,'Base codification'!$C:$E,3,FALSE)),"",VLOOKUP(A40,'Base codification'!$C:$E,3,FALSE)) | C40: =IF(ISNA(VLOOKUP(A40,'Base codification'!$C:$E,4,FALSE)),"",VLOOKUP(A40,'Base codification'!$C:$E,4,FALSE))
... B69: =IF(ISNA(VLOOKUP(A69,'Base codification'!$C:$E,3,FALSE)),"",VLOOKUP(A69,'Base codification'!$C:$E,3,FALSE)) | C69: =IF(ISNA(VLOOKUP(A69,'Base codification'!$C:$E,4,FALSE)),"",VLOOKUP(A69,'Base codification'!$C:$E,4,FALSE))

Sheet Cdt JPG
B2: Référence vente | C2: Désignation | D2: Nombre de PV par UB
B3: 00060 | C3: VESTIAIRE 1 COL 1 CASE 160CM NOIR/NOIR | D3: 1
B4: 00061 | C4: VESTIAIRE 1 COL 2 CASES 83CM NOIR/NOIR | D4: 1
B5: 01059 | C5: CART JE BROTHER LC900BK NOIR | D5: 1
B6: 01065 | C6: VALISETTE TRIEUR 16 COMPTS NOIR | D6: 1
B7: 01099 | C7: PINCE AGRAFEUSE NXT BLEU TRANSLUCIDE | D7: 1
B8: 01130 | C8: PACK 4 DISTRIB 140 INDEX +2 OFFERT | D8: 1
B9: 01131 | C9: LOT 4 INDEX POST-IT FLECHES VIVES | D9: 1
B10: 01132 | C10: DEVIDOIR Z-NOTES FUN DESIGN POMME | D10: 1
B11: 01141 | C11: BUR 120X80 PRONTO HETRE PDS PLEINS HETR | D11: 1
B12: 01143 | C12: BUR 120X80 PRONTO HETRE PDS PLEINS NOIR | D12: 1
B13: 01144 | C13: BUR 120X80 PRONTO HETRE PDS PLEINS ALU | D13: 1
B14: 01168 | C14: PACK 7RLX MAGIC 19X33M + 1GRATUIT | D14: 1
... B27922: T994719 | C27922: Toner PE120/120i 5000sh | D27922: 1
