Workbook

Sheet Général
C3: Participants | D3: Equipe | E3: Dossard | I3: Place | J3: Classement | K3: Temps | L3: Ecart | M3: Points | N3: Montagne
C4: Coquard bryan | D4: Fra | E4: 1 | I4: =RANK(L4,L$4:L$53) -> 1 | J4: KITTEL Marcel | K4: ='Etape 1'!L33+'Etape 2'!L33+'Etape 3'!L33+'Etape 4'!L33+'Etape 5'!L33+'Etape 6'!L33 -> 0.026828704 | L4: =SMALL(K$4:K$53,1)-K4 -> 0 | M4: ='Etape 1'!N4+'Etape 2'!N4+'Etape 3'!N4+'Etape 4'!N4+'Etape 5'!N4+'Etape 6'!N4 -> 0 | N4: ='Etape 1'!O4+'Etape 2'!O4+'Etape 3'!O4+'Etape 4'!O4+'Etape 5'!O4+'Etape 6'!O4 -> 0 | AO4: =SMALL(AN$4:AN$15,1)-AN4 -> #NUM!
C5: MARTIN Guillaume | D5: fra | E5: =E4+1 -> 2 | I5: =RANK(L5,L$4:L$53) -> 2 | J5: SAGAN Peter | K5: ='Etape 1'!L34+'Etape 2'!L34+'Etape 3'!L34+'Etape 4'!L34+'Etape 5'!L34+'Etape 6'!L34 -> 0.026875 | L5: =SMALL(K$4:K$53,1)-K5 -> -4.6296296e-05 | M5: ='Etape 1'!N5+'Etape 2'!N5+'Etape 3'!N5+'Etape 4'!N5+'Etape 5'!N5+'Etape 6'!N5 -> 0 | N5: ='Etape 1'!O5+'Etape 2'!O5+'Etape 3'!O5+'Etape 4'!O5+'Etape 5'!O5+'Etape 6'!O5 -> 0 | AO5: =SMALL(AN$4:AN$15,1)-AN5 -> #NUM!
C6: DEMARE Arnaud | D6: fra | E6: =E5+1 -> 3 | I6: =RANK(L6,L$4:L$53) -> 3 | J6: BAKELANTS Jan | K6: ='Etape 1'!L12+'Etape 2'!L12+'Etape 3'!L12+'Etape 4'!L12+'Etape 5'!L12+'Etape 6'!L12 -> 0.026898148 | L6: =SMALL(K$4:K$53,1)-K6 -> -6.9444444e-05 | M6: ='Etape 1'!N6+'Etape 2'!N6+'Etape 3'!N6+'Etape 4'!N6+'Etape 5'!N6+'Etape 6'!N6 -> 14 | N6: ='Etape 1'!O6+'Etape 2'!O6+'Etape 3'!O6+'Etape 4'!O6+'Etape 5'!O6+'Etape 6'!O6 -> 0 | AO6: =SMALL(AN$4:AN$15,1)-AN6 -> #NUM!
C7: BOUHANNI Nacer | D7: fra | E7: =E6+1 -> 4 | I7: =RANK(L7,L$4:L$53) -> 4 | J7: DEMARE Arnaud | K7: ='Etape 1'!L6+'Etape 2'!L6+'Etape 3'!L6+'Etape 4'!L6+'Etape 5'!L6+'Etape 6'!L6 -> 0.026956019 | L7: =SMALL(K$4:K$53,1)-K7 -> -0.00012731481 | M7: ='Etape 1'!N7+'Etape 2'!N7+'Etape 3'!N7+'Etape 4'!N7+'Etape 5'!N7+'Etape 6'!N7 -> 8 | N7: ='Etape 1'!O7+'Etape 2'!O7+'Etape 3'!O7+'Etape 4'!O7+'Etape 5'!O7+'Etape 6'!O7 -> 0 | AO7: =SMALL(AN$4:AN$15,1)-AN7 -> #NUM!
C8: PINOT Thibault | D8: fra | E8: =E7+1 -> 5 | I8: =RANK(L8,L$4:L$53) -> 5 | J8: BOUDAT Thomas | K8: ='Etape 1'!L42+'Etape 2'!L42+'Etape 3'!L42+'Etape 4'!L42+'Etape 5'!L42+'Etape 6'!L42 -> 0.026967593 | L8: =SMALL(K$4:K$53,1)-K8 -> -0.00013888889 | M8: ='Etape 1'!N8+'Etape 2'!N8+'Etape 3'!N8+'Etape 4'!N8+'Etape 5'!N8+'Etape 6'!N8 -> 0 | N8: ='Etape 1'!O8+'Etape 2'!O8+'Etape 3'!O8+'Etape 4'!O8+'Etape 5'!O8+'Etape 6'!O8 -> 0 | AO8: =SMALL(AN$4:AN$15,1)-AN8 -> #NUM!
C9: BARDET Romain | D9: ALM | E9: =E8+1 -> 6 | I9: =RANK(L9,L$4:L$53) -> 6 | J9: CHATELET Louen | K9: ='Etape 1'!L4+'Etape 2'!L4+'Etape 3'!L4+'Etape 4'!L4+'Etape 5'!L4+'Etape 6'!L4 -> 0.026979167 | L9: =SMALL(K$4:K$53,1)-K9 -> -0.00015046296 | M9: ='Etape 1'!N9+'Etape 2'!N9+'Etape 3'!N9+'Etape 4'!N9+'Etape 5'!N9+'Etape 6'!N9 -> 0 | N9: ='Etape 1'!O9+'Etape 2'!O9+'Etape 3'!O9+'Etape 4'!O9+'Etape 5'!O9+'Etape 6'!O9 -> 0 | AO9: =SMALL(AN$4:AN$15,1)-AN9 -> #NUM!
C10: LATOUR Pierre | D10: ALM | E10: =E9+1 -> 7 | I10: =RANK(L10,L$4:L$53) -> 6 | J10: MARTIN Guillaume | K10: ='Etape 1'!L5+'Etape 2'!L5+'Etape 3'!L5+'Etape 4'!L5+'Etape 5'!L5+'Etape 6'!L5 -> 0.026979167 | L10: =SMALL(K$4:K$53,1)-K10 -> -0.00015046296 | M10: ='Etape 1'!N10+'Etape 2'!N10+'Etape 3'!N10+'Etape 4'!N10+'Etape 5'!N10+'Etape 6'!N10 -> 0 | N10: ='Etape 1'!O10+'Etape 2'!O10+'Etape 3'!O10+'Etape 4'!O10+'Etape 5'!O10+'Etape 6'!O10 -> 8 | AO10: =SMALL(AN$4:AN$15,1)-AN10 -> #NUM!
C11: VUILLERMOZ Alexis | D11: ALM | E11: =E10+1 -> 8 | I11: =RANK(L11,L$4:L$53) -> 6 | J11: BOUHANNI Nacer | K11: ='Etape 1'!L7+'Etape 2'!L7+'Etape 3'!L7+'Etape 4'!L7+'Etape 5'!L7+'Etape 6'!L7 -> 0.026979167 | L11: =SMALL(K$4:K$53,1)-K11 -> -0.00015046296 | M11: ='Etape 1'!N11+'Etape 2'!N11+'Etape 3'!N11+'Etape 4'!N11+'Etape 5'!N11+'Etape 6'!N11 -> 0 | N11: ='Etape 1'!O11+'Etape 2'!O11+'Etape 3'!O11+'Etape 4'!O11+'Etape 5'!O11+'Etape 6'!O11 -> 0 | AO11: =SMALL(AN$4:AN$15,1)-AN11 -> #NUM!
C12: BAKELANTS Jan | D12: ALM | E12: =E11+1 -> 9 | I12: =RANK(L12,L$4:L$53) -> 6 | J12: PINOT Thibault | K12: ='Etape 1'!L8+'Etape 2'!L8+'Etape 3'!L8+'Etape 4'!L8+'Etape 5'!L8+'Etape 6'!L8 -> 0.026979167 | L12: =SMALL(K$4:K$53,1)-K12 -> -0.00015046296 | M12: ='Etape 1'!N12+'Etape 2'!N12+'Etape 3'!N12+'Etape 4'!N12+'Etape 5'!N12+'Etape 6'!N12 -> 16 | N12: ='Etape 1'!O12+'Etape 2'!O12+'Etape 3'!O12+'Etape 4'!O12+'Etape 5'!O12+'Etape 6'!O12 -> 0 | AO12: =SMALL(AN$4:AN$15,1)-AN12 -> #NUM!
C13: GAUTIER Cyril | D13: ALM | E13: =E12+1 -> 10 | I13: =RANK(L13,L$4:L$53) -> 6 | J13: BARDET Romain | K13: ='Etape 1'!L9+'Etape 2'!L9+'Etape 3'!L9+'Etape 4'!L9+'Etape 5'!L9+'Etape 6'!L9 -> 0.026979167 | L13: =SMALL(K$4:K$53,1)-K13 -> -0.00015046296 | M13: ='Etape 1'!N13+'Etape 2'!N13+'Etape 3'!N13+'Etape 4'!N13+'Etape 5'!N13+'Etape 6'!N13 -> 0 | N13: ='Etape 1'!O13+'Etape 2'!O13+'Etape 3'!O13+'Etape 4'!O13+'Etape 5'!O13+'Etape 6'!O13 -> 0 | AO13: =SMALL(AN$4:AN$15,1)-AN13 -> #NUM!
C14: YATES Simon | D14: ORS | E14: =E13+1 -> 11 | I14: =RANK(L14,L$4:L$53) -> 6 | J14: LATOUR Pierre | K14: ='Etape 1'!L10+'Etape 2'!L10+'Etape 3'!L10+'Etape 4'!L10+'Etape 5'!L10+'Etape 6'!L10 -> 0.026979167 | L14: =SMALL(K$4:K$53,1)-K14 -> -0.00015046296 | M14: ='Etape 1'!N14+'Etape 2'!N14+'Etape 3'!N14+'Etape 4'!N14+'Etape 5'!N14+'Etape 6'!N14 -> 0 | N14: ='Etape 1'!O14+'Etape 2'!O14+'Etape 3'!O14+'Etape 4'!O14+'Etape 5'!O14+'Etape 6'!O14 -> 16 | AO14: =SMALL(AN$4:AN$15,1)-AN14 -> #NUM!
C15: YATES Adam | D15: ORS | E15: =E14+1 -> 12 | I15: =RANK(L15,L$4:L$53) -> 6 | J15: VUILLERMOZ Alexis | K15: ='Etape 1'!L11+'Etape 2'!L11+'Etape 3'!L11+'Etape 4'!L11+'Etape 5'!L11+'Etape 6'!L11 -> 0.026979167 | L15: =SMALL(K$4:K$53,1)-K15 -> -0.00015046296 | M15: ='Etape 1'!N15+'Etape 2'!N15+'Etape 3'!N15+'Etape 4'!N15+'Etape 5'!N15+'Etape 6'!N15 -> 0 | N15: ='Etape 1'!O15+'Etape 2'!O15+'Etape 3'!O15+'Etape 4'!O15+'Etape 5'!O15+'Etape 6'!O15 -> 0 | AO15: =SMALL(AN$4:AN$15,1)-AN15 -> #NUM!
C16: CHAVES Esteban | D16: ORS | E16: =E15+1 -> 13 | I16: =RANK(L16,L$4:L$53) -> 6 | J16: GAUTIER Cyril | K16: ='Etape 1'!L13+'Etape 2'!L13+'Etape 3'!L13+'Etape 4'!L13+'Etape 5'!L13+'Etape 6'!L13 -> 0.026979167 | L16: =SMALL(K$4:K$53,1)-K16 -> -0.00015046296 | M16: ='Etape 1'!N16+'Etape 2'!N16+'Etape 3'!N16+'Etape 4'!N16+'Etape 5'!N16+'Etape 6'!N16 -> 0 | N16: ='Etape 1'!O16+'Etape 2'!O16+'Etape 3'!O16+'Etape 4'!O16+'Etape 5'!O16+'Etape 6'!O16 -> 0
C17: KREUZIGER Roman | D17: ORS | E17: =E16+1 -> 14 | I17: =RANK(L17,L$4:L$53) -> 6 | J17: YATES Simon | K17: ='Etape 1'!L14+'Etape 2'!L14+'Etape 3'!L14+'Etape 4'!L14+'Etape 5'!L14+'Etape 6'!L14 -> 0.026979167 | L17: =SMALL(K$4:K$53,1)-K17 -> -0.00015046296 | M17: ='Etape 1'!N17+'Etape 2'!N17+'Etape 3'!N17+'Etape 4'!N17+'Etape 5'!N17+'Etape 6'!N17 -> 0 | N17: ='Etape 1'!O17+'Etape 2'!O17+'Etape 3'!O17+'Etape 4'!O17+'Etape 5'!O17+'Etape 6'!O17 -> 0
C18: ALBASINI Michael | D18: ORS | E18: =E17+1 -> 15 | I18: =RANK(L18,L$4:L$53) -> 6 | J18: YATES Adam | K18: ='Etape 1'!L15+'Etape 2'!L15+'Etape 3'!L15+'Etape 4'!L15+'Etape 5'!L15+'Etape 6'!L15 -> 0.026979167 | L18: =SMALL(K$4:K$53,1)-K18 -> -0.00015046296 | M18: ='Etape 1'!N18+'Etape 2'!N18+'Etape 3'!N18+'Etape 4'!N18+'Etape 5'!N18+'Etape 6'!N18 -> 7 | N18: ='Etape 1'!O18+'Etape 2'!O18+'Etape 3'!O18+'Etape 4'!O18+'Etape 5'!O18+'Etape 6'!O18 -> 0
C19: FULSGANG Jacob | D19: AST | E19: =E18+1 -> 16 | I19: =RANK(L19,L$4:L$53) -> 6 | J19: CHAVES Esteban | K19: ='Etape 1'!L16+'Etape 2'!L16+'Etape 3'!L16+'Etape 4'!L16+'Etape 5'!L16+'Etape 6'!L16 -> 0.026979167 | L19: =SMALL(K$4:K$53,1)-K19 -> -0.00015046296 | M19: ='Etape 1'!N19+'Etape 2'!N19+'Etape 3'!N19+'Etape 4'!N19+'Etape 5'!N19+'Etape 6'!N19 -> 0 | N19: ='Etape 1'!O19+'Etape 2'!O19+'Etape 3'!O19+'Etape 4'!O19+'Etape 5'!O19+'Etape 6'!O19 -> 12
C20: ARU Fabio | D20: AST | E20: =E19+1 -> 17 | I20: =RANK(L20,L$4:L$53) -> 6 | J20: KREUZIGER Roman | K20: ='Etape 1'!L17+'Etape 2'!L17+'Etape 3'!L17+'Etape 4'!L17+'Etape 5'!L17+'Etape 6'!L17 -> 0.026979167 | L20: =SMALL(K$4:K$53,1)-K20 -> -0.00015046296 | M20: ='Etape 1'!N20+'Etape 2'!N20+'Etape 3'!N20+'Etape 4'!N20+'Etape 5'!N20+'Etape 6'!N20 -> 0 | N20: ='Etape 1'!O20+'Etape 2'!O20+'Etape 3'!O20+'Etape 4'!O20+'Etape 5'!O20+'Etape 6'!O20 -> 0
C21: ANDERSEN Michael | D21: AST | E21: =E20+1 -> 18 | I21: =RANK(L21,L$4:L$53) -> 6 | J21: ALBASINI Michael | K21: ='Etape 1'!L18+'Etape 2'!L18+'Etape 3'!L18+'Etape 4'!L18+'Etape 5'!L18+'Etape 6'!L18 -> 0.026979167 | L21: =SMALL(K$4:K$53,1)-K21 -> -0.00015046296 | M21: ='Etape 1'!N21+'Etape 2'!N21+'Etape 3'!N21+'Etape 4'!N21+'Etape 5'!N21+'Etape 6'!N21 -> 0 | N21: ='Etape 1'!O21+'Etape 2'!O21+'Etape 3'!O21+'Etape 4'!O21+'Etape 5'!O21+'Etape 6'!O21 -> 0
C22: CATALDO Dario | D22: AST | E22: =E21+1 -> 19 | I22: =RANK(L22,L$4:L$53) -> 6 | J22: FULSGANG Jacob | K22: ='Etape 1'!L19+'Etape 2'!L19+'Etape 3'!L19+'Etape 4'!L19+'Etape 5'!L19+'Etape 6'!L19 -> 0.026979167 | L22: =SMALL(K$4:K$53,1)-K22 -> -0.00015046296 | M22: ='Etape 1'!N22+'Etape 2'!N22+'Etape 3'!N22+'Etape 4'!N22+'Etape 5'!N22+'Etape 6'!N22 -> 0 | N22: ='Etape 1'!O22+'Etape 2'!O22+'Etape 3'!O22+'Etape 4'!O22+'Etape 5'!O22+'Etape 6'!O22 -> 0
C23: VALGREN Michael | D23: AST | E23: =E22+1 -> 20 | I23: =RANK(L23,L$4:L$53) -> 6 | J23: ARU Fabio | K23: ='Etape 1'!L20+'Etape 2'!L20+'Etape 3'!L20+'Etape 4'!L20+'Etape 5'!L20+'Etape 6'!L20 -> 0.026979167 | L23: =SMALL(K$4:K$53,1)-K23 -> -0.00015046296 | M23: ='Etape 1'!N23+'Etape 2'!N23+'Etape 3'!N23+'Etape 4'!N23+'Etape 5'!N23+'Etape 6'!N23 -> 9 | N23: ='Etape 1'!O23+'Etape 2'!O23+'Etape 3'!O23+'Etape 4'!O23+'Etape 5'!O23+'Etape 6'!O23 -> 0
C24: KRISTOFF Alexander | D24: KAT | E24: =E23+1 -> 21 | I24: =RANK(L24,L$4:L$53) -> 6 | J24: ANDERSEN Michael | K24: ='Etape 1'!L21+'Etape 2'!L21+'Etape 3'!L21+'Etape 4'!L21+'Etape 5'!L21+'Etape 6'!L21 -> 0.026979167 | L24: =SMALL(K$4:K$53,1)-K24 -> -0.00015046296 | M24: ='Etape 1'!N24+'Etape 2'!N24+'Etape 3'!N24+'Etape 4'!N24+'Etape 5'!N24+'Etape 6'!N24 -> 0 | N24: ='Etape 1'!O24+'Etape 2'!O24+'Etape 3'!O24+'Etape 4'!O24+'Etape 5'!O24+'Etape 6'!O24 -> 0
C25: MARTIN Tony | D25: KAT | E25: =E24+1 -> 22 | I25: =RANK(L25,L$4:L$53) -> 6 | J25: VALGREN Michael | K25: ='Etape 1'!L23+'Etape 2'!L23+'Etape 3'!L23+'Etape 4'!L23+'Etape 5'!L23+'Etape 6'!L23 -> 0.026979167 | L25: =SMALL(K$4:K$53,1)-K25 -> -0.00015046296 | M25: ='Etape 1'!N25+'Etape 2'!N25+'Etape 3'!N25+'Etape 4'!N25+'Etape 5'!N25+'Etape 6'!N25 -> 0 | N25: ='Etape 1'!O25+'Etape 2'!O25+'Etape 3'!O25+'Etape 4'!O25+'Etape 5'!O25+'Etape 6'!O25 -> 0
C26: HALLER Marco | D26: KAT | E26: =E25+1 -> 23 | I26: =RANK(L26,L$4:L$53) -> 6 | J26: KRISTOFF Alexander | K26: ='Etape 1'!L24+'Etape 2'!L24+'Etape 3'!L24+'Etape 4'!L24+'Etape 5'!L24+'Etape 6'!L24 -> 0.026979167 | L26: =SMALL(K$4:K$53,1)-K26 -> -0.00015046296 | M26: ='Etape 1'!N26+'Etape 2'!N26+'Etape 3'!N26+'Etape 4'!N26+'Etape 5'!N26+'Etape 6'!N26 -> 0 | N26: ='Etape 1'!O26+'Etape 2'!O26+'Etape 3'!O26+'Etape 4'!O26+'Etape 5'!O26+'Etape 6'!O26 -> 0
C27: MACHADO Tiago | D27: KAT | E27: =E26+1 -> 24 | I27: =RANK(L27,L$4:L$53) -> 6 | J27: MARTIN Tony | K27: ='Etape 1'!L25+'Etape 2'!L25+'Etape 3'!L25+'Etape 4'!L25+'Etape 5'!L25+'Etape 6'!L25 -> 0.026979167 | L27: =SMALL(K$4:K$53,1)-K27 -> -0.00015046296 | M27: ='Etape 1'!N27+'Etape 2'!N27+'Etape 3'!N27+'Etape 4'!N27+'Etape 5'!N27+'Etape 6'!N27 -> 0 | N27: ='Etape 1'!O27+'Etape 2'!O27+'Etape 3'!O27+'Etape 4'!O27+'Etape 5'!O27+'Etape 6'!O27 -> 0
C28: ZABEL Rick | D28: KAT | E28: =E27+1 -> 25 | I28: =RANK(L28,L$4:L$53) -> 6 | J28: HALLER Marco | K28: ='Etape 1'!L26+'Etape 2'!L26+'Etape 3'!L26+'Etape 4'!L26+'Etape 5'!L26+'Etape 6'!L26 -> 0.026979167 | L28: =SMALL(K$4:K$53,1)-K28 -> -0.00015046296 | M28: ='Etape 1'!N28+'Etape 2'!N28+'Etape 3'!N28+'Etape 4'!N28+'Etape 5'!N28+'Etape 6'!N28 -> 0 | N28: ='Etape 1'!O28+'Etape 2'!O28+'Etape 3'!O28+'Etape 4'!O28+'Etape 5'!O28+'Etape 6'!O28 -> 0
C29: GILBERT Philippe | D29: QST | E29: =E28+1 -> 26 | I29: =RANK(L29,L$4:L$53) -> 6 | J29: MACHADO Tiago | K29: ='Etape 1'!L27+'Etape 2'!L27+'Etape 3'!L27+'Etape 4'!L27+'Etape 5'!L27+'Etape 6'!L27 -> 0.026979167 | L29: =SMALL(K$4:K$53,1)-K29 -> -0.00015046296 | M29: ='Etape 1'!N29+'Etape 2'!N29+'Etape 3'!N29+'Etape 4'!N29+'Etape 5'!N29+'Etape 6'!N29 -> 0 | N29: ='Etape 1'!O29+'Etape 2'!O29+'Etape 3'!O29+'Etape 4'!O29+'Etape 5'!O29+'Etape 6'!O29 -> 0
C30: MARTIN Daniel | D30: QST | E30: =E29+1 -> 27 | I30: =RANK(L30,L$4:L$53) -> 6 | J30: ZABEL Rick | K30: ='Etape 1'!L28+'Etape 2'!L28+'Etape 3'!L28+'Etape 4'!L28+'Etape 5'!L28+'Etape 6'!L28 -> 0.026979167 | L30: =SMALL(K$4:K$53,1)-K30 -> -0.00015046296 | M30: ='Etape 1'!N30+'Etape 2'!N30+'Etape 3'!N30+'Etape 4'!N30+'Etape 5'!N30+'Etape 6'!N30 -> 0 | N30: ='Etape 1'!O30+'Etape 2'!O30+'Etape 3'!O30+'Etape 4'!O30+'Etape 5'!O30+'Etape 6'!O30 -> 0
C31: ALAPHILIPPE Julian | D31: QST | E31: =E30+1 -> 28 | I31: =RANK(L31,L$4:L$53) -> 6 | J31: GILBERT Philippe | K31: ='Etape 1'!L29+'Etape 2'!L29+'Etape 3'!L29+'Etape 4'!L29+'Etape 5'!L29+'Etape 6'!L29 -> 0.026979167 | L31: =SMALL(K$4:K$53,1)-K31 -> -0.00015046296 | M31: ='Etape 1'!N31+'Etape 2'!N31+'Etape 3'!N31+'Etape 4'!N31+'Etape 5'!N31+'Etape 6'!N31 -> 0 | N31: ='Etape 1'!O31+'Etape 2'!O31+'Etape 3'!O31+'Etape 4'!O31+'Etape 5'!O31+'Etape 6'!O31 -> 0
C32: MELGAREJO David | D32: QST | E32: =E31+1 -> 29 | I32: =RANK(L32,L$4:L$53) -> 6 | J32: MARTIN Daniel | K32: ='Etape 1'!L30+'Etape 2'!L30+'Etape 3'!L30+'Etape 4'!L30+'Etape 5'!L30+'Etape 6'!L30 -> 0.026979167 | L32: =SMALL(K$4:K$53,1)-K32 -> -0.00015046296 | M32: ='Etape 1'!N32+'Etape 2'!N32+'Etape 3'!N32+'Etape 4'!N32+'Etape 5'!N32+'Etape 6'!N32 -> 0 | N32: ='Etape 1'!O32+'Etape 2'!O32+'Etape 3'!O32+'Etape 4'!O32+'Etape 5'!O32+'Etape 6'!O32 -> 0
C33: KITTEL Marcel | D33: QST | E33: =E32+1 -> 30 | I33: =RANK(L33,L$4:L$53) -> 6 | J33: ALAPHILIPPE Julian | K33: ='Etape 1'!L31+'Etape 2'!L31+'Etape 3'!L31+'Etape 4'!L31+'Etape 5'!L31+'Etape 6'!L31 -> 0.026979167 | L33: =SMALL(K$4:K$53,1)-K33 -> -0.00015046296 | M33: ='Etape 1'!N33+'Etape 2'!N33+'Etape 3'!N33+'Etape 4'!N33+'Etape 5'!N33+'Etape 6'!N33 -> 20 | N33: ='Etape 1'!O33+'Etape 2'!O33+'Etape 3'!O33+'Etape 4'!O33+'Etape 5'!O33+'Etape 6'!O33 -> 0
C34: SAGAN Peter | D34: BOH | E34: =E33+1 -> 31 | I34: =RANK(L34,L$4:L$53) -> 6 | J34: MELGAREJO David | K34: ='Etape 1'!L32+'Etape 2'!L32+'Etape 3'!L32+'Etape 4'!L32+'Etape 5'!L32+'Etape 6'!L32 -> 0.026979167 | L34: =SMALL(K$4:K$53,1)-K34 -> -0.00015046296 | M34: ='Etape 1'!N34+'Etape 2'!N34+'Etape 3'!N34+'Etape 4'!N34+'Etape 5'!N34+'Etape 6'!N34 -> 21 | N34: ='Etape 1'!O34+'Etape 2'!O34+'Etape 3'!O34+'Etape 4'!O34+'Etape 5'!O34+'Etape 6'!O34 -> 0
C35: MAJKA Rafal | D35: BOH | E35: =E34+1 -> 32 | I35: =RANK(L35,L$4:L$53) -> 6 | J35: MAJKA Rafal | K35: ='Etape 1'!L35+'Etape 2'!L35+'Etape 3'!L35+'Etape 4'!L35+'Etape 5'!L35+'Etape 6'!L35 -> 0.026979167 | L35: =SMALL(K$4:K$53,1)-K35 -> -0.00015046296 | M35: ='Etape 1'!N35+'Etape 2'!N35+'Etape 3'!N35+'Etape 4'!N35+'Etape 5'!N35+'Etape 6'!N35 -> 0 | N35: ='Etape 1'!O35+'Etape 2'!O35+'Etape 3'!O35+'Etape 4'!O35+'Etape 5'!O35+'Etape 6'!O35 -> 0
C36: BENNETT Sam | D36: BOH | E36: =E35+1 -> 33 | I36: =RANK(L36,L$4:L$53) -> 6 | J36: BENNETT Sam | K36: ='Etape 1'!L36+'Etape 2'!L36+'Etape 3'!L36+'Etape 4'!L36+'Etape 5'!L36+'Etape 6'!L36 -> 0.026979167 | L36: =SMALL(K$4:K$53,1)-K36 -> -0.00015046296 | M36: ='Etape 1'!N36+'Etape 2'!N36+'Etape 3'!N36+'Etape 4'!N36+'Etape 5'!N36+'Etape 6'!N36 -> 0 | N36: ='Etape 1'!O36+'Etape 2'!O36+'Etape 3'!O36+'Etape 4'!O36+'Etape 5'!O36+'Etape 6'!O36 -> 0
C37: OPLJANSKI Pawel | D37: BOH | E37: =E36+1 -> 34 | I37: =RANK(L37,L$4:L$53) -> 6 | J37: OPLJANSKI Pawel | K37: ='Etape 1'!L37+'Etape 2'!L37+'Etape 3'!L37+'Etape 4'!L37+'Etape 5'!L37+'Etape 6'!L37 -> 0.026979167 | L37: =SMALL(K$4:K$53,1)-K37 -> -0.00015046296 | M37: ='Etape 1'!N37+'Etape 2'!N37+'Etape 3'!N37+'Etape 4'!N37+'Etape 5'!N37+'Etape 6'!N37 -> 0 | N37: ='Etape 1'!O37+'Etape 2'!O37+'Etape 3'!O37+'Etape 4'!O37+'Etape 5'!O37+'Etape 6'!O37 -> 0
C38: BUCHMANN Emanuel | D38: BOH | E38: =E37+1 -> 35 | I38: =RANK(L38,L$4:L$53) -> 6 | J38: BUCHMANN Emanuel | K38: ='Etape 1'!L38+'Etape 2'!L38+'Etape 3'!L38+'Etape 4'!L38+'Etape 5'!L38+'Etape 6'!L38 -> 0.026979167 | L38: =SMALL(K$4:K$53,1)-K38 -> -0.00015046296 | M38: ='Etape 1'!N38+'Etape 2'!N38+'Etape 3'!N38+'Etape 4'!N38+'Etape 5'!N38+'Etape 6'!N38 -> 0 | N38: ='Etape 1'!O38+'Etape 2'!O38+'Etape 3'!O38+'Etape 4'!O38+'Etape 5'!O38+'Etape 6'!O38 -> 0
C39: CHAVANEL Sylvain | D39: DIR | E39: =E38+1 -> 36 | I39: =RANK(L39,L$4:L$53) -> 6 | J39: CHAVANEL Sylvain | K39: ='Etape 1'!L39+'Etape 2'!L39+'Etape 3'!L39+'Etape 4'!L39+'Etape 5'!L39+'Etape 6'!L39 -> 0.026979167 | L39: =SMALL(K$4:K$53,1)-K39 -> -0.00015046296 | M39: ='Etape 1'!N39+'Etape 2'!N39+'Etape 3'!N39+'Etape 4'!N39+'Etape 5'!N39+'Etape 6'!N39 -> 0 | N39: ='Etape 1'!O39+'Etape 2'!O39+'Etape 3'!O39+'Etape 4'!O39+'Etape 5'!O39+'Etape 6'!O39 -> 4
C40: VOECKLER Thomas | D40: DIR | E40: =E39+1 -> 37 | I40: =RANK(L40,L$4:L$53) -> 6 | J40: VOECKLER Thomas | K40: ='Etape 1'!L40+'Etape 2'!L40+'Etape 3'!L40+'Etape 4'!L40+'Etape 5'!L40+'Etape 6'!L40 -> 0.026979167 | L40: =SMALL(K$4:K$53,1)-K40 -> -0.00015046296 | M40: ='Etape 1'!N40+'Etape 2'!N40+'Etape 3'!N40+'Etape 4'!N40+'Etape 5'!N40+'Etape 6'!N40 -> 0 | N40: ='Etape 1'!O40+'Etape 2'!O40+'Etape 3'!O40+'Etape 4'!O40+'Etape 5'!O40+'Etape 6'!O40 -> 0
C41: CALMEJANE Lilian | D41: DIR | E41: =E40+1 -> 38 | I41: =RANK(L41,L$4:L$53) -> 6 | J41: CALMEJANE Lilian | K41: ='Etape 1'!L41+'Etape 2'!L41+'Etape 3'!L41+'Etape 4'!L41+'Etape 5'!L41+'Etape 6'!L41 -> 0.026979167 | L41: =SMALL(K$4:K$53,1)-K41 -> -0.00015046296 | M41: ='Etape 1'!N41+'Etape 2'!N41+'Etape 3'!N41+'Etape 4'!N41+'Etape 5'!N41+'Etape 6'!N41 -> 0 | N41: ='Etape 1'!O41+'Etape 2'!O41+'Etape 3'!O41+'Etape 4'!O41+'Etape 5'!O41+'Etape 6'!O41 -> 0
C42: BOUDAT Thomas | D42: DIR | E42: =E41+1 -> 39 | I42: =RANK(L42,L$4:L$53) -> 6 | J42: GENE Yohann | K42: ='Etape 1'!L43+'Etape 2'!L43+'Etape 3'!L43+'Etape 4'!L43+'Etape 5'!L43+'Etape 6'!L43 -> 0.026979167 | L42: =SMALL(K$4:K$53,1)-K42 -> -0.00015046296 | M42: ='Etape 1'!N42+'Etape 2'!N42+'Etape 3'!N42+'Etape 4'!N42+'Etape 5'!N42+'Etape 6'!N42 -> 12 | N42: ='Etape 1'!O42+'Etape 2'!O42+'Etape 3'!O42+'Etape 4'!O42+'Etape 5'!O42+'Etape 6'!O42 -> 0
...

Sheet Etape 1
Z1: Général | AF1: Point | AK1: Montagne | AP1: Jeunes
C3: Participants | D3: Equipe | E3: Dossard | K3: Classement | L3: Temps | M3: Ecart | N3: Points | O3: Montagne | U3: Col catégorie 1 | V3: Points | Z3: Maillot Ocre | AA3: Temps | AB3: Ecart | AF3: Maillot bleu | AG3: Points | AK3: Maillot blanc a pois verts | AL3: Points | AP3: Maillot noir | AQ3: Temps | AR3: Ecart
C4: CHATELET Louen | D4: LXL | E4: 1 | G4: Longueur | J4: =RANK(M4,M$4:M$53) -> 6 | K4: CHATELET Louen | L4: 0.026979167 | M4: =SMALL(L$4:L$53,1)-L4 -> -0.00015046296 | N4: 0 | O4: 0 | R4: Longueur | T4: 1 | U4: YATES Simon | V4: 16 | Y4: =RANK(AB4,AB$4:AB$53) -> 1 | Z4: KITTEL Marcel | AA4: 0.026828704 | AB4: =SMALL(AA$4:AA$53,1)-AA4 -> 0 | AE4: =RANK(AG4,AG$4:AG$53) -> 1 | AF4: SAGAN Peter | AG4: 21 | AJ4: =RANK(AL4,AL$4:AL$53) -> 1 | AK4: YATES Simon | AL4: 16 | AO4: =RANK(AR4,AR$4:AR$15) -> 1 | AP4: BOUDAT Thomas | AQ4: 0.026967593 | AR4: =SMALL(AQ$4:AQ$15,1)-AQ4 -> 0
C5: MARTIN Guillaume | D5: LXL | E5: =E4+1 -> 2 | G5: 14,5 km | J5: =RANK(M5,M$4:M$53) -> 6 | K5: MARTIN Guillaume | L5: 0.026979167 | M5: =SMALL(L$4:L$53,1)-L5 -> -0.00015046296 | N5: 0 | O5: 0 | R5: 15,4 km | T5: =T4+1 -> 2 | U5: FULSGANG Michael | V5: 12 | Y5: =RANK(AB5,AB$4:AB$53) -> 2 | Z5: SAGAN Peter | AA5: 0.026875 | AB5: =SMALL(AA$4:AA$53,1)-AA5 -> -4.6296296e-05 | AE5: =RANK(AG5,AG$4:AG$53) -> 2 | AF5: KITTEL Marcel | AG5: 20 | AJ5: =RANK(AL5,AL$4:AL$53) -> 2 | AK5: FULSGANG Jacob | AL5: 12 | AO5: =RANK(AR5,AR$4:AR$15) -> 2 | AP5: CHATELET Louen | AQ5: 0.026979167 | AR5: =SMALL(AQ$4:AQ$15,1)-AQ5 -> -1.1574074e-05
C6: DEMARE Arnaud | D6: LXL | E6: =E5+1 -> 3 | J6: =RANK(M6,M$4:M$53) -> 4 | K6: DEMARE Arnaud | L6: 0.026956019 | M6: =SMALL(L$4:L$53,1)-L6 -> -0.00012731481 | N6: 14 | O6: 0 | T6: =T5+1 -> 3 | U6: LATOUR Pierre | V6: 8 | Y6: =RANK(AB6,AB$4:AB$53) -> 3 | Z6: BAKELANTS Jan | AA6: 0.026898148 | AB6: =SMALL(AA$4:AA$53,1)-AA6 -> -6.9444444e-05 | AE6: =RANK(AG6,AG$4:AG$53) -> 3 | AF6: BAKELANTS Jan | AG6: 16 | AJ6: =RANK(AL6,AL$4:AL$53) -> 3 | AK6: LATOUR Pierre | AL6: 8 | AO6: =RANK(AR6,AR$4:AR$15) -> 2 | AP6: LATOUR Pierre | AQ6: 0.026979167 | AR6: =SMALL(AQ$4:AQ$15,1)-AQ6 -> -1.1574074e-05
C7: BOUHANNI Nacer | D7: LXL | E7: =E6+1 -> 4 | J7: =RANK(M7,M$4:M$53) -> 6 | K7: BOUHANNI Nacer | L7: 0.026979167 | M7: =SMALL(L$4:L$53,1)-L7 -> -0.00015046296 | N7: 8 | O7: 0 | T7: =T6+1 -> 4 | U7: LE GAC Olivier | V7: 6 | Y7: =RANK(AB7,AB$4:AB$53) -> 4 | Z7: DEMARE Arnaud | AA7: 0.026956019 | AB7: =SMALL(AA$4:AA$53,1)-AA7 -> -0.00012731481 | AE7: =RANK(AG7,AG$4:AG$53) -> 4 | AF7: DEMARE Arnaud | AG7: 14 | AJ7: =RANK(AL7,AL$4:AL$53) -> 4 | AK7: LE GAC Olivier | AL7: 6 | AO7: =RANK(AR7,AR$4:AR$15) -> 2 | AP7: YATES Simon | AQ7: 0.026979167 | AR7: =SMALL(AQ$4:AQ$15,1)-AQ7 -> -1.1574074e-05
C8: PINOT Thibault | D8: LXL | E8: =E7+1 -> 5 | J8: =RANK(M8,M$4:M$53) -> 6 | K8: PINOT Thibault | L8: 0.026979167 | M8: =SMALL(L$4:L$53,1)-L8 -> -0.00015046296 | N8: 0 | O8: 0 | T8: =T7+1 -> 5 | U8: CHAVANEL Sylvain | V8: 4 | Y8: =RANK(AB8,AB$4:AB$53) -> 5 | Z8: BOUDAT Thomas | AA8: 0.026967593 | AB8: =SMALL(AA$4:AA$53,1)-AA8 -> -0.00013888889 | AE8: =RANK(AG8,AG$4:AG$53) -> 5 | AF8: BOUDAT Thomas | AG8: 12 | AJ8: =RANK(AL8,AL$4:AL$53) -> 5 | AK8: CHAVANEL Sylvain | AL8: 4 | AO8: =RANK(AR8,AR$4:AR$15) -> 2 | AP8: VALGREN Michael | AQ8: 0.026979167 | AR8: =SMALL(AQ$4:AQ$15,1)-AQ8 -> -1.1574074e-05
C9: BARDET Romain | D9: ALM | E9: =E8+1 -> 6 | J9: =RANK(M9,M$4:M$53) -> 6 | K9: BARDET Romain | L9: 0.026979167 | M9: =SMALL(L$4:L$53,1)-L9 -> -0.00015046296 | N9: 0 | O9: 0 | Y9: =RANK(AB9,AB$4:AB$53) -> 6 | Z9: CHATELET Louen | AA9: 0.026979167 | AB9: =SMALL(AA$4:AA$53,1)-AA9 -> -0.00015046296 | AE9: =RANK(AG9,AG$4:AG$53) -> 6 | AF9: VALGREN Michael | AG9: 9 | AJ9: =RANK(AL9,AL$4:AL$53) -> 6 | AK9: KITTEL Marcel | AL9: 0 | AO9: =RANK(AR9,AR$4:AR$15) -> 2 | AP9: ZABEL Rick | AQ9: 0.026979167 | AR9: =SMALL(AQ$4:AQ$15,1)-AQ9 -> -1.1574074e-05
C10: LATOUR Pierre | D10: ALM | E10: =E9+1 -> 7 | J10: =RANK(M10,M$4:M$53) -> 6 | K10: LATOUR Pierre | L10: 0.026979167 | M10: =SMALL(L$4:L$53,1)-L10 -> -0.00015046296 | N10: 0 | O10: 8 | U10: Sprint 1 | V10: Points | Y10: =RANK(AB10,AB$4:AB$53) -> 6 | Z10: MARTIN Guillaume | AA10: 0.026979167 | AB10: =SMALL(AA$4:AA$53,1)-AA10 -> -0.00015046296 | AE10: =RANK(AG10,AG$4:AG$53) -> 7 | AF10: ALBASINI Michael | AG10: 7 | AJ10: =RANK(AL10,AL$4:AL$53) -> 6 | AK10: SAGAN Peter | AL10: 0 | AO10: =RANK(AR10,AR$4:AR$15) -> 2 | AP10: ALAPHILIPPE Julian | AQ10: 0.026979167 | AR10: =SMALL(AQ$4:AQ$15,1)-AQ10 -> -1.1574074e-05
C11: VUILLERMOZ Alexis | D11: ALM | E11: =E10+1 -> 8 | J11: =RANK(M11,M$4:M$53) -> 6 | K11: VUILLERMOZ Alexis | L11: 0.026979167 | M11: =SMALL(L$4:L$53,1)-L11 -> -0.00015046296 | N11: 0 | O11: 0 | T11: 1 | U11: KITTEL Marcel | V11: 5 | Y11: =RANK(AB11,AB$4:AB$53) -> 6 | Z11: BOUHANNI Nacer | AA11: 0.026979167 | AB11: =SMALL(AA$4:AA$53,1)-AA11 -> -0.00015046296 | AE11: =RANK(AG11,AG$4:AG$53) -> 8 | AF11: REZA Kevin | AG11: 6 | AJ11: =RANK(AL11,AL$4:AL$53) -> 6 | AK11: BAKELANTS Jan | AL11: 0 | AO11: =RANK(AR11,AR$4:AR$15) -> 2 | AP11: BUCHMANN Emanuel | AQ11: 0.026979167 | AR11: =SMALL(AQ$4:AQ$15,1)-AQ11 -> -1.1574074e-05
C12: BAKELANTS Jan | D12: ALM | E12: =E11+1 -> 9 | J12: =RANK(M12,M$4:M$53) -> 3 | K12: BAKELANTS Jan | L12: 0.026898148 | M12: =SMALL(L$4:L$53,1)-L12 -> -6.9444444e-05 | N12: 16 | O12: 0 | T12: =T11+1 -> 2 | U12: SAGAN Peter | V12: 3 | Y12: =RANK(AB12,AB$4:AB$53) -> 6 | Z12: PINOT Thibault | AA12: 0.026979167 | AB12: =SMALL(AA$4:AA$53,1)-AA12 -> -0.00015046296 | AE12: =RANK(AG12,AG$4:AG$53) -> 9 | AF12: CHATELET Louen | AG12: 0 | AJ12: =RANK(AL12,AL$4:AL$53) -> 6 | AK12: DEMARE Arnaud | AL12: 0 | AO12: =RANK(AR12,AR$4:AR$15) -> 2 | AP12: CALMEJANE Lilian | AQ12: 0.026979167 | AR12: =SMALL(AQ$4:AQ$15,1)-AQ12 -> -1.1574074e-05
C13: GAUTIER Cyril | D13: ALM | E13: =E12+1 -> 10 | J13: =RANK(M13,M$4:M$53) -> 6 | K13: GAUTIER Cyril | L13: 0.026979167 | M13: =SMALL(L$4:L$53,1)-L13 -> -0.00015046296 | N13: 0 | O13: 0 | T13: =T12+1 -> 3 | U13: BOUDAT Thomas | V13: 2 | Y13: =RANK(AB13,AB$4:AB$53) -> 6 | Z13: BARDET Romain | AA13: 0.026979167 | AB13: =SMALL(AA$4:AA$53,1)-AA13 -> -0.00015046296 | AE13: =RANK(AG13,AG$4:AG$53) -> 9 | AF13: MARTIN Guillaume | AG13: 0 | AJ13: =RANK(AL13,AL$4:AL$53) -> 6 | AK13: BOUDAT Thomas | AL13: 0 | AO13: =RANK(AR13,AR$4:AR$15) -> 2 | AP13: LE GAC Olivier | AQ13: 0.026979167 | AR13: =SMALL(AQ$4:AQ$15,1)-AQ13 -> -1.1574074e-05
C14: YATES Simon | D14: ORS | E14: =E13+1 -> 11 | J14: =RANK(M14,M$4:M$53) -> 6 | K14: YATES Simon | L14: 0.026979167 | M14: =SMALL(L$4:L$53,1)-L14 -> -0.00015046296 | N14: 0 | O14: 16 | Y14: =RANK(AB14,AB$4:AB$53) -> 6 | Z14: LATOUR Pierre | AA14: 0.026979167 | AB14: =SMALL(AA$4:AA$53,1)-AA14 -> -0.00015046296 | AE14: =RANK(AG14,AG$4:AG$53) -> 9 | AF14: BOUHANNI Nacer | AG14: 0 | AJ14: =RANK(AL14,AL$4:AL$53) -> 6 | AK14: CHATELET Louen | AL14: 0 | AO14: =RANK(AR14,AR$4:AR$15) -> 2 | AP14: MARTIN Guillaume | AQ14: 0.026979167 | AR14: =SMALL(AQ$4:AQ$15,1)-AQ14 -> -1.1574074e-05
C15: YATES Adam | D15: ORS | E15: =E14+1 -> 12 | J15: =RANK(M15,M$4:M$53) -> 6 | K15: YATES Adam | L15: 0.026979167 | M15: =SMALL(L$4:L$53,1)-L15 -> -0.00015046296 | N15: 0 | O15: 0 | U15: Sprint 2 | V15: Points | Y15: =RANK(AB15,AB$4:AB$53) -> 6 | Z15: VUILLERMOZ Alexis | AA15: 0.026979167 | AB15: =SMALL(AA$4:AA$53,1)-AA15 -> -0.00015046296 | AE15: =RANK(AG15,AG$4:AG$53) -> 9 | AF15: PINOT Thibault | AG15: 0 | AJ15: =RANK(AL15,AL$4:AL$53) -> 6 | AK15: MARTIN Guillaume | AL15: 0 | AO15: =RANK(AR15,AR$4:AR$15) -> 12 | AP15: SUTTERLIN Yasha | AQ15: 0.027025463 | AR15: =SMALL(AQ$4:AQ$15,1)-AQ15 -> -5.787037e-05
C16: CHAVES Esteban | D16: ORS | E16: =E15+1 -> 13 | J16: =RANK(M16,M$4:M$53) -> 6 | K16: CHAVES Esteban | L16: 0.026979167 | M16: =SMALL(L$4:L$53,1)-L16 -> -0.00015046296 | N16: 0 | O16: 0 | T16: 1 | U16: SAGEN Peter | V16: 5 | Y16: =RANK(AB16,AB$4:AB$53) -> 6 | Z16: GAUTIER Cyril | AA16: 0.026979167 | AB16: =SMALL(AA$4:AA$53,1)-AA16 -> -0.00015046296 | AE16: =RANK(AG16,AG$4:AG$53) -> 9 | AF16: BARDET Romain | AG16: 0 | AJ16: =RANK(AL16,AL$4:AL$53) -> 6 | AK16: BOUHANNI Nacer | AL16: 0
C17: KREUZIGER Roman | D17: ORS | E17: =E16+1 -> 14 | J17: =RANK(M17,M$4:M$53) -> 6 | K17: KREUZIGER Roman | L17: 0.026979167 | M17: =SMALL(L$4:L$53,1)-L17 -> -0.00015046296 | N17: 0 | O17: 0 | T17: =T16+1 -> 2 | U17: DEMARE Arnaud | V17: 3 | Y17: =RANK(AB17,AB$4:AB$53) -> 6 | Z17: YATES Simon | AA17: 0.026979167 | AB17: =SMALL(AA$4:AA$53,1)-AA17 -> -0.00015046296 | AE17: =RANK(AG17,AG$4:AG$53) -> 9 | AF17: LATOUR Pierre | AG17: 0 | AJ17: =RANK(AL17,AL$4:AL$53) -> 6 | AK17: PINOT Thibault | AL17: 0
C18: ALBASINI Michael | D18: ORS | E18: =E17+1 -> 15 | J18: =RANK(M18,M$4:M$53) -> 6 | K18: ALBASINI Michael | L18: 0.026979167 | M18: =SMALL(L$4:L$53,1)-L18 -> -0.00015046296 | N18: 7 | O18: 0 | T18: =T17+1 -> 3 | U18: BAKELANTS Jan | V18: 2 | Y18: =RANK(AB18,AB$4:AB$53) -> 6 | Z18: YATES Adam | AA18: 0.026979167 | AB18: =SMALL(AA$4:AA$53,1)-AA18 -> -0.00015046296 | AE18: =RANK(AG18,AG$4:AG$53) -> 9 | AF18: VUILLERMOZ Alexis | AG18: 0 | AJ18: =RANK(AL18,AL$4:AL$53) -> 6 | AK18: BARDET Romain | AL18: 0
C19: FULSGANG Jacob | D19: AST | E19: =E18+1 -> 16 | J19: =RANK(M19,M$4:M$53) -> 6 | K19: FULSGANG Jacob | L19: 0.026979167 | M19: =SMALL(L$4:L$53,1)-L19 -> -0.00015046296 | N19: 0 | O19: 12 | Y19: =RANK(AB19,AB$4:AB$53) -> 6 | Z19: CHAVES Esteban | AA19: 0.026979167 | AB19: =SMALL(AA$4:AA$53,1)-AA19 -> -0.00015046296 | AE19: =RANK(AG19,AG$4:AG$53) -> 9 | AF19: GAUTIER Cyril | AG19: 0 | AJ19: =RANK(AL19,AL$4:AL$53) -> 6 | AK19: VUILLERMOZ Alexis | AL19: 0
C20: ARU Fabio | D20: AST | E20: =E19+1 -> 17 | J20: =RANK(M20,M$4:M$53) -> 6 | K20: ARU Fabio | L20: 0.026979167 | M20: =SMALL(L$4:L$53,1)-L20 -> -0.00015046296 | N20: 0 | O20: 0 | U20: Arrivée | V20: Points | Y20: =RANK(AB20,AB$4:AB$53) -> 6 | Z20: KREUZIGER Roman | AA20: 0.026979167 | AB20: =SMALL(AA$4:AA$53,1)-AA20 -> -0.00015046296 | AE20: =RANK(AG20,AG$4:AG$53) -> 9 | AF20: YATES Simon | AG20: 0 | AJ20: =RANK(AL20,AL$4:AL$53) -> 6 | AK20: GAUTIER Cyril | AL20: 0
C21: ANDERSEN Michael | D21: AST | E21: =E20+1 -> 18 | J21: =RANK(M21,M$4:M$53) -> 6 | K21: ANDERSEN Michael | L21: 0.026979167 | M21: =SMALL(L$4:L$53,1)-L21 -> -0.00015046296 | N21: 0 | O21: 0 | T21: 1 | U21: KITTEL Marcel | V21: 15 | Y21: =RANK(AB21,AB$4:AB$53) -> 6 | Z21: ALBASINI Michael | AA21: 0.026979167 | AB21: =SMALL(AA$4:AA$53,1)-AA21 -> -0.00015046296 | AE21: =RANK(AG21,AG$4:AG$53) -> 9 | AF21: YATES Adam | AG21: 0 | AJ21: =RANK(AL21,AL$4:AL$53) -> 6 | AK21: YATES Adam | AL21: 0
C22: CATALDO Dario | D22: AST | E22: =E21+1 -> 19 | J22: =RANK(M22,M$4:M$53) -> 45 | K22: CATALDO Dario | L22: 0.027025463 | M22: =SMALL(L$4:L$53,1)-L22 -> -0.00019675926 | N22: 0 | O22: 0 | T22: =T21+1 -> 2 | U22: BAKELANTS Jan | V22: 14 | Y22: =RANK(AB22,AB$4:AB$53) -> 6 | Z22: FULSGANG Jacob | AA22: 0.026979167 | AB22: =SMALL(AA$4:AA$53,1)-AA22 -> -0.00015046296 | AE22: =RANK(AG22,AG$4:AG$53) -> 9 | AF22: CHAVES Esteban | AG22: 0 | AJ22: =RANK(AL22,AL$4:AL$53) -> 6 | AK22: CHAVES Esteban | AL22: 0
C23: VALGREN Michael | D23: AST | E23: =E22+1 -> 20 | J23: =RANK(M23,M$4:M$53) -> 6 | K23: VALGREN Michael | L23: 0.026979167 | M23: =SMALL(L$4:L$53,1)-L23 -> -0.00015046296 | N23: 9 | O23: 0 | T23: =T22+1 -> 3 | U23: SAGAN Peter | V23: 13 | Y23: =RANK(AB23,AB$4:AB$53) -> 6 | Z23: ARU Fabio | AA23: 0.026979167 | AB23: =SMALL(AA$4:AA$53,1)-AA23 -> -0.00015046296 | AE23: =RANK(AG23,AG$4:AG$53) -> 9 | AF23: KREUZIGER Roman | AG23: 0 | AJ23: =RANK(AL23,AL$4:AL$53) -> 6 | AK23: KREUZIGER Roman | AL23: 0
C24: KRISTOFF Alexander | D24: KAT | E24: =E23+1 -> 21 | J24: =RANK(M24,M$4:M$53) -> 6 | K24: KRISTOFF Alexander | L24: 0.026979167 | M24: =SMALL(L$4:L$53,1)-L24 -> -0.00015046296 | N24: 0 | O24: 0 | T24: =T23+1 -> 4 | U24: KRISTOFF Alexander | V24: 12 | Y24: =RANK(AB24,AB$4:AB$53) -> 6 | Z24: ANDERSEN Michael | AA24: 0.026979167 | AB24: =SMALL(AA$4:AA$53,1)-AA24 -> -0.00015046296 | AE24: =RANK(AG24,AG$4:AG$53) -> 9 | AF24: FULSGANG Jacob | AG24: 0 | AJ24: =RANK(AL24,AL$4:AL$53) -> 6 | AK24: ALBASINI Michael | AL24: 0
C25: MARTIN Tony | D25: KAT | E25: =E24+1 -> 22 | J25: =RANK(M25,M$4:M$53) -> 6 | K25: MARTIN Tony | L25: 0.026979167 | M25: =SMALL(L$4:L$53,1)-L25 -> -0.00015046296 | N25: 0 | O25: 0 | T25: =T24+1 -> 5 | U25: DEMARE Arnaud | V25: 11 | Y25: =RANK(AB25,AB$4:AB$53) -> 6 | Z25: VALGREN Michael | AA25: 0.026979167 | AB25: =SMALL(AA$4:AA$53,1)-AA25 -> -0.00015046296 | AE25: =RANK(AG25,AG$4:AG$53) -> 9 | AF25: ARU Fabio | AG25: 0 | AJ25: =RANK(AL25,AL$4:AL$53) -> 6 | AK25: ARU Fabio | AL25: 0
C26: HALLER Marco | D26: KAT | E26: =E25+1 -> 23 | J26: =RANK(M26,M$4:M$53) -> 6 | K26: HALLER Marco | L26: 0.026979167 | M26: =SMALL(L$4:L$53,1)-L26 -> -0.00015046296 | N26: 0 | O26: 0 | T26: =T25+1 -> 6 | U26: BOUDAT Thomas | V26: 10 | Y26: =RANK(AB26,AB$4:AB$53) -> 6 | Z26: KRISTOFF Alexander | AA26: 0.026979167 | AB26: =SMALL(AA$4:AA$53,1)-AA26 -> -0.00015046296 | AE26: =RANK(AG26,AG$4:AG$53) -> 9 | AF26: ANDERSEN Michael | AG26: 0 | AJ26: =RANK(AL26,AL$4:AL$53) -> 6 | AK26: ANDERSEN Michael | AL26: 0
C27: MACHADO Tiago | D27: KAT | E27: =E26+1 -> 24 | J27: =RANK(M27,M$4:M$53) -> 6 | K27: MACHADO Tiago | L27: 0.026979167 | M27: =SMALL(L$4:L$53,1)-L27 -> -0.00015046296 | N27: 0 | O27: 0 | T27: =T26+1 -> 7 | U27: VALGREN Michael | V27: 9 | Y27: =RANK(AB27,AB$4:AB$53) -> 6 | Z27: MARTIN Tony | AA27: 0.026979167 | AB27: =SMALL(AA$4:AA$53,1)-AA27 -> -0.00015046296 | AE27: =RANK(AG27,AG$4:AG$53) -> 9 | AF27: KRISTOFF Alexander | AG27: 0 | AJ27: =RANK(AL27,AL$4:AL$53) -> 6 | AK27: VALGREN Michael | AL27: 0
C28: ZABEL Rick | D28: KAT | E28: =E27+1 -> 25 | J28: =RANK(M28,M$4:M$53) -> 6 | K28: ZABEL Rick | L28: 0.026979167 | M28: =SMALL(L$4:L$53,1)-L28 -> -0.00015046296 | N28: 0 | O28: 0 | T28: =T27+1 -> 8 | U28: BOUHANNI Nacer | V28: 8 | Y28: =RANK(AB28,AB$4:AB$53) -> 6 | Z28: HALLER Marco | AA28: 0.026979167 | AB28: =SMALL(AA$4:AA$53,1)-AA28 -> -0.00015046296 | AE28: =RANK(AG28,AG$4:AG$53) -> 9 | AF28: MARTIN Tony | AG28: 0 | AJ28: =RANK(AL28,AL$4:AL$53) -> 6 | AK28: KRISTOFF Alexander | AL28: 0
C29: GILBERT Philippe | D29: QST | E29: =E28+1 -> 26 | J29: =RANK(M29,M$4:M$53) -> 6 | K29: GILBERT Philippe | L29: 0.026979167 | M29: =SMALL(L$4:L$53,1)-L29 -> -0.00015046296 | N29: 0 | O29: 0 | T29: =T28+1 -> 9 | U29: ALBASINI Michael | V29: 7 | Y29: =RANK(AB29,AB$4:AB$53) -> 6 | Z29: MACHADO Tiago | AA29: 0.026979167 | AB29: =SMALL(AA$4:AA$53,1)-AA29 -> -0.00015046296 | AE29: =RANK(AG29,AG$4:AG$53) -> 9 | AF29: HALLER Marco | AG29: 0 | AJ29: =RANK(AL29,AL$4:AL$53) -> 6 | AK29: MARTIN Tony | AL29: 0
C30: MARTIN Daniel | D30: QST | E30: =E29+1 -> 27 | J30: =RANK(M30,M$4:M$53) -> 6 | K30: MARTIN Daniel | L30: 0.026979167 | M30: =SMALL(L$4:L$53,1)-L30 -> -0.00015046296 | N30: 0 | O30: 0 | T30: =T29+1 -> 10 | U30: REZA Kevin | V30: 6 | Y30: =RANK(AB30,AB$4:AB$53) -> 6 | Z30: ZABEL Rick | AA30: 0.026979167 | AB30: =SMALL(AA$4:AA$53,1)-AA30 -> -0.00015046296 | AE30: =RANK(AG30,AG$4:AG$53) -> 9 | AF30: MACHADO Tiago | AG30: 0 | AJ30: =RANK(AL30,AL$4:AL$53) -> 6 | AK30: HALLER Marco | AL30: 0
C31: ALAPHILIPPE Julian | D31: QST | E31: =E30+1 -> 28 | J31: =RANK(M31,M$4:M$53) -> 6 | K31: ALAPHILIPPE Julian | L31: 0.026979167 | M31: =SMALL(L$4:L$53,1)-L31 -> -0.00015046296 | N31: 0 | O31: 0 | Y31: =RANK(AB31,AB$4:AB$53) -> 6 | Z31: GILBERT Philippe | AA31: 0.026979167 | AB31: =SMALL(AA$4:AA$53,1)-AA31 -> -0.00015046296 | AE31: =RANK(AG31,AG$4:AG$53) -> 9 | AF31: ZABEL Rick | AG31: 0 | AJ31: =RANK(AL31,AL$4:AL$53) -> 6 | AK31: MACHADO Tiago | AL31: 0
C32: MELGAREJO David | D32: QST | E32: =E31+1 -> 29 | J32: =RANK(M32,M$4:M$53) -> 6 | K32: MELGAREJO David | L32: 0.026979167 | M32: =SMALL(L$4:L$53,1)-L32 -> -0.00015046296 | N32: 0 | O32: 0 | Y32: =RANK(AB32,AB$4:AB$53) -> 6 | Z32: MARTIN Daniel | AA32: 0.026979167 | AB32: =SMALL(AA$4:AA$53,1)-AA32 -> -0.00015046296 | AE32: =RANK(AG32,AG$4:AG$53) -> 9 | AF32: GILBERT Philippe | AG32: 0 | AJ32: =RANK(AL32,AL$4:AL$53) -> 6 | AK32: ZABEL Rick | AL32: 0
C33: KITTEL Marcel | D33: QST | E33: =E32+1 -> 30 | J33: =RANK(M33,M$4:M$53) -> 1 | K33: KITTEL Marcel | L33: 0.026828704 | M33: =SMALL(L$4:L$53,1)-L33 -> 0 | N33: 20 | O33: 0 | U33: Bonifications | V33: Secondes | Y33: =RANK(AB33,AB$4:AB$53) -> 6 | Z33: ALAPHILIPPE Julian | AA33: 0.026979167 | AB33: =SMALL(AA$4:AA$53,1)-AA33 -> -0.00015046296 | AE33: =RANK(AG33,AG$4:AG$53) -> 9 | AF33: MARTIN Daniel | AG33: 0 | AJ33: =RANK(AL33,AL$4:AL$53) -> 6 | AK33: GILBERT Philippe | AL33: 0
C34: SAGAN Peter | D34: BOH | E34: =E33+1 -> 31 | J34: =RANK(M34,M$4:M$53) -> 2 | K34: SAGAN Peter | L34: 0.026875 | M34: =SMALL(L$4:L$53,1)-L34 -> -4.6296296e-05 | N34: 21 | O34: 0 | U34: KITTEL Marcel | V34: 13 | Y34: =RANK(AB34,AB$4:AB$53) -> 6 | Z34: MELGAREJO David | AA34: 0.026979167 | AB34: =SMALL(AA$4:AA$53,1)-AA34 -> -0.00015046296 | AE34: =RANK(AG34,AG$4:AG$53) -> 9 | AF34: ALAPHILIPPE Julian | AG34: 0 | AJ34: =RANK(AL34,AL$4:AL$53) -> 6 | AK34: MARTIN Daniel | AL34: 0
C35: MAJKA Rafal | D35: BOH | E35: =E34+1 -> 32 | J35: =RANK(M35,M$4:M$53) -> 6 | K35: MAJKA Rafal | L35: 0.026979167 | M35: =SMALL(L$4:L$53,1)-L35 -> -0.00015046296 | N35: 0 | O35: 0 | U35: BAKELANTS Jan | V35: 7 | Y35: =RANK(AB35,AB$4:AB$53) -> 6 | Z35: MAJKA Rafal | AA35: 0.026979167 | AB35: =SMALL(AA$4:AA$53,1)-AA35 -> -0.00015046296 | AE35: =RANK(AG35,AG$4:AG$53) -> 9 | AF35: MELGAREJO David | AG35: 0 | AJ35: =RANK(AL35,AL$4:AL$53) -> 6 | AK35: ALAPHILIPPE Julian | AL35: 0
C36: BENNETT Sam | D36: BOH | E36: =E35+1 -> 33 | J36: =RANK(M36,M$4:M$53) -> 6 | K36: BENNETT Sam | L36: 0.026979167 | M36: =SMALL(L$4:L$53,1)-L36 -> -0.00015046296 | N36: 0 | O36: 0 | U36: SAGAN Peter | V36: 9 | Y36: =RANK(AB36,AB$4:AB$53) -> 6 | Z36: BENNETT Sam | AA36: 0.026979167 | AB36: =SMALL(AA$4:AA$53,1)-AA36 -> -0.00015046296 | AE36: =RANK(AG36,AG$4:AG$53) -> 9 | AF36: MAJKA Rafal | AG36: 0 | AJ36: =RANK(AL36,AL$4:AL$53) -> 6 | AK36: MELGAREJO David | AL36: 0
C37: OPLJANSKI Pawel | D37: BOH | E37: =E36+1 -> 34 | J37: =RANK(M37,M$4:M$53) -> 6 | K37: OPLJANSKI Pawel | L37: 0.026979167 | M37: =SMALL(L$4:L$53,1)-L37 -> -0.00015046296 | N37: 0 | O37: 0 | U37: BOUDAT Thomas | V37: 1 | Y37: =RANK(AB37,AB$4:AB$53) -> 6 | Z37: OPLJANSKI Pawel | AA37: 0.026979167 | AB37: =SMALL(AA$4:AA$53,1)-AA37 -> -0.00015046296 | AE37: =RANK(AG37,AG$4:AG$53) -> 9 | AF37: BENNETT Sam | AG37: 0 | AJ37: =RANK(AL37,AL$4:AL$53) -> 6 | AK37: MAJKA Rafal | AL37: 0
C38: BUCHMANN Emanuel | D38: BOH | E38: =E37+1 -> 35 | J38: =RANK(M38,M$4:M$53) -> 6 | K38: BUCHMANN Emanuel | L38: 0.026979167 | M38: =SMALL(L$4:L$53,1)-L38 -> -0.00015046296 | N38: 0 | O38: 0 | U38: DEMARE Arnaud | V38: 2 | Y38: =RANK(AB38,AB$4:AB$53) -> 6 | Z38: BUCHMANN Emanuel | AA38: 0.026979167 | AB38: =SMALL(AA$4:AA$53,1)-AA38 -> -0.00015046296 | AE38: =RANK(AG38,AG$4:AG$53) -> 9 | AF38: OPLJANSKI Pawel | AG38: 0 | AJ38: =RANK(AL38,AL$4:AL$53) -> 6 | AK38: BENNETT Sam | AL38: 0
C39: CHAVANEL Sylvain | D39: DIR | E39: =E38+1 -> 36 | J39: =RANK(M39,M$4:M$53) -> 6 | K39: CHAVANEL Sylvain | L39: 0.026979167 | M39: =SMALL(L$4:L$53,1)-L39 -> -0.00015046296 | N39: 0 | O39: 4 | Y39: =RANK(AB39,AB$4:AB$53) -> 6 | Z39: CHAVANEL Sylvain | AA39: 0.026979167 | AB39: =SMALL(AA$4:AA$53,1)-AA39 -> -0.00015046296 | AE39: =RANK(AG39,AG$4:AG$53) -> 9 | AF39: BUCHMANN Emanuel | AG39: 0 | AJ39: =RANK(AL39,AL$4:AL$53) -> 6 | AK39: OPLJANSKI Pawel | AL39: 0
C40: VOECKLER Thomas | D40: DIR | E40: =E39+1 -> 37 | J40: =RANK(M40,M$4:M$53) -> 6 | K40: VOECKLER Thomas | L40: 0.026979167 | M40: =SMALL(L$4:L$53,1)-L40 -> -0.00015046296 | N40: 0 | O40: 0 | Y40: =RANK(AB40,AB$4:AB$53) -> 6 | Z40: VOECKLER Thomas | AA40: 0.026979167 | AB40: =SMALL(AA$4:AA$53,1)-AA40 -> -0.00015046296 | AE40: =RANK(AG40,AG$4:AG$53) -> 9 | AF40: CHAVANEL Sylvain | AG40: 0 | AJ40: =RANK(AL40,AL$4:AL$53) -> 6 | AK40: BUCHMANN Emanuel | AL40: 0
C41: CALMEJANE Lilian | D41: DIR | E41: =E40+1 -> 38 | J41: =RANK(M41,M$4:M$53) -> 6 | K41: CALMEJANE Lilian | L41: 0.026979167 | M41: =SMALL(L$4:L$53,1)-L41 -> -0.00015046296 | N41: 0 | O41: 0 | Y41: =RANK(AB41,AB$4:AB$53) -> 6 | Z41: CALMEJANE Lilian | AA41: 0.026979167 | AB41: =SMALL(AA$4:AA$53,1)-AA41 -> -0.00015046296 | AE41: =RANK(AG41,AG$4:AG$53) -> 9 | AF41: VOECKLER Thomas | AG41: 0 | AJ41: =RANK(AL41,AL$4:AL$53) -> 6 | AK41: VOECKLER Thomas | AL41: 0
...

Sheet Etape 2
X1: Général | AD1: Point | AI1: Montagne | AN1: Jeunes
C3: Participants | D3: Equipe | E3: Dossard | K3: Classement | L3: Temps | M3: Ecart | N3: Points | O3: Montagne | S3: Col catégorie 2 | T3: Points | X3: Maillot Ocre | Y3: Temps | Z3: Ecart | AD3: Maillot bleu | AE3: Points | AI3: Maillot blanc a pois verts | AJ3: Points | AN3: Maillot noir | AO3: Temps | AP3: Ecart
C4: CHATELET Louen | D4: LXL | E4: 1 | G4: Longueur | J4: =RANK(M4,M$4:M$53) -> 1 | K4: CHATELET Louen | L4: 0 | M4: =SMALL(L$4:L$53,1)-L4 -> 0 | N4: 0 | O4: 0 | R4: 1 | T4: 10 | W4: =RANK(Z4,Z$4:Z$53) -> 1 | X4: =Général!J4 -> KITTEL Marcel | Y4: =Général!K4 -> 0.026828704 | Z4: =Général!L4 -> 0 | AC4: =RANK(AE4,AE$4:AE$53) -> 10 | AD4: CHATELET Louen | AE4: ='Etape 1'!N4+'Etape 2'!N4 -> 0 | AH4: =RANK(AJ4,AJ$4:AJ$53) -> 6 | AI4: CHATELET Louen | AJ4: ='Etape 1'!O4+'Etape 2'!O4 -> 0 | AM4: =RANK(AP4,AP$4:AP$15) -> 1 | AN4: BOUDAT Thomas | AO4: =Général!K8 -> 0.026967593 | AP4: =SMALL(AO$4:AO$15,1)-AO4 -> 0
C5: MARTIN Guillaume | D5: LXL | E5: =E4+1 -> 2 | G5: 14,8 km | J5: =RANK(M5,M$4:M$53) -> 1 | K5: MARTIN Guillaume | L5: 0 | M5: =SMALL(L$4:L$53,1)-L5 -> 0 | N5: 0 | O5: 0 | R5: =R4+1 -> 2 | T5: 6 | W5: =RANK(Z5,Z$4:Z$53) -> 2 | X5: =Général!J5 -> SAGAN Peter | Y5: =Général!K5 -> 0.026875 | Z5: =Général!L5 -> -4.6296296e-05 | AC5: =RANK(AE5,AE$4:AE$53) -> 10 | AD5: MARTIN Guillaume | AE5: ='Etape 1'!N5+'Etape 2'!N5 -> 0 | AH5: =RANK(AJ5,AJ$4:AJ$53) -> 6 | AI5: MARTIN Guillaume | AJ5: ='Etape 1'!O5+'Etape 2'!O5 -> 0 | AM5: =RANK(AP5,AP$4:AP$15) -> 2 | AN5: CHATELET Louen | AO5: =Général!K9 -> 0.026979167 | AP5: =SMALL(AO$4:AO$15,1)-AO5 -> -1.1574074e-05
C6: DEMARE Arnaud | D6: LXL | E6: =E5+1 -> 3 | J6: =RANK(M6,M$4:M$53) -> 1 | K6: DEMARE Arnaud | L6: 0 | M6: =SMALL(L$4:L$53,1)-L6 -> 0 | N6: 0 | O6: 0 | R6: =R5+1 -> 3 | T6: 4 | W6: =RANK(Z6,Z$4:Z$53) -> 3 | X6: =Général!J6 -> BAKELANTS Jan | Y6: =Général!K6 -> 0.026898148 | Z6: =Général!L6 -> -6.9444444e-05 | AC6: =RANK(AE6,AE$4:AE$53) -> 4 | AD6: DEMARE Arnaud | AE6: ='Etape 1'!N6+'Etape 2'!N6 -> 14 | AH6: =RANK(AJ6,AJ$4:AJ$53) -> 6 | AI6: DEMARE Arnaud | AJ6: ='Etape 1'!O6+'Etape 2'!O6 -> 0 | AM6: =RANK(AP6,AP$4:AP$15) -> 2 | AN6: MARTIN Guillaume | AO6: =Général!K10 -> 0.026979167 | AP6: =SMALL(AO$4:AO$15,1)-AO6 -> -1.1574074e-05
C7: BOUHANNI Nacer | D7: LXL | E7: =E6+1 -> 4 | J7: =RANK(M7,M$4:M$53) -> 1 | K7: BOUHANNI Nacer | L7: 0 | M7: =SMALL(L$4:L$53,1)-L7 -> 0 | N7: 0 | O7: 0 | R7: =R6+1 -> 4 | T7: 2 | W7: =RANK(Z7,Z$4:Z$53) -> 4 | X7: =Général!J7 -> DEMARE Arnaud | Y7: =Général!K7 -> 0.026956019 | Z7: =Général!L7 -> -0.00012731481 | AC7: =RANK(AE7,AE$4:AE$53) -> 7 | AD7: BOUHANNI Nacer | AE7: ='Etape 1'!N7+'Etape 2'!N7 -> 8 | AH7: =RANK(AJ7,AJ$4:AJ$53) -> 6 | AI7: BOUHANNI Nacer | AJ7: ='Etape 1'!O7+'Etape 2'!O7 -> 0 | AM7: =RANK(AP7,AP$4:AP$15) -> 2 | AN7: LATOUR Pierre | AO7: =Général!K14 -> 0.026979167 | AP7: =SMALL(AO$4:AO$15,1)-AO7 -> -1.1574074e-05
C8: PINOT Thibault | D8: LXL | E8: =E7+1 -> 5 | J8: =RANK(M8,M$4:M$53) -> 1 | K8: PINOT Thibault | L8: 0 | M8: =SMALL(L$4:L$53,1)-L8 -> 0 | N8: 0 | O8: 0 | W8: =RANK(Z8,Z$4:Z$53) -> 5 | X8: =Général!J8 -> BOUDAT Thomas | Y8: =Général!K8 -> 0.026967593 | Z8: =Général!L8 -> -0.00013888889 | AC8: =RANK(AE8,AE$4:AE$53) -> 10 | AD8: PINOT Thibault | AE8: ='Etape 1'!N8+'Etape 2'!N8 -> 0 | AH8: =RANK(AJ8,AJ$4:AJ$53) -> 6 | AI8: PINOT Thibault | AJ8: ='Etape 1'!O8+'Etape 2'!O8 -> 0 | AM8: =RANK(AP8,AP$4:AP$15) -> 2 | AN8: YATES Simon | AO8: =Général!K17 -> 0.026979167 | AP8: =SMALL(AO$4:AO$15,1)-AO8 -> -1.1574074e-05
C9: BARDET Romain | D9: ALM | E9: =E8+1 -> 6 | J9: =RANK(M9,M$4:M$53) -> 1 | K9: BARDET Romain | L9: 0 | M9: =SMALL(L$4:L$53,1)-L9 -> 0 | N9: 0 | O9: 0 | W9: =RANK(Z9,Z$4:Z$53) -> 6 | X9: =Général!J9 -> CHATELET Louen | Y9: =Général!K9 -> 0.026979167 | Z9: =Général!L9 -> -0.00015046296 | AC9: =RANK(AE9,AE$4:AE$53) -> 10 | AD9: BARDET Romain | AE9: ='Etape 1'!N9+'Etape 2'!N9 -> 0 | AH9: =RANK(AJ9,AJ$4:AJ$53) -> 6 | AI9: BARDET Romain | AJ9: ='Etape 1'!O9+'Etape 2'!O9 -> 0 | AM9: =RANK(AP9,AP$4:AP$15) -> 2 | AN9: VALGERN Michael | AO9: =Général!K25 -> 0.026979167 | AP9: =SMALL(AO$4:AO$15,1)-AO9 -> -1.1574074e-05
C10: LATOUR Pierre | D10: ALM | E10: =E9+1 -> 7 | J10: =RANK(M10,M$4:M$53) -> 1 | K10: LATOUR Pierre | L10: 0 | M10: =SMALL(L$4:L$53,1)-L10 -> 0 | N10: 0 | O10: 0 | S10: Sprint 1 | T10: Points | W10: =RANK(Z10,Z$4:Z$53) -> 6 | X10: =Général!J10 -> MARTIN Guillaume | Y10: =Général!K10 -> 0.026979167 | Z10: =Général!L10 -> -0.00015046296 | AC10: =RANK(AE10,AE$4:AE$53) -> 10 | AD10: LATOUR Pierre | AE10: ='Etape 1'!N10+'Etape 2'!N10 -> 0 | AH10: =RANK(AJ10,AJ$4:AJ$53) -> 3 | AI10: LATOUR Pierre | AJ10: ='Etape 1'!O10+'Etape 2'!O10 -> 8 | AM10: =RANK(AP10,AP$4:AP$15) -> 2 | AN10: ZABEL Rick | AO10: =Général!K30 -> 0.026979167 | AP10: =SMALL(AO$4:AO$15,1)-AO10 -> -1.1574074e-05
C11: VUILLERMOZ Alexis | D11: ALM | E11: =E10+1 -> 8 | J11: =RANK(M11,M$4:M$53) -> 1 | K11: VUILLERMOZ Alexis | L11: 0 | M11: =SMALL(L$4:L$53,1)-L11 -> 0 | N11: 0 | O11: 0 | R11: 1 | T11: 5 | W11: =RANK(Z11,Z$4:Z$53) -> 6 | X11: =Général!J11 -> BOUHANNI Nacer | Y11: =Général!K11 -> 0.026979167 | Z11: =Général!L11 -> -0.00015046296 | AC11: =RANK(AE11,AE$4:AE$53) -> 10 | AD11: VUILLERMOZ Alexis | AE11: ='Etape 1'!N11+'Etape 2'!N11 -> 0 | AH11: =RANK(AJ11,AJ$4:AJ$53) -> 6 | AI11: VUILLERMOZ Alexis | AJ11: ='Etape 1'!O11+'Etape 2'!O11 -> 0 | AM11: =RANK(AP11,AP$4:AP$15) -> 2 | AN11: ALAPHILIPPE Julian | AO11: =Général!K33 -> 0.026979167 | AP11: =SMALL(AO$4:AO$15,1)-AO11 -> -1.1574074e-05
C12: BAKELANTS Jan | D12: ALM | E12: =E11+1 -> 9 | J12: =RANK(M12,M$4:M$53) -> 1 | K12: BAKELANTS Jan | L12: 0 | M12: =SMALL(L$4:L$53,1)-L12 -> 0 | N12: 0 | O12: 0 | R12: =R11+1 -> 2 | T12: 3 | W12: =RANK(Z12,Z$4:Z$53) -> 6 | X12: =Général!J12 -> PINOT Thibault | Y12: =Général!K12 -> 0.026979167 | Z12: =Général!L12 -> -0.00015046296 | AC12: =RANK(AE12,AE$4:AE$53) -> 3 | AD12: BAKELANTS Jan | AE12: ='Etape 1'!N12+'Etape 2'!N12 -> 16 | AH12: =RANK(AJ12,AJ$4:AJ$53) -> 6 | AI12: BAKELANTS Jan | AJ12: ='Etape 1'!O12+'Etape 2'!O12 -> 0 | AM12: =RANK(AP12,AP$4:AP$15) -> 2 | AN12: CALMEJANE Lilian | AO12: =Général!K41 -> 0.026979167 | AP12: =SMALL(AO$4:AO$15,1)-AO12 -> -1.1574074e-05
C13: GAUTIER Cyril | D13: ALM | E13: =E12+1 -> 10 | J13: =RANK(M13,M$4:M$53) -> 1 | K13: GAUTIER Cyril | L13: 0 | M13: =SMALL(L$4:L$53,1)-L13 -> 0 | N13: 0 | O13: 0 | R13: =R12+1 -> 3 | T13: 2 | W13: =RANK(Z13,Z$4:Z$53) -> 6 | X13: =Général!J13 -> BARDET Romain | Y13: =Général!K13 -> 0.026979167 | Z13: =Général!L13 -> -0.00015046296 | AC13: =RANK(AE13,AE$4:AE$53) -> 10 | AD13: GAUTIER Cyril | AE13: ='Etape 1'!N13+'Etape 2'!N13 -> 0 | AH13: =RANK(AJ13,AJ$4:AJ$53) -> 6 | AI13: GAUTIER Cyril | AJ13: ='Etape 1'!O13+'Etape 2'!O13 -> 0 | AM13: =RANK(AP13,AP$4:AP$15) -> 2 | AN13: LE GAC Olivier | AO13: =Général!K46 -> 0.026979167 | AP13: =SMALL(AO$4:AO$15,1)-AO13 -> -1.1574074e-05
C14: YATES Simon | D14: ORS | E14: =E13+1 -> 11 | J14: =RANK(M14,M$4:M$53) -> 1 | K14: YATES Simon | L14: 0 | M14: =SMALL(L$4:L$53,1)-L14 -> 0 | N14: 0 | O14: 0 | W14: =RANK(Z14,Z$4:Z$53) -> 6 | X14: =Général!J14 -> LATOUR Pierre | Y14: =Général!K14 -> 0.026979167 | Z14: =Général!L14 -> -0.00015046296 | AC14: =RANK(AE14,AE$4:AE$53) -> 10 | AD14: YATES Simon | AE14: ='Etape 1'!N14+'Etape 2'!N14 -> 0 | AH14: =RANK(AJ14,AJ$4:AJ$53) -> 1 | AI14: YATES Simon | AJ14: ='Etape 1'!O14+'Etape 2'!O14 -> 16 | AM14: =RANK(AP14,AP$4:AP$15) -> 2 | AN14: BUCHMANN Emmanuel | AO14: =Général!K38 -> 0.026979167 | AP14: =SMALL(AO$4:AO$15,1)-AO14 -> -1.1574074e-05
C15: YATES Adam | D15: ORS | E15: =E14+1 -> 12 | J15: =RANK(M15,M$4:M$53) -> 1 | K15: YATES Adam | L15: 0 | M15: =SMALL(L$4:L$53,1)-L15 -> 0 | N15: 0 | O15: 0 | S15: Sprint 2 | T15: Points | W15: =RANK(Z15,Z$4:Z$53) -> 6 | X15: =Général!J15 -> VUILLERMOZ Alexis | Y15: =Général!K15 -> 0.026979167 | Z15: =Général!L15 -> -0.00015046296 | AC15: =RANK(AE15,AE$4:AE$53) -> 10 | AD15: YATES Adam | AE15: ='Etape 1'!N15+'Etape 2'!N15 -> 0 | AH15: =RANK(AJ15,AJ$4:AJ$53) -> 6 | AI15: YATES Adam | AJ15: ='Etape 1'!O15+'Etape 2'!O15 -> 0 | AM15: =RANK(AP15,AP$4:AP$15) -> 12 | AN15: SUTTERLIN Yasha | AO15: =Général!K51 -> 0.027025463 | AP15: =SMALL(AO$4:AO$15,1)-AO15 -> -5.787037e-05
C16: CHAVES Esteban | D16: ORS | E16: =E15+1 -> 13 | J16: =RANK(M16,M$4:M$53) -> 1 | K16: CHAVES Esteban | L16: 0 | M16: =SMALL(L$4:L$53,1)-L16 -> 0 | N16: 0 | O16: 0 | R16: 1 | T16: 5 | W16: =RANK(Z16,Z$4:Z$53) -> 6 | X16: =Général!J16 -> GAUTIER Cyril | Y16: =Général!K16 -> 0.026979167 | Z16: =Général!L16 -> -0.00015046296 | AC16: =RANK(AE16,AE$4:AE$53) -> 10 | AD16: CHAVES Esteban | AE16: ='Etape 1'!N16+'Etape 2'!N16 -> 0 | AH16: =RANK(AJ16,AJ$4:AJ$53) -> 6 | AI16: CHAVES Esteban | AJ16: ='Etape 1'!O16+'Etape 2'!O16 -> 0
C17: KREUZIGER Roman | D17: ORS | E17: =E16+1 -> 14 | J17: =RANK(M17,M$4:M$53) -> 1 | K17: KREUZIGER Roman | L17: 0 | M17: =SMALL(L$4:L$53,1)-L17 -> 0 | N17: 0 | O17: 0 | R17: =R16+1 -> 2 | T17: 3 | W17: =RANK(Z17,Z$4:Z$53) -> 6 | X17: =Général!J17 -> YATES Simon | Y17: =Général!K17 -> 0.026979167 | Z17: =Général!L17 -> -0.00015046296 | AC17: =RANK(AE17,AE$4:AE$53) -> 10 | AD17: KREUZIGER Roman | AE17: ='Etape 1'!N17+'Etape 2'!N17 -> 0 | AH17: =RANK(AJ17,AJ$4:AJ$53) -> 6 | AI17: KREUZIGER Roman | AJ17: ='Etape 1'!O17+'Etape 2'!O17 -> 0
C18: ALBASINI Michael | D18: ORS | E18: =E17+1 -> 15 | J18: =RANK(M18,M$4:M$53) -> 1 | K18: ALBASINI Michael | L18: 0 | M18: =SMALL(L$4:L$53,1)-L18 -> 0 | N18: 0 | O18: 0 | R18: =R17+1 -> 3 | T18: 2 | W18: =RANK(Z18,Z$4:Z$53) -> 6 | X18: =Général!J18 -> YATES Adam | Y18: =Général!K18 -> 0.026979167 | Z18: =Général!L18 -> -0.00015046296 | AC18: =RANK(AE18,AE$4:AE$53) -> 8 | AD18: ALBASINI Michael | AE18: ='Etape 1'!N18+'Etape 2'!N18 -> 7 | AH18: =RANK(AJ18,AJ$4:AJ$53) -> 6 | AI18: ALBASINI Michael | AJ18: ='Etape 1'!O18+'Etape 2'!O18 -> 0
C19: FULSGANG Jacob | D19: AST | E19: =E18+1 -> 16 | J19: =RANK(M19,M$4:M$53) -> 1 | K19: FULSGANG Jacob | L19: 0 | M19: =SMALL(L$4:L$53,1)-L19 -> 0 | N19: 0 | O19: 0 | W19: =RANK(Z19,Z$4:Z$53) -> 6 | X19: =Général!J19 -> CHAVES Esteban | Y19: =Général!K19 -> 0.026979167 | Z19: =Général!L19 -> -0.00015046296 | AC19: =RANK(AE19,AE$4:AE$53) -> 10 | AD19: FULSGANG Jacob | AE19: ='Etape 1'!N19+'Etape 2'!N19 -> 0 | AH19: =RANK(AJ19,AJ$4:AJ$53) -> 2 | AI19: FULSGANG Jacob | AJ19: ='Etape 1'!O19+'Etape 2'!O19 -> 12
C20: ARU Fabio | D20: AST | E20: =E19+1 -> 17 | J20: =RANK(M20,M$4:M$53) -> 1 | K20: ARU Fabio | L20: 0 | M20: =SMALL(L$4:L$53,1)-L20 -> 0 | N20: 0 | O20: 0 | S20: Arrivée | T20: Points | W20: =RANK(Z20,Z$4:Z$53) -> 6 | X20: =Général!J20 -> KREUZIGER Roman | Y20: =Général!K20 -> 0.026979167 | Z20: =Général!L20 -> -0.00015046296 | AC20: =RANK(AE20,AE$4:AE$53) -> 10 | AD20: ARU Fabio | AE20: ='Etape 1'!N20+'Etape 2'!N20 -> 0 | AH20: =RANK(AJ20,AJ$4:AJ$53) -> 6 | AI20: ARU Fabio | AJ20: ='Etape 1'!O20+'Etape 2'!O20 -> 0
C21: ANDERSEN Michael | D21: AST | E21: =E20+1 -> 18 | J21: =RANK(M21,M$4:M$53) -> 1 | K21: ANDERSEN Michael | L21: 0 | M21: =SMALL(L$4:L$53,1)-L21 -> 0 | N21: 0 | O21: 0 | R21: 1 | T21: 15 | W21: =RANK(Z21,Z$4:Z$53) -> 6 | X21: =Général!J21 -> ALBASINI Michael | Y21: =Général!K21 -> 0.026979167 | Z21: =Général!L21 -> -0.00015046296 | AC21: =RANK(AE21,AE$4:AE$53) -> 10 | AD21: ANDERSEN Michael | AE21: ='Etape 1'!N21+'Etape 2'!N21 -> 0 | AH21: =RANK(AJ21,AJ$4:AJ$53) -> 6 | AI21: ANDERSEN Michael | AJ21: ='Etape 1'!O21+'Etape 2'!O21 -> 0
C22: CATALDO Dario | D22: AST | E22: =E21+1 -> 19 | J22: =RANK(M22,M$4:M$53) -> 1 | K22: CATALDO Dario | L22: 0 | M22: =SMALL(L$4:L$53,1)-L22 -> 0 | N22: 0 | O22: 0 | R22: =R21+1 -> 2 | T22: 14 | W22: =RANK(Z22,Z$4:Z$53) -> 6 | X22: =Général!J22 -> FULSGANG Jacob | Y22: =Général!K22 -> 0.026979167 | Z22: =Général!L22 -> -0.00015046296 | AC22: =RANK(AE22,AE$4:AE$53) -> 10 | AD22: CATALDO Dario | AE22: ='Etape 1'!N22+'Etape 2'!N22 -> 0 | AH22: =RANK(AJ22,AJ$4:AJ$53) -> 6 | AI22: CATALDO Dario | AJ22: ='Etape 1'!O22+'Etape 2'!O22 -> 0
C23: VALGREN Michael | D23: AST | E23: =E22+1 -> 20 | J23: =RANK(M23,M$4:M$53) -> 1 | K23: VALGREN Michael | L23: 0 | M23: =SMALL(L$4:L$53,1)-L23 -> 0 | N23: 0 | O23: 0 | R23: =R22+1 -> 3 | T23: 13 | W23: =RANK(Z23,Z$4:Z$53) -> 6 | X23: =Général!J23 -> ARU Fabio | Y23: =Général!K23 -> 0.026979167 | Z23: =Général!L23 -> -0.00015046296 | AC23: =RANK(AE23,AE$4:AE$53) -> 6 | AD23: VALGREN Michael | AE23: ='Etape 1'!N23+'Etape 2'!N23 -> 9 | AH23: =RANK(AJ23,AJ$4:AJ$53) -> 6 | AI23: VALGREN Michael | AJ23: ='Etape 1'!O23+'Etape 2'!O23 -> 0
C24: KRISTOFF Alexander | D24: KAT | E24: =E23+1 -> 21 | J24: =RANK(M24,M$4:M$53) -> 1 | K24: KRISTOFF Alexander | L24: 0 | M24: =SMALL(L$4:L$53,1)-L24 -> 0 | N24: 0 | O24: 0 | R24: =R23+1 -> 4 | T24: 12 | W24: =RANK(Z24,Z$4:Z$53) -> 6 | X24: =Général!J24 -> ANDERSEN Michael | Y24: =Général!K24 -> 0.026979167 | Z24: =Général!L24 -> -0.00015046296 | AC24: =RANK(AE24,AE$4:AE$53) -> 10 | AD24: KRISTOFF Alexander | AE24: ='Etape 1'!N24+'Etape 2'!N24 -> 0 | AH24: =RANK(AJ24,AJ$4:AJ$53) -> 6 | AI24: KRISTOFF Alexander | AJ24: ='Etape 1'!O24+'Etape 2'!O24 -> 0
C25: MARTIN Tony | D25: KAT | E25: =E24+1 -> 22 | J25: =RANK(M25,M$4:M$53) -> 1 | K25: MARTIN Tony | L25: 0 | M25: =SMALL(L$4:L$53,1)-L25 -> 0 | N25: 0 | O25: 0 | R25: =R24+1 -> 5 | T25: 11 | W25: =RANK(Z25,Z$4:Z$53) -> 6 | X25: =Général!J25 -> VALGREN Michael | Y25: =Général!K25 -> 0.026979167 | Z25: =Général!L25 -> -0.00015046296 | AC25: =RANK(AE25,AE$4:AE$53) -> 10 | AD25: MARTIN Tony | AE25: ='Etape 1'!N25+'Etape 2'!N25 -> 0 | AH25: =RANK(AJ25,AJ$4:AJ$53) -> 6 | AI25: MARTIN Tony | AJ25: ='Etape 1'!O25+'Etape 2'!O25 -> 0
C26: HALLER Marco | D26: KAT | E26: =E25+1 -> 23 | J26: =RANK(M26,M$4:M$53) -> 1 | K26: HALLER Marco | L26: 0 | M26: =SMALL(L$4:L$53,1)-L26 -> 0 | N26: 0 | O26: 0 | R26: =R25+1 -> 6 | T26: 10 | W26: =RANK(Z26,Z$4:Z$53) -> 6 | X26: =Général!J26 -> KRISTOFF Alexander | Y26: =Général!K26 -> 0.026979167 | Z26: =Général!L26 -> -0.00015046296 | AC26: =RANK(AE26,AE$4:AE$53) -> 10 | AD26: HALLER Marco | AE26: ='Etape 1'!N26+'Etape 2'!N26 -> 0 | AH26: =RANK(AJ26,AJ$4:AJ$53) -> 6 | AI26: HALLER Marco | AJ26: ='Etape 1'!O26+'Etape 2'!O26 -> 0
C27: MACHADO Tiago | D27: KAT | E27: =E26+1 -> 24 | J27: =RANK(M27,M$4:M$53) -> 1 | K27: MACHADO Tiago | L27: 0 | M27: =SMALL(L$4:L$53,1)-L27 -> 0 | N27: 0 | O27: 0 | R27: =R26+1 -> 7 | T27: 9 | W27: =RANK(Z27,Z$4:Z$53) -> 6 | X27: =Général!J27 -> MARTIN Tony | Y27: =Général!K27 -> 0.026979167 | Z27: =Général!L27 -> -0.00015046296 | AC27: =RANK(AE27,AE$4:AE$53) -> 10 | AD27: MACHADO Tiago | AE27: ='Etape 1'!N27+'Etape 2'!N27 -> 0 | AH27: =RANK(AJ27,AJ$4:AJ$53) -> 6 | AI27: MACHADO Tiago | AJ27: ='Etape 1'!O27+'Etape 2'!O27 -> 0
C28: ZABEL Rick | D28: KAT | E28: =E27+1 -> 25 | J28: =RANK(M28,M$4:M$53) -> 1 | K28: ZABEL Rick | L28: 0 | M28: =SMALL(L$4:L$53,1)-L28 -> 0 | N28: 0 | O28: 0 | R28: =R27+1 -> 8 | T28: 8 | W28: =RANK(Z28,Z$4:Z$53) -> 6 | X28: =Général!J28 -> HALLER Marco | Y28: =Général!K28 -> 0.026979167 | Z28: =Général!L28 -> -0.00015046296 | AC28: =RANK(AE28,AE$4:AE$53) -> 10 | AD28: ZABEL Rick | AE28: ='Etape 1'!N28+'Etape 2'!N28 -> 0 | AH28: =RANK(AJ28,AJ$4:AJ$53) -> 6 | AI28: ZABEL Rick | AJ28: ='Etape 1'!O28+'Etape 2'!O28 -> 0
C29: GILBERT Philippe | D29: QST | E29: =E28+1 -> 26 | J29: =RANK(M29,M$4:M$53) -> 1 | K29: GILBERT Philippe | L29: 0 | M29: =SMALL(L$4:L$53,1)-L29 -> 0 | N29: 0 | O29: 0 | R29: =R28+1 -> 9 | T29: 7 | W29: =RANK(Z29,Z$4:Z$53) -> 6 | X29: =Général!J29 -> MACHADO Tiago | Y29: =Général!K29 -> 0.026979167 | Z29: =Général!L29 -> -0.00015046296 | AC29: =RANK(AE29,AE$4:AE$53) -> 10 | AD29: GILBERT Philippe | AE29: ='Etape 1'!N29+'Etape 2'!N29 -> 0 | AH29: =RANK(AJ29,AJ$4:AJ$53) -> 6 | AI29: GILBERT Philippe | AJ29: ='Etape 1'!O29+'Etape 2'!O29 -> 0
C30: MARTIN Daniel | D30: QST | E30: =E29+1 -> 27 | J30: =RANK(M30,M$4:M$53) -> 1 | K30: MARTIN Daniel | L30: 0 | M30: =SMALL(L$4:L$53,1)-L30 -> 0 | N30: 0 | O30: 0 | R30: =R29+1 -> 10 | T30: 6 | W30: =RANK(Z30,Z$4:Z$53) -> 6 | X30: =Général!J30 -> ZABEL Rick | Y30: =Général!K30 -> 0.026979167 | Z30: =Général!L30 -> -0.00015046296 | AC30: =RANK(AE30,AE$4:AE$53) -> 10 | AD30: MARTIN Daniel | AE30: ='Etape 1'!N30+'Etape 2'!N30 -> 0 | AH30: =RANK(AJ30,AJ$4:AJ$53) -> 6 | AI30: MARTIN Daniel | AJ30: ='Etape 1'!O30+'Etape 2'!O30 -> 0
C31: ALAPHILIPPE Julian | D31: QST | E31: =E30+1 -> 28 | J31: =RANK(M31,M$4:M$53) -> 1 | K31: ALAPHILIPPE Julian | L31: 0 | M31: =SMALL(L$4:L$53,1)-L31 -> 0 | N31: 0 | O31: 0 | W31: =RANK(Z31,Z$4:Z$53) -> 6 | X31: =Général!J31 -> GILBERT Philippe | Y31: =Général!K31 -> 0.026979167 | Z31: =Général!L31 -> -0.00015046296 | AC31: =RANK(AE31,AE$4:AE$53) -> 10 | AD31: ALAPHILIPPE Julian | AE31: ='Etape 1'!N31+'Etape 2'!N31 -> 0 | AH31: =RANK(AJ31,AJ$4:AJ$53) -> 6 | AI31: ALAPHILIPPE Julian | AJ31: ='Etape 1'!O31+'Etape 2'!O31 -> 0
C32: MELGAREJO David | D32: QST | E32: =E31+1 -> 29 | J32: =RANK(M32,M$4:M$53) -> 1 | K32: MELGAREJO David | L32: 0 | M32: =SMALL(L$4:L$53,1)-L32 -> 0 | N32: 0 | O32: 0 | W32: =RANK(Z32,Z$4:Z$53) -> 6 | X32: =Général!J32 -> MARTIN Daniel | Y32: =Général!K32 -> 0.026979167 | Z32: =Général!L32 -> -0.00015046296 | AC32: =RANK(AE32,AE$4:AE$53) -> 10 | AD32: MELGAREJO David | AE32: ='Etape 1'!N32+'Etape 2'!N32 -> 0 | AH32: =RANK(AJ32,AJ$4:AJ$53) -> 6 | AI32: MELGAREJO David | AJ32: ='Etape 1'!O32+'Etape 2'!O32 -> 0
C33: KITTEL Marcel | D33: QST | E33: =E32+1 -> 30 | J33: =RANK(M33,M$4:M$53) -> 1 | K33: KITTEL Marcel | L33: 0 | M33: =SMALL(L$4:L$53,1)-L33 -> 0 | N33: 0 | O33: 0 | S33: Bonifications | T33: Secondes | W33: =RANK(Z33,Z$4:Z$53) -> 6 | X33: =Général!J33 -> ALAPHILIPPE Julian | Y33: =Général!K33 -> 0.026979167 | Z33: =Général!L33 -> -0.00015046296 | AC33: =RANK(AE33,AE$4:AE$53) -> 2 | AD33: KITTEL Marcel | AE33: ='Etape 1'!N33+'Etape 2'!N33 -> 20 | AH33: =RANK(AJ33,AJ$4:AJ$53) -> 6 | AI33: KITTEL Marcel | AJ33: ='Etape 1'!O33+'Etape 2'!O33 -> 0
C34: SAGAN Peter | D34: BOH | E34: =E33+1 -> 31 | J34: =RANK(M34,M$4:M$53) -> 1 | K34: SAGAN Peter | L34: 0 | M34: =SMALL(L$4:L$53,1)-L34 -> 0 | N34: 0 | O34: 0 | W34: =RANK(Z34,Z$4:Z$53) -> 6 | X34: =Général!J34 -> MELGAREJO David | Y34: =Général!K34 -> 0.026979167 | Z34: =Général!L34 -> -0.00015046296 | AC34: =RANK(AE34,AE$4:AE$53) -> 1 | AD34: SAGAN Peter | AE34: ='Etape 1'!N34+'Etape 2'!N34 -> 21 | AH34: =RANK(AJ34,AJ$4:AJ$53) -> 6 | AI34: SAGAN Peter | AJ34: ='Etape 1'!O34+'Etape 2'!O34 -> 0
C35: MAJKA Rafal | D35: BOH | E35: =E34+1 -> 32 | J35: =RANK(M35,M$4:M$53) -> 1 | K35: MAJKA Rafal | L35: 0 | M35: =SMALL(L$4:L$53,1)-L35 -> 0 | N35: 0 | O35: 0 | W35: =RANK(Z35,Z$4:Z$53) -> 6 | X35: =Général!J35 -> MAJKA Rafal | Y35: =Général!K35 -> 0.026979167 | Z35: =Général!L35 -> -0.00015046296 | AC35: =RANK(AE35,AE$4:AE$53) -> 10 | AD35: MAJKA Rafal | AE35: ='Etape 1'!N35+'Etape 2'!N35 -> 0 | AH35: =RANK(AJ35,AJ$4:AJ$53) -> 6 | AI35: MAJKA Rafal | AJ35: ='Etape 1'!O35+'Etape 2'!O35 -> 0
C36: BENNETT Sam | D36: BOH | E36: =E35+1 -> 33 | J36: =RANK(M36,M$4:M$53) -> 1 | K36: BENNETT Sam | L36: 0 | M36: =SMALL(L$4:L$53,1)-L36 -> 0 | N36: 0 | O36: 0 | W36: =RANK(Z36,Z$4:Z$53) -> 6 | X36: =Général!J36 -> BENNETT Sam | Y36: =Général!K36 -> 0.026979167 | Z36: =Général!L36 -> -0.00015046296 | AC36: =RANK(AE36,AE$4:AE$53) -> 10 | AD36: BENNETT Sam | AE36: ='Etape 1'!N36+'Etape 2'!N36 -> 0 | AH36: =RANK(AJ36,AJ$4:AJ$53) -> 6 | AI36: BENNETT Sam | AJ36: ='Etape 1'!O36+'Etape 2'!O36 -> 0
C37: OPLJANSKI Pawel | D37: BOH | E37: =E36+1 -> 34 | J37: =RANK(M37,M$4:M$53) -> 1 | K37: OPLJANSKI Pawel | L37: 0 | M37: =SMALL(L$4:L$53,1)-L37 -> 0 | N37: 0 | O37: 0 | W37: =RANK(Z37,Z$4:Z$53) -> 6 | X37: =Général!J37 -> OPLJANSKI Pawel | Y37: =Général!K37 -> 0.026979167 | Z37: =Général!L37 -> -0.00015046296 | AC37: =RANK(AE37,AE$4:AE$53) -> 10 | AD37: OPLJANSKI Pawel | AE37: ='Etape 1'!N37+'Etape 2'!N37 -> 0 | AH37: =RANK(AJ37,AJ$4:AJ$53) -> 6 | AI37: OPLJANSKI Pawel | AJ37: ='Etape 1'!O37+'Etape 2'!O37 -> 0
C38: BUCHMANN Emanuel | D38: BOH | E38: =E37+1 -> 35 | J38: =RANK(M38,M$4:M$53) -> 1 | K38: BUCHMANN Emanuel | L38: 0 | M38: =SMALL(L$4:L$53,1)-L38 -> 0 | N38: 0 | O38: 0 | W38: =RANK(Z38,Z$4:Z$53) -> 6 | X38: =Général!J38 -> BUCHMANN Emanuel | Y38: =Général!K38 -> 0.026979167 | Z38: =Général!L38 -> -0.00015046296 | AC38: =RANK(AE38,AE$4:AE$53) -> 10 | AD38: BUCHMANN Emanuel | AE38: ='Etape 1'!N38+'Etape 2'!N38 -> 0 | AH38: =RANK(AJ38,AJ$4:AJ$53) -> 6 | AI38: BUCHMANN Emanuel | AJ38: ='Etape 1'!O38+'Etape 2'!O38 -> 0
C39: CHAVANEL Sylvain | D39: DIR | E39: =E38+1 -> 36 | J39: =RANK(M39,M$4:M$53) -> 1 | K39: CHAVANEL Sylvain | L39: 0 | M39: =SMALL(L$4:L$53,1)-L39 -> 0 | N39: 0 | O39: 0 | W39: =RANK(Z39,Z$4:Z$53) -> 6 | X39: =Général!J39 -> CHAVANEL Sylvain | Y39: =Général!K39 -> 0.026979167 | Z39: =Général!L39 -> -0.00015046296 | AC39: =RANK(AE39,AE$4:AE$53) -> 10 | AD39: CHAVANEL Sylvain | AE39: ='Etape 1'!N39+'Etape 2'!N39 -> 0 | AH39: =RANK(AJ39,AJ$4:AJ$53) -> 5 | AI39: CHAVANEL Sylvain | AJ39: ='Etape 1'!O39+'Etape 2'!O39 -> 4
C40: VOECKLER Thomas | D40: DIR | E40: =E39+1 -> 37 | J40: =RANK(M40,M$4:M$53) -> 1 | K40: VOECKLER Thomas | L40: 0 | M40: =SMALL(L$4:L$53,1)-L40 -> 0 | N40: 0 | O40: 0 | W40: =RANK(Z40,Z$4:Z$53) -> 6 | X40: =Général!J40 -> VOECKLER Thomas | Y40: =Général!K40 -> 0.026979167 | Z40: =Général!L40 -> -0.00015046296 | AC40: =RANK(AE40,AE$4:AE$53) -> 10 | AD40: VOECKLER Thomas | AE40: ='Etape 1'!N40+'Etape 2'!N40 -> 0 | AH40: =RANK(AJ40,AJ$4:AJ$53) -> 6 | AI40: VOECKLER Thomas | AJ40: ='Etape 1'!O40+'Etape 2'!O40 -> 0
