Workbook

Sheet RDV
A1: TEL | B1: CLIENT | C1: RDV | D1: HEURE | E1: VENDEUR
B2: 1 | C2: SAMEDI | D2: 10H | E2: 1
B3: 2 | C3: SAMEDI | D3: 11H | E3: 2
B4: 3 | C4: SAMEDI | D4: 12H | E4: 3
B5: 4 | C5: SAMEDI | D5: 10H | E5: 4
B6: 5 | C6: SAMEDI | D6: 13H | E6: 5
B7: 6 | C7: SAMEDI | D7: 14H | E7: 6
B8: 7 | C8: SAMEDI | D8: 15H | E8: 7

Sheet PLANNING RDV
B1: JOUR J
B2: 1 | C2: 2 | D2: 3 | E2: 4 | F2: 5 | G2: 6 | H2: 7
A3: 9H | B3: =IFERROR(IF(INDEX(RDV!$A$2:$E$18,MATCH($A3,RDV!$D$2:$D$18,0),5)=B$2,INDEX(RDV!$A$2:$E$18,MATCH($A3,RDV!$D$2:$D$18,0),2),""),"") | C3: =IFERROR(IF(INDEX(RDV!$A$2:$E$18,MATCH($A3,RDV!$D$2:$D$18,0),5)=C$2,INDEX(RDV!$A$2:$E$18,MATCH($A3,RDV!$D$2:$D$18,0),2),""),"") | D3: =IFERROR(IF(INDEX(RDV!$A$2:$E$18,MATCH($A3,RDV!$D$2:$D$18,0),5)=D$2,INDEX(RDV!$A$2:$E$18,MATCH($A3,RDV!$D$2:$D$18,0),2),""),"") | E3: =IFERROR(IF(INDEX(RDV!$A$2:$E$18,MATCH($A3,RDV!$D$2:$D$18,0),5)=E$2,INDEX(RDV!$A$2:$E$18,MATCH($A3,RDV!$D$2:$D$18,0),2),""),"") | F3: =IFERROR(IF(INDEX(RDV!$A$2:$E$18,MATCH($A3,RDV!$D$2:$D$18,0),5)=F$2,INDEX(RDV!$A$2:$E$18,MATCH($A3,RDV!$D$2:$D$18,0),2),""),"") | G3: =IFERROR(IF(INDEX(RDV!$A$2:$E$18,MATCH($A3,RDV!$D$2:$D$18,0),5)=G$2,INDEX(RDV!$A$2:$E$18,MATCH($A3,RDV!$D$2:$D$18,0),2),""),"") | H3: =IFERROR(IF(INDEX(RDV!$A$2:$E$18,MATCH($A3,RDV!$D$2:$D$18,0),5)=H$2,INDEX(RDV!$A$2:$E$18,MATCH($A3,RDV!$D$2:$D$18,0),2),""),"")
A4: 9H30 | B4: =IFERROR(IF(INDEX(RDV!$A$2:$E$18,MATCH($A4,RDV!$D$2:$D$18,0),5)=B$2,INDEX(RDV!$A$2:$E$18,MATCH($A4,RDV!$D$2:$D$18,0),2),""),"") | C4: =IFERROR(IF(INDEX(RDV!$A$2:$E$18,MATCH($A4,RDV!$D$2:$D$18,0),5)=C$2,INDEX(RDV!$A$2:$E$18,MATCH($A4,RDV!$D$2:$D$18,0),2),""),"") | D4: =IFERROR(IF(INDEX(RDV!$A$2:$E$18,MATCH($A4,RDV!$D$2:$D$18,0),5)=D$2,INDEX(RDV!$A$2:$E$18,MATCH($A4,RDV!$D$2:$D$18,0),2),""),"") | E4: =IFERROR(IF(INDEX(RDV!$A$2:$E$18,MATCH($A4,RDV!$D$2:$D$18,0),5)=E$2,INDEX(RDV!$A$2:$E$18,MATCH($A4,RDV!$D$2:$D$18,0),2),""),"") | F4: =IFERROR(IF(INDEX(RDV!$A$2:$E$18,MATCH($A4,RDV!$D$2:$D$18,0),5)=F$2,INDEX(RDV!$A$2:$E$18,MATCH($A4,RDV!$D$2:$D$18,0),2),""),"") | G4: =IFERROR(IF(INDEX(RDV!$A$2:$E$18,MATCH($A4,RDV!$D$2:$D$18,0),5)=G$2,INDEX(RDV!$A$2:$E$18,MATCH($A4,RDV!$D$2:$D$18,0),2),""),"") | H4: =IFERROR(IF(INDEX(RDV!$A$2:$E$18,MATCH($A4,RDV!$D$2:$D$18,0),5)=H$2,INDEX(RDV!$A$2:$E$18,MATCH($A4,RDV!$D$2:$D$18,0),2),""),"")
A5: 10H | B5: =IFERROR(IF(INDEX(RDV!$A$2:$E$18,MATCH($A5,RDV!$D$2:$D$18,0),5)=B$2,INDEX(RDV!$A$2:$E$18,MATCH($A5,RDV!$D$2:$D$18,0),2),""),"") -> 1 | C5: =IFERROR(IF(INDEX(RDV!$A$2:$E$18,MATCH($A5,RDV!$D$2:$D$18,0),5)=C$2,INDEX(RDV!$A$2:$E$18,MATCH($A5,RDV!$D$2:$D$18,0),2),""),"") | D5: =IFERROR(IF(INDEX(RDV!$A$2:$E$18,MATCH($A5,RDV!$D$2:$D$18,0),5)=D$2,INDEX(RDV!$A$2:$E$18,MATCH($A5,RDV!$D$2:$D$18,0),2),""),"") | E5: =IFERROR(IF(INDEX(RDV!$A$2:$E$18,MATCH($A5,RDV!$D$2:$D$18,0),5)=E$2,INDEX(RDV!$A$2:$E$18,MATCH($A5,RDV!$D$2:$D$18,0),2),""),"") | F5: =IFERROR(IF(INDEX(RDV!$A$2:$E$18,MATCH($A5,RDV!$D$2:$D$18,0),5)=F$2,INDEX(RDV!$A$2:$E$18,MATCH($A5,RDV!$D$2:$D$18,0),2),""),"") | G5: =IFERROR(IF(INDEX(RDV!$A$2:$E$18,MATCH($A5,RDV!$D$2:$D$18,0),5)=G$2,INDEX(RDV!$A$2:$E$18,MATCH($A5,RDV!$D$2:$D$18,0),2),""),"") | H5: =IFERROR(IF(INDEX(RDV!$A$2:$E$18,MATCH($A5,RDV!$D$2:$D$18,0),5)=H$2,INDEX(RDV!$A$2:$E$18,MATCH($A5,RDV!$D$2:$D$18,0),2),""),"")
A6: 10H30 | B6: =IFERROR(IF(INDEX(RDV!$A$2:$E$18,MATCH($A6,RDV!$D$2:$D$18,0),5)=B$2,INDEX(RDV!$A$2:$E$18,MATCH($A6,RDV!$D$2:$D$18,0),2),""),"") | C6: =IFERROR(IF(INDEX(RDV!$A$2:$E$18,MATCH($A6,RDV!$D$2:$D$18,0),5)=C$2,INDEX(RDV!$A$2:$E$18,MATCH($A6,RDV!$D$2:$D$18,0),2),""),"") | D6: =IFERROR(IF(INDEX(RDV!$A$2:$E$18,MATCH($A6,RDV!$D$2:$D$18,0),5)=D$2,INDEX(RDV!$A$2:$E$18,MATCH($A6,RDV!$D$2:$D$18,0),2),""),"") | E6: =IFERROR(IF(INDEX(RDV!$A$2:$E$18,MATCH($A6,RDV!$D$2:$D$18,0),5)=E$2,INDEX(RDV!$A$2:$E$18,MATCH($A6,RDV!$D$2:$D$18,0),2),""),"") | F6: =IFERROR(IF(INDEX(RDV!$A$2:$E$18,MATCH($A6,RDV!$D$2:$D$18,0),5)=F$2,INDEX(RDV!$A$2:$E$18,MATCH($A6,RDV!$D$2:$D$18,0),2),""),"") | G6: =IFERROR(IF(INDEX(RDV!$A$2:$E$18,MATCH($A6,RDV!$D$2:$D$18,0),5)=G$2,INDEX(RDV!$A$2:$E$18,MATCH($A6,RDV!$D$2:$D$18,0),2),""),"") | H6: =IFERROR(IF(INDEX(RDV!$A$2:$E$18,MATCH($A6,RDV!$D$2:$D$18,0),5)=H$2,INDEX(RDV!$A$2:$E$18,MATCH($A6,RDV!$D$2:$D$18,0),2),""),"")
A7: 11H | B7: =IFERROR(IF(INDEX(RDV!$A$2:$E$18,MATCH($A7,RDV!$D$2:$D$18,0),5)=B$2,INDEX(RDV!$A$2:$E$18,MATCH($A7,RDV!$D$2:$D$18,0),2),""),"") | C7: =IFERROR(IF(INDEX(RDV!$A$2:$E$18,MATCH($A7,RDV!$D$2:$D$18,0),5)=C$2,INDEX(RDV!$A$2:$E$18,MATCH($A7,RDV!$D$2:$D$18,0),2),""),"") -> 2 | D7: =IFERROR(IF(INDEX(RDV!$A$2:$E$18,MATCH($A7,RDV!$D$2:$D$18,0),5)=D$2,INDEX(RDV!$A$2:$E$18,MATCH($A7,RDV!$D$2:$D$18,0),2),""),"") | E7: =IFERROR(IF(INDEX(RDV!$A$2:$E$18,MATCH($A7,RDV!$D$2:$D$18,0),5)=E$2,INDEX(RDV!$A$2:$E$18,MATCH($A7,RDV!$D$2:$D$18,0),2),""),"") | F7: =IFERROR(IF(INDEX(RDV!$A$2:$E$18,MATCH($A7,RDV!$D$2:$D$18,0),5)=F$2,INDEX(RDV!$A$2:$E$18,MATCH($A7,RDV!$D$2:$D$18,0),2),""),"") | G7: =IFERROR(IF(INDEX(RDV!$A$2:$E$18,MATCH($A7,RDV!$D$2:$D$18,0),5)=G$2,INDEX(RDV!$A$2:$E$18,MATCH($A7,RDV!$D$2:$D$18,0),2),""),"") | H7: =IFERROR(IF(INDEX(RDV!$A$2:$E$18,MATCH($A7,RDV!$D$2:$D$18,0),5)=H$2,INDEX(RDV!$A$2:$E$18,MATCH($A7,RDV!$D$2:$D$18,0),2),""),"")
A8: 11H30 | B8: =IFERROR(IF(INDEX(RDV!$A$2:$E$18,MATCH($A8,RDV!$D$2:$D$18,0),5)=B$2,INDEX(RDV!$A$2:$E$18,MATCH($A8,RDV!$D$2:$D$18,0),2),""),"") | C8: =IFERROR(IF(INDEX(RDV!$A$2:$E$18,MATCH($A8,RDV!$D$2:$D$18,0),5)=C$2,INDEX(RDV!$A$2:$E$18,MATCH($A8,RDV!$D$2:$D$18,0),2),""),"") | D8: =IFERROR(IF(INDEX(RDV!$A$2:$E$18,MATCH($A8,RDV!$D$2:$D$18,0),5)=D$2,INDEX(RDV!$A$2:$E$18,MATCH($A8,RDV!$D$2:$D$18,0),2),""),"") | E8: =IFERROR(IF(INDEX(RDV!$A$2:$E$18,MATCH($A8,RDV!$D$2:$D$18,0),5)=E$2,INDEX(RDV!$A$2:$E$18,MATCH($A8,RDV!$D$2:$D$18,0),2),""),"") | F8: =IFERROR(IF(INDEX(RDV!$A$2:$E$18,MATCH($A8,RDV!$D$2:$D$18,0),5)=F$2,INDEX(RDV!$A$2:$E$18,MATCH($A8,RDV!$D$2:$D$18,0),2),""),"") | G8: =IFERROR(IF(INDEX(RDV!$A$2:$E$18,MATCH($A8,RDV!$D$2:$D$18,0),5)=G$2,INDEX(RDV!$A$2:$E$18,MATCH($A8,RDV!$D$2:$D$18,0),2),""),"") | H8: =IFERROR(IF(INDEX(RDV!$A$2:$E$18,MATCH($A8,RDV!$D$2:$D$18,0),5)=H$2,INDEX(RDV!$A$2:$E$18,MATCH($A8,RDV!$D$2:$D$18,0),2),""),"")
A9: 12H | B9: =IFERROR(IF(INDEX(RDV!$A$2:$E$18,MATCH($A9,RDV!$D$2:$D$18,0),5)=B$2,INDEX(RDV!$A$2:$E$18,MATCH($A9,RDV!$D$2:$D$18,0),2),""),"") | C9: =IFERROR(IF(INDEX(RDV!$A$2:$E$18,MATCH($A9,RDV!$D$2:$D$18,0),5)=C$2,INDEX(RDV!$A$2:$E$18,MATCH($A9,RDV!$D$2:$D$18,0),2),""),"") | D9: =IFERROR(IF(INDEX(RDV!$A$2:$E$18,MATCH($A9,RDV!$D$2:$D$18,0),5)=D$2,INDEX(RDV!$A$2:$E$18,MATCH($A9,RDV!$D$2:$D$18,0),2),""),"") -> 3 | E9: =IFERROR(IF(INDEX(RDV!$A$2:$E$18,MATCH($A9,RDV!$D$2:$D$18,0),5)=E$2,INDEX(RDV!$A$2:$E$18,MATCH($A9,RDV!$D$2:$D$18,0),2),""),"") | F9: =IFERROR(IF(INDEX(RDV!$A$2:$E$18,MATCH($A9,RDV!$D$2:$D$18,0),5)=F$2,INDEX(RDV!$A$2:$E$18,MATCH($A9,RDV!$D$2:$D$18,0),2),""),"") | G9: =IFERROR(IF(INDEX(RDV!$A$2:$E$18,MATCH($A9,RDV!$D$2:$D$18,0),5)=G$2,INDEX(RDV!$A$2:$E$18,MATCH($A9,RDV!$D$2:$D$18,0),2),""),"") | H9: =IFERROR(IF(INDEX(RDV!$A$2:$E$18,MATCH($A9,RDV!$D$2:$D$18,0),5)=H$2,INDEX(RDV!$A$2:$E$18,MATCH($A9,RDV!$D$2:$D$18,0),2),""),"")
A10: 12H30 | B10: =IFERROR(IF(INDEX(RDV!$A$2:$E$18,MATCH($A10,RDV!$D$2:$D$18,0),5)=B$2,INDEX(RDV!$A$2:$E$18,MATCH($A10,RDV!$D$2:$D$18,0),2),""),"") | C10: =IFERROR(IF(INDEX(RDV!$A$2:$E$18,MATCH($A10,RDV!$D$2:$D$18,0),5)=C$2,INDEX(RDV!$A$2:$E$18,MATCH($A10,RDV!$D$2:$D$18,0),2),""),"") | D10: =IFERROR(IF(INDEX(RDV!$A$2:$E$18,MATCH($A10,RDV!$D$2:$D$18,0),5)=D$2,INDEX(RDV!$A$2:$E$18,MATCH($A10,RDV!$D$2:$D$18,0),2),""),"") | E10: =IFERROR(IF(INDEX(RDV!$A$2:$E$18,MATCH($A10,RDV!$D$2:$D$18,0),5)=E$2,INDEX(RDV!$A$2:$E$18,MATCH($A10,RDV!$D$2:$D$18,0),2),""),"") | F10: =IFERROR(IF(INDEX(RDV!$A$2:$E$18,MATCH($A10,RDV!$D$2:$D$18,0),5)=F$2,INDEX(RDV!$A$2:$E$18,MATCH($A10,RDV!$D$2:$D$18,0),2),""),"") | G10: =IFERROR(IF(INDEX(RDV!$A$2:$E$18,MATCH($A10,RDV!$D$2:$D$18,0),5)=G$2,INDEX(RDV!$A$2:$E$18,MATCH($A10,RDV!$D$2:$D$18,0),2),""),"") | H10: =IFERROR(IF(INDEX(RDV!$A$2:$E$18,MATCH($A10,RDV!$D$2:$D$18,0),5)=H$2,INDEX(RDV!$A$2:$E$18,MATCH($A10,RDV!$D$2:$D$18,0),2),""),"")
A11: 13H | B11: =IFERROR(IF(INDEX(RDV!$A$2:$E$18,MATCH($A11,RDV!$D$2:$D$18,0),5)=B$2,INDEX(RDV!$A$2:$E$18,MATCH($A11,RDV!$D$2:$D$18,0),2),""),"") | C11: =IFERROR(IF(INDEX(RDV!$A$2:$E$18,MATCH($A11,RDV!$D$2:$D$18,0),5)=C$2,INDEX(RDV!$A$2:$E$18,MATCH($A11,RDV!$D$2:$D$18,0),2),""),"") | D11: =IFERROR(IF(INDEX(RDV!$A$2:$E$18,MATCH($A11,RDV!$D$2:$D$18,0),5)=D$2,INDEX(RDV!$A$2:$E$18,MATCH($A11,RDV!$D$2:$D$18,0),2),""),"") | E11: =IFERROR(IF(INDEX(RDV!$A$2:$E$18,MATCH($A11,RDV!$D$2:$D$18,0),5)=E$2,INDEX(RDV!$A$2:$E$18,MATCH($A11,RDV!$D$2:$D$18,0),2),""),"") | F11: =IFERROR(IF(INDEX(RDV!$A$2:$E$18,MATCH($A11,RDV!$D$2:$D$18,0),5)=F$2,INDEX(RDV!$A$2:$E$18,MATCH($A11,RDV!$D$2:$D$18,0),2),""),"") -> 5 | G11: =IFERROR(IF(INDEX(RDV!$A$2:$E$18,MATCH($A11,RDV!$D$2:$D$18,0),5)=G$2,INDEX(RDV!$A$2:$E$18,MATCH($A11,RDV!$D$2:$D$18,0),2),""),"") | H11: =IFERROR(IF(INDEX(RDV!$A$2:$E$18,MATCH($A11,RDV!$D$2:$D$18,0),5)=H$2,INDEX(RDV!$A$2:$E$18,MATCH($A11,RDV!$D$2:$D$18,0),2),""),"")
A12: 13H30 | B12: =IFERROR(IF(INDEX(RDV!$A$2:$E$18,MATCH($A12,RDV!$D$2:$D$18,0),5)=B$2,INDEX(RDV!$A$2:$E$18,MATCH($A12,RDV!$D$2:$D$18,0),2),""),"") | C12: =IFERROR(IF(INDEX(RDV!$A$2:$E$18,MATCH($A12,RDV!$D$2:$D$18,0),5)=C$2,INDEX(RDV!$A$2:$E$18,MATCH($A12,RDV!$D$2:$D$18,0),2),""),"") | D12: =IFERROR(IF(INDEX(RDV!$A$2:$E$18,MATCH($A12,RDV!$D$2:$D$18,0),5)=D$2,INDEX(RDV!$A$2:$E$18,MATCH($A12,RDV!$D$2:$D$18,0),2),""),"") | E12: =IFERROR(IF(INDEX(RDV!$A$2:$E$18,MATCH($A12,RDV!$D$2:$D$18,0),5)=E$2,INDEX(RDV!$A$2:$E$18,MATCH($A12,RDV!$D$2:$D$18,0),2),""),"") | F12: =IFERROR(IF(INDEX(RDV!$A$2:$E$18,MATCH($A12,RDV!$D$2:$D$18,0),5)=F$2,INDEX(RDV!$A$2:$E$18,MATCH($A12,RDV!$D$2:$D$18,0),2),""),"") | G12: =IFERROR(IF(INDEX(RDV!$A$2:$E$18,MATCH($A12,RDV!$D$2:$D$18,0),5)=G$2,INDEX(RDV!$A$2:$E$18,MATCH($A12,RDV!$D$2:$D$18,0),2),""),"") | H12: =IFERROR(IF(INDEX(RDV!$A$2:$E$18,MATCH($A12,RDV!$D$2:$D$18,0),5)=H$2,INDEX(RDV!$A$2:$E$18,MATCH($A12,RDV!$D$2:$D$18,0),2),""),"")
A13: 14H | B13: =IFERROR(IF(INDEX(RDV!$A$2:$E$18,MATCH($A13,RDV!$D$2:$D$18,0),5)=B$2,INDEX(RDV!$A$2:$E$18,MATCH($A13,RDV!$D$2:$D$18,0),2),""),"") | C13: =IFERROR(IF(INDEX(RDV!$A$2:$E$18,MATCH($A13,RDV!$D$2:$D$18,0),5)=C$2,INDEX(RDV!$A$2:$E$18,MATCH($A13,RDV!$D$2:$D$18,0),2),""),"") | D13: =IFERROR(IF(INDEX(RDV!$A$2:$E$18,MATCH($A13,RDV!$D$2:$D$18,0),5)=D$2,INDEX(RDV!$A$2:$E$18,MATCH($A13,RDV!$D$2:$D$18,0),2),""),"") | E13: =IFERROR(IF(INDEX(RDV!$A$2:$E$18,MATCH($A13,RDV!$D$2:$D$18,0),5)=E$2,INDEX(RDV!$A$2:$E$18,MATCH($A13,RDV!$D$2:$D$18,0),2),""),"") | F13: =IFERROR(IF(INDEX(RDV!$A$2:$E$18,MATCH($A13,RDV!$D$2:$D$18,0),5)=F$2,INDEX(RDV!$A$2:$E$18,MATCH($A13,RDV!$D$2:$D$18,0),2),""),"") | G13: =IFERROR(IF(INDEX(RDV!$A$2:$E$18,MATCH($A13,RDV!$D$2:$D$18,0),5)=G$2,INDEX(RDV!$A$2:$E$18,MATCH($A13,RDV!$D$2:$D$18,0),2),""),"") -> 6 | H13: =IFERROR(IF(INDEX(RDV!$A$2:$E$18,MATCH($A13,RDV!$D$2:$D$18,0),5)=H$2,INDEX(RDV!$A$2:$E$18,MATCH($A13,RDV!$D$2:$D$18,0),2),""),"")
A14: 14H30 | B14: =IFERROR(IF(INDEX(RDV!$A$2:$E$18,MATCH($A14,RDV!$D$2:$D$18,0),5)=B$2,INDEX(RDV!$A$2:$E$18,MATCH($A14,RDV!$D$2:$D$18,0),2),""),"") | C14: =IFERROR(IF(INDEX(RDV!$A$2:$E$18,MATCH($A14,RDV!$D$2:$D$18,0),5)=C$2,INDEX(RDV!$A$2:$E$18,MATCH($A14,RDV!$D$2:$D$18,0),2),""),"") | D14: =IFERROR(IF(INDEX(RDV!$A$2:$E$18,MATCH($A14,RDV!$D$2:$D$18,0),5)=D$2,INDEX(RDV!$A$2:$E$18,MATCH($A14,RDV!$D$2:$D$18,0),2),""),"") | E14: =IFERROR(IF(INDEX(RDV!$A$2:$E$18,MATCH($A14,RDV!$D$2:$D$18,0),5)=E$2,INDEX(RDV!$A$2:$E$18,MATCH($A14,RDV!$D$2:$D$18,0),2),""),"") | F14: =IFERROR(IF(INDEX(RDV!$A$2:$E$18,MATCH($A14,RDV!$D$2:$D$18,0),5)=F$2,INDEX(RDV!$A$2:$E$18,MATCH($A14,RDV!$D$2:$D$18,0),2),""),"") | G14: =IFERROR(IF(INDEX(RDV!$A$2:$E$18,MATCH($A14,RDV!$D$2:$D$18,0),5)=G$2,INDEX(RDV!$A$2:$E$18,MATCH($A14,RDV!$D$2:$D$18,0),2),""),"") | H14: =IFERROR(IF(INDEX(RDV!$A$2:$E$18,MATCH($A14,RDV!$D$2:$D$18,0),5)=H$2,INDEX(RDV!$A$2:$E$18,MATCH($A14,RDV!$D$2:$D$18,0),2),""),"")
... A23: 19H | B23: =IFERROR(IF(INDEX(RDV!$A$2:$E$18,MATCH($A23,RDV!$D$2:$D$18,0),5)=B$2,INDEX(RDV!$A$2:$E$18,MATCH($A23,RDV!$D$2:$D$18,0),2),""),"") | C23: =IFERROR(IF(INDEX(RDV!$A$2:$E$18,MATCH($A23,RDV!$D$2:$D$18,0),5)=C$2,INDEX(RDV!$A$2:$E$18,MATCH($A23,RDV!$D$2:$D$18,0),2),""),"") | D23: =IFERROR(IF(INDEX(RDV!$A$2:$E$18,MATCH($A23,RDV!$D$2:$D$18,0),5)=D$2,INDEX(RDV!$A$2:$E$18,MATCH($A23,RDV!$D$2:$D$18,0),2),""),"") | E23: =IFERROR(IF(INDEX(RDV!$A$2:$E$18,MATCH($A23,RDV!$D$2:$D$18,0),5)=E$2,INDEX(RDV!$A$2:$E$18,MATCH($A23,RDV!$D$2:$D$18,0),2),""),"") | F23: =IFERROR(IF(INDEX(RDV!$A$2:$E$18,MATCH($A23,RDV!$D$2:$D$18,0),5)=F$2,INDEX(RDV!$A$2:$E$18,MATCH($A23,RDV!$D$2:$D$18,0),2),""),"") | G23: =IFERROR(IF(INDEX(RDV!$A$2:$E$18,MATCH($A23,RDV!$D$2:$D$18,0),5)=G$2,INDEX(RDV!$A$2:$E$18,MATCH($A23,RDV!$D$2:$D$18,0),2),""),"") | H23: =IFERROR(IF(INDEX(RDV!$A$2:$E$18,MATCH($A23,RDV!$D$2:$D$18,0),5)=H$2,INDEX(RDV!$A$2:$E$18,MATCH($A23,RDV!$D$2:$D$18,0),2),""),"")
