Workbook

Sheet Feuil1
I4: Probleme pas les bonnes distances
C6: Réf | D6: Désignation | E6: QTE en stock | F6: QTE à commander | G6: zone | H6: ordre | I6: distance
C7: 41097 | D7: Liptonic 24x33cl | G7: =VLOOKUP(C7,Feuil2!$C$6:$E$29,3,FALSE) -> o | H7: =VLOOKUP(G7,Feuil2!$M$5:$N$12,2,FALSE) -> 1 | I7: =INDEX(Feuil2!$J$18:$R$26,Feuil1!H7+1,Feuil1!H8+1) -> 24
C8: 38248 | D8: Canada dry 24x33cl | G8: =VLOOKUP(C8,Feuil2!$C$6:$E$29,3,FALSE) -> o | H8: =VLOOKUP(G8,Feuil2!$M$5:$N$12,2,FALSE) -> 1 | I8: =INDEX(Feuil2!$J$18:$R$26,Feuil1!H8+1,Feuil1!H9+1) -> 24
C9: 51050 | D9: Coca Cola 24x33cl | F9: 5 | G9: =VLOOKUP(C9,Feuil2!$C$6:$E$29,3,FALSE) -> o | H9: =VLOOKUP(G9,Feuil2!$M$5:$N$12,2,FALSE) -> 1 | I9: =INDEX(Feuil2!$J$18:$R$26,Feuil1!H9+1,Feuil1!H10+1) -> 24
C10: 51052 | D10: Coca Cola Zéro 24x33cl | G10: =VLOOKUP(C10,Feuil2!$C$6:$E$29,3,FALSE) -> o | H10: =VLOOKUP(G10,Feuil2!$M$5:$N$12,2,FALSE) -> 1 | I10: =INDEX(Feuil2!$J$18:$R$26,Feuil1!H10+1,Feuil1!H11+1) -> 24
C11: 175547 | D11: Ch'ti Blonde 6x25cl x4 | G11: =VLOOKUP(C11,Feuil2!$C$6:$E$29,3,FALSE) -> o | H11: =VLOOKUP(G11,Feuil2!$M$5:$N$12,2,FALSE) -> 1 | I11: =INDEX(Feuil2!$J$18:$R$26,Feuil1!H11+1,Feuil1!H12+1) -> 12
C12: 173039 | D12: LALANDE BORIE 11 ST JUL 75CL | G12: =VLOOKUP(C12,Feuil2!$C$6:$E$29,3,FALSE) -> A2 | H12: =VLOOKUP(G12,Feuil2!$M$5:$N$12,2,FALSE) -> 3 | I12: =INDEX(Feuil2!$J$18:$R$26,Feuil1!H12+1,Feuil1!H13+1) -> 21
C13: 4444 | D13: Petit Chablis Vignot 2015 37,5cl | G13: =VLOOKUP(C13,Feuil2!$C$6:$E$29,3,FALSE) -> A2 | H13: =VLOOKUP(G13,Feuil2!$M$5:$N$12,2,FALSE) -> 3 | I13: =INDEX(Feuil2!$J$18:$R$26,Feuil1!H13+1,Feuil1!H14+1) -> 21
C14: 7777 | D14: Côtes de Provences Rosé "Château de l'Aumérade" 2013 x6 | G14: =VLOOKUP(C14,Feuil2!$C$6:$E$29,3,FALSE) -> A2 | H14: =VLOOKUP(G14,Feuil2!$M$5:$N$12,2,FALSE) -> 3 | I14: =INDEX(Feuil2!$J$18:$R$26,Feuil1!H14+1,Feuil1!H15+1) -> 21
C15: 0 | D15: Château le Bonnat Graves 2012 x6 | F15: 6 | G15: =VLOOKUP(C15,Feuil2!$C$6:$E$29,3,FALSE) -> A2 | H15: =VLOOKUP(G15,Feuil2!$M$5:$N$12,2,FALSE) -> 3 | I15: =INDEX(Feuil2!$J$18:$R$26,Feuil1!H15+1,Feuil1!H16+1) -> 21
C16: 99 | D16: Maucaillou N°2 x6 | G16: =VLOOKUP(C16,Feuil2!$C$6:$E$29,3,FALSE) -> A2 | H16: =VLOOKUP(G16,Feuil2!$M$5:$N$12,2,FALSE) -> 3 | I16: =INDEX(Feuil2!$J$18:$R$26,Feuil1!H16+1,Feuil1!H17+1) -> 21
C17: 73505 | D17: Spéculoos biscuit 175grX4 | G17: =VLOOKUP(C17,Feuil2!$C$6:$E$29,3,FALSE) -> A2 | H17: =VLOOKUP(G17,Feuil2!$M$5:$N$12,2,FALSE) -> 3 | I17: =INDEX(Feuil2!$J$18:$R$26,Feuil1!H17+1,Feuil1!H18+1) -> 20
C18: 54757 | D18: Vittel 6x50cl x4 | G18: =VLOOKUP(C18,Feuil2!$C$6:$E$29,3,FALSE) -> A1 | H18: =VLOOKUP(G18,Feuil2!$M$5:$N$12,2,FALSE) -> 4 | I18: =INDEX(Feuil2!$J$18:$R$26,Feuil1!H18+1,Feuil1!H19+1) -> 37
C19: 57604 | D19: Cristaline 24*50 cl NON GAZEUSE | F19: 6 | G19: =VLOOKUP(C19,Feuil2!$C$6:$E$29,3,FALSE) -> A1 | H19: =VLOOKUP(G19,Feuil2!$M$5:$N$12,2,FALSE) -> 4 | I19: =INDEX(Feuil2!$J$18:$R$26,Feuil1!H19+1,Feuil1!H20+1) -> 37
C20: 373456 | D20: GRANINI POMME 25CL lot de 12 | G20: =VLOOKUP(C20,Feuil2!$C$6:$E$29,3,FALSE) -> A1 | H20: =VLOOKUP(G20,Feuil2!$M$5:$N$12,2,FALSE) -> 4 | I20: =INDEX(Feuil2!$J$18:$R$26,Feuil1!H20+1,Feuil1!H21+1) -> 37
C21: 37322 | D21: GRANINI ORANGE 25CL lot de 12 | G21: =VLOOKUP(C21,Feuil2!$C$6:$E$29,3,FALSE) -> A1 | H21: =VLOOKUP(G21,Feuil2!$M$5:$N$12,2,FALSE) -> 4 | I21: =INDEX(Feuil2!$J$18:$R$26,Feuil1!H21+1,Feuil1!H22+1) -> 37
C22: 156851 | D22: Perrier Slimcan 6X33cl X4 | G22: =VLOOKUP(C22,Feuil2!$C$6:$E$29,3,FALSE) -> A1 | H22: =VLOOKUP(G22,Feuil2!$M$5:$N$12,2,FALSE) -> 4 | I22: =INDEX(Feuil2!$J$18:$R$26,Feuil1!H22+1,Feuil1!H23+1) -> 35
C23: 734442 | D23: Farine de Blé T55 x6 | G23: =VLOOKUP(C23,Feuil2!$C$6:$E$29,3,FALSE) -> B2 | H23: =VLOOKUP(G23,Feuil2!$M$5:$N$12,2,FALSE) -> 5 | I23: =INDEX(Feuil2!$J$18:$R$26,Feuil1!H23+1,Feuil1!H24+1) -> 24
C24: 60463 | D24: Sucre Poudre Dosette x500 | G24: =VLOOKUP(C24,Feuil2!$C$6:$E$29,3,FALSE) -> B1 | H24: =VLOOKUP(G24,Feuil2!$M$5:$N$12,2,FALSE) -> 6 | I24: =INDEX(Feuil2!$J$18:$R$26,Feuil1!H24+1,Feuil1!H25+1) -> 21
C25: 60471 | D25: Pur Sirop d'Erable 1L quebecois | G25: =VLOOKUP(C25,Feuil2!$C$6:$E$29,3,FALSE) -> B1 | H25: =VLOOKUP(G25,Feuil2!$M$5:$N$12,2,FALSE) -> 6 | I25: =INDEX(Feuil2!$J$18:$R$26,Feuil1!H25+1,Feuil1!H26+1) -> 21
C26: 645762 | D26: 12 Mini sel et poivre | G26: =VLOOKUP(C26,Feuil2!$C$6:$E$29,3,FALSE) -> B1 | H26: =VLOOKUP(G26,Feuil2!$M$5:$N$12,2,FALSE) -> 6 | I26: =INDEX(Feuil2!$J$18:$R$26,Feuil1!H26+1,Feuil1!H27+1) -> 38
C27: 54990 | D27: Maïzena 700gr | G27: =VLOOKUP(C27,Feuil2!$C$6:$E$29,3,FALSE) -> B3 | H27: =VLOOKUP(G27,Feuil2!$M$5:$N$12,2,FALSE) -> 7 | I27: =INDEX(Feuil2!$J$18:$R$26,Feuil1!H27+1,Feuil1!H28+1) -> 33
C28: 95907 | D28: Bobine Papier 6x450 feuilles | G28: =VLOOKUP(C28,Feuil2!$C$6:$E$29,3,FALSE) -> C1 | H28: =VLOOKUP(G28,Feuil2!$M$5:$N$12,2,FALSE) -> 8 | I28: =INDEX(Feuil2!$J$18:$R$26,Feuil1!H28+1,Feuil1!H29+1) -> 16
C29: 965889 | D29: Oréo MINI BISCUIT PAQUET x3 | G29: =VLOOKUP(C29,Feuil2!$C$6:$E$29,3,FALSE) -> C1 | H29: =VLOOKUP(G29,Feuil2!$M$5:$N$12,2,FALSE) -> 8 | I29: =INDEX(Feuil2!$J$18:$R$26,Feuil1!H29+1,Feuil1!H30+1) -> 16
C30: 0543892 | D30: Vinaigre d'alcool Cristal 12X 1L | G30: =VLOOKUP(C30,Feuil2!$C$6:$E$29,3,FALSE) -> C1 | H30: =VLOOKUP(G30,Feuil2!$M$5:$N$12,2,FALSE) -> 8 | I30: =INDEX(Feuil2!$J$18:$R$26,Feuil1!H30,Feuil1!H31+1) -> B3
I31: Total
F32: derniere case | G32: =LOOKUP(9^9,F7:F30) -> 6
G33: Probleme lorsque il y a deux fois la meme quantité il ne me met pas la derniere

Sheet Feuil2
C5: Réf | D5: Désignation | M5: o | N5: 1
C6: 95907 | D6: Bobine Papier 6x450 feuilles | E6: C1 | M6: A1 | N6: 4
C7: 54757 | D7: Vittel 6x50cl x4 | E7: A1 | M7: A2 | N7: 3
C8: 41097 | D8: Liptonic 24x33cl | E8: o | M8: A3 | N8: 2
C9: 38248 | D9: Canada dry 24x33cl | E9: o | M9: B1 | N9: 6
C10: 51050 | D10: Coca Cola 24x33cl | E10: o | M10: B2 | N10: 5
C11: 51052 | D11: Coca Cola Zéro 24x33cl | E11: o | M11: B3 | N11: 7
C12: 175547 | D12: Ch'ti Blonde 6x25cl x4 | E12: o | M12: C1 | N12: 8
C13: 57604 | D13: Cristaline 24*50 cl NON GAZEUSE | E13: A1
C14: 373456 | D14: GRANINI POMME 25CL lot de 12 | E14: A1
C15: 37322 | D15: GRANINI ORANGE 25CL lot de 12 | E15: A1
C16: 156851 | D16: Perrier Slimcan 6X33cl X4 | E16: A1
C17: 173039 | D17: LALANDE BORIE 11 ST JUL 75CL | E17: A2
C18: 4444 | D18: Petit Chablis Vignot 2015 37,5cl | E18: A2 | K18: O | L18: A1 | M18: A2 | N18: A3 | O18: B1 | P18: B2 | Q18: B3 | R18: C1
C19: 7777 | D19: Côtes de Provences Rosé "Château de l'Aumérade" 2013 x6 | E19: A2 | J19: o | K19: =RANDBETWEEN(5,40) -> 24 | L19: =RANDBETWEEN(5,40) -> 15 | M19: =RANDBETWEEN(5,40) -> 12 | N19: =RANDBETWEEN(5,40) -> 25 | O19: =RANDBETWEEN(5,40) -> 28 | P19: =RANDBETWEEN(5,40) -> 18 | Q19: =RANDBETWEEN(5,40) -> 28 | R19: =RANDBETWEEN(5,40) -> 14
C20: 0 | D20: Château le Bonnat Graves 2012 x6 | E20: A2 | J20: A1 | K20: =RANDBETWEEN(5,40) -> 13 | L20: =RANDBETWEEN(5,40) -> 7 | M20: =RANDBETWEEN(5,40) -> 9 | N20: =RANDBETWEEN(5,40) -> 22 | O20: =RANDBETWEEN(5,40) -> 16 | P20: =RANDBETWEEN(5,40) -> 21 | Q20: =RANDBETWEEN(5,40) -> 33 | R20: =RANDBETWEEN(5,40) -> 33
C21: 99 | D21: Maucaillou N°2 x6 | E21: A2 | J21: A2 | K21: =RANDBETWEEN(5,40) -> 14 | L21: =RANDBETWEEN(5,40) -> 5 | M21: =RANDBETWEEN(5,40) -> 21 | N21: =RANDBETWEEN(5,40) -> 20 | O21: =RANDBETWEEN(5,40) -> 12 | P21: =RANDBETWEEN(5,40) -> 11 | Q21: =RANDBETWEEN(5,40) -> 23 | R21: =RANDBETWEEN(5,40) -> 16
C22: 60463 | D22: Sucre Poudre Dosette x500 | E22: B1 | J22: A3 | K22: =RANDBETWEEN(5,40) -> 17 | L22: =RANDBETWEEN(5,40) -> 27 | M22: =RANDBETWEEN(5,40) -> 18 | N22: =RANDBETWEEN(5,40) -> 37 | O22: =RANDBETWEEN(5,40) -> 35 | P22: =RANDBETWEEN(5,40) -> 12 | Q22: =RANDBETWEEN(5,40) -> 34 | R22: =RANDBETWEEN(5,40) -> 14
C23: 60471 | D23: Pur Sirop d'Erable 1L quebecois | E23: B1 | J23: B1 | K23: =RANDBETWEEN(5,40) -> 32 | L23: =RANDBETWEEN(5,40) -> 7 | M23: =RANDBETWEEN(5,40) -> 16 | N23: =RANDBETWEEN(5,40) -> 31 | O23: =RANDBETWEEN(5,40) -> 24 | P23: =RANDBETWEEN(5,40) -> 24 | Q23: =RANDBETWEEN(5,40) -> 13 | R23: =RANDBETWEEN(5,40) -> 15
C24: 734442 | D24: Farine de Blé T55 x6 | E24: B2 | J24: B2 | K24: =RANDBETWEEN(5,40) -> 24 | L24: =RANDBETWEEN(5,40) -> 24 | M24: =RANDBETWEEN(5,40) -> 21 | N24: =RANDBETWEEN(5,40) -> 33 | O24: =RANDBETWEEN(5,40) -> 32 | P24: =RANDBETWEEN(5,40) -> 21 | Q24: =RANDBETWEEN(5,40) -> 38 | R24: =RANDBETWEEN(5,40) -> 40
C25: 54990 | D25: Maïzena 700gr | E25: B3 | J25: B3 | K25: =RANDBETWEEN(5,40) -> 32 | L25: =RANDBETWEEN(5,40) -> 33 | M25: =RANDBETWEEN(5,40) -> 7 | N25: =RANDBETWEEN(5,40) -> 8 | O25: =RANDBETWEEN(5,40) -> 39 | P25: =RANDBETWEEN(5,40) -> 6 | Q25: =RANDBETWEEN(5,40) -> 23 | R25: =RANDBETWEEN(5,40) -> 33
C26: 965889 | D26: Oréo MINI BISCUIT PAQUET x3 | E26: C1 | J26: C1 | K26: =RANDBETWEEN(5,40) -> 31 | L26: =RANDBETWEEN(5,40) -> 24 | M26: =RANDBETWEEN(5,40) -> 5 | N26: =RANDBETWEEN(5,40) -> 14 | O26: =RANDBETWEEN(5,40) -> 31 | P26: =RANDBETWEEN(5,40) -> 18 | Q26: =RANDBETWEEN(5,40) -> 27 | R26: =RANDBETWEEN(5,40) -> 16
C27: 73505 | D27: Spéculoos biscuit 175grX4 | E27: A2
C28: 0543892 | D28: Vinaigre d'alcool Cristal 12X 1L | E28: C1
C29: 645762 | D29: 12 Mini sel et poivre | E29: B1
