Workbook

Sheet 30
B1: 1 | C1: 2 | D1: 3 | E1: 4 | F1: 5 | G1: 6 | H1: 7 | I1: 8 | J1: 9 | K1: 10 | L1: 11 | M1: 12 | N1: 13 | O1: 14 | P1: 15 | Q1: 16 | R1: 17 | S1: 18 | T1: 19 | U1: 20 | V1: 21 | W1: 22 | X1: 23 | Y1: 24 | Z1: 25 | AA1: 26 | AB1: 27 | AC1: 28 | AD1: 29 | AE1: 30 | AF1: Nbre Pts | AG1: Nbre Match. | AH1: M. P/M | AI1: Coef. | AM1: N.Pts | AN1: N. M. | AO1: M.P/M | AP1: Coef. | AQ1: Cont. | AR1: Cont. 17 18 | AT1: N. Pts | AU1: N. Rep. | AV1: M.G. | AW1: M.G. x30 | AX1: 17/18
A2: ALBOURY Louis | AL2: ALBOURY Louis | AM2: 0 | AN2: 0 | AO2: 0 | AP2: 0 | AQ2: 0 | AR2: 30
A3: ALLEGRE Guy | D3: 3 | E3: 2 | G3: 0 | I3: 0 | K3: 0 | L3: 2 | Q3: 0 | T3: 0 | V3: 0 | W3: 0 | Y3: 0 | AF3: =SUM(B3:AE3) -> 7 | AG3: 11 | AH3: =SUM(AF3/AG3) -> 0.63636364 | AI3: 0.8 | AJ3: =SUM(AI3*30) -> 24 | AK3: 30 | AL3: ALLEGRE Guy | AM3: =AF3 -> 7 | AN3: =AG3 -> 11 | AO3: =AH3 -> 0.63636364 | AP3: =AI3 -> 0.8 | AQ3: =AJ3 -> 24 | AR3: =AK3 -> 30 | AT3: 156 | AU3: 294 | AV3: =SUM(AT3/AU3) -> 0.53061224 | AW3: 15.918367 | AX3: 30
A4: ANDRI Henri | B4: 2 | C4: 2 | D4: 2 | F4: 0 | G4: 3 | H4: 0 | J4: 0 | L4: 0 | M4: 0 | N4: 0 | P4: 0 | R4: 0 | S4: 0 | T4: 0 | U4: 0 | V4: 0 | W4: 0 | X4: 2 | Y4: 0 | AB4: 0 | AC4: 3 | AF4: =SUM(B4:AE4) -> 14 | AG4: 21 | AH4: =SUM(AF4/AG4) -> 0.66666667 | AI4: 0.8 | AJ4: =SUM(AI4*30) -> 24 | AK4: 30 | AL4: ANDRI Henri | AM4: =AF4 -> 14 | AN4: =AG4 -> 21 | AO4: =AH4 -> 0.66666667 | AP4: =AI4 -> 0.8 | AQ4: =AJ4 -> 24 | AR4: =AK4 -> 30 | AT4: 388 | AU4: 491 | AV4: =SUM(AT4/AU4) -> 0.79022403 | AW4: 23.706721 | AX4: 30
A5: AUDIN Louis | E5: 0 | G5: 0 | J5: 0 | K5: 0 | O5: 0 | X5: 0 | AF5: =SUM(B5:AE5) -> 0 | AG5: 6 | AH5: =SUM(AF5/AG5) -> 0 | AI5: 1 | AJ5: =SUM(AI5*30) -> 30 | AK5: 30 | AL5: AUDIN Louis | AM5: =AF5 -> 0 | AN5: =AG5 -> 6 | AO5: =AH5 -> 0 | AP5: =AI5 -> 1 | AQ5: =AJ5 -> 30 | AR5: =AK5 -> 30 | AT5: 134 | AU5: 237 | AV5: =SUM(AT5/AU5) -> 0.56540084 | AW5: 16.962025 | AX5: 30
A6: AZARRIN-LEBASSI D. | C6: 0 | G6: 0 | H6: 3 | J6: 0 | K6: 0 | N6: 2 | Q6: 2 | T6: 0 | X6: 0 | Z6: 0 | AF6: =SUM(B6:AE6) -> 7 | AG6: 10 | AH6: =SUM(AF6/AG6) -> 0.7 | AI6: 0.8 | AJ6: =SUM(AI6*30) -> 24 | AK6: 30 | AL6: AZARRIN-LEBASSI D. | AM6: =AF6 -> 7 | AN6: =AG6 -> 10 | AO6: =AH6 -> 0.7 | AP6: =AI6 -> 0.8 | AQ6: =AJ6 -> 24 | AR6: =AK6 -> 30 | AT6: 231 | AU6: 280 | AV6: =SUM(AT6/AU6) -> 0.825 | AW6: 24.75 | AX6: 30
A7: BELGACEM Djelloul | B7: 0 | C7: 3 | E7: 0 | G7: 0 | H7: 2 | I7: 0 | L7: 2 | M7: 0 | N7: 2 | O7: 0 | R7: 2 | S7: 2 | V7: 0 | W7: 0 | X7: 0 | Y7: 0 | Z7: 0 | AA7: 0 | AB7: 2 | AC7: 0 | AF7: =SUM(B7:AE7) -> 15 | AG7: 20 | AH7: =SUM(AF7/AG7) -> 0.75 | AI7: 0.9 | AJ7: =SUM(AI7*30) -> 27 | AK7: 30 | AL7: BELGACEM Djelloul | AM7: =AF7 -> 15 | AN7: =AG7 -> 20 | AO7: =AH7 -> 0.75 | AP7: =AI7 -> 0.9 | AQ7: =AJ7 -> 27 | AR7: =AK7 -> 30 | AT7: 407 | AU7: 507 | AV7: =SUM(AT7/AU7) -> 0.80276134 | AW7: 24.08284 | AX7: 30
A8: BELGUERMI Nicolas | B8: 0 | C8: 0 | D8: 2 | E8: 2 | F8: 2 | G8: 3 | H8: 0 | I8: 3 | J8: 3 | M8: 2 | O8: 0 | P8: 3 | Q8: 0 | S8: 3 | T8: 3 | V8: 2 | W8: 0 | AA8: 0 | AB8: 3 | AF8: =SUM(B8:AE8) -> 31 | AG8: 19 | AH8: =SUM(AF8/AG8) -> 1.6315789 | AI8: 1.2 | AJ8: =SUM(AI8*30) -> 36 | AK8: 35 | AL8: BELGUERMI Nicolas | AM8: =AF8 -> 31 | AN8: =AG8 -> 19 | AO8: =AH8 -> 1.6315789 | AP8: =AI8 -> 1.2 | AQ8: =AJ8 -> 36 | AR8: =AK8 -> 35 | AT8: 499 | AU8: 451 | AV8: =SUM(AT8/AU8) -> 1.1064302 | AW8: 33.192905 | AX8: 35
A9: BERNAUD Marcel | E9: 0 | F9: 2 | I9: 2 | J9: 0 | K9: 0 | L9: 0 | Q9: 0 | U9: 0 | V9: 0 | W9: 0 | Y9: 0 | AA9: 0 | AB9: 0 | AC9: 0 | AF9: =SUM(B9:AE9) -> 4 | AG9: 15 | AH9: =SUM(AF9/AG9) -> 0.26666667 | AI9: 0.8 | AJ9: =SUM(AI9*30) -> 24 | AK9: 30 | AL9: BERNAUD Marcel | AM9: =AF9 -> 4 | AN9: =AG9 -> 15 | AO9: =AH9 -> 0.26666667 | AP9: =AI9 -> 0.8 | AQ9: =AJ9 -> 24 | AR9: =AK9 -> 30 | AT9: 198 | AU9: 327 | AV9: =SUM(AT9/AU9) -> 0.60550459 | AW9: 18.165138 | AX9: 30
A10: BERNIER Armand | B10: 0 | D10: 0 | F10: 1 | J10: 0 | L10: 0 | O10: 2 | P10: 2 | Q10: 2 | R10: 2 | S10: 0 | T10: 3 | U10: 0 | W10: 3 | Z10: 0 | AA10: 0 | AC10: 2 | AF10: =SUM(B10:AE10) -> 17 | AG10: 16 | AH10: =SUM(AF10/AG10) -> 1.0625 | AI10: 1 | AJ10: =SUM(AI10*30) -> 30 | AK10: 30 | AL10: BERNIER Armand | AM10: =AF10 -> 17 | AN10: =AG10 -> 16 | AO10: =AH10 -> 1.0625 | AP10: =AI10 -> 1 | AQ10: =AJ10 -> 30 | AR10: =AK10 -> 30 | AT10: 332 | AU10: 403 | AV10: =SUM(AT10/AU10) -> 0.82382134 | AW10: 24.71464 | AX10: 30
A11: BORNE Gérard | C11: 2 | E11: 3 | F11: 0 | H11: 2 | J11: 2 | K11: 2 | N11: 2 | O11: 1 | S11: 0 | T11: 0 | U11: 0 | W11: 0 | AC11: 2 | AF11: =SUM(B11:AE11) -> 16 | AG11: 13 | AH11: =SUM(AF11/AG11) -> 1.2307692 | AI11: 1 | AJ11: =SUM(AI11*30) -> 30 | AK11: 30 | AL11: BORNE Gérard | AM11: =AF11 -> 16 | AN11: =AG11 -> 13 | AO11: =AH11 -> 1.2307692 | AP11: =AI11 -> 1 | AQ11: =AJ11 -> 30 | AR11: =AK11 -> 30 | AT11: 289 | AU11: 324 | AV11: =SUM(AT11/AU11) -> 0.89197531 | AW11: 26.759259 | AX11: 30
A12: BOURLION Pierre | D12: 0 | F12: 3 | G12: 0 | I12: 0 | L12: 2 | N12: 3 | O12: 0 | Q12: 2 | S12: 0 | AA12: 2 | AF12: =SUM(B12:AE12) -> 12 | AG12: 10 | AH12: =SUM(AF12/AG12) -> 1.2 | AI12: 1 | AJ12: =SUM(AI12*30) -> 30 | AK12: 30 | AL12: BOURLION Pierre | AM12: =AF12 -> 12 | AN12: =AG12 -> 10 | AO12: =AH12 -> 1.2 | AP12: =AI12 -> 1 | AQ12: =AJ12 -> 30 | AR12: =AK12 -> 30 | AT12: 199 | AU12: 266 | AV12: =SUM(AT12/AU12) -> 0.7481203 | AW12: 22.443609 | AX12: 30
A13: BROUILLOUX André | D13: 0 | F13: 0 | J13: 2 | M13: 2 | N13: 0 | O13: 3 | Q13: 2 | R13: 0 | V13: 0 | X13: 2 | AB13: 2 | AF13: =SUM(B13:AE13) -> 13 | AG13: 11 | AH13: =SUM(AF13/AG13) -> 1.1818182 | AI13: 1 | AJ13: =SUM(AI13*30) -> 30 | AK13: 30 | AL13: BROUILLOUX André | AM13: =AF13 -> 13 | AN13: =AG13 -> 11 | AO13: =AH13 -> 1.1818182 | AP13: =AI13 -> 1 | AQ13: =AJ13 -> 30 | AR13: =AK13 -> 30 | AT13: 260 | AU13: 315 | AV13: =SUM(AT13/AU13) -> 0.82539683 | AW13: 24.761905 | AX13: 30
A14: BRUYAS Antoine | G14: 2 | I14: 0 | K14: 3 | L14: 3 | M14: 3 | Q14: 0 | R14: 3 | S14: 3 | T14: 3 | U14: 3 | W14: 0 | X14: 0 | AB14: 3 | AF14: =SUM(B14:AE14) -> 26 | AG14: 13 | AH14: =SUM(AF14/AG14) -> 2 | AI14: 1.26 | AJ14: =SUM(AI14*30) -> 37.8 | AK14: 40 | AL14: BRUYAS Antoine | AM14: =AF14 -> 26 | AN14: =AG14 -> 13 | AO14: =AH14 -> 2 | AP14: =AI14 -> 1.26 | AQ14: =AJ14 -> 37.8 | AR14: =AK14 -> 40 | AT14: 361 | AU14: 268 | AV14: =SUM(AT14/AU14) -> 1.3470149 | AW14: 40.410448 | AX14: 40
A15: CHAMPIER Thierry | C15: 2 | E15: 0 | F15: 0 | G15: 0 | J15: 0 | K15: 0 | M15: 2 | N15: 0 | O15: 0 | P15: 2 | Q15: 1 | R15: 3 | S15: 0 | T15: 2 | U15: 0 | V15: 0 | Y15: 2 | Z15: 0 | AB15: 0 | AC15: 2 | AF15: =SUM(B15:AE15) -> 16 | AG15: 20 | AH15: =SUM(AF15/AG15) -> 0.8 | AI15: 0.9 | AJ15: =SUM(AI15*30) -> 27 | AK15: 30 | AL15: CHAMPIER Thierry | AM15: =AF15 -> 16 | AN15: =AG15 -> 20 | AO15: =AH15 -> 0.8 | AP15: =AI15 -> 0.9 | AQ15: =AJ15 -> 27 | AR15: =AK15 -> 30 | AT15: 402 | AU15: 511 | AV15: =SUM(AT15/AU15) -> 0.78669276 | AW15: 23.600783 | AX15: 30
A16: CHANAL Marc | C16: 0 | AF16: =SUM(B16:AE16) -> 0 | AG16: 1 | AH16: =SUM(AF16/AG16) -> 0 | AI16: 1 | AJ16: =SUM(AI16*30) -> 30 | AK16: 30 | AL16: CHANAL Marc | AM16: =AF16 -> 0 | AN16: =AG16 -> 1 | AO16: =AH16 -> 0 | AP16: =AI16 -> 1 | AQ16: =AJ16 -> 30 | AR16: =AK16 -> 30 | AT16: 25 | AU16: 27 | AV16: =SUM(AT16/AU16) -> 0.92592593 | AW16: 27.777778 | AX16: 30
A17: CHARBONNIER Robert | E17: 0 | F17: 0 | G17: 2 | I17: 2 | J17: 0 | K17: 2 | L17: 0 | M17: 0 | N17: 2 | O17: 1 | Q17: 2 | R17: 0 | S17: 2 | T17: 3 | U17: 0 | V17: 0 | X17: 2 | Y17: 0 | Z17: 0 | AA17: 2 | AC17: 0 | AF17: =SUM(B17:AE17) -> 20 | AG17: 21 | AH17: =SUM(AF17/AG17) -> 0.95238095 | AI17: 1 | AJ17: =SUM(AI17*30) -> 30 | AK17: 30 | AL17: CHARBONNIER Robert | AM17: =AF17 -> 20 | AN17: =AG17 -> 21 | AO17: =AH17 -> 0.95238095 | AP17: =AI17 -> 1 | AQ17: =AJ17 -> 30 | AR17: =AK17 -> 30 | AT17: 433 | AU17: 518 | AV17: =SUM(AT17/AU17) -> 0.83590734 | AW17: 25.07722 | AX17: 30
A18: CHILLET Robert | AF18: =SUM(B18:AE18) -> 0 | AG18: 0 | AH18: =SUM(AF18/AG18) -> #DIV/0! | AI18: 0 | AJ18: =SUM(AI18*30) -> 0 | AK18: 30 | AL18: CHILLET Robert | AM18: =AF18 -> 0 | AN18: =AG18 -> 0 | AO18: =AH18 -> #DIV/0! | AP18: =AI18 -> 0 | AQ18: =AJ18 -> 0 | AR18: =AK18 -> 30 | AT18: 0 | AU18: 0 | AV18: =SUM(AT18/AU18) -> #DIV/0! | AW18: #DIV/0! | AX18: 30
A19: COUCHAUD GERARD | P19: 0 | U19: 0 | X19: 0 | AA19: 0 | AB19: 0 | AF19: =SUM(B19:AE19) -> 0 | AG19: 4 | AH19: =SUM(AF19/AG19) -> 0 | AI19: 1 | AJ19: =SUM(AI19*30) -> 30 | AK19: 30 | AL19: COUCHAUD GERARD | AM19: =AF19 -> 0 | AN19: =AG19 -> 4 | AO19: =AH19 -> 0 | AP19: =AI19 -> 1 | AQ19: =AJ19 -> 30 | AR19: =AK19 -> 30 | AT19: 106 | AU19: 144 | AV19: =SUM(AT19/AU19) -> 0.73611111 | AW19: 22.083333 | AX19: 30
A20: D'ASCIANO Donato | C20: 0 | K20: 0 | AF20: =SUM(B20:AE20) -> 0 | AG20: 2 | AH20: =SUM(AF20/AG20) -> 0 | AI20: 1 | AJ20: =SUM(AI20*30) -> 30 | AK20: 30 | AL20: D'ASCIANO Donato | AM20: =AF20 -> 0 | AN20: =AG20 -> 2 | AO20: =AH20 -> 0 | AP20: =AI20 -> 1 | AQ20: =AJ20 -> 30 | AR20: =AK20 -> 30 | AT20: 32 | AU20: 54 | AV20: =SUM(AT20/AU20) -> 0.59259259 | AW20: 17.777778 | AX20: 30
A21: DEGRUEL Marc | B21: 0 | C21: 2 | D21: 0 | E21: 0 | F21: 0 | G21: 3 | K21: 2 | L21: 2 | O21: 2 | P21: 3 | Q21: 0 | S21: 3 | U21: 0 | V21: 2 | W21: 0 | Y21: 3 | AA21: 0 | AC21: 3 | AF21: =SUM(B21:AE21) -> 25 | AG21: 18 | AH21: =SUM(AF21/AG21) -> 1.3888889 | AI21: 1 | AJ21: =SUM(AI21*30) -> 30 | AK21: 30 | AL21: DEGRUEL Marc | AM21: =AF21 -> 25 | AN21: =AG21 -> 18 | AO21: =AH21 -> 1.3888889 | AP21: =AI21 -> 1 | AQ21: =AJ21 -> 30 | AR21: =AK21 -> 30 | AT21: 434 | AU21: 443 | AV21: =SUM(AT21/AU21) -> 0.97968397 | AW21: 29.390519 | AX21: 30
A22: DESLANDES Pascal | C22: 0 | T22: 3 | AF22: =SUM(B22:AE22) -> 3 | AG22: 2 | AH22: =SUM(AF22/AG22) -> 1.5 | AI22: 1.1 | AJ22: =SUM(AI22*30) -> 33 | AK22: 35 | AL22: DIX NEUF Patrick | AM22: =AF23 -> 11 | AN22: =AG23 -> 11 | AO22: =AH23 -> 1 | AP22: =AI23 -> 0.8 | AQ22: =AJ23 -> 24 | AR22: =AK23 -> 30 | AT22: 364 | AU22: 487 | AV22: =SUM(AT22/AU22) -> 0.74743326 | AW22: 22.422998 | AX22: 30
A23: DIX NEUF Patrick | B23: 2 | C23: 0 | D23: 0 | F23: 0 | H23: 0 | J23: 2 | L23: 0 | O23: 1 | R23: 0 | S23: 0 | U23: 2 | V23: 0 | W23: 0 | X23: 0 | Y23: 2 | Z23: 0 | AA23: 2 | AF23: =SUM(B23:AE23) -> 11 | AG23: 11 | AH23: =SUM(AF23/AG23) -> 1 | AI23: 0.8 | AJ23: =SUM(AI23*30) -> 24 | AK23: 30 | AL23: DOUTRE Gabriel | AM23: =AF24 -> 40 | AN23: =AG24 -> 14 | AO23: =AH24 -> 2.8571429 | AP23: =AI24 -> 1.26 | AQ23: =AJ24 -> 37.8 | AR23: =AK24 -> 40 | AT23: 429 | AU23: 327 | AV23: =SUM(AT23/AU23) -> 1.3119266 | AW23: 39.357798 | AX23: 40
A24: DOUTRE Gabriel | B24: 3 | D24: 3 | H24: 3 | K24: 2 | L24: 3 | N24: 3 | P24: 2 | Q24: 3 | R24: 3 | S24: 3 | U24: 0 | W24: 3 | Z24: 3 | AA24: 3 | AB24: 3 | AC24: 0 | AF24: =SUM(B24:AE24) -> 40 | AG24: 14 | AH24: =SUM(AF24/AG24) -> 2.8571429 | AI24: 1.26 | AJ24: =SUM(AI24*30) -> 37.8 | AK24: 40 | AL24: DREVET Joseph | AM24: =AF25 -> 0 | AN24: =AG25 -> 0 | AO24: =AH25 -> #DIV/0! | AP24: =AI25 -> 0 | AQ24: =AJ25 -> 0 | AR24: =AK25 -> 30 | AT24: 0 | AU24: 0 | AV24: =SUM(AT24/AU24) -> #DIV/0! | AW24: #DIV/0! | AX24: 30
A25: DREVET Joseph | AF25: =SUM(B25:AE25) -> 0 | AG25: 0 | AH25: =SUM(AF25/AG25) -> #DIV/0! | AI25: 0 | AJ25: =SUM(AI25*30) -> 0 | AK25: 30 | AL25: EICHENBERGER Pierre | AM25: =AF26 -> 3 | AN25: =AG26 -> 2 | AO25: =AH26 -> 1.5 | AP25: =AI26 -> 1.1 | AQ25: =AJ26 -> 33 | AR25: =AK26 -> 35 | AT25: 47 | AU25: 43 | AV25: =SUM(AT25/AU25) -> 1.0930233 | AW25: 32.790698 | AX25: 35
A26: EICHENBERGER Pierre | I26: 3 | N26: 0 | AF26: =SUM(B26:AE26) -> 3 | AG26: 2 | AH26: =SUM(AF26/AG26) -> 1.5 | AI26: 1.1 | AJ26: =SUM(AI26*30) -> 33 | AK26: 35 | AL26: FERRIOL Gael | AM26: =AF27 -> 0 | AN26: =AG27 -> 1 | AO26: =AH27 -> 0 | AP26: 1 | AQ26: =AJ27 -> 0 | AR26: =AK27 -> 30 | AT26: 0 | AU26: 0 | AV26: =SUM(AT26/AU26) -> #DIV/0! | AW26: #DIV/0! | AX26: 30
A27: FERRIOL Gael | AB27: 0 | AF27: =SUM(B27:AE27) -> 0 | AG27: 1 | AH27: =SUM(AF27/AG27) -> 0 | AI27: 0 | AJ27: =SUM(AI27*30) -> 0 | AK27: 30 | AL27: FOURNIER Jean Marc | AM27: =AF28 -> 17 | AN27: =AG28 -> 19 | AO27: =AH28 -> 0.89473684 | AP27: =AI28 -> 0.9 | AQ27: =AJ28 -> 27 | AR27: =AK28 -> 30 | AT27: 432 | AU27: 587 | AV27: =SUM(AT27/AU27) -> 0.73594549 | AW27: 22.078365 | AX27: 30
A28: FOURNIER Jean Marc | B28: 0 | C28: 2 | D28: 2 | E28: 2 | F28: 0 | H28: 2 | I28: 0 | J28: 0 | K28: 0 | L28: 0 | M28: 2 | N28: 0 | O28: 0 | Q28: 0 | R28: 0 | S28: 2 | T28: 1 | U28: 2 | V28: 0 | W28: 2 | AB28: 0 | AC28: 0 | AF28: =SUM(B28:AE28) -> 17 | AG28: 19 | AH28: =SUM(AF28/AG28) -> 0.89473684 | AI28: 0.9 | AJ28: =SUM(AI28*30) -> 27 | AK28: 30 | AL28: FRAGNE Marcel | AM28: =AF29 -> 13 | AN28: =AG29 -> 13 | AO28: =AH29 -> 1 | AP28: =AI29 -> 0.9 | AQ28: =AJ29 -> 27 | AR28: =AK29 -> 30 | AT28: 333 | AU28: 323 | AV28: =SUM(AT28/AU28) -> 1.0309598 | AW28: 30.928793 | AX28: 30
A29: FRAGNE Marcel | B29: 2 | C29: 2 | F29: 2 | I29: 2 | K29: 0 | L29: 0 | N29: 0 | O29: 0 | P29: 3 | S29: 0 | V29: 2 | W29: 0 | Y29: 0 | AF29: =SUM(B29:AE29) -> 13 | AG29: 13 | AH29: =SUM(AF29/AG29) -> 1 | AI29: 0.9 | AJ29: =SUM(AI29*30) -> 27 | AK29: 30 | AL29: GELAS Michel | AM29: =AF30 -> 0 | AN29: =AG30 -> 0 | AO29: =AH30 -> #DIV/0! | AP29: =AI30 -> 0 | AQ29: =AJ30 -> 0 | AR29: =AK30 -> 30 | AT29: 0 | AU29: 0 | AV29: =SUM(AT29/AU29) -> #DIV/0! | AW29: #DIV/0! | AX29: 30
A30: GELAS Michel | AF30: =SUM(B30:AE30) -> 0 | AG30: 0 | AH30: =SUM(AF30/AG30) -> #DIV/0! | AI30: 0 | AJ30: =SUM(AI30*30) -> 0 | AK30: 30 | AL30: GHESMOUNE Yazid | AM30: =AF31 -> 0 | AN30: =AG31 -> 0 | AO30: =AH31 -> #DIV/0! | AP30: =AI31 -> 0 | AQ30: =AJ31 -> 0 | AR30: =AK31 -> 30 | AT30: 0 | AU30: 0 | AV30: =SUM(AT30/AU30) -> #DIV/0! | AW30: #DIV/0! | AX30: 30
A31: GHESMOUNE Yazid | AF31: =SUM(B31:AE31) -> 0 | AG31: 0 | AH31: =SUM(AF31/AG31) -> #DIV/0! | AI31: 0 | AJ31: =SUM(AI31*30) -> 0 | AK31: 30 | AL31: GRANGER Yves | AM31: =AF32 -> 6 | AN31: =AG32 -> 9 | AO31: =AH32 -> 0.66666667 | AP31: =AI32 -> 0.8 | AQ31: =AJ32 -> 24 | AR31: =AK32 -> 30 | AT31: 185 | AU31: 264 | AV31: =SUM(AT31/AU31) -> 0.70075758 | AW31: 21.022727 | AX31: 30
A32: GRANGER Yves | C32: 2 | I32: 0 | K32: 2 | M32: 0 | O32: 2 | P32: 0 | R32: 0 | Z32: 0 | AB32: 0 | AF32: =SUM(B32:AE32) -> 6 | AG32: 9 | AH32: =SUM(AF32/AG32) -> 0.66666667 | AI32: 0.8 | AJ32: =SUM(AI32*30) -> 24 | AK32: 30 | AL32: GRANGETTE Jean Pierre | AM32: =AF33 -> 43 | AN32: =AG33 -> 20 | AO32: =AH33 -> 2.15 | AP32: =AI33 -> 1.26 | AQ32: =AJ33 -> 37.8 | AR32: =AK33 -> 40 | AT32: 533 | AU32: 429 | AV32: =SUM(AT32/AU32) -> 1.2424242 | AW32: 37.272727 | AX32: 40
A33: GRANGETTE Jean Pierre | D33: 0 | E33: 3 | G33: 3 | H33: 0 | I33: 3 | J33: 2 | K33: 2 | N33: 3 | P33: 3 | R33: 2 | S33: 0 | U33: 3 | V33: 3 | W33: 3 | X33: 3 | Y33: 3 | Z33: 3 | AA33: 2 | AB33: 2 | AC33: 0 | AF33: =SUM(B33:AE33) -> 43 | AG33: 20 | AH33: =SUM(AF33/AG33) -> 2.15 | AI33: 1.26 | AJ33: =SUM(AI33*30) -> 37.8 | AK33: 40 | AL33: HAAS Dominique Mme | AM33: =AF34 -> 12 | AN33: =AG34 -> 13 | AO33: =AH34 -> 0.92307692 | AP33: =AI34 -> 1 | AQ33: =AJ34 -> 30 | AR33: =AK34 -> 30 | AT33: 269 | AU33: 326 | AV33: =SUM(AT33/AU33) -> 0.82515337 | AW33: 24.754601 | AX33: 30
A34: HAAS Dominique Mme | B34: 0 | C34: 0 | G34: 0 | H34: 2 | K34: 0 | Q34: 0 | T34: 2 | U34: 2 | V34: 2 | W34: 2 | Y34: 0 | Z34: 2 | AC34: 0 | AF34: =SUM(B34:AE34) -> 12 | AG34: 13 | AH34: =SUM(AF34/AG34) -> 0.92307692 | AI34: 1 | AJ34: =SUM(AI34*30) -> 30 | AK34: 30 | AL34: HABAUZIT Jacques | AM34: =AF35 -> 20 | AN34: =AG35 -> 12 | AO34: =AH35 -> 1.6666667 | AP34: =AI35 -> 1.2 | AQ34: =AJ35 -> 36 | AR34: =AK35 -> 35 | AT34: 332 | AU34: 307 | AV34: =SUM(AT34/AU34) -> 1.0814332 | AW34: 32.442997 | AX34: 30
A35: HABAUZIT Jacques | K35: 3 | L35: 2 | M35: 2 | O35: 3 | P35: 0 | Q35: 0 | R35: 2 | T35: 0 | V35: 0 | Z35: 2 | AA35: 3 | AB35: 3 | AF35: =SUM(B35:AE35) -> 20 | AG35: 12 | AH35: =SUM(AF35/AG35) -> 1.6666667 | AI35: 1.2 | AJ35: =SUM(AI35*30) -> 36 | AK35: 35 | AL35: HOSPITAL Georges | AM35: =AF36 -> 18 | AN35: =AG36 -> 16 | AO35: =AH36 -> 1.125 | AP35: =AI36 -> 1 | AQ35: =AJ36 -> 30 | AR35: =AK36 -> 30 | AT35: 342 | AU35: 408 | AV35: =SUM(AT35/AU35) -> 0.83823529 | AW35: 25.147059 | AX35: 30
A36: HOSPITAL Georges | B36: 0 | D36: 0 | F36: 3 | G36: 0 | J36: 2 | K36: 2 | L36: 0 | M36: 2 | N36: 0 | P36: 3 | Q36: 2 | R36: 0 | Y36: 0 | Z36: 0 | AA36: 2 | AC36: 2 | AF36: =SUM(B36:AE36) -> 18 | AG36: 16 | AH36: =SUM(AF36/AG36) -> 1.125 | AI36: 1 | AJ36: =SUM(AI36*30) -> 30 | AK36: 30 | AL36: JACQUEMOND Eric | AM36: =AF37 -> 18 | AN36: =AG37 -> 21 | AO36: =AH37 -> 0.85714286 | AP36: =AI37 -> 0.9 | AQ36: =AJ37 -> 27 | AR36: =AK37 -> 30 | AT36: 465 | AU36: 583 | AV36: =SUM(AT36/AU36) -> 0.79759863 | AW36: 23.927959 | AX36: 30
A37: JACQUEMOND Eric | B37: 2 | C37: 2 | D37: 2 | F37: 0 | G37: 2 | I37: 0 | J37: 0 | K37: 2 | L37: 0 | M37: 2 | N37: 0 | O37: 0 | P37: 2 | R37: 0 | T37: 2 | U37: 0 | V37: 0 | X37: 0 | Y37: 0 | AB37: 2 | AC37: 0 | AF37: =SUM(B37:AE37) -> 18 | AG37: 21 | AH37: =SUM(AF37/AG37) -> 0.85714286 | AI37: 0.9 | AJ37: =SUM(AI37*30) -> 27 | AK37: 30 | AL37: JULLIARD Alain | AM37: =AF38 -> 9 | AN37: =AG38 -> 10 | AO37: =AH38 -> 0.9 | AP37: =AI38 -> 0.9 | AQ37: =AJ38 -> 27 | AR37: =AK38 -> 30 | AT37: 192 | AU37: 242 | AV37: =SUM(AT37/AU37) -> 0.79338843 | AW37: 23.801653 | AX37: 30
A38: JULLIARD Alain | D38: 0 | E38: 0 | H38: 2 | O38: 3 | R38: 2 | S38: 0 | T38: 0 | V38: 2 | Z38: 0 | AB38: 0 | AF38: =SUM(B38:AE38) -> 9 | AG38: 10 | AH38: =SUM(AF38/AG38) -> 0.9 | AI38: 0.9 | AJ38: =SUM(AI38*30) -> 27 | AK38: 30 | AL38: JUQUEL Guy | AM38: =AF39 -> 15 | AN38: =AG39 -> 19 | AO38: =AH39 -> 0.78947368 | AP38: =AI39 -> 0.8 | AQ38: =AJ39 -> 24 | AR38: =AK39 -> 30 | AT38: 382 | AU38: 549 | AV38: =SUM(AT38/AU38) -> 0.69581056 | AW38: 20.874317 | AX38: 30
A39: JUQUEL Guy | B39: 0 | C39: 0 | D39: 0 | E39: 2 | F39: 0 | G39: 2 | H39: 0 | J39: 2 | M39: 0 | O39: 0 | S39: 0 | T39: 2 | U39: 0 | V39: 2 | W39: 0 | Y39: 3 | Z39: 0 | AB39: 2 | AC39: 0 | AF39: =SUM(B39:AE39) -> 15 | AG39: 19 | AH39: =SUM(AF39/AG39) -> 0.78947368 | AI39: 0.8 | AJ39: =SUM(AI39*30) -> 24 | AK39: 30 | AL39: LIBERCIER Jean | AM39: =AF40 -> 8 | AN39: =AG40 -> 4 | AO39: =AH40 -> 2 | AP39: =AI40 -> 1.26 | AQ39: =AJ40 -> 37.8 | AR39: =AK40 -> 40 | AT39: 132 | AU39: 126 | AV39: =SUM(AT39/AU39) -> 1.047619 | AW39: 31.428571 | AX39: 30
A40: LIBERCIER Jean | R40: 3 | U40: 3 | W40: 2 | X40: 0 | AF40: =SUM(B40:AE40) -> 8 | AG40: 4 | AH40: =SUM(AF40/AG40) -> 2 | AI40: 1.26 | AJ40: =SUM(AI40*30) -> 37.8 | AK40: 40 | AL40: MAGNOLON Yves | AM40: =AF41 -> 18 | AN40: =AG41 -> 10 | AO40: =AH41 -> 1.8 | AP40: =AI41 -> 1.2 | AQ40: =AJ41 -> 36 | AR40: =AK41 -> 35 | AT40: 250 | AU40: 280 | AV40: =SUM(AT40/AU40) -> 0.89285714 | AW40: 26.785714 | AX40: 30
A41: MAGNOLON Yves | C41: 2 | E41: 2 | F41: 0 | L41: 2 | M41: 0 | X41: 2 | Y41: 3 | Z41: 2 | AA41: 2 | AB41: 3 | AF41: =SUM(B41:AE41) -> 18 | AG41: 10 | AH41: =SUM(AF41/AG41) -> 1.8 | AI41: 1.2 | AJ41: =SUM(AI41*30) -> 36 | AK41: 35 | AL41: MANCA Alain | AM41: =AF42 -> 13 | AN41: =AG42 -> 13 | AO41: =AH42 -> 1 | AP41: =AI42 -> 0 | AQ41: =AJ42 -> 0 | AR41: =AK42 -> 30 | AT41: 290 | AU41: 378 | AV41: =SUM(AT41/AU41) -> 0.76719577 | AW41: 23.015873 | AX41: 30
A42: MANCA Alain | B42: 0 | E42: 2 | H42: 0 | I42: 0 | L42: 0 | P42: 2 | R42: 0 | S42: 2 | T42: 3 | W42: 0 | X42: 2 | Y42: 2 | Z42: 0 | AF42: =SUM(B42:AE42) -> 13 | AG42: 13 | AH42: =SUM(AF42/AG42) -> 1 | AI42: 0 | AJ42: =SUM(AI42*30) -> 0 | AK42: 30 | AL42: MARECHAL JACQUES | AM42: =AF43 -> 12 | AN42: =AG43 -> 5 | AO42: =AH43 -> 2.4 | AP42: =AI43 -> 1.26 | AQ42: =AJ43 -> 37.8 | AR42: =AK43 -> 40 | AT42: 139 | AU42: 89 | AV42: =SUM(AT42/AU42) -> 1.5617978 | AW42: 46.853933 | AX42: 50
A43: MARECHAL JACQUES | F43: 3 | M43: 3 | S43: 0 | X43: 3 | AA43: 3 | AF43: =SUM(B43:AE43) -> 12 | AG43: 5 | AH43: =SUM(AF43/AG43) -> 2.4 | AI43: 1.26 | AJ43: =SUM(AI43*30) -> 37.8 | AK43: 40 | AL43: MOREL Maurice | AM43: =AF44 -> 20 | AN43: =AG44 -> 14 | AO43: =AH44 -> 1.4285714 | AP43: =AI44 -> 1.1 | AQ43: =AJ44 -> 33 | AR43: =AK44 -> 35 | AT43: 342 | AU43: 371 | AV43: =SUM(AT43/AU43) -> 0.92183288 | AW43: 27.654987 | AX43: 30
A44: MOREL Maurice | B44: 0 | G44: 2 | H44: 3 | I44: 2 | K44: 0 | N44: 2 | O44: 3 | P44: 0 | Q44: 0 | S44: 3 | T44: 0 | X44: 3 | Z44: 2 | AB44: 0 | AF44: =SUM(B44:AE44) -> 20 | AG44: 14 | AH44: =SUM(AF44/AG44) -> 1.4285714 | AI44: 1.1 | AJ44: =SUM(AI44*30) -> 33 | AK44: 35 | AL44: MORLIN Guy | AM44: =AF45 -> 12 | AN44: =AG45 -> 10 | AO44: =AH45 -> 1.2 | AP44: =AI45 -> 1 | AQ44: =AJ45 -> 30 | AR44: =AK45 -> 30 | AT44: 247 | AU44: 265 | AV44: =SUM(AT44/AU44) -> 0.93207547 | AW44: 27.962264 | AX44: 30
A45: MORLIN Guy | D45: 0 | E45: 2 | G45: 2 | I45: 2 | L45: 2 | O45: 0 | U45: 0 | W45: 2 | Y45: 2 | Z45: 0 | AF45: =SUM(B45:AE45) -> 12 | AG45: 10 | AH45: =SUM(AF45/AG45) -> 1.2 | AI45: 1 | AJ45: =SUM(AI45*30) -> 30 | AK45: 30 | AL45: PASSEREL Lionnel | AM45: =AF46 -> 31 | AN45: =AG46 -> 20 | AO45: =AH46 -> 1.55 | AP45: =AI46 -> 1.1 | AQ45: =AJ46 -> 33 | AR45: =AK46 -> 35 | AT45: 493 | AU45: 482 | AV45: =SUM(AT45/AU45) -> 1.0228216 | AW45: 30.684647 | AX45: 30
A46: PASSEREL Lionnel | B46: 3 | C46: 2 | E46: 2 | F46: 2 | G46: 2 | H46: 2 | I46: 0 | K46: 0 | L46: 3 | M46: 2 | O46: 3 | Q46: 2 | R46: 0 | T46: 0 | U46: 3 | W46: 2 | X46: 0 | Y46: 0 | Z46: 0 | AC46: 3 | AF46: =SUM(B46:AE46) -> 31 | AG46: 20 | AH46: =SUM(AF46/AG46) -> 1.55 | AI46: 1.1 | AJ46: =SUM(AI46*30) -> 33 | AK46: 35 | AL46: PIECUCH Stanislas | AM46: =AF47 -> 2 | AN46: =AG47 -> 5 | AO46: =AH47 -> 0.4 | AP46: =AI47 -> 0.8 | AQ46: =AJ47 -> 24 | AR46: =AK47 -> 30 | AT46: 61 | AU46: 120 | AV46: =SUM(AT46/AU46) -> 0.50833333 | AW46: 15.25 | AX46: 30
A47: PIECUCH Stanislas | D47: 0 | I47: 0 | S47: 0 | U47: 2 | AC47: 0 | AF47: =SUM(B47:AE47) -> 2 | AG47: 5 | AH47: =SUM(AF47/AG47) -> 0.4 | AI47: 0.8 | AJ47: =SUM(AI47*30) -> 24 | AK47: 30 | AL47: PLOTTON André | AM47: =AF48 -> 15 | AN47: =AG48 -> 16 | AO47: =AH48 -> 0.9375 | AP47: =AI48 -> 0.9 | AQ47: =AJ48 -> 27 | AR47: =AK48 -> 30 | AT47: 298 | AU47: 402 | AV47: =SUM(AT47/AU47) -> 0.74129353 | AW47: 22.238806 | AX47: 30
A48: PLOTTON André | D48: 0 | F48: 0 | H48: 0 | J48: 0 | K48: 0 | L48: 0 | N48: 0 | P48: 2 | Q48: 1 | R48: 2 | S48: 2 | U48: 2 | V48: 0 | W48: 2 | Y48: 2 | AC48: 2 | AF48: =SUM(B48:AE48) -> 15 | AG48: 16 | AH48: =SUM(AF48/AG48) -> 0.9375 | AI48: 0.9 | AJ48: =SUM(AI48*30) -> 27 | AK48: 30 | AL48: PORTES BERNARD | AM48: =AF49 -> 6 | AN48: =AG49 -> 6 | AO48: =AH49 -> 1 | AP48: =AI49 -> 0.9 | AQ48: =AJ49 -> 27 | AR48: =AK49 -> 30 | AT48: 117 | AU48: 176 | AV48: =SUM(AT48/AU48) -> 0.66477273 | AW48: 19.943182 | AX48: 30
A49: PORTES BERNARD | F49: 2 | H49: 0 | N49: 0 | P49: 0 | W49: 2 | Y49: 2 | AF49: =SUM(B49:AE49) -> 6 | AG49: 6 | AH49: =SUM(AF49/AG49) -> 1 | AI49: 0.9 | AJ49: =SUM(AI49*30) -> 27 | AK49: 30 | AL49: RAMBAUX Philippe | AM49: =AF50 -> 6 | AN49: =AG50 -> 10 | AO49: =AH50 -> 0.6 | AP49: =AI50 -> 0.8 | AQ49: =AJ50 -> 24 | AR49: =AK50 -> 30 | AT49: 177 | AU49: 261 | AV49: =SUM(AT49/AU49) -> 0.67816092 | AW49: 20.344828 | AX49: 30
A50: RAMBAUX Philippe | B50: 0 | F50: 2 | J50: 0 | L50: 0 | O50: 0 | S50: 2 | U50: 0 | V50: 0 | X50: 0 | Y50: 2 | AF50: =SUM(B50:AE50) -> 6 | AG50: 10 | AH50: =SUM(AF50/AG50) -> 0.6 | AI50: 0.8 | AJ50: =SUM(AI50*30) -> 24 | AK50: 30 | AL50: REYNAUD Serge | AM50: =AF51 -> 3 | AN50: =AG51 -> 9 | AO50: =AH51 -> 0.33333333 | AP50: =AI51 -> 0.8 | AQ50: =AJ51 -> 24 | AR50: =AK51 -> 30 | AT50: 147 | AU50: 232 | AV50: =SUM(AT50/AU50) -> 0.63362069 | AW50: 19.008621 | AX50: 30
A51: REYNAUD Serge | B51: 0 | F51: 0 | K51: 0 | M51: 0 | P51: 0 | U51: 3 | V51: 0 | Z51: 0 | AB51: 0 | AF51: =SUM(B51:AE51) -> 3 | AG51: 9 | AH51: =SUM(AF51/AG51) -> 0.33333333 | AI51: 0.8 | AJ51: =SUM(AI51*30) -> 24 | AK51: 30 | AL51: RIOUX Henri | AM51: =AF52 -> 0 | AN51: =AG52 -> 3 | AO51: =AH52 -> 0 | AP51: =AI52 -> 1 | AQ51: =AJ52 -> 30 | AR51: =AK52 -> 30 | AT51: 39 | AU51: 83 | AV51: =SUM(AT51/AU51) -> 0.46987952 | AW51: 14.096386 | AX51: 30
A52: RIOUX Henri | K52: 0 | Y52: 0 | Z52: 0 | AF52: =SUM(B52:AE52) -> 0 | AG52: 3 | AH52: =SUM(AF52/AG52) -> 0 | AI52: 1 | AJ52: =SUM(AI52*30) -> 30 | AK52: 30 | AL52: ROUSSET Stéphane | AM52: =AF53 -> 0 | AN52: =AG53 -> 0 | AO52: =AH53 -> #DIV/0! | AP52: =AI53 -> 0 | AQ52: =AJ53 -> 0 | AR52: =AK53 -> 30 | AT52: 0 | AU52: 0 | AV52: =SUM(AT52/AU52) -> #DIV/0! | AW52: #DIV/0! | AX52: 30
A53: ROUSSET Stéphane | AF53: =SUM(B53:AE53) -> 0 | AG53: 0 | AH53: =SUM(AF53/AG53) -> #DIV/0! | AI53: 0 | AJ53: =SUM(AI53*30) -> 0 | AK53: 30 | AL53: SINARDET Gérard | AM53: =AF54 -> 0 | AN53: =AG54 -> 2 | AO53: =AH54 -> 0 | AP53: =AI54 -> 1 | AQ53: =AJ54 -> 30 | AR53: =AK54 -> 30 | AT53: 56 | AU53: 55 | AV53: =SUM(AT53/AU53) -> 1.0181818 | AW53: 30.545455 | AX53: 30
A54: SINARDET Gérard | G54: 0 | Q54: 0 | AF54: =SUM(B54:AE54) -> 0 | AG54: 2 | AH54: =SUM(AF54/AG54) -> 0 | AI54: 1 | AJ54: =SUM(AI54*30) -> 30 | AK54: 30 | AL54: SOLLE Albert | AM54: =AF55 -> 2 | AN54: =AG55 -> 4 | AO54: =AH55 -> 0.5 | AP54: =AI55 -> 0.8 | AQ54: =AJ55 -> 24 | AR54: =AK55 -> 0 | AT54: 80 | AU54: 118 | AV54: =SUM(AT54/AU54) -> 0.6779661 | AW54: 20.338983 | AX54: 30
A55: SOLLE Albert | D55: 2 | E55: 0 | R55: 0 | AA55: 0 | AF55: =SUM(B55:AE55) -> 2 | AG55: 4 | AH55: =SUM(AF55/AG55) -> 0.5 | AI55: 0.8 | AJ55: =SUM(AI55*30) -> 24 | AL55: STEFANYSZYN André | AM55: =AF56 -> 38 | AN55: =AG56 -> 21 | AO55: =AH56 -> 1.8095238 | AP55: =AI56 -> 1.26 | AQ55: =AJ56 -> 37.8 | AR55: =AK56 -> 40 | AT55: 564 | AU55: 538 | AV55: =SUM(AT55/AU55) -> 1.0483271 | AW55: 31.449814 | AX55: 30
A56: STEFANYSZYN André | B56: 3 | E56: 2 | F56: 2 | G56: 0 | H56: 3 | I56: 2 | J56: 2 | K56: 0 | L56: 2 | M56: 2 | N56: 3 | O56: 3 | P56: 3 | Q56: 2 | T56: 0 | V56: 3 | W56: 0 | Y56: 2 | Z56: 2 | AA56: 2 | AC56: 0 | AF56: =SUM(B56:AE56) -> 38 | AG56: 21 | AH56: =SUM(AF56/AG56) -> 1.8095238 | AI56: 1.26 | AJ56: =SUM(AI56*30) -> 37.8 | AK56: 40 | AL56: SURY GABRIEL | AM56: =AF57 -> 23 | AN56: =AG57 -> 13 | AO56: =AH57 -> 1.7692308 | AP56: =AI57 -> 1.2 | AQ56: =AJ57 -> 36 | AR56: =AK57 -> 35 | AT56: 343 | AU56: 288 | AV56: =SUM(AT56/AU56) -> 1.1909722 | AW56: 35.729167 | AX56: 40
A57: SURY GABRIEL | C57: 3 | E57: 0 | G57: 0 | J57: 2 | L57: 3 | M57: 0 | N57: 0 | O57: 2 | T57: 3 | V57: 3 | W57: 2 | Z57: 3 | AC57: 2 | AF57: =SUM(B57:AE57) -> 23 | AG57: 13 | AH57: =SUM(AF57/AG57) -> 1.7692308 | AI57: 1.2 | AJ57: =SUM(AI57*30) -> 36 | AK57: 35 | AL57: VACHER Jean Claude | AM57: =AF58 -> 6 | AN57: =AG58 -> 7 | AO57: =AH58 -> 0.85714286 | AP57: =AI58 -> 0.8 | AQ57: =AJ58 -> 24 | AR57: =AK58 -> 30 | AT57: 119 | AU57: 182 | AV57: =SUM(AT57/AU57) -> 0.65384615 | AW57: 19.615385 | AX57: 30
A58: VACHER Jean Claude | E58: 0 | H58: 0 | I58: 0 | P58: 2 | R58: 2 | T58: 0 | X58: 2 | AF58: =SUM(B58:AE58) -> 6 | AG58: 7 | AH58: =SUM(AF58/AG58) -> 0.85714286 | AI58: 0.8 | AJ58: =SUM(AI58*30) -> 24 | AK58: 30 | AL58: VALENZANO Dominique | AM58: =AF59 -> 27 | AN58: =AG59 -> 18 | AO58: =AH59 -> 1.5 | AP58: =AI59 -> 1.1 | AQ58: =AJ59 -> 33 | AR58: =AK59 -> 35 | AT58: 388 | AU58: 454 | AV58: =SUM(AT58/AU58) -> 0.85462555 | AW58: 25.638767 | AX58: 30
A59: VALENZANO Dominique | C59: 3 | E59: 0 | G59: 2 | H59: 2 | J59: 2 | L59: 0 | N59: 3 | O59: 0 | P59: 0 | R59: 0 | T59: 1 | U59: 2 | V59: 2 | W59: 3 | Y59: 2 | AA59: 2 | AB59: 3 | AC59: 0 | AF59: =SUM(B59:AE59) -> 27 | AG59: 18 | AH59: =SUM(AF59/AG59) -> 1.5 | AI59: 1.1 | AJ59: =SUM(AI59*30) -> 33 | AK59: 35 | AL59: VALSIMBERT Bruno | AM59: =AF60 -> 0 | AN59: =AG60 -> 0 | AO59: =AH60 -> #DIV/0! | AP59: =AI60 -> 0 | AQ59: =AJ60 -> 0 | AR59: =AK60 -> 30 | AT59: 0 | AU59: 0 | AV59: =SUM(AT59/AU59) -> #DIV/0! | AW59: #DIV/0! | AX59: 30
A60: VALSIMBERT Bruno | AF60: =SUM(B60:AE60) -> 0 | AG60: 0 | AH60: =SUM(AF60/AG60) -> #DIV/0! | AI60: 0 | AJ60: =SUM(AI60*30) -> 0 | AK60: 30 | AL60: VERICEL Bruno | AM60: =AF61 -> 8 | AN60: =AG61 -> 3 | AO60: =AH61 -> 2.6666667 | AP60: =AI61 -> 1.26 | AQ60: =AJ61 -> 37.8 | AR60: =AK61 -> 40 | AT60: 88 | AU60: 81 | AV60: =SUM(AT60/AU60) -> 1.0864198 | AW60: 32.592593 | AX60: 35
A61: VERICEL Bruno | N61: 2 | P61: 3 | X61: 3 | AF61: =SUM(B61:AE61) -> 8 | AG61: 3 | AH61: =SUM(AF61/AG61) -> 2.6666667 | AI61: 1.26 | AJ61: =SUM(AI61*30) -> 37.8 | AK61: 40 | AL61: VIALLE Max | AM61: =AF62 -> 8 | AN61: =AG62 -> 10 | AO61: =AH62 -> 0.8 | AP61: =AI62 -> 0.9 | AQ61: =AJ62 -> 27 | AR61: =AK62 -> 30 | AT61: 210 | AU61: 277 | AV61: =SUM(AT61/AU61) -> 0.75812274 | AW61: 22.743682 | AX61: 30
A62: VIALLE Max | C62: 0 | F62: 1 | K62: 2 | L62: 0 | O62: 2 | P62: 0 | S62: 3 | U62: 0 | X62: 0 | Z62: 0 | AF62: =SUM(B62:AE62) -> 8 | AG62: 10 | AH62: =SUM(AF62/AG62) -> 0.8 | AI62: 0.9 | AJ62: =SUM(AI62*30) -> 27 | AK62: 30 | AL62: DEFOUR Jean Claude | AM62: =AF63 -> 0 | AN62: =AG63 -> 1 | AO62: =AH63 -> 0 | AP62: =AI63 -> 1 | AQ62: =AJ63 -> 30 | AR62: =AK63 -> 30 | AT62: 9 | AU62: 22 | AV62: =SUM(AT62/AU62) -> 0.40909091 | AW62: 12.272727 | AX62: 30
A63: DEFOUR Jean Claude | R63: 0 | AF63: =SUM(B63:AE63) -> 0 | AG63: 1 | AH63: =SUM(AF63/AG63) -> 0 | AI63: 1 | AJ63: =SUM(AI63*30) -> 30 | AK63: 30 | AL63: VINO Gérard | AM63: =AF64 -> 9 | AN63: =AG64 -> 12 | AO63: =AH64 -> 0.75 | AP63: =AI64 -> 0.9 | AQ63: =AJ64 -> 27 | AR63: =AK64 -> 30 | AT63: 249 | AU63: 318 | AV63: =SUM(AT63/AU63) -> 0.78301887 | AW63: 23.490566 | AX63: 30
A64: VINO Gérard | G64: 0 | J64: 0 | L64: 0 | O64: 0 | Q64: 0 | V64: 2 | W64: 2 | X64: 0 | Y64: 0 | Z64: 2 | AA64: 0 | AB64: 3 | AF64: =SUM(B64:AE64) -> 9 | AG64: 12 | AH64: =SUM(AF64/AG64) -> 0.75 | AI64: 0.9 | AJ64: =SUM(AI64*30) -> 27 | AK64: 30 | AL64: GENEVRIER Daniel | AM64: =AF65 -> 4 | AN64: =AG65 -> 7 | AO64: =AH65 -> 0.57142857 | AP64: =AI65 -> 0.8 | AQ64: =AJ65 -> 24 | AR64: =AK65 -> 30 | AT64: 93 | AU64: 199 | AV64: =SUM(AT64/AU64) -> 0.46733668 | AW64: 14.020101 | AX64: 30
A65: GENEVRIER Daniel | N65: 0 | O65: 0 | Q65: 2 | S65: 0 | U65: 0 | W65: 2 | Y65: 0 | AF65: =SUM(B65:AE65) -> 4 | AG65: 7 | AH65: =SUM(AF65/AG65) -> 0.57142857 | AI65: 0.8 | AJ65: =SUM(AI65*30) -> 24 | AK65: 30 | AL65: DUBOUCHET Christien | AM65: =AF66 -> 0 | AN65: =AG66 -> 1 | AO65: =AH66 -> 0 | AP65: =AI66 -> 1 | AQ65: =AJ66 -> 30 | AR65: =AK66 -> 30 | AT65: 12 | AU65: 30 | AV65: =SUM(AT65/AU65) -> 0.4 | AW65: 12 | AX65: 30
A66: DUBOUCHET Christien | N66: 0 | AF66: =SUM(B66:AE66) -> 0 | AG66: 1 | AH66: =SUM(AF66/AG66) -> 0 | AI66: 1 | AJ66: =SUM(AI66*30) -> 30 | AK66: 30 | AL66: LAYES Jean Luc | AM66: =AF67 -> 12 | AN66: =AG67 -> 5 | AO66: =AH67 -> 2.4 | AP66: =AI67 -> 1.26 | AQ66: =AJ67 -> 37.8 | AR66: =AK67 -> 40 | AT66: 116 | AU66: 74 | AV66: =SUM(AT66/AU66) -> 1.5675676 | AW66: ='[1]30'!$AI$203 -> 46.595745 | AX66: 50
A67: LAYES Jean Luc | W67: 3 | X67: 0 | Z67: 3 | AA67: 3 | AB67: 3 | AF67: =SUM(B67:AE67) -> 12 | AG67: 5 | AH67: =SUM(AF67/AG67) -> 2.4 | AI67: 1.26 | AJ67: =SUM(AI67*30) -> 37.8 | AK67: 40 | AL67: KASTLER Ptrick | AM67: =AF68 -> 0 | AN67: =AG68 -> 0 | AO67: =AH68 -> #DIV/0! | AP67: =AI68 -> 0 | AQ67: =AJ68 -> 0 | AR67: =AK68 -> 30 | AT67: 0 | AU67: 0 | AV67: =SUM(AT67/AU67) -> #DIV/0! | AW67: #DIV/0! | AX67: 30
A68: KASTLER Ptrick | AF68: =SUM(B68:AE68) -> 0 | AG68: 0 | AH68: =SUM(AF68/AG68) -> #DIV/0! | AI68: 0 | AJ68: =SUM(AI68*30) -> 0 | AK68: 30

Sheet 35
B1: 1 | C1: 2 | D1: 3 | E1: 4 | F1: 5 | G1: 6 | H1: 7 | I1: 8 | J1: 9 | K1: 10 | L1: 11 | M1: 12 | N1: 13 | O1: 14 | P1: 15 | Q1: 16 | R1: 17 | S1: 18 | T1: 19 | U1: 20 | V1: 21 | W1: 22 | X1: 23 | Y1: 24 | Z1: 25 | AA1: 26 | AB1: 27 | AC1: 28 | AD1: 29 | AE1: 30 | AM1: N.Pts | AN1: N. M. | AO1: M.P/M | AP1: Coef. | AQ1: Cont. | AR1: Cont. 17 18 | AT1: N. Pts | AU1: N. Rep. | AV1: M.G. | AW1: M.G. x30 | AX1: 17/18
A2: BALEYDIER Henri | B2: 3 | C2: 3 | D2: 2 | F2: 3 | G2: 0 | H2: 2 | I2: 2 | J2: 3 | L2: 3 | M2: 3 | P2: 0 | Q2: 0 | S2: 2 | V2: 3 | Y2: 0 | AA2: 2 | AB2: 2 | AC2: 3 | AF2: =SUM(B2:AE2) -> 36 | AG2: 18 | AH2: =SUM(AF2/AG2) -> 2 | AI2: 1.26 | AJ2: =SUM(35*AI2) -> 44.1 | AK2: 45 | AL2: BALEYDIER Henri | AM2: =AF2 -> 36 | AN2: =AG2 -> 18 | AO2: =AH2 -> 2 | AP2: =AI2 -> 1.26 | AQ2: =AJ2 -> 44.1 | AR2: =AK2 -> 45 | AT2: ='[1]35'!$AG$34 -> 598
A3: BAYLE Claude | E3: 0 | O3: 1 | Z3: 2 | AF3: =SUM(B3:AE3) -> 3 | AG3: 3 | AH3: =SUM(AF3/AG3) -> 1 | AI3: 0 | AJ3: =SUM(35*AI3) -> 0 | AL3: BAYLE Claude | AM3: =AF3 -> 3 | AN3: =AG3 -> 3 | AO3: =AH3 -> 1 | AP3: =AI3 -> 0 | AQ3: =AJ3 -> 0 | AR3: =AK3 -> 0 | AT3: ='[1]35'!$AG$34 -> 598
A4: DANIS Marie Eve | D4: 0 | E4: 2 | U4: 2 | AF4: =SUM(B4:AE4) -> 4 | AG4: 3 | AH4: =SUM(AF4/AG4) -> 1.3333333 | AI4: 0 | AJ4: =SUM(35*AI4) -> 0 | AL4: DANIS Marie Eve | AM4: =AF4 -> 4 | AN4: =AG4 -> 3 | AO4: =AH4 -> 1.3333333 | AP4: =AI4 -> 0 | AQ4: =AJ4 -> 0 | AR4: =AK4 -> 0 | AT4: ='[1]35'!$AG$34 -> 598
A5: DREVET Jean Claude | AF5: =SUM(B5:AE5) -> 0 | AG5: 0 | AH5: =SUM(AF5/AG5) -> #DIV/0! | AJ5: =SUM(35*AI5) -> 0 | AL5: DREVET Jean Claude | AM5: =AF5 -> 0 | AN5: =AG5 -> 0 | AO5: =AH5 -> #DIV/0! | AP5: =AI5 -> 0 | AQ5: =AJ5 -> 0 | AR5: =AK5 -> 0
A6: FAYARD Marcel | B6: 2 | E6: 0 | J6: 0 | K6: 3 | N6: 2 | T6: 0 | U6: 0 | W6: 3 | Y6: 0 | Z6: 3 | AF6: =SUM(B6:AE6) -> 13 | AG6: 10 | AH6: =SUM(AF6/AG6) -> 1.3 | AI6: 0 | AJ6: =SUM(35*AI6) -> 0 | AL6: FAYARD Marcel | AM6: =AF6 -> 13 | AN6: =AG6 -> 10 | AO6: =AH6 -> 1.3 | AP6: =AI6 -> 0 | AQ6: =AJ6 -> 0 | AR6: =AK6 -> 0
A7: GATHION René | C7: 0 | E7: 0 | F7: 2 | H7: 0 | K7: 2 | M7: 0 | AF7: =SUM(B7:AE7) -> 4 | AG7: 6 | AH7: =SUM(AF7/AG7) -> 0.66666667 | AI7: 0.8 | AJ7: =SUM(35*AI7) -> 28 | AL7: GATHION René | AM7: =AF7 -> 4 | AN7: =AG7 -> 6 | AO7: =AH7 -> 0.66666667 | AP7: =AI7 -> 0.8 | AQ7: =AJ7 -> 28 | AR7: =AK7 -> 0
A8: GIRAUD Guy | C8: 0 | I8: 0 | M8: 2 | P8: 0 | AF8: =SUM(B8:AE8) -> 2 | AG8: 4 | AH8: =SUM(AF8/AG8) -> 0.5 | AI8: 0.8 | AJ8: =SUM(35*AI8) -> 28 | AL8: GIRAUD Guy | AM8: =AF8 -> 2 | AN8: =AG8 -> 4 | AO8: =AH8 -> 0.5 | AP8: =AI8 -> 0.8 | AQ8: =AJ8 -> 28 | AR8: =AK8 -> 0
A9: GOUJON Vincent | B9: 3 | C9: 2 | D9: 0 | E9: 0 | F9: 3 | G9: 3 | H9: 0 | I9: 3 | J9: 3 | K9: 3 | L9: 0 | M9: 0 | N9: 3 | O9: 3 | P9: 2 | Q9: 0 | R9: 3 | S9: 3 | T9: 3 | U9: 3 | V9: 0 | W9: 3 | X9: 2 | Y9: 0 | Z9: 2 | AA9: 0 | AB9: 3 | AC9: 3 | AD9: 2 | AE9: 3 | AF9: =AF15+60 -> 68 | AG9: =AG15+31 -> 34 | AH9: =SUM(AF9/AG9) -> 2 | AI9: 1.26 | AJ9: =SUM(35*AI9) -> 44.1 | AK9: 45 | AL9: GOUJON Vincent | AM9: =AF9+AF15 -> 76 | AN9: =AG9+AG15 -> 37 | AO9: =AH9 -> 2 | AP9: =AI9 -> 1.26 | AQ9: =AJ9 -> 44.1 | AR9: =AK9 -> 45
A10: MONTAGNON Daniel | B10: 3 | E10: 0 | F10: 2 | K10: 0 | M10: 3 | O10: 2 | P10: 0 | R10: 0 | T10: 0 | V10: 2 | Z10: 2 | AA10: 3 | AC10: 0 | AF10: =SUM(B10:AE10) -> 17 | AG10: 13 | AH10: =SUM(AF10/AG10) -> 1.3076923 | AI10: 1.1 | AJ10: =SUM(35*AI10) -> 38.5 | AK10: 40 | AL10: MONTAGNON Daniel | AM10: =AF10 -> 17 | AN10: =AG10 -> 13 | AO10: =AH10 -> 1.3076923 | AP10: =AI10 -> 1.1 | AQ10: =AJ10 -> 38.5 | AR10: =AK10 -> 40
A11: PREHER Yves | B11: 0 | D11: 3 | E11: 3 | I11: 2 | J11: 0 | K11: 3 | L11: 0 | N11: 2 | O11: 3 | Q11: 2 | R11: 0 | S11: 0 | T11: 2 | U11: 0 | V11: 3 | X11: 0 | Z11: 0 | AA11: 0 | AC11: 2 | AF11: =SUM(B11:AE11) -> 25 | AG11: 19 | AH11: =SUM(AF11/AG11) -> 1.3157895 | AI11: 0 | AJ11: =SUM(35*AI11) -> 0 | AL11: PREHER Yves | AM11: =AF11 -> 25 | AN11: =AG11 -> 19 | AO11: =AH11 -> 1.3157895 | AP11: =AI11 -> 0 | AQ11: =AJ11 -> 0 | AR11: =AK11 -> 0
A12: TEYSSIER Maurice | B12: 3 | D12: 3 | F12: 3 | G12: 2 | H12: 2 | J12: 2 | K12: 2 | M12: 3 | N12: 3 | O12: 3 | P12: 2 | R12: 2 | V12: 2 | W12: 0 | X12: 3 | Z12: 3 | AB12: 0 | AC12: 3 | AF12: =SUM(B12:AE12) -> 41 | AG12: 18 | AH12: =SUM(AF12/AG12) -> 2.2777778 | AI12: 1.26 | AJ12: =SUM(35*AI12) -> 44.1 | AK12: 45 | AL12: TEYSSIER Maurice | AM12: =AF12 -> 41 | AN12: =AG12 -> 18 | AO12: =AH12 -> 2.2777778 | AP12: =AI12 -> 1.26 | AQ12: =AJ12 -> 44.1 | AR12: =AK12 -> 45
A13: VALLAT Laurent | C13: 0 | D13: 2 | E13: 3 | H13: 0 | J13: 0 | L13: 3 | O13: 2 | R13: 3 | S13: 2 | Y13: 0 | AF13: =SUM(B13:AE13) -> 15 | AG13: 10 | AH13: =SUM(AF13/AG13) -> 1.5 | AI13: 1.1 | AJ13: =SUM(35*AI13) -> 38.5 | AK13: 40 | AL13: VALLAT Laurent | AM13: =AF13 -> 15 | AN13: =AG13 -> 10 | AO13: =AH13 -> 1.5 | AP13: =AI13 -> 1.1 | AQ13: =AJ13 -> 38.5 | AR13: =AK13 -> 40
A14: VIELRECOBRE Dominique | B14: 0 | C14: 0 | H14: 3 | K14: 3 | M14: 0 | P14: 2 | X14: 0 | AF14: =SUM(B14:AE14) -> 8 | AG14: 7 | AH14: =SUM(AF14/AG14) -> 1.1428571 | AI14: 0 | AJ14: =SUM(35*AI14) -> 0 | AL14: VIELRECOBRE Dominique | AM14: =AF14 -> 8 | AN14: =AG14 -> 7 | AO14: =AH14 -> 1.1428571 | AP14: =AI14 -> 0 | AQ14: =AJ14 -> 0 | AR14: =AK14 -> 0
A15: GOUJON Vincent | AA15: 3 | AB15: 3 | AC15: 2 | AF15: =SUM(B15:AE15) -> 8 | AG15: 3 | AN15: =AG15 -> 3 | AO15: =AH15 -> 0

Sheet 40
B1: 1 | C1: 2 | D1: 3 | E1: 4 | F1: 5 | G1: 6 | H1: 7 | I1: 8 | J1: 9 | K1: 10 | L1: 11 | M1: 12 | N1: 13 | O1: 14 | P1: 15 | Q1: 16 | R1: 17 | S1: 18 | T1: 19 | U1: 20 | V1: 21 | W1: 22 | X1: 23 | Y1: 24 | Z1: 25 | AA1: 26 | AB1: 27 | AC1: 28 | AD1: 29 | AE1: 30
A2: BANIER Jean Paul | AF2: =SUM(B2:AE2) -> 0 | AG2: 0 | AH2: =SUM(AF2/AG2) -> #DIV/0! | AI2: =SUM(AH2*40) -> #DIV/0!
A3: FAYOLLE Pierre | H3: 0 | K3: 0 | W3: 0 | AF3: =SUM(B3:AE3) -> 0 | AG3: 3 | AH3: =SUM(AF3/AG3) -> 0 | AI3: =SUM(AH3*40) -> 0
A4: FRANCON Jean Louis | C4: 3 | D4: 2 | H4: 0 | I4: 2 | K4: 2 | L4: 1 | M4: 0 | N4: 2 | O4: 2 | Q4: 0 | S4: 0 | U4: 2 | W4: 0 | X4: 3 | Y4: 2 | Z4: 2 | AA4: 0 | AC4: 0 | AF4: =SUM(B4:AE4) -> 23 | AG4: 18 | AH4: =SUM(AF4/AG4) -> 1.2777778 | AI4: =SUM(AH4*40) -> 51.111111 | AJ4: 55
A5: BERNARD ALAIN | E5: 0 | I5: 3 | K5: 2 | N5: 2 | O5: 0 | R5: 0 | T5: 0 | V5: 2 | AB5: 0 | AC5: 2 | AF5: =SUM(B5:AE5) -> 11 | AG5: 10 | AH5: =SUM(AF5/AG5) -> 1.1 | AI5: =SUM(AH5*40) -> 44
A6: RIFELDE Robert | B6: 0 | G6: 0 | J6: 2 | M6: 0 | O6: 3 | W6: 2 | X6: 0 | Y6: 0 | Z6: 0 | AA6: 0 | AF6: =SUM(B6:AE6) -> 7 | AG6: 10 | AH6: =SUM(AF6/AG6) -> 0.7 | AI6: =SUM(AH6*40) -> 28
A7: SINARDET Patrick | B7: 2 | E7: 0 | F7: 2 | I7: 0 | J7: 0 | K7: 0 | M7: 0 | N7: 0 | P7: 3 | R7: 0 | U7: 3 | V7: 0 | X7: 0 | Z7: 3 | AA7: 2 | AB7: 0 | AC7: 2 | AF7: =SUM(B7:AE7) -> 17 | AG7: 17 | AH7: =SUM(AF7/AG7) -> 1 | AI7: =SUM(AH7*40) -> 40
A8: TRAN Charly | X8: 2 | AA8: 0 | AF8: =SUM(B8:AE8) -> 2 | AG8: 2 | AH8: =SUM(AF8/AG8) -> 1 | AI8: =SUM(AH8*40) -> 40
A9: MIRAMAND Michel | C9: 0 | E9: 0 | I9: 0 | L9: 0 | M9: 0 | O9: 2 | P9: 0 | Q9: 2 | R9: 3 | S9: 0 | T9: 2 | U9: 2 | W9: 0 | AA9: 2 | AB9: 2 | AF9: =SUM(B9:AE9) -> 15 | AG9: 15 | AH9: =SUM(AF9/AG9) -> 1 | AI9: =SUM(AH9*40) -> 40
A10: REY Laurent | O10: 2 | P10: 0 | R10: 2 | S10: 0 | V10: 0 | AF10: =SUM(B10:AE10) -> 4 | AG10: 5 | AH10: =SUM(AF10/AG10) -> 0.8 | AI10: =SUM(AH10*40) -> 32 | AJ10: 30

Sheet 45
B1: 1 | C1: 2 | D1: 3 | E1: 4 | F1: 5 | G1: 6 | H1: 7 | I1: 8 | J1: 9 | K1: 10 | L1: 11 | M1: 12 | N1: 13 | O1: 14 | P1: 15 | Q1: 16 | R1: 17 | S1: 18 | T1: 19 | U1: 20 | V1: 21 | W1: 22 | X1: 23 | Y1: 24 | Z1: 25 | AA1: 26 | AB1: 27 | AC1: 28 | AD1: 29 | AE1: 30
A2: AUDOUARD J. Claude | AF2: =SUM(B2:AE2) -> 0 | AH2: =SUM(AF2/AG2) -> #DIV/0!
A3: CHAUMARAT Marc | C3: 2 | D3: 3 | J3: 0 | K3: 3 | T3: 2 | X3: 0 | Z3: 0 | AF3: =SUM(B3:AE3) -> 10 | AG3: 7 | AH3: =SUM(AF3/AG3) -> 1.4285714 | AI3: 1.1 | AJ3: =SUM(AI3*45) -> 49.5 | AK3: 50
A4: CORNET Antoine | D4: 3 | H4: 3 | K4: 2 | L4: 0 | N4: 0 | Q4: 2 | T4: 0 | Y4: 0 | Z4: 0 | AB4: 3 | AF4: =SUM(B4:AE4) -> 13 | AG4: 10 | AH4: =SUM(AF4/AG4) -> 1.3 | AI4: 0 | AJ4: =SUM(AI4*45) -> 0
A5: DUPUIS Pascal | I5: 0 | O5: 0 | AF5: =SUM(B5:AE5) -> 0 | AG5: 2 | AH5: =SUM(AF5/AG5) -> 0 | AI5: 0.8 | AJ5: =SUM(AI5*45) -> 36 | AK5: 40
A6: FARISSIER Georges | B6: 3 | D6: 2 | E6: 2 | F6: 0 | G6: 1 | H6: 2 | I6: 0 | J6: 0 | L6: 2 | O6: 2 | Q6: 0 | R6: 0 | S6: 0 | T6: 3 | U6: 3 | V6: 0 | W6: 2 | X6: 0 | AA6: 3 | AB6: 0 | AC6: 0 | AF6: =SUM(B6:AE6) -> 25 | AG6: 21 | AH6: =SUM(AF6/AG6) -> 1.1904762 | AI6: 0 | AJ6: =SUM(AI6*45) -> 0
A7: FRANCE Ferdinand | C7: 0 | E7: 3 | F7: 2 | I7: 2 | J7: 0 | L7: 2 | N7: 2 | O7: 0 | Q7: 2 | R7: 0 | U7: 0 | X7: 2 | AA7: 0 | AC7: 2 | AF7: =SUM(B7:AE7) -> 17 | AG7: 14 | AH7: =SUM(AF7/AG7) -> 1.2142857 | AI7: 0 | AJ7: =SUM(AI7*45) -> 0
A8: HAAS Paul | D8: 2 | H8: 2 | J8: 2 | K8: 0 | O8: 0 | Q8: 2 | S8: 2 | T8: 2 | V8: 0 | W8: 0 | Y8: 0 | AC8: 0 | AF8: =SUM(B8:AE8) -> 12 | AG8: 12 | AH8: =SUM(AF8/AG8) -> 1 | AI8: 0 | AJ8: =SUM(AI8*45) -> 0
A9: LARDEREAU Robert | E9: 0 | G9: 1 | I9: 3 | L9: 0 | P9: 0 | R9: 3 | T9: 2 | U9: 0 | AB9: 3 | AC9: 0 | AF9: =SUM(B9:AE9) -> 12 | AG9: 10 | AH9: =SUM(AF9/AG9) -> 1.2 | AI9: 0 | AJ9: =SUM(AI9*45) -> 0
A10: LASCIOLI Camille | B10: 2 | D10: 2 | E10: 2 | F10: 0 | H10: 0 | I10: 3 | J10: 3 | L10: 2 | M10: 3 | O10: 2 | P10: 0 | U10: 3 | V10: 2 | W10: 3 | X10: 3 | Y10: 2 | Z10: 3 | AA10: 0 | AB10: 3 | AC10: 2 | AF10: =SUM(B10:AE10) -> 40 | AG10: 20 | AH10: =SUM(AF10/AG10) -> 2 | AI10: 1.26 | AJ10: =SUM(AI10*45) -> 56.7 | AK10: 60
A11: LASSABLIERE Marc | B11: 0 | D11: 2 | F11: 2 | I11: 2 | L11: 1 | O11: 0 | Q11: 0 | V11: 2 | W11: 2 | X11: 2 | Y11: 2 | AA11: 0 | AB11: 0 | AF11: =SUM(B11:AE11) -> 15 | AG11: 13 | AH11: =SUM(AF11/AG11) -> 1.1538462 | AI11: 0 | AJ11: =SUM(AI11*45) -> 0
A12: LINOSSIER Gérard | D12: 0 | E12: 2 | H12: 3 | L12: 2 | O12: 3 | R12: 2 | T12: 2 | W12: 0 | X12: 2 | AF12: =SUM(B12:AE12) -> 16 | AG12: 9 | AH12: =SUM(AF12/AG12) -> 1.7777778 | AI12: 1.2 | AJ12: =SUM(AI12*45) -> 54 | AK12: 55
A13: LUMINET Alexandre | S13: 3 | AF13: =SUM(B13:AE13) -> 3 | AG13: 1 | AH13: =SUM(AF13/AG13) -> 3 | AI13: 1.26 | AJ13: =SUM(AI13*45) -> 56.7 | AK13: 60
A14: PRIOLON Marc | D14: 0 | H14: 0 | AF14: =SUM(B14:AE14) -> 0 | AG14: 2 | AH14: =SUM(AF14/AG14) -> 0 | AI14: 0 | AJ14: =SUM(AI14*45) -> 0
A15: RIVATON Philippe | G15: 0 | AF15: =SUM(B15:AE15) -> 0 | AG15: 1 | AH15: =SUM(AF15/AG15) -> 0 | AI15: 0 | AJ15: =SUM(AI15*45) -> 0
A16: TOME Eric | B16: 2 | C16: 3 | D16: 0 | E16: 0 | F16: 2 | G16: 2 | H16: 0 | I16: 2 | J16: 2 | K16: 2 | L16: 3 | M16: 0 | N16: 3 | O16: 0 | P16: 0 | Q16: 0 | R16: 3 | S16: 0 | T16: 3 | U16: 2 | V16: 3 | W16: 3 | X16: 3 | Y16: 3 | Z16: 3 | AA16: 3 | AB16: 0 | AC16: 2 | AD16: 3 | AE16: 0 | AF16: =SUM(B16:AE16) -> 52 | AG16: 30 | AH16: =SUM(AF16/AG16) -> 1.7333333 | AI16: 1.2 | AJ16: =SUM(AI16*45) -> 54 | AK16: 55
A17: VILLAR José | B17: 0 | E17: 2 | F17: 0 | I17: 0 | P17: 2 | Q17: 0 | R17: 3 | S17: 0 | AF17: =SUM(B17:AE17) -> 7 | AG17: 8 | AH17: =SUM(AF17/AG17) -> 0.875 | AI17: 0.9 | AJ17: =SUM(AI17*45) -> 40.5 | AK17: 40

Sheet 50 55
B1: 1 | C1: 2 | D1: 3 | E1: 4 | F1: 5 | G1: 6 | H1: 7 | I1: 8 | J1: 9 | K1: 10 | L1: 11 | M1: 12 | N1: 13 | O1: 14 | P1: 15 | Q1: 16 | R1: 17 | S1: 18 | T1: 19 | U1: 20 | V1: 21 | W1: 22 | X1: 23 | Y1: 24 | Z1: 25 | AA1: 26 | AB1: 27 | AC1: 28 | AD1: 29 | AE1: 30
A2: LAGARDE David | C2: 0 | D2: 0 | F2: 2 | H2: 0 | K2: 3 | O2: 0 | W2: 0 | X2: 0 | Y2: 0
A3: BENOIT Lucien | D3: 3 | F3: 2 | H3: 2 | J3: 0 | M3: 0 | S3: 3 | T3: 2 | V3: 3 | X3: 2 | Y3: 3 | AA3: 3 | AB3: 0
A4: BRION Jean | C4: 0 | D4: 0 | E4: 0 | G4: 2 | I4: 2 | M4: 0 | P4: 0 | Q4: 2 | R4: 0 | S4: 0 | T4: 0 | W4: 3 | Y4: 3 | Z4: 2 | AB4: 0
A5: FEUILLASTRE Alain | M5: 3 | V5: 2
A6: PIECUCH Laurent | B6: 3 | F6: 0 | I6: 0 | P6: 2 | R6: 2 | S6: 2 | U6: 0 | AC6: 0
A7: RAYMOND Paul | B7: 0 | C7: 2 | G7: 0 | H7: 2 | I7: 2 | K7: 0 | L7: 2 | M7: 0 | N7: 2 | O7: 2 | P7: 0 | V7: 2 | AA7: 2 | AB7: 0
A8: REY Pierre | B8: 2 | C8: 3 | F8: 3 | H8: 0 | I8: 2 | J8: 2 | K8: 0 | L8: 2 | M8: 0 | N8: 2 | O8: 3 | P8: 2 | Q8: 0 | R8: 2 | T8: 0 | U8: 0 | V8: 0 | X8: 0 | Y8: 0 | AB8: 3
A9: ROBERT Gérard | C9: 3 | F9: 0 | H9: 0 | I9: 0 | J9: 3 | K9: 0 | L9: 0 | M9: 2 | Q9: 2 | R9: 0 | S9: 3 | T9: 2 | U9: 2 | V9: 0 | W9: 2 | X9: 2 | Y9: 3 | Z9: 3 | AA9: 3 | AB9: 0
A10: SOUVIGNET Michel | C10: 3 | D10: 3 | E10: 2 | F10: 3 | H10: 2 | K10: 0 | L10: 3 | M10: 2 | N10: 0 | P10: 0 | R10: 0 | S10: 3 | T10: 2 | V10: 0 | X10: 3 | Y10: 3 | Z10: 0 | AA10: 3 | AC10: 3
A11: PERRET RICHARD | D11: 3 | K11: 2 | N11: 0 | O11: 0 | U11: 2 | X11: 2 | Z11: 2 | AA11: 0
A14: BRET Michel | D14: 2 | E14: 0 | G14: 2 | H14: 0 | J14: 2 | L14: 2 | M14: 3 | P14: 2 | Q14: 0 | R14: 0 | U14: 0 | V14: 2 | X14: 3 | Y14: 2 | AA14: 0 | AB14: 3
A15: PEREZ Martin | D15: 0 | J15: 0 | M15: 3 | O15: 0
A16: SAULNIER Jacques | C16: 0 | K16: 0
A17: SZYJKA Christian | E17: 2 | G17: 0 | H17: 2 | I17: 0 | T17: 2 | V17: 3 | Y17: 0 | AB17: 2
A18: VICTOR David | J18: 0 | P18: 2 | T18: 0 | V18: 0 | W18: 0 | Y18: 0

Sheet 55
B1: 1 | C1: 2 | D1: 3 | E1: 4 | F1: 5 | G1: 6 | H1: 7 | I1: 8 | J1: 9 | K1: 10 | L1: 11 | M1: 12 | N1: 13 | O1: 14 | P1: 15 | Q1: 16 | R1: 17 | S1: 18 | T1: 19 | U1: 20 | V1: 21 | W1: 22 | X1: 23 | Y1: 24 | Z1: 25 | AA1: 26 | AB1: 27 | AC1: 28
A2: BRET Michel
A3: PEREZ Martin
A4: SAULNIER Jacques
A5: SZYJKA Christian
A6: VICTOR David

Sheet 60 65
B1: 1 | C1: 2 | D1: 3 | E1: 4 | F1: 5 | G1: 6 | H1: 7 | I1: 8 | J1: 9 | K1: 10 | L1: 11 | M1: 12 | N1: 13 | O1: 14 | P1: 15 | Q1: 16 | R1: 17 | S1: 18 | T1: 19 | U1: 20 | V1: 21 | W1: 22 | X1: 23 | Y1: 24 | Z1: 25 | AA1: 26 | AB1: 27 | AC1: 28 | AD1: 29 | AE1: 30
A2: CHANNAUX Patrick | P2: 0 | Q2: 3 | AA2: 0 | AB2: 0 | AF2: =SUM(B2:AE2) -> 3 | AG2: 4 | AH2: =SUM(AF2/AG2) -> 0.75
A3: COMBETTE Yves | AF3: =SUM(B3:AE3) -> 0 | AG3: 0 | AH3: =SUM(AF3/AG3) -> #DIV/0!
A4: GROUSSON Gilbert | C4: 2 | E4: 0 | F4: 3 | M4: 2 | N4: 2 | Q4: 2 | T4: 2 | U4: 0 | X4: 0 | Z4: 0 | AC4: 0 | AF4: =SUM(B4:AE4) -> 13 | AG4: 11 | AH4: =SUM(AF4/AG4) -> 1.1818182
A5: MONTAGNON Gérard | B5: 3 | D5: 0 | E5: 0 | G5: 3 | H5: 0 | I5: 0 | J5: 0 | K5: 0 | L5: 3 | M5: 0 | N5: 0 | P5: 0 | Q5: 0 | R5: 0 | S5: 0 | T5: 0 | V5: 0 | X5: 0 | Y5: 0 | AB5: 0 | AF5: =SUM(B5:AE5) -> 9 | AG5: 20 | AH5: =SUM(AF5/AG5) -> 0.45
A6: SUCHAUT Thierry | B6: 2 | E6: 0 | F6: 3 | K6: 2 | P6: 0 | R6: 3 | T6: 0 | U6: 2 | AA6: 3 | AB6: 2 | AF6: =SUM(B6:AE6) -> 17 | AG6: 10 | AH6: =SUM(AF6/AG6) -> 1.7
A8: ANGUILLI Alain | C8: 0 | G8: 3 | I8: 2 | J8: 0 | L8: 2 | Q8: 2 | V8: 2 | Y8: 2 | AF8: =SUM(B8:AE8) -> 13 | AG8: 8 | AH8: =SUM(AF8/AG8) -> 1.625
A9: CHAUVE Maurice | B9: 0 | C9: 2 | D9: 2 | E9: 0 | I9: 0 | J9: 0 | P9: 2 | R9: 0 | T9: 0 | Z9: 0 | AA9: 0 | AC9: 0 | AF9: =SUM(B9:AE9) -> 6 | AG9: 12 | AH9: =SUM(AF9/AG9) -> 0.5
A10: FERREOL Emile | B10: 0 | C10: 2 | E10: 0 | F10: 0 | G10: 2 | H10: 0 | I10: 2 | J10: 0 | K10: 2 | N10: 0 | V10: 0 | X10: 0 | Y10: 2 | Z10: 0 | AA10: 0 | AF10: =SUM(B10:AE10) -> 10 | AG10: 15 | AH10: =SUM(AF10/AG10) -> 0.66666667
A11: GARDETTE Claude | C11: 0 | D11: 0 | H11: 0 | I11: 2 | L11: 2 | N11: 0 | Q11: 0 | S11: 0 | V11: 3 | X11: 0 | Z11: 2 | AB11: 0 | AC11: 2 | AF11: =SUM(B11:AE11) -> 11 | AG11: 13 | AH11: =SUM(AF11/AG11) -> 0.84615385
A12: LORNAGE Philippe | B12: 2 | D12: 3 | F12: 0 | G12: 0 | Q12: 0 | U12: 2 | AC12: 0 | AF12: =SUM(B12:AE12) -> 7 | AG12: 7 | AH12: =SUM(AF12/AG12) -> 1
A13: MANET Dominique | B13: 2 | D13: 0 | F13: 0 | H13: 3 | I13: 0 | J13: 2 | K13: 0 | L13: 2 | M13: 0 | N13: 2 | O13: 2 | P13: 3 | S13: 3 | W13: 2 | AF13: =SUM(B13:AE13) -> 21 | AG13: 14 | AH13: =SUM(AF13/AG13) -> 1.5
A14: MASSOTTIER Roland | B14: 0 | C14: 0 | E14: 2 | F14: 0 | K14: 0 | M14: 2 | N14: 0 | Q14: 3 | S14: 0 | T14: 0 | W14: 2 | AA14: 0 | AC14: 2 | AF14: =SUM(B14:AE14) -> 11 | AG14: 13 | AH14: =SUM(AF14/AG14) -> 0.84615385
A15: MONTAGNON Yves | B15: 0 | C15: 0 | D15: 2 | E15: 0 | G15: 3 | I15: 0 | M15: 2 | V15: 0 | X15: 0 | AA15: 2 | AB15: 3 | AC15: 3 | AF15: =SUM(B15:AE15) -> 15 | AG15: 12 | AH15: =SUM(AF15/AG15) -> 1.25
A16: POULENARD Paul | B16: 2 | D16: 0 | F16: 0 | H16: 2 | J16: 2 | M16: 3 | N16: 0 | O16: 2 | P16: 0 | U16: 2 | V16: 2 | W16: 0 | X16: 2 | Y16: 0 | Z16: 0 | AA16: 0 | AC16: 2 | AF16: =SUM(B16:AE16) -> 19 | AG16: 17 | AH16: =SUM(AF16/AG16) -> 1.1176471
A17: TRAN Auguste | Q17: 2 | R17: 0 | T17: 0 | U17: 2 | W17: 3 | Z17: 3 | AA17: 0 | AB17: 2 | AC17: 0 | AF17: =SUM(B17:AE17) -> 12 | AG17: 9 | AH17: =SUM(AF17/AG17) -> 1.3333333
A18: DUMAS Frédéric | C18: 2 | H18: 3 | J18: 3 | M18: 0 | AF18: =SUM(B18:AE18) -> 8 | AG18: 4 | AH18: =SUM(AF18/AG18) -> 2

Sheet 65
B1: 1 | C1: 2 | D1: 3 | E1: 4 | F1: 5 | G1: 6 | H1: 7 | I1: 8 | J1: 9 | K1: 10 | L1: 11 | M1: 12 | N1: 13 | O1: 14 | P1: 15 | Q1: 16 | R1: 17 | S1: 18 | T1: 19 | U1: 20 | V1: 21 | W1: 22 | X1: 23 | Y1: 24 | Z1: 25 | AA1: 26 | AB1: 27 | AC1: 28

Sheet 70 100
B1: 1 | C1: 2 | D1: 3 | E1: 4 | F1: 5 | G1: 6 | H1: 7 | I1: 8 | J1: 9 | K1: 10 | L1: 11 | M1: 12 | N1: 13 | O1: 14 | P1: 15 | Q1: 16 | R1: 17 | S1: 18 | T1: 19 | U1: 20 | V1: 21 | W1: 22 | X1: 23 | Y1: 24 | Z1: 25 | AA1: 26 | AB1: 27 | AC1: 28 | AD1: 29 | AE1: 30
A2: PHILIBERT Georges | D2: 0 | L2: 0 | U2: 2 | AF2: =SUM(B2:AE2) -> 2 | AG2: 3
A3: VALLA Alain | E3: 3 | J3: 3 | Q3: 2 | S3: 0 | W3: 0 | Y3: 3 | AF3: =SUM(B3:AE3) -> 11 | AG3: 6
AF4: =SUM(B4:AE4) -> 0
AF5: =SUM(B5:AE5) -> 0
A6: CATANZARO Jean | B6: 0 | D6: 3 | G6: 0 | H6: 2 | I6: 2 | J6: 0 | N6: 2 | P6: 3 | S6: 0 | T6: 2 | W6: 0 | Y6: 0 | AC6: 0 | AF6: =SUM(B6:AE6) -> 14 | AG6: 13
A7: FERRIOL Patrice | C7: 0 | J7: 0 | K7: 0 | O7: 0 | P7: 0 | Q7: 0 | T7: 3 | W7: 0 | AA7: 2 | AC7: 3 | AF7: =SUM(B7:AE7) -> 8 | AG7: 10
AF8: =SUM(B8:AE8) -> 0
AF9: =SUM(B9:AE9) -> 0
A10: PEPIER Alphonse | B10: 0 | C10: 0 | D10: 0 | E10: 2 | F10: 2 | G10: 2 | H10: 0 | J10: 3 | L10: 0 | M10: 0 | N10: 3 | O10: 0 | P10: 3 | Q10: 3 | R10: 3 | S10: 2 | T10: 0 | U10: 0 | V10: 3 | W10: 2 | Y10: 2 | Z10: 2 | AA10: 0 | AB10: 3 | AC10: 2 | AF10: =SUM(B10:AE10) -> 37 | AG10: 25
A11: FEOLA Jean Michel | F11: 0 | I11: 0 | L11: 0 | M11: 0 | S11: 0 | T11: 0 | U11: 0 | V11: 0 | Z11: 0 | AB11: 0 | AF11: =SUM(B11:AE11) -> 0 | AG11: 10
AF12: =SUM(B12:AE12) -> 0
AF13: =SUM(B13:AE13) -> 0
A14: FOURNIER Michel | B14: 0 | F14: 0 | K14: 2 | M14: 3 | P14: 3 | Q14: 2 | S14: 0 | U14: 2 | V14: 0 | X14: 0 | Y14: 0 | AA14: 2 | AF14: =SUM(B14:AE14) -> 14 | AG14: 12
A15: SABILLAH Kaddour | B15: 0 | H15: 0 | I15: 0 | N15: 2 | Q15: 2 | V15: 2 | AB15: 0 | AC15: 0 | AF15: =SUM(B15:AE15) -> 6 | AG15: 8
AF16: =SUM(B16:AE16) -> 0
AF17: =SUM(B17:AE17) -> 0
A18: REBBOH Louis | C18: 3 | E18: 3 | H18: 0 | N18: 0 | R18: 2 | T18: 0 | X18: 3 | AC18: 0 | AF18: =SUM(B18:AE18) -> 11 | AG18: 8
AF19: =SUM(B19:AE19) -> 0
AF20: =SUM(B20:AE20) -> 0
A21: BAYET BRUNO | C21: 0 | D21: 3 | F21: 3 | H21: 0 | I21: 2 | J21: 2 | K21: 3 | P21: 0 | R21: 2 | S21: 2 | W21: 0 | Y21: 0 | AC21: 0 | AF21: =SUM(B21:AE21) -> 17 | AG21: 13
A22: BERTRAND Jean Paul | C22: 0 | D22: 0 | F22: 0 | H22: 3 | L22: 0 | Q22: 0 | S22: 0 | T22: 3 | U22: 2 | V22: 0 | X22: 3 | AA22: 2 | AF22: =SUM(B22:AE22) -> 13 | AG22: 12
A23: SERAYET Frédérick | B23: 2 | G23: 0 | M23: 2 | N23: 2 | Q23: 0 | T23: 0 | Z23: 0 | AA23: 0 | AB23: 0 | AF23: =SUM(B23:AE23) -> 6 | AG23: 9

Sheet 105 200
B1: 1 | C1: 2 | D1: 3 | E1: 4 | F1: 5 | G1: 6 | H1: 7 | I1: 8 | J1: 9 | K1: 10 | L1: 11 | M1: 12 | N1: 13 | O1: 14 | P1: 15 | Q1: 16 | R1: 17 | S1: 18 | T1: 19 | U1: 20 | V1: 21 | W1: 22 | X1: 23 | Y1: 24 | Z1: 25 | AA1: 26 | AB1: 27 | AC1: 28 | AD1: 29 | AE1: 30
A2: ZAPOTOKY Jean | AF2: =SUM(B2:AE2) -> 0 | AG2: 0 | AH2: =SUM(AF2/AG2) -> #DIV/0!
A5: REBBOH William | B5: 3 | E5: 0 | M5: 0 | N5: 0 | Q5: 0 | T5: 3 | X5: 0 | AA5: 2 | AB5: 3 | AC5: 2 | AF5: =SUM(B5:AE5) -> 13 | AG5: 10 | AH5: =SUM(AF5/AG5) -> 1.3
A8: DIAZ Jean Louis | H8: 2 | N8: 0 | W8: 0 | AC8: 2 | AF8: =SUM(B8:AE8) -> 4 | AG8: 4 | AH8: =SUM(AF8/AG8) -> 1
A9: GIROMINI Guy | B9: 0 | C9: 2 | D9: 2 | F9: 0 | G9: 0 | H9: 0 | M9: 0 | N9: 0 | Q9: 2 | U9: 0 | V9: 0 | W9: 2 | X9: 2 | AA9: 0 | AF9: =SUM(B9:AE9) -> 10 | AG9: 14 | AH9: =SUM(AF9/AG9) -> 0.71428571
A10: PREYNAT Maurice | N10: 2 | AC10: 0 | AF10: =SUM(B10:AE10) -> 2 | AG10: 2 | AH10: =SUM(AF10/AG10) -> 1
A11: VEY Thierry | B11: 2 | C11: 0 | F11: 2 | I11: 3 | L11: 0 | M11: 0 | Q11: 0 | U11: 0 | AF11: =SUM(B11:AE11) -> 7 | AG11: 8 | AH11: =SUM(AF11/AG11) -> 0.875
A14: AUDONNET Jérémy | I14: 0 | K14: 0 | N14: 0 | Z14: 3 | AC14: 3 | AF14: =SUM(B14:AE14) -> 6 | AG14: 5 | AH14: =SUM(AF14/AG14) -> 1.2
A15: FLORIAN DENIS | C15: 3 | G15: 2 | K15: 3 | L15: 3 | R15: 3 | S15: 3 | V15: 2 | Z15: 0 | AF15: =SUM(B15:AE15) -> 19 | AG15: 8 | AH15: =SUM(AF15/AG15) -> 2.375
A16: VALLAT Daniel | C16: 0 | F16: 3 | G16: 3 | M16: 3 | N16: 3 | R16: 0 | U16: 3 | AC16: 0 | AF16: =SUM(B16:AE16) -> 15 | AG16: 8 | AH16: =SUM(AF16/AG16) -> 1.875
A17: JACQUEMOND Olivier | G17: 0 | AF17: =SUM(B17:AE17) -> 0 | AG17: 1 | AH17: =SUM(AF17/AG17) -> 0

Sheet 80
B1: 1 | C1: 2 | D1: 3 | E1: 4 | F1: 5 | G1: 6 | H1: 7 | I1: 8 | J1: 9 | K1: 10 | L1: 11 | M1: 12 | N1: 13 | O1: 14 | P1: 15 | Q1: 16 | R1: 17 | S1: 18 | T1: 19 | U1: 20 | V1: 21 | W1: 22 | X1: 23 | Y1: 24 | Z1: 25 | AA1: 26 | AB1: 27 | AC1: 28

Sheet 85
B1: 1 | C1: 2 | D1: 3 | E1: 4 | F1: 5 | G1: 6 | H1: 7 | I1: 8 | J1: 9 | K1: 10 | L1: 11 | M1: 12 | N1: 13 | O1: 14 | P1: 15 | Q1: 16 | R1: 17 | S1: 18 | T1: 19 | U1: 20 | V1: 21 | W1: 22 | X1: 23 | Y1: 24 | Z1: 25 | AA1: 26 | AB1: 27 | AC1: 28

Sheet 90
B1: 1 | C1: 2 | D1: 3 | E1: 4 | F1: 5 | G1: 6 | H1: 7 | I1: 8 | J1: 9 | K1: 10 | L1: 11 | M1: 12 | N1: 13 | O1: 14 | P1: 15 | Q1: 16 | R1: 17 | S1: 18 | T1: 19 | U1: 20 | V1: 21 | W1: 22 | X1: 23 | Y1: 24 | Z1: 25 | AA1: 26 | AB1: 27 | AC1: 28

Sheet 95
B1: 1 | C1: 2 | D1: 3 | E1: 4 | F1: 5 | G1: 6 | H1: 7 | I1: 8 | J1: 9 | K1: 10 | L1: 11 | M1: 12 | N1: 13 | O1: 14 | P1: 15 | Q1: 16 | R1: 17 | S1: 18 | T1: 19 | U1: 20 | V1: 21 | W1: 22 | X1: 23 | Y1: 24 | Z1: 25 | AA1: 26 | AB1: 27 | AC1: 28

Sheet 100
B1: 1 | C1: 2 | D1: 3 | E1: 4 | F1: 5 | G1: 6 | H1: 7 | I1: 8 | J1: 9 | K1: 10 | L1: 11 | M1: 12 | N1: 13 | O1: 14 | P1: 15 | Q1: 16 | R1: 17 | S1: 18 | T1: 19 | U1: 20 | V1: 21 | W1: 22 | X1: 23 | Y1: 24 | Z1: 25 | AA1: 26 | AB1: 27 | AC1: 28

Sheet 105
B1: 1 | C1: 2 | D1: 3 | E1: 4 | F1: 5 | G1: 6 | H1: 7 | I1: 8 | J1: 9 | K1: 10 | L1: 11 | M1: 12 | N1: 13 | O1: 14 | P1: 15 | Q1: 16 | R1: 17 | S1: 18 | T1: 19 | U1: 20 | V1: 21 | W1: 22 | X1: 23 | Y1: 24 | Z1: 25 | AA1: 26 | AB1: 27 | AC1: 28

Sheet 110
B1: 1 | C1: 2 | D1: 3 | E1: 4 | F1: 5 | G1: 6 | H1: 7 | I1: 8 | J1: 9 | K1: 10 | L1: 11 | M1: 12 | N1: 13 | O1: 14 | P1: 15 | Q1: 16 | R1: 17 | S1: 18 | T1: 19 | U1: 20 | V1: 21 | W1: 22 | X1: 23 | Y1: 24 | Z1: 25 | AA1: 26 | AB1: 27 | AC1: 28

Sheet 115
B1: 1 | C1: 2 | D1: 3 | E1: 4 | F1: 5 | G1: 6 | H1: 7 | I1: 8 | J1: 9 | K1: 10 | L1: 11 | M1: 12 | N1: 13 | O1: 14 | P1: 15 | Q1: 16 | R1: 17 | S1: 18 | T1: 19 | U1: 20 | V1: 21 | W1: 22 | X1: 23 | Y1: 24 | Z1: 25 | AA1: 26 | AB1: 27 | AC1: 28

Sheet 120

Sheet 125

Sheet 130

Sheet 135

Sheet 140

Sheet 145

Sheet 150

Sheet 155

Sheet 160

Sheet 165

Sheet 170

Sheet 175

Sheet 180

Sheet 185

Sheet 190

Sheet 195

Sheet 200

Sheet 200 Grand coin

Sheet Feuil37

Sheet Feuil1
B2: N. P. | C2: N.M. | D2: P/M | E2: Coef | F2: Contrat. Act. | G2: N. contrat
A3: AUDONNET Jérémy | B3: =SUM('105 200'!AF14) -> 6 | C3: =SUM('105 200'!AG14) -> 5 | D3: =SUM(B3/C3) -> 1.2 | E3: 1 | F3: 200 | G3: =SUM(E3*F3) -> 200
A4: FLORIAN DENIS | B4: =SUM('105 200'!AF15) -> 19 | C4: =SUM('105 200'!AG15) -> 8 | D4: =SUM(B4/C4) -> 2.375 | E4: 1.26 | F4: 200 | G4: =SUM(E4*F4) -> 252
A5: VALLAT Daniel | B5: =SUM('105 200'!AF16) -> 15 | C5: =SUM('105 200'!AG16) -> 8 | D5: =SUM(B5/C5) -> 1.875 | E5: 1.26 | F5: 200 | G5: =SUM(E5*F5) -> 252
A6: JACQUEMOND Olivier | B6: =SUM('105 200'!AF17) -> 0 | C6: =SUM('105 200'!AG17) -> 1 | D6: =SUM(B6/C6) -> 0 | E6: 0.9 | F6: 200 | G6: =SUM(E6*F6) -> 180
A7: DIAZ Jean Louis | B7: 4 | C7: 4 | D7: =SUM(B7/C7) -> 1 | E7: 1 | F7: 170 | G7: =SUM(E7*F7) -> 170
A8: GIROMINI Guy | B8: 10 | C8: 14 | D8: =SUM(B8/C8) -> 0.71428571 | E8: 0.9 | F8: 170 | G8: =SUM(E8*F8) -> 153
A9: PREYNAT Maurice | B9: 2 | C9: 2 | D9: =SUM(B9/C9) -> 1 | E9: 1 | F9: 170 | G9: =SUM(E9*F9) -> 170
A10: VEY Thierry | B10: 7 | C10: 8 | D10: =SUM(B10/C10) -> 0.875 | E10: 0.9 | F10: 170 | G10: =SUM(E10*F10) -> 153
A11: REBBOH William 115 | B11: 13 | C11: 10 | D11: =SUM(B11/C11) -> 1.3 | E11: 1 | F11: 115 | G11: =SUM(E11*F11) -> 115

Sheet Feuil2
D2: moyenne
A3: GIROMINI Guy | B3: 10 | C3: 14 | D3: =SUM(B3/C3) -> 0.71428571 | E3: =INDEX({0.8;0.9;1;1.1;1.2;1.26},MATCH(D5,{0;0.71;0.91;1.41;1.61;1.81})) -> 0.9
A4: PREYNAT Maurice | B4: 2 | C4: 2 | D4: =SUM(B4/C4) -> 1 | E4: =INDEX({0.8;0.9;1;1.1;1.2;1.26},MATCH(D6,{0;0.71;0.91;1.41;1.61;1.81})) -> 1
A5: VEY Thierry | B5: 7 | C5: 8 | D5: =SUM(B5/C5) -> 0.875 | E5: =INDEX({0.8;0.9;1;1.1;1.2;1.26},MATCH(D7,{0;0.71;0.91;1.41;1.61;1.81})) -> 0.8 | F5: 0.9
A6: REBBOH William 115 | B6: 13 | C6: 10 | D6: =SUM(B6/C6) -> 1.3 | E6: =INDEX({0.8;0.9;1;1.1;1.2;1.26},MATCH(D8,{0;0.71;0.91;1.41;1.61;1.81})) -> 0.8 | F6: 1
A8: ok pour E3 et E4 c'est parfait mais pour E5 et E6 c'est faux
