Workbook

Sheet 0
M4: Simulation financière contrat d'apprentissage
V9: date à prendre en compte pour changement rénumération
K10: Nom - Prénom | T10: 18 ans le | U10: =DATE(YEAR(M11) + 18,MONTH(M11),DAY(M11)) -> 42918 | V10: =DATE(YEAR(U10),MONTH(U10)+1,1) -> 42948
K11: Né(e) le | M11: 36343 | P11: =CONCATENATE(DATEDIF(M11,TODAY(),"y"),"a ",DATEDIF(M11,TODAY(),"m")-DATEDIF(M11,TODAY(),"y")*12,"m ", DATEDIF(DATE(YEAR(M11) + DATEDIF(M11,TODAY(),"y"),MONTH(M11) + DATEDIF(M11,TODAY(),"m")-DATEDIF(M11,TODAY(),"y")*12, DAY(M11)),TODAY(),"d"),"j") -> 18a 0m 18j
K12: Formation | M12: CAP Agent polyvalent de restauration | X12: CAP Cuisine
K13: Durée | M13: 2 | N13: ans | T13: =M13*12 -> 24 | X13: CAP Agent polyvalent de restauration
K14: Reconnu travailleur handicapé | P14: NON | X14: CAP Restaurant
K15: Employeur | M15: Moins de 11 salariés | X15: BAC PRO Cuisine
X16: BAC PRO Commercialisation et service
X17: OUI
X18: NON
K19: Contrat du | L19: 42248 | M19: au | N19: =DATE(YEAR(L19) + M13,MONTH(L19),DAY(L19)-1) -> 42978 | X19: Moins de 11 salariés
X20: De 11 à 250 salariés
K21: Année | L21: Période début | N21: Période fin | O21: Jours | P21: Nb mois | Q21: Age | R21: Tx rémunération | S21: Rémunération | X21: Plus de 250 salariés
K22: =IFERROR(IF(DATEDIF($L$19,L22,"y")+1<>K21,DATEDIF($L$19,L22,"y")+1,""),"") -> 1 | L22: =L19 -> 42248 | N22: =IFERROR(IF(AND($V$10>L22,EDATE(L22,12)-1>$V$10),$V$10-1,EDATE(IF(K22="",L21,L22),12)-1),"") -> 42613 | O22: =IF(L22<>"",DAYS360(L22,N22),"") -> 360 | P22: =O22/30 -> 12 | Q22: =DATEDIF($M$11,L22,"Y") -> 16 | R22: =IFERROR(INDEX([1]Données!B$12:D$14,MATCH('0'!K22,[1]Données!$A$12:$A$14,0),MATCH($Q22*1,[1]Données!A$11:D$11,1)),"") -> 0.25 | S22: =(P22*[1]Données!$C$6)*R22 -> 4440.81
K23: =IFERROR(IF(DATEDIF($L$19,L23,"y")+1<>K22,DATEDIF($L$19,L23,"y")+1,""),"") -> 2 | L23: =IF(N22<$N$19,N22+1,"") -> 42614 | N23: =IFERROR(IF(AND($V$10>L23,EDATE(L23,12)-1>$V$10),$V$10-1,EDATE(IF(K23="",L22,L23),12)-1),"") -> 42947 | O23: =IF(L23<>"",DAYS360(L23,N23),"") -> 330 | P23: =O23/30 -> 11 | Q23: =DATEDIF($M$11,L23,"Y") -> 17 | R23: =IFERROR(INDEX([1]Données!B$12:D$14,MATCH('0'!K23,[1]Données!$A$12:$A$14,0),MATCH($Q23*1,[1]Données!A$11:D$11,1)),"") -> 0.37 | S23: =(P23*[1]Données!$C$6)*R23 -> 6024.6989
K24: =IFERROR(IF(DATEDIF($L$19,L24,"y")+1<>K23,DATEDIF($L$19,L24,"y")+1,""),"") | L24: =IF(N23<$N$19,N23+1,"") -> 42948 | N24: =IFERROR(IF(AND($V$10>L24,EDATE(L24,12)-1>$V$10),$V$10-1,EDATE(IF(K24="",L23,L24),12)-1),"") -> 42978 | O24: =IF(L24<>"",DAYS360(L24,N24),"") -> 30 | P24: =IF(L24<>"",O24/30,"") -> 1 | Q24: =IF(L24<>"",(DATEDIF($M$11,L24,"Y")),"") -> 18 | R24: =IFERROR(INDEX([1]Données!B$12:D$14,MATCH('0'!K24,[1]Données!$A$12:$A$14,0),MATCH($Q24*1,[1]Données!A$11:D$11,1)),"") | S24: =IF(L24<>"",((P24*[1]Données!$C$6)*R24),"") -> #VALUE!
K25: =IFERROR(IF(DATEDIF($L$19,L25,"y")+1<>K24,DATEDIF($L$19,L25,"y")+1,""),"") | L25: =IF(N24<$N$19,N24+1,"") | N25: =IFERROR(IF(AND($V$10>L25,EDATE(L25,12)-1>$V$10),$V$10-1,EDATE(IF(K25="",L24,L25),12)-1),"") | O25: =IF(L25<>"",DAYS360(L25,N25),"") | P25: =IF(L25<>"",O25/30,"") | Q25: =IF(L25<>"",(DATEDIF($M$11,L25,"Y")),"") | R25: =IFERROR(INDEX([1]Données!B$12:D$14,MATCH('0'!K25,[1]Données!$A$12:$A$14,0),MATCH($Q25*1,[1]Données!A$11:D$11,1)),"") | S25: =IF(L25<>"",(P25*[1]Données!$C$6)*R25,"")
K26: =IFERROR(IF(DATEDIF($L$19,L26,"y")+1<>K25,DATEDIF($L$19,L26,"y")+1,""),"") | L26: =IF(N25<$N$19,N25+1,"") | N26: =IFERROR(IF(AND($V$10>L26,EDATE(L26,12)-1>$V$10),$V$10-1,EDATE(IF(K26="",L25,L26),12)-1),"") | O26: =IF(L26<>"",N26-L26+1,"") | P26: =IF(L26<>"",O26/30,"") | Q26: =IF(L26<>"",(DATEDIF($M$11,L26,"Y")),"")
K27: Coût du contrat pour l'employeur sans les aides | S27: =SUM(S22:S25) -> #VALUE!
K30: Crédit d'impôt | P30: 1600 | S30: 1600
K31: Aide Jeunes apprentis TPE (- 18 ans) | P31: 4400 | R31: La 1ère année | S31: =IF(AND(M15="moins de 11 salariés", P11<"18a"),"4 400,00 €","0") -> 0
K32: Prime à l'apprentissage pour les TPE | P32: 1000 | R32: par an | S32: =IF(M15="Moins de 11 salariés",P32*M13,"0") -> 2000
K33: Aide au recrutement | P33: 1000 | R33: minimum | S33: =IF(OR(M15="moins de 11 salariés",M15="de 11 à 250 salariés"),P33,"0") -> 1000
K34: AGEFIPH | S34: =IF(P14="OUI",ROUNDUP(T13*166.66,0),"0") -> 0
K37: Coût du contrat pour l'employeur | S37: =S27-S30-S31-S32-S33-S34 -> #VALUE!
K38: Soit par mois | S38: =S37/T13 -> #VALUE!
K42: Autres avantages du contrat :
K43: 1/ Les cotisation patronales de sécurité sociale, d'allocations familiales et d'accident du travail d'origine légales et conventionnelles sont prises en charges par l'état.
K44: 2/La formation est gratuite en CFA. Le jeune en apprentissage bénéficie de l'expérience d'un maître d'apprentissage qui lui assure une formation pratique, le guide et l'informe tout au long de la durée du contrat.
