Workbook

Sheet HBA1C EEQ+IM
A1: SUIVI EEQ
A3: TERA 1 /2916 | J3: TERA 2/2916 A | R3: TERA 3/2916 B | Z3: TERA 4 2916 C | AG3: TERA 5 /2916 D | AN3: TERA 6/2916 E
AW4: =IF(AND(A1>=-2,A1<=2),"conforme",IF(AND(A1>=3,A1<=-3),"Non conforme","à surveiller")) -> à surveiller
A5: Référence | B5: Résultat | C5: valeur pair | D5: Biais | E5: Z-Score | F5: Z-Score | G5: Conclusion | I5: NC N° | J5: Résultat | K5: valeur pair | L5: Biais | M5: Z-Score | N5: Z-Score | O5: Conclusion | Q5: NC N° | R5: Résultat | S5: valeur pair | T5: Biais | U5: Z-Score | V5: Z-Score | W5: Conclusion | Y5: NC N° | Z5: Résultat | AA5: valeur pair | AB5: Biais | AC5: Z-Score | AD5: Z-Score | AE5: Conclusion | AF5: NC N° | AG5: Résultat | AH5: valeur pair | AI5: Biais | AJ5: Z-Score | AK5: Z-Score | AL5: Conclusion | AM5: NC N° | AN5: Résultat | AO5: valeur pair | AP5: Biais | AQ5: Z-Score | AR5: Z-Score | AS5: Conclusion | AT5: NC N°
A6: 20BH01 | B6: 8.5 | C6: 8.58 | D6: -0.9 | E6: -0.6 | F6: =ABS(E6) -> 0.6 | G6: =IF(F6="","",IF(F6<=2,"Conforme",IF(F6>=3,"Non conforme","A surveiller"))) -> Conforme | J6: 8.5 | K6: 8.58 | L6: -0.9 | M6: -0.6 | N6: =ABS(M6) -> 0.6 | O6: =IF(N6="","",IF(N6<=2,"Conforme",IF(N6>=3,"Non conforme","A surveiller"))) -> Conforme | R6: 8.5 | S6: 8.58 | T6: -0.9 | U6: -0.6 | V6: =ABS(U6) -> 0.6 | W6: =IF(V6="","",IF(V6<=2,"Conforme",IF(V6>=3,"Non conforme","A surveiller"))) -> Conforme | Z6: 8.5 | AA6: 8.58 | AB6: -0.9 | AC6: -0.6 | AD6: =ABS(AC6) -> 0.6 | AE6: =IF(AD6="","",IF(AD6<=2,"Conforme",IF(AD6>=3,"Non conforme","A surveiller"))) -> Conforme | AG6: 8.6 | AH6: 8.58 | AI6: 0.2 | AJ6: 0.1 | AK6: =ABS(AJ6) -> 0.1 | AL6: =IF(AK6="","",IF(AK6<=2,"Conforme",IF(AK6>=3,"Non conforme","A surveiller"))) -> Conforme | AN6: 8.6 | AO6: 8.58 | AP6: 0.2 | AQ6: 0.1 | AR6: =ABS(AQ6) -> 0.1 | AS6: =IF(AR6="","",IF(AR6<=2,"Conforme",IF(AR6>=3,"Non conforme","A surveiller"))) -> Conforme
A7: 20BH02 | B7: 5.6 | C7: 5.66 | D7: -1.1 | E7: -0.6 | F7: =ABS(E7) -> 0.6 | G7: =IF(E7="","",IF(F7<=2,"Conforme",IF(F7>=3,"Non conforme",IF((F6>2)*AND(F6<3)*AND(F7>2)*AND(F7<3),"Investiguer + NC","A surveiller")))) -> Conforme | J7: 5.8 | K7: 5.66 | L7: 2.5 | M7: 1.4 | N7: =ABS(M7) -> 1.4 | O7: =IF(M7="","",IF(N7<=2,"Conforme",IF(N7>=3,"Non conforme",IF((N6>2)*AND(N6<3)*AND(N7>2)*AND(N7<3),"Investiguer + NC","A surveiller")))) -> Conforme | R7: 5.7 | S7: 5.66 | T7: 0.7 | U7: 0.4 | V7: =ABS(U7) -> 0.4 | W7: =IF(U7="","",IF(V7<=2,"Conforme",IF(V7>=3,"Non conforme",IF((V6>2)*AND(V6<3)*AND(V7>2)*AND(V7<3),"Investiguer + NC","A surveiller")))) -> Conforme | Z7: 5.7 | AA7: 5.66 | AB7: 0.7 | AC7: 0.4 | AD7: =ABS(AC7) -> 0.4 | AE7: =IF(AC7="","",IF(AD7<=2,"Conforme",IF(AD7>=3,"Non conforme",IF((AD6>2)*AND(AD6<3)*AND(AD7>2)*AND(AD7<3),"Investiguer + NC","A surveiller")))) -> Conforme | AG7: 5.7 | AH7: 5.66 | AI7: 0.7 | AJ7: 0.4 | AK7: =ABS(AJ7) -> 0.4 | AL7: =IF(AJ7="","",IF(AK7<=2,"Conforme",IF(AK7>=3,"Non conforme",IF((AK6>2)*AND(AK6<3)*AND(AK7>2)*AND(AK7<3),"Investiguer + NC","A surveiller")))) -> Conforme | AN7: 5.8 | AO7: 5.66 | AP7: 2.5 | AQ7: 1.4 | AR7: =ABS(AQ7) -> 1.4 | AS7: =IF(AQ7="","",IF(AR7<=2,"Conforme",IF(AR7>=3,"Non conforme",IF((AR6>2)*AND(AR6<3)*AND(AR7>2)*AND(AR7<3),"Investiguer + NC","A surveiller")))) -> Conforme
F8: =ABS(E8) -> 0 | G8: =IF(E8="","",IF(F8<=2,"Conforme",IF(F8>=3,"Non conforme",IF((F7>2)*AND(F7<3)*AND(F8>2)*AND(F8<3),"Investiguer + NC","A surveiller")))) | N8: =ABS(M8) -> 0 | O8: =IF(M8="","",IF(N8<=2,"Conforme",IF(N8>=3,"Non conforme",IF((N7>2)*AND(N7<3)*AND(N8>2)*AND(N8<3),"Investiguer + NC","A surveiller")))) | V8: =ABS(U8) -> 0 | W8: =IF(U8="","",IF(V8<=2,"Conforme",IF(V8>=3,"Non conforme",IF((V7>2)*AND(V7<3)*AND(V8>2)*AND(V8<3),"Investiguer + NC","A surveiller")))) | AD8: =ABS(AC8) -> 0 | AE8: =IF(AC8="","",IF(AD8<=2,"Conforme",IF(AD8>=3,"Non conforme",IF((AD7>2)*AND(AD7<3)*AND(AD8>2)*AND(AD8<3),"Investiguer + NC","A surveiller")))) | AK8: =ABS(AJ8) -> 0 | AL8: =IF(AJ8="","",IF(AK8<=2,"Conforme",IF(AK8>=3,"Non conforme",IF((AK7>2)*AND(AK7<3)*AND(AK8>2)*AND(AK8<3),"Investiguer + NC","A surveiller")))) | AR8: =ABS(AQ8) -> 0 | AS8: =IF(AQ8="","",IF(AR8<=2,"Conforme",IF(AR8>=3,"Non conforme",IF((AR7>2)*AND(AR7<3)*AND(AR8>2)*AND(AR8<3),"Investiguer + NC","A surveiller"))))
F9: =ABS(E9) -> 0 | G9: =IF(E9="","",IF(F9<=2,"Conforme",IF(F9>=3,"Non conforme",IF((F8>2)*AND(F8<3)*AND(F9>2)*AND(F9<3),"Investiguer + NC","A surveiller")))) | N9: =ABS(M9) -> 0 | O9: =IF(M9="","",IF(N9<=2,"Conforme",IF(N9>=3,"Non conforme",IF((N8>2)*AND(N8<3)*AND(N9>2)*AND(N9<3),"Investiguer + NC","A surveiller")))) | V9: =ABS(U9) -> 0 | W9: =IF(U9="","",IF(V9<=2,"Conforme",IF(V9>=3,"Non conforme",IF((V8>2)*AND(V8<3)*AND(V9>2)*AND(V9<3),"Investiguer + NC","A surveiller")))) | AD9: =ABS(AC9) -> 0 | AE9: =IF(AC9="","",IF(AD9<=2,"Conforme",IF(AD9>=3,"Non conforme",IF((AD8>2)*AND(AD8<3)*AND(AD9>2)*AND(AD9<3),"Investiguer + NC","A surveiller")))) | AK9: =ABS(AJ9) -> 0 | AL9: =IF(AJ9="","",IF(AK9<=2,"Conforme",IF(AK9>=3,"Non conforme",IF((AK8>2)*AND(AK8<3)*AND(AK9>2)*AND(AK9<3),"Investiguer + NC","A surveiller")))) | AR9: =ABS(AQ9) -> 0 | AS9: =IF(AQ9="","",IF(AR9<=2,"Conforme",IF(AR9>=3,"Non conforme",IF((AR8>2)*AND(AR8<3)*AND(AR9>2)*AND(AR9<3),"Investiguer + NC","A surveiller"))))
F10: =ABS(E10) -> 0 | G10: =IF(E10="","",IF(F10<=2,"Conforme",IF(F10>=3,"Non conforme",IF((F9>2)*AND(F9<3)*AND(F10>2)*AND(F10<3),"Investiguer + NC","A surveiller")))) | N10: =ABS(M10) -> 0 | O10: =IF(M10="","",IF(N10<=2,"Conforme",IF(N10>=3,"Non conforme",IF((N9>2)*AND(N9<3)*AND(N10>2)*AND(N10<3),"Investiguer + NC","A surveiller")))) | V10: =ABS(U10) -> 0 | W10: =IF(U10="","",IF(V10<=2,"Conforme",IF(V10>=3,"Non conforme",IF((V9>2)*AND(V9<3)*AND(V10>2)*AND(V10<3),"Investiguer + NC","A surveiller")))) | AD10: =ABS(AC10) -> 0 | AE10: =IF(AC10="","",IF(AD10<=2,"Conforme",IF(AD10>=3,"Non conforme",IF((AD9>2)*AND(AD9<3)*AND(AD10>2)*AND(AD10<3),"Investiguer + NC","A surveiller")))) | AK10: =ABS(AJ10) -> 0 | AL10: =IF(AJ10="","",IF(AK10<=2,"Conforme",IF(AK10>=3,"Non conforme",IF((AK9>2)*AND(AK9<3)*AND(AK10>2)*AND(AK10<3),"Investiguer + NC","A surveiller")))) | AR10: =ABS(AQ10) -> 0 | AS10: =IF(AQ10="","",IF(AR10<=2,"Conforme",IF(AR10>=3,"Non conforme",IF((AR9>2)*AND(AR9<3)*AND(AR10>2)*AND(AR10<3),"Investiguer + NC","A surveiller"))))
F11: =ABS(E11) -> 0 | G11: =IF(E11="","",IF(F11<=2,"Conforme",IF(F11>=3,"Non conforme",IF((F10>2)*AND(F10<3)*AND(F11>2)*AND(F11<3),"Investiguer + NC","A surveiller")))) | N11: =ABS(M11) -> 0 | O11: =IF(M11="","",IF(N11<=2,"Conforme",IF(N11>=3,"Non conforme",IF((N10>2)*AND(N10<3)*AND(N11>2)*AND(N11<3),"Investiguer + NC","A surveiller")))) | V11: =ABS(U11) -> 0 | W11: =IF(U11="","",IF(V11<=2,"Conforme",IF(V11>=3,"Non conforme",IF((V10>2)*AND(V10<3)*AND(V11>2)*AND(V11<3),"Investiguer + NC","A surveiller")))) | AD11: =ABS(AC11) -> 0 | AE11: =IF(AC11="","",IF(AD11<=2,"Conforme",IF(AD11>=3,"Non conforme",IF((AD10>2)*AND(AD10<3)*AND(AD11>2)*AND(AD11<3),"Investiguer + NC","A surveiller")))) | AK11: =ABS(AJ11) -> 0 | AL11: =IF(AJ11="","",IF(AK11<=2,"Conforme",IF(AK11>=3,"Non conforme",IF((AK10>2)*AND(AK10<3)*AND(AK11>2)*AND(AK11<3),"Investiguer + NC","A surveiller")))) | AR11: =ABS(AQ11) -> 0 | AS11: =IF(AQ11="","",IF(AR11<=2,"Conforme",IF(AR11>=3,"Non conforme",IF((AR10>2)*AND(AR10<3)*AND(AR11>2)*AND(AR11<3),"Investiguer + NC","A surveiller"))))
F12: =ABS(E12) -> 0 | G12: =IF(E12="","",IF(F12<=2,"Conforme",IF(F12>=3,"Non conforme",IF((F11>2)*AND(F11<3)*AND(F12>2)*AND(F12<3),"Investiguer + NC","A surveiller")))) | N12: =ABS(M12) -> 0 | O12: =IF(M12="","",IF(N12<=2,"Conforme",IF(N12>=3,"Non conforme",IF((N11>2)*AND(N11<3)*AND(N12>2)*AND(N12<3),"Investiguer + NC","A surveiller")))) | V12: =ABS(U12) -> 0 | W12: =IF(U12="","",IF(V12<=2,"Conforme",IF(V12>=3,"Non conforme",IF((V11>2)*AND(V11<3)*AND(V12>2)*AND(V12<3),"Investiguer + NC","A surveiller")))) | AD12: =ABS(AC12) -> 0 | AE12: =IF(AC12="","",IF(AD12<=2,"Conforme",IF(AD12>=3,"Non conforme",IF((AD11>2)*AND(AD11<3)*AND(AD12>2)*AND(AD12<3),"Investiguer + NC","A surveiller")))) | AK12: =ABS(AJ12) -> 0 | AL12: =IF(AJ12="","",IF(AK12<=2,"Conforme",IF(AK12>=3,"Non conforme",IF((AK11>2)*AND(AK11<3)*AND(AK12>2)*AND(AK12<3),"Investiguer + NC","A surveiller")))) | AR12: =ABS(AQ12) -> 0 | AS12: =IF(AQ12="","",IF(AR12<=2,"Conforme",IF(AR12>=3,"Non conforme",IF((AR11>2)*AND(AR11<3)*AND(AR12>2)*AND(AR12<3),"Investiguer + NC","A surveiller"))))
F13: =ABS(E13) -> 0 | G13: =IF(E13="","",IF(F13<=2,"Conforme",IF(F13>=3,"Non conforme",IF((F12>2)*AND(F12<3)*AND(F13>2)*AND(F13<3),"Investiguer + NC","A surveiller")))) | N13: =ABS(M13) -> 0 | O13: =IF(M13="","",IF(N13<=2,"Conforme",IF(N13>=3,"Non conforme",IF((N12>2)*AND(N12<3)*AND(N13>2)*AND(N13<3),"Investiguer + NC","A surveiller")))) | V13: =ABS(U13) -> 0 | W13: =IF(U13="","",IF(V13<=2,"Conforme",IF(V13>=3,"Non conforme",IF((V12>2)*AND(V12<3)*AND(V13>2)*AND(V13<3),"Investiguer + NC","A surveiller")))) | AD13: =ABS(AC13) -> 0 | AE13: =IF(AC13="","",IF(AD13<=2,"Conforme",IF(AD13>=3,"Non conforme",IF((AD12>2)*AND(AD12<3)*AND(AD13>2)*AND(AD13<3),"Investiguer + NC","A surveiller")))) | AK13: =ABS(AJ13) -> 0 | AL13: =IF(AJ13="","",IF(AK13<=2,"Conforme",IF(AK13>=3,"Non conforme",IF((AK12>2)*AND(AK12<3)*AND(AK13>2)*AND(AK13<3),"Investiguer + NC","A surveiller")))) | AR13: =ABS(AQ13) -> 0 | AS13: =IF(AQ13="","",IF(AR13<=2,"Conforme",IF(AR13>=3,"Non conforme",IF((AR12>2)*AND(AR12<3)*AND(AR13>2)*AND(AR13<3),"Investiguer + NC","A surveiller"))))
F14: =ABS(E14) -> 0 | G14: =IF(E14="","",IF(F14<=2,"Conforme",IF(F14>=3,"Non conforme",IF((F13>2)*AND(F13<3)*AND(F14>2)*AND(F14<3),"Investiguer + NC","A surveiller")))) | N14: =ABS(M14) -> 0 | O14: =IF(M14="","",IF(N14<=2,"Conforme",IF(N14>=3,"Non conforme",IF((N13>2)*AND(N13<3)*AND(N14>2)*AND(N14<3),"Investiguer + NC","A surveiller")))) | V14: =ABS(U14) -> 0 | W14: =IF(U14="","",IF(V14<=2,"Conforme",IF(V14>=3,"Non conforme",IF((V13>2)*AND(V13<3)*AND(V14>2)*AND(V14<3),"Investiguer + NC","A surveiller")))) | AD14: =ABS(AC14) -> 0 | AE14: =IF(AC14="","",IF(AD14<=2,"Conforme",IF(AD14>=3,"Non conforme",IF((AD13>2)*AND(AD13<3)*AND(AD14>2)*AND(AD14<3),"Investiguer + NC","A surveiller")))) | AK14: =ABS(AJ14) -> 0 | AL14: =IF(AJ14="","",IF(AK14<=2,"Conforme",IF(AK14>=3,"Non conforme",IF((AK13>2)*AND(AK13<3)*AND(AK14>2)*AND(AK14<3),"Investiguer + NC","A surveiller")))) | AR14: =ABS(AQ14) -> 0 | AS14: =IF(AQ14="","",IF(AR14<=2,"Conforme",IF(AR14>=3,"Non conforme",IF((AR13>2)*AND(AR13<3)*AND(AR14>2)*AND(AR14<3),"Investiguer + NC","A surveiller"))))
F15: =ABS(E15) -> 0 | G15: =IF(E15="","",IF(F15<=2,"Conforme",IF(F15>=3,"Non conforme",IF((F14>2)*AND(F14<3)*AND(F15>2)*AND(F15<3),"Investiguer + NC","A surveiller")))) | N15: =ABS(M15) -> 0 | O15: =IF(M15="","",IF(N15<=2,"Conforme",IF(N15>=3,"Non conforme",IF((N14>2)*AND(N14<3)*AND(N15>2)*AND(N15<3),"Investiguer + NC","A surveiller")))) | V15: =ABS(U15) -> 0 | W15: =IF(U15="","",IF(V15<=2,"Conforme",IF(V15>=3,"Non conforme",IF((V14>2)*AND(V14<3)*AND(V15>2)*AND(V15<3),"Investiguer + NC","A surveiller")))) | AD15: =ABS(AC15) -> 0 | AE15: =IF(AC15="","",IF(AD15<=2,"Conforme",IF(AD15>=3,"Non conforme",IF((AD14>2)*AND(AD14<3)*AND(AD15>2)*AND(AD15<3),"Investiguer + NC","A surveiller")))) | AK15: =ABS(AJ15) -> 0 | AL15: =IF(AJ15="","",IF(AK15<=2,"Conforme",IF(AK15>=3,"Non conforme",IF((AK14>2)*AND(AK14<3)*AND(AK15>2)*AND(AK15<3),"Investiguer + NC","A surveiller")))) | AR15: =ABS(AQ15) -> 0 | AS15: =IF(AQ15="","",IF(AR15<=2,"Conforme",IF(AR15>=3,"Non conforme",IF((AR14>2)*AND(AR14<3)*AND(AR15>2)*AND(AR15<3),"Investiguer + NC","A surveiller"))))
F16: =ABS(E16) -> 0 | G16: =IF(E16="","",IF(F16<=2,"Conforme",IF(F16>=3,"Non conforme",IF((F15>2)*AND(F15<3)*AND(F16>2)*AND(F16<3),"Investiguer + NC","A surveiller")))) | N16: =ABS(M16) -> 0 | O16: =IF(M16="","",IF(N16<=2,"Conforme",IF(N16>=3,"Non conforme",IF((N15>2)*AND(N15<3)*AND(N16>2)*AND(N16<3),"Investiguer + NC","A surveiller")))) | V16: =ABS(U16) -> 0 | W16: =IF(U16="","",IF(V16<=2,"Conforme",IF(V16>=3,"Non conforme",IF((V15>2)*AND(V15<3)*AND(V16>2)*AND(V16<3),"Investiguer + NC","A surveiller")))) | AD16: =ABS(AC16) -> 0 | AE16: =IF(AC16="","",IF(AD16<=2,"Conforme",IF(AD16>=3,"Non conforme",IF((AD15>2)*AND(AD15<3)*AND(AD16>2)*AND(AD16<3),"Investiguer + NC","A surveiller")))) | AK16: =ABS(AJ16) -> 0 | AL16: =IF(AJ16="","",IF(AK16<=2,"Conforme",IF(AK16>=3,"Non conforme",IF((AK15>2)*AND(AK15<3)*AND(AK16>2)*AND(AK16<3),"Investiguer + NC","A surveiller")))) | AR16: =ABS(AQ16) -> 0 | AS16: =IF(AQ16="","",IF(AR16<=2,"Conforme",IF(AR16>=3,"Non conforme",IF((AR15>2)*AND(AR15<3)*AND(AR16>2)*AND(AR16<3),"Investiguer + NC","A surveiller"))))
F17: =ABS(E17) -> 0 | G17: =IF(E17="","",IF(F17<=2,"Conforme",IF(F17>=3,"Non conforme",IF((F16>2)*AND(F16<3)*AND(F17>2)*AND(F17<3),"Investiguer + NC","A surveiller")))) | N17: =ABS(M17) -> 0 | O17: =IF(M17="","",IF(N17<=2,"Conforme",IF(N17>=3,"Non conforme",IF((N16>2)*AND(N16<3)*AND(N17>2)*AND(N17<3),"Investiguer + NC","A surveiller")))) | V17: =ABS(U17) -> 0 | W17: =IF(U17="","",IF(V17<=2,"Conforme",IF(V17>=3,"Non conforme",IF((V16>2)*AND(V16<3)*AND(V17>2)*AND(V17<3),"Investiguer + NC","A surveiller")))) | AD17: =ABS(AC17) -> 0 | AE17: =IF(AC17="","",IF(AD17<=2,"Conforme",IF(AD17>=3,"Non conforme",IF((AD16>2)*AND(AD16<3)*AND(AD17>2)*AND(AD17<3),"Investiguer + NC","A surveiller")))) | AK17: =ABS(AJ17) -> 0 | AL17: =IF(AJ17="","",IF(AK17<=2,"Conforme",IF(AK17>=3,"Non conforme",IF((AK16>2)*AND(AK16<3)*AND(AK17>2)*AND(AK17<3),"Investiguer + NC","A surveiller")))) | AR17: =ABS(AQ17) -> 0 | AS17: =IF(AQ17="","",IF(AR17<=2,"Conforme",IF(AR17>=3,"Non conforme",IF((AR16>2)*AND(AR16<3)*AND(AR17>2)*AND(AR17<3),"Investiguer + NC","A surveiller"))))
C18: Moyenne=E | D18: =IF(B6="","",AVERAGE(D6:D17)) -> -1 | E18: % EEQ Conforme | K18: Moyenne=E | L18: =IF(J6="","",AVERAGE(L6:L17)) -> 0.8 | M18: % EEQ Conforme | S18: Moyenne=E | T18: =IF(R6="","",AVERAGE(T6:T17)) -> -0.1 | U18: % EEQ Conforme | AA18: Moyenne=E | AB18: =IF(Z6="","",AVERAGE(AB6:AB17)) -> -0.1 | AC18: % EEQ Conforme | AH18: Moyenne=E | AI18: =IF(AG6="","",AVERAGE(AI6:AI17)) -> 0.45 | AJ18: % EEQ Conforme | AO18: Moyenne=E | AP18: =IF(AN6="","",AVERAGE(AP6:AP17)) -> 1.35 | AQ18: % EEQ Conforme
C19: ETE | D19: =IF(D18="","",_xlfn.STDEV.S(D6:D17)) -> 0.14142136 | E19: =COUNTIF(G6:H17,"Conforme")/COUNT(B6:B17) -> 1 | K19: ETE | L19: =IF(L18="","",_xlfn.STDEV.S(L6:L17)) -> 2.4041631 | M19: =COUNTIF(O6:P17,"Conforme")/COUNT(J6:J17) -> 1 | S19: ETE | T19: =IF(T18="","",_xlfn.STDEV.S(T6:T17)) -> 1.1313708 | U19: =COUNTIF(W6:X17,"Conforme")/COUNT(R6:R17) -> 1 | AA19: ETE | AB19: =IF(AB18="","",_xlfn.STDEV.S(AB6:AB17)) -> 1.1313708 | AC19: =COUNTIF(AE6:AE17,"Conforme")/COUNT(Z6:Z17) -> 1 | AH19: ETE | AI19: =IF(AI18="","",_xlfn.STDEV.S(AI6:AI17)) -> 0.35355339 | AJ19: =COUNTIF(AL6:AL17,"Conforme")/COUNT(AG6:AG17) -> 1 | AO19: ETE | AP19: =IF(AP18="","",_xlfn.STDEV.S(AP6:AP17)) -> 1.6263456 | AQ19: =COUNTIF(AS6:AS17,"Conforme")/COUNT(AN6:AN17) -> 1
A20: U(EEQ)=((E2/ √3)+(ETE2)1/2 | D20: =IF(D18="","",SQRT((D18/SQRT(3))^2+D19^2)) -> 0.59441848 | J20: U(EEQ) | L20: =IF(L18="","",SQRT((L18/SQRT(3))^2+L19^2)) -> 2.4481285 | R20: U(EEQ) | T20: =IF(T18="","",SQRT((T18/SQRT(3))^2+T19^2)) -> 1.132843 | Z20: U(EEQ) | AB20: =IF(AB18="","",SQRT((AB18/SQRT(3))^2+AB19^2)) -> 1.132843 | AG20: U(EEQ) | AI20: =IF(AI18="","",SQRT((AI18/SQRT(3))^2+AI19^2)) -> 0.43874822 | AN20: U(EEQ) | AP20: =IF(AP18="","",SQRT((AP18/SQRT(3))^2+AP19^2)) -> 1.8034689
A22: INCERTITUDE DE MESURE
D24: CIQ (Nom + N° lot + période d'utilisation) | I24: U (k=2) | M24: EXIGENCES DE PERFORMANCES
D25: Niveau 1 | G25: Niveau 2 | I25: Niveau 1 | K25: Niveau 2 | M25: SFBC | Q25: Interprétation | S25: RICOS | T25: Interprétation | W25: Commentaires 1 | Z25: Commentaires 2 | AF25: ET RICOS | AI25: NIVEAU SFBC
D26: Moyenne | E26: ET | G26: Moyenne | H26: ET | I26: Absolue | J26: relatif % | K26: Absolue | L26: relatif % | M26: N1 | O26: N2 | P26: N3 | AF26: Optimal | AG26: Acceptable | AH26: Minimum | AI26: N1 | AJ26: N2 | AL26: N3
A27: % | B27: HbA1c | C27: TERA 1 | D27: =IF(#REF!="","",#REF!) -> #REF! | E27: =IF(#REF!="","",#REF!) -> #REF! | G27: =IF(#REF!="","",#REF!) -> #REF! | H27: =IF(#REF!="","",#REF!) -> #REF! | I27: =IF(D27="","",2*SQRT((E27^2)+(D20^2))) -> #REF! | J27: =IF(D27="","",(I27/D27)*100) -> #REF! | K27: =IF(G27="","",2*SQRT((H27^2)+(D20^2))) -> #REF! | L27: =IF(G27="","",(K27/G27)*100) -> #REF! | M27: 15.929846 | O27: 15.929846 | P27: 15.929846 | Q27: =IF(D27="","",(IF((D27<=$AI$27)*AND(J27<=$M$27)*AND(G27<=$AJ$27)*AND(L27<=$O$27),"Conforme",(IF((D27>$AI$27)*AND(D27<=$AJ$27)*AND(J27<=$O$27)*AND(G27>$AJ$27)*AND(L27<=$P$27),"Conforme",(IF((D27<=$AI$27)*AND(J27<=$M$27)*AND(G27>$AJ$27)*AND(L27<=$P$27),"Conforme",(IF((D27>$AI$27)*AND(D27<=$AJ$27)*AND(J27<=$O$27)*AND(G27<=$AJ$27)*AND(L27<=$O$27),"Conforme",(IF((D27>$AJ$27)*AND(D27<$AL$27)*AND(J27<=$O$27)*AND(G27>$AJ$27)*AND(G27<$AL$27)*AND(L27<=$O$27),"Conforme",(IF((D27>$AJ$27)*AND(D27<$AL$27)*AND(G27>$AL$27)*AND(J27<=$O$27)*AND(L27<=$P$27),"Conforme","Non conforme"))))))))))))) -> #REF! | S27: =IF(D27="","",(IF((J27<AF27)*AND(L27<AF27),AF27,(IF((J27>=AF27)*AND(L27<=AF27)*AND(J27<AG27)*AND(L27<AG27),AG27,(IF((J27>=AF27)*AND(L27>=AF27)*AND(J27<AG27)*AND(L27<AG27),AG27,(IF((J27>=AF27)*AND(L27<=AF27)*AND(J27>=AG27)*AND(L27<AF27),AH27,(IF((J27>=AG27)*AND(L27>=AG27),AH27,(IF((J27>=AG27)*AND(L27>=AF27),AH27,(IF((J27<AG27)*AND(L27 >=AG27),AH27,))))))))))))))) -> #REF! | T27: =IF(D27="","",(IF((J27<=$S27)*AND(L27<=$S27),"Conforme","Non conforme"))) -> #REF! | W27: Aide à l'interprétation d'un seuil clinique ou thérapeutique, à l'interprétation des resultats par rapport aux antécédents | AF27: =VLOOKUP($B27,'Base de données'!$B:$AC,26,FALSE) -> 1.7607261 | AG27: =VLOOKUP($B27,'Base de données'!$B:$AC,27,FALSE) -> 3.5214521 | AH27: =VLOOKUP($B27,'Base de données'!$B:$AC,28,FALSE) -> 5.2821782 | AI27: =VLOOKUP($B27,'Base de données'!$B:$Z,3,FALSE) -> 5.5 | AJ27: =VLOOKUP($B27,'Base de données'!$B:$Z,4,FALSE) -> 8.5 | AL27: =VLOOKUP($B27,'Base de données'!$B:$Z,5,FALSE) -> 10
C28: TERA 2 | D28: =IF(#REF!="","",#REF!) -> #REF! | E28: =IF(#REF!="","",#REF!) -> #REF! | G28: =IF(#REF!="","",#REF!) -> #REF! | H28: =IF(#REF!="","",#REF!) -> #REF! | I28: =IF(D28="","",2*SQRT((E28^2)+(L20^2))) -> #REF! | J28: =IF(D28="","",(I28/D28)*100) -> #REF! | K28: =IF(G28="","",2*SQRT((H28^2)+(L20^2))) -> #REF! | L28: =IF(G28="","",(K28/G28)*100) -> #REF! | Q28: =IF(D28="","",(IF((D28<=$AI$27)*AND(J28<=$M$27)*AND(G28<=$AJ$27)*AND(L28<=$O$27),"Conforme",(IF((D28>$AI$27)*AND(D28<=$AJ$27)*AND(J28<=$O$27)*AND(G28>$AJ$27)*AND(L28<=$P$27),"Conforme",(IF((D28<=$AI$27)*AND(J28<=$M$27)*AND(G28>$AJ$27)*AND(L28<=$P$27),"Conforme",(IF((D28>$AI$27)*AND(D28<=$AJ$27)*AND(J28<=$O$27)*AND(G28<=$AJ$27)*AND(L28<=$O$27),"Conforme",(IF((D28>$AJ$27)*AND(D28<$AL$27)*AND(J28<=$O$27)*AND(G28>$AJ$27)*AND(G28<$AL$27)*AND(L28<=$O$27),"Conforme",(IF((D28>$AJ$27)*AND(D28<$AL$27)*AND(G28>$AL$27)*AND(J28<=$O$27)*AND(L28<=$P$27),"Conforme","Non conforme"))))))))))))) -> #REF! | T28: =IF(D28="","",(IF((J28<=$S28)*AND(L28<=$S28),"Conforme","Non conforme"))) -> #REF!
C29: TERA 3 | D29: =IF(#REF!="","",#REF!) -> #REF! | E29: =IF(#REF!="","",#REF!) -> #REF! | G29: =IF(#REF!="","",#REF!) -> #REF! | H29: =IF(#REF!="","",#REF!) -> #REF! | I29: =IF(D29="","",2*SQRT((E29^2)+(T20^2))) -> #REF! | J29: =IF(D29="","",(I29/D29)*100) -> #REF! | K29: =IF(G29="","",2*SQRT((H29^2)+(T20^2))) -> #REF! | L29: =IF(G29="","",(K29/G29)*100) -> #REF! | Q29: =IF(D29="","",(IF((D29<=$AI$27)*AND(J29<=$M$27)*AND(G29<=$AJ$27)*AND(L29<=$O$27),"Conforme",(IF((D29>$AI$27)*AND(D29<=$AJ$27)*AND(J29<=$O$27)*AND(G29>$AJ$27)*AND(L29<=$P$27),"Conforme",(IF((D29<=$AI$27)*AND(J29<=$M$27)*AND(G29>$AJ$27)*AND(L29<=$P$27),"Conforme",(IF((D29>$AI$27)*AND(D29<=$AJ$27)*AND(J29<=$O$27)*AND(G29<=$AJ$27)*AND(L29<=$O$27),"Conforme",(IF((D29>$AJ$27)*AND(D29<$AL$27)*AND(J29<=$O$27)*AND(G29>$AJ$27)*AND(G29<$AL$27)*AND(L29<=$O$27),"Conforme",(IF((D29>$AJ$27)*AND(D29<$AL$27)*AND(G29>$AL$27)*AND(J29<=$O$27)*AND(L29<=$P$27),"Conforme","Non conforme"))))))))))))) -> #REF! | T29: =IF(D29="","",(IF((J29<=$S29)*AND(L29<=$S29),"Conforme","Non conforme"))) -> #REF!
C30: TERA 4 | D30: =IF(#REF!="","",#REF!) -> #REF! | E30: =IF(#REF!="","",#REF!) -> #REF! | G30: =IF(#REF!="","",#REF!) -> #REF! | H30: =IF(#REF!="","",#REF!) -> #REF! | I30: =IF(D30="","",2*SQRT((E30^2)+(AB20^2))) -> #REF! | J30: =IF(D30="","",(I30/D30)*100) -> #REF! | K30: =IF(G30="","",2*SQRT((H30^2)+(AB20^2))) -> #REF! | L30: =IF(G30="","",(K30/G30)*100) -> #REF! | Q30: =IF(D30="","",(IF((D30<=$AI$27)*AND(J30<=$M$27)*AND(G30<=$AJ$27)*AND(L30<=$O$27),"Conforme",(IF((D30>$AI$27)*AND(D30<=$AJ$27)*AND(J30<=$O$27)*AND(G30>$AJ$27)*AND(L30<=$P$27),"Conforme",(IF((D30<=$AI$27)*AND(J30<=$M$27)*AND(G30>$AJ$27)*AND(L30<=$P$27),"Conforme",(IF((D30>$AI$27)*AND(D30<=$AJ$27)*AND(J30<=$O$27)*AND(G30<=$AJ$27)*AND(L30<=$O$27),"Conforme",(IF((D30>$AJ$27)*AND(D30<$AL$27)*AND(J30<=$O$27)*AND(G30>$AJ$27)*AND(G30<$AL$27)*AND(L30<=$O$27),"Conforme",(IF((D30>$AJ$27)*AND(D30<$AL$27)*AND(G30>$AL$27)*AND(J30<=$O$27)*AND(L30<=$P$27),"Conforme","Non conforme"))))))))))))) -> #REF! | T30: =IF(D30="","",(IF((J30<=$S30)*AND(L30<=$S30),"Conforme","Non conforme"))) -> #REF!
C31: TERA 5 | D31: =IF(#REF!="","",#REF!) -> #REF! | E31: =IF(#REF!="","",#REF!) -> #REF! | G31: =IF(#REF!="","",#REF!) -> #REF! | H31: =IF(#REF!="","",#REF!) -> #REF! | I31: =IF(D31="","",2*SQRT((E31^2)+(AI20^2))) -> #REF! | J31: =IF(D31="","",(I31/D31)*100) -> #REF! | K31: =IF(G31="","",2*SQRT((H31^2)+(AI20^2))) -> #REF! | L31: =IF(G31="","",(K31/G31)*100) -> #REF! | Q31: =IF(D31="","",(IF((D31<=$AI$27)*AND(J31<=$M$27)*AND(G31<=$AJ$27)*AND(L31<=$O$27),"Conforme",(IF((D31>$AI$27)*AND(D31<=$AJ$27)*AND(J31<=$O$27)*AND(G31>$AJ$27)*AND(L31<=$P$27),"Conforme",(IF((D31<=$AI$27)*AND(J31<=$M$27)*AND(G31>$AJ$27)*AND(L31<=$P$27),"Conforme",(IF((D31>$AI$27)*AND(D31<=$AJ$27)*AND(J31<=$O$27)*AND(G31<=$AJ$27)*AND(L31<=$O$27),"Conforme",(IF((D31>$AJ$27)*AND(D31<$AL$27)*AND(J31<=$O$27)*AND(G31>$AJ$27)*AND(G31<$AL$27)*AND(L31<=$O$27),"Conforme",(IF((D31>$AJ$27)*AND(D31<$AL$27)*AND(G31>$AL$27)*AND(J31<=$O$27)*AND(L31<=$P$27),"Conforme","Non conforme"))))))))))))) -> #REF! | T31: =IF(D31="","",(IF((J31<=$S31)*AND(L31<=$S31),"Conforme","Non conforme"))) -> #REF!
C32: TERA 6 | D32: =IF(#REF!="","",#REF!) -> #REF! | E32: =IF(#REF!="","",#REF!) -> #REF! | G32: =IF(#REF!="","",#REF!) -> #REF! | H32: =IF(#REF!="","",#REF!) -> #REF! | I32: =IF(D32="","",2*SQRT((E32^2)+(AP20^2))) -> #REF! | J32: =IF(D32="","",(I32/D32)*100) -> #REF! | K32: =IF(G32="","",2*SQRT((H32^2)+(AP20^2))) -> #REF! | L32: =IF(G32="","",(K32/G32)*100) -> #REF! | Q32: =IF(D32="","",(IF((D32<=$AI$27)*AND(J32<=$M$27)*AND(G32<=$AJ$27)*AND(L32<=$O$27),"Conforme",(IF((D32>$AI$27)*AND(D32<=$AJ$27)*AND(J32<=$O$27)*AND(G32>$AJ$27)*AND(L32<=$P$27),"Conforme",(IF((D32<=$AI$27)*AND(J32<=$M$27)*AND(G32>$AJ$27)*AND(L32<=$P$27),"Conforme",(IF((D32>$AI$27)*AND(D32<=$AJ$27)*AND(J32<=$O$27)*AND(G32<=$AJ$27)*AND(L32<=$O$27),"Conforme",(IF((D32>$AJ$27)*AND(D32<$AL$27)*AND(J32<=$O$27)*AND(G32>$AJ$27)*AND(G32<$AL$27)*AND(L32<=$O$27),"Conforme",(IF((D32>$AJ$27)*AND(D32<$AL$27)*AND(G32>$AL$27)*AND(J32<=$O$27)*AND(L32<=$P$27),"Conforme","Non conforme"))))))))))))) -> #REF! | T32: =IF(D32="","",(IF((J32<=$S32)*AND(L32<=$S32),"Conforme","Non conforme"))) -> #REF!
B34: VISA BIOLOGISTE

Sheet Base de données
E1: 5 | K1: 10 | P1: 15 | U1: 20 | X1: 23 | AA1: 26
C2: Unités | D2: Niveaux (modifiés) | G2: Reproductibilité ( % ) | J2: Justesse ( % ) | M2: CV intra-individuel (CVw) | N2: CV inter-individuel (CVg) | O2: Imprecision | R2: Biais | U2: Erreur Totale RICOS | X2: Exigence de performance SFBC | AA2: Incertitude souhaitable avec FI et Biais Ricos | AD2: Aide à l'interprétation d'un seuil clinique ou thérapeutique
B3: SELECTIONNER L'EXAMEN | D3: Bas | E3: Moyen | F3: Elevé | G3: Bas | H3: Moyen | I3: Elevé | J3: Bas | K3: Moyen | L3: Elevé | O3: Optimale | P3: Souhaitable | Q3: minimale | R3: Biais Optimum | S3: Biais Souhaitable | T3: Biais minimum | U3: Optimale | V3: Souhaitable | W3: minimale | X3: Bas | Y3: Moyen | Z3: Elevé | AA3: Optimale | AB3: Souhaitable | AC3: minimale | AD3: Aide à l'interprétation des resultats par rapport aux antécédents
A4: 1 | B4: a2-Macroglobuline | C4: g/l | D4: 1.5 | E4: 3 | F4: 4 | G4: 6 | H4: 5 | I4: 4 | J4: 5.3 | K4: 6.2 | L4: 6.9 | M4: 3.4 | N4: 18.7 | O4: =0.25*M4 -> 0.85 | P4: =0.5*M4 -> 1.7 | Q4: =0.75*M4 -> 2.55 | R4: =IF(N4="---","---",0.125*SQRT(POWER(M4,2)+POWER(N4,2))) -> 2.3758222 | S4: =IF(N4="---","---",0.25*SQRT(POWER(M4,2)+POWER(N4,2))) -> 4.7516445 | T4: =IF(N4="---","---",0.375*SQRT(POWER(M4,2)+POWER(N4,2))) -> 7.1274667 | U4: =IF($N4="---","---",$O4*1.65+$R4) -> 3.7783222 | V4: =IF($N4="---","---",$P4*1.65+$S4) -> 7.5566445 | W4: =IF($N4="---","---",$Q4*1.65+$T4) -> 11.334967 | X4: =2*(SQRT((G4^2)+(J4^2))) -> 16.011246 | Y4: =2*(SQRT((H4^2)+(K4^2))) -> 15.929846 | Z4: =2*(SQRT((I4^2)+(L4^2))) -> 15.951176 | AA4: =2*(SQRT((O4^2)+(R4^2))) -> 5.0465954 | AB4: =2*(SQRT((P4^2)+(S4^2))) -> 10.093191 | AC4: =2*(SQRT((Q4^2)+(T4^2))) -> 15.139786 | AD4: Aide à l'interprétation d'un seuil clinique ou thérapeutique, à l'interprétation des resultats par rapport aux antécédents, a l'ajustage des zones grises
A5: 2 | B5: Amylase | C5: U/l | D5: 125 | E5: 275 | F5: 400 | G5: 4.5 | H5: 4.5 | I5: 3.8 | J5: 6 | K5: 6 | L5: 5 | M5: 8.7 | N5: 28.3 | O5: =0.25*M5 -> 2.175 | P5: =0.5*M5 -> 4.35 | Q5: =0.75*M5 -> 6.525 | R5: =IF(N5="---","---",0.125*SQRT(POWER(M5,2)+POWER(N5,2))) -> 3.7008867 | S5: =IF(N5="---","---",0.25*SQRT(POWER(M5,2)+POWER(N5,2))) -> 7.4017734 | T5: =IF(N5="---","---",0.375*SQRT(POWER(M5,2)+POWER(N5,2))) -> 11.10266 | U5: =IF($N5="---","---",$O5*1.65+$R5) -> 7.2896367 | V5: =IF($N5="---","---",$P5*1.65+$S5) -> 14.579273 | W5: =IF($N5="---","---",$Q5*1.65+$T5) -> 21.86891 | X5: =2*(SQRT((G5^2)+(J5^2))) -> 15 | Y5: =2*(SQRT((H5^2)+(K5^2))) -> 15 | Z5: =2*(SQRT((I5^2)+(L5^2))) -> 12.560255 | AA5: =2*(SQRT((O5^2)+(R5^2))) -> 8.58538 | AB5: =2*(SQRT((P5^2)+(S5^2))) -> 17.17076 | AC5: =2*(SQRT((Q5^2)+(T5^2))) -> 25.75614 | AD5: Aide à l'interprétation des resultats par rapport aux antécédents,à l'ajustage des zones grises
A6: 3 | B6: a-Amylase U | C6: U/l | D6: ? | E6: ? | F6: ? | G6: ? | H6: ? | I6: ? | J6: ? | K6: ? | L6: ? | M6: 94 | N6: 46 | O6: =0.25*M6 -> 23.5 | P6: =0.5*M6 -> 47 | Q6: =0.75*M6 -> 70.5 | R6: =IF(N6="---","---",0.125*SQRT(POWER(M6,2)+POWER(N6,2))) -> 13.081475 | S6: =IF(N6="---","---",0.25*SQRT(POWER(M6,2)+POWER(N6,2))) -> 26.162951 | T6: =IF(N6="---","---",0.375*SQRT(POWER(M6,2)+POWER(N6,2))) -> 39.244426 | U6: =IF($N6="---","---",$O6*1.65+$R6) -> 51.856475 | V6: =IF($N6="---","---",$P6*1.65+$S6) -> 103.71295 | W6: =IF($N6="---","---",$Q6*1.65+$T6) -> 155.56943 | X6: ? | Y6: ? | Z6: ? | AA6: =2*(SQRT((O6^2)+(R6^2))) -> 53.791263 | AB6: =2*(SQRT((P6^2)+(S6^2))) -> 107.58253 | AC6: =2*(SQRT((Q6^2)+(T6^2))) -> 161.37379 | AD6: Aide à l'interprétation d'un seuil clinique ou thérapeutique, à l'interprétation des resultats par rapport aux antécédents
A7: 4 | B7: Ac HAV | C7: COI | D7: ? | E7: ? | F7: ? | G7: ? | H7: ? | I7: ? | J7: ? | K7: ? | L7: ? | M7: ? | N7: ? | O7: ? | P7: ? | Q7: ? | R7: ? | S7: ? | T7: ? | U7: ? | V7: ? | W7: ? | X7: ? | Y7: ? | Z7: ? | AA7: ? | AB7: ? | AC7: ?
A8: 5 | B8: Ac HAV IgM | C8: COI | D8: ? | E8: ? | F8: ? | G8: ? | H8: ? | I8: ? | J8: ? | K8: ? | L8: ? | M8: ? | N8: ? | O8: ? | P8: ? | Q8: ? | R8: ? | S8: ? | T8: ? | U8: ? | V8: ? | W8: ? | X8: ? | Y8: ? | Z8: ? | AA8: ? | AB8: ? | AC8: ?
A9: 6 | B9: Ac HBc | C9: COI | D9: ? | E9: ? | F9: ? | G9: ? | H9: ? | I9: ? | J9: ? | K9: ? | L9: ? | M9: ? | N9: ? | O9: ? | P9: ? | Q9: ? | R9: ? | S9: ? | T9: ? | U9: ? | V9: ? | W9: ? | X9: ? | Y9: ? | Z9: ? | AA9: ? | AB9: ? | AC9: ?
A10: 7 | B10: Ac HBc IgM | C10: COI | D10: ? | E10: ? | F10: ? | G10: ? | H10: ? | I10: ? | J10: ? | K10: ? | L10: ? | M10: ? | N10: ? | O10: ? | P10: ? | Q10: ? | R10: ? | S10: ? | T10: ? | U10: ? | V10: ? | W10: ? | X10: ? | Y10: ? | Z10: ? | AA10: ? | AB10: ? | AC10: ?
A11: 8 | B11: Ac HBe | C11: COI | D11: ? | E11: ? | F11: ? | G11: ? | H11: ? | I11: ? | J11: ? | K11: ? | L11: ? | M11: ? | N11: ? | O11: ? | P11: ? | Q11: ? | R11: ? | S11: ? | T11: ? | U11: ? | V11: ? | W11: ? | X11: ? | Y11: ? | Z11: ? | AA11: ? | AB11: ? | AC11: ?
A12: 9 | B12: Ac HBs | C12: COI | D12: 5 | E12: 7.5 | F12: 10 | G12: ? | H12: ? | I12: ? | J12: ? | K12: ? | L12: ? | M12: ? | N12: ? | O12: ? | P12: ? | Q12: ? | R12: ? | S12: ? | T12: ? | U12: ? | V12: ? | W12: ? | X12: ? | Y12: ? | Z12: ? | AA12: ? | AB12: ? | AC12: ?
A13: 10 | B13: Ac HCV | C13: COI | D13: ? | E13: ? | F13: ? | G13: ? | H13: ? | I13: ? | J13: ? | K13: ? | L13: ? | M13: ? | N13: ? | O13: ? | P13: ? | Q13: ? | R13: ? | S13: ? | T13: ? | U13: ? | V13: ? | W13: ? | X13: ? | Y13: ? | Z13: ? | AA13: ? | AB13: ? | AC13: ?
A14: 11 | B14: ACE | C14: ng/ml | D14: 12.5 | E14: 32.5 | F14: 50 | G14: 15 | H14: 8 | I14: 8 | J14: 13.2 | K14: 8.9 | L14: 8.9 | M14: 12.7 | N14: 55.6 | O14: =0.25*M14 -> 3.175 | P14: =0.5*M14 -> 6.35 | Q14: =0.75*M14 -> 9.525 | R14: =IF(N14="---","---",0.125*SQRT(POWER(M14,2)+POWER(N14,2))) -> 7.1290011 | S14: =IF(N14="---","---",0.25*SQRT(POWER(M14,2)+POWER(N14,2))) -> 14.258002 | T14: =IF(N14="---","---",0.375*SQRT(POWER(M14,2)+POWER(N14,2))) -> 21.387003 | U14: =IF($N14="---","---",$O14*1.65+$R14) -> 12.367751 | V14: =IF($N14="---","---",$P14*1.65+$S14) -> 24.735502 | W14: =IF($N14="---","---",$Q14*1.65+$T14) -> 37.103253 | X14: =2*(SQRT((G14^2)+(J14^2))) -> 39.961982 | Y14: =2*(SQRT((H14^2)+(K14^2))) -> 23.934076 | Z14: =2*(SQRT((I14^2)+(L14^2))) -> 23.934076 | AA14: =2*(SQRT((O14^2)+(R14^2))) -> 15.608111 | AB14: =2*(SQRT((P14^2)+(S14^2))) -> 31.216222 | AC14: =2*(SQRT((Q14^2)+(T14^2))) -> 46.824333
A15: 12 | B15: Acide urique | C15: µmol/l | D15: 225 | E15: 375 | F15: 450 | G15: 3.6 | H15: 3.2 | I15: 2.8 | J15: 7.1 | K15: 6.2 | L15: 5.3 | M15: 8.6 | N15: 17.5 | O15: =0.25*M15 -> 2.15 | P15: =0.5*M15 -> 4.3 | Q15: =0.75*M15 -> 6.45 | R15: =IF(N15="---","---",0.125*SQRT(POWER(M15,2)+POWER(N15,2))) -> 2.4373718 | S15: =IF(N15="---","---",0.25*SQRT(POWER(M15,2)+POWER(N15,2))) -> 4.8747436 | T15: =IF(N15="---","---",0.375*SQRT(POWER(M15,2)+POWER(N15,2))) -> 7.3121154 | U15: =IF($N15="---","---",$O15*1.65+$R15) -> 5.9848718 | V15: =IF($N15="---","---",$P15*1.65+$S15) -> 11.969744 | W15: =IF($N15="---","---",$Q15*1.65+$T15) -> 17.954615 | X15: =2*(SQRT((G15^2)+(J15^2))) -> 15.921055 | Y15: =2*(SQRT((H15^2)+(K15^2))) -> 13.954211 | Z15: =2*(SQRT((I15^2)+(L15^2))) -> 11.988328 | AA15: =2*(SQRT((O15^2)+(R15^2))) -> 6.5002404 | AB15: =2*(SQRT((P15^2)+(S15^2))) -> 13.000481 | AC15: =2*(SQRT((Q15^2)+(T15^2))) -> 19.500721
A16: 13 | B16: Acide urique U | C16: mmol/l | D16: 1 | E16: 2.75 | F16: 4 | G16: 6 | H16: 5 | I16: 4 | J16: 10.4 | K16: 8.7 | L16: 6.9 | M16: 16.8 | N16: 14.4 | O16: =0.25*M16 -> 4.2 | P16: =0.5*M16 -> 8.4 | Q16: =0.75*M16 -> 12.6 | R16: =IF(N16="---","---",0.125*SQRT(POWER(M16,2)+POWER(N16,2))) -> 2.7658633 | S16: =IF(N16="---","---",0.25*SQRT(POWER(M16,2)+POWER(N16,2))) -> 5.5317267 | T16: =IF(N16="---","---",0.375*SQRT(POWER(M16,2)+POWER(N16,2))) -> 8.29759 | U16: =IF($N16="---","---",$O16*1.65+$R16) -> 9.6958633 | V16: =IF($N16="---","---",$P16*1.65+$S16) -> 19.391727 | W16: =IF($N16="---","---",$Q16*1.65+$T16) -> 29.08759 | X16: =2*(SQRT((G16^2)+(J16^2))) -> 24.01333 | Y16: =2*(SQRT((H16^2)+(K16^2))) -> 20.068881 | Z16: =2*(SQRT((I16^2)+(L16^2))) -> 15.951176 | AA16: =2*(SQRT((O16^2)+(R16^2))) -> 10.057833 | AB16: =2*(SQRT((P16^2)+(S16^2))) -> 20.115666 | AC16: =2*(SQRT((Q16^2)+(T16^2))) -> 30.173498
A17: 14 | B17: AFP | C17: kUI/l | D17: 30 | E17: 125 | F17: 200 | G17: 15 | H17: 8 | I17: 8 | J17: 13.2 | K17: 8.9 | L17: 8.9 | M17: 12.2 | N17: 45.6 | O17: =0.25*M17 -> 3.05 | P17: =0.5*M17 -> 6.1 | Q17: =0.75*M17 -> 9.15 | R17: =IF(N17="---","---",0.125*SQRT(POWER(M17,2)+POWER(N17,2))) -> 5.9004767 | S17: =IF(N17="---","---",0.25*SQRT(POWER(M17,2)+POWER(N17,2))) -> 11.800953 | T17: =IF(N17="---","---",0.375*SQRT(POWER(M17,2)+POWER(N17,2))) -> 17.70143 | U17: =IF($N17="---","---",$O17*1.65+$R17) -> 10.932977 | V17: =IF($N17="---","---",$P17*1.65+$S17) -> 21.865953 | W17: =IF($N17="---","---",$Q17*1.65+$T17) -> 32.79893 | X17: =2*(SQRT((G17^2)+(J17^2))) -> 39.961982 | Y17: =2*(SQRT((H17^2)+(K17^2))) -> 23.934076 | Z17: =2*(SQRT((I17^2)+(L17^2))) -> 23.934076 | AA17: =2*(SQRT((O17^2)+(R17^2))) -> 13.284295 | AB17: =2*(SQRT((P17^2)+(S17^2))) -> 26.56859 | AC17: =2*(SQRT((Q17^2)+(T17^2))) -> 39.852886
A18: 15 | B18: Ag HBc | C18: COI | D18: ? | E18: ? | F18: ? | G18: ? | H18: ? | I18: ? | J18: ? | K18: ? | L18: ? | M18: ? | N18: ? | O18: ? | P18: ? | Q18: ? | R18: ? | S18: ? | T18: ? | U18: ? | V18: ? | W18: ? | X18: ? | Y18: ? | Z18: ? | AA18: ? | AB18: ? | AC18: ?
A19: 16 | B19: Ag Hbe | C19: COI | D19: ? | E19: ? | F19: ? | G19: ? | H19: ? | I19: ? | J19: ? | K19: ? | L19: ? | M19: ? | N19: ? | O19: ? | P19: ? | Q19: ? | R19: ? | S19: ? | T19: ? | U19: ? | V19: ? | W19: ? | X19: ? | Y19: ? | Z19: ? | AA19: ? | AB19: ? | AC19: ?
A20: 17 | B20: Ag HBs | C20: COI | D20: ? | E20: ? | F20: ? | G20: ? | H20: ? | I20: ? | J20: ? | K20: ? | L20: ? | M20: ? | N20: ? | O20: ? | P20: ? | Q20: ? | R20: ? | S20: ? | T20: ? | U20: ? | V20: ? | W20: ? | X20: ? | Y20: ? | Z20: ? | AA20: ? | AB20: ? | AC20: ?
A21: 18 | B21: ALAT | C21: U/l | D21: 35 | E21: 125 | F21: 200 | G21: 6 | H21: 6 | I21: 5 | J21: 8 | K21: 6.7 | L21: 6.2 | M21: 19.4 | N21: 41.6 | O21: =0.25*M21 -> 4.85 | P21: =0.5*M21 -> 9.7 | Q21: =0.75*M21 -> 14.55 | R21: =IF(N21="---","---",0.125*SQRT(POWER(M21,2)+POWER(N21,2))) -> 5.7376498 | S21: =IF(N21="---","---",0.25*SQRT(POWER(M21,2)+POWER(N21,2))) -> 11.4753 | T21: =IF(N21="---","---",0.375*SQRT(POWER(M21,2)+POWER(N21,2))) -> 17.212949 | U21: =IF($N21="---","---",$O21*1.65+$R21) -> 13.74015 | V21: =IF($N21="---","---",$P21*1.65+$S21) -> 27.4803 | W21: =IF($N21="---","---",$Q21*1.65+$T21) -> 41.220449 | X21: =2*(SQRT((G21^2)+(J21^2))) -> 20 | Y21: =2*(SQRT((H21^2)+(K21^2))) -> 17.987774 | Z21: =2*(SQRT((I21^2)+(L21^2))) -> 15.929846 | AA21: =2*(SQRT((O21^2)+(R21^2))) -> 15.025728 | AB21: =2*(SQRT((P21^2)+(S21^2))) -> 30.051456 | AC21: =2*(SQRT((Q21^2)+(T21^2))) -> 45.077184
A22: 19 | B22: Albumin, concentration, first morning | C22: ? | D22: ? | E22: ? | F22: ? | G22: ? | H22: ? | I22: ? | J22: ? | K22: ? | L22: ? | M22: 35 | N22: 35 | O22: =0.25*M22 -> 8.75 | P22: =0.5*M22 -> 17.5 | Q22: =0.75*M22 -> 26.25 | R22: =IF(N22="---","---",0.125*SQRT(POWER(M22,2)+POWER(N22,2))) -> 6.1871843 | S22: =IF(N22="---","---",0.25*SQRT(POWER(M22,2)+POWER(N22,2))) -> 12.374369 | T22: =IF(N22="---","---",0.375*SQRT(POWER(M22,2)+POWER(N22,2))) -> 18.561553 | U22: =IF($N22="---","---",$O22*1.65+$R22) -> 20.624684 | V22: =IF($N22="---","---",$P22*1.65+$S22) -> 41.249369 | W22: =IF($N22="---","---",$Q22*1.65+$T22) -> 61.874053 | X22: ? | Y22: ? | Z22: ? | AA22: =2*(SQRT((O22^2)+(R22^2))) -> 21.433035 | AB22: =2*(SQRT((P22^2)+(S22^2))) -> 42.86607 | AC22: =2*(SQRT((Q22^2)+(T22^2))) -> 64.299106
A23: 20 | B23: Albumine | C23: g/l | D23: 25 | E23: 40 | F23: 50 | G23: 6 | H23: 5 | I23: 4 | J23: 5.3 | K23: 6.2 | L23: 6.9 | M23: 3.2 | N23: 4.75 | O23: =0.25*M23 -> 0.8 | P23: =0.5*M23 -> 1.6 | Q23: =0.75*M23 -> 2.4 | R23: =IF(N23="---","---",0.125*SQRT(POWER(M23,2)+POWER(N23,2))) -> 0.71591834 | S23: =IF(N23="---","---",0.25*SQRT(POWER(M23,2)+POWER(N23,2))) -> 1.4318367 | T23: =IF(N23="---","---",0.375*SQRT(POWER(M23,2)+POWER(N23,2))) -> 2.147755 | U23: =IF($N23="---","---",$O23*1.65+$R23) -> 2.0359183 | V23: =IF($N23="---","---",$P23*1.65+$S23) -> 4.0718367 | W23: =IF($N23="---","---",$Q23*1.65+$T23) -> 6.107755 | X23: =2*(SQRT((G23^2)+(J23^2))) -> 16.011246 | Y23: =2*(SQRT((H23^2)+(K23^2))) -> 15.929846 | Z23: =2*(SQRT((I23^2)+(L23^2))) -> 15.951176 | AA23: =2*(SQRT((O23^2)+(R23^2))) -> 2.1471274 | AB23: =2*(SQRT((P23^2)+(S23^2))) -> 4.2942549 | AC23: =2*(SQRT((Q23^2)+(T23^2))) -> 6.4413823
A24: 21 | B24: Alcool | C24: mg/dL | D24: ? | E24: ? | F24: ? | G24: ? | H24: ? | I24: ? | J24: ? | K24: ? | L24: ? | M24: - | N24: - | O24: ? | P24: ? | Q24: ? | R24: ? | S24: ? | T24: ? | U24: ? | V24: ? | W24: ? | X24: ? | Y24: ? | Z24: ? | AA24: ? | AB24: ? | AC24: ?
A25: 22 | B25: Alpha 1 | C25: g/l | D25: ? | E25: ? | F25: ? | G25: ? | H25: ? | I25: ? | J25: ? | K25: ? | L25: ? | M25: 11.4 | N25: 22.6 | O25: =0.25*M25 -> 2.85 | P25: =0.5*M25 -> 5.7 | Q25: =0.75*M25 -> 8.55 | R25: =IF(N25="---","---",0.125*SQRT(POWER(M25,2)+POWER(N25,2))) -> 3.1640559 | S25: =IF(N25="---","---",0.25*SQRT(POWER(M25,2)+POWER(N25,2))) -> 6.3281119 | T25: =IF(N25="---","---",0.375*SQRT(POWER(M25,2)+POWER(N25,2))) -> 9.4921678 | U25: =IF($N25="---","---",$O25*1.65+$R25) -> 7.8665559 | V25: =IF($N25="---","---",$P25*1.65+$S25) -> 15.733112 | W25: =IF($N25="---","---",$Q25*1.65+$T25) -> 23.599668 | X25: ? | Y25: ? | Z25: ? | AA25: =2*(SQRT((O25^2)+(R25^2))) -> 8.5167482 | AB25: =2*(SQRT((P25^2)+(S25^2))) -> 17.033496 | AC25: =2*(SQRT((Q25^2)+(T25^2))) -> 25.550245
A26: 23 | B26: Alpha 2 | C26: g/l | D26: ? | E26: ? | F26: ? | G26: ? | H26: ? | I26: ? | J26: ? | K26: ? | L26: ? | M26: 10.3 | N26: 12.7 | O26: =0.25*M26 -> 2.575 | P26: =0.5*M26 -> 5.15 | Q26: =0.75*M26 -> 7.725 | R26: =IF(N26="---","---",0.125*SQRT(POWER(M26,2)+POWER(N26,2))) -> 2.0439698 | S26: =IF(N26="---","---",0.25*SQRT(POWER(M26,2)+POWER(N26,2))) -> 4.0879396 | T26: =IF(N26="---","---",0.375*SQRT(POWER(M26,2)+POWER(N26,2))) -> 6.1319094 | U26: =IF($N26="---","---",$O26*1.65+$R26) -> 6.2927198 | V26: =IF($N26="---","---",$P26*1.65+$S26) -> 12.58544 | W26: =IF($N26="---","---",$Q26*1.65+$T26) -> 18.878159 | X26: ? | Y26: ? | Z26: ? | AA26: =2*(SQRT((O26^2)+(R26^2))) -> 6.5752376 | AB26: =2*(SQRT((P26^2)+(S26^2))) -> 13.150475 | AC26: =2*(SQRT((Q26^2)+(T26^2))) -> 19.725713
A27: 24 | B27: Amikacine | C27: mg/l | D27: 11 | E27: 30 | F27: 40 | G27: 10 | H27: 8 | I27: 8 | J27: 11.2 | K27: 8.9 | L27: 8.9 | M27: - | N27: - | O27: ? | P27: ? | Q27: ? | R27: ? | S27: ? | T27: ? | U27: ? | V27: ? | W27: ? | X27: =2*(SQRT((G27^2)+(J27^2))) -> 30.029319 | Y27: =2*(SQRT((H27^2)+(K27^2))) -> 23.934076 | Z27: =2*(SQRT((I27^2)+(L27^2))) -> 23.934076 | AA27: ? | AB27: ? | AC27: ?
A28: 25 | B28: Ammonium | C28: µmol/l | D28: 75 | E28: 150 | F28: 200 | G28: 7 | H28: 6 | I28: 5 | J28: 7.1 | K28: 6.7 | L28: 6.2 | M28: - | N28: - | O28: ? | P28: ? | Q28: ? | R28: ? | S28: ? | T28: ? | U28: ? | V28: ? | W28: ? | X28: =2*(SQRT((G28^2)+(J28^2))) -> 19.940913 | Y28: =2*(SQRT((H28^2)+(K28^2))) -> 17.987774 | Z28: =2*(SQRT((I28^2)+(L28^2))) -> 15.929846 | AA28: ? | AB28: ? | AC28: ?
A29: 26 | B29: Amphetamines | C29: ng/mL | D29: ? | E29: ? | F29: ? | G29: ? | H29: ? | I29: ? | J29: ? | K29: ? | L29: ? | M29: - | N29: - | O29: ? | P29: ? | Q29: ? | R29: ? | S29: ? | T29: ? | U29: ? | V29: ? | W29: ? | X29: ? | Y29: ? | Z29: ? | AA29: ? | AB29: ? | AC29: ?
A30: 27 | B30: ANTI TG | C30: ? | D30: ? | E30: ? | F30: ? | G30: ? | H30: ? | I30: ? | J30: ? | K30: ? | L30: ? | M30: 8.5 | N30: 82 | O30: =0.25*M30 -> 2.125 | P30: =0.5*M30 -> 4.25 | Q30: =0.75*M30 -> 6.375 | R30: =IF(N30="---","---",0.125*SQRT(POWER(M30,2)+POWER(N30,2))) -> 10.304921 | S30: =IF(N30="---","---",0.25*SQRT(POWER(M30,2)+POWER(N30,2))) -> 20.609843 | T30: =IF(N30="---","---",0.375*SQRT(POWER(M30,2)+POWER(N30,2))) -> 30.914764 | U30: =IF($N30="---","---",$O30*1.65+$R30) -> 13.811171 | V30: =IF($N30="---","---",$P30*1.65+$S30) -> 27.622343 | W30: =IF($N30="---","---",$Q30*1.65+$T30) -> 41.433514 | X30: ? | Y30: ? | Z30: ? | AA30: =2*(SQRT((O30^2)+(R30^2))) -> 21.043482 | AB30: =2*(SQRT((P30^2)+(S30^2))) -> 42.086964 | AC30: =2*(SQRT((Q30^2)+(T30^2))) -> 63.130445
A31: 28 | B31: ANTI TPO | C31: ? | D31: ? | E31: ? | F31: ? | G31: ? | H31: ? | I31: ? | J31: ? | K31: ? | L31: ? | M31: 11.3 | N31: 147 | O31: =0.25*M31 -> 2.825 | P31: =0.5*M31 -> 5.65 | Q31: =0.75*M31 -> 8.475 | R31: =IF(N31="---","---",0.125*SQRT(POWER(M31,2)+POWER(N31,2))) -> 18.42921 | S31: =IF(N31="---","---",0.25*SQRT(POWER(M31,2)+POWER(N31,2))) -> 36.85842 | T31: =IF(N31="---","---",0.375*SQRT(POWER(M31,2)+POWER(N31,2))) -> 55.28763 | U31: =IF($N31="---","---",$O31*1.65+$R31) -> 23.09046 | V31: =IF($N31="---","---",$P31*1.65+$S31) -> 46.18092 | W31: =IF($N31="---","---",$Q31*1.65+$T31) -> 69.27138 | X31: ? | Y31: ? | Z31: ? | AA31: =2*(SQRT((O31^2)+(R31^2))) -> 37.288948 | AB31: =2*(SQRT((P31^2)+(S31^2))) -> 74.577896 | AC31: =2*(SQRT((Q31^2)+(T31^2))) -> 111.86684
A32: 29 | B32: APOA | C32: g/l | D32: 1 | E32: 1.75 | F32: 2 | G32: 8 | H32: 6 | I32: 5 | J32: 12.7 | K32: 10.4 | L32: 10.9 | M32: 6.5 | N32: 13.4 | O32: =0.25*M32 -> 1.625 | P32: =0.5*M32 -> 3.25 | Q32: =0.75*M32 -> 4.875 | R32: =IF(N32="---","---",0.125*SQRT(POWER(M32,2)+POWER(N32,2))) -> 1.8616609 | S32: =IF(N32="---","---",0.25*SQRT(POWER(M32,2)+POWER(N32,2))) -> 3.7233218 | T32: =IF(N32="---","---",0.375*SQRT(POWER(M32,2)+POWER(N32,2))) -> 5.5849827 | U32: =IF($N32="---","---",$O32*1.65+$R32) -> 4.5429109 | V32: =IF($N32="---","---",$P32*1.65+$S32) -> 9.0858218 | W32: =IF($N32="---","---",$Q32*1.65+$T32) -> 13.628733 | X32: =2*(SQRT((G32^2)+(J32^2))) -> 30.019327 | Y32: =2*(SQRT((H32^2)+(K32^2))) -> 24.01333 | Z32: =2*(SQRT((I32^2)+(L32^2))) -> 23.984161 | AA32: =2*(SQRT((O32^2)+(R32^2))) -> 4.9422287 | AB32: =2*(SQRT((P32^2)+(S32^2))) -> 9.8844575 | AC32: =2*(SQRT((Q32^2)+(T32^2))) -> 14.826686
A33: 30 | B33: APOB | C33: g/l | D33: 1 | E33: 2 | F33: 2.5 | G33: 9 | H33: 7 | I33: 6 | J33: 12 | K33: 9.7 | L33: 10.4 | M33: 6.9 | N33: 22.8 | O33: =0.25*M33 -> 1.725 | P33: =0.5*M33 -> 3.45 | Q33: =0.75*M33 -> 5.175 | R33: =IF(N33="---","---",0.125*SQRT(POWER(M33,2)+POWER(N33,2))) -> 2.9776511 | S33: =IF(N33="---","---",0.25*SQRT(POWER(M33,2)+POWER(N33,2))) -> 5.9553023 | T33: =IF(N33="---","---",0.375*SQRT(POWER(M33,2)+POWER(N33,2))) -> 8.9329534 | U33: =IF($N33="---","---",$O33*1.65+$R33) -> 5.8239011 | V33: =IF($N33="---","---",$P33*1.65+$S33) -> 11.647802 | W33: =IF($N33="---","---",$Q33*1.65+$T33) -> 17.471703 | X33: =2*(SQRT((G33^2)+(J33^2))) -> 30 | Y33: =2*(SQRT((H33^2)+(K33^2))) -> 23.924046 | Z33: =2*(SQRT((I33^2)+(L33^2))) -> 24.01333 | AA33: =2*(SQRT((O33^2)+(R33^2))) -> 6.8824505 | AB33: =2*(SQRT((P33^2)+(S33^2))) -> 13.764901 | AC33: =2*(SQRT((Q33^2)+(T33^2))) -> 20.647352
A34: 31 | B34: AST | C34: U/l | D34: 35 | E34: 125 | F34: 200 | G34: 6 | H34: 6 | I34: 5 | J34: 8 | K34: 6.7 | L34: 6.2 | M34: 12.3 | N34: 23.1 | O34: =0.25*M34 -> 3.075 | P34: =0.5*M34 -> 6.15 | Q34: =0.75*M34 -> 9.225 | R34: =IF(N34="---","---",0.125*SQRT(POWER(M34,2)+POWER(N34,2))) -> 3.2713243 | S34: =IF(N34="---","---",0.25*SQRT(POWER(M34,2)+POWER(N34,2))) -> 6.5426485 | T34: =IF(N34="---","---",0.375*SQRT(POWER(M34,2)+POWER(N34,2))) -> 9.8139728 | U34: =IF($N34="---","---",$O34*1.65+$R34) -> 8.3450743 | V34: =IF($N34="---","---",$P34*1.65+$S34) -> 16.690149 | W34: =IF($N34="---","---",$Q34*1.65+$T34) -> 25.035223 | X34: =2*(SQRT((G34^2)+(J34^2))) -> 20 | Y34: =2*(SQRT((H34^2)+(K34^2))) -> 17.987774 | Z34: =2*(SQRT((I34^2)+(L34^2))) -> 15.929846 | AA34: =2*(SQRT((O34^2)+(R34^2))) -> 8.9793513 | AB34: =2*(SQRT((P34^2)+(S34^2))) -> 17.958703 | AC34: =2*(SQRT((Q34^2)+(T34^2))) -> 26.938054
A35: 32 | B35: ASLO | C35: IU/mL | D35: ? | E35: ? | F35: ? | G35: ? | H35: ? | I35: ? | J35: ? | K35: ? | L35: ? | O35: ? | P35: ? | Q35: ? | R35: ? | S35: ? | T35: ? | U35: ? | V35: ? | W35: ? | X35: ? | Y35: ? | Z35: ? | AA35: ? | AB35: ? | AC35: ?
A36: 33 | B36: AT IIII | C36: % | D36: ? | E36: ? | F36: ? | G36: ? | H36: ? | I36: ? | J36: ? | K36: ? | L36: ? | M36: 5.2 | N36: 15.3 | O36: =0.25*M36 -> 1.3 | P36: =0.5*M36 -> 2.6 | Q36: =0.75*M36 -> 3.9 | R36: =IF(N36="---","---",0.125*SQRT(POWER(M36,2)+POWER(N36,2))) -> 2.0199397 | S36: =IF(N36="---","---",0.25*SQRT(POWER(M36,2)+POWER(N36,2))) -> 4.0398793 | T36: =IF(N36="---","---",0.375*SQRT(POWER(M36,2)+POWER(N36,2))) -> 6.059819 | U36: =IF($N36="---","---",$O36*1.65+$R36) -> 4.1649397 | V36: =IF($N36="---","---",$P36*1.65+$S36) -> 8.3298793 | W36: =IF($N36="---","---",$Q36*1.65+$T36) -> 12.494819 | X36: ? | Y36: ? | Z36: ? | AA36: =2*(SQRT((O36^2)+(R36^2))) -> 4.8042299 | AB36: =2*(SQRT((P36^2)+(S36^2))) -> 9.6084598 | AC36: =2*(SQRT((Q36^2)+(T36^2))) -> 14.41269
A37: 34 | B37: AXA | C37: UI/L | D37: ? | E37: ? | F37: ? | G37: ? | H37: ? | I37: ? | J37: ? | K37: ? | L37: ? | M37: ? | N37: ? | O37: ? | P37: ? | Q37: ? | R37: ? | S37: ? | T37: ? | U37: ? | V37: ? | W37: ? | X37: ? | Y37: ? | Z37: ? | AA37: ? | AB37: ? | AC37: ?
A38: 35 | B38: B2M | C38: mg/l | D38: 6 | E38: 17.5 | F38: 25 | G38: 8 | H38: 7 | I38: 7 | J38: 8.9 | K38: 7.1 | L38: 7.1 | M38: 5.9 | N38: 15.5 | O38: =0.25*M38 -> 1.475 | P38: =0.5*M38 -> 2.95 | Q38: =0.75*M38 -> 4.425 | R38: =IF(N38="---","---",0.125*SQRT(POWER(M38,2)+POWER(N38,2))) -> 2.0731166 | S38: =IF(N38="---","---",0.25*SQRT(POWER(M38,2)+POWER(N38,2))) -> 4.1462332 | T38: =IF(N38="---","---",0.375*SQRT(POWER(M38,2)+POWER(N38,2))) -> 6.2193498 | U38: =IF($N38="---","---",$O38*1.65+$R38) -> 4.5068666 | V38: =IF($N38="---","---",$P38*1.65+$S38) -> 9.0137332 | W38: =IF($N38="---","---",$Q38*1.65+$T38) -> 13.5206 | X38: =2*(SQRT((G38^2)+(J38^2))) -> 23.934076 | Y38: =2*(SQRT((H38^2)+(K38^2))) -> 19.940913 | Z38: =2*(SQRT((I38^2)+(L38^2))) -> 19.940913 | AA38: =2*(SQRT((O38^2)+(R38^2))) -> 5.0885902 | AB38: =2*(SQRT((P38^2)+(S38^2))) -> 10.17718 | AC38: =2*(SQRT((Q38^2)+(T38^2))) -> 15.265771
A39: 36 | B39: Barbiturates | C39: ng/mL | D39: ? | E39: ? | F39: ? | G39: ? | H39: ? | I39: ? | J39: ? | K39: ? | L39: ? | M39: - | N39: - | O39: ? | P39: ? | Q39: ? | R39: ? | S39: ? | T39: ? | U39: ? | V39: ? | W39: ? | X39: ? | Y39: ? | Z39: ? | AA39: ? | AB39: ? | AC39: ?
A40: 37 | B40: Benzodiazepines | C40: ng/mL | D40: ? | E40: ? | F40: ? | G40: ? | H40: ? | I40: ? | J40: ? | K40: ? | L40: ? | M40: - | N40: - | O40: ? | P40: ? | Q40: ? | R40: ? | S40: ? | T40: ? | U40: ? | V40: ? | W40: ? | X40: ? | Y40: ? | Z40: ? | AA40: ? | AB40: ? | AC40: ?
...

Sheet Formule consolidation
A2: HBGT401 | B2: 42 | C2: 5.5 - 5.6 | D2: 5.59 | E2: 0.03 | F2: 0.54 | G2: 5.6
A3: HBGT402 | B3: 40 | C3: 5.3 - 5.7 | D3: 5.612 | E3: 0.102 | F3: 1.82 | G3: 5.6
A4: HBGT403 | B4: 41 | C4: 5.5 - 5.6 | D4: 5.559 | E4: 0.05 | F4: 0.9 | G4: 5.6
A5: HBGT404 | B5: 41 | C5: 5.4 - 5.7 | D5: 5.534 | E5: 0.066 | F5: 1.19 | G5: 5.6
A6: HBGT405 | B6: 41 | C6: 5.5 - 5.6 | D6: 5.512 | E6: 0.033 | F6: 0.6 | G6: 5.6
A7: HBGT406 | B7: 41 | C7: 5.4 - 5.6 | D7: 5.51 | E7: 0.049 | F7: 0.89 | G7: 5.6
A8: HBGT407 | B8: 41 | C8: 5.5 - 5.6 | D8: 5.534 | E8: 0.048 | F8: 0.87 | G8: 5.6
A9: HBGT408 | B9: 41 | C9: 5.4 - 5.7 | D9: 5.541 | E9: 0.067 | F9: 1.21 | G9: 5.6
A10: HBGT409 | B10: 41 | C10: 5.5 - 5.6 | D10: 5.554 | E10: 0.05 | F10: 0.9 | G10: 5.6
A11: HBGT410 | B11: 41 | C11: 5.5 - 5.6 | D11: 5.534 | E11: 0.048 | F11: 0.87 | G11: 5.6
A12: HBGT411 | B12: 41 | C12: 5.4 - 5.6 | D12: 5.537 | E12: 0.058 | F12: 1.05 | G12: 5.6
A13: HBGT412 | B13: 41 | C13: 5.4 - 5.5 | D13: 5.495 | E13: 0.022 | F13: 0.4 | G13: 5.6
A15: ddl-x | B15: =SUM(B2:B10)-9 -> 360 | D15: =((D2*B2)+(D3*B3)+(D4*B4)+(D5*B5)+(D6*B6)+(D7*B7)+(D8*B8)+(D9*B9)+(D10*B10))/B16 -> 5.5494959 | E15: =SQRT((((B2-1)*E2^2)+((B3-1)*E3^2)+((B4-1)*E4^2)+((B5-1)*E5^2)+((B6-1)*E6^2)+((B7-1)*E7^2)+((B8-1)*E8^2)+((B9-1)*E9^2)+((B10-1)*E10^2))/B15) -> 0.058409855 | H15: =AVERAGE(F2:F13) -> 0.93666667
A16: ddl | B16: =SUM(B2:B10) -> 369
B18: =SUM(B2:B13)-12 -> 480 | D18: =((D2*B2)+(D3*B3)+(D4*B4)+(D5*B5)+(D6*B6)+(D7*B7)+(D8*B8)+(D9*B9)+(D10*B10)+(D11*B11)+(D12*B12)+(D13*B13))/B19 -> 5.542622 | E18: =SQRT((((B2-1)*E2^2)+((B3-1)*E3^2)+((B4-1)*E4^2)+((B5-1)*E5^2)+((B6-1)*E6^2)+((B7-1)*E7^2)+((B8-1)*E8^2)+((B9-1)*E9^2)+((B10-1)*E10^2)+((B11-1)*E11^2)+((B12-1)*E12^2)+((B13-1)*E13^2))/B18) -> 0.055420664 | F18: =E18/D18 -> 0.0099989977
B19: =SUM(B1:B13) -> 492
