Workbook

Sheet HBA1C EEQ+IM
A1: SUIVI EEQ
A3: TERA 1 /2916 | J3: TERA 2/2916 A | R3: TERA 3/2916 B | Z3: TERA 4 2916 C | AG3: TERA 5 /2916 D | AN3: TERA 6/2916 E
AW4: =IF(AND(A1>=-2,A1<=2),"conforme",IF(AND(A1>=3,A1<=-3),"Non conforme","à surveiller")) -> à surveiller
A5: Référence | B5: Résultat | C5: valeur pair | D5: Biais | E5: Z-Score | F5: Z-Score | G5: Conclusion | I5: NC N° | J5: Résultat | K5: valeur pair | L5: Biais | M5: Z-Score | N5: Z-Score | O5: Conclusion | Q5: NC N° | R5: Résultat | S5: valeur pair | T5: Biais | U5: Z-Score | V5: Z-Score | W5: Conclusion | Y5: NC N° | Z5: Résultat | AA5: valeur pair | AB5: Biais | AC5: Z-Score | AD5: Z-Score | AE5: Conclusion | AF5: NC N° | AG5: Résultat | AH5: valeur pair | AI5: Biais | AJ5: Z-Score | AK5: Z-Score | AL5: Conclusion | AM5: NC N° | AN5: Résultat | AO5: valeur pair | AP5: Biais | AQ5: Z-Score | AR5: Z-Score | AS5: Conclusion | AT5: NC N°
A6: 20BH01 | B6: 8.5 | C6: 8.58 | D6: -0.9 | E6: -0.6 | F6: =ABS(E6) -> 0.6 | G6: =IF(F6="","",IF(F6<=2,"Conforme",IF(F6>=3,"Non conforme","A surveiller"))) -> Conforme | J6: 8.5 | K6: 8.58 | L6: -0.9 | M6: -0.6 | N6: =ABS(M6) -> 0.6 | O6: =IF(N6="","",IF(N6<=2,"Conforme",IF(N6>=3,"Non conforme","A surveiller"))) -> Conforme | R6: 8.5 | S6: 8.58 | T6: -0.9 | U6: -0.6 | V6: =ABS(U6) -> 0.6 | W6: =IF(V6="","",IF(V6<=2,"Conforme",IF(V6>=3,"Non conforme","A surveiller"))) -> Conforme | Z6: 8.5 | AA6: 8.58 | AB6: -0.9 | AC6: -0.6 | AD6: =ABS(AC6) -> 0.6 | AE6: =IF(AD6="","",IF(AD6<=2,"Conforme",IF(AD6>=3,"Non conforme","A surveiller"))) -> Conforme | AG6: 8.6 | AH6: 8.58 | AI6: 0.2 | AJ6: 0.1 | AK6: =ABS(AJ6) -> 0.1 | AL6: =IF(AK6="","",IF(AK6<=2,"Conforme",IF(AK6>=3,"Non conforme","A surveiller"))) -> Conforme | AN6: 8.6 | AO6: 8.58 | AP6: 0.2 | AQ6: 0.1 | AR6: =ABS(AQ6) -> 0.1 | AS6: =IF(AR6="","",IF(AR6<=2,"Conforme",IF(AR6>=3,"Non conforme","A surveiller"))) -> Conforme
A7: 20BH02 | B7: 5.6 | C7: 5.66 | D7: -1.1 | E7: -0.6 | F7: =ABS(E7) -> 0.6 | G7: =IF(E7="","",IF(F7<=2,"Conforme",IF(F7>=3,"Non conforme",IF((F6>2)*AND(F6<3)*AND(F7>2)*AND(F7<3),"Investiguer + NC","A surveiller")))) -> Conforme | J7: 5.8 | K7: 5.66 | L7: 2.5 | M7: 1.4 | N7: =ABS(M7) -> 1.4 | O7: =IF(M7="","",IF(N7<=2,"Conforme",IF(N7>=3,"Non conforme",IF((N6>2)*AND(N6<3)*AND(N7>2)*AND(N7<3),"Investiguer + NC","A surveiller")))) -> Conforme | R7: 5.7 | S7: 5.66 | T7: 0.7 | U7: 0.4 | V7: =ABS(U7) -> 0.4 | W7: =IF(U7="","",IF(V7<=2,"Conforme",IF(V7>=3,"Non conforme",IF((V6>2)*AND(V6<3)*AND(V7>2)*AND(V7<3),"Investiguer + NC","A surveiller")))) -> Conforme | Z7: 5.7 | AA7: 5.66 | AB7: 0.7 | AC7: 0.4 | AD7: =ABS(AC7) -> 0.4 | AE7: =IF(AC7="","",IF(AD7<=2,"Conforme",IF(AD7>=3,"Non conforme",IF((AD6>2)*AND(AD6<3)*AND(AD7>2)*AND(AD7<3),"Investiguer + NC","A surveiller")))) -> Conforme | AG7: 5.7 | AH7: 5.66 | AI7: 0.7 | AJ7: 0.4 | AK7: =ABS(AJ7) -> 0.4 | AL7: =IF(AJ7="","",IF(AK7<=2,"Conforme",IF(AK7>=3,"Non conforme",IF((AK6>2)*AND(AK6<3)*AND(AK7>2)*AND(AK7<3),"Investiguer + NC","A surveiller")))) -> Conforme | AN7: 5.8 | AO7: 5.66 | AP7: 2.5 | AQ7: 1.4 | AR7: =ABS(AQ7) -> 1.4 | AS7: =IF(AQ7="","",IF(AR7<=2,"Conforme",IF(AR7>=3,"Non conforme",IF((AR6>2)*AND(AR6<3)*AND(AR7>2)*AND(AR7<3),"Investiguer + NC","A surveiller")))) -> Conforme
F8: =ABS(E8) -> 0 | G8: =IF(E8="","",IF(F8<=2,"Conforme",IF(F8>=3,"Non conforme",IF((F7>2)*AND(F7<3)*AND(F8>2)*AND(F8<3),"Investiguer + NC","A surveiller")))) | N8: =ABS(M8) -> 0 | O8: =IF(M8="","",IF(N8<=2,"Conforme",IF(N8>=3,"Non conforme",IF((N7>2)*AND(N7<3)*AND(N8>2)*AND(N8<3),"Investiguer + NC","A surveiller")))) | V8: =ABS(U8) -> 0 | W8: =IF(U8="","",IF(V8<=2,"Conforme",IF(V8>=3,"Non conforme",IF((V7>2)*AND(V7<3)*AND(V8>2)*AND(V8<3),"Investiguer + NC","A surveiller")))) | AD8: =ABS(AC8) -> 0 | AE8: =IF(AC8="","",IF(AD8<=2,"Conforme",IF(AD8>=3,"Non conforme",IF((AD7>2)*AND(AD7<3)*AND(AD8>2)*AND(AD8<3),"Investiguer + NC","A surveiller")))) | AK8: =ABS(AJ8) -> 0 | AL8: =IF(AJ8="","",IF(AK8<=2,"Conforme",IF(AK8>=3,"Non conforme",IF((AK7>2)*AND(AK7<3)*AND(AK8>2)*AND(AK8<3),"Investiguer + NC","A surveiller")))) | AR8: =ABS(AQ8) -> 0 | AS8: =IF(AQ8="","",IF(AR8<=2,"Conforme",IF(AR8>=3,"Non conforme",IF((AR7>2)*AND(AR7<3)*AND(AR8>2)*AND(AR8<3),"Investiguer + NC","A surveiller"))))
F9: =ABS(E9) -> 0 | G9: =IF(E9="","",IF(F9<=2,"Conforme",IF(F9>=3,"Non conforme",IF((F8>2)*AND(F8<3)*AND(F9>2)*AND(F9<3),"Investiguer + NC","A surveiller")))) | N9: =ABS(M9) -> 0 | O9: =IF(M9="","",IF(N9<=2,"Conforme",IF(N9>=3,"Non conforme",IF((N8>2)*AND(N8<3)*AND(N9>2)*AND(N9<3),"Investiguer + NC","A surveiller")))) | V9: =ABS(U9) -> 0 | W9: =IF(U9="","",IF(V9<=2,"Conforme",IF(V9>=3,"Non conforme",IF((V8>2)*AND(V8<3)*AND(V9>2)*AND(V9<3),"Investiguer + NC","A surveiller")))) | AD9: =ABS(AC9) -> 0 | AE9: =IF(AC9="","",IF(AD9<=2,"Conforme",IF(AD9>=3,"Non conforme",IF((AD8>2)*AND(AD8<3)*AND(AD9>2)*AND(AD9<3),"Investiguer + NC","A surveiller")))) | AK9: =ABS(AJ9) -> 0 | AL9: =IF(AJ9="","",IF(AK9<=2,"Conforme",IF(AK9>=3,"Non conforme",IF((AK8>2)*AND(AK8<3)*AND(AK9>2)*AND(AK9<3),"Investiguer + NC","A surveiller")))) | AR9: =ABS(AQ9) -> 0 | AS9: =IF(AQ9="","",IF(AR9<=2,"Conforme",IF(AR9>=3,"Non conforme",IF((AR8>2)*AND(AR8<3)*AND(AR9>2)*AND(AR9<3),"Investiguer + NC","A surveiller"))))
F10: =ABS(E10) -> 0 | G10: =IF(E10="","",IF(F10<=2,"Conforme",IF(F10>=3,"Non conforme",IF((F9>2)*AND(F9<3)*AND(F10>2)*AND(F10<3),"Investiguer + NC","A surveiller")))) | N10: =ABS(M10) -> 0 | O10: =IF(M10="","",IF(N10<=2,"Conforme",IF(N10>=3,"Non conforme",IF((N9>2)*AND(N9<3)*AND(N10>2)*AND(N10<3),"Investiguer + NC","A surveiller")))) | V10: =ABS(U10) -> 0 | W10: =IF(U10="","",IF(V10<=2,"Conforme",IF(V10>=3,"Non conforme",IF((V9>2)*AND(V9<3)*AND(V10>2)*AND(V10<3),"Investiguer + NC","A surveiller")))) | AD10: =ABS(AC10) -> 0 | AE10: =IF(AC10="","",IF(AD10<=2,"Conforme",IF(AD10>=3,"Non conforme",IF((AD9>2)*AND(AD9<3)*AND(AD10>2)*AND(AD10<3),"Investiguer + NC","A surveiller")))) | AK10: =ABS(AJ10) -> 0 | AL10: =IF(AJ10="","",IF(AK10<=2,"Conforme",IF(AK10>=3,"Non conforme",IF((AK9>2)*AND(AK9<3)*AND(AK10>2)*AND(AK10<3),"Investiguer + NC","A surveiller")))) | AR10: =ABS(AQ10) -> 0 | AS10: =IF(AQ10="","",IF(AR10<=2,"Conforme",IF(AR10>=3,"Non conforme",IF((AR9>2)*AND(AR9<3)*AND(AR10>2)*AND(AR10<3),"Investiguer + NC","A surveiller"))))
F11: =ABS(E11) -> 0 | G11: =IF(E11="","",IF(F11<=2,"Conforme",IF(F11>=3,"Non conforme",IF((F10>2)*AND(F10<3)*AND(F11>2)*AND(F11<3),"Investiguer + NC","A surveiller")))) | N11: =ABS(M11) -> 0 | O11: =IF(M11="","",IF(N11<=2,"Conforme",IF(N11>=3,"Non conforme",IF((N10>2)*AND(N10<3)*AND(N11>2)*AND(N11<3),"Investiguer + NC","A surveiller")))) | V11: =ABS(U11) -> 0 | W11: =IF(U11="","",IF(V11<=2,"Conforme",IF(V11>=3,"Non conforme",IF((V10>2)*AND(V10<3)*AND(V11>2)*AND(V11<3),"Investiguer + NC","A surveiller")))) | AD11: =ABS(AC11) -> 0 | AE11: =IF(AC11="","",IF(AD11<=2,"Conforme",IF(AD11>=3,"Non conforme",IF((AD10>2)*AND(AD10<3)*AND(AD11>2)*AND(AD11<3),"Investiguer + NC","A surveiller")))) | AK11: =ABS(AJ11) -> 0 | AL11: =IF(AJ11="","",IF(AK11<=2,"Conforme",IF(AK11>=3,"Non conforme",IF((AK10>2)*AND(AK10<3)*AND(AK11>2)*AND(AK11<3),"Investiguer + NC","A surveiller")))) | AR11: =ABS(AQ11) -> 0 | AS11: =IF(AQ11="","",IF(AR11<=2,"Conforme",IF(AR11>=3,"Non conforme",IF((AR10>2)*AND(AR10<3)*AND(AR11>2)*AND(AR11<3),"Investiguer + NC","A surveiller"))))
F12: =ABS(E12) -> 0 | G12: =IF(E12="","",IF(F12<=2,"Conforme",IF(F12>=3,"Non conforme",IF((F11>2)*AND(F11<3)*AND(F12>2)*AND(F12<3),"Investiguer + NC","A surveiller")))) | N12: =ABS(M12) -> 0 | O12: =IF(M12="","",IF(N12<=2,"Conforme",IF(N12>=3,"Non conforme",IF((N11>2)*AND(N11<3)*AND(N12>2)*AND(N12<3),"Investiguer + NC","A surveiller")))) | V12: =ABS(U12) -> 0 | W12: =IF(U12="","",IF(V12<=2,"Conforme",IF(V12>=3,"Non conforme",IF((V11>2)*AND(V11<3)*AND(V12>2)*AND(V12<3),"Investiguer + NC","A surveiller")))) | AD12: =ABS(AC12) -> 0 | AE12: =IF(AC12="","",IF(AD12<=2,"Conforme",IF(AD12>=3,"Non conforme",IF((AD11>2)*AND(AD11<3)*AND(AD12>2)*AND(AD12<3),"Investiguer + NC","A surveiller")))) | AK12: =ABS(AJ12) -> 0 | AL12: =IF(AJ12="","",IF(AK12<=2,"Conforme",IF(AK12>=3,"Non conforme",IF((AK11>2)*AND(AK11<3)*AND(AK12>2)*AND(AK12<3),"Investiguer + NC","A surveiller")))) | AR12: =ABS(AQ12) -> 0 | AS12: =IF(AQ12="","",IF(AR12<=2,"Conforme",IF(AR12>=3,"Non conforme",IF((AR11>2)*AND(AR11<3)*AND(AR12>2)*AND(AR12<3),"Investiguer + NC","A surveiller"))))
F13: =ABS(E13) -> 0 | G13: =IF(E13="","",IF(F13<=2,"Conforme",IF(F13>=3,"Non conforme",IF((F12>2)*AND(F12<3)*AND(F13>2)*AND(F13<3),"Investiguer + NC","A surveiller")))) | N13: =ABS(M13) -> 0 | O13: =IF(M13="","",IF(N13<=2,"Conforme",IF(N13>=3,"Non conforme",IF((N12>2)*AND(N12<3)*AND(N13>2)*AND(N13<3),"Investiguer + NC","A surveiller")))) | V13: =ABS(U13) -> 0 | W13: =IF(U13="","",IF(V13<=2,"Conforme",IF(V13>=3,"Non conforme",IF((V12>2)*AND(V12<3)*AND(V13>2)*AND(V13<3),"Investiguer + NC","A surveiller")))) | AD13: =ABS(AC13) -> 0 | AE13: =IF(AC13="","",IF(AD13<=2,"Conforme",IF(AD13>=3,"Non conforme",IF((AD12>2)*AND(AD12<3)*AND(AD13>2)*AND(AD13<3),"Investiguer + NC","A surveiller")))) | AK13: =ABS(AJ13) -> 0 | AL13: =IF(AJ13="","",IF(AK13<=2,"Conforme",IF(AK13>=3,"Non conforme",IF((AK12>2)*AND(AK12<3)*AND(AK13>2)*AND(AK13<3),"Investiguer + NC","A surveiller")))) | AR13: =ABS(AQ13) -> 0 | AS13: =IF(AQ13="","",IF(AR13<=2,"Conforme",IF(AR13>=3,"Non conforme",IF((AR12>2)*AND(AR12<3)*AND(AR13>2)*AND(AR13<3),"Investiguer + NC","A surveiller"))))
F14: =ABS(E14) -> 0 | G14: =IF(E14="","",IF(F14<=2,"Conforme",IF(F14>=3,"Non conforme",IF((F13>2)*AND(F13<3)*AND(F14>2)*AND(F14<3),"Investiguer + NC","A surveiller")))) | N14: =ABS(M14) -> 0 | O14: =IF(M14="","",IF(N14<=2,"Conforme",IF(N14>=3,"Non conforme",IF((N13>2)*AND(N13<3)*AND(N14>2)*AND(N14<3),"Investiguer + NC","A surveiller")))) | V14: =ABS(U14) -> 0 | W14: =IF(U14="","",IF(V14<=2,"Conforme",IF(V14>=3,"Non conforme",IF((V13>2)*AND(V13<3)*AND(V14>2)*AND(V14<3),"Investiguer + NC","A surveiller")))) | AD14: =ABS(AC14) -> 0 | AE14: =IF(AC14="","",IF(AD14<=2,"Conforme",IF(AD14>=3,"Non conforme",IF((AD13>2)*AND(AD13<3)*AND(AD14>2)*AND(AD14<3),"Investiguer + NC","A surveiller")))) | AK14: =ABS(AJ14) -> 0 | AL14: =IF(AJ14="","",IF(AK14<=2,"Conforme",IF(AK14>=3,"Non conforme",IF((AK13>2)*AND(AK13<3)*AND(AK14>2)*AND(AK14<3),"Investiguer + NC","A surveiller")))) | AR14: =ABS(AQ14) -> 0 | AS14: =IF(AQ14="","",IF(AR14<=2,"Conforme",IF(AR14>=3,"Non conforme",IF((AR13>2)*AND(AR13<3)*AND(AR14>2)*AND(AR14<3),"Investiguer + NC","A surveiller"))))
F15: =ABS(E15) -> 0 | G15: =IF(E15="","",IF(F15<=2,"Conforme",IF(F15>=3,"Non conforme",IF((F14>2)*AND(F14<3)*AND(F15>2)*AND(F15<3),"Investiguer + NC","A surveiller")))) | N15: =ABS(M15) -> 0 | O15: =IF(M15="","",IF(N15<=2,"Conforme",IF(N15>=3,"Non conforme",IF((N14>2)*AND(N14<3)*AND(N15>2)*AND(N15<3),"Investiguer + NC","A surveiller")))) | V15: =ABS(U15) -> 0 | W15: =IF(U15="","",IF(V15<=2,"Conforme",IF(V15>=3,"Non conforme",IF((V14>2)*AND(V14<3)*AND(V15>2)*AND(V15<3),"Investiguer + NC","A surveiller")))) | AD15: =ABS(AC15) -> 0 | AE15: =IF(AC15="","",IF(AD15<=2,"Conforme",IF(AD15>=3,"Non conforme",IF((AD14>2)*AND(AD14<3)*AND(AD15>2)*AND(AD15<3),"Investiguer + NC","A surveiller")))) | AK15: =ABS(AJ15) -> 0 | AL15: =IF(AJ15="","",IF(AK15<=2,"Conforme",IF(AK15>=3,"Non conforme",IF((AK14>2)*AND(AK14<3)*AND(AK15>2)*AND(AK15<3),"Investiguer + NC","A surveiller")))) | AR15: =ABS(AQ15) -> 0 | AS15: =IF(AQ15="","",IF(AR15<=2,"Conforme",IF(AR15>=3,"Non conforme",IF((AR14>2)*AND(AR14<3)*AND(AR15>2)*AND(AR15<3),"Investiguer + NC","A surveiller"))))
F16: =ABS(E16) -> 0 | G16: =IF(E16="","",IF(F16<=2,"Conforme",IF(F16>=3,"Non conforme",IF((F15>2)*AND(F15<3)*AND(F16>2)*AND(F16<3),"Investiguer + NC","A surveiller")))) | N16: =ABS(M16) -> 0 | O16: =IF(M16="","",IF(N16<=2,"Conforme",IF(N16>=3,"Non conforme",IF((N15>2)*AND(N15<3)*AND(N16>2)*AND(N16<3),"Investiguer + NC","A surveiller")))) | V16: =ABS(U16) -> 0 | W16: =IF(U16="","",IF(V16<=2,"Conforme",IF(V16>=3,"Non conforme",IF((V15>2)*AND(V15<3)*AND(V16>2)*AND(V16<3),"Investiguer + NC","A surveiller")))) | AD16: =ABS(AC16) -> 0 | AE16: =IF(AC16="","",IF(AD16<=2,"Conforme",IF(AD16>=3,"Non conforme",IF((AD15>2)*AND(AD15<3)*AND(AD16>2)*AND(AD16<3),"Investiguer + NC","A surveiller")))) | AK16: =ABS(AJ16) -> 0 | AL16: =IF(AJ16="","",IF(AK16<=2,"Conforme",IF(AK16>=3,"Non conforme",IF((AK15>2)*AND(AK15<3)*AND(AK16>2)*AND(AK16<3),"Investiguer + NC","A surveiller")))) | AR16: =ABS(AQ16) -> 0 | AS16: =IF(AQ16="","",IF(AR16<=2,"Conforme",IF(AR16>=3,"Non conforme",IF((AR15>2)*AND(AR15<3)*AND(AR16>2)*AND(AR16<3),"Investiguer + NC","A surveiller"))))
F17: =ABS(E17) -> 0 | G17: =IF(E17="","",IF(F17<=2,"Conforme",IF(F17>=3,"Non conforme",IF((F16>2)*AND(F16<3)*AND(F17>2)*AND(F17<3),"Investiguer + NC","A surveiller")))) | N17: =ABS(M17) -> 0 | O17: =IF(M17="","",IF(N17<=2,"Conforme",IF(N17>=3,"Non conforme",IF((N16>2)*AND(N16<3)*AND(N17>2)*AND(N17<3),"Investiguer + NC","A surveiller")))) | V17: =ABS(U17) -> 0 | W17: =IF(U17="","",IF(V17<=2,"Conforme",IF(V17>=3,"Non conforme",IF((V16>2)*AND(V16<3)*AND(V17>2)*AND(V17<3),"Investiguer + NC","A surveiller")))) | AD17: =ABS(AC17) -> 0 | AE17: =IF(AC17="","",IF(AD17<=2,"Conforme",IF(AD17>=3,"Non conforme",IF((AD16>2)*AND(AD16<3)*AND(AD17>2)*AND(AD17<3),"Investiguer + NC","A surveiller")))) | AK17: =ABS(AJ17) -> 0 | AL17: =IF(AJ17="","",IF(AK17<=2,"Conforme",IF(AK17>=3,"Non conforme",IF((AK16>2)*AND(AK16<3)*AND(AK17>2)*AND(AK17<3),"Investiguer + NC","A surveiller")))) | AR17: =ABS(AQ17) -> 0 | AS17: =IF(AQ17="","",IF(AR17<=2,"Conforme",IF(AR17>=3,"Non conforme",IF((AR16>2)*AND(AR16<3)*AND(AR17>2)*AND(AR17<3),"Investiguer + NC","A surveiller"))))
C18: Moyenne=E | D18: =IF(B6="","",AVERAGE(D6:D17)) -> -1 | E18: % EEQ Conforme | K18: Moyenne=E | L18: =IF(J6="","",AVERAGE(L6:L17)) -> 0.8 | M18: % EEQ Conforme | S18: Moyenne=E | T18: =IF(R6="","",AVERAGE(T6:T17)) -> -0.1 | U18: % EEQ Conforme | AA18: Moyenne=E | AB18: =IF(Z6="","",AVERAGE(AB6:AB17)) -> -0.1 | AC18: % EEQ Conforme | AH18: Moyenne=E | AI18: =IF(AG6="","",AVERAGE(AI6:AI17)) -> 0.45 | AJ18: % EEQ Conforme | AO18: Moyenne=E | AP18: =IF(AN6="","",AVERAGE(AP6:AP17)) -> 1.35 | AQ18: % EEQ Conforme
C19: ETE | D19: =IF(D18="","",_xlfn.STDEV.S(D6:D17)) -> 0.14142136 | E19: =COUNTIF(G6:H17,"Conforme")/COUNT(B6:B17) -> 1 | K19: ETE | L19: =IF(L18="","",_xlfn.STDEV.S(L6:L17)) -> 2.4041631 | M19: =COUNTIF(O6:P17,"Conforme")/COUNT(J6:J17) -> 1 | S19: ETE | T19: =IF(T18="","",_xlfn.STDEV.S(T6:T17)) -> 1.1313708 | U19: =COUNTIF(W6:X17,"Conforme")/COUNT(R6:R17) -> 1 | AA19: ETE | AB19: =IF(AB18="","",_xlfn.STDEV.S(AB6:AB17)) -> 1.1313708 | AC19: =COUNTIF(AE6:AE17,"Conforme")/COUNT(Z6:Z17) -> 1 | AH19: ETE | AI19: =IF(AI18="","",_xlfn.STDEV.S(AI6:AI17)) -> 0.35355339 | AJ19: =COUNTIF(AL6:AL17,"Conforme")/COUNT(AG6:AG17) -> 1 | AO19: ETE | AP19: =IF(AP18="","",_xlfn.STDEV.S(AP6:AP17)) -> 1.6263456 | AQ19: =COUNTIF(AS6:AS17,"Conforme")/COUNT(AN6:AN17) -> 1
A20: U(EEQ)=((E2/ √3)+(ETE2)1/2 | D20: =IF(D18="","",SQRT((D18/SQRT(3))^2+D19^2)) -> 0.59441848 | J20: U(EEQ) | L20: =IF(L18="","",SQRT((L18/SQRT(3))^2+L19^2)) -> 2.4481285 | R20: U(EEQ) | T20: =IF(T18="","",SQRT((T18/SQRT(3))^2+T19^2)) -> 1.132843 | Z20: U(EEQ) | AB20: =IF(AB18="","",SQRT((AB18/SQRT(3))^2+AB19^2)) -> 1.132843 | AG20: U(EEQ) | AI20: =IF(AI18="","",SQRT((AI18/SQRT(3))^2+AI19^2)) -> 0.43874822 | AN20: U(EEQ) | AP20: =IF(AP18="","",SQRT((AP18/SQRT(3))^2+AP19^2)) -> 1.8034689
A22: INCERTITUDE DE MESURE
D24: CIQ (Nom + N° lot + période d'utilisation) | I24: U (k=2) | M24: EXIGENCES DE PERFORMANCES
D25: Niveau 1 | G25: Niveau 2 | I25: Niveau 1 | K25: Niveau 2 | M25: SFBC | Q25: Interprétation | S25: RICOS | T25: Interprétation | W25: Commentaires 1 | Z25: Commentaires 2 | AF25: ET RICOS | AI25: NIVEAU SFBC
D26: Moyenne | E26: ET | G26: Moyenne | H26: ET | I26: Absolue | J26: relatif % | K26: Absolue | L26: relatif % | M26: N1 | O26: N2 | P26: N3 | AF26: Optimal | AG26: Acceptable | AH26: Minimum | AI26: N1 | AJ26: N2 | AL26: N3
A27: % | B27: HbA1c | C27: TERA 1 | D27: =IF(#REF!="","",#REF!) -> #REF! | E27: =IF(#REF!="","",#REF!) -> #REF! | G27: =IF(#REF!="","",#REF!) -> #REF! | H27: =IF(#REF!="","",#REF!) -> #REF! | I27: =IF(D27="","",2*SQRT((E27^2)+(D20^2))) -> #REF! | J27: =IF(D27="","",(I27/D27)*100) -> #REF! | K27: =IF(G27="","",2*SQRT((H27^2)+(D20^2))) -> #REF! | L27: =IF(G27="","",(K27/G27)*100) -> #REF! | M27: 15.929846 | O27: 15.929846 | P27: 15.929846 | Q27: =IF(D27="","",(IF((D27<=$AI$27)*AND(J27<=$M$27)*AND(G27<=$AJ$27)*AND(L27<=$O$27),"Conforme",(IF((D27>$AI$27)*AND(D27<=$AJ$27)*AND(J27<=$O$27)*AND(G27>$AJ$27)*AND(L27<=$P$27),"Conforme",(IF((D27<=$AI$27)*AND(J27<=$M$27)*AND(G27>$AJ$27)*AND(L27<=$P$27),"Conforme",(IF((D27>$AI$27)*AND(D27<=$AJ$27)*AND(J27<=$O$27)*AND(G27<=$AJ$27)*AND(L27<=$O$27),"Conforme",(IF((D27>$AJ$27)*AND(D27<$AL$27)*AND(J27<=$O$27)*AND(G27>$AJ$27)*AND(G27<$AL$27)*AND(L27<=$O$27),"Conforme",(IF((D27>$AJ$27)*AND(D27<$AL$27)*AND(G27>$AL$27)*AND(J27<=$O$27)*AND(L27<=$P$27),"Conforme","Non conforme"))))))))))))) -> #REF! | S27: =IF(D27="","",(IF((J27<AF27)*AND(L27<AF27),AF27,(IF((J27>=AF27)*AND(L27<=AF27)*AND(J27<AG27)*AND(L27<AG27),AG27,(IF((J27>=AF27)*AND(L27>=AF27)*AND(J27<AG27)*AND(L27<AG27),AG27,(IF((J27>=AF27)*AND(L27<=AF27)*AND(J27>=AG27)*AND(L27<AF27),AH27,(IF((J27>=AG27)*AND(L27>=AG27),AH27,(IF((J27>=AG27)*AND(L27>=AF27),AH27,(IF((J27<AG27)*AND(L27 >=AG27),AH27,))))))))))))))) -> #REF! | T27: =IF(D27="","",(IF((J27<=$S27)*AND(L27<=$S27),"Conforme","Non conforme"))) -> #REF! | W27: Aide à l'interprétation d'un seuil clinique ou thérapeutique, à l'interprétation des resultats par rapport aux antécédents | AF27: =VLOOKUP($B27,'Base de données'!$B:$AC,26,FALSE) -> 1.7607261 | AG27: =VLOOKUP($B27,'Base de données'!$B:$AC,27,FALSE) -> 3.5214521 | AH27: =VLOOKUP($B27,'Base de données'!$B:$AC,28,FALSE) -> 5.2821782 | AI27: =VLOOKUP($B27,'Base de données'!$B:$Z,3,FALSE) -> 5.5 | AJ27: =VLOOKUP($B27,'Base de données'!$B:$Z,4,FALSE) -> 8.5 | AL27: =VLOOKUP($B27,'Base de données'!$B:$Z,5,FALSE) -> 10
C28: TERA 2 | D28: =IF(#REF!="","",#REF!) -> #REF! | E28: =IF(#REF!="","",#REF!) -> #REF! | G28: =IF(#REF!="","",#REF!) -> #REF! | H28: =IF(#REF!="","",#REF!) -> #REF! | I28: =IF(D28="","",2*SQRT((E28^2)+(L20^2))) -> #REF! | J28: =IF(D28="","",(I28/D28)*100) -> #REF! | K28: =IF(G28="","",2*SQRT((H28^2)+(L20^2))) -> #REF! | L28: =IF(G28="","",(K28/G28)*100) -> #REF! | Q28: =IF(D28="","",(IF((D28<=$AI$27)*AND(J28<=$M$27)*AND(G28<=$AJ$27)*AND(L28<=$O$27),"Conforme",(IF((D28>$AI$27)*AND(D28<=$AJ$27)*AND(J28<=$O$27)*AND(G28>$AJ$27)*AND(L28<=$P$27),"Conforme",(IF((D28<=$AI$27)*AND(J28<=$M$27)*AND(G28>$AJ$27)*AND(L28<=$P$27),"Conforme",(IF((D28>$AI$27)*AND(D28<=$AJ$27)*AND(J28<=$O$27)*AND(G28<=$AJ$27)*AND(L28<=$O$27),"Conforme",(IF((D28>$AJ$27)*AND(D28<$AL$27)*AND(J28<=$O$27)*AND(G28>$AJ$27)*AND(G28<$AL$27)*AND(L28<=$O$27),"Conforme",(IF((D28>$AJ$27)*AND(D28<$AL$27)*AND(G28>$AL$27)*AND(J28<=$O$27)*AND(L28<=$P$27),"Conforme","Non conforme"))))))))))))) -> #REF! | T28: =IF(D28="","",(IF((J28<=$S28)*AND(L28<=$S28),"Conforme","Non conforme"))) -> #REF!
C29: TERA 3 | D29: =IF(#REF!="","",#REF!) -> #REF! | E29: =IF(#REF!="","",#REF!) -> #REF! | G29: =IF(#REF!="","",#REF!) -> #REF! | H29: =IF(#REF!="","",#REF!) -> #REF! | I29: =IF(D29="","",2*SQRT((E29^2)+(T20^2))) -> #REF! | J29: =IF(D29="","",(I29/D29)*100) -> #REF! | K29: =IF(G29="","",2*SQRT((H29^2)+(T20^2))) -> #REF! | L29: =IF(G29="","",(K29/G29)*100) -> #REF! | Q29: =IF(D29="","",(IF((D29<=$AI$27)*AND(J29<=$M$27)*AND(G29<=$AJ$27)*AND(L29<=$O$27),"Conforme",(IF((D29>$AI$27)*AND(D29<=$AJ$27)*AND(J29<=$O$27)*AND(G29>$AJ$27)*AND(L29<=$P$27),"Conforme",(IF((D29<=$AI$27)*AND(J29<=$M$27)*AND(G29>$AJ$27)*AND(L29<=$P$27),"Conforme",(IF((D29>$AI$27)*AND(D29<=$AJ$27)*AND(J29<=$O$27)*AND(G29<=$AJ$27)*AND(L29<=$O$27),"Conforme",(IF((D29>$AJ$27)*AND(D29<$AL$27)*AND(J29<=$O$27)*AND(G29>$AJ$27)*AND(G29<$AL$27)*AND(L29<=$O$27),"Conforme",(IF((D29>$AJ$27)*AND(D29<$AL$27)*AND(G29>$AL$27)*AND(J29<=$O$27)*AND(L29<=$P$27),"Conforme","Non conforme"))))))))))))) -> #REF! | T29: =IF(D29="","",(IF((J29<=$S29)*AND(L29<=$S29),"Conforme","Non conforme"))) -> #REF!
C30: TERA 4 | D30: =IF(#REF!="","",#REF!) -> #REF! | E30: =IF(#REF!="","",#REF!) -> #REF! | G30: =IF(#REF!="","",#REF!) -> #REF! | H30: =IF(#REF!="","",#REF!) -> #REF! | I30: =IF(D30="","",2*SQRT((E30^2)+(AB20^2))) -> #REF! | J30: =IF(D30="","",(I30/D30)*100) -> #REF! | K30: =IF(G30="","",2*SQRT((H30^2)+(AB20^2))) -> #REF! | L30: =IF(G30="","",(K30/G30)*100) -> #REF! | Q30: =IF(D30="","",(IF((D30<=$AI$27)*AND(J30<=$M$27)*AND(G30<=$AJ$27)*AND(L30<=$O$27),"Conforme",(IF((D30>$AI$27)*AND(D30<=$AJ$27)*AND(J30<=$O$27)*AND(G30>$AJ$27)*AND(L30<=$P$27),"Conforme",(IF((D30<=$AI$27)*AND(J30<=$M$27)*AND(G30>$AJ$27)*AND(L30<=$P$27),"Conforme",(IF((D30>$AI$27)*AND(D30<=$AJ$27)*AND(J30<=$O$27)*AND(G30<=$AJ$27)*AND(L30<=$O$27),"Conforme",(IF((D30>$AJ$27)*AND(D30<$AL$27)*AND(J30<=$O$27)*AND(G30>$AJ$27)*AND(G30<$AL$27)*AND(L30<=$O$27),"Conforme",(IF((D30>$AJ$27)*AND(D30<$AL$27)*AND(G30>$AL$27)*AND(J30<=$O$27)*AND(L30<=$P$27),"Conforme","Non conforme"))))))))))))) -> #REF! | T30: =IF(D30="","",(IF((J30<=$S30)*AND(L30<=$S30),"Conforme","Non conforme"))) -> #REF!
C31: TERA 5 | D31: =IF(#REF!="","",#REF!) -> #REF! | E31: =IF(#REF!="","",#REF!) -> #REF! | G31: =IF(#REF!="","",#REF!) -> #REF! | H31: =IF(#REF!="","",#REF!) -> #REF! | I31: =IF(D31="","",2*SQRT((E31^2)+(AI20^2))) -> #REF! | J31: =IF(D31="","",(I31/D31)*100) -> #REF! | K31: =IF(G31="","",2*SQRT((H31^2)+(AI20^2))) -> #REF! | L31: =IF(G31="","",(K31/G31)*100) -> #REF! | Q31: =IF(D31="","",(IF((D31<=$AI$27)*AND(J31<=$M$27)*AND(G31<=$AJ$27)*AND(L31<=$O$27),"Conforme",(IF((D31>$AI$27)*AND(D31<=$AJ$27)*AND(J31<=$O$27)*AND(G31>$AJ$27)*AND(L31<=$P$27),"Conforme",(IF((D31<=$AI$27)*AND(J31<=$M$27)*AND(G31>$AJ$27)*AND(L31<=$P$27),"Conforme",(IF((D31>$AI$27)*AND(D31<=$AJ$27)*AND(J31<=$O$27)*AND(G31<=$AJ$27)*AND(L31<=$O$27),"Conforme",(IF((D31>$AJ$27)*AND(D31<$AL$27)*AND(J31<=$O$27)*AND(G31>$AJ$27)*AND(G31<$AL$27)*AND(L31<=$O$27),"Conforme",(IF((D31>$AJ$27)*AND(D31<$AL$27)*AND(G31>$AL$27)*AND(J31<=$O$27)*AND(L31<=$P$27),"Conforme","Non conforme"))))))))))))) -> #REF! | T31: =IF(D31="","",(IF((J31<=$S31)*AND(L31<=$S31),"Conforme","Non conforme"))) -> #REF!
C32: TERA 6 | D32: =IF(#REF!="","",#REF!) -> #REF! | E32: =IF(#REF!="","",#REF!) -> #REF! | G32: =IF(#REF!="","",#REF!) -> #REF! | H32: =IF(#REF!="","",#REF!) -> #REF! | I32: =IF(D32="","",2*SQRT((E32^2)+(AP20^2))) -> #REF! | J32: =IF(D32="","",(I32/D32)*100) -> #REF! | K32: =IF(G32="","",2*SQRT((H32^2)+(AP20^2))) -> #REF! | L32: =IF(G32="","",(K32/G32)*100) -> #REF! | Q32: =IF(D32="","",(IF((D32<=$AI$27)*AND(J32<=$M$27)*AND(G32<=$AJ$27)*AND(L32<=$O$27),"Conforme",(IF((D32>$AI$27)*AND(D32<=$AJ$27)*AND(J32<=$O$27)*AND(G32>$AJ$27)*AND(L32<=$P$27),"Conforme",(IF((D32<=$AI$27)*AND(J32<=$M$27)*AND(G32>$AJ$27)*AND(L32<=$P$27),"Conforme",(IF((D32>$AI$27)*AND(D32<=$AJ$27)*AND(J32<=$O$27)*AND(G32<=$AJ$27)*AND(L32<=$O$27),"Conforme",(IF((D32>$AJ$27)*AND(D32<$AL$27)*AND(J32<=$O$27)*AND(G32>$AJ$27)*AND(G32<$AL$27)*AND(L32<=$O$27),"Conforme",(IF((D32>$AJ$27)*AND(D32<$AL$27)*AND(G32>$AL$27)*AND(J32<=$O$27)*AND(L32<=$P$27),"Conforme","Non conforme"))))))))))))) -> #REF! | T32: =IF(D32="","",(IF((J32<=$S32)*AND(L32<=$S32),"Conforme","Non conforme"))) -> #REF!
B34: VISA BIOLOGISTE

Sheet Base de données
E1: 5 | K1: 10 | P1: 15 | U1: 20 | X1: 23 | AA1: 26
C2: Unités | D2: Niveaux (modifiés) | G2: Reproductibilité ( % ) | J2: Justesse ( % ) | M2: CV intra-individuel (CVw) | N2: CV inter-individuel (CVg) | O2: Imprecision | R2: Biais | U2: Erreur Totale RICOS | X2: Exigence de performance SFBC | AA2: Incertitude souhaitable avec FI et Biais Ricos | AD2: Aide à l'interprétation d'un seuil clinique ou thérapeutique
B3: SELECTIONNER L'EXAMEN | D3: Bas | E3: Moyen | F3: Elevé | G3: Bas | H3: Moyen | I3: Elevé | J3: Bas | K3: Moyen | L3: Elevé | O3: Optimale | P3: Souhaitable | Q3: minimale | R3: Biais Optimum | S3: Biais Souhaitable | T3: Biais minimum | U3: Optimale | V3: Souhaitable | W3: minimale | X3: Bas | Y3: Moyen | Z3: Elevé | AA3: Optimale | AB3: Souhaitable | AC3: minimale | AD3: Aide à l'interprétation des resultats par rapport aux antécédents
A4: 1 | B4: a2-Macroglobuline | C4: g/l | D4: 1.5 | E4: 3 | F4: 4 | G4: 6 | H4: 5 | I4: 4 | J4: 5.3 | K4: 6.2 | L4: 6.9 | M4: 3.4 | N4: 18.7 | O4: =0.25*M4 -> 0.85 | P4: =0.5*M4 -> 1.7 | Q4: =0.75*M4 -> 2.55 | R4: =IF(N4="---","---",0.125*SQRT(POWER(M4,2)+POWER(N4,2))) -> 2.3758222 | S4: =IF(N4="---","---",0.25*SQRT(POWER(M4,2)+POWER(N4,2))) -> 4.7516445 | T4: =IF(N4="---","---",0.375*SQRT(POWER(M4,2)+POWER(N4,2))) -> 7.1274667 | U4: =IF($N4="---","---",$O4*1.65+$R4) -> 3.7783222 | V4: =IF($N4="---","---",$P4*1.65+$S4) -> 7.5566445 | W4: =IF($N4="---","---",$Q4*1.65+$T4) -> 11.334967 | X4: =2*(SQRT((G4^2)+(J4^2))) -> 16.011246 | Y4: =2*(SQRT((H4^2)+(K4^2))) -> 15.929846 | Z4: =2*(SQRT((I4^2)+(L4^2))) -> 15.951176 | AA4: =2*(SQRT((O4^2)+(R4^2))) -> 5.0465954 | AB4: =2*(SQRT((P4^2)+(S4^2))) -> 10.093191 | AC4: =2*(SQRT((Q4^2)+(T4^2))) -> 15.139786 | AD4: Aide à l'interprétation d'un seuil clinique ou thérapeutique, à l'interprétation des resultats par rapport aux antécédents, a l'ajustage des zones grises
A5: 2 | B5: Amylase | C5: U/l | D5: 125 | E5: 275 | F5: 400 | G5: 4.5 | H5: 4.5 | I5: 3.8 | J5: 6 | K5: 6 | L5: 5 | M5: 8.7 | N5: 28.3 | O5: =0.25*M5 -> 2.175 | P5: =0.5*M5 -> 4.35 | Q5: =0.75*M5 -> 6.525 | R5: =IF(N5="---","---",0.125*SQRT(POWER(M5,2)+POWER(N5,2))) -> 3.7008867 | S5: =IF(N5="---","---",0.25*SQRT(POWER(M5,2)+POWER(N5,2))) -> 7.4017734 | T5: =IF(N5="---","---",0.375*SQRT(POWER(M5,2)+POWER(N5,2))) -> 11.10266 | U5: =IF($N5="---","---",$O5*1.65+$R5) -> 7.2896367 | V5: =IF($N5="---","---",$P5*1.65+$S5) -> 14.579273 | W5: =IF($N5="---","---",$Q5*1.65+$T5) -> 21.86891 | X5: =2*(SQRT((G5^2)+(J5^2))) -> 15 | Y5: =2*(SQRT((H5^2)+(K5^2))) -> 15 | Z5: =2*(SQRT((I5^2)+(L5^2))) -> 12.560255 | AA5: =2*(SQRT((O5^2)+(R5^2))) -> 8.58538 | AB5: =2*(SQRT((P5^2)+(S5^2))) -> 17.17076 | AC5: =2*(SQRT((Q5^2)+(T5^2))) -> 25.75614 | AD5: Aide à l'interprétation des resultats par rapport aux antécédents,à l'ajustage des zones grises
A6: 3 | B6: a-Amylase U | C6: U/l | D6: ? | E6: ? | F6: ? | G6: ? | H6: ? | I6: ? | J6: ? | K6: ? | L6: ? | M6: 94 | N6: 46 | O6: =0.25*M6 -> 23.5 | P6: =0.5*M6 -> 47 | Q6: =0.75*M6 -> 70.5 | R6: =IF(N6="---","---",0.125*SQRT(POWER(M6,2)+POWER(N6,2))) -> 13.081475 | S6: =IF(N6="---","---",0.25*SQRT(POWER(M6,2)+POWER(N6,2))) -> 26.162951 | T6: =IF(N6="---","---",0.375*SQRT(POWER(M6,2)+POWER(N6,2))) -> 39.244426 | U6: =IF($N6="---","---",$O6*1.65+$R6) -> 51.856475 | V6: =IF($N6="---","---",$P6*1.65+$S6) -> 103.71295 | W6: =IF($N6="---","---",$Q6*1.65+$T6) -> 155.56943 | X6: ? | Y6: ? | Z6: ? | AA6: =2*(SQRT((O6^2)+(R6^2))) -> 53.791263 | AB6: =2*(SQRT((P6^2)+(S6^2))) -> 107.58253 | AC6: =2*(SQRT((Q6^2)+(T6^2))) -> 161.37379 | AD6: Aide à l'interprétation d'un seuil clinique ou thérapeutique, à l'interprétation des resultats par rapport aux antécédents
A7: 4 | B7: Ac HAV | C7: COI | D7: ? | E7: ? | F7: ? | G7: ? | H7: ? | I7: ? | J7: ? | K7: ? | L7: ? | M7: ? | N7: ? | O7: ? | P7: ? | Q7: ? | R7: ? | S7: ? | T7: ? | U7: ? | V7: ? | W7: ? | X7: ? | Y7: ? | Z7: ? | AA7: ? | AB7: ? | AC7: ?
A8: 5 | B8: Ac HAV IgM | C8: COI | D8: ? | E8: ? | F8: ? | G8: ? | H8: ? | I8: ? | J8: ? | K8: ? | L8: ? | M8: ? | N8: ? | O8: ? | P8: ? | Q8: ? | R8: ? | S8: ? | T8: ? | U8: ? | V8: ? | W8: ? | X8: ? | Y8: ? | Z8: ? | AA8: ? | AB8: ? | AC8: ?
A9: 6 | B9: Ac HBc | C9: COI | D9: ? | E9: ? | F9: ? | G9: ? | H9: ? | I9: ? | J9: ? | K9: ? | L9: ? | M9: ? | N9: ? | O9: ? | P9: ? | Q9: ? | R9: ? | S9: ? | T9: ? | U9: ? | V9: ? | W9: ? | X9: ? | Y9: ? | Z9: ? | AA9: ? | AB9: ? | AC9: ?
A10: 7 | B10: Ac HBc IgM | C10: COI | D10: ? | E10: ? | F10: ? | G10: ? | H10: ? | I10: ? | J10: ? | K10: ? | L10: ? | M10: ? | N10: ? | O10: ? | P10: ? | Q10: ? | R10: ? | S10: ? | T10: ? | U10: ? | V10: ? | W10: ? | X10: ? | Y10: ? | Z10: ? | AA10: ? | AB10: ? | AC10: ?
A11: 8 | B11: Ac HBe | C11: COI | D11: ? | E11: ? | F11: ? | G11: ? | H11: ? | I11: ? | J11: ? | K11: ? | L11: ? | M11: ? | N11: ? | O11: ? | P11: ? | Q11: ? | R11: ? | S11: ? | T11: ? | U11: ? | V11: ? | W11: ? | X11: ? | Y11: ? | Z11: ? | AA11: ? | AB11: ? | AC11: ?
A12: 9 | B12: Ac HBs | C12: COI | D12: 5 | E12: 7.5 | F12: 10 | G12: ? | H12: ? | I12: ? | J12: ? | K12: ? | L12: ? | M12: ? | N12: ? | O12: ? | P12: ? | Q12: ? | R12: ? | S12: ? | T12: ? | U12: ? | V12: ? | W12: ? | X12: ? | Y12: ? | Z12: ? | AA12: ? | AB12: ? | AC12: ?
A13: 10 | B13: Ac HCV | C13: COI | D13: ? | E13: ? | F13: ? | G13: ? | H13: ? | I13: ? | J13: ? | K13: ? | L13: ? | M13: ? | N13: ? | O13: ? | P13: ? | Q13: ? | R13: ? | S13: ? | T13: ? | U13: ? | V13: ? | W13: ? | X13: ? | Y13: ? | Z13: ? | AA13: ? | AB13: ? | AC13: ?
A14: 11 | B14: ACE | C14: ng/ml | D14: 12.5 | E14: 32.5 | F14: 50 | G14: 15 | H14: 8 | I14: 8 | J14: 13.2 | K14: 8.9 | L14: 8.9 | M14: 12.7 | N14: 55.6 | O14: =0.25*M14 -> 3.175 | P14: =0.5*M14 -> 6.35 | Q14: =0.75*M14 -> 9.525 | R14: =IF(N14="---","---",0.125*SQRT(POWER(M14,2)+POWER(N14,2))) -> 7.1290011 | S14: =IF(N14="---","---",0.25*SQRT(POWER(M14,2)+POWER(N14,2))) -> 14.258002 | T14: =IF(N14="---","---",0.375*SQRT(POWER(M14,2)+POWER(N14,2))) -> 21.387003 | U14: =IF($N14="---","---",$O14*1.65+$R14) -> 12.367751 | V14: =IF($N14="---","---",$P14*1.65+$S14) -> 24.735502 | W14: =IF($N14="---","---",$Q14*1.65+$T14) -> 37.103253 | X14: =2*(SQRT((G14^2)+(J14^2))) -> 39.961982 | Y14: =2*(SQRT((H14^2)+(K14^2))) -> 23.934076 | Z14: =2*(SQRT((I14^2)+(L14^2))) -> 23.934076 | AA14: =2*(SQRT((O14^2)+(R14^2))) -> 15.608111 | AB14: =2*(SQRT((P14^2)+(S14^2))) -> 31.216222 | AC14: =2*(SQRT((Q14^2)+(T14^2))) -> 46.824333
A15: 12 | B15: Acide urique | C15: µmol/l | D15: 225 | E15: 375 | F15: 450 | G15: 3.6 | H15: 3.2 | I15: 2.8 | J15: 7.1 | K15: 6.2 | L15: 5.3 | M15: 8.6 | N15: 17.5 | O15: =0.25*M15 -> 2.15 | P15: =0.5*M15 -> 4.3 | Q15: =0.75*M15 -> 6.45 | R15: =IF(N15="---","---",0.125*SQRT(POWER(M15,2)+POWER(N15,2))) -> 2.4373718 | S15: =IF(N15="---","---",0.25*SQRT(POWER(M15,2)+POWER(N15,2))) -> 4.8747436 | T15: =IF(N15="---","---",0.375*SQRT(POWER(M15,2)+POWER(N15,2))) -> 7.3121154 | U15: =IF($N15="---","---",$O15*1.65+$R15) -> 5.9848718 | V15: =IF($N15="---","---",$P15*1.65+$S15) -> 11.969744 | W15: =IF($N15="---","---",$Q15*1.65+$T15) -> 17.954615 | X15: =2*(SQRT((G15^2)+(J15^2))) -> 15.921055 | Y15: =2*(SQRT((H15^2)+(K15^2))) -> 13.954211 | Z15: =2*(SQRT((I15^2)+(L15^2))) -> 11.988328 | AA15: =2*(SQRT((O15^2)+(R15^2))) -> 6.5002404 | AB15: =2*(SQRT((P15^2)+(S15^2))) -> 13.000481 | AC15: =2*(SQRT((Q15^2)+(T15^2))) -> 19.500721
A16: 13 | B16: Acide urique U | C16: mmol/l | D16: 1 | E16: 2.75 | F16: 4 | G16: 6 | H16: 5 | I16: 4 | J16: 10.4 | K16: 8.7 | L16: 6.9 | M16: 16.8 | N16: 14.4 | O16: =0.25*M16 -> 4.2 | P16: =0.5*M16 -> 8.4 | Q16: =0.75*M16 -> 12.6 | R16: =IF(N16="---","---",0.125*SQRT(POWER(M16,2)+POWER(N16,2))) -> 2.7658633 | S16: =IF(N16="---","---",0.25*SQRT(POWER(M16,2)+POWER(N16,2))) -> 5.5317267 | T16: =IF(N16="---","---",0.375*SQRT(POWER(M16,2)+POWER(N16,2))) -> 8.29759 | U16: =IF($N16="---","---",$O16*1.65+$R16) -> 9.6958633 | V16: =IF($N16="---","---",$P16*1.65+$S16) -> 19.391727 | W16: =IF($N16="---","---",$Q16*1.65+$T16) -> 29.08759 | X16: =2*(SQRT((G16^2)+(J16^2))) -> 24.01333 | Y16: =2*(SQRT((H16^2)+(K16^2))) -> 20.068881 | Z16: =2*(SQRT((I16^2)+(L16^2))) -> 15.951176 | AA16: =2*(SQRT((O16^2)+(R16^2))) -> 10.057833 | AB16: =2*(SQRT((P16^2)+(S16^2))) -> 20.115666 | AC16: =2*(SQRT((Q16^2)+(T16^2))) -> 30.173498
A17: 14 | B17: AFP | C17: kUI/l | D17: 30 | E17: 125 | F17: 200 | G17: 15 | H17: 8 | I17: 8 | J17: 13.2 | K17: 8.9 | L17: 8.9 | M17: 12.2 | N17: 45.6 | O17: =0.25*M17 -> 3.05 | P17: =0.5*M17 -> 6.1 | Q17: =0.75*M17 -> 9.15 | R17: =IF(N17="---","---",0.125*SQRT(POWER(M17,2)+POWER(N17,2))) -> 5.9004767 | S17: =IF(N17="---","---",0.25*SQRT(POWER(M17,2)+POWER(N17,2))) -> 11.800953 | T17: =IF(N17="---","---",0.375*SQRT(POWER(M17,2)+POWER(N17,2))) -> 17.70143 | U17: =IF($N17="---","---",$O17*1.65+$R17) -> 10.932977 | V17: =IF($N17="---","---",$P17*1.65+$S17) -> 21.865953 | W17: =IF($N17="---","---",$Q17*1.65+$T17) -> 32.79893 | X17: =2*(SQRT((G17^2)+(J17^2))) -> 39.961982 | Y17: =2*(SQRT((H17^2)+(K17^2))) -> 23.934076 | Z17: =2*(SQRT((I17^2)+(L17^2))) -> 23.934076 | AA17: =2*(SQRT((O17^2)+(R17^2))) -> 13.284295 | AB17: =2*(SQRT((P17^2)+(S17^2))) -> 26.56859 | AC17: =2*(SQRT((Q17^2)+(T17^2))) -> 39.852886
A18: 15 | B18: Ag HBc | C18: COI | D18: ? | E18: ? | F18: ? | G18: ? | H18: ? | I18: ? | J18: ? | K18: ? | L18: ? | M18: ? | N18: ? | O18: ? | P18: ? | Q18: ? | R18: ? | S18: ? | T18: ? | U18: ? | V18: ? | W18: ? | X18: ? | Y18: ? | Z18: ? | AA18: ? | AB18: ? | AC18: ?
A19: 16 | B19: Ag Hbe | C19: COI | D19: ? | E19: ? | F19: ? | G19: ? | H19: ? | I19: ? | J19: ? | K19: ? | L19: ? | M19: ? | N19: ? | O19: ? | P19: ? | Q19: ? | R19: ? | S19: ? | T19: ? | U19: ? | V19: ? | W19: ? | X19: ? | Y19: ? | Z19: ? | AA19: ? | AB19: ? | AC19: ?
A20: 17 | B20: Ag HBs | C20: COI | D20: ? | E20: ? | F20: ? | G20: ? | H20: ? | I20: ? | J20: ? | K20: ? | L20: ? | M20: ? | N20: ? | O20: ? | P20: ? | Q20: ? | R20: ? | S20: ? | T20: ? | U20: ? | V20: ? | W20: ? | X20: ? | Y20: ? | Z20: ? | AA20: ? | AB20: ? | AC20: ?
A21: 18 | B21: ALAT | C21: U/l | D21: 35 | E21: 125 | F21: 200 | G21: 6 | H21: 6 | I21: 5 | J21: 8 | K21: 6.7 | L21: 6.2 | M21: 19.4 | N21: 41.6 | O21: =0.25*M21 -> 4.85 | P21: =0.5*M21 -> 9.7 | Q21: =0.75*M21 -> 14.55 | R21: =IF(N21="---","---",0.125*SQRT(POWER(M21,2)+POWER(N21,2))) -> 5.7376498 | S21: =IF(N21="---","---",0.25*SQRT(POWER(M21,2)+POWER(N21,2))) -> 11.4753 | T21: =IF(N21="---","---",0.375*SQRT(POWER(M21,2)+POWER(N21,2))) -> 17.212949 | U21: =IF($N21="---","---",$O21*1.65+$R21) -> 13.74015 | V21: =IF($N21="---","---",$P21*1.65+$S21) -> 27.4803 | W21: =IF($N21="---","---",$Q21*1.65+$T21) -> 41.220449 | X21: =2*(SQRT((G21^2)+(J21^2))) -> 20 | Y21: =2*(SQRT((H21^2)+(K21^2))) -> 17.987774 | Z21: =2*(SQRT((I21^2)+(L21^2))) -> 15.929846 | AA21: =2*(SQRT((O21^2)+(R21^2))) -> 15.025728 | AB21: =2*(SQRT((P21^2)+(S21^2))) -> 30.051456 | AC21: =2*(SQRT((Q21^2)+(T21^2))) -> 45.077184
A22: 19 | B22: Albumin, concentration, first morning | C22: ? | D22: ? | E22: ? | F22: ? | G22: ? | H22: ? | I22: ? | J22: ? | K22: ? | L22: ? | M22: 35 | N22: 35 | O22: =0.25*M22 -> 8.75 | P22: =0.5*M22 -> 17.5 | Q22: =0.75*M22 -> 26.25 | R22: =IF(N22="---","---",0.125*SQRT(POWER(M22,2)+POWER(N22,2))) -> 6.1871843 | S22: =IF(N22="---","---",0.25*SQRT(POWER(M22,2)+POWER(N22,2))) -> 12.374369 | T22: =IF(N22="---","---",0.375*SQRT(POWER(M22,2)+POWER(N22,2))) -> 18.561553 | U22: =IF($N22="---","---",$O22*1.65+$R22) -> 20.624684 | V22: =IF($N22="---","---",$P22*1.65+$S22) -> 41.249369 | W22: =IF($N22="---","---",$Q22*1.65+$T22) -> 61.874053 | X22: ? | Y22: ? | Z22: ? | AA22: =2*(SQRT((O22^2)+(R22^2))) -> 21.433035 | AB22: =2*(SQRT((P22^2)+(S22^2))) -> 42.86607 | AC22: =2*(SQRT((Q22^2)+(T22^2))) -> 64.299106
A23: 20 | B23: Albumine | C23: g/l | D23: 25 | E23: 40 | F23: 50 | G23: 6 | H23: 5 | I23: 4 | J23: 5.3 | K23: 6.2 | L23: 6.9 | M23: 3.2 | N23: 4.75 | O23: =0.25*M23 -> 0.8 | P23: =0.5*M23 -> 1.6 | Q23: =0.75*M23 -> 2.4 | R23: =IF(N23="---","---",0.125*SQRT(POWER(M23,2)+POWER(N23,2))) -> 0.71591834 | S23: =IF(N23="---","---",0.25*SQRT(POWER(M23,2)+POWER(N23,2))) -> 1.4318367 | T23: =IF(N23="---","---",0.375*SQRT(POWER(M23,2)+POWER(N23,2))) -> 2.147755 | U23: =IF($N23="---","---",$O23*1.65+$R23) -> 2.0359183 | V23: =IF($N23="---","---",$P23*1.65+$S23) -> 4.0718367 | W23: =IF($N23="---","---",$Q23*1.65+$T23) -> 6.107755 | X23: =2*(SQRT((G23^2)+(J23^2))) -> 16.011246 | Y23: =2*(SQRT((H23^2)+(K23^2))) -> 15.929846 | Z23: =2*(SQRT((I23^2)+(L23^2))) -> 15.951176 | AA23: =2*(SQRT((O23^2)+(R23^2))) -> 2.1471274 | AB23: =2*(SQRT((P23^2)+(S23^2))) -> 4.2942549 | AC23: =2*(SQRT((Q23^2)+(T23^2))) -> 6.4413823
A24: 21 | B24: Alcool | C24: mg/dL | D24: ? | E24: ? | F24: ? | G24: ? | H24: ? | I24: ? | J24: ? | K24: ? | L24: ? | M24: - | N24: - | O24: ? | P24: ? | Q24: ? | R24: ? | S24: ? | T24: ? | U24: ? | V24: ? | W24: ? | X24: ? | Y24: ? | Z24: ? | AA24: ? | AB24: ? | AC24: ?
A25: 22 | B25: Alpha 1 | C25: g/l | D25: ? | E25: ? | F25: ? | G25: ? | H25: ? | I25: ? | J25: ? | K25: ? | L25: ? | M25: 11.4 | N25: 22.6 | O25: =0.25*M25 -> 2.85 | P25: =0.5*M25 -> 5.7 | Q25: =0.75*M25 -> 8.55 | R25: =IF(N25="---","---",0.125*SQRT(POWER(M25,2)+POWER(N25,2))) -> 3.1640559 | S25: =IF(N25="---","---",0.25*SQRT(POWER(M25,2)+POWER(N25,2))) -> 6.3281119 | T25: =IF(N25="---","---",0.375*SQRT(POWER(M25,2)+POWER(N25,2))) -> 9.4921678 | U25: =IF($N25="---","---",$O25*1.65+$R25) -> 7.8665559 | V25: =IF($N25="---","---",$P25*1.65+$S25) -> 15.733112 | W25: =IF($N25="---","---",$Q25*1.65+$T25) -> 23.599668 | X25: ? | Y25: ? | Z25: ? | AA25: =2*(SQRT((O25^2)+(R25^2))) -> 8.5167482 | AB25: =2*(SQRT((P25^2)+(S25^2))) -> 17.033496 | AC25: =2*(SQRT((Q25^2)+(T25^2))) -> 25.550245
A26: 23 | B26: Alpha 2 | C26: g/l | D26: ? | E26: ? | F26: ? | G26: ? | H26: ? | I26: ? | J26: ? | K26: ? | L26: ? | M26: 10.3 | N26: 12.7 | O26: =0.25*M26 -> 2.575 | P26: =0.5*M26 -> 5.15 | Q26: =0.75*M26 -> 7.725 | R26: =IF(N26="---","---",0.125*SQRT(POWER(M26,2)+POWER(N26,2))) -> 2.0439698 | S26: =IF(N26="---","---",0.25*SQRT(POWER(M26,2)+POWER(N26,2))) -> 4.0879396 | T26: =IF(N26="---","---",0.375*SQRT(POWER(M26,2)+POWER(N26,2))) -> 6.1319094 | U26: =IF($N26="---","---",$O26*1.65+$R26) -> 6.2927198 | V26: =IF($N26="---","---",$P26*1.65+$S26) -> 12.58544 | W26: =IF($N26="---","---",$Q26*1.65+$T26) -> 18.878159 | X26: ? | Y26: ? | Z26: ? | AA26: =2*(SQRT((O26^2)+(R26^2))) -> 6.5752376 | AB26: =2*(SQRT((P26^2)+(S26^2))) -> 13.150475 | AC26: =2*(SQRT((Q26^2)+(T26^2))) -> 19.725713
A27: 24 | B27: Amikacine | C27: mg/l | D27: 11 | E27: 30 | F27: 40 | G27: 10 | H27: 8 | I27: 8 | J27: 11.2 | K27: 8.9 | L27: 8.9 | M27: - | N27: - | O27: ? | P27: ? | Q27: ? | R27: ? | S27: ? | T27: ? | U27: ? | V27: ? | W27: ? | X27: =2*(SQRT((G27^2)+(J27^2))) -> 30.029319 | Y27: =2*(SQRT((H27^2)+(K27^2))) -> 23.934076 | Z27: =2*(SQRT((I27^2)+(L27^2))) -> 23.934076 | AA27: ? | AB27: ? | AC27: ?
A28: 25 | B28: Ammonium | C28: µmol/l | D28: 75 | E28: 150 | F28: 200 | G28: 7 | H28: 6 | I28: 5 | J28: 7.1 | K28: 6.7 | L28: 6.2 | M28: - | N28: - | O28: ? | P28: ? | Q28: ? | R28: ? | S28: ? | T28: ? | U28: ? | V28: ? | W28: ? | X28: =2*(SQRT((G28^2)+(J28^2))) -> 19.940913 | Y28: =2*(SQRT((H28^2)+(K28^2))) -> 17.987774 | Z28: =2*(SQRT((I28^2)+(L28^2))) -> 15.929846 | AA28: ? | AB28: ? | AC28: ?
A29: 26 | B29: Amphetamines | C29: ng/mL | D29: ? | E29: ? | F29: ? | G29: ? | H29: ? | I29: ? | J29: ? | K29: ? | L29: ? | M29: - | N29: - | O29: ? | P29: ? | Q29: ? | R29: ? | S29: ? | T29: ? | U29: ? | V29: ? | W29: ? | X29: ? | Y29: ? | Z29: ? | AA29: ? | AB29: ? | AC29: ?
A30: 27 | B30: ANTI TG | C30: ? | D30: ? | E30: ? | F30: ? | G30: ? | H30: ? | I30: ? | J30: ? | K30: ? | L30: ? | M30: 8.5 | N30: 82 | O30: =0.25*M30 -> 2.125 | P30: =0.5*M30 -> 4.25 | Q30: =0.75*M30 -> 6.375 | R30: =IF(N30="---","---",0.125*SQRT(POWER(M30,2)+POWER(N30,2))) -> 10.304921 | S30: =IF(N30="---","---",0.25*SQRT(POWER(M30,2)+POWER(N30,2))) -> 20.609843 | T30: =IF(N30="---","---",0.375*SQRT(POWER(M30,2)+POWER(N30,2))) -> 30.914764 | U30: =IF($N30="---","---",$O30*1.65+$R30) -> 13.811171 | V30: =IF($N30="---","---",$P30*1.65+$S30) -> 27.622343 | W30: =IF($N30="---","---",$Q30*1.65+$T30) -> 41.433514 | X30: ? | Y30: ? | Z30: ? | AA30: =2*(SQRT((O30^2)+(R30^2))) -> 21.043482 | AB30: =2*(SQRT((P30^2)+(S30^2))) -> 42.086964 | AC30: =2*(SQRT((Q30^2)+(T30^2))) -> 63.130445
A31: 28 | B31: ANTI TPO | C31: ? | D31: ? | E31: ? | F31: ? | G31: ? | H31: ? | I31: ? | J31: ? | K31: ? | L31: ? | M31: 11.3 | N31: 147 | O31: =0.25*M31 -> 2.825 | P31: =0.5*M31 -> 5.65 | Q31: =0.75*M31 -> 8.475 | R31: =IF(N31="---","---",0.125*SQRT(POWER(M31,2)+POWER(N31,2))) -> 18.42921 | S31: =IF(N31="---","---",0.25*SQRT(POWER(M31,2)+POWER(N31,2))) -> 36.85842 | T31: =IF(N31="---","---",0.375*SQRT(POWER(M31,2)+POWER(N31,2))) -> 55.28763 | U31: =IF($N31="---","---",$O31*1.65+$R31) -> 23.09046 | V31: =IF($N31="---","---",$P31*1.65+$S31) -> 46.18092 | W31: =IF($N31="---","---",$Q31*1.65+$T31) -> 69.27138 | X31: ? | Y31: ? | Z31: ? | AA31: =2*(SQRT((O31^2)+(R31^2))) -> 37.288948 | AB31: =2*(SQRT((P31^2)+(S31^2))) -> 74.577896 | AC31: =2*(SQRT((Q31^2)+(T31^2))) -> 111.86684
A32: 29 | B32: APOA | C32: g/l | D32: 1 | E32: 1.75 | F32: 2 | G32: 8 | H32: 6 | I32: 5 | J32: 12.7 | K32: 10.4 | L32: 10.9 | M32: 6.5 | N32: 13.4 | O32: =0.25*M32 -> 1.625 | P32: =0.5*M32 -> 3.25 | Q32: =0.75*M32 -> 4.875 | R32: =IF(N32="---","---",0.125*SQRT(POWER(M32,2)+POWER(N32,2))) -> 1.8616609 | S32: =IF(N32="---","---",0.25*SQRT(POWER(M32,2)+POWER(N32,2))) -> 3.7233218 | T32: =IF(N32="---","---",0.375*SQRT(POWER(M32,2)+POWER(N32,2))) -> 5.5849827 | U32: =IF($N32="---","---",$O32*1.65+$R32) -> 4.5429109 | V32: =IF($N32="---","---",$P32*1.65+$S32) -> 9.0858218 | W32: =IF($N32="---","---",$Q32*1.65+$T32) -> 13.628733 | X32: =2*(SQRT((G32^2)+(J32^2))) -> 30.019327 | Y32: =2*(SQRT((H32^2)+(K32^2))) -> 24.01333 | Z32: =2*(SQRT((I32^2)+(L32^2))) -> 23.984161 | AA32: =2*(SQRT((O32^2)+(R32^2))) -> 4.9422287 | AB32: =2*(SQRT((P32^2)+(S32^2))) -> 9.8844575 | AC32: =2*(SQRT((Q32^2)+(T32^2))) -> 14.826686
A33: 30 | B33: APOB | C33: g/l | D33: 1 | E33: 2 | F33: 2.5 | G33: 9 | H33: 7 | I33: 6 | J33: 12 | K33: 9.7 | L33: 10.4 | M33: 6.9 | N33: 22.8 | O33: =0.25*M33 -> 1.725 | P33: =0.5*M33 -> 3.45 | Q33: =0.75*M33 -> 5.175 | R33: =IF(N33="---","---",0.125*SQRT(POWER(M33,2)+POWER(N33,2))) -> 2.9776511 | S33: =IF(N33="---","---",0.25*SQRT(POWER(M33,2)+POWER(N33,2))) -> 5.9553023 | T33: =IF(N33="---","---",0.375*SQRT(POWER(M33,2)+POWER(N33,2))) -> 8.9329534 | U33: =IF($N33="---","---",$O33*1.65+$R33) -> 5.8239011 | V33: =IF($N33="---","---",$P33*1.65+$S33) -> 11.647802 | W33: =IF($N33="---","---",$Q33*1.65+$T33) -> 17.471703 | X33: =2*(SQRT((G33^2)+(J33^2))) -> 30 | Y33: =2*(SQRT((H33^2)+(K33^2))) -> 23.924046 | Z33: =2*(SQRT((I33^2)+(L33^2))) -> 24.01333 | AA33: =2*(SQRT((O33^2)+(R33^2))) -> 6.8824505 | AB33: =2*(SQRT((P33^2)+(S33^2))) -> 13.764901 | AC33: =2*(SQRT((Q33^2)+(T33^2))) -> 20.647352
A34: 31 | B34: AST | C34: U/l | D34: 35 | E34: 125 | F34: 200 | G34: 6 | H34: 6 | I34: 5 | J34: 8 | K34: 6.7 | L34: 6.2 | M34: 12.3 | N34: 23.1 | O34: =0.25*M34 -> 3.075 | P34: =0.5*M34 -> 6.15 | Q34: =0.75*M34 -> 9.225 | R34: =IF(N34="---","---",0.125*SQRT(POWER(M34,2)+POWER(N34,2))) -> 3.2713243 | S34: =IF(N34="---","---",0.25*SQRT(POWER(M34,2)+POWER(N34,2))) -> 6.5426485 | T34: =IF(N34="---","---",0.375*SQRT(POWER(M34,2)+POWER(N34,2))) -> 9.8139728 | U34: =IF($N34="---","---",$O34*1.65+$R34) -> 8.3450743 | V34: =IF($N34="---","---",$P34*1.65+$S34) -> 16.690149 | W34: =IF($N34="---","---",$Q34*1.65+$T34) -> 25.035223 | X34: =2*(SQRT((G34^2)+(J34^2))) -> 20 | Y34: =2*(SQRT((H34^2)+(K34^2))) -> 17.987774 | Z34: =2*(SQRT((I34^2)+(L34^2))) -> 15.929846 | AA34: =2*(SQRT((O34^2)+(R34^2))) -> 8.9793513 | AB34: =2*(SQRT((P34^2)+(S34^2))) -> 17.958703 | AC34: =2*(SQRT((Q34^2)+(T34^2))) -> 26.938054
A35: 32 | B35: ASLO | C35: IU/mL | D35: ? | E35: ? | F35: ? | G35: ? | H35: ? | I35: ? | J35: ? | K35: ? | L35: ? | O35: ? | P35: ? | Q35: ? | R35: ? | S35: ? | T35: ? | U35: ? | V35: ? | W35: ? | X35: ? | Y35: ? | Z35: ? | AA35: ? | AB35: ? | AC35: ?
A36: 33 | B36: AT IIII | C36: % | D36: ? | E36: ? | F36: ? | G36: ? | H36: ? | I36: ? | J36: ? | K36: ? | L36: ? | M36: 5.2 | N36: 15.3 | O36: =0.25*M36 -> 1.3 | P36: =0.5*M36 -> 2.6 | Q36: =0.75*M36 -> 3.9 | R36: =IF(N36="---","---",0.125*SQRT(POWER(M36,2)+POWER(N36,2))) -> 2.0199397 | S36: =IF(N36="---","---",0.25*SQRT(POWER(M36,2)+POWER(N36,2))) -> 4.0398793 | T36: =IF(N36="---","---",0.375*SQRT(POWER(M36,2)+POWER(N36,2))) -> 6.059819 | U36: =IF($N36="---","---",$O36*1.65+$R36) -> 4.1649397 | V36: =IF($N36="---","---",$P36*1.65+$S36) -> 8.3298793 | W36: =IF($N36="---","---",$Q36*1.65+$T36) -> 12.494819 | X36: ? | Y36: ? | Z36: ? | AA36: =2*(SQRT((O36^2)+(R36^2))) -> 4.8042299 | AB36: =2*(SQRT((P36^2)+(S36^2))) -> 9.6084598 | AC36: =2*(SQRT((Q36^2)+(T36^2))) -> 14.41269
A37: 34 | B37: AXA | C37: UI/L | D37: ? | E37: ? | F37: ? | G37: ? | H37: ? | I37: ? | J37: ? | K37: ? | L37: ? | M37: ? | N37: ? | O37: ? | P37: ? | Q37: ? | R37: ? | S37: ? | T37: ? | U37: ? | V37: ? | W37: ? | X37: ? | Y37: ? | Z37: ? | AA37: ? | AB37: ? | AC37: ?
A38: 35 | B38: B2M | C38: mg/l | D38: 6 | E38: 17.5 | F38: 25 | G38: 8 | H38: 7 | I38: 7 | J38: 8.9 | K38: 7.1 | L38: 7.1 | M38: 5.9 | N38: 15.5 | O38: =0.25*M38 -> 1.475 | P38: =0.5*M38 -> 2.95 | Q38: =0.75*M38 -> 4.425 | R38: =IF(N38="---","---",0.125*SQRT(POWER(M38,2)+POWER(N38,2))) -> 2.0731166 | S38: =IF(N38="---","---",0.25*SQRT(POWER(M38,2)+POWER(N38,2))) -> 4.1462332 | T38: =IF(N38="---","---",0.375*SQRT(POWER(M38,2)+POWER(N38,2))) -> 6.2193498 | U38: =IF($N38="---","---",$O38*1.65+$R38) -> 4.5068666 | V38: =IF($N38="---","---",$P38*1.65+$S38) -> 9.0137332 | W38: =IF($N38="---","---",$Q38*1.65+$T38) -> 13.5206 | X38: =2*(SQRT((G38^2)+(J38^2))) -> 23.934076 | Y38: =2*(SQRT((H38^2)+(K38^2))) -> 19.940913 | Z38: =2*(SQRT((I38^2)+(L38^2))) -> 19.940913 | AA38: =2*(SQRT((O38^2)+(R38^2))) -> 5.0885902 | AB38: =2*(SQRT((P38^2)+(S38^2))) -> 10.17718 | AC38: =2*(SQRT((Q38^2)+(T38^2))) -> 15.265771
A39: 36 | B39: Barbiturates | C39: ng/mL | D39: ? | E39: ? | F39: ? | G39: ? | H39: ? | I39: ? | J39: ? | K39: ? | L39: ? | M39: - | N39: - | O39: ? | P39: ? | Q39: ? | R39: ? | S39: ? | T39: ? | U39: ? | V39: ? | W39: ? | X39: ? | Y39: ? | Z39: ? | AA39: ? | AB39: ? | AC39: ?
A40: 37 | B40: Benzodiazepines | C40: ng/mL | D40: ? | E40: ? | F40: ? | G40: ? | H40: ? | I40: ? | J40: ? | K40: ? | L40: ? | M40: - | N40: - | O40: ? | P40: ? | Q40: ? | R40: ? | S40: ? | T40: ? | U40: ? | V40: ? | W40: ? | X40: ? | Y40: ? | Z40: ? | AA40: ? | AB40: ? | AC40: ?
A41: 38 | B41: Beta 1 | C41: g/l | D41: ? | E41: ? | F41: ? | G41: ? | H41: ? | I41: ? | J41: ? | K41: ? | L41: ? | M41: 10.1 | N41: 9.1 | O41: =0.25*M41 -> 2.525 | P41: =0.5*M41 -> 5.05 | Q41: =0.75*M41 -> 7.575 | R41: =IF(N41="---","---",0.125*SQRT(POWER(M41,2)+POWER(N41,2))) -> 1.6993565 | S41: =IF(N41="---","---",0.25*SQRT(POWER(M41,2)+POWER(N41,2))) -> 3.398713 | T41: =IF(N41="---","---",0.375*SQRT(POWER(M41,2)+POWER(N41,2))) -> 5.0980695 | U41: =IF($N41="---","---",$O41*1.65+$R41) -> 5.8656065 | V41: =IF($N41="---","---",$P41*1.65+$S41) -> 11.731213 | W41: =IF($N41="---","---",$Q41*1.65+$T41) -> 17.596819 | X41: ? | Y41: ? | Z41: ? | AA41: =2*(SQRT((O41^2)+(R41^2))) -> 6.0871791 | AB41: =2*(SQRT((P41^2)+(S41^2))) -> 12.174358 | AC41: =2*(SQRT((Q41^2)+(T41^2))) -> 18.261537
A42: 39 | B42: Béta 2 | C42: g/l | D42: ? | E42: ? | F42: ? | G42: ? | H42: ? | I42: ? | J42: ? | K42: ? | L42: ? | M42: 10.1 | N42: 9.1 | O42: =0.25*M42 -> 2.525 | P42: =0.5*M42 -> 5.05 | Q42: =0.75*M42 -> 7.575 | R42: =IF(N42="---","---",0.125*SQRT(POWER(M42,2)+POWER(N42,2))) -> 1.6993565 | S42: =IF(N42="---","---",0.25*SQRT(POWER(M42,2)+POWER(N42,2))) -> 3.398713 | T42: =IF(N42="---","---",0.375*SQRT(POWER(M42,2)+POWER(N42,2))) -> 5.0980695 | U42: =IF($N42="---","---",$O42*1.65+$R42) -> 5.8656065 | V42: =IF($N42="---","---",$P42*1.65+$S42) -> 11.731213 | W42: =IF($N42="---","---",$Q42*1.65+$T42) -> 17.596819 | X42: ? | Y42: ? | Z42: ? | AA42: =2*(SQRT((O42^2)+(R42^2))) -> 6.0871791 | AB42: =2*(SQRT((P42^2)+(S42^2))) -> 12.174358 | AC42: =2*(SQRT((Q42^2)+(T42^2))) -> 18.261537
A43: 40 | B43: BHCG | C43: UI/l | D43: 51 | E43: 500 | F43: 900 | G43: 15 | H43: 10 | I43: 10 | J43: 26 | K43: 11.2 | L43: 11.2 | M43: - | N43: - | O43: ? | P43: ? | Q43: ? | R43: ? | S43: ? | T43: ? | U43: ? | V43: ? | W43: ? | X43: =2*(SQRT((G43^2)+(J43^2))) -> 60.033324 | Y43: =2*(SQRT((H43^2)+(K43^2))) -> 30.029319 | Z43: =2*(SQRT((I43^2)+(L43^2))) -> 30.029319 | AA43: ? | AB43: ? | AC43: ?
A44: 41 | B44: Bilirubine D | C44: µmol/l | D44: ? | E44: ? | F44: ? | G44: ? | H44: ? | I44: ? | J44: ? | K44: ? | L44: ? | M44: 36.8 | N44: 43.2 | O44: =0.25*M44 -> 9.2 | P44: =0.5*M44 -> 18.4 | Q44: =0.75*M44 -> 27.6 | R44: =IF(N44="---","---",0.125*SQRT(POWER(M44,2)+POWER(N44,2))) -> 7.0936591 | S44: =IF(N44="---","---",0.25*SQRT(POWER(M44,2)+POWER(N44,2))) -> 14.187318 | T44: =IF(N44="---","---",0.375*SQRT(POWER(M44,2)+POWER(N44,2))) -> 21.280977 | U44: =IF($N44="---","---",$O44*1.65+$R44) -> 22.273659 | V44: =IF($N44="---","---",$P44*1.65+$S44) -> 44.547318 | W44: =IF($N44="---","---",$Q44*1.65+$T44) -> 66.820977 | X44: ? | Y44: ? | Z44: ? | AA44: =2*(SQRT((O44^2)+(R44^2))) -> 23.234457 | AB44: =2*(SQRT((P44^2)+(S44^2))) -> 46.468914 | AC44: =2*(SQRT((Q44^2)+(T44^2))) -> 69.703372
A45: 42 | B45: Bilirubine T | C45: µmol/l | D45: 32.5 | E45: 125 | F45: 150 | G45: 6.8 | H45: 5.6 | I45: 4.2 | J45: 13.4 | K45: 10.6 | L45: 11.2 | M45: 23.8 | N45: 39 | O45: =0.25*M45 -> 5.95 | P45: =0.5*M45 -> 11.9 | Q45: =0.75*M45 -> 17.85 | R45: =IF(N45="---","---",0.125*SQRT(POWER(M45,2)+POWER(N45,2))) -> 5.7110638 | S45: =IF(N45="---","---",0.25*SQRT(POWER(M45,2)+POWER(N45,2))) -> 11.422128 | T45: =IF(N45="---","---",0.375*SQRT(POWER(M45,2)+POWER(N45,2))) -> 17.133191 | U45: =IF($N45="---","---",$O45*1.65+$R45) -> 15.528564 | V45: =IF($N45="---","---",$P45*1.65+$S45) -> 31.057128 | W45: =IF($N45="---","---",$Q45*1.65+$T45) -> 46.585691 | X45: =2*(SQRT((G45^2)+(J45^2))) -> 30.053286 | Y45: =2*(SQRT((H45^2)+(K45^2))) -> 23.976655 | Z45: =2*(SQRT((I45^2)+(L45^2))) -> 23.92321 | AA45: =2*(SQRT((O45^2)+(R45^2))) -> 16.494696 | AB45: =2*(SQRT((P45^2)+(S45^2))) -> 32.989392 | AC45: =2*(SQRT((Q45^2)+(T45^2))) -> 49.484088
A46: 43 | B46: C3C | C46: g/l | D46: 1 | E46: 2 | F46: 3 | G46: 8 | H46: 6 | I46: 5 | J46: 6 | K46: 8 | L46: 8.7 | M46: 5.2 | N46: 15.6 | O46: =0.25*M46 -> 1.3 | P46: =0.5*M46 -> 2.6 | Q46: =0.75*M46 -> 3.9 | R46: =IF(N46="---","---",0.125*SQRT(POWER(M46,2)+POWER(N46,2))) -> 2.0554805 | S46: =IF(N46="---","---",0.25*SQRT(POWER(M46,2)+POWER(N46,2))) -> 4.110961 | T46: =IF(N46="---","---",0.375*SQRT(POWER(M46,2)+POWER(N46,2))) -> 6.1664414 | U46: =IF($N46="---","---",$O46*1.65+$R46) -> 4.2004805 | V46: =IF($N46="---","---",$P46*1.65+$S46) -> 8.400961 | W46: =IF($N46="---","---",$Q46*1.65+$T46) -> 12.601441 | X46: =2*(SQRT((G46^2)+(J46^2))) -> 20 | Y46: =2*(SQRT((H46^2)+(K46^2))) -> 20 | Z46: =2*(SQRT((I46^2)+(L46^2))) -> 20.068881 | AA46: =2*(SQRT((O46^2)+(R46^2))) -> 4.8641546 | AB46: =2*(SQRT((P46^2)+(S46^2))) -> 9.7283092 | AC46: =2*(SQRT((Q46^2)+(T46^2))) -> 14.592464
A47: 44 | B47: C4 | C47: g/l | D47: 0.25 | E47: 0.45 | F47: 0.6 | G47: 8 | H47: 6 | I47: 5 | J47: 6 | K47: 8 | L47: 8.7 | M47: 8.9 | N47: 33.4 | O47: =0.25*M47 -> 2.225 | P47: =0.5*M47 -> 4.45 | Q47: =0.75*M47 -> 6.675 | R47: =IF(N47="---","---",0.125*SQRT(POWER(M47,2)+POWER(N47,2))) -> 4.3206806 | S47: =IF(N47="---","---",0.25*SQRT(POWER(M47,2)+POWER(N47,2))) -> 8.6413613 | T47: =IF(N47="---","---",0.375*SQRT(POWER(M47,2)+POWER(N47,2))) -> 12.962042 | U47: =IF($N47="---","---",$O47*1.65+$R47) -> 7.9919306 | V47: =IF($N47="---","---",$P47*1.65+$S47) -> 15.983861 | W47: =IF($N47="---","---",$Q47*1.65+$T47) -> 23.975792 | X47: =2*(SQRT((G47^2)+(J47^2))) -> 20 | Y47: =2*(SQRT((H47^2)+(K47^2))) -> 20 | Z47: =2*(SQRT((I47^2)+(L47^2))) -> 20.068881 | AA47: =2*(SQRT((O47^2)+(R47^2))) -> 9.7198573 | AB47: =2*(SQRT((P47^2)+(S47^2))) -> 19.439715 | AC47: =2*(SQRT((Q47^2)+(T47^2))) -> 29.159572
A48: 45 | B48: CA125 | C48: kU/l | D48: 30 | E48: 70 | F48: 100 | G48: 9 | H48: 7 | I48: 7 | J48: 17.9 | K48: 12.1 | L48: 9.7 | M48: 24.7 | N48: 54.6 | O48: =0.25*M48 -> 6.175 | P48: =0.5*M48 -> 12.35 | Q48: =0.75*M48 -> 18.525 | R48: =IF(N48="---","---",0.125*SQRT(POWER(M48,2)+POWER(N48,2))) -> 7.4908799 | S48: =IF(N48="---","---",0.25*SQRT(POWER(M48,2)+POWER(N48,2))) -> 14.98176 | T48: =IF(N48="---","---",0.375*SQRT(POWER(M48,2)+POWER(N48,2))) -> 22.47264 | U48: =IF($N48="---","---",$O48*1.65+$R48) -> 17.67963 | V48: =IF($N48="---","---",$P48*1.65+$S48) -> 35.35926 | W48: =IF($N48="---","---",$Q48*1.65+$T48) -> 53.03889 | X48: =2*(SQRT((G48^2)+(J48^2))) -> 40.070438 | Y48: =2*(SQRT((H48^2)+(K48^2))) -> 27.957825 | Z48: =2*(SQRT((I48^2)+(L48^2))) -> 23.924046 | AA48: =2*(SQRT((O48^2)+(R48^2))) -> 19.41586 | AB48: =2*(SQRT((P48^2)+(S48^2))) -> 38.83172 | AC48: =2*(SQRT((Q48^2)+(T48^2))) -> 58.24758
A49: 46 | B49: CA153 | C49: kU/l | D49: 30 | E49: 70 | F49: 100 | G49: 9 | H49: 7 | I49: 7 | J49: 17.9 | K49: 12.1 | L49: 9.7 | M49: 6.1 | N49: 62.9 | O49: =0.25*M49 -> 1.525 | P49: =0.5*M49 -> 3.05 | Q49: =0.75*M49 -> 4.575 | R49: =IF(N49="---","---",0.125*SQRT(POWER(M49,2)+POWER(N49,2))) -> 7.8993868 | S49: =IF(N49="---","---",0.25*SQRT(POWER(M49,2)+POWER(N49,2))) -> 15.798774 | T49: =IF(N49="---","---",0.375*SQRT(POWER(M49,2)+POWER(N49,2))) -> 23.698161 | U49: =IF($N49="---","---",$O49*1.65+$R49) -> 10.415637 | V49: =IF($N49="---","---",$P49*1.65+$S49) -> 20.831274 | W49: =IF($N49="---","---",$Q49*1.65+$T49) -> 31.246911 | X49: =2*(SQRT((G49^2)+(J49^2))) -> 40.070438 | Y49: =2*(SQRT((H49^2)+(K49^2))) -> 27.957825 | Z49: =2*(SQRT((I49^2)+(L49^2))) -> 23.924046 | AA49: =2*(SQRT((O49^2)+(R49^2))) -> 16.090486 | AB49: =2*(SQRT((P49^2)+(S49^2))) -> 32.180973 | AC49: =2*(SQRT((Q49^2)+(T49^2))) -> 48.271459
A50: 47 | B50: CA199 | C50: kU/l | D50: 30 | E50: 95 | F50: 150 | G50: 12 | H50: 10 | I50: 10 | J50: 21.9 | K50: 11.2 | L50: 11.2 | M50: 15.95 | N50: 131 | O50: =0.25*M50 -> 3.9875 | P50: =0.5*M50 -> 7.975 | Q50: =0.75*M50 -> 11.9625 | R50: =IF(N50="---","---",0.125*SQRT(POWER(M50,2)+POWER(N50,2))) -> 16.495929 | S50: =IF(N50="---","---",0.25*SQRT(POWER(M50,2)+POWER(N50,2))) -> 32.991857 | T50: =IF(N50="---","---",0.375*SQRT(POWER(M50,2)+POWER(N50,2))) -> 49.487786 | U50: =IF($N50="---","---",$O50*1.65+$R50) -> 23.075304 | V50: =IF($N50="---","---",$P50*1.65+$S50) -> 46.150607 | W50: =IF($N50="---","---",$Q50*1.65+$T50) -> 69.225911 | X50: =2*(SQRT((G50^2)+(J50^2))) -> 49.944369 | Y50: =2*(SQRT((H50^2)+(K50^2))) -> 30.029319 | Z50: =2*(SQRT((I50^2)+(L50^2))) -> 30.029319 | AA50: =2*(SQRT((O50^2)+(R50^2))) -> 33.942058 | AB50: =2*(SQRT((P50^2)+(S50^2))) -> 67.884115 | AC50: =2*(SQRT((Q50^2)+(T50^2))) -> 101.82617
A51: 48 | B51: Calcium ionisé | C51: mmol/l | D51: 0.8 | E51: 1.25 | F51: 1.5 | G51: 1.6 | H51: 1.6 | I51: 1.6 | J51: 1.7 | K51: 1.7 | L51: 1.7 | M51: 1.7 | N51: 1.9 | O51: =0.25*M51 -> 0.425 | P51: =0.5*M51 -> 0.85 | Q51: =0.75*M51 -> 1.275 | R51: =IF(N51="---","---",0.125*SQRT(POWER(M51,2)+POWER(N51,2))) -> 0.31868872 | S51: =IF(N51="---","---",0.25*SQRT(POWER(M51,2)+POWER(N51,2))) -> 0.63737744 | T51: =IF(N51="---","---",0.375*SQRT(POWER(M51,2)+POWER(N51,2))) -> 0.95606616 | U51: =IF($N51="---","---",$O51*1.65+$R51) -> 1.0199387 | V51: =IF($N51="---","---",$P51*1.65+$S51) -> 2.0398774 | W51: =IF($N51="---","---",$Q51*1.65+$T51) -> 3.0598162 | X51: =2*(SQRT((G51^2)+(J51^2))) -> 4.669047 | Y51: =2*(SQRT((H51^2)+(K51^2))) -> 4.669047 | Z51: =2*(SQRT((I51^2)+(L51^2))) -> 4.669047 | AA51: =2*(SQRT((O51^2)+(R51^2))) -> 1.0624265 | AB51: =2*(SQRT((P51^2)+(S51^2))) -> 2.1248529 | AC51: =2*(SQRT((Q51^2)+(T51^2))) -> 3.1872794
A52: 49 | B52: Calcium | C52: mmol/l | D52: 2.1 | E52: 2.9 | F52: 3.4 | G52: 1.6 | H52: 1.6 | I52: 1.6 | J52: 1.7 | K52: 1.7 | L52: 1.7 | M52: 2.1 | N52: 2.5 | O52: =0.25*M52 -> 0.525 | P52: =0.5*M52 -> 1.05 | Q52: =0.75*M52 -> 1.575 | R52: =IF(N52="---","---",0.125*SQRT(POWER(M52,2)+POWER(N52,2))) -> 0.40812069 | S52: =IF(N52="---","---",0.25*SQRT(POWER(M52,2)+POWER(N52,2))) -> 0.81624139 | T52: =IF(N52="---","---",0.375*SQRT(POWER(M52,2)+POWER(N52,2))) -> 1.2243621 | U52: =IF($N52="---","---",$O52*1.65+$R52) -> 1.2743707 | V52: =IF($N52="---","---",$P52*1.65+$S52) -> 2.5487414 | W52: =IF($N52="---","---",$Q52*1.65+$T52) -> 3.8231121 | X52: =2*(SQRT((G52^2)+(J52^2))) -> 4.669047 | Y52: =2*(SQRT((H52^2)+(K52^2))) -> 4.669047 | Z52: =2*(SQRT((I52^2)+(L52^2))) -> 4.669047 | AA52: =2*(SQRT((O52^2)+(R52^2))) -> 1.3299436 | AB52: =2*(SQRT((P52^2)+(S52^2))) -> 2.6598872 | AC52: =2*(SQRT((Q52^2)+(T52^2))) -> 3.9898308
A53: 50 | B53: Calcium U | C53: mmol/l | D53: 1.75 | E53: 3.25 | F53: 4 | G53: 4 | H53: 4 | I53: 4 | J53: 10 | K53: 10 | L53: 10 | M53: 26.2 | N53: 27 | O53: =0.25*M53 -> 6.55 | P53: =0.5*M53 -> 13.1 | Q53: =0.75*M53 -> 19.65 | R53: =IF(N53="---","---",0.125*SQRT(POWER(M53,2)+POWER(N53,2))) -> 4.7027917 | S53: =IF(N53="---","---",0.25*SQRT(POWER(M53,2)+POWER(N53,2))) -> 9.4055834 | T53: =IF(N53="---","---",0.375*SQRT(POWER(M53,2)+POWER(N53,2))) -> 14.108375 | U53: =IF($N53="---","---",$O53*1.65+$R53) -> 15.510292 | V53: =IF($N53="---","---",$P53*1.65+$S53) -> 31.020583 | W53: =IF($N53="---","---",$Q53*1.65+$T53) -> 46.530875 | X53: =2*(SQRT((G53^2)+(J53^2))) -> 21.540659 | Y53: =2*(SQRT((H53^2)+(K53^2))) -> 21.540659 | Z53: =2*(SQRT((I53^2)+(L53^2))) -> 21.540659 | AA53: =2*(SQRT((O53^2)+(R53^2))) -> 16.126841 | AB53: =2*(SQRT((P53^2)+(S53^2))) -> 32.253682 | AC53: =2*(SQRT((Q53^2)+(T53^2))) -> 48.380523
A54: 51 | B54: Cannabinoids | C54: ng/mL | D54: ? | E54: ? | F54: ? | G54: ? | H54: ? | I54: ? | J54: ? | K54: ? | L54: ? | M54: ? | N54: - | O54: ? | P54: ? | Q54: ? | R54: ? | S54: ? | T54: ? | U54: ? | V54: ? | W54: ? | X54: ? | Y54: ? | Z54: ? | AA54: ? | AB54: ? | AC54: ?
A55: 52 | B55: carbamazépine | C55: mg/l | D55: 6.5 | E55: 12.5 | F55: 15 | G55: 10 | H55: 7 | I55: 7 | J55: 11.2 | K55: 9.7 | L55: 13.3 | M55: 11.2 | N55: - | O55: ? | P55: ? | Q55: ? | R55: ? | S55: ? | T55: ? | U55: ? | V55: ? | W55: ? | X55: =2*(SQRT((G55^2)+(J55^2))) -> 30.029319 | Y55: =2*(SQRT((H55^2)+(K55^2))) -> 23.924046 | Z55: =2*(SQRT((I55^2)+(L55^2))) -> 30.059275 | AA55: ? | AB55: ? | AC55: ?
A56: 53 | B56: CCMH | C56: ? | D56: ? | E56: ? | F56: ? | G56: ? | H56: ? | I56: ? | J56: ? | K56: ? | L56: ? | M56: 1.06 | N56: 1.2 | O56: =0.25*M56 -> 0.265 | P56: =0.5*M56 -> 0.53 | Q56: =0.75*M56 -> 0.795 | R56: =IF(N56="---","---",0.125*SQRT(POWER(M56,2)+POWER(N56,2))) -> 0.20014058 | S56: =IF(N56="---","---",0.25*SQRT(POWER(M56,2)+POWER(N56,2))) -> 0.40028115 | T56: =IF(N56="---","---",0.375*SQRT(POWER(M56,2)+POWER(N56,2))) -> 0.60042173 | U56: =IF($N56="---","---",$O56*1.65+$R56) -> 0.63739058 | V56: =IF($N56="---","---",$P56*1.65+$S56) -> 1.2747812 | W56: =IF($N56="---","---",$Q56*1.65+$T56) -> 1.9121717 | X56: ? | Y56: ? | Z56: ? | AA56: =2*(SQRT((O56^2)+(R56^2))) -> 0.66417242 | AB56: =2*(SQRT((P56^2)+(S56^2))) -> 1.3283448 | AC56: =2*(SQRT((Q56^2)+(T56^2))) -> 1.9925173
A57: 54 | B57: Chlore | C57: mmol/l | D57: 92.5 | E57: 112.5 | F57: 120 | G57: 1.6 | H57: 1.6 | I57: 1.6 | J57: 1.9 | K57: 1.9 | L57: 1.9 | M57: 1.2 | N57: 1.5 | O57: =0.25*M57 -> 0.3 | P57: =0.5*M57 -> 0.6 | Q57: =0.75*M57 -> 0.9 | R57: =IF(N57="---","---",0.125*SQRT(POWER(M57,2)+POWER(N57,2))) -> 0.24011716 | S57: =IF(N57="---","---",0.25*SQRT(POWER(M57,2)+POWER(N57,2))) -> 0.48023432 | T57: =IF(N57="---","---",0.375*SQRT(POWER(M57,2)+POWER(N57,2))) -> 0.72035148 | U57: =IF($N57="---","---",$O57*1.65+$R57) -> 0.73511716 | V57: =IF($N57="---","---",$P57*1.65+$S57) -> 1.4702343 | W57: =IF($N57="---","---",$Q57*1.65+$T57) -> 2.2053515 | X57: =2*(SQRT((G57^2)+(J57^2))) -> 4.9678969 | Y57: =2*(SQRT((H57^2)+(K57^2))) -> 4.9678969 | Z57: =2*(SQRT((I57^2)+(L57^2))) -> 4.9678969 | AA57: =2*(SQRT((O57^2)+(R57^2))) -> 0.76852131 | AB57: =2*(SQRT((P57^2)+(S57^2))) -> 1.5370426 | AC57: =2*(SQRT((Q57^2)+(T57^2))) -> 2.3055639
A58: 55 | B58: Cholesterol | C58: mmol/l | D58: 4 | E58: 6.5 | F58: 8 | G58: 4 | H58: 4 | I58: 4 | J58: 5.7 | K58: 5.7 | L58: 5.7 | M58: 5.95 | N58: 15.3 | O58: =0.25*M58 -> 1.4875 | P58: =0.5*M58 -> 2.975 | Q58: =0.75*M58 -> 4.4625 | R58: =IF(N58="---","---",0.125*SQRT(POWER(M58,2)+POWER(N58,2))) -> 2.0520283 | S58: =IF(N58="---","---",0.25*SQRT(POWER(M58,2)+POWER(N58,2))) -> 4.1040567 | T58: =IF(N58="---","---",0.375*SQRT(POWER(M58,2)+POWER(N58,2))) -> 6.156085 | U58: =IF($N58="---","---",$O58*1.65+$R58) -> 4.5064033 | V58: =IF($N58="---","---",$P58*1.65+$S58) -> 9.0128067 | W58: =IF($N58="---","---",$Q58*1.65+$T58) -> 13.51921 | X58: =2*(SQRT((G58^2)+(J58^2))) -> 13.926952 | Y58: =2*(SQRT((H58^2)+(K58^2))) -> 13.926952 | Z58: =2*(SQRT((I58^2)+(L58^2))) -> 13.926952 | AA58: =2*(SQRT((O58^2)+(R58^2))) -> 5.0689157 | AB58: =2*(SQRT((P58^2)+(S58^2))) -> 10.137831 | AC58: =2*(SQRT((Q58^2)+(T58^2))) -> 15.206747
A59: 56 | B59: Chlore U | C59: mmol/l | D59: 55 | E59: 110 | F59: 140 | G59: 5 | H59: 4 | I59: 3 | J59: 8.7 | K59: 4.5 | L59: 4 | M59: - | N59: - | O59: ? | P59: ? | Q59: ? | R59: ? | S59: ? | T59: ? | U59: ? | V59: ? | W59: ? | X59: =2*(SQRT((G59^2)+(J59^2))) -> 20.068881 | Y59: =2*(SQRT((H59^2)+(K59^2))) -> 12.041595 | Z59: =2*(SQRT((I59^2)+(L59^2))) -> 10 | AA59: ? | AB59: ? | AC59: ?
A60: 57 | B60: CK MB | D60: ? | E60: ? | F60: ? | G60: ? | H60: ? | I60: ? | J60: ? | K60: ? | L60: ? | M60: ? | N60: - | O60: ? | P60: ? | Q60: ? | R60: ? | S60: ? | T60: ? | U60: ? | V60: ? | W60: ? | X60: ? | Y60: ? | Z60: ? | AA60: ? | AB60: ? | AC60: ?
A61: 58 | B61: CPK | C61: U/l | D61: 75 | E61: 250 | F61: 400 | G61: 6 | H61: 6 | I61: 5 | J61: 8 | K61: 6.7 | L61: 6.2 | M61: 22.8 | N61: 40 | O61: =0.25*M61 -> 5.7 | P61: =0.5*M61 -> 11.4 | Q61: =0.75*M61 -> 17.1 | R61: =IF(N61="---","---",0.125*SQRT(POWER(M61,2)+POWER(N61,2))) -> 5.755215 | S61: =IF(N61="---","---",0.25*SQRT(POWER(M61,2)+POWER(N61,2))) -> 11.51043 | T61: =IF(N61="---","---",0.375*SQRT(POWER(M61,2)+POWER(N61,2))) -> 17.265645 | U61: =IF($N61="---","---",$O61*1.65+$R61) -> 15.160215 | V61: =IF($N61="---","---",$P61*1.65+$S61) -> 30.32043 | W61: =IF($N61="---","---",$Q61*1.65+$T61) -> 45.480645 | X61: =2*(SQRT((G61^2)+(J61^2))) -> 20 | Y61: =2*(SQRT((H61^2)+(K61^2))) -> 17.987774 | Z61: =2*(SQRT((I61^2)+(L61^2))) -> 15.929846 | AA61: =2*(SQRT((O61^2)+(R61^2))) -> 16.200309 | AB61: =2*(SQRT((P61^2)+(S61^2))) -> 32.400617 | AC61: =2*(SQRT((Q61^2)+(T61^2))) -> 48.600926
A62: 59 | B62: CMV IgG | C62: COI | D62: ? | E62: ? | F62: ? | G62: ? | H62: ? | I62: ? | J62: ? | K62: ? | L62: ? | M62: ? | N62: - | O62: ? | P62: ? | Q62: ? | R62: ? | S62: ? | T62: ? | U62: ? | V62: ? | W62: ? | X62: ? | Y62: ? | Z62: ? | AA62: ? | AB62: ? | AC62: ?
A63: 60 | B63: CMV IgM | C63: COI | D63: ? | E63: ? | F63: ? | G63: ? | H63: ? | I63: ? | J63: ? | K63: ? | L63: ? | M63: ? | N63: - | O63: ? | P63: ? | Q63: ? | R63: ? | S63: ? | T63: ? | U63: ? | V63: ? | W63: ? | X63: ? | Y63: ? | Z63: ? | AA63: ? | AB63: ? | AC63: ?
A64: 61 | B64: Cocaine | C64: ng/mL | D64: ? | E64: ? | F64: ? | G64: ? | H64: ? | I64: ? | J64: ? | K64: ? | L64: ? | M64: - | N64: - | O64: ? | P64: ? | Q64: ? | R64: ? | S64: ? | T64: ? | U64: ? | V64: ? | W64: ? | X64: ? | Y64: ? | Z64: ? | AA64: ? | AB64: ? | AC64: ?
A65: 62 | B65: CORT | C65: nmol/l | D65: 300 | E65: 750 | F65: 1000 | G65: 15 | H65: 10 | I65: 10 | J65: 13.2 | K65: 11.2 | L65: 11.2 | M65: 20.9 | N65: 45.6 | O65: =0.25*M65 -> 5.225 | P65: =0.5*M65 -> 10.45 | Q65: =0.75*M65 -> 15.675 | R65: =IF(N65="---","---",0.125*SQRT(POWER(M65,2)+POWER(N65,2))) -> 6.2701799 | S65: =IF(N65="---","---",0.25*SQRT(POWER(M65,2)+POWER(N65,2))) -> 12.54036 | T65: =IF(N65="---","---",0.375*SQRT(POWER(M65,2)+POWER(N65,2))) -> 18.81054 | U65: =IF($N65="---","---",$O65*1.65+$R65) -> 14.89143 | V65: =IF($N65="---","---",$P65*1.65+$S65) -> 29.78286 | W65: =IF($N65="---","---",$Q65*1.65+$T65) -> 44.67429 | X65: =2*(SQRT((G65^2)+(J65^2))) -> 39.961982 | Y65: =2*(SQRT((H65^2)+(K65^2))) -> 30.029319 | Z65: =2*(SQRT((I65^2)+(L65^2))) -> 30.029319 | AA65: =2*(SQRT((O65^2)+(R65^2))) -> 16.323698 | AB65: =2*(SQRT((P65^2)+(S65^2))) -> 32.647397 | AC65: =2*(SQRT((Q65^2)+(T65^2))) -> 48.971095
A66: 63 | B66: Créatinine | C66: µmol/l | D66: 85 | E66: 365 | F66: 590 | G66: 6 | H66: 4.5 | I66: 2.4 | J66: 8 | K66: 7.8 | L66: 7.6 | M66: 6 | N66: 14.7 | O66: =0.25*M66 -> 1.5 | P66: =0.5*M66 -> 3 | Q66: =0.75*M66 -> 4.5 | R66: =IF(N66="---","---",0.125*SQRT(POWER(M66,2)+POWER(N66,2))) -> 1.9846678 | S66: =IF(N66="---","---",0.25*SQRT(POWER(M66,2)+POWER(N66,2))) -> 3.9693356 | T66: =IF(N66="---","---",0.375*SQRT(POWER(M66,2)+POWER(N66,2))) -> 5.9540034 | U66: =IF($N66="---","---",$O66*1.65+$R66) -> 4.4596678 | V66: =IF($N66="---","---",$P66*1.65+$S66) -> 8.9193356 | W66: =IF($N66="---","---",$Q66*1.65+$T66) -> 13.379003 | X66: =2*(SQRT((G66^2)+(J66^2))) -> 20 | Y66: =2*(SQRT((H66^2)+(K66^2))) -> 18.009997 | Z66: =2*(SQRT((I66^2)+(L66^2))) -> 15.939887 | AA66: =2*(SQRT((O66^2)+(R66^2))) -> 4.9755025 | AB66: =2*(SQRT((P66^2)+(S66^2))) -> 9.951005 | AC66: =2*(SQRT((Q66^2)+(T66^2))) -> 14.926507
A67: 64 | B67: Créatinine E | C67: µmol/l | D67: ? | E67: ? | F67: ? | G67: ? | H67: ? | I67: ? | J67: ? | K67: ? | L67: ? | M67: ? | N67: ? | O67: ? | P67: ? | Q67: ? | R67: ? | S67: ? | T67: ? | U67: ? | V67: ? | W67: ? | X67: ? | Y67: ? | Z67: ? | AA67: ? | AB67: ? | AC67: ?
A68: 65 | B68: Créatinine U | C68: mmol/l | D68: 4.5 | E68: 14 | F68: 20 | G68: 6 | H68: 5 | I68: 5 | J68: 8 | K68: 6.2 | L68: 6.2 | M68: 11 | N68: 23 | O68: =0.25*M68 -> 2.75 | P68: =0.5*M68 -> 5.5 | Q68: =0.75*M68 -> 8.25 | R68: =IF(N68="---","---",0.125*SQRT(POWER(M68,2)+POWER(N68,2))) -> 3.1868872 | S68: =IF(N68="---","---",0.25*SQRT(POWER(M68,2)+POWER(N68,2))) -> 6.3737744 | T68: =IF(N68="---","---",0.375*SQRT(POWER(M68,2)+POWER(N68,2))) -> 9.5606616 | U68: =IF($N68="---","---",$O68*1.65+$R68) -> 7.7243872 | V68: =IF($N68="---","---",$P68*1.65+$S68) -> 15.448774 | W68: =IF($N68="---","---",$Q68*1.65+$T68) -> 23.173162 | X68: =2*(SQRT((G68^2)+(J68^2))) -> 20 | Y68: =2*(SQRT((H68^2)+(K68^2))) -> 15.929846 | Z68: =2*(SQRT((I68^2)+(L68^2))) -> 15.929846 | AA68: =2*(SQRT((O68^2)+(R68^2))) -> 8.4187291 | AB68: =2*(SQRT((P68^2)+(S68^2))) -> 16.837458 | AC68: =2*(SQRT((Q68^2)+(T68^2))) -> 25.256187
A69: 66 | B69: CRP | C69: mg/l | D69: 32.5 | E69: 75 | F69: 100 | G69: 12 | H69: 6 | I69: 5 | J69: 9 | K69: 8 | L69: 7.5 | M69: 42.2 | N69: 76.3 | O69: =0.25*M69 -> 10.55 | P69: =0.5*M69 -> 21.1 | Q69: =0.75*M69 -> 31.65 | R69: =IF(N69="---","---",0.125*SQRT(POWER(M69,2)+POWER(N69,2))) -> 10.899061 | S69: =IF(N69="---","---",0.25*SQRT(POWER(M69,2)+POWER(N69,2))) -> 21.798122 | T69: =IF(N69="---","---",0.375*SQRT(POWER(M69,2)+POWER(N69,2))) -> 32.697183 | U69: =IF($N69="---","---",$O69*1.65+$R69) -> 28.306561 | V69: =IF($N69="---","---",$P69*1.65+$S69) -> 56.613122 | W69: =IF($N69="---","---",$Q69*1.65+$T69) -> 84.919683 | X69: =2*(SQRT((G69^2)+(J69^2))) -> 30 | Y69: =2*(SQRT((H69^2)+(K69^2))) -> 20 | Z69: =2*(SQRT((I69^2)+(L69^2))) -> 18.027756 | AA69: =2*(SQRT((O69^2)+(R69^2))) -> 30.33757 | AB69: =2*(SQRT((P69^2)+(S69^2))) -> 60.675139 | AC69: =2*(SQRT((Q69^2)+(T69^2))) -> 91.012709
A70: 67 | B70: D-DIMER | C70: FEU/mL | D70: ? | E70: ? | F70: ? | G70: ? | H70: ? | I70: ? | J70: ? | K70: ? | L70: ? | M70: 23.3 | N70: 26.5 | O70: =0.25*M70 -> 5.825 | P70: =0.5*M70 -> 11.65 | Q70: =0.75*M70 -> 17.475 | R70: =IF(N70="---","---",0.125*SQRT(POWER(M70,2)+POWER(N70,2))) -> 4.4108177 | S70: =IF(N70="---","---",0.25*SQRT(POWER(M70,2)+POWER(N70,2))) -> 8.8216353 | T70: =IF(N70="---","---",0.375*SQRT(POWER(M70,2)+POWER(N70,2))) -> 13.232453 | U70: =IF($N70="---","---",$O70*1.65+$R70) -> 14.022068 | V70: =IF($N70="---","---",$P70*1.65+$S70) -> 28.044135 | W70: =IF($N70="---","---",$Q70*1.65+$T70) -> 42.066203 | X70: ? | Y70: ? | Z70: ? | AA70: =2*(SQRT((O70^2)+(R70^2))) -> 14.613136 | AB70: =2*(SQRT((P70^2)+(S70^2))) -> 29.226272 | AC70: =2*(SQRT((Q70^2)+(T70^2))) -> 43.839409
A71: 68 | B71: Dépakine | C71: mg/l | D71: 55 | E71: 105 | F71: 130 | G71: 10 | H71: 8 | I71: 8 | J71: 11.2 | K71: 8.9 | L71: 8.9 | M71: - | N71: - | O71: ? | P71: ? | Q71: ? | R71: ? | S71: ? | T71: ? | U71: ? | V71: ? | W71: ? | X71: =2*(SQRT((G71^2)+(J71^2))) -> 30.029319 | Y71: =2*(SQRT((H71^2)+(K71^2))) -> 23.934076 | Z71: =2*(SQRT((I71^2)+(L71^2))) -> 23.934076 | AA71: ? | AB71: ? | AC71: ?
A72: 69 | B72: Digoxine | C72: µg/l | D72: 1 | E72: 2.25 | F72: 3 | G72: 12 | H72: 7 | I72: 7 | J72: 9 | K72: 12.1 | L72: 12.1 | M72: 9 | N72: - | O72: ? | P72: ? | Q72: ? | R72: ? | S72: ? | T72: ? | U72: ? | V72: ? | W72: ? | X72: =2*(SQRT((G72^2)+(J72^2))) -> 30 | Y72: =2*(SQRT((H72^2)+(K72^2))) -> 27.957825 | Z72: =2*(SQRT((I72^2)+(L72^2))) -> 27.957825 | AA72: ? | AB72: ? | AC72: ?
A73: 70 | B73: E2 | C73: pmol/l | D73: 550 | E73: 5500 | F73: 10000 | G73: 25 | H73: 10 | I73: 10 | J73: 24.5 | K73: 11.2 | L73: 11.2 | M73: 22.8 | N73: 24.4 | O73: =0.25*M73 -> 5.7 | P73: =0.5*M73 -> 11.4 | Q73: =0.75*M73 -> 17.1 | R73: =IF(N73="---","---",0.125*SQRT(POWER(M73,2)+POWER(N73,2))) -> 4.1743263 | S73: =IF(N73="---","---",0.25*SQRT(POWER(M73,2)+POWER(N73,2))) -> 8.3486526 | T73: =IF(N73="---","---",0.375*SQRT(POWER(M73,2)+POWER(N73,2))) -> 12.522979 | U73: =IF($N73="---","---",$O73*1.65+$R73) -> 13.579326 | V73: =IF($N73="---","---",$P73*1.65+$S73) -> 27.158653 | W73: =IF($N73="---","---",$Q73*1.65+$T73) -> 40.737979 | X73: =2*(SQRT((G73^2)+(J73^2))) -> 70.007142 | Y73: =2*(SQRT((H73^2)+(K73^2))) -> 30.029319 | Z73: =2*(SQRT((I73^2)+(L73^2))) -> 30.029319 | AA73: =2*(SQRT((O73^2)+(R73^2))) -> 14.13011 | AB73: =2*(SQRT((P73^2)+(S73^2))) -> 28.260219 | AC73: =2*(SQRT((Q73^2)+(T73^2))) -> 42.390329
A74: 71 | B74: F.Rhumatoide | C74: IU/ml | D74: ? | E74: ? | F74: ? | G74: ? | H74: ? | I74: ? | J74: ? | K74: ? | L74: ? | M74: 8.5 | N74: 24.5 | O74: =0.25*M74 -> 2.125 | P74: =0.5*M74 -> 4.25 | Q74: =0.75*M74 -> 6.375 | R74: =IF(N74="---","---",0.125*SQRT(POWER(M74,2)+POWER(N74,2))) -> 3.2415756 | S74: =IF(N74="---","---",0.25*SQRT(POWER(M74,2)+POWER(N74,2))) -> 6.4831512 | T74: =IF(N74="---","---",0.375*SQRT(POWER(M74,2)+POWER(N74,2))) -> 9.7247269 | U74: =IF($N74="---","---",$O74*1.65+$R74) -> 6.7478256 | V74: =IF($N74="---","---",$P74*1.65+$S74) -> 13.495651 | W74: =IF($N74="---","---",$Q74*1.65+$T74) -> 20.243477 | X74: ? | Y74: ? | Z74: ? | AA74: =2*(SQRT((O74^2)+(R74^2))) -> 7.7520159 | AB74: =2*(SQRT((P74^2)+(S74^2))) -> 15.504032 | AC74: =2*(SQRT((Q74^2)+(T74^2))) -> 23.256048
A75: 72 | B75: FACTEUR II | C75: % | D75: ? | E75: ? | F75: ? | G75: ? | H75: ? | I75: ? | J75: ? | K75: ? | L75: ? | M75: ? | N75: ? | O75: ? | P75: ? | Q75: ? | R75: ? | S75: ? | T75: ? | U75: ? | V75: ? | W75: ? | X75: ? | Y75: ? | Z75: ? | AA75: ? | AB75: ? | AC75: ?
A76: 73 | B76: FACTEUR V | C76: % | D76: ? | E76: ? | F76: ? | G76: ? | H76: ? | I76: ? | J76: ? | K76: ? | L76: ? | M76: 3.6 | N76: --- | O76: =0.25*M76 -> 0.9 | P76: =0.5*M76 -> 1.8 | Q76: =0.75*M76 -> 2.7 | R76: =IF(N76="---","---",0.125*SQRT(POWER(M76,2)+POWER(N76,2))) -> --- | S76: =IF(N76="---","---",0.25*SQRT(POWER(M76,2)+POWER(N76,2))) -> --- | T76: =IF(N76="---","---",0.375*SQRT(POWER(M76,2)+POWER(N76,2))) -> --- | U76: ? | V76: ? | W76: ? | X76: ? | Y76: ? | Z76: ? | AA76: ? | AB76: ? | AC76: ?
A77: 74 | B77: FACTEUR VII | C77: % | D77: ? | E77: ? | F77: ? | G77: ? | H77: ? | I77: ? | J77: ? | K77: ? | L77: ? | M77: 6.8 | N77: 19.4 | O77: =0.25*M77 -> 1.7 | P77: =0.5*M77 -> 3.4 | Q77: =0.75*M77 -> 5.1 | R77: =IF(N77="---","---",0.125*SQRT(POWER(M77,2)+POWER(N77,2))) -> 2.5696546 | S77: =IF(N77="---","---",0.25*SQRT(POWER(M77,2)+POWER(N77,2))) -> 5.1393093 | T77: =IF(N77="---","---",0.375*SQRT(POWER(M77,2)+POWER(N77,2))) -> 7.7089639 | U77: =IF($N77="---","---",$O77*1.65+$R77) -> 5.3746546 | V77: =IF($N77="---","---",$P77*1.65+$S77) -> 10.749309 | W77: =IF($N77="---","---",$Q77*1.65+$T77) -> 16.123964 | X77: ? | Y77: ? | Z77: ? | AA77: =2*(SQRT((O77^2)+(R77^2))) -> 6.1621831 | AB77: =2*(SQRT((P77^2)+(S77^2))) -> 12.324366 | AC77: =2*(SQRT((Q77^2)+(T77^2))) -> 18.486549
A78: 75 | B78: FACTEUR VIII | C78: % | D78: ? | E78: ? | F78: ? | G78: ? | H78: ? | I78: ? | J78: ? | K78: ? | L78: ? | M78: 4.8 | N78: 19.1 | O78: =0.25*M78 -> 1.2 | P78: =0.5*M78 -> 2.4 | Q78: =0.75*M78 -> 3.6 | R78: =IF(N78="---","---",0.125*SQRT(POWER(M78,2)+POWER(N78,2))) -> 2.4617385 | S78: =IF(N78="---","---",0.25*SQRT(POWER(M78,2)+POWER(N78,2))) -> 4.9234769 | T78: =IF(N78="---","---",0.375*SQRT(POWER(M78,2)+POWER(N78,2))) -> 7.3852154 | U78: =IF($N78="---","---",$O78*1.65+$R78) -> 4.4417385 | V78: =IF($N78="---","---",$P78*1.65+$S78) -> 8.8834769 | W78: =IF($N78="---","---",$Q78*1.65+$T78) -> 13.325215 | X78: ? | Y78: ? | Z78: ? | AA78: =2*(SQRT((O78^2)+(R78^2))) -> 5.4772826 | AB78: =2*(SQRT((P78^2)+(S78^2))) -> 10.954565 | AC78: =2*(SQRT((Q78^2)+(T78^2))) -> 16.431848
A79: 76 | B79: FACTEUR IX | C79: % | D79: ? | E79: ? | F79: ? | G79: ? | H79: ? | I79: ? | J79: ? | K79: ? | L79: ? | M79: ? | N79: ? | O79: ? | P79: ? | Q79: ? | R79: ? | S79: ? | T79: ? | U79: ? | V79: ? | W79: ? | X79: ? | Y79: ? | Z79: ? | AA79: ? | AB79: ? | AC79: ?
A80: 77 | B80: FACTEUR X | C80: % | D80: ? | E80: ? | F80: ? | G80: ? | H80: ? | I80: ? | J80: ? | K80: ? | L80: ? | M80: 5.35 | N80: --- | O80: =0.25*M80 -> 1.3375 | P80: =0.5*M80 -> 2.675 | Q80: =0.75*M80 -> 4.0125 | R80: =IF(N80="---","---",0.125*SQRT(POWER(M80,2)+POWER(N80,2))) -> --- | S80: =IF(N80="---","---",0.25*SQRT(POWER(M80,2)+POWER(N80,2))) -> --- | T80: =IF(N80="---","---",0.375*SQRT(POWER(M80,2)+POWER(N80,2))) -> --- | U80: ? | V80: ? | W80: ? | X80: ? | Y80: ? | Z80: ? | AA80: ? | AB80: ? | AC80: ?
A81: 78 | B81: FACTEUR XI | C81: % | D81: ? | E81: ? | F81: ? | G81: ? | H81: ? | I81: ? | J81: ? | K81: ? | L81: ? | M81: ? | N81: ? | O81: ? | P81: ? | Q81: ? | R81: ? | S81: ? | T81: ? | U81: ? | V81: ? | W81: ? | X81: ? | Y81: ? | Z81: ? | AA81: ? | AB81: ? | AC81: ?
A82: 79 | B82: FACTEUR XII | C82: % | D82: ? | E82: ? | F82: ? | G82: ? | H82: ? | I82: ? | J82: ? | K82: ? | L82: ? | M82: ? | N82: ? | O82: ? | P82: ? | Q82: ? | R82: ? | S82: ? | T82: ? | U82: ? | V82: ? | W82: ? | X82: ? | Y82: ? | Z82: ? | AA82: ? | AB82: ? | AC82: ?
A83: 80 | B83: Fer | C83: µmol/l | D83: 12.5 | E83: 30 | F83: 40 | G83: 8 | H83: 5 | I83: 4 | J83: 12.7 | K83: 8.7 | L83: 6.9 | M83: 26.5 | N83: 23.2 | O83: =0.25*M83 -> 6.625 | P83: =0.5*M83 -> 13.25 | Q83: =0.75*M83 -> 19.875 | R83: =IF(N83="---","---",0.125*SQRT(POWER(M83,2)+POWER(N83,2))) -> 4.4025738 | S83: =IF(N83="---","---",0.25*SQRT(POWER(M83,2)+POWER(N83,2))) -> 8.8051476 | T83: =IF(N83="---","---",0.375*SQRT(POWER(M83,2)+POWER(N83,2))) -> 13.207721 | U83: =IF($N83="---","---",$O83*1.65+$R83) -> 15.333824 | V83: =IF($N83="---","---",$P83*1.65+$S83) -> 30.667648 | W83: =IF($N83="---","---",$Q83*1.65+$T83) -> 46.001471 | X83: =2*(SQRT((G83^2)+(J83^2))) -> 30.019327 | Y83: =2*(SQRT((H83^2)+(K83^2))) -> 20.068881 | Z83: =2*(SQRT((I83^2)+(L83^2))) -> 15.951176 | AA83: =2*(SQRT((O83^2)+(R83^2))) -> 15.908901 | AB83: =2*(SQRT((P83^2)+(S83^2))) -> 31.817802 | AC83: =2*(SQRT((Q83^2)+(T83^2))) -> 47.726702
A84: 81 | B84: Ferritine | C84: µg/l | D84: 110 | E84: 500 | F84: 800 | G84: 10 | H84: 8 | I84: 8 | J84: 8.3 | K84: 6 | L84: 6 | M84: 14.2 | N84: 15 | O84: =0.25*M84 -> 3.55 | P84: =0.5*M84 -> 7.1 | Q84: =0.75*M84 -> 10.65 | R84: =IF(N84="---","---",0.125*SQRT(POWER(M84,2)+POWER(N84,2))) -> 2.5819082 | S84: =IF(N84="---","---",0.25*SQRT(POWER(M84,2)+POWER(N84,2))) -> 5.1638164 | T84: =IF(N84="---","---",0.375*SQRT(POWER(M84,2)+POWER(N84,2))) -> 7.7457246 | U84: =IF($N84="---","---",$O84*1.65+$R84) -> 8.4394082 | V84: =IF($N84="---","---",$P84*1.65+$S84) -> 16.878816 | W84: =IF($N84="---","---",$Q84*1.65+$T84) -> 25.318225 | X84: =2*(SQRT((G84^2)+(J84^2))) -> 25.991537 | Y84: =2*(SQRT((H84^2)+(K84^2))) -> 20 | Z84: =2*(SQRT((I84^2)+(L84^2))) -> 20 | AA84: =2*(SQRT((O84^2)+(R84^2))) -> 8.7792369 | AB84: =2*(SQRT((P84^2)+(S84^2))) -> 17.558474 | AC84: =2*(SQRT((Q84^2)+(T84^2))) -> 26.337711
A85: 82 | B85: FIB | C85: % | D85: ? | E85: ? | F85: ? | G85: ? | H85: ? | I85: ? | J85: ? | K85: ? | L85: ? | M85: 10.7 | N85: 15.8 | O85: =0.25*M85 -> 2.675 | P85: =0.5*M85 -> 5.35 | Q85: =0.75*M85 -> 8.025 | R85: =IF(N85="---","---",0.125*SQRT(POWER(M85,2)+POWER(N85,2))) -> 2.3852738 | S85: =IF(N85="---","---",0.25*SQRT(POWER(M85,2)+POWER(N85,2))) -> 4.7705477 | T85: =IF(N85="---","---",0.375*SQRT(POWER(M85,2)+POWER(N85,2))) -> 7.1558215 | U85: =IF($N85="---","---",$O85*1.65+$R85) -> 6.7990238 | V85: =IF($N85="---","---",$P85*1.65+$S85) -> 13.598048 | W85: =IF($N85="---","---",$Q85*1.65+$T85) -> 20.397071 | X85: ? | Y85: ? | Z85: ? | AA85: =2*(SQRT((O85^2)+(R85^2))) -> 7.168028 | AB85: =2*(SQRT((P85^2)+(S85^2))) -> 14.336056 | AC85: =2*(SQRT((Q85^2)+(T85^2))) -> 21.504084
A86: 83 | B86: FOLATE | C86: µg/l | D86: 2.5 | E86: 9.5 | F86: 15 | G86: 10 | H86: 8 | I86: 8 | J86: 11 | K86: 8.9 | L86: 8.9 | M86: 24 | N86: 73 | O86: =0.25*M86 -> 6 | P86: =0.5*M86 -> 12 | Q86: =0.75*M86 -> 18 | R86: =IF(N86="---","---",0.125*SQRT(POWER(M86,2)+POWER(N86,2))) -> 9.6054997 | S86: =IF(N86="---","---",0.25*SQRT(POWER(M86,2)+POWER(N86,2))) -> 19.210999 | T86: =IF(N86="---","---",0.375*SQRT(POWER(M86,2)+POWER(N86,2))) -> 28.816499 | U86: =IF($N86="---","---",$O86*1.65+$R86) -> 19.5055 | V86: =IF($N86="---","---",$P86*1.65+$S86) -> 39.010999 | W86: =IF($N86="---","---",$Q86*1.65+$T86) -> 58.516499 | X86: =2*(SQRT((G86^2)+(J86^2))) -> 29.732137 | Y86: =2*(SQRT((H86^2)+(K86^2))) -> 23.934076 | Z86: =2*(SQRT((I86^2)+(L86^2))) -> 23.934076 | AA86: =2*(SQRT((O86^2)+(R86^2))) -> 22.650883 | AB86: =2*(SQRT((P86^2)+(S86^2))) -> 45.301766 | AC86: =2*(SQRT((Q86^2)+(T86^2))) -> 67.952649
A87: 84 | B87: FSH | C87: UI/l | D87: 11 | E87: 35 | F87: 50 | G87: 10 | H87: 8 | I87: 8 | J87: 17.3 | K87: 12.7 | L87: 12.7 | M87: 11 | N87: 47.2 | O87: =0.25*M87 -> 2.75 | P87: =0.5*M87 -> 5.5 | Q87: =0.75*M87 -> 8.25 | R87: =IF(N87="---","---",0.125*SQRT(POWER(M87,2)+POWER(N87,2))) -> 6.0581041 | S87: =IF(N87="---","---",0.25*SQRT(POWER(M87,2)+POWER(N87,2))) -> 12.116208 | T87: =IF(N87="---","---",0.375*SQRT(POWER(M87,2)+POWER(N87,2))) -> 18.174312 | U87: =IF($N87="---","---",$O87*1.65+$R87) -> 10.595604 | V87: =IF($N87="---","---",$P87*1.65+$S87) -> 21.191208 | W87: =IF($N87="---","---",$Q87*1.65+$T87) -> 31.786812 | X87: =2*(SQRT((G87^2)+(J87^2))) -> 39.964484 | Y87: =2*(SQRT((H87^2)+(K87^2))) -> 30.019327 | Z87: =2*(SQRT((I87^2)+(L87^2))) -> 30.019327 | AA87: =2*(SQRT((O87^2)+(R87^2))) -> 13.306108 | AB87: =2*(SQRT((P87^2)+(S87^2))) -> 26.612215 | AC87: =2*(SQRT((Q87^2)+(T87^2))) -> 39.918323
A88: 85 | B88: FT3 III | C88: pmol/l | D88: 5 | E88: 11 | F88: 15 | G88: 11 | H88: 8 | I88: 8 | J88: 16.7 | K88: 12.7 | L88: 12.7 | M88: 7.9 | N88: 17.6 | O88: =0.25*M88 -> 1.975 | P88: =0.5*M88 -> 3.95 | Q88: =0.75*M88 -> 5.925 | R88: =IF(N88="---","---",0.125*SQRT(POWER(M88,2)+POWER(N88,2))) -> 2.4114635 | S88: =IF(N88="---","---",0.25*SQRT(POWER(M88,2)+POWER(N88,2))) -> 4.822927 | T88: =IF(N88="---","---",0.375*SQRT(POWER(M88,2)+POWER(N88,2))) -> 7.2343905 | U88: =IF($N88="---","---",$O88*1.65+$R88) -> 5.6702135 | V88: =IF($N88="---","---",$P88*1.65+$S88) -> 11.340427 | W88: =IF($N88="---","---",$Q88*1.65+$T88) -> 17.010641 | X88: =2*(SQRT((G88^2)+(J88^2))) -> 39.9945 | Y88: =2*(SQRT((H88^2)+(K88^2))) -> 30.019327 | Z88: =2*(SQRT((I88^2)+(L88^2))) -> 30.019327 | AA88: =2*(SQRT((O88^2)+(R88^2))) -> 6.2340296 | AB88: =2*(SQRT((P88^2)+(S88^2))) -> 12.468059 | AC88: =2*(SQRT((Q88^2)+(T88^2))) -> 18.702089
A89: 86 | B89: FT4 II | C89: pmol/l | D89: 13.5 | E89: 21 | F89: 25 | G89: 10 | H89: 8 | I89: 8 | J89: 17.3 | K89: 12.7 | L89: 12.7 | M89: 5.7 | N89: 12.1 | O89: =0.25*M89 -> 1.425 | P89: =0.5*M89 -> 2.85 | Q89: =0.75*M89 -> 4.275 | R89: =IF(N89="---","---",0.125*SQRT(POWER(M89,2)+POWER(N89,2))) -> 1.6719188 | S89: =IF(N89="---","---",0.25*SQRT(POWER(M89,2)+POWER(N89,2))) -> 3.3438376 | T89: =IF(N89="---","---",0.375*SQRT(POWER(M89,2)+POWER(N89,2))) -> 5.0157564 | U89: =IF($N89="---","---",$O89*1.65+$R89) -> 4.0231688 | V89: =IF($N89="---","---",$P89*1.65+$S89) -> 8.0463376 | W89: =IF($N89="---","---",$Q89*1.65+$T89) -> 12.069506 | X89: =2*(SQRT((G89^2)+(J89^2))) -> 39.964484 | Y89: =2*(SQRT((H89^2)+(K89^2))) -> 30.019327 | Z89: =2*(SQRT((I89^2)+(L89^2))) -> 30.019327 | AA89: =2*(SQRT((O89^2)+(R89^2))) -> 4.3936033 | AB89: =2*(SQRT((P89^2)+(S89^2))) -> 8.7872066 | AC89: =2*(SQRT((Q89^2)+(T89^2))) -> 13.18081
A90: 87 | B90: Gamma | C90: g/l | D90: ? | E90: ? | F90: ? | G90: ? | H90: ? | I90: ? | J90: ? | K90: ? | L90: ? | M90: 14.6 | N90: 12.3 | O90: =0.25*M90 -> 3.65 | P90: =0.5*M90 -> 7.3 | Q90: =0.75*M90 -> 10.95 | R90: =IF(N90="---","---",0.125*SQRT(POWER(M90,2)+POWER(N90,2))) -> 2.3863217 | S90: =IF(N90="---","---",0.25*SQRT(POWER(M90,2)+POWER(N90,2))) -> 4.7726434 | T90: =IF(N90="---","---",0.375*SQRT(POWER(M90,2)+POWER(N90,2))) -> 7.1589651 | U90: =IF($N90="---","---",$O90*1.65+$R90) -> 8.4088217 | V90: =IF($N90="---","---",$P90*1.65+$S90) -> 16.817643 | W90: =IF($N90="---","---",$Q90*1.65+$T90) -> 25.226465 | X90: ? | Y90: ? | Z90: ? | AA90: =2*(SQRT((O90^2)+(R90^2))) -> 8.7217042 | AB90: =2*(SQRT((P90^2)+(S90^2))) -> 17.443408 | AC90: =2*(SQRT((Q90^2)+(T90^2))) -> 26.165113
A91: 88 | B91: P. BASOPHILES | C91: Giga/l | D91: ? | E91: ? | F91: ? | G91: ? | H91: ? | I91: ? | J91: ? | K91: ? | L91: ? | M91: 28 | N91: 54.8 | O91: =0.25*M91 -> 7 | P91: =0.5*M91 -> 14 | Q91: =0.75*M91 -> 21 | R91: =IF(N91="---","---",0.125*SQRT(POWER(M91,2)+POWER(N91,2))) -> 7.6923663 | S91: =IF(N91="---","---",0.25*SQRT(POWER(M91,2)+POWER(N91,2))) -> 15.384733 | T91: =IF(N91="---","---",0.375*SQRT(POWER(M91,2)+POWER(N91,2))) -> 23.077099 | U91: =IF($N91="---","---",$O91*1.65+$R91) -> 19.242366 | V91: =IF($N91="---","---",$P91*1.65+$S91) -> 38.484733 | W91: =IF($N91="---","---",$Q91*1.65+$T91) -> 57.727099 | X91: ? | Y91: ? | Z91: ? | AA91: =2*(SQRT((O91^2)+(R91^2))) -> 20.801202 | AB91: =2*(SQRT((P91^2)+(S91^2))) -> 41.602404 | AC91: =2*(SQRT((Q91^2)+(T91^2))) -> 62.403606
A92: 89 | B92: P. EOSINOPHILES | C92: Giga/l | D92: ? | E92: ? | F92: ? | G92: ? | H92: ? | I92: ? | J92: ? | K92: ? | L92: ? | M92: 21 | N92: 76.4 | O92: =0.25*M92 -> 5.25 | P92: =0.5*M92 -> 10.5 | Q92: =0.75*M92 -> 15.75 | R92: =IF(N92="---","---",0.125*SQRT(POWER(M92,2)+POWER(N92,2))) -> 9.9041973 | S92: =IF(N92="---","---",0.25*SQRT(POWER(M92,2)+POWER(N92,2))) -> 19.808395 | T92: =IF(N92="---","---",0.375*SQRT(POWER(M92,2)+POWER(N92,2))) -> 29.712592 | U92: =IF($N92="---","---",$O92*1.65+$R92) -> 18.566697 | V92: =IF($N92="---","---",$P92*1.65+$S92) -> 37.133395 | W92: =IF($N92="---","---",$Q92*1.65+$T92) -> 55.700092 | X92: ? | Y92: ? | Z92: ? | AA92: =2*(SQRT((O92^2)+(R92^2))) -> 22.419244 | AB92: =2*(SQRT((P92^2)+(S92^2))) -> 44.838488 | AC92: =2*(SQRT((Q92^2)+(T92^2))) -> 67.257732
A93: 90 | B93: Gentamycine | C93: mg/l | D93: 3.5 | E93: 7.5 | F93: 10 | G93: 10 | H93: 8 | I93: 8 | J93: 11.2 | K93: 12.7 | L93: 12.7 | M93: - | N93: - | O93: ? | P93: ? | Q93: ? | R93: ? | S93: ? | T93: ? | U93: ? | V93: ? | W93: ? | X93: =2*(SQRT((G93^2)+(J93^2))) -> 30.029319 | Y93: =2*(SQRT((H93^2)+(K93^2))) -> 30.019327 | Z93: =2*(SQRT((I93^2)+(L93^2))) -> 30.019327 | AA93: ? | AB93: ? | AC93: ?
A94: 91 | B94: GGT | C94: U/l | D94: 35 | E94: 220 | F94: 390 | G94: 6 | H94: 6 | I94: 5 | J94: 8 | K94: 6.7 | L94: 6.2 | M94: 13.4 | N94: 42.15 | O94: =0.25*M94 -> 3.35 | P94: =0.5*M94 -> 6.7 | Q94: =0.75*M94 -> 10.05 | R94: =IF(N94="---","---",0.125*SQRT(POWER(M94,2)+POWER(N94,2))) -> 5.528594 | S94: =IF(N94="---","---",0.25*SQRT(POWER(M94,2)+POWER(N94,2))) -> 11.057188 | T94: =IF(N94="---","---",0.375*SQRT(POWER(M94,2)+POWER(N94,2))) -> 16.585782 | U94: =IF($N94="---","---",$O94*1.65+$R94) -> 11.056094 | V94: =IF($N94="---","---",$P94*1.65+$S94) -> 22.112188 | W94: =IF($N94="---","---",$Q94*1.65+$T94) -> 33.168282 | X94: =2*(SQRT((G94^2)+(J94^2))) -> 20 | Y94: =2*(SQRT((H94^2)+(K94^2))) -> 17.987774 | Z94: =2*(SQRT((I94^2)+(L94^2))) -> 15.929846 | AA94: =2*(SQRT((O94^2)+(R94^2))) -> 12.928705 | AB94: =2*(SQRT((P94^2)+(S94^2))) -> 25.857409 | AC94: =2*(SQRT((Q94^2)+(T94^2))) -> 38.786114
A95: 92 | B95: Glucose | C95: mmol/l | D95: 4 | E95: 11 | F95: 16 | G95: 3.2 | H95: 2.4 | I95: 1.6 | J95: 5.1 | K95: 4.4 | L95: 3.7 | M95: 5.6 | N95: 7.5 | O95: =0.25*M95 -> 1.4 | P95: =0.5*M95 -> 2.8 | Q95: =0.75*M95 -> 4.2 | R95: =IF(N95="---","---",0.125*SQRT(POWER(M95,2)+POWER(N95,2))) -> 1.1700027 | S95: =IF(N95="---","---",0.25*SQRT(POWER(M95,2)+POWER(N95,2))) -> 2.3400053 | T95: =IF(N95="---","---",0.375*SQRT(POWER(M95,2)+POWER(N95,2))) -> 3.510008 | U95: =IF($N95="---","---",$O95*1.65+$R95) -> 3.4800027 | V95: =IF($N95="---","---",$P95*1.65+$S95) -> 6.9600053 | W95: =IF($N95="---","---",$Q95*1.65+$T95) -> 10.440008 | X95: =2*(SQRT((G95^2)+(J95^2))) -> 12.041595 | Y95: =2*(SQRT((H95^2)+(K95^2))) -> 10.023971 | Z95: =2*(SQRT((I95^2)+(L95^2))) -> 8.0622577 | AA95: =2*(SQRT((O95^2)+(R95^2))) -> 3.6490581 | AB95: =2*(SQRT((P95^2)+(S95^2))) -> 7.2981162 | AC95: =2*(SQRT((Q95^2)+(T95^2))) -> 10.947174
A96: 93 | B96: Glucose U | C96: mmol/l | D96: 5.5 | E96: 20 | F96: 30 | G96: 6 | H96: 5 | I96: 5 | J96: 5.3 | K96: 4.9 | L96: 6.2 | M96: - | N96: - | O96: ? | P96: ? | Q96: ? | R96: ? | S96: ? | T96: ? | U96: ? | V96: ? | W96: ? | X96: =2*(SQRT((G96^2)+(J96^2))) -> 16.011246 | Y96: =2*(SQRT((H96^2)+(K96^2))) -> 14.001428 | Z96: =2*(SQRT((I96^2)+(L96^2))) -> 15.929846 | AA96: ? | AB96: ? | AC96: ?
A97: 94 | B97: Haptoglobine | C97: g/l | D97: 1.25 | E97: 2.25 | F97: 3 | G97: 6 | H97: 5 | I97: 4 | J97: 10.4 | K97: 8.7 | L97: 6.9 | M97: 20.4 | N97: 36.4 | O97: =0.25*M97 -> 5.1 | P97: =0.5*M97 -> 10.2 | Q97: =0.75*M97 -> 15.3 | R97: =IF(N97="---","---",0.125*SQRT(POWER(M97,2)+POWER(N97,2))) -> 5.2158413 | S97: =IF(N97="---","---",0.25*SQRT(POWER(M97,2)+POWER(N97,2))) -> 10.431683 | T97: =IF(N97="---","---",0.375*SQRT(POWER(M97,2)+POWER(N97,2))) -> 15.647524 | U97: =IF($N97="---","---",$O97*1.65+$R97) -> 13.630841 | V97: =IF($N97="---","---",$P97*1.65+$S97) -> 27.261683 | W97: =IF($N97="---","---",$Q97*1.65+$T97) -> 40.892524 | X97: =2*(SQRT((G97^2)+(J97^2))) -> 24.01333 | Y97: =2*(SQRT((H97^2)+(K97^2))) -> 20.068881 | Z97: =2*(SQRT((I97^2)+(L97^2))) -> 15.951176 | AA97: =2*(SQRT((O97^2)+(R97^2))) -> 14.589722 | AB97: =2*(SQRT((P97^2)+(S97^2))) -> 29.179445 | AC97: =2*(SQRT((Q97^2)+(T97^2))) -> 43.769167
A98: 95 | B98: HbA1c | C98: % | D98: 5.5 | E98: 8.5 | F98: 10 | G98: 5 | H98: 5 | I98: 5 | J98: 6.2 | K98: 6.2 | L98: 6.2 | M98: 1.85 | N98: 5.7 | O98: =0.25*M98 -> 0.4625 | P98: =0.5*M98 -> 0.925 | Q98: =0.75*M98 -> 1.3875 | R98: =IF(N98="---","---",0.125*SQRT(POWER(M98,2)+POWER(N98,2))) -> 0.74908799 | S98: =IF(N98="---","---",0.25*SQRT(POWER(M98,2)+POWER(N98,2))) -> 1.498176 | T98: =IF(N98="---","---",0.375*SQRT(POWER(M98,2)+POWER(N98,2))) -> 2.247264 | U98: =IF($N98="---","---",$O98*1.65+$R98) -> 1.512213 | V98: =IF($N98="---","---",$P98*1.65+$S98) -> 3.024426 | W98: =IF($N98="---","---",$Q98*1.65+$T98) -> 4.536639 | X98: =2*(SQRT((G98^2)+(J98^2))) -> 15.929846 | Y98: =2*(SQRT((H98^2)+(K98^2))) -> 15.929846 | Z98: =2*(SQRT((I98^2)+(L98^2))) -> 15.929846 | AA98: =2*(SQRT((O98^2)+(R98^2))) -> 1.7607261 | AB98: =2*(SQRT((P98^2)+(S98^2))) -> 3.5214521 | AC98: =2*(SQRT((Q98^2)+(T98^2))) -> 5.2821782
A99: 96 | B99: HbCO | C99: % | D99: 7.5 | E99: 12.5 | F99: 15 | G99: 10 | H99: 5 | I99: 5 | J99: 17.3 | K99: 14.1 | L99: 8.7 | M99: - | N99: - | O99: ? | P99: ? | Q99: ? | R99: ? | S99: ? | T99: ? | U99: ? | V99: ? | W99: ? | X99: =2*(SQRT((G99^2)+(J99^2))) -> 39.964484 | Y99: =2*(SQRT((H99^2)+(K99^2))) -> 29.920561 | Z99: =2*(SQRT((I99^2)+(L99^2))) -> 20.068881 | AA99: ? | AB99: ? | AC99: ?
A100: 97 | B100: HBDH | C100: ? | D100: ? | E100: ? | F100: ? | G100: ? | H100: ? | I100: ? | J100: ? | K100: ? | L100: ? | M100: 8.8 | N100: --- | O100: =0.25*M100 -> 2.2 | P100: =0.5*M100 -> 4.4 | Q100: =0.75*M100 -> 6.6 | R100: - | S100: - | T100: - | U100: =IF($N100="---","---",$O100*1.65+$R100) -> --- | V100: =IF($N100="---","---",$P100*1.65+$S100) -> --- | W100: =IF($N100="---","---",$Q100*1.65+$T100) -> --- | X100: ? | Y100: ? | Z100: ? | AA100: ? | AB100: ? | AC100: ?
...

Sheet Formule consolidation
A2: HBGT401 | B2: 42 | C2: 5.5 - 5.6 | D2: 5.59 | E2: 0.03 | F2: 0.54 | G2: 5.6
A3: HBGT402 | B3: 40 | C3: 5.3 - 5.7 | D3: 5.612 | E3: 0.102 | F3: 1.82 | G3: 5.6
A4: HBGT403 | B4: 41 | C4: 5.5 - 5.6 | D4: 5.559 | E4: 0.05 | F4: 0.9 | G4: 5.6
A5: HBGT404 | B5: 41 | C5: 5.4 - 5.7 | D5: 5.534 | E5: 0.066 | F5: 1.19 | G5: 5.6
A6: HBGT405 | B6: 41 | C6: 5.5 - 5.6 | D6: 5.512 | E6: 0.033 | F6: 0.6 | G6: 5.6
A7: HBGT406 | B7: 41 | C7: 5.4 - 5.6 | D7: 5.51 | E7: 0.049 | F7: 0.89 | G7: 5.6
A8: HBGT407 | B8: 41 | C8: 5.5 - 5.6 | D8: 5.534 | E8: 0.048 | F8: 0.87 | G8: 5.6
A9: HBGT408 | B9: 41 | C9: 5.4 - 5.7 | D9: 5.541 | E9: 0.067 | F9: 1.21 | G9: 5.6
A10: HBGT409 | B10: 41 | C10: 5.5 - 5.6 | D10: 5.554 | E10: 0.05 | F10: 0.9 | G10: 5.6
A11: HBGT410 | B11: 41 | C11: 5.5 - 5.6 | D11: 5.534 | E11: 0.048 | F11: 0.87 | G11: 5.6
A12: HBGT411 | B12: 41 | C12: 5.4 - 5.6 | D12: 5.537 | E12: 0.058 | F12: 1.05 | G12: 5.6
A13: HBGT412 | B13: 41 | C13: 5.4 - 5.5 | D13: 5.495 | E13: 0.022 | F13: 0.4 | G13: 5.6
A15: ddl-x | B15: =SUM(B2:B10)-9 -> 360 | D15: =((D2*B2)+(D3*B3)+(D4*B4)+(D5*B5)+(D6*B6)+(D7*B7)+(D8*B8)+(D9*B9)+(D10*B10))/B16 -> 5.5494959 | E15: =SQRT((((B2-1)*E2^2)+((B3-1)*E3^2)+((B4-1)*E4^2)+((B5-1)*E5^2)+((B6-1)*E6^2)+((B7-1)*E7^2)+((B8-1)*E8^2)+((B9-1)*E9^2)+((B10-1)*E10^2))/B15) -> 0.058409855 | H15: =AVERAGE(F2:F13) -> 0.93666667
A16: ddl | B16: =SUM(B2:B10) -> 369
B18: =SUM(B2:B13)-12 -> 480 | D18: =((D2*B2)+(D3*B3)+(D4*B4)+(D5*B5)+(D6*B6)+(D7*B7)+(D8*B8)+(D9*B9)+(D10*B10)+(D11*B11)+(D12*B12)+(D13*B13))/B19 -> 5.542622 | E18: =SQRT((((B2-1)*E2^2)+((B3-1)*E3^2)+((B4-1)*E4^2)+((B5-1)*E5^2)+((B6-1)*E6^2)+((B7-1)*E7^2)+((B8-1)*E8^2)+((B9-1)*E9^2)+((B10-1)*E10^2)+((B11-1)*E11^2)+((B12-1)*E12^2)+((B13-1)*E13^2))/B18) -> 0.055420664 | F18: =E18/D18 -> 0.0099989977
B19: =SUM(B1:B13) -> 492
