Workbook

Sheet Pedido
H1: GR 1
A2: EL 1 | B2: EL 2 | C2: EL 3 | D2: EL 4 | E2: REF 1 | F2: EL 6 | H2: REF 2 | I2: DESC 1 | J2: REF 3 | K2: DESC 2
E3: C0 | H3: 3RV2011-1KA10 | J3: 3RV2901-1B
E4: C0 | H4: 3RV2011-1KA10 | J4: 3RV2901-1E
E5: C0 | H5: 3RV2011-1KA10 | J5: 3RV2901-1D
E6: C0 | H6: 3RV2031-4SB10 | J6: 3RV2901-1E
E7: C10 | H7: 3RV2311-1KC10 | J7: 3RV2901-1F
E8: C10 | H8: 3RV2021-1KA10 | J8: 3RV2901-1C
E9: C10 | H9: 3RV2311-1KC10 | J9: 3RV2901-1J
E10: C10 | H10: 3RV2331-4SC10 | J10: 3RV2901-1D
E11: C10 | H11: 3RV2011-1KA10 | J11: 3RV2901-1B
E12: C10 | H12: 3RV2311-1KC10 | J12: 3RV2901-1E
E13: C20 | H13: 3RV2321-1KC10 | J13: 3RV2901-1D
E14: C20 | H14: 3RV2031-4SB10 | J14: 3RV2901-1E
... E23: C30 | H23: 3RV2311-1KC10 | J23: 3RV2901-1F

Sheet RES
A1: REF. 1 | B1: REF. 2 | C1: UDS
B2: {=IFERROR(INDEX(Pedido!$H$2:$H$1962,SMALL(IF(FREQUENCY(IF(Pedido!$H$2:$H$1962<>"",MATCH(Pedido!$H$2:$H$1962,Pedido!$H$2:$H$1962,0)), ROW(Pedido!$H$2:$H$1962)+1),ROW(Pedido!$H$2:$H$1962)+1),ROWS(B$2:B2))),"")} -> 3RV2011-1KA10
B3: {=IFERROR(INDEX(Pedido!$H$2:$H$1962,SMALL(IF(FREQUENCY(IF(Pedido!$H$2:$H$1962<>"",MATCH(Pedido!$H$2:$H$1962,Pedido!$H$2:$H$1962,0)), ROW(Pedido!$H$2:$H$1962)+1),ROW(Pedido!$H$2:$H$1962)+1),ROWS(B$2:B3))),"")} -> 3RV2031-4SB10
B4: {=IFERROR(INDEX(Pedido!$H$2:$H$1962,SMALL(IF(FREQUENCY(IF(Pedido!$H$2:$H$1962<>"",MATCH(Pedido!$H$2:$H$1962,Pedido!$H$2:$H$1962,0)), ROW(Pedido!$H$2:$H$1962)+1),ROW(Pedido!$H$2:$H$1962)+1),ROWS(B$2:B4))),"")} -> 3RV2311-1KC10
B5: {=IFERROR(INDEX(Pedido!$H$2:$H$1962,SMALL(IF(FREQUENCY(IF(Pedido!$H$2:$H$1962<>"",MATCH(Pedido!$H$2:$H$1962,Pedido!$H$2:$H$1962,0)), ROW(Pedido!$H$2:$H$1962)+1),ROW(Pedido!$H$2:$H$1962)+1),ROWS(B$2:B5))),"")} -> 3RV2021-1KA10
B6: {=IFERROR(INDEX(Pedido!$H$2:$H$1962,SMALL(IF(FREQUENCY(IF(Pedido!$H$2:$H$1962<>"",MATCH(Pedido!$H$2:$H$1962,Pedido!$H$2:$H$1962,0)), ROW(Pedido!$H$2:$H$1962)+1),ROW(Pedido!$H$2:$H$1962)+1),ROWS(B$2:B6))),"")} -> 3RV2331-4SC10
B7: {=IFERROR(INDEX(Pedido!$H$2:$H$1962,SMALL(IF(FREQUENCY(IF(Pedido!$H$2:$H$1962<>"",MATCH(Pedido!$H$2:$H$1962,Pedido!$H$2:$H$1962,0)), ROW(Pedido!$H$2:$H$1962)+1),ROW(Pedido!$H$2:$H$1962)+1),ROWS(B$2:B7))),"")} -> 3RV2321-1KC10
B8: {=IFERROR(INDEX(Pedido!$H$2:$H$1962,SMALL(IF(FREQUENCY(IF(Pedido!$H$2:$H$1962<>"",MATCH(Pedido!$H$2:$H$1962,Pedido!$H$2:$H$1962,0)), ROW(Pedido!$H$2:$H$1962)+1),ROW(Pedido!$H$2:$H$1962)+1),ROWS(B$2:B8))),"")}
B9: {=IFERROR(INDEX(Pedido!$H$2:$H$1962,SMALL(IF(FREQUENCY(IF(Pedido!$H$2:$H$1962<>"",MATCH(Pedido!$H$2:$H$1962,Pedido!$H$2:$H$1962,0)), ROW(Pedido!$H$2:$H$1962)+1),ROW(Pedido!$H$2:$H$1962)+1),ROWS(B$2:B9))),"")}
B10: {=IFERROR(INDEX(Pedido!$H$2:$H$1962,SMALL(IF(FREQUENCY(IF(Pedido!$H$2:$H$1962<>"",MATCH(Pedido!$H$2:$H$1962,Pedido!$H$2:$H$1962,0)), ROW(Pedido!$H$2:$H$1962)+1),ROW(Pedido!$H$2:$H$1962)+1),ROWS(B$2:B10))),"")}
B11: {=IFERROR(INDEX(Pedido!$H$2:$H$1962,SMALL(IF(FREQUENCY(IF(Pedido!$H$2:$H$1962<>"",MATCH(Pedido!$H$2:$H$1962,Pedido!$H$2:$H$1962,0)), ROW(Pedido!$H$2:$H$1962)+1),ROW(Pedido!$H$2:$H$1962)+1),ROWS(B$2:B11))),"")}
B12: {=IFERROR(INDEX(Pedido!$H$2:$H$1962,SMALL(IF(FREQUENCY(IF(Pedido!$H$2:$H$1962<>"",MATCH(Pedido!$H$2:$H$1962,Pedido!$H$2:$H$1962,0)), ROW(Pedido!$H$2:$H$1962)+1),ROW(Pedido!$H$2:$H$1962)+1),ROWS(B$2:B12))),"")}
B13: {=IFERROR(INDEX(Pedido!$H$2:$H$1962,SMALL(IF(FREQUENCY(IF(Pedido!$H$2:$H$1962<>"",MATCH(Pedido!$H$2:$H$1962,Pedido!$H$2:$H$1962,0)), ROW(Pedido!$H$2:$H$1962)+1),ROW(Pedido!$H$2:$H$1962)+1),ROWS(B$2:B13))),"")}
... B26: {=IFERROR(INDEX(Pedido!$H$2:$H$1962,SMALL(IF(FREQUENCY(IF(Pedido!$H$2:$H$1962<>"",MATCH(Pedido!$H$2:$H$1962,Pedido!$H$2:$H$1962,0)), ROW(Pedido!$H$2:$H$1962)+1),ROW(Pedido!$H$2:$H$1962)+1),ROWS(B$2:B26))),"")}
