Workbook

Sheet Feuil1
B1: Horaire_C | C1: Horaire_1/2 C | D1: Horaire_8-17 | E1: Horaire_8-16
A2: Heure effective début travail | C2: 0.33680556 | D2: 0.33680556 | E2: 0.33680556
A3: Heure effective fin travail | C3: 0.40625 | D3: 0.40625 | E3: 0.40625
A4: Durée Travail Effective | B4: =IF(B2=0,"",B3-B2) | C4: =IF(C2=0,"",C3-C2) -> 0.069444444 | D4: =IF(D2=0,"",D3-D2) -> 0.069444444 | E4: =IF(E2=0,"",E3-E2) -> 0.069444444
A5: Début_Pause_n°1 | C5: 0.40625 | D5: 0.40625 | E5: 0.40625
A6: Fin_Pause_n°1 | C6: 0.41666667 | D6: 0.41666667 | E6: 0.41666667
A7: Durée Pause Effective | B7: =IF(B5="","",B6-B5) | C7: =IF(C5="","",C6-C5) -> 0.010416667 | D7: =IF(D5="","",D6-D5) -> 0.010416667 | E7: =IF(E5="","",E6-E5) -> 0.010416667
A8: Heure reprise travail | C8: 0.41666667 | D8: 0.41666667 | E8: 0.41666667
A9: Heure fin de travail | C9: 0.49652778 | D9: 0.49652778 | E9: 0.49652778
A10: Durée Travail Effective | B10: =IF(B8=0,"",B9-B8) | C10: =IF(C8=0,"",C9-C8) -> 0.079861111 | D10: =IF(D8=0,"",D9-D8) -> 0.079861111 | E10: =IF(E8=0,"",E9-E8) -> 0.079861111
A11: Début_Pause_n°2 | D11: 0.49652778 | E11: 0.49652778
A12: Fin_Pause_n°2 | D12: 0.54166667 | E12: 0.54166667
A13: Durée Pause Effective | B13: =IF(B11="","",B12-B11) | C13: =IF(C11="","",C12-C11) | D13: =IF(D11="","",D12-D11) -> 0.045138889 | E13: =IF(E11="","",E12-E11) -> 0.045138889
A14: Heure reprise travail | D14: 0.54166667 | E14: 0.54166667
A15: Heure fin de travail | D15: 0.625 | E15: 0.625
A16: Durée Travail Effective | B16: =IF(B14=0,"",B15-B14) | C16: =IF(C14=0,"",C15-C14) | D16: =IF(D14=0,"",D15-D14) -> 0.083333333 | E16: =IF(E14=0,"",E15-E14) -> 0.083333333
A17: Début_Pause_n°3 | D17: 0.625 | E17: 0.625
A18: Fin_Pause_n°3 | D18: 0.63541667 | E18: 0.63541667
A19: Durée Pause Effective | B19: =IF(B17="","",B18-B17) | C19: =IF(C17="","",C18-C17) | D19: =IF(D17="","",D18-D17) -> 0.010416667 | E19: =IF(E17="","",E18-E17) -> 0.010416667
A20: Heure reprise travail | D20: 0.63541667 | E20: 0.63541667
A21: Heure fin de travail | D21: 0.70486111 | E21: 0.66319444
A22: Durée Travail Effective | B22: =IF(B20=0,"",B21-B20) | C22: =IF(C20=0,"",C21-C20) | D22: =IF(D20=0,"",D21-D20) -> 0.069444444 | E22: =IF(E20=0,"",E21-E20) -> 0.027777778
B24: =IF(B1="","",B1) -> Horaire_C | C24: =IF(C1="","",C1) -> Horaire_1/2 C | D24: =IF(D1="","",D1) -> Horaire_8-17 | E24: =IF(E1="","",E1) -> Horaire_8-16
A25: Durée Travail Effective Totale | B25: 0 | C25: =IF(C2="","",SUMIF($A2:C22,"Durée Travail Effective",C2:C22)) -> 0.14930556 | D25: =IF(D2="","",SUMIF($A2:D22,"Durée Travail Effective",D2:D22)) -> 0.30208333 | E25: =IF(E2="","",SUMIF($A2:E22,"Durée Travail Effective",E2:E22)) -> 0.26041667
A26: Durée Pause effective Totale | B26: 0 | C26: =IF(C5="","",SUMIF($A2:C22,"Durée Pause Effective",C2:C22)) -> 0.010416667 | D26: =IF(D5="","",SUMIF($A2:D22,"Durée Pause Effective",D2:D22)) -> 0.065972222 | E26: =IF(E5="","",SUMIF($A2:E22,"Durée Pause Effective",E2:E22)) -> 0.065972222
B27: JS ou RTT ou SS ou férié | C27: 1/2 (JS ou RTT ou SS) | D27: L+M+M+J | E27: Vendredi
A29: Heure début de la tache | C29: =SUM(Feuil2!X5:X190) -> 0.37847222 | D29: =SUM(Feuil2!X5:X190) -> 0.37847222 | E29: =SUM(Feuil2!X5:X190) -> 0.37847222
D30: =IF(AND(D29<D3,D29>=D2),(D21-D20)+(D15-D14)+(D9-D8)+(D3-D29),0) -> 0.26041667 | E30: =IF(AND(E29<E3,E29>=E2),(E21-E20)+(E15-E14)+(E9-E8)+(E3-E29),0) -> 0.21875 | F30: Avant pause matin
B31: Avant pause matin | C31: =IF(AND(C29<C9,C29>=C8),(C9-C8),0) -> 0 | D31: =IF(AND(D29<D6,D29>=D5),(D21-D20)+(D15-D14)+(D9-D8),0) -> 0 | E31: =IF(AND(E29<E6,E29>=E5),(E21-E20)+(E15-E14)+(E9-E8),0) -> 0 | F31: Durant pause matin
B32: Durant pause matin | C32: =IF(AND(C29<C8,C29>C5),(C9-C8),0) -> 0 | D32: =IF(AND(D29<D9,D29>=D8),(D21-D20)+(D15-D14)+(D9-D29),0) -> 0 | E32: =IF(AND(E29<E9,E29>=E8),(E21-E20)+(E15-E14)+(E9-E29),0) -> 0 | F32: Entre pause matin et pause midi
B33: Après pause matin | C33: =IF(AND(C29<C3,C29>=C2),(C3-C29)+(C9-C8),0) -> 0.10763889 | D33: =IF(AND(D29<D12,D29>=D11),(D21-D20)+(D15-D14),0) -> 0 | E33: =IF(AND(E29<E12,E29>=E11),(E21-E20)+(E15-E14),0) -> 0 | F33: Durant pause midi
D34: =IF(AND(D29<D15,D29>=D14),(D15-D29)+(D21-D20),0) -> 0 | E34: =IF(AND(E29<E15,E29>=E14),(E15-E29)+(E21-E20),0) -> 0 | F34: Après pause midi
D35: =IF(AND(D29<D18,D29>=D17),(D21-D20),0) -> 0 | E35: =IF(AND(E29<E18,E29>=E17),(E21-E20),0) -> 0 | F35: Durant pause après midi
D36: =IF(AND(D29<D21,D29>=D20),(D21-D29),0) -> 0 | E36: =IF(AND(E29<E21,E29>=E20),(E21-E29),0) -> 0 | F36: Après pause après midi
A37: Heure Disponible dans la journée pour la Tache | C37: =SUM(C31:C33) -> 0.10763889 | D37: =SUM(D30:D36) -> 0.26041667 | E37: =SUM(E30:E36) -> 0.21875
A38: Heure Perdue dans la journée pour la Tache | C38: =C25-C37 -> 0.041666667 | D38: =D25-D37 -> 0.041666667 | E38: =E25-E37 -> 0.041666667

Sheet Feuil2
J2: Nombre Total de type horaire choisis par jour jounée | N2: Résultat d'heure par type d'horaire | U2: Début de la Tache à effectuer | Y2: Fin de la Tache à effectuer
A3: Date | B3: Férié_Ouvré | C3: Jour | D3: Ouvrier 1 | E3: Ouvrier 2 | F3: Ouvrier 3 | G3: Ouvrier 4 | H3: Ouvrier 5 | I3: Ouvrier 6 | J3: Horaire_C | K3: Horaire_1/2 C | L3: Horaire_8-17 | M3: Horaire_8-16 | N3: Horaire_C | O3: Horaire_1/2 C | P3: Horaire_8-17 | Q3: Horaire_8-16 | R3: Heure Travail Total au cours d'une journée | S3: Heure de travail par jour en décimal | T3: Heure de travail par jour ramenée par personne | U3: Date | V3: Jour | W3: Quantité d'heure de la tache | X3: Horaire de départ de la tache | Y3: Date | Z3: Jour | AA3: Heure Perdue | AB3: Restant à faire pour le lendemain | AC3: Heure de fin de la tache
A5: 42915 | B5: Ouvré | C5: Jeudi | D5: Horaire_C | E5: Horaire_8-17 | F5: Horaire_8-17 | G5: Horaire_8-17 | H5: Horaire_8-17 | I5: Horaire_8-17 | J5: =COUNTIF($D5:$I5,"Horaire_C") -> 1 | K5: =COUNTIF($D5:$I5,"Horaire_1/2 C") -> 0 | L5: =COUNTIF($D5:$I5,"Horaire_8-17") -> 5 | M5: =COUNTIF($D5:$I5,"Horaire_8-16") -> 0 | N5: =(Feuil1!$B$25)*J5 -> 0 | O5: =(Feuil1!$C$25)*K5 -> 0 | P5: =(Feuil1!$D$25)*L5 -> 1.5104167 | Q5: =(Feuil1!$E$25)*M5 -> 0 | R5: =SUM(O5:Q5) -> 1.5104167 | S5: =R5*24 -> 36.25 | T5: =(IF(S5=0,0,(S5/SUM(K5:M5))))/24 -> 0.30208333 | U5: 42915 | V5: Jeudi | Y5: 42915 | Z5: Jeudi | AA5: =IF(X5=0,0,(Feuil1!$C$38*Feuil2!K5)+(Feuil1!$D$38*Feuil2!L5)+(Feuil1!$E$38*Feuil2!Q5)) -> 0 | AB5: =IF(W5>0,(W5-S5)+((AA5-INT(AA5))*24),IF(AND(W5=0,AB4>0),AB4-S5,0)) -> 0
A6: 42916 | B6: Ouvré | C6: Vendredi | D6: Horaire_C | E6: Horaire_8-16 | F6: Horaire_8-16 | G6: Horaire_8-16 | H6: Horaire_8-16 | I6: Horaire_8-16 | J6: =COUNTIF($D6:$I6,"Horaire_C") -> 1 | K6: =COUNTIF($D6:$I6,"Horaire_1/2 C") -> 0 | L6: =COUNTIF($D6:$I6,"Horaire_8-17") -> 0 | M6: =COUNTIF($D6:$I6,"Horaire_8-16") -> 5 | N6: =(Feuil1!$B$25)*J6 -> 0 | O6: =(Feuil1!$C$25)*K6 -> 0 | P6: =(Feuil1!$D$25)*L6 -> 0 | Q6: =(Feuil1!$E$25)*M6 -> 1.3020833 | R6: =SUM(O6:Q6) -> 1.3020833 | S6: =R6*24 -> 31.25 | T6: =(IF(S6=0,0,(S6/SUM(K6:M6))))/24 -> 0.26041667 | U6: 42916 | V6: Vendredi | Y6: 42916 | Z6: Vendredi | AA6: =IF(X6=0,0,(Feuil1!$C$38*Feuil2!K6)+(Feuil1!$D$38*Feuil2!L6)+(Feuil1!$E$38*Feuil2!Q6)) -> 0 | AB6: =IF(W6>0,(W6-S6)+((AA6-INT(AA6))*24),IF(AND(W6=0,AB5>0),AB5-S6,0)) -> 0
A7: 42917 | B7: Férié | C7: Samedi | D7: Horaire_C | E7: Horaire_C | F7: Horaire_C | G7: Horaire_C | H7: Horaire_C | I7: Horaire_C | J7: =COUNTIF($D7:$I7,"Horaire_C") -> 6 | K7: =COUNTIF($D7:$I7,"Horaire_1/2 C") -> 0 | L7: =COUNTIF($D7:$I7,"Horaire_8-17") -> 0 | M7: =COUNTIF($D7:$I7,"Horaire_8-16") -> 0 | N7: =(Feuil1!$B$25)*J7 -> 0 | O7: =(Feuil1!$C$25)*K7 -> 0 | P7: =(Feuil1!$D$25)*L7 -> 0 | Q7: =(Feuil1!$E$25)*M7 -> 0 | R7: =SUM(O7:Q7) -> 0 | S7: =R7*24 -> 0 | T7: =(IF(S7=0,0,(S7/SUM(K7:M7))))/24 -> 0 | U7: 42917 | V7: Samedi | Y7: 42917 | Z7: Samedi | AA7: =IF(X7=0,0,(Feuil1!$C$38*Feuil2!K7)+(Feuil1!$D$38*Feuil2!L7)+(Feuil1!$E$38*Feuil2!Q7)) -> 0 | AB7: =IF(W7>0,(W7-S7)+((AA7-INT(AA7))*24),IF(AND(W7=0,AB6>0),AB6-S7,0)) -> 0
A8: 42918 | B8: Férié | C8: Dimanche | D8: Horaire_C | E8: Horaire_C | F8: Horaire_C | G8: Horaire_C | H8: Horaire_C | I8: Horaire_C | J8: =COUNTIF($D8:$I8,"Horaire_C") -> 6 | K8: =COUNTIF($D8:$I8,"Horaire_1/2 C") -> 0 | L8: =COUNTIF($D8:$I8,"Horaire_8-17") -> 0 | M8: =COUNTIF($D8:$I8,"Horaire_8-16") -> 0 | N8: =(Feuil1!$B$25)*J8 -> 0 | O8: =(Feuil1!$C$25)*K8 -> 0 | P8: =(Feuil1!$D$25)*L8 -> 0 | Q8: =(Feuil1!$E$25)*M8 -> 0 | R8: =SUM(O8:Q8) -> 0 | S8: =R8*24 -> 0 | T8: =(IF(S8=0,0,(S8/SUM(K8:M8))))/24 -> 0 | U8: 42918 | V8: Dimanche | Y8: 42918 | Z8: Dimanche | AA8: =IF(X8=0,0,(Feuil1!$C$38*Feuil2!K8)+(Feuil1!$D$38*Feuil2!L8)+(Feuil1!$E$38*Feuil2!Q8)) -> 0 | AB8: =IF(W8>0,(W8-S8)+((AA8-INT(AA8))*24),IF(AND(W8=0,AB7>0),AB7-S8,0)) -> 0
A9: 42919 | B9: Ouvré | C9: Lundi | D9: Horaire_8-17 | E9: Horaire_8-17 | F9: Horaire_8-17 | G9: Horaire_8-17 | H9: Horaire_8-17 | I9: Horaire_8-17 | J9: =COUNTIF($D9:$I9,"Horaire_C") -> 0 | K9: =COUNTIF($D9:$I9,"Horaire_1/2 C") -> 0 | L9: =COUNTIF($D9:$I9,"Horaire_8-17") -> 6 | M9: =COUNTIF($D9:$I9,"Horaire_8-16") -> 0 | N9: =(Feuil1!$B$25)*J9 -> 0 | O9: =(Feuil1!$C$25)*K9 -> 0 | P9: =(Feuil1!$D$25)*L9 -> 1.8125 | Q9: =(Feuil1!$E$25)*M9 -> 0 | R9: =SUM(O9:Q9) -> 1.8125 | S9: =R9*24 -> 43.5 | T9: =(IF(S9=0,0,(S9/SUM(K9:M9))))/24 -> 0.30208333 | U9: 42919 | V9: Lundi | Y9: 42919 | Z9: Lundi | AA9: =IF(X9=0,0,(Feuil1!$C$38*Feuil2!K9)+(Feuil1!$D$38*Feuil2!L9)+(Feuil1!$E$38*Feuil2!Q9)) -> 0 | AB9: =IF(W9>0,(W9-S9)+((AA9-INT(AA9))*24),IF(AND(W9=0,AB8>0),AB8-S9,0)) -> 0
A10: 42920 | B10: Ouvré | C10: Mardi | D10: Horaire_8-17 | E10: Horaire_8-17 | F10: Horaire_8-17 | G10: Horaire_8-17 | H10: Horaire_8-17 | I10: Horaire_8-17 | J10: =COUNTIF($D10:$I10,"Horaire_C") -> 0 | K10: =COUNTIF($D10:$I10,"Horaire_1/2 C") -> 0 | L10: =COUNTIF($D10:$I10,"Horaire_8-17") -> 6 | M10: =COUNTIF($D10:$I10,"Horaire_8-16") -> 0 | N10: =(Feuil1!$B$25)*J10 -> 0 | O10: =(Feuil1!$C$25)*K10 -> 0 | P10: =(Feuil1!$D$25)*L10 -> 1.8125 | Q10: =(Feuil1!$E$25)*M10 -> 0 | R10: =SUM(O10:Q10) -> 1.8125 | S10: =R10*24 -> 43.5 | T10: =(IF(S10=0,0,(S10/SUM(K10:M10))))/24 -> 0.30208333 | U10: 42920 | V10: Mardi | W10: 500 | X10: 0.37847222 | Y10: 42920 | Z10: Mardi | AA10: =IF(X10=0,0,(Feuil1!$C$38*Feuil2!K10)+(Feuil1!$D$38*Feuil2!L10)+(Feuil1!$E$38*Feuil2!Q10)) -> 0.25 | AB10: =IF(W10>0,(W10-S10)+((AA10-INT(AA10))*24),IF(AND(W10=0,AB9>0),AB9-S10,0)) -> 462.5
A11: 42921 | B11: Ouvré | C11: Mercredi | D11: Horaire_8-17 | E11: Horaire_8-17 | F11: Horaire_8-17 | G11: Horaire_8-17 | H11: Horaire_8-17 | I11: Horaire_8-17 | J11: =COUNTIF($D11:$I11,"Horaire_C") -> 0 | K11: =COUNTIF($D11:$I11,"Horaire_1/2 C") -> 0 | L11: =COUNTIF($D11:$I11,"Horaire_8-17") -> 6 | M11: =COUNTIF($D11:$I11,"Horaire_8-16") -> 0 | N11: =(Feuil1!$B$25)*J11 -> 0 | O11: =(Feuil1!$C$25)*K11 -> 0 | P11: =(Feuil1!$D$25)*L11 -> 1.8125 | Q11: =(Feuil1!$E$25)*M11 -> 0 | R11: =SUM(O11:Q11) -> 1.8125 | S11: =R11*24 -> 43.5 | T11: =(IF(S11=0,0,(S11/SUM(K11:M11))))/24 -> 0.30208333 | U11: 42921 | V11: Mercredi | Y11: 42921 | Z11: Mercredi | AA11: =IF(X11=0,0,(Feuil1!$C$38*Feuil2!K11)+(Feuil1!$D$38*Feuil2!L11)+(Feuil1!$E$38*Feuil2!Q11)) -> 0 | AB11: =IF(W11>0,(W11-S11)+((AA11-INT(AA11))*24),IF(AND(W11=0,AB10>0),AB10-S11,0)) -> 419
A12: 42922 | B12: Ouvré | C12: Jeudi | D12: Horaire_C | E12: Horaire_8-17 | F12: Horaire_8-17 | G12: Horaire_8-17 | H12: Horaire_8-17 | I12: Horaire_8-17 | J12: =COUNTIF($D12:$I12,"Horaire_C") -> 1 | K12: =COUNTIF($D12:$I12,"Horaire_1/2 C") -> 0 | L12: =COUNTIF($D12:$I12,"Horaire_8-17") -> 5 | M12: =COUNTIF($D12:$I12,"Horaire_8-16") -> 0 | N12: =(Feuil1!$B$25)*J12 -> 0 | O12: =(Feuil1!$C$25)*K12 -> 0 | P12: =(Feuil1!$D$25)*L12 -> 1.5104167 | Q12: =(Feuil1!$E$25)*M12 -> 0 | R12: =SUM(O12:Q12) -> 1.5104167 | S12: =R12*24 -> 36.25 | T12: =(IF(S12=0,0,(S12/SUM(K12:M12))))/24 -> 0.30208333 | U12: 42922 | V12: Jeudi | Y12: 42922 | Z12: Jeudi | AA12: =IF(X12=0,0,(Feuil1!$C$38*Feuil2!K12)+(Feuil1!$D$38*Feuil2!L12)+(Feuil1!$E$38*Feuil2!Q12)) -> 0 | AB12: =IF(W12>0,(W12-S12)+((AA12-INT(AA12))*24),IF(AND(W12=0,AB11>0),AB11-S12,0)) -> 382.75
A13: 42923 | B13: Ouvré | C13: Vendredi | D13: Horaire_8-16 | E13: Horaire_8-16 | F13: Horaire_8-16 | G13: Horaire_8-16 | H13: Horaire_8-16 | I13: Horaire_8-16 | J13: =COUNTIF($D13:$I13,"Horaire_C") -> 0 | K13: =COUNTIF($D13:$I13,"Horaire_1/2 C") -> 0 | L13: =COUNTIF($D13:$I13,"Horaire_8-17") -> 0 | M13: =COUNTIF($D13:$I13,"Horaire_8-16") -> 6 | N13: =(Feuil1!$B$25)*J13 -> 0 | O13: =(Feuil1!$C$25)*K13 -> 0 | P13: =(Feuil1!$D$25)*L13 -> 0 | Q13: =(Feuil1!$E$25)*M13 -> 1.5625 | R13: =SUM(O13:Q13) -> 1.5625 | S13: =R13*24 -> 37.5 | T13: =(IF(S13=0,0,(S13/SUM(K13:M13))))/24 -> 0.26041667 | U13: 42923 | V13: Vendredi | Y13: 42923 | Z13: Vendredi | AA13: =IF(X13=0,0,(Feuil1!$C$38*Feuil2!K13)+(Feuil1!$D$38*Feuil2!L13)+(Feuil1!$E$38*Feuil2!Q13)) -> 0 | AB13: =IF(W13>0,(W13-S13)+((AA13-INT(AA13))*24),IF(AND(W13=0,AB12>0),AB12-S13,0)) -> 345.25
A14: 42924 | B14: Férié | C14: Samedi | D14: Horaire_C | E14: Horaire_C | F14: Horaire_C | G14: Horaire_C | H14: Horaire_C | I14: Horaire_C | J14: =COUNTIF($D14:$I14,"Horaire_C") -> 6 | K14: =COUNTIF($D14:$I14,"Horaire_1/2 C") -> 0 | L14: =COUNTIF($D14:$I14,"Horaire_8-17") -> 0 | M14: =COUNTIF($D14:$I14,"Horaire_8-16") -> 0 | N14: =(Feuil1!$B$25)*J14 -> 0 | O14: =(Feuil1!$C$25)*K14 -> 0 | P14: =(Feuil1!$D$25)*L14 -> 0 | Q14: =(Feuil1!$E$25)*M14 -> 0 | R14: =SUM(O14:Q14) -> 0 | S14: =R14*24 -> 0 | T14: =(IF(S14=0,0,(S14/SUM(K14:M14))))/24 -> 0 | U14: 42924 | V14: Samedi | Y14: 42924 | Z14: Samedi | AA14: =IF(X14=0,0,(Feuil1!$C$38*Feuil2!K14)+(Feuil1!$D$38*Feuil2!L14)+(Feuil1!$E$38*Feuil2!Q14)) -> 0 | AB14: =IF(W14>0,(W14-S14)+((AA14-INT(AA14))*24),IF(AND(W14=0,AB13>0),AB13-S14,0)) -> 345.25
A15: 42925 | B15: Férié | C15: Dimanche | D15: Horaire_C | E15: Horaire_C | F15: Horaire_C | G15: Horaire_C | H15: Horaire_C | I15: Horaire_C | J15: =COUNTIF($D15:$I15,"Horaire_C") -> 6 | K15: =COUNTIF($D15:$I15,"Horaire_1/2 C") -> 0 | L15: =COUNTIF($D15:$I15,"Horaire_8-17") -> 0 | M15: =COUNTIF($D15:$I15,"Horaire_8-16") -> 0 | N15: =(Feuil1!$B$25)*J15 -> 0 | O15: =(Feuil1!$C$25)*K15 -> 0 | P15: =(Feuil1!$D$25)*L15 -> 0 | Q15: =(Feuil1!$E$25)*M15 -> 0 | R15: =SUM(O15:Q15) -> 0 | S15: =R15*24 -> 0 | T15: =(IF(S15=0,0,(S15/SUM(K15:M15))))/24 -> 0 | U15: 42925 | V15: Dimanche | Y15: 42925 | Z15: Dimanche | AA15: =IF(X15=0,0,(Feuil1!$C$38*Feuil2!K15)+(Feuil1!$D$38*Feuil2!L15)+(Feuil1!$E$38*Feuil2!Q15)) -> 0 | AB15: =IF(W15>0,(W15-S15)+((AA15-INT(AA15))*24),IF(AND(W15=0,AB14>0),AB14-S15,0)) -> 345.25
A16: 42926 | B16: Ouvré | C16: Lundi | D16: Horaire_8-17 | E16: Horaire_8-17 | F16: Horaire_8-17 | G16: Horaire_8-17 | H16: Horaire_8-17 | I16: Horaire_8-17 | J16: =COUNTIF($D16:$I16,"Horaire_C") -> 0 | K16: =COUNTIF($D16:$I16,"Horaire_1/2 C") -> 0 | L16: =COUNTIF($D16:$I16,"Horaire_8-17") -> 6 | M16: =COUNTIF($D16:$I16,"Horaire_8-16") -> 0 | N16: =(Feuil1!$B$25)*J16 -> 0 | O16: =(Feuil1!$C$25)*K16 -> 0 | P16: =(Feuil1!$D$25)*L16 -> 1.8125 | Q16: =(Feuil1!$E$25)*M16 -> 0 | R16: =SUM(O16:Q16) -> 1.8125 | S16: =R16*24 -> 43.5 | T16: =(IF(S16=0,0,(S16/SUM(K16:M16))))/24 -> 0.30208333 | U16: 42926 | V16: Lundi | Y16: 42926 | Z16: Lundi | AA16: =IF(X16=0,0,(Feuil1!$C$38*Feuil2!K16)+(Feuil1!$D$38*Feuil2!L16)+(Feuil1!$E$38*Feuil2!Q16)) -> 0 | AB16: =IF(W16>0,(W16-S16)+((AA16-INT(AA16))*24),IF(AND(W16=0,AB15>0),AB15-S16,0)) -> 301.75
A17: 42927 | B17: Ouvré | C17: Mardi | D17: Horaire_8-17 | E17: Horaire_8-17 | F17: Horaire_8-17 | G17: Horaire_8-17 | H17: Horaire_8-17 | I17: Horaire_8-17 | J17: =COUNTIF($D17:$I17,"Horaire_C") -> 0 | K17: =COUNTIF($D17:$I17,"Horaire_1/2 C") -> 0 | L17: =COUNTIF($D17:$I17,"Horaire_8-17") -> 6 | M17: =COUNTIF($D17:$I17,"Horaire_8-16") -> 0 | N17: =(Feuil1!$B$25)*J17 -> 0 | O17: =(Feuil1!$C$25)*K17 -> 0 | P17: =(Feuil1!$D$25)*L17 -> 1.8125 | Q17: =(Feuil1!$E$25)*M17 -> 0 | R17: =SUM(O17:Q17) -> 1.8125 | S17: =R17*24 -> 43.5 | T17: =(IF(S17=0,0,(S17/SUM(K17:M17))))/24 -> 0.30208333 | U17: 42927 | V17: Mardi | Y17: 42927 | Z17: Mardi | AA17: =IF(X17=0,0,(Feuil1!$C$38*Feuil2!K17)+(Feuil1!$D$38*Feuil2!L17)+(Feuil1!$E$38*Feuil2!Q17)) -> 0 | AB17: =IF(W17>0,(W17-S17)+((AA17-INT(AA17))*24),IF(AND(W17=0,AB16>0),AB16-S17,0)) -> 258.25
A18: 42928 | B18: Ouvré | C18: Mercredi | D18: Horaire_8-17 | E18: Horaire_8-17 | F18: Horaire_8-17 | G18: Horaire_8-17 | H18: Horaire_8-17 | I18: Horaire_8-17 | J18: =COUNTIF($D18:$I18,"Horaire_C") -> 0 | K18: =COUNTIF($D18:$I18,"Horaire_1/2 C") -> 0 | L18: =COUNTIF($D18:$I18,"Horaire_8-17") -> 6 | M18: =COUNTIF($D18:$I18,"Horaire_8-16") -> 0 | N18: =(Feuil1!$B$25)*J18 -> 0 | O18: =(Feuil1!$C$25)*K18 -> 0 | P18: =(Feuil1!$D$25)*L18 -> 1.8125 | Q18: =(Feuil1!$E$25)*M18 -> 0 | R18: =SUM(O18:Q18) -> 1.8125 | S18: =R18*24 -> 43.5 | T18: =(IF(S18=0,0,(S18/SUM(K18:M18))))/24 -> 0.30208333 | U18: 42928 | V18: Mercredi | Y18: 42928 | Z18: Mercredi | AA18: =IF(X18=0,0,(Feuil1!$C$38*Feuil2!K18)+(Feuil1!$D$38*Feuil2!L18)+(Feuil1!$E$38*Feuil2!Q18)) -> 0 | AB18: =IF(W18>0,(W18-S18)+((AA18-INT(AA18))*24),IF(AND(W18=0,AB17>0),AB17-S18,0)) -> 214.75
A19: 42929 | B19: Ouvré | C19: Jeudi | D19: Horaire_C | E19: Horaire_8-17 | F19: Horaire_8-17 | G19: Horaire_8-17 | H19: Horaire_8-17 | I19: Horaire_8-17 | J19: =COUNTIF($D19:$I19,"Horaire_C") -> 1 | K19: =COUNTIF($D19:$I19,"Horaire_1/2 C") -> 0 | L19: =COUNTIF($D19:$I19,"Horaire_8-17") -> 5 | M19: =COUNTIF($D19:$I19,"Horaire_8-16") -> 0 | N19: =(Feuil1!$B$25)*J19 -> 0 | O19: =(Feuil1!$C$25)*K19 -> 0 | P19: =(Feuil1!$D$25)*L19 -> 1.5104167 | Q19: =(Feuil1!$E$25)*M19 -> 0 | R19: =SUM(O19:Q19) -> 1.5104167 | S19: =R19*24 -> 36.25 | T19: =(IF(S19=0,0,(S19/SUM(K19:M19))))/24 -> 0.30208333 | U19: 42929 | V19: Jeudi | Y19: 42929 | Z19: Jeudi | AA19: =IF(X19=0,0,(Feuil1!$C$38*Feuil2!K19)+(Feuil1!$D$38*Feuil2!L19)+(Feuil1!$E$38*Feuil2!Q19)) -> 0 | AB19: =IF(W19>0,(W19-S19)+((AA19-INT(AA19))*24),IF(AND(W19=0,AB18>0),AB18-S19,0)) -> 178.5
A20: 42930 | B20: Férié | C20: Vendredi | D20: Horaire_C | E20: Horaire_C | F20: Horaire_C | G20: Horaire_C | H20: Horaire_C | I20: Horaire_C | J20: =COUNTIF($D20:$I20,"Horaire_C") -> 6 | K20: =COUNTIF($D20:$I20,"Horaire_1/2 C") -> 0 | L20: =COUNTIF($D20:$I20,"Horaire_8-17") -> 0 | M20: =COUNTIF($D20:$I20,"Horaire_8-16") -> 0 | N20: =(Feuil1!$B$25)*J20 -> 0 | O20: =(Feuil1!$C$25)*K20 -> 0 | P20: =(Feuil1!$D$25)*L20 -> 0 | Q20: =(Feuil1!$E$25)*M20 -> 0 | R20: =SUM(O20:Q20) -> 0 | S20: =R20*24 -> 0 | T20: =(IF(S20=0,0,(S20/SUM(K20:M20))))/24 -> 0 | U20: 42930 | V20: Vendredi | Y20: 42930 | Z20: Vendredi | AA20: =IF(X20=0,0,(Feuil1!$C$38*Feuil2!K20)+(Feuil1!$D$38*Feuil2!L20)+(Feuil1!$E$38*Feuil2!Q20)) -> 0 | AB20: =IF(W20>0,(W20-S20)+((AA20-INT(AA20))*24),IF(AND(W20=0,AB19>0),AB19-S20,0)) -> 178.5
A21: 42931 | B21: Férié | C21: Samedi | D21: Horaire_C | E21: Horaire_C | F21: Horaire_C | G21: Horaire_C | H21: Horaire_C | I21: Horaire_C | J21: =COUNTIF($D21:$I21,"Horaire_C") -> 6 | K21: =COUNTIF($D21:$I21,"Horaire_1/2 C") -> 0 | L21: =COUNTIF($D21:$I21,"Horaire_8-17") -> 0 | M21: =COUNTIF($D21:$I21,"Horaire_8-16") -> 0 | N21: =(Feuil1!$B$25)*J21 -> 0 | O21: =(Feuil1!$C$25)*K21 -> 0 | P21: =(Feuil1!$D$25)*L21 -> 0 | Q21: =(Feuil1!$E$25)*M21 -> 0 | R21: =SUM(O21:Q21) -> 0 | S21: =R21*24 -> 0 | T21: =(IF(S21=0,0,(S21/SUM(K21:M21))))/24 -> 0 | U21: 42931 | V21: Samedi | Y21: 42931 | Z21: Samedi | AA21: =IF(X21=0,0,(Feuil1!$C$38*Feuil2!K21)+(Feuil1!$D$38*Feuil2!L21)+(Feuil1!$E$38*Feuil2!Q21)) -> 0 | AB21: =IF(W21>0,(W21-S21)+((AA21-INT(AA21))*24),IF(AND(W21=0,AB20>0),AB20-S21,0)) -> 178.5
A22: 42932 | B22: Férié | C22: Dimanche | D22: Horaire_C | E22: Horaire_C | F22: Horaire_C | G22: Horaire_C | H22: Horaire_C | I22: Horaire_C | J22: =COUNTIF($D22:$I22,"Horaire_C") -> 6 | K22: =COUNTIF($D22:$I22,"Horaire_1/2 C") -> 0 | L22: =COUNTIF($D22:$I22,"Horaire_8-17") -> 0 | M22: =COUNTIF($D22:$I22,"Horaire_8-16") -> 0 | N22: =(Feuil1!$B$25)*J22 -> 0 | O22: =(Feuil1!$C$25)*K22 -> 0 | P22: =(Feuil1!$D$25)*L22 -> 0 | Q22: =(Feuil1!$E$25)*M22 -> 0 | R22: =SUM(O22:Q22) -> 0 | S22: =R22*24 -> 0 | T22: =(IF(S22=0,0,(S22/SUM(K22:M22))))/24 -> 0 | U22: 42932 | V22: Dimanche | Y22: 42932 | Z22: Dimanche | AA22: =IF(X22=0,0,(Feuil1!$C$38*Feuil2!K22)+(Feuil1!$D$38*Feuil2!L22)+(Feuil1!$E$38*Feuil2!Q22)) -> 0 | AB22: =IF(W22>0,(W22-S22)+((AA22-INT(AA22))*24),IF(AND(W22=0,AB21>0),AB21-S22,0)) -> 178.5
... A190: 43100 | B190: Férié | C190: Dimanche | D190: Horaire_C | E190: Horaire_C | F190: Horaire_C | G190: Horaire_C | H190: Horaire_C | I190: Horaire_C | J190: =COUNTIF($D190:$I190,"Horaire_C") -> 6 | K190: =COUNTIF($D190:$I190,"Horaire_1/2 C") -> 0 | L190: =COUNTIF($D190:$I190,"Horaire_8-17") -> 0 | M190: =COUNTIF($D190:$I190,"Horaire_8-16") -> 0 | N190: =(Feuil1!$B$25)*J190 -> 0 | O190: =(Feuil1!$C$25)*K190 -> 0 | P190: =(Feuil1!$D$25)*L190 -> 0 | Q190: =(Feuil1!$E$25)*M190 -> 0 | R190: =SUM(O190:Q190) -> 0 | S190: =R190*24 -> 0 | T190: =(IF(S190=0,0,(S190/SUM(K190:M190))))/24 -> 0 | U190: 43100 | V190: Dimanche | Y190: 43100 | Z190: Dimanche | AA190: =IF(X190=0,0,(Feuil1!$C$38*Feuil2!K190)+(Feuil1!$D$38*Feuil2!L190)+(Feuil1!$E$38*Feuil2!Q190)) -> 0 | AB190: =IF(W190>0,(W190-S190)+((AA190-INT(AA190))*24),IF(AND(W190=0,AB189>0),AB189-S190,0)) -> 0
