Workbook
Name Danger: Paramètres!$A$2:$A$63
Name Dangers: Paramètres!$A$2:$A$61
Name Gravité: Paramètres!$C$3:$C$7
Name Niveaudurisque: Paramètres!$D$3:$D$6
Name Probabilité: Paramètres!$B$3:$B$7

Sheet Feuil1
B1: GRAVITÉ (CONSÉQUENCE)
B2: Négligeable | C2: Mineur | D2: Modéré | E2: Majeur | F2: Critique
A3: Rare | B3: Faible | C3: Faible | D3: Faible | E3: Moyen | F3: Moyen | G3: Classification niveau du risque
A4: Peu probable | B4: Faible | C4: Faible | D4: Moyen | E4: Moyen | F4: Haut
A5: Possible | B5: Faible | C5: Moyen | D5: Moyen | E5: Haut | F5: Intolérable
A6: Probable | B6: Moyen | C6: Moyen | D6: Haut | E6: Intolérable | F6: Intolérable
A7: Presque certain | B7: Moyen | C7: Haut | D7: Intolérable | E7: Intolérable | F7: Intolérable

Sheet Canevas AST
A2: No | B2: Étapes de la tâche : | F2: Dangers | G2: Probabilité | H2: Gravité | I2: Niveau du risque | J2: Mesure(s) de contrôle(s) à mettre en place : (verbe + action détaillée) | O2: Insérer une image :
A3: 1 | G3: Possible | H3: Modéré | I3: =IFERROR(VLOOKUP(G3,Feuil1!$A$3:$F$7,MATCH(H3,Feuil1!$A$2:$F$2,0),FALSE),"") -> Moyen
A4: 2 | G4: Probable | H4: Mineur | I4: =IFERROR(VLOOKUP(G4,Feuil1!$A$3:$F$7,MATCH(H4,Feuil1!$A$2:$F$2,0),FALSE),"") -> Moyen
A5: 3 | G5: Probable | H5: Modéré | I5: =IFERROR(VLOOKUP(G5,Feuil1!$A$3:$F$7,MATCH(H5,Feuil1!$A$2:$F$2,0),FALSE),"") -> Haut
A6: 4 | I6: =IFERROR(VLOOKUP(G6,Feuil1!$A$3:$F$7,MATCH(H6,Feuil1!$A$2:$F$2,0),FALSE),"")
A7: 5 | I7: =IFERROR(VLOOKUP(G7,Feuil1!$A$3:$F$7,MATCH(H7,Feuil1!$A$2:$F$2,0),FALSE),"")
A8: 6 | I8: =IFERROR(VLOOKUP(G8,Feuil1!$A$3:$F$7,MATCH(H8,Feuil1!$A$2:$F$2,0),FALSE),"")
A9: 7 | I9: =IFERROR(VLOOKUP(G9,Feuil1!$A$3:$F$7,MATCH(H9,Feuil1!$A$2:$F$2,0),FALSE),"")
A10: 8 | I10: =IFERROR(VLOOKUP(G10,Feuil1!$A$3:$F$7,MATCH(H10,Feuil1!$A$2:$F$2,0),FALSE),"")
A11: 9 | I11: =IFERROR(VLOOKUP(G11,Feuil1!$A$3:$F$7,MATCH(H11,Feuil1!$A$2:$F$2,0),FALSE),"")
I12: =IFERROR(VLOOKUP(G12,Feuil1!$A$3:$F$7,MATCH(H12,Feuil1!$A$2:$F$2,0),FALSE),"")
I13: =IFERROR(VLOOKUP(G13,Feuil1!$A$3:$F$7,MATCH(H13,Feuil1!$A$2:$F$2,0),FALSE),"")
I14: =IFERROR(VLOOKUP(G14,Feuil1!$A$3:$F$7,MATCH(H14,Feuil1!$A$2:$F$2,0),FALSE),"")
I15: =IFERROR(VLOOKUP(G15,Feuil1!$A$3:$F$7,MATCH(H15,Feuil1!$A$2:$F$2,0),FALSE),"")
I16: =IFERROR(VLOOKUP(G16,Feuil1!$A$3:$F$7,MATCH(H16,Feuil1!$A$2:$F$2,0),FALSE),"")
I17: =IFERROR(VLOOKUP(G17,Feuil1!$A$3:$F$7,MATCH(H17,Feuil1!$A$2:$F$2,0),FALSE),"")
I18: =IFERROR(VLOOKUP(G18,Feuil1!$A$3:$F$7,MATCH(H18,Feuil1!$A$2:$F$2,0),FALSE),"")
I19: =IFERROR(VLOOKUP(G19,Feuil1!$A$3:$F$7,MATCH(H19,Feuil1!$A$2:$F$2,0),FALSE),"")
I20: =IFERROR(VLOOKUP(G20,Feuil1!$A$3:$F$7,MATCH(H20,Feuil1!$A$2:$F$2,0),FALSE),"")
I21: =IFERROR(VLOOKUP(G21,Feuil1!$A$3:$F$7,MATCH(H21,Feuil1!$A$2:$F$2,0),FALSE),"")
I22: =IFERROR(VLOOKUP(G22,Feuil1!$A$3:$F$7,MATCH(H22,Feuil1!$A$2:$F$2,0),FALSE),"")
I23: =IFERROR(VLOOKUP(G23,Feuil1!$A$3:$F$7,MATCH(H23,Feuil1!$A$2:$F$2,0),FALSE),"")
... I958: =IFERROR(VLOOKUP(G958,Feuil1!$A$3:$F$7,MATCH(H958,Feuil1!$A$2:$F$2,0),FALSE),"")

Sheet Paramètres
A1: Dangers
A2: PSY: Intimidation | B2: Probabilité | C2: Gravité | D2: Niveau du risque
A3: PSY: Harcèlement | B3: Rare | C3: Négligeable | D3: Faible
A4: PSY: Drogues et Alcool | B4: Peu probable | C4: Mineur | D4: Modéré
A5: PSY: Horaire de travail | B5: Possible | C5: Modéré | D5: Élevé
A6: PSY: Charge de travail | B6: Probable | C6: Majeur | D6: Critique
A7: ADM: Conflition/relation de travail | B7: Presque certain | C7: Critique
A8: ADM: Conditions/limitations/blessures préexistantes
A9: ADM: Sureté des installations/du personnel | B9: Formule
A10: ADM: Pertubation de voyage
A11: ADM: Personnel non-qualifiée
A12: ADM: Supervision non-qualifiée
A13: ADM: Travail solitaire ou en région éloignée
A14: BIO: Bactéries et virus
A15: BIO: Sang ou autres fluides corporels ou tissus
A16: BIO: Champignons/moisissures
A17: BIO: Faune et flore
A18: CHI: Gaz asphyxiant
A19: CHI: Sub. carcinogènes
A20: CHI: Sub. mutagènes
A21: CHI: Sub. tératogènes
... A63: TEMP: Température embiante de la zone de travail (chaleur/froid)
