Workbook

Sheet Feuil1
B1: Code Salarié 1 Aller | C1: Code Salarié 2 Aller | D1: Code véhicule Aller | E1: Code Salarié 1 Retour | F1: Code Salarié 2 Retour | G1: Code véhicule Retour | H1: Temps de trajet
B2: 124 | C2: 142 | D2: A19 | E2: 0 | F2: 0 | G2: 0 | H2: 0.16666667
B3: 124 | C3: 142 | D3: A19 | E3: 0 | F3: 0 | G3: 0 | H3: 0.5
B4: 124 | C4: 142 | D4: A19 | E4: 0 | F4: 0 | G4: 0 | H4: 0.33333333
B5: 124 | C5: 142 | D5: A19 | E5: 0 | F5: 0 | G5: 0 | H5: 0.16666667
B6: 124 | C6: 142 | D6: A19 | E6: 0 | F6: 0 | G6: 0 | H6: 0.16666667

Sheet Feuil2
A1: Code salarié 1 | B1: Code véhicule Aller | C1: Temps de conduite Aller | E1: Code salarié 2 | F1: Code véhicule Aller | G1: Temps de conduite Aller | I1: Code salarié 1 | J1: Code véhicule Aller | K1: Temps de conduite | M1: Code salarié 1 | N1: Code véhicule Aller | O1: Temps de conduite
A2: =Feuil1!$B2 -> 124 | B2: =Feuil1!$D2 -> A19 | C2: =IF($A2=0,0,Feuil1!$H2) -> 0.16666667 | E2: =Feuil1!$C2 -> 142 | F2: =Feuil1!$D2 -> A19 | G2: =IF($E2=0,0,Feuil1!$H2) -> 0.16666667 | I2: =Feuil1!$E2 -> 0 | J2: =Feuil1!$G2 -> 0 | K2: =IF($I2=0,0,Feuil1!$H2) -> 0 | M2: =Feuil1!$F2 -> 0 | N2: =Feuil1!$G2 -> 0 | O2: =IF($I2=0,0,Feuil1!$H2) -> 0
A3: =Feuil1!$B3 -> 124 | B3: =Feuil1!$D3 -> A19 | C3: =IF($A3=0,0,Feuil1!$H3) -> 0.5 | E3: =Feuil1!$C3 -> 142 | F3: =Feuil1!$D3 -> A19 | G3: =IF($E3=0,0,Feuil1!$H3) -> 0.5 | I3: =Feuil1!$E3 -> 0 | J3: =Feuil1!$G3 -> 0 | K3: =IF($I3=0,0,Feuil1!$H3) -> 0 | M3: =Feuil1!N3 -> 0 | N3: =Feuil1!P3 -> 0 | O3: =Feuil1!T3 -> 0
A4: =Feuil1!$B4 -> 124 | B4: =Feuil1!$D4 -> A19 | C4: =IF($A4=0,0,Feuil1!$H4) -> 0.33333333 | E4: =Feuil1!$C4 -> 142 | F4: =Feuil1!$D4 -> A19 | G4: =IF($E4=0,0,Feuil1!$H4) -> 0.33333333 | I4: =Feuil1!$E4 -> 0 | J4: =Feuil1!$G4 -> 0 | K4: =IF($I4=0,0,Feuil1!$H4) -> 0 | M4: =Feuil1!N4 -> 0 | N4: =Feuil1!P4 -> 0 | O4: =Feuil1!T4 -> 0
A5: =Feuil1!$B5 -> 124 | B5: =Feuil1!$D5 -> A19 | C5: =IF($A5=0,0,Feuil1!$H5) -> 0.16666667 | E5: =Feuil1!$C5 -> 142 | F5: =Feuil1!$D5 -> A19 | G5: =IF($E5=0,0,Feuil1!$H5) -> 0.16666667 | I5: =Feuil1!$E5 -> 0 | J5: =Feuil1!$G5 -> 0 | K5: =IF($I5=0,0,Feuil1!$H5) -> 0 | M5: =Feuil1!N5 -> 0 | N5: =Feuil1!P5 -> 0 | O5: =Feuil1!T5 -> 0
A6: =Feuil1!$B6 -> 124 | B6: =Feuil1!$D6 -> A19 | C6: =IF($A6=0,0,Feuil1!$H6) -> 0.16666667 | E6: =Feuil1!$C6 -> 142 | F6: =Feuil1!$D6 -> A19 | G6: =IF($E6=0,0,Feuil1!$H6) -> 0.16666667 | I6: =Feuil1!$E6 -> 0 | J6: =Feuil1!$G6 -> 0 | K6: =IF($I6=0,0,Feuil1!$H6) -> 0 | M6: =Feuil1!N6 -> 0 | N6: =Feuil1!P6 -> 0 | O6: =Feuil1!T6 -> 0

Sheet Feuil3
