Workbook
Name Produits: #REF!
Name RefClient: #REF!

Sheet INVENTAIRE
A1: N° Item | C1: N° Item | D1: Ref. | E1: Type | F1: Nom | G1: Colori | H1: Qte.
A2: 18002 | C2: 18002 | D2: =IF(C2="","",(IF(VLOOKUP(C2,[1]LISTING!$A$4:$AE$45,3,0)=INVENTAIRE!C2,"",VLOOKUP(INVENTAIRE!C2,[1]LISTING!$A$4:$AE$45,3,0)))) | E2: =IF($C2="","",(VLOOKUP($C2,[1]LISTING!$A$4:$AE$45,2,0))) -> BTW | F2: =IF($C2="","",(VLOOKUP($C2,[1]LISTING!$A$4:$AE$45,4,0))) -> Engraved anchor | G2: =IF($C2="","",(VLOOKUP($C2,[1]LISTING!$A$4:$AE$45,5,0))) -> Walnut | H2: =IF(C2="","",(COUNTIF(A:A,C2))) -> 4
A3: 18002 | C3: 18004 | D3: =IF(C3="","",(IF(VLOOKUP(C3,[1]LISTING!$A$4:$AE$45,3,0)=INVENTAIRE!C3,"",VLOOKUP(INVENTAIRE!C3,[1]LISTING!$A$4:$AE$45,3,0)))) | E3: =IF($C3="","",(VLOOKUP($C3,[1]LISTING!$A$4:$AE$45,2,0))) -> BTW | F3: =IF($C3="","",(VLOOKUP($C3,[1]LISTING!$A$4:$AE$45,4,0))) -> Engaved waves | G3: =IF($C3="","",(VLOOKUP($C3,[1]LISTING!$A$4:$AE$45,5,0))) -> Maple | H3: =IF(C3="","",(COUNTIF(A:A,C3))) -> 5
A4: 18004 | C4: 18015 | D4: =IF(C4="","",(IF(VLOOKUP(C4,[1]LISTING!$A$4:$AE$45,3,0)=INVENTAIRE!C4,"",VLOOKUP(INVENTAIRE!C4,[1]LISTING!$A$4:$AE$45,3,0)))) | E4: =IF($C4="","",(VLOOKUP($C4,[1]LISTING!$A$4:$AE$45,2,0))) -> BTC | F4: =IF($C4="","",(VLOOKUP($C4,[1]LISTING!$A$4:$AE$45,4,0))) -> Carreaux beige | G4: =IF($C4="","",(VLOOKUP($C4,[1]LISTING!$A$4:$AE$45,5,0))) -> 10 mauve | H4: =IF(C4="","",(COUNTIF(A:A,C4))) -> 4
A5: 18004 | C5: 18013 | D5: =IF(C5="","",(IF(VLOOKUP(C5,[1]LISTING!$A$4:$AE$45,3,0)=INVENTAIRE!C5,"",VLOOKUP(INVENTAIRE!C5,[1]LISTING!$A$4:$AE$45,3,0)))) | E5: =IF($C5="","",(VLOOKUP($C5,[1]LISTING!$A$4:$AE$45,2,0))) -> BTC | F5: =IF($C5="","",(VLOOKUP($C5,[1]LISTING!$A$4:$AE$45,4,0))) -> Carreaux beige | G5: =IF($C5="","",(VLOOKUP($C5,[1]LISTING!$A$4:$AE$45,5,0))) -> 4 ciel | H5: =IF(C5="","",(COUNTIF(A:A,C5))) -> 3
A6: 18004 | C6: 18020 | D6: =IF(C6="","",(IF(VLOOKUP(C6,[1]LISTING!$A$4:$AE$45,3,0)=INVENTAIRE!C6,"",VLOOKUP(INVENTAIRE!C6,[1]LISTING!$A$4:$AE$45,3,0)))) | E6: =IF($C6="","",(VLOOKUP($C6,[1]LISTING!$A$4:$AE$45,2,0))) -> BTC | F6: =IF($C6="","",(VLOOKUP($C6,[1]LISTING!$A$4:$AE$45,4,0))) -> POIS BLANCS | G6: =IF($C6="","",(VLOOKUP($C6,[1]LISTING!$A$4:$AE$45,5,0))) -> 763 bordeaux | H6: =IF(C6="","",(COUNTIF(A:A,C6))) -> 1
A7: 18015 | C7: 18022 | D7: =IF(C7="","",(IF(VLOOKUP(C7,[1]LISTING!$A$4:$AE$45,3,0)=INVENTAIRE!C7,"",VLOOKUP(INVENTAIRE!C7,[1]LISTING!$A$4:$AE$45,3,0)))) | E7: =IF($C7="","",(VLOOKUP($C7,[1]LISTING!$A$4:$AE$45,2,0))) -> BTW | F7: =IF($C7="","",(VLOOKUP($C7,[1]LISTING!$A$4:$AE$45,4,0))) -> 0 | G7: =IF($C7="","",(VLOOKUP($C7,[1]LISTING!$A$4:$AE$45,5,0))) -> WALNUT | H7: =IF(C7="","",(COUNTIF(A:A,C7))) -> 1
A8: 18015 | D8: =IF(C8="","",(IF(VLOOKUP(C8,[1]LISTING!$A$4:$AE$45,3,0)=INVENTAIRE!C8,"",VLOOKUP(INVENTAIRE!C8,[1]LISTING!$A$4:$AE$45,3,0)))) | E8: =IF($C8="","",(VLOOKUP($C8,[1]LISTING!$A$4:$AE$45,2,0))) | F8: =IF($C8="","",(VLOOKUP($C8,[1]LISTING!$A$4:$AE$45,4,0))) | G8: =IF($C8="","",(VLOOKUP($C8,[1]LISTING!$A$4:$AE$45,5,0))) | H8: =IF(C8="","",(COUNTIF(A:A,C8)))
A9: 18004 | D9: =IF(C9="","",(IF(VLOOKUP(C9,[1]LISTING!$A$4:$AE$45,3,0)=INVENTAIRE!C9,"",VLOOKUP(INVENTAIRE!C9,[1]LISTING!$A$4:$AE$45,3,0)))) | E9: =IF($C9="","",(VLOOKUP($C9,[1]LISTING!$A$4:$AE$45,2,0))) | F9: =IF($C9="","",(VLOOKUP($C9,[1]LISTING!$A$4:$AE$45,4,0))) | G9: =IF($C9="","",(VLOOKUP($C9,[1]LISTING!$A$4:$AE$45,5,0))) | H9: =IF(C9="","",(COUNTIF(A:A,C9)))
A10: 18002 | D10: =IF(C10="","",(IF(VLOOKUP(C10,[1]LISTING!$A$4:$AE$45,3,0)=INVENTAIRE!C10,"",VLOOKUP(INVENTAIRE!C10,[1]LISTING!$A$4:$AE$45,3,0)))) | E10: =IF($C10="","",(VLOOKUP($C10,[1]LISTING!$A$4:$AE$45,2,0))) | F10: =IF($C10="","",(VLOOKUP($C10,[1]LISTING!$A$4:$AE$45,4,0))) | G10: =IF($C10="","",(VLOOKUP($C10,[1]LISTING!$A$4:$AE$45,5,0))) | H10: =IF(C10="","",(COUNTIF(A:A,C10)))
A11: 18015 | D11: =IF(C11="","",(IF(VLOOKUP(C11,[1]LISTING!$A$4:$AE$45,3,0)=INVENTAIRE!C11,"",VLOOKUP(INVENTAIRE!C11,[1]LISTING!$A$4:$AE$45,3,0)))) | E11: =IF($C11="","",(VLOOKUP($C11,[1]LISTING!$A$4:$AE$45,2,0))) | F11: =IF($C11="","",(VLOOKUP($C11,[1]LISTING!$A$4:$AE$45,4,0))) | G11: =IF($C11="","",(VLOOKUP($C11,[1]LISTING!$A$4:$AE$45,5,0))) | H11: =IF(C11="","",(COUNTIF(A:A,C11)))
A12: 18013 | D12: =IF(C12="","",(IF(VLOOKUP(C12,[1]LISTING!$A$4:$AE$45,3,0)=INVENTAIRE!C12,"",VLOOKUP(INVENTAIRE!C12,[1]LISTING!$A$4:$AE$45,3,0)))) | E12: =IF($C12="","",(VLOOKUP($C12,[1]LISTING!$A$4:$AE$45,2,0))) | F12: =IF($C12="","",(VLOOKUP($C12,[1]LISTING!$A$4:$AE$45,4,0))) | G12: =IF($C12="","",(VLOOKUP($C12,[1]LISTING!$A$4:$AE$45,5,0))) | H12: =IF(C12="","",(COUNTIF(A:A,C12)))
A13: 18013 | D13: =IF(C13="","",(IF(VLOOKUP(C13,[1]LISTING!$A$4:$AE$45,3,0)=INVENTAIRE!C13,"",VLOOKUP(INVENTAIRE!C13,[1]LISTING!$A$4:$AE$45,3,0)))) | E13: =IF($C13="","",(VLOOKUP($C13,[1]LISTING!$A$4:$AE$45,2,0))) | F13: =IF($C13="","",(VLOOKUP($C13,[1]LISTING!$A$4:$AE$45,4,0))) | G13: =IF($C13="","",(VLOOKUP($C13,[1]LISTING!$A$4:$AE$45,5,0))) | H13: =IF(C13="","",(COUNTIF(A:A,C13)))
A14: 18013 | D14: =IF(C14="","",(IF(VLOOKUP(C14,[1]LISTING!$A$4:$AE$45,3,0)=INVENTAIRE!C14,"",VLOOKUP(INVENTAIRE!C14,[1]LISTING!$A$4:$AE$45,3,0)))) | E14: =IF($C14="","",(VLOOKUP($C14,[1]LISTING!$A$4:$AE$45,2,0))) | F14: =IF($C14="","",(VLOOKUP($C14,[1]LISTING!$A$4:$AE$45,4,0))) | G14: =IF($C14="","",(VLOOKUP($C14,[1]LISTING!$A$4:$AE$45,5,0))) | H14: =IF(C14="","",(COUNTIF(A:A,C14)))
A15: 18004 | D15: =IF(C15="","",(IF(VLOOKUP(C15,[1]LISTING!$A$4:$AE$45,3,0)=INVENTAIRE!C15,"",VLOOKUP(INVENTAIRE!C15,[1]LISTING!$A$4:$AE$45,3,0)))) | E15: =IF($C15="","",(VLOOKUP($C15,[1]LISTING!$A$4:$AE$45,2,0))) | F15: =IF($C15="","",(VLOOKUP($C15,[1]LISTING!$A$4:$AE$45,4,0))) | G15: =IF($C15="","",(VLOOKUP($C15,[1]LISTING!$A$4:$AE$45,5,0))) | H15: =IF(C15="","",(COUNTIF(A:A,C15)))
A16: 18002 | D16: =IF(C16="","",(IF(VLOOKUP(C16,[1]LISTING!$A$4:$AE$45,3,0)=INVENTAIRE!C16,"",VLOOKUP(INVENTAIRE!C16,[1]LISTING!$A$4:$AE$45,3,0)))) | E16: =IF($C16="","",(VLOOKUP($C16,[1]LISTING!$A$4:$AE$45,2,0))) | F16: =IF($C16="","",(VLOOKUP($C16,[1]LISTING!$A$4:$AE$45,4,0))) | G16: =IF($C16="","",(VLOOKUP($C16,[1]LISTING!$A$4:$AE$45,5,0))) | H16: =IF(C16="","",(COUNTIF(A:A,C16)))
A17: 18015 | D17: =IF(C17="","",(IF(VLOOKUP(C17,[1]LISTING!$A$4:$AE$45,3,0)=INVENTAIRE!C17,"",VLOOKUP(INVENTAIRE!C17,[1]LISTING!$A$4:$AE$45,3,0)))) | E17: =IF($C17="","",(VLOOKUP($C17,[1]LISTING!$A$4:$AE$45,2,0))) | F17: =IF($C17="","",(VLOOKUP($C17,[1]LISTING!$A$4:$AE$45,4,0))) | G17: =IF($C17="","",(VLOOKUP($C17,[1]LISTING!$A$4:$AE$45,5,0))) | H17: =IF(C17="","",(COUNTIF(A:A,C17)))
A18: 18020 | D18: =IF(C18="","",(IF(VLOOKUP(C18,[1]LISTING!$A$4:$AE$45,3,0)=INVENTAIRE!C18,"",VLOOKUP(INVENTAIRE!C18,[1]LISTING!$A$4:$AE$45,3,0)))) | E18: =IF($C18="","",(VLOOKUP($C18,[1]LISTING!$A$4:$AE$45,2,0))) | F18: =IF($C18="","",(VLOOKUP($C18,[1]LISTING!$A$4:$AE$45,4,0))) | G18: =IF($C18="","",(VLOOKUP($C18,[1]LISTING!$A$4:$AE$45,5,0))) | H18: =IF(C18="","",(COUNTIF(A:A,C18)))
A19: 18022 | D19: =IF(C19="","",(IF(VLOOKUP(C19,[1]LISTING!$A$4:$AE$45,3,0)=INVENTAIRE!C19,"",VLOOKUP(INVENTAIRE!C19,[1]LISTING!$A$4:$AE$45,3,0)))) | E19: =IF($C19="","",(VLOOKUP($C19,[1]LISTING!$A$4:$AE$45,2,0))) | F19: =IF($C19="","",(VLOOKUP($C19,[1]LISTING!$A$4:$AE$45,4,0))) | G19: =IF($C19="","",(VLOOKUP($C19,[1]LISTING!$A$4:$AE$45,5,0))) | H19: =IF(C19="","",(COUNTIF(A:A,C19)))
D20: =IF(C20="","",(IF(VLOOKUP(C20,[1]LISTING!$A$4:$AE$45,3,0)=INVENTAIRE!C20,"",VLOOKUP(INVENTAIRE!C20,[1]LISTING!$A$4:$AE$45,3,0)))) | E20: =IF($C20="","",(VLOOKUP($C20,[1]LISTING!$A$4:$AE$45,2,0))) | F20: =IF($C20="","",(VLOOKUP($C20,[1]LISTING!$A$4:$AE$45,4,0))) | G20: =IF($C20="","",(VLOOKUP($C20,[1]LISTING!$A$4:$AE$45,5,0))) | H20: =IF(C20="","",(COUNTIF(A:A,C20)))
D21: =IF(C21="","",(IF(VLOOKUP(C21,[1]LISTING!$A$4:$AE$45,3,0)=INVENTAIRE!C21,"",VLOOKUP(INVENTAIRE!C21,[1]LISTING!$A$4:$AE$45,3,0)))) | E21: =IF($C21="","",(VLOOKUP($C21,[1]LISTING!$A$4:$AE$45,2,0))) | F21: =IF($C21="","",(VLOOKUP($C21,[1]LISTING!$A$4:$AE$45,4,0))) | G21: =IF($C21="","",(VLOOKUP($C21,[1]LISTING!$A$4:$AE$45,5,0))) | H21: =IF(C21="","",(COUNTIF(A:A,C21)))
D22: =IF(C22="","",(IF(VLOOKUP(C22,[1]LISTING!$A$4:$AE$45,3,0)=INVENTAIRE!C22,"",VLOOKUP(INVENTAIRE!C22,[1]LISTING!$A$4:$AE$45,3,0)))) | E22: =IF($C22="","",(VLOOKUP($C22,[1]LISTING!$A$4:$AE$45,2,0))) | F22: =IF($C22="","",(VLOOKUP($C22,[1]LISTING!$A$4:$AE$45,4,0))) | G22: =IF($C22="","",(VLOOKUP($C22,[1]LISTING!$A$4:$AE$45,5,0))) | H22: =IF(C22="","",(COUNTIF(A:A,C22)))
D23: =IF(C23="","",(IF(VLOOKUP(C23,[1]LISTING!$A$4:$AE$45,3,0)=INVENTAIRE!C23,"",VLOOKUP(INVENTAIRE!C23,[1]LISTING!$A$4:$AE$45,3,0)))) | E23: =IF($C23="","",(VLOOKUP($C23,[1]LISTING!$A$4:$AE$45,2,0))) | F23: =IF($C23="","",(VLOOKUP($C23,[1]LISTING!$A$4:$AE$45,4,0))) | G23: =IF($C23="","",(VLOOKUP($C23,[1]LISTING!$A$4:$AE$45,5,0))) | H23: =IF(C23="","",(COUNTIF(A:A,C23)))
D24: =IF(C24="","",(IF(VLOOKUP(C24,[1]LISTING!$A$4:$AE$45,3,0)=INVENTAIRE!C24,"",VLOOKUP(INVENTAIRE!C24,[1]LISTING!$A$4:$AE$45,3,0)))) | E24: =IF($C24="","",(VLOOKUP($C24,[1]LISTING!$A$4:$AE$45,2,0))) | F24: =IF($C24="","",(VLOOKUP($C24,[1]LISTING!$A$4:$AE$45,4,0))) | G24: =IF($C24="","",(VLOOKUP($C24,[1]LISTING!$A$4:$AE$45,5,0))) | H24: =IF(C24="","",(COUNTIF(A:A,C24)))
D25: =IF(C25="","",(IF(VLOOKUP(C25,[1]LISTING!$A$4:$AE$45,3,0)=INVENTAIRE!C25,"",VLOOKUP(INVENTAIRE!C25,[1]LISTING!$A$4:$AE$45,3,0)))) | E25: =IF($C25="","",(VLOOKUP($C25,[1]LISTING!$A$4:$AE$45,2,0))) | F25: =IF($C25="","",(VLOOKUP($C25,[1]LISTING!$A$4:$AE$45,4,0))) | G25: =IF($C25="","",(VLOOKUP($C25,[1]LISTING!$A$4:$AE$45,5,0))) | H25: =IF(C25="","",(COUNTIF(A:A,C25)))
D26: =IF(C26="","",(IF(VLOOKUP(C26,[1]LISTING!$A$4:$AE$45,3,0)=INVENTAIRE!C26,"",VLOOKUP(INVENTAIRE!C26,[1]LISTING!$A$4:$AE$45,3,0)))) | E26: =IF($C26="","",(VLOOKUP($C26,[1]LISTING!$A$4:$AE$45,2,0))) | F26: =IF($C26="","",(VLOOKUP($C26,[1]LISTING!$A$4:$AE$45,4,0))) | G26: =IF($C26="","",(VLOOKUP($C26,[1]LISTING!$A$4:$AE$45,5,0))) | H26: =IF(C26="","",(COUNTIF(A:A,C26)))
D27: =IF(C27="","",(IF(VLOOKUP(C27,[1]LISTING!$A$4:$AE$45,3,0)=INVENTAIRE!C27,"",VLOOKUP(INVENTAIRE!C27,[1]LISTING!$A$4:$AE$45,3,0)))) | E27: =IF($C27="","",(VLOOKUP($C27,[1]LISTING!$A$4:$AE$45,2,0))) | F27: =IF($C27="","",(VLOOKUP($C27,[1]LISTING!$A$4:$AE$45,4,0))) | G27: =IF($C27="","",(VLOOKUP($C27,[1]LISTING!$A$4:$AE$45,5,0))) | H27: =IF(C27="","",(COUNTIF(A:A,C27)))
D28: =IF(C28="","",(IF(VLOOKUP(C28,[1]LISTING!$A$4:$AE$45,3,0)=INVENTAIRE!C28,"",VLOOKUP(INVENTAIRE!C28,[1]LISTING!$A$4:$AE$45,3,0)))) | E28: =IF($C28="","",(VLOOKUP($C28,[1]LISTING!$A$4:$AE$45,2,0))) | F28: =IF($C28="","",(VLOOKUP($C28,[1]LISTING!$A$4:$AE$45,4,0))) | G28: =IF($C28="","",(VLOOKUP($C28,[1]LISTING!$A$4:$AE$45,5,0))) | H28: =IF(C28="","",(COUNTIF(A:A,C28)))
D29: =IF(C29="","",(IF(VLOOKUP(C29,[1]LISTING!$A$4:$AE$45,3,0)=INVENTAIRE!C29,"",VLOOKUP(INVENTAIRE!C29,[1]LISTING!$A$4:$AE$45,3,0)))) | E29: =IF($C29="","",(VLOOKUP($C29,[1]LISTING!$A$4:$AE$45,2,0))) | F29: =IF($C29="","",(VLOOKUP($C29,[1]LISTING!$A$4:$AE$45,4,0))) | G29: =IF($C29="","",(VLOOKUP($C29,[1]LISTING!$A$4:$AE$45,5,0))) | H29: =IF(C29="","",(COUNTIF(A:A,C29)))
D30: =IF(C30="","",(IF(VLOOKUP(C30,[1]LISTING!$A$4:$AE$45,3,0)=INVENTAIRE!C30,"",VLOOKUP(INVENTAIRE!C30,[1]LISTING!$A$4:$AE$45,3,0)))) | E30: =IF($C30="","",(VLOOKUP($C30,[1]LISTING!$A$4:$AE$45,2,0))) | F30: =IF($C30="","",(VLOOKUP($C30,[1]LISTING!$A$4:$AE$45,4,0))) | G30: =IF($C30="","",(VLOOKUP($C30,[1]LISTING!$A$4:$AE$45,5,0))) | H30: =IF(C30="","",(COUNTIF(A:A,C30)))
D31: =IF(C31="","",(IF(VLOOKUP(C31,[1]LISTING!$A$4:$AE$45,3,0)=INVENTAIRE!C31,"",VLOOKUP(INVENTAIRE!C31,[1]LISTING!$A$4:$AE$45,3,0)))) | E31: =IF($C31="","",(VLOOKUP($C31,[1]LISTING!$A$4:$AE$45,2,0))) | F31: =IF($C31="","",(VLOOKUP($C31,[1]LISTING!$A$4:$AE$45,4,0))) | G31: =IF($C31="","",(VLOOKUP($C31,[1]LISTING!$A$4:$AE$45,5,0))) | H31: =IF(C31="","",(COUNTIF(A:A,C31)))
... D218: =IF(C218="","",(IF(VLOOKUP(C218,[1]LISTING!$A$4:$AE$45,3,0)=INVENTAIRE!C218,"",VLOOKUP(INVENTAIRE!C218,[1]LISTING!$A$4:$AE$45,3,0)))) | E218: =IF($C218="","",(VLOOKUP($C218,[1]LISTING!$A$4:$AE$45,2,0))) | F218: =IF($C218="","",(VLOOKUP($C218,[1]LISTING!$A$4:$AE$45,4,0))) | G218: =IF($C218="","",(VLOOKUP($C218,[1]LISTING!$A$4:$AE$45,5,0))) | H218: =IF(C218="","",(COUNTIF(A:A,C218)))
