Workbook
Name Controleur: [1]Valeurs!$A$16:$A$19
Name Diametre: [1]Valeurs!$M$9:$M$12
Name Echelle: [1]Valeurs!$K$2:$K$21
Name EchelleBrinell: Brinell!$A$2:$A$22
Name Echelles: Rockwell!$J$3:$J$17
Name Erreurs: Rockwell!$K$3:$CW$17
Name Intervalles: Rockwell!$K$2:$CW$2
Name Marque: [1]Valeurs!$F$17:$F$31
Name Principe: [1]Valeurs!$B$17:$B$23
Name TYPEDUR: [1]Valeurs!$H$16:$H$40
Name ValeursMOY: Certificat!$C$79:$D$81,Certificat!$C$83:$D$85,Certificat!$C$87:$D$89,Certificat!$C$91:$D$93

Sheet Certificat
A6: CONSTAT DE VERIFICATION
A7: DES MACHINES D'ESSAIS DE DURETE
A10: INTERVENTION DU :
A11: PROCHAINE VERIFICATION LE :
A25: UTILISATEUR | G25: MACHINE
A27: Société : | G27: MARQUE :
A28: Adresse : | G28: TYPE :
A29: Ville : | G29: NUMERO :
A30: Contact : | G30: PRINCIPE :
A31: Tel : | G31: CONTRAT : | I31: /
A32: Email :
A34: Methode | D34: Vérification indirecte | G34: Heure
A35: ROCKWELL | G35: Température/Hygrométrie
A40: BLOCS DE | D40: N° DES BLOCS | G40: CARACTERISATION | J40: DURETE DU BLOC | M40: INCERTITUDE DU BLOC | P40: RÉSOLUTION MACHINE
A41: DURETE DE REFERENCE
J42: 126 | M42: 1.5 | P42: 0.1
J43: 70.1 | M43: 1 | P43: 0.1
J44: 92.3 | M44: 1 | P44: 0.1
J46: 22 | M46: 1.08 | P46: 0.1
J47: 40 | M47: 1 | P47: 0.1
A48: CARACTERISES PAR : | J48: 23 | M48: 0.25 | P48: 0.1
A49: EURO PRODUCTS
A50: HABILITATION N° 0441 | J50: 50 | M50: 0.78 | P50: 0.1
J51: 55 | M51: 0.35 | P51: 0.1
J52: 60 | M52: 0.25 | P52: 0.1
J54: 65 | M54: 2 | P54: 0.1
J55: 70 | M55: 1 | P55: 0.1
J56: 75 | M56: 0.5 | P56: 0.1
A60: RESULTATS | D60: Echelle/Bille(mm) | F60: Charge | H60: 1 | I60: 2 | J60: 3 | K60: 4 | L60: 5
D61: HBW 10/1000 | E61: =VLOOKUP(D61,Echelles!$A$2:$D$37,3,FALSE) -> 10 | F61: =VLOOKUP(D61,Echelles!$A$2:$D$37,2,FALSE) -> 1000kg | H61: 49.5 | I61: 49.4 | J61: 48.8 | K61: 49.2 | L61: 49.7
D62: HBW 10/500 | E62: =VLOOKUP(D62,Echelles!$A$2:$D$37,3,FALSE) -> 10 | F62: =VLOOKUP(D62,Echelles!$A$2:$D$37,2,FALSE) -> 500kg | H62: 70.4 | I62: 70.8 | J62: 25 | K62: 25 | L62: 25.1
D63: HBW 2,5/15,625 | E63: =VLOOKUP(D63,Echelles!$A$2:$D$37,3,FALSE) -> 2.5 | F63: =VLOOKUP(D63,Echelles!$A$2:$D$37,2,FALSE) -> 15,625kg | H63: 23.9 | I63: 24 | J63: 25 | K63: 25.2 | L63: 24.9
D65: HR45T | E65: =VLOOKUP(D65,Echelles!$A$2:$D$37,3,FALSE) -> 1/16" | F65: =VLOOKUP(D65,Echelles!$A$2:$D$37,2,FALSE) -> 45kg | H65: 22 | I65: 22 | J65: 22.1 | K65: 21.9 | L65: 21.8
D66: HRK | E66: =VLOOKUP(D66,Echelles!$A$2:$D$37,3,FALSE) -> 1/8" | F66: =VLOOKUP(D66,Echelles!$A$2:$D$37,2,FALSE) -> 150kg | H66: 40 | I66: 40 | J66: 40.2 | K66: 40.1 | L66: 40
D67: HRC | E67: =VLOOKUP(D67,Echelles!$A$2:$D$37,3,FALSE) | F67: =VLOOKUP(D67,Echelles!$A$2:$D$37,2,FALSE) -> 150kg | H67: 22 | I67: 23 | J67: 23 | K67: 23.2 | L67: 23.1
D69: HRB | E69: =VLOOKUP(D69,Echelles!$A$2:$D$37,3,FALSE) -> 1/16" | F69: =VLOOKUP(D69,Echelles!$A$2:$D$37,2,FALSE) -> 100kg | H69: 50 | I69: 51 | J69: 50 | K69: 50.1 | L69: 50
D70: HRB | E70: =VLOOKUP(D70,Echelles!$A$2:$D$37,3,FALSE) -> 1/16" | F70: =VLOOKUP(D70,Echelles!$A$2:$D$37,2,FALSE) -> 100kg | H70: 55 | I70: 52 | J70: 55 | K70: 55 | L70: 55
D71: HRB | E71: =VLOOKUP(D71,Echelles!$A$2:$D$37,3,FALSE) -> 1/16" | F71: =VLOOKUP(D71,Echelles!$A$2:$D$37,2,FALSE) -> 100kg | H71: 60 | I71: 60 | J71: 60 | K71: 61 | L71: 60.2
D73: HRA | E73: =VLOOKUP(D73,Echelles!$A$2:$D$37,3,FALSE) | F73: =VLOOKUP(D73,Echelles!$A$2:$D$37,2,FALSE) -> 60kg | H73: 66 | I73: 66 | J73: 65 | K73: 65 | L73: 65
D74: HRA | E74: =VLOOKUP(D74,Echelles!$A$2:$D$37,3,FALSE) | F74: =VLOOKUP(D74,Echelles!$A$2:$D$37,2,FALSE) -> 60kg | H74: 71 | I74: 70.5 | J74: 70.6 | K74: 70.7 | L74: 70.8
D75: HRA | E75: =VLOOKUP(D75,Echelles!$A$2:$D$37,3,FALSE) | F75: =VLOOKUP(D75,Echelles!$A$2:$D$37,2,FALSE) -> 60kg | H75: 75 | I75: 77 | J75: 75.9 | K75: 75 | L75: 75
A78: ANALYSE | C78: Moyenne calculée | E78: Erreur | G78: Erreur admissible | I78: Répétabilité | K78: Limite de répétabilité | M78: Incertitude de mesure
C79: =AVERAGE(H61:L61) -> 49.32 | E79: =ABS(C79-J42) -> 76.68 | G79: =INDEX(Erreurs,MATCH(D61,Echelles,0),MATCH(J42,Intervalles,0)) -> #N/A | I79: =((MAX(H61:L61)-MIN(H61:L61))) -> 0.9 | K79: =Rockwell!E27 -> #N/A | M79: =Rockwell!J27 -> 0.77054784
C80: =AVERAGE(H62:L62) -> 43.26 | E80: =ABS(C80-J43) -> 26.84 | G80: =INDEX(Erreurs,MATCH(D62,Echelles,0),MATCH(J43,Intervalles,0)) -> #N/A | I80: =((MAX(H62:L62)-MIN(H62:L62))) -> 45.8 | K80: =Rockwell!E28 -> #N/A | M80: =Rockwell!J28 -> 12.734193
C81: =AVERAGE(H63:L63) -> 24.6 | E81: =ABS(C81-J44) -> 67.7 | G81: =INDEX(Erreurs,MATCH(D63,Echelles,0),MATCH(J44,Intervalles,0)) -> #N/A | I81: =((MAX(H63:L63)-MIN(H63:L63))) -> 1.3 | K81: =Rockwell!E29 -> #N/A | M81: =Rockwell!J29 -> 0.5879661
C83: =AVERAGE(H65:L65) -> 21.96 | E83: =ABS(C83-J46) -> 0.04 | G83: =INDEX(Erreurs,MATCH(D65,Echelles,0),MATCH(J46,Intervalles,0)) -> ±3 | I83: =((MAX(H65:L65)-MIN(H65:L65))) -> 0.3 | K83: =Rockwell!E30 -> 4.6824 | M83: =Rockwell!J30 -> 0.54388629
C84: =AVERAGE(H66:L66) -> 40.06 | E84: =ABS(C84-J47) -> 0.06 | G84: =INDEX(Erreurs,MATCH(D66,Echelles,0),MATCH(J47,Intervalles,0)) -> ±4 | I84: =((MAX(H66:L66)-MIN(H66:L66))) -> 0.2 | K84: =Rockwell!E31 -> 3.5976 | M84: =Rockwell!J31 -> 0.50290426
C85: =AVERAGE(H67:L67) -> 22.86 | E85: =ABS(C85-J48) -> 0.14 | G85: =INDEX(Erreurs,MATCH(D67,Echelles,0),MATCH(J48,Intervalles,0)) -> ±1,5 | I85: =((MAX(H67:L67)-MIN(H67:L67))) -> 1.2 | K85: =Rockwell!E32 -> 1.5428 | M85: =Rockwell!J32 -> 0.27985584
C87: =AVERAGE(H69:L69) -> 50.22 | E87: =ABS(C87-J50) -> 0.22 | G87: =INDEX(Erreurs,MATCH(D69,Echelles,0),MATCH(J50,Intervalles,0)) -> ±3 | I87: =((MAX(H69:L69)-MIN(H69:L69))) -> 1 | K87: =Rockwell!E33 -> 1.9912 | M87: =Rockwell!J33 -> 0.45037537
C88: =AVERAGE(H70:L70) -> 54.4 | E88: =ABS(C88-J51) -> 0.6 | G88: =INDEX(Erreurs,MATCH(D70,Echelles,0),MATCH(J51,Intervalles,0)) -> ±3 | I88: =((MAX(H70:L70)-MIN(H70:L70))) -> 3 | K88: =Rockwell!E34 -> 1.824 | M88: =Rockwell!J34 -> 0.70662178
C89: =AVERAGE(H71:L71) -> 60.24 | E89: =ABS(C89-J52) -> 0.24 | G89: =INDEX(Erreurs,MATCH(D71,Echelles,0),MATCH(J52,Intervalles,0)) -> ±3 | I89: =((MAX(H71:L71)-MIN(H71:L71))) -> 1 | K89: =Rockwell!E35 -> 1.5904 | M89: =Rockwell!J35 -> 0.25558422
C91: =AVERAGE(H73:L73) -> 65.4 | E91: =ABS(C91-J54) -> 0.4 | G91: =INDEX(Erreurs,MATCH(D73,Echelles,0),MATCH(J54,Intervalles,0)) -> ±2 | I91: =((MAX(H73:L73)-MIN(H73:L73))) -> 1 | K91: =Rockwell!E36 -> 0.692 | M91: =Rockwell!J36 -> 1.0386575
C92: =AVERAGE(H74:L74) -> 70.72 | E92: =ABS(C92-J55) -> 0.72 | G92: =INDEX(Erreurs,MATCH(D74,Echelles,0),MATCH(J55,Intervalles,0)) -> ±2 | I92: =((MAX(H74:L74)-MIN(H74:L74))) -> 0.5 | K92: =Rockwell!E37 -> 0.5856 | M92: =Rockwell!J37 -> 0.51034339
C93: =AVERAGE(H75:L75) -> 75.58 | E93: =ABS(C93-J56) -> 0.58 | G93: =INDEX(Erreurs,MATCH(D75,Echelles,0),MATCH(J56,Intervalles,0)) -> ±2 | I93: =((MAX(H75:L75)-MIN(H75:L75))) -> 2 | K93: =Rockwell!E38 -> 0.4884 | M93: =Rockwell!J38 -> 0.51632429
A96: CONCLUSION :
A97: OBSERVATIONS :

Sheet Echelles
A1: Echelle | B1: Charge | C1: Bille | D1: Force (N)
A2: HRA | B2: 60kg | E2: ECHELLES ROCKWELL
A3: HRB | B3: 100kg | C3: 1/16"
A4: HRC | B4: 150kg | C4: =""
A5: HRD | B5: 100kg | C5: =""
A6: HRE | B6: 100kg | C6: 1/8"
A7: HRF | B7: 60kg | C7: 1/16"
A8: HRG | B8: 150kg | C8: 1/16"
A9: HRH | B9: 60kg | C9: 1/8"
A10: HRK | B10: 150kg | C10: 1/8"
A11: HR15N | B11: 15kg
A12: HR30N | B12: 30kg
A13: HR45N | B13: 45kg
A14: HR15T | B14: 15kg | C14: 1/16"
A15: HR30T | B15: 30kg | C15: 1/16"
A16: HR45T | B16: 45kg | C16: 1/16"
A17: HBW 10/3000 | B17: 3000kg | C17: 10 | D17: =29.42*10^3 -> 29420 | E17: ECHELLES BRINELL
A18: HBW 10/1500 | B18: 1500kg | C18: 10 | D18: =14.71*10^3 -> 14710
A19: HBW 10/1000 | B19: 1000kg | C19: 10 | D19: =9.807*10^3 -> 9807
A20: HBW 10/500 | B20: 500kg | C20: 10 | D20: =4.903*10^3 -> 4903
A21: HBW 10/250 | B21: 250kg | C21: 10 | D21: =2.452*10^3 -> 2452
A22: HBW 10/100 | B22: 100kg | C22: 10 | D22: 980.7
A23: HBW 5/750 | B23: 750kg | C23: 5 | D23: =7.355*10^3 -> 7355
A24: HBW 5/250 | B24: 250kg | C24: 5 | D24: =2.452*10^3 -> 2452
A25: HBW 5/125 | B25: 125kg | C25: 5 | D25: =1.226*10^3 -> 1226
A26: HBW 5/62,5 | B26: 62,5kg | C26: 5 | D26: 612.9
A27: HBW 5/25 | B27: 25kg | C27: 5 | D27: 245.2
A28: HBW 2,5/187,5 | B28: 187,5kg | C28: 2.5 | D28: =1.839*10^3 -> 1839
A29: HBW 2,5/62,5 | B29: 62,5kg | C29: 2.5 | D29: 612.9
A30: HBW 2,5/31,25 | B30: 31,25kg | C30: 2.5 | D30: 306.5
A31: HBW 2,5/15,625 | B31: 15,625kg | C31: 2.5 | D31: 153.2
A32: HBW 2,5/6,25 | B32: 6,25kg | C32: 2.5 | D32: 61.29
A33: HBW 1/30 | B33: 30kg | C33: 1 | D33: 294.2
A34: HBW 1/10 | B34: 10kg | C34: 1 | D34: 98.07
A35: HBW 1/5 | B35: 5kg | C35: 1 | D35: 49.03
A36: HBW 1/2,5 | B36: 2,5kg | C36: 1 | D36: 24.52
A37: HBW 1/1 | B37: 1kg | C37: 1 | D37: 9.807

Sheet Rockwell
A1: Echelle | B1: Charge | C1: Bille | F1: Echelle | G1: Err. Admis
A2: HRA | B2: 60kg | F2: HRA | G2: ±2 HRA | K2: 10 | L2: 11 | M2: 12 | N2: 13 | O2: 14 | P2: 15 | Q2: 16 | R2: 17 | S2: 18 | T2: 19 | U2: 20 | V2: 21 | W2: 22 | X2: 23 | Y2: 24 | Z2: 25 | AA2: 26 | AB2: 27 | AC2: 28 | AD2: 29 | AE2: 30 | AF2: 31 | AG2: 32 | AH2: 33 | AI2: 34 | AJ2: 35 | AK2: 36 | AL2: 37 | AM2: 38 | AN2: 39 | AO2: 40 | AP2: 41 | AQ2: 42 | AR2: 43 | AS2: 44 | AT2: 45 | AU2: 46 | AV2: 47 | AW2: 48 | AX2: 49 | AY2: 50 | AZ2: 51 | BA2: 52 | BB2: 53 | BC2: 54 | BD2: 55 | BE2: 56 | BF2: 57 | BG2: 58 | BH2: 59 | BI2: 60 | BJ2: 61 | BK2: 62 | BL2: 63 | BM2: 64 | BN2: 65 | BO2: 66 | BP2: 67 | BQ2: 68 | BR2: 69 | BS2: 70 | BT2: 71 | BU2: 72 | BV2: 73 | BW2: 74 | BX2: 75 | BY2: 76 | BZ2: 77 | CA2: 78 | CB2: 79 | CC2: 80 | CD2: 81 | CE2: 82 | CF2: 83 | CG2: 84 | CH2: 85 | CI2: 86 | CJ2: 87 | CK2: 88 | CL2: 89 | CM2: 90 | CN2: 91 | CO2: 92 | CP2: 93 | CQ2: 94 | CR2: 95 | CS2: 96 | CT2: 97 | CU2: 98 | CV2: 99 | CW2: 100
A3: HRB | B3: 100kg | C3: 1/16" | G3: ±1,5 HRA | J3: HRA | K3: NC | L3: NC | M3: NC | N3: NC | O3: NC | P3: NC | Q3: NC | R3: NC | S3: NC | T3: NC | U3: ±2 | V3: ±2 | W3: ±2 | X3: ±2 | Y3: ±2 | Z3: ±2 | AA3: ±2 | AB3: ±2 | AC3: ±2 | AD3: ±2 | AE3: ±2 | AF3: ±2 | AG3: ±2 | AH3: ±2 | AI3: ±2 | AJ3: ±2 | AK3: ±2 | AL3: ±2 | AM3: ±2 | AN3: ±2 | AO3: ±2 | AP3: ±2 | AQ3: ±2 | AR3: ±2 | AS3: ±2 | AT3: ±2 | AU3: ±2 | AV3: ±2 | AW3: ±2 | AX3: ±2 | AY3: ±2 | AZ3: ±2 | BA3: ±2 | BB3: ±2 | BC3: ±2 | BD3: ±2 | BE3: ±2 | BF3: ±2 | BG3: ±2 | BH3: ±2 | BI3: ±2 | BJ3: ±2 | BK3: ±2 | BL3: ±2 | BM3: ±2 | BN3: ±2 | BO3: ±2 | BP3: ±2 | BQ3: ±2 | BR3: ±2 | BS3: ±2 | BT3: ±2 | BU3: ±2 | BV3: ±2 | BW3: ±2 | BX3: ±2 | BY3: ±1,5 | BZ3: ±1,5 | CA3: ±1,5 | CB3: ±1,5 | CC3: ±1,5 | CD3: ±1,5 | CE3: ±1,5 | CF3: ±1,5 | CG3: ±1,5 | CH3: ±1,5 | CI3: ±1,5 | CJ3: ±1,5 | CK3: ±1,5 | CL3: ±1,5 | CM3: ±1,5 | CN3: ±1,5 | CO3: ±1,5 | CP3: ±1,5 | CQ3: ±1,5 | CR3: ±1,5 | CS3: NC | CT3: NC | CU3: NC | CV3: NC | CW3: NC
A4: HRC | B4: 150kg | F4: HRB | G4: ±4 HRBW | J4: HRB | K4: ±4 | L4: ±4 | M4: ±4 | N4: ±4 | O4: ±4 | P4: ±4 | Q4: ±4 | R4: ±4 | S4: ±4 | T4: ±4 | U4: ±4 | V4: ±4 | W4: ±4 | X4: ±4 | Y4: ±4 | Z4: ±4 | AA4: ±4 | AB4: ±4 | AC4: ±4 | AD4: ±4 | AE4: ±4 | AF4: ±4 | AG4: ±4 | AH4: ±4 | AI4: ±4 | AJ4: ±4 | AK4: ±4 | AL4: ±4 | AM4: ±4 | AN4: ±4 | AO4: ±4 | AP4: ±4 | AQ4: ±4 | AR4: ±4 | AS4: ±4 | AT4: ±4 | AU4: ±3 | AV4: ±3 | AW4: ±3 | AX4: ±3 | AY4: ±3 | AZ4: ±3 | BA4: ±3 | BB4: ±3 | BC4: ±3 | BD4: ±3 | BE4: ±3 | BF4: ±3 | BG4: ±3 | BH4: ±3 | BI4: ±3 | BJ4: ±3 | BK4: ±3 | BL4: ±3 | BM4: ±3 | BN4: ±3 | BO4: ±3 | BP4: ±3 | BQ4: ±3 | BR4: ±3 | BS4: ±3 | BT4: ±3 | BU4: ±3 | BV4: ±3 | BW4: ±3 | BX4: ±3 | BY4: ±3 | BZ4: ±3 | CA4: ±3 | CB4: ±3 | CC4: ±3 | CD4: ±2 | CE4: ±2 | CF4: ±2 | CG4: ±2 | CH4: ±2 | CI4: ±2 | CJ4: ±2 | CK4: ±2 | CL4: ±2 | CM4: ±2 | CN4: ±2 | CO4: ±2 | CP4: ±2 | CQ4: ±2 | CR4: ±2 | CS4: ±2 | CT4: ±2 | CU4: ±2 | CV4: ±2 | CW4: ±2
A5: HRD | B5: 100kg | G5: ±3 HRBW | J5: HRC | K5: ±1,5 | L5: ±1,5 | M5: ±1,5 | N5: ±1,5 | O5: ±1,5 | P5: ±1,5 | Q5: ±1,5 | R5: ±1,5 | S5: ±1,5 | T5: ±1,5 | U5: ±1,5 | V5: ±1,5 | W5: ±1,5 | X5: ±1,5 | Y5: ±1,5 | Z5: ±1,5 | AA5: ±1,5 | AB5: ±1,5 | AC5: ±1,5 | AD5: ±1,5 | AE5: ±1,5 | AF5: ±1,5 | AG5: ±1,5 | AH5: ±1,5 | AI5: ±1,5 | AJ5: ±1,5 | AK5: ±1,5 | AL5: ±1,5 | AM5: ±1,5 | AN5: ±1,5 | AO5: ±1,5 | AP5: ±1,5 | AQ5: ±1,5 | AR5: ±1,5 | AS5: ±1,5 | AT5: ±1,5 | AU5: ±1,5 | AV5: ±1,5 | AW5: ±1,5 | AX5: ±1,5 | AY5: ±1,5 | AZ5: ±1,5 | BA5: ±1,5 | BB5: ±1,5 | BC5: ±1,5 | BD5: ±1,5 | BE5: ±1,5 | BF5: ±1,5 | BG5: ±1,5 | BH5: ±1,5 | BI5: ±1,5 | BJ5: ±1,5 | BK5: ±1,5 | BL5: ±1,5 | BM5: ±1,5 | BN5: ±1,5 | BO5: ±1,5 | BP5: ±1,5 | BQ5: ±1,5 | BR5: ±1,5 | BS5: ±1,5 | BT5: NC | BU5: NC | BV5: NC | BW5: NC | BX5: NC | BY5: NC | BZ5: NC | CA5: NC | CB5: NC | CC5: NC | CD5: NC | CE5: NC | CF5: NC | CG5: NC | CH5: NC | CI5: NC | CJ5: NC | CK5: NC | CL5: NC | CM5: NC | CN5: NC | CO5: NC | CP5: NC | CQ5: NC | CR5: NC | CS5: NC | CT5: NC | CU5: NC | CV5: NC | CW5: NC
A6: HRE | B6: 100kg | C6: 1/8" | G6: ±2 HRBW | J6: HRD | K6: NC | L6: NC | M6: NC | N6: NC | O6: NC | P6: NC | Q6: NC | R6: NC | S6: NC | T6: NC | U6: NC | V6: NC | W6: NC | X6: NC | Y6: NC | Z6: NC | AA6: NC | AB6: NC | AC6: NC | AD6: NC | AE6: NC | AF6: NC | AG6: NC | AH6: NC | AI6: NC | AJ6: NC | AK6: NC | AL6: NC | AM6: NC | AN6: NC | AO6: ±2 | AP6: ±2 | AQ6: ±2 | AR6: ±2 | AS6: ±2 | AT6: ±2 | AU6: ±2 | AV6: ±2 | AW6: ±2 | AX6: ±2 | AY6: ±2 | AZ6: ±2 | BA6: ±2 | BB6: ±2 | BC6: ±2 | BD6: ±2 | BE6: ±2 | BF6: ±2 | BG6: ±2 | BH6: ±2 | BI6: ±2 | BJ6: ±2 | BK6: ±2 | BL6: ±2 | BM6: ±2 | BN6: ±2 | BO6: ±2 | BP6: ±2 | BQ6: ±2 | BR6: ±2 | BS6: ±2 | BT6: ±1,5 | BU6: ±1,5 | BV6: ±1,5 | BW6: ±1,5 | BX6: ±1,5 | BY6: ±1,5 | BZ6: ±1,5 | CA6: NC | CB6: NC | CC6: NC | CD6: NC | CE6: NC | CF6: NC | CG6: NC | CH6: NC | CI6: NC | CJ6: NC | CK6: NC | CL6: NC | CM6: NC | CN6: NC | CO6: NC | CP6: NC | CQ6: NC | CR6: NC | CS6: NC | CT6: NC | CU6: NC | CV6: NC | CW6: NC
A7: HRF | B7: 60kg | C7: 1/16" | F7: HRC | G7: ±1,5 HRC | J7: HRE | K7: NC | L7: NC | M7: NC | N7: NC | O7: NC | P7: NC | Q7: NC | R7: NC | S7: NC | T7: NC | U7: NC | V7: NC | W7: NC | X7: NC | Y7: NC | Z7: NC | AA7: NC | AB7: NC | AC7: NC | AD7: NC | AE7: NC | AF7: NC | AG7: NC | AH7: NC | AI7: NC | AJ7: NC | AK7: NC | AL7: NC | AM7: NC | AN7: NC | AO7: NC | AP7: NC | AQ7: NC | AR7: NC | AS7: NC | AT7: NC | AU7: NC | AV7: NC | AW7: NC | AX7: NC | AY7: NC | AZ7: NC | BA7: NC | BB7: NC | BC7: NC | BD7: NC | BE7: NC | BF7: NC | BG7: NC | BH7: NC | BI7: NC | BJ7: NC | BK7: NC | BL7: NC | BM7: NC | BN7: NC | BO7: NC | BP7: NC | BQ7: NC | BR7: NC | BS7: ±2,5 | BT7: ±2,5 | BU7: ±2,5 | BV7: ±2,5 | BW7: ±2,5 | BX7: ±2,5 | BY7: ±2,5 | BZ7: ±2,5 | CA7: ±2,5 | CB7: ±2,5 | CC7: ±2,5 | CD7: ±2,5 | CE7: ±2,5 | CF7: ±2,5 | CG7: ±2,5 | CH7: ±2,5 | CI7: ±2,5 | CJ7: ±2,5 | CK7: ±2,5 | CL7: ±2,5 | CM7: ±2,5 | CN7: ±2 | CO7: ±2 | CP7: ±2 | CQ7: ±2 | CR7: ±2 | CS7: ±2 | CT7: ±2 | CU7: ±2 | CV7: ±2 | CW7: ±2
A8: HRG | B8: 150kg | C8: 1/16" | F8: HRD | G8: ±2 HRD | J8: HRF | K8: NC | L8: NC | M8: NC | N8: NC | O8: NC | P8: NC | Q8: NC | R8: NC | S8: NC | T8: NC | U8: NC | V8: NC | W8: NC | X8: NC | Y8: NC | Z8: NC | AA8: NC | AB8: NC | AC8: NC | AD8: NC | AE8: NC | AF8: NC | AG8: NC | AH8: NC | AI8: NC | AJ8: NC | AK8: NC | AL8: NC | AM8: NC | AN8: NC | AO8: NC | AP8: NC | AQ8: NC | AR8: NC | AS8: NC | AT8: NC | AU8: NC | AV8: NC | AW8: NC | AX8: NC | AY8: NC | AZ8: NC | BA8: NC | BB8: NC | BC8: NC | BD8: NC | BE8: NC | BF8: NC | BG8: NC | BH8: NC | BI8: ±3 | BJ8: ±3 | BK8: ±3 | BL8: ±3 | BM8: ±3 | BN8: ±3 | BO8: ±3 | BP8: ±3 | BQ8: ±3 | BR8: ±3 | BS8: ±3 | BT8: ±3 | BU8: ±3 | BV8: ±3 | BW8: ±3 | BX8: ±3 | BY8: ±3 | BZ8: ±3 | CA8: ±3 | CB8: ±3 | CC8: ±3 | CD8: ±3 | CE8: ±3 | CF8: ±3 | CG8: ±3 | CH8: ±3 | CI8: ±3 | CJ8: ±3 | CK8: ±3 | CL8: ±3 | CM8: ±3 | CN8: ±2 | CO8: ±2 | CP8: ±2 | CQ8: ±2 | CR8: ±2 | CS8: ±2 | CT8: ±2 | CU8: ±2 | CV8: ±2 | CW8: ±2
A9: HRH | B9: 60kg | C9: 1/8" | G9: ±1,5 HRD | J9: HRG | K9: NC | L9: NC | M9: NC | N9: NC | O9: NC | P9: NC | Q9: NC | R9: NC | S9: NC | T9: NC | U9: NC | V9: NC | W9: NC | X9: NC | Y9: NC | Z9: NC | AA9: NC | AB9: NC | AC9: NC | AD9: NC | AE9: ±6 | AF9: ±6 | AG9: ±6 | AH9: ±6 | AI9: ±6 | AJ9: ±6 | AK9: ±6 | AL9: ±6 | AM9: ±6 | AN9: ±6 | AO9: ±6 | AP9: ±6 | AQ9: ±6 | AR9: ±6 | AS9: ±6 | AT9: ±6 | AU9: ±6 | AV9: ±6 | AW9: ±6 | AX9: ±6 | AY9: ±6 | AZ9: ±4,5 | BA9: ±4,5 | BB9: ±4,5 | BC9: ±4,5 | BD9: ±4,5 | BE9: ±4,5 | BF9: ±4,5 | BG9: ±4,5 | BH9: ±4,5 | BI9: ±4,5 | BJ9: ±4,5 | BK9: ±4,5 | BL9: ±4,5 | BM9: ±4,5 | BN9: ±4,5 | BO9: ±4,5 | BP9: ±4,5 | BQ9: ±4,5 | BR9: ±4,5 | BS9: ±4,5 | BT9: ±4,5 | BU9: ±4,5 | BV9: ±4,5 | BW9: ±4,5 | BX9: ±4,5 | BY9: ±3 | BZ9: ±3 | CA9: ±3 | CB9: ±3 | CC9: ±3 | CD9: ±3 | CE9: ±3 | CF9: ±3 | CG9: ±3 | CH9: ±3 | CI9: ±3 | CJ9: ±3 | CK9: ±3 | CL9: ±3 | CM9: ±3 | CN9: ±3 | CO9: ±3 | CP9: ±3 | CQ9: ±3 | CR9: NC | CS9: NC | CT9: NC | CU9: NC | CV9: NC | CW9: NC
A10: HRK | B10: 150kg | C10: 1/8" | F10: HRE | G10: ±2,5 HREW | J10: HRH | K10: NC | L10: NC | M10: NC | N10: NC | O10: NC | P10: NC | Q10: NC | R10: NC | S10: NC | T10: NC | U10: NC | V10: NC | W10: NC | X10: NC | Y10: NC | Z10: NC | AA10: NC | AB10: NC | AC10: NC | AD10: NC | AE10: NC | AF10: NC | AG10: NC | AH10: NC | AI10: NC | AJ10: NC | AK10: NC | AL10: NC | AM10: NC | AN10: NC | AO10: NC | AP10: NC | AQ10: NC | AR10: NC | AS10: NC | AT10: NC | AU10: NC | AV10: NC | AW10: NC | AX10: NC | AY10: NC | AZ10: NC | BA10: NC | BB10: NC | BC10: NC | BD10: NC | BE10: NC | BF10: NC | BG10: NC | BH10: NC | BI10: NC | BJ10: NC | BK10: NC | BL10: NC | BM10: NC | BN10: NC | BO10: NC | BP10: NC | BQ10: NC | BR10: NC | BS10: NC | BT10: NC | BU10: NC | BV10: NC | BW10: NC | BX10: NC | BY10: NC | BZ10: NC | CA10: NC | CB10: NC | CC10: ±2 | CD10: ±2 | CE10: ±2 | CF10: ±2 | CG10: ±2 | CH10: ±2 | CI10: ±2 | CJ10: ±2 | CK10: ±2 | CL10: ±2 | CM10: ±2 | CN10: ±2 | CO10: ±2 | CP10: ±2 | CQ10: ±2 | CR10: ±2 | CS10: ±2 | CT10: ±2 | CU10: ±2 | CV10: ±2 | CW10: ±2
A11: HR15N | B11: 15kg | G11: ±2 HREW | J11: HRK | K11: NC | L11: NC | M11: NC | N11: NC | O11: NC | P11: NC | Q11: NC | R11: NC | S11: NC | T11: NC | U11: NC | V11: NC | W11: NC | X11: NC | Y11: NC | Z11: NC | AA11: NC | AB11: NC | AC11: NC | AD11: NC | AE11: NC | AF11: NC | AG11: NC | AH11: NC | AI11: NC | AJ11: NC | AK11: NC | AL11: NC | AM11: NC | AN11: NC | AO11: ±4 | AP11: ±4 | AQ11: ±4 | AR11: ±4 | AS11: ±4 | AT11: ±4 | AU11: ±4 | AV11: ±4 | AW11: ±4 | AX11: ±4 | AY11: ±4 | AZ11: ±4 | BA11: ±4 | BB11: ±4 | BC11: ±4 | BD11: ±4 | BE11: ±4 | BF11: ±4 | BG11: ±4 | BH11: ±4 | BI11: ±4 | BJ11: ±3 | BK11: ±3 | BL11: ±3 | BM11: ±3 | BN11: ±3 | BO11: ±3 | BP11: ±3 | BQ11: ±3 | BR11: ±3 | BS11: ±3 | BT11: ±3 | BU11: ±3 | BV11: ±3 | BW11: ±3 | BX11: ±3 | BY11: ±3 | BZ11: ±3 | CA11: ±3 | CB11: ±3 | CC11: ±3 | CD11: ±2 | CE11: ±2 | CF11: ±2 | CG11: ±2 | CH11: ±2 | CI11: ±2 | CJ11: ±2 | CK11: ±2 | CL11: ±2 | CM11: ±2 | CN11: ±2 | CO11: ±2 | CP11: ±2 | CQ11: ±2 | CR11: ±2 | CS11: ±2 | CT11: ±2 | CU11: ±2 | CV11: ±2 | CW11: ±2
A12: HR30N | B12: 30kg | F12: HRF | G12: ±3 HRFW | J12: HR15N | K12: ±3 | L12: ±3 | M12: ±3 | N12: ±3 | O12: ±3 | P12: ±3 | Q12: ±3 | R12: ±3 | S12: ±3 | T12: ±3 | U12: ±3 | V12: ±3 | W12: ±3 | X12: ±3 | Y12: ±3 | Z12: ±3 | AA12: ±3 | AB12: ±3 | AC12: ±3 | AD12: ±3 | AE12: ±3 | AF12: ±3 | AG12: ±3 | AH12: ±3 | AI12: ±3 | AJ12: ±3 | AK12: ±3 | AL12: ±3 | AM12: ±3 | AN12: ±3 | AO12: ±3 | AP12: ±3 | AQ12: ±3 | AR12: ±3 | AS12: ±3 | AT12: ±3 | AU12: ±3 | AV12: ±3 | AW12: ±3 | AX12: ±3 | AY12: ±3 | AZ12: ±3 | BA12: ±3 | BB12: ±3 | BC12: ±3 | BD12: ±3 | BE12: ±3 | BF12: ±3 | BG12: ±3 | BH12: ±3 | BI12: ±3 | BJ12: ±3 | BK12: ±3 | BL12: ±3 | BM12: ±3 | BN12: ±3 | BO12: ±3 | BP12: ±3 | BQ12: ±3 | BR12: ±3 | BS12: ±3 | BT12: ±3 | BU12: ±3 | BV12: ±3 | BW12: ±3 | BX12: ±3 | BY12: ±3 | BZ12: ±3 | CA12: ±3 | CB12: ±3 | CC12: ±3 | CD12: ±3 | CE12: ±3 | CF12: ±3 | CG12: ±3 | CH12: ±3 | CI12: ±3 | CJ12: ±3 | CK12: ±3 | CL12: ±3 | CM12: ±3 | CN12: ±3 | CO12: ±3 | CP12: ±3 | CQ12: ±3 | CR12: ±3 | CS12: ±3 | CT12: ±3 | CU12: ±3 | CV12: ±3 | CW12: ±3
A13: HR45N | B13: 45kg | G13: ±2 HRFW | J13: HR30N | K13: ±3 | L13: ±3 | M13: ±3 | N13: ±3 | O13: ±3 | P13: ±3 | Q13: ±3 | R13: ±3 | S13: ±3 | T13: ±3 | U13: ±3 | V13: ±3 | W13: ±3 | X13: ±3 | Y13: ±3 | Z13: ±3 | AA13: ±3 | AB13: ±3 | AC13: ±3 | AD13: ±3 | AE13: ±3 | AF13: ±3 | AG13: ±3 | AH13: ±3 | AI13: ±3 | AJ13: ±3 | AK13: ±3 | AL13: ±3 | AM13: ±3 | AN13: ±3 | AO13: ±3 | AP13: ±3 | AQ13: ±3 | AR13: ±3 | AS13: ±3 | AT13: ±3 | AU13: ±3 | AV13: ±3 | AW13: ±3 | AX13: ±3 | AY13: ±3 | AZ13: ±3 | BA13: ±3 | BB13: ±3 | BC13: ±3 | BD13: ±3 | BE13: ±3 | BF13: ±3 | BG13: ±3 | BH13: ±3 | BI13: ±3 | BJ13: ±3 | BK13: ±3 | BL13: ±3 | BM13: ±3 | BN13: ±3 | BO13: ±3 | BP13: ±3 | BQ13: ±3 | BR13: ±3 | BS13: ±3 | BT13: ±3 | BU13: ±3 | BV13: ±3 | BW13: ±3 | BX13: ±3 | BY13: ±3 | BZ13: ±3 | CA13: ±3 | CB13: ±3 | CC13: ±3 | CD13: ±3 | CE13: ±3 | CF13: ±3 | CG13: ±3 | CH13: ±3 | CI13: ±3 | CJ13: ±3 | CK13: ±3 | CL13: ±3 | CM13: ±3 | CN13: ±3 | CO13: ±3 | CP13: ±3 | CQ13: ±3 | CR13: ±3 | CS13: ±3 | CT13: ±3 | CU13: ±3 | CV13: ±3 | CW13: ±3
A14: HR15T | B14: 15kg | C14: 1/16" | F14: HRG | G14: ±6 HRGW | J14: HR45N | K14: ±3 | L14: ±3 | M14: ±3 | N14: ±3 | O14: ±3 | P14: ±3 | Q14: ±3 | R14: ±3 | S14: ±3 | T14: ±3 | U14: ±3 | V14: ±3 | W14: ±3 | X14: ±3 | Y14: ±3 | Z14: ±3 | AA14: ±3 | AB14: ±3 | AC14: ±3 | AD14: ±3 | AE14: ±3 | AF14: ±3 | AG14: ±3 | AH14: ±3 | AI14: ±3 | AJ14: ±3 | AK14: ±3 | AL14: ±3 | AM14: ±3 | AN14: ±3 | AO14: ±3 | AP14: ±3 | AQ14: ±3 | AR14: ±3 | AS14: ±3 | AT14: ±3 | AU14: ±3 | AV14: ±3 | AW14: ±3 | AX14: ±3 | AY14: ±3 | AZ14: ±3 | BA14: ±3 | BB14: ±3 | BC14: ±3 | BD14: ±3 | BE14: ±3 | BF14: ±3 | BG14: ±3 | BH14: ±3 | BI14: ±3 | BJ14: ±3 | BK14: ±3 | BL14: ±3 | BM14: ±3 | BN14: ±3 | BO14: ±3 | BP14: ±3 | BQ14: ±3 | BR14: ±3 | BS14: ±3 | BT14: ±3 | BU14: ±3 | BV14: ±3 | BW14: ±3 | BX14: ±3 | BY14: ±3 | BZ14: ±3 | CA14: ±3 | CB14: ±3 | CC14: ±3 | CD14: ±3 | CE14: ±3 | CF14: ±3 | CG14: ±3 | CH14: ±3 | CI14: ±3 | CJ14: ±3 | CK14: ±3 | CL14: ±3 | CM14: ±3 | CN14: ±3 | CO14: ±3 | CP14: ±3 | CQ14: ±3 | CR14: ±3 | CS14: ±3 | CT14: ±3 | CU14: ±3 | CV14: ±3 | CW14: ±3
A15: HR30T | B15: 30kg | C15: 1/16" | G15: ±4,5 HRGW | J15: HR15T | K15: ±3 | L15: ±3 | M15: ±3 | N15: ±3 | O15: ±3 | P15: ±3 | Q15: ±3 | R15: ±3 | S15: ±3 | T15: ±3 | U15: ±3 | V15: ±3 | W15: ±3 | X15: ±3 | Y15: ±3 | Z15: ±3 | AA15: ±3 | AB15: ±3 | AC15: ±3 | AD15: ±3 | AE15: ±3 | AF15: ±3 | AG15: ±3 | AH15: ±3 | AI15: ±3 | AJ15: ±3 | AK15: ±3 | AL15: ±3 | AM15: ±3 | AN15: ±3 | AO15: ±3 | AP15: ±3 | AQ15: ±3 | AR15: ±3 | AS15: ±3 | AT15: ±3 | AU15: ±3 | AV15: ±3 | AW15: ±3 | AX15: ±3 | AY15: ±3 | AZ15: ±3 | BA15: ±3 | BB15: ±3 | BC15: ±3 | BD15: ±3 | BE15: ±3 | BF15: ±3 | BG15: ±3 | BH15: ±3 | BI15: ±3 | BJ15: ±3 | BK15: ±3 | BL15: ±3 | BM15: ±3 | BN15: ±3 | BO15: ±3 | BP15: ±3 | BQ15: ±3 | BR15: ±3 | BS15: ±3 | BT15: ±3 | BU15: ±3 | BV15: ±3 | BW15: ±3 | BX15: ±3 | BY15: ±3 | BZ15: ±3 | CA15: ±3 | CB15: ±3 | CC15: ±3 | CD15: ±3 | CE15: ±3 | CF15: ±3 | CG15: ±3 | CH15: ±3 | CI15: ±3 | CJ15: ±3 | CK15: ±3 | CL15: ±3 | CM15: ±3 | CN15: ±3 | CO15: ±3 | CP15: ±3 | CQ15: ±3 | CR15: ±3 | CS15: ±3 | CT15: ±3 | CU15: ±3 | CV15: ±3 | CW15: ±3
A16: HR45T | B16: 45kg | C16: 1/16" | G16: ±3 HRGW | J16: HR30T | K16: ±3 | L16: ±3 | M16: ±3 | N16: ±3 | O16: ±3 | P16: ±3 | Q16: ±3 | R16: ±3 | S16: ±3 | T16: ±3 | U16: ±3 | V16: ±3 | W16: ±3 | X16: ±3 | Y16: ±3 | Z16: ±3 | AA16: ±3 | AB16: ±3 | AC16: ±3 | AD16: ±3 | AE16: ±3 | AF16: ±3 | AG16: ±3 | AH16: ±3 | AI16: ±3 | AJ16: ±3 | AK16: ±3 | AL16: ±3 | AM16: ±3 | AN16: ±3 | AO16: ±3 | AP16: ±3 | AQ16: ±3 | AR16: ±3 | AS16: ±3 | AT16: ±3 | AU16: ±3 | AV16: ±3 | AW16: ±3 | AX16: ±3 | AY16: ±3 | AZ16: ±3 | BA16: ±3 | BB16: ±3 | BC16: ±3 | BD16: ±3 | BE16: ±3 | BF16: ±3 | BG16: ±3 | BH16: ±3 | BI16: ±3 | BJ16: ±3 | BK16: ±3 | BL16: ±3 | BM16: ±3 | BN16: ±3 | BO16: ±3 | BP16: ±3 | BQ16: ±3 | BR16: ±3 | BS16: ±3 | BT16: ±3 | BU16: ±3 | BV16: ±3 | BW16: ±3 | BX16: ±3 | BY16: ±3 | BZ16: ±3 | CA16: ±3 | CB16: ±3 | CC16: ±3 | CD16: ±3 | CE16: ±3 | CF16: ±3 | CG16: ±3 | CH16: ±3 | CI16: ±3 | CJ16: ±3 | CK16: ±3 | CL16: ±3 | CM16: ±3 | CN16: ±3 | CO16: ±3 | CP16: ±3 | CQ16: ±3 | CR16: ±3 | CS16: ±3 | CT16: ±3 | CU16: ±3 | CV16: ±3 | CW16: ±3
A17: Rapport Echelle/Force-Bille | F17: HRH | G17: ±2 HRHW | J17: HR45T | K17: ±3 | L17: ±3 | M17: ±3 | N17: ±3 | O17: ±3 | P17: ±3 | Q17: ±3 | R17: ±3 | S17: ±3 | T17: ±3 | U17: ±3 | V17: ±3 | W17: ±3 | X17: ±3 | Y17: ±3 | Z17: ±3 | AA17: ±3 | AB17: ±3 | AC17: ±3 | AD17: ±3 | AE17: ±3 | AF17: ±3 | AG17: ±3 | AH17: ±3 | AI17: ±3 | AJ17: ±3 | AK17: ±3 | AL17: ±3 | AM17: ±3 | AN17: ±3 | AO17: ±3 | AP17: ±3 | AQ17: ±3 | AR17: ±3 | AS17: ±3 | AT17: ±3 | AU17: ±3 | AV17: ±3 | AW17: ±3 | AX17: ±3 | AY17: ±3 | AZ17: ±3 | BA17: ±3 | BB17: ±3 | BC17: ±3 | BD17: ±3 | BE17: ±3 | BF17: ±3 | BG17: ±3 | BH17: ±3 | BI17: ±3 | BJ17: ±3 | BK17: ±3 | BL17: ±3 | BM17: ±3 | BN17: ±3 | BO17: ±3 | BP17: ±3 | BQ17: ±3 | BR17: ±3 | BS17: ±3 | BT17: ±3 | BU17: ±3 | BV17: ±3 | BW17: ±3 | BX17: ±3 | BY17: ±3 | BZ17: ±3 | CA17: ±3 | CB17: ±3 | CC17: ±3 | CD17: ±3 | CE17: ±3 | CF17: ±3 | CG17: ±3 | CH17: ±3 | CI17: ±3 | CJ17: ±3 | CK17: ±3 | CL17: ±3 | CM17: ±3 | CN17: ±3 | CO17: ±3 | CP17: ±3 | CQ17: ±3 | CR17: ±3 | CS17: ±3 | CT17: ±3 | CU17: ±3 | CV17: ±3 | CW17: ±3
F18: HRK | G18: ±4 HRKW | J18: Tableau Echelle/Intervalle de dureté - Erreur admissible
G19: ±3 HRKW
G20: ±2 HRKW
F21: HRN | G21: ±2 HRN
F22: HRT | G22: ±3 HRTW
E23: Rapport Echelle/Erreur admissible
A26: Echelle | B26: Coef1 | C26: Coef2 | D26: Moyenne | E26: Résultat | G26: uCRM | H26: uHCRM | I26: ums | J26: Résultat | O26: ∂ ecart type | S26: Résolution ∂
A27: HR15N | B27: 0.04 | C27: 100 | D27: =Certificat!C79 -> 49.32 | E27: =VLOOKUP(Certificat!D61,$A$26:$C$41,2,FALSE)*(VLOOKUP(Certificat!D61,$A$26:$C$41,3,FALSE)-D27) -> #N/A | G27: =Certificat!M42/2 -> 0.75 | H27: =(1.14*O27)/SQRT(5) -> 0.17438647 | I27: =((1/(2*SQRT(3)))*Certificat!P42) -> 0.028867513 | J27: =SQRT((G27)^2+(H27)^2+(I27)^2) -> 0.77054784 | O27: =STDEVA(Certificat!H61,Certificat!I61,Certificat!J61,Certificat!K61,Certificat!L61) -> 0.34205263 | S27: 0.1
A28: HR15T | B28: 0.06 | C28: 100 | D28: =Certificat!C80 -> 43.26 | E28: =VLOOKUP(Certificat!D62,$A$26:$C$41,2,FALSE)*(VLOOKUP(Certificat!D62,$A$26:$C$41,3,FALSE)-D28) -> #N/A | G28: =Certificat!M43/2 -> 0.5 | H28: =(1.14*O28)/SQRT(5) -> 12.724341 | I28: =((1/(2*SQRT(3)))*Certificat!P43) -> 0.028867513 | J28: =SQRT((G28)^2+(H28)^2+(I28)^2) -> 12.734193 | O28: =STDEVA(Certificat!H62,Certificat!I62,Certificat!J62,Certificat!K62,Certificat!L62) -> 24.958325 | S28: 0.5
A29: HR30N | B29: 0.04 | C29: 100 | D29: =Certificat!C81 -> 24.6 | E29: =VLOOKUP(Certificat!D63,$A$26:$C$41,2,FALSE)*(VLOOKUP(Certificat!D63,$A$26:$C$41,3,FALSE)-D29) -> #N/A | G29: =Certificat!M44/2 -> 0.5 | H29: =(1.14*O29)/SQRT(5) -> 0.30801104 | I29: =((1/(2*SQRT(3)))*Certificat!P44) -> 0.028867513 | J29: =SQRT((G29)^2+(H29)^2+(I29)^2) -> 0.5879661 | O29: =STDEVA(Certificat!H63,Certificat!I63,Certificat!J63,Certificat!K63,Certificat!L63) -> 0.6041523
A30: HR30T | B30: 0.06 | C30: 100 | D30: =Certificat!C83 -> 21.96 | E30: =VLOOKUP(Certificat!D65,$A$26:$C$41,2,FALSE)*(VLOOKUP(Certificat!D65,$A$26:$C$41,3,FALSE)-D30) -> 4.6824 | G30: =Certificat!M46/2 -> 0.54 | H30: =(1.14*O30)/SQRT(5) -> 0.058128822 | I30: =((1/(2*SQRT(3)))*Certificat!P46) -> 0.028867513 | J30: =SQRT((G30)^2+(H30)^2+(I30)^2) -> 0.54388629 | O30: =STDEVA(Certificat!H65,Certificat!I65,Certificat!J65,Certificat!K65,Certificat!L65) -> 0.11401754
A31: HR45N | B31: 0.04 | C31: 100 | D31: =Certificat!C84 -> 40.06 | E31: =VLOOKUP(Certificat!D66,$A$26:$C$41,2,FALSE)*(VLOOKUP(Certificat!D66,$A$26:$C$41,3,FALSE)-D31) -> 3.5976 | G31: =Certificat!M47/2 -> 0.5 | H31: =(1.14*O31)/SQRT(5) -> 0.0456 | I31: =((1/(2*SQRT(3)))*Certificat!P47) -> 0.028867513 | J31: =SQRT((G31)^2+(H31)^2+(I31)^2) -> 0.50290426 | O31: =STDEVA(Certificat!H66,Certificat!I66,Certificat!J66,Certificat!K66,Certificat!L66) -> 0.089442719
A32: HR45T | B32: 0.06 | C32: 100 | D32: =Certificat!C85 -> 22.86 | E32: =VLOOKUP(Certificat!D67,$A$26:$C$41,2,FALSE)*(VLOOKUP(Certificat!D67,$A$26:$C$41,3,FALSE)-D32) -> 1.5428 | G32: =Certificat!M48/2 -> 0.125 | H32: =(1.14*O32)/SQRT(5) -> 0.24871864 | I32: =((1/(2*SQRT(3)))*Certificat!P48) -> 0.028867513 | J32: =SQRT((G32)^2+(H32)^2+(I32)^2) -> 0.27985584 | O32: =STDEVA(Certificat!H67,Certificat!I67,Certificat!J67,Certificat!K67,Certificat!L67) -> 0.48785244
A33: HRA | B33: 0.02 | C33: 100 | D33: =Certificat!C87 -> 50.22 | E33: =VLOOKUP(Certificat!D69,$A$26:$C$41,2,FALSE)*(VLOOKUP(Certificat!D69,$A$26:$C$41,3,FALSE)-D33) -> 1.9912 | G33: =Certificat!M50/2 -> 0.39 | H33: =(1.14*O33)/SQRT(5) -> 0.22339346 | I33: =((1/(2*SQRT(3)))*Certificat!P50) -> 0.028867513 | J33: =SQRT((G33)^2+(H33)^2+(I33)^2) -> 0.45037537 | O33: =STDEVA(Certificat!H69,Certificat!I69,Certificat!J69,Certificat!K69,Certificat!L69) -> 0.43817805
A34: HRB | B34: 0.04 | C34: 100 | D34: =Certificat!C88 -> 54.4 | E34: =VLOOKUP(Certificat!D70,$A$26:$C$41,2,FALSE)*(VLOOKUP(Certificat!D70,$A$26:$C$41,3,FALSE)-D34) -> 1.824 | G34: =Certificat!M51/2 -> 0.175 | H34: =(1.14*O34)/SQRT(5) -> 0.684 | I34: =((1/(2*SQRT(3)))*Certificat!P51) -> 0.028867513 | J34: =SQRT((G34)^2+(H34)^2+(I34)^2) -> 0.70662178 | O34: =STDEVA(Certificat!H70,Certificat!I70,Certificat!J70,Certificat!K70,Certificat!L70) -> 1.3416408
A35: HRC | B35: 0.02 | C35: 100 | D35: =Certificat!C89 -> 60.24 | E35: =VLOOKUP(Certificat!D71,$A$26:$C$41,2,FALSE)*(VLOOKUP(Certificat!D71,$A$26:$C$41,3,FALSE)-D35) -> 1.5904 | G35: =Certificat!M52/2 -> 0.125 | H35: =(1.14*O35)/SQRT(5) -> 0.2210542 | I35: =((1/(2*SQRT(3)))*Certificat!P52) -> 0.028867513 | J35: =SQRT((G35)^2+(H35)^2+(I35)^2) -> 0.25558422 | O35: =STDEVA(Certificat!H71,Certificat!I71,Certificat!J71,Certificat!K71,Certificat!L71) -> 0.43358967
A36: HRD | B36: 0.02 | C36: 100 | D36: =Certificat!C91 -> 65.4 | E36: =VLOOKUP(Certificat!D73,$A$26:$C$41,2,FALSE)*(VLOOKUP(Certificat!D73,$A$26:$C$41,3,FALSE)-D36) -> 0.692 | G36: =Certificat!M54/2 -> 1 | H36: =(1.14*O36)/SQRT(5) -> 0.27924183 | I36: =((1/(2*SQRT(3)))*Certificat!P54) -> 0.028867513 | J36: =SQRT((G36)^2+(H36)^2+(I36)^2) -> 1.0386575 | O36: =STDEVA(Certificat!H73,Certificat!I73,Certificat!J73,Certificat!K73,Certificat!L73) -> 0.54772256
A37: HRE | B37: 0.04 | C37: 130 | D37: =Certificat!C92 -> 70.72 | E37: =VLOOKUP(Certificat!D74,$A$26:$C$41,2,FALSE)*(VLOOKUP(Certificat!D74,$A$26:$C$41,3,FALSE)-D37) -> 0.5856 | G37: =Certificat!M55/2 -> 0.5 | H37: =(1.14*O37)/SQRT(5) -> 0.098066508 | I37: =((1/(2*SQRT(3)))*Certificat!P55) -> 0.028867513 | J37: =SQRT((G37)^2+(H37)^2+(I37)^2) -> 0.51034339 | O37: =STDEVA(Certificat!H74,Certificat!I74,Certificat!J74,Certificat!K74,Certificat!L74) -> 0.19235384
A38: HRF | B38: 0.04 | C38: 130 | D38: =Certificat!C93 -> 75.58 | E38: =VLOOKUP(Certificat!D75,$A$26:$C$41,2,FALSE)*(VLOOKUP(Certificat!D75,$A$26:$C$41,3,FALSE)-D38) -> 0.4884 | G38: =Certificat!M56/2 -> 0.25 | H38: =(1.14*O38)/SQRT(5) -> 0.45084081 | I38: =((1/(2*SQRT(3)))*Certificat!P56) -> 0.028867513 | J38: =SQRT((G38)^2+(H38)^2+(I38)^2) -> 0.51632429 | O38: =STDEVA(Certificat!H75,Certificat!I75,Certificat!J75,Certificat!K75,Certificat!L75) -> 0.88430764
A39: HRG | B39: 0.04 | C39: 130 | G39: Tableau Incertitude de mesure
A40: HRH | B40: 0.04 | C40: 130
A41: HRK | B41: 0.04 | C41: 130
C42: Tableau Echelle/Intervalle de répétabilité

Sheet Brinell
A1: Echelle | B1: Diamètre | C1: Charge (kg) | D1: Force (N) | F1: Dureté | G1: Erreur | H1: Répétabilité
A2: HBW 10/3000 | B2: 10 | C2: 3000kg | D2: =29.42*10^3 -> 29420 | F2: =Certificat!J42 -> 126 | G2: =IF(F2<=125,3,IF(AND(F2<=225,F2>125),2.5,IF(F2>225,2))) -> 2.5
A3: HBW 10/1500 | B3: 10 | C3: 1500kg | D3: =14.71*10^3 -> 14710 | F3: =Certificat!J43 -> 70.1 | G3: =IF(F3<=125,3,IF(AND(F3<=225,F3>125),2.5,IF(F3>225,2))) -> 3
A4: HBW 10/1000 | B4: 10 | C4: 1000kg | D4: =9.807*10^3 -> 9807 | F4: =Certificat!J44 -> 92.3 | G4: =IF(F4<=125,3,IF(AND(F4<=225,F4>125),2.5,IF(F4>225,2))) -> 3
A5: HBW 10/500 | B5: 10 | C5: 500kg | D5: =4.903*10^3 -> 4903 | F5: =Certificat!J46 -> 22 | G5: =IF(F5<=125,3,IF(AND(F5<=225,F5>125),2.5,IF(F5>225,2))) -> 3
A6: HBW 10/250 | B6: 10 | C6: 250kg | D6: =2.452*10^3 -> 2452 | F6: =Certificat!J47 -> 40 | G6: =IF(F6<=125,3,IF(AND(F6<=225,F6>125),2.5,IF(F6>225,2))) -> 3
A7: HBW 10/100 | B7: 10 | C7: 100kg | D7: 980.7 | F7: =Certificat!J48 -> 23 | G7: =IF(F7<=125,3,IF(AND(F7<=225,F7>125),2.5,IF(F7>225,2))) -> 3
A8: HBW 5/750 | B8: 5 | C8: 750kg | D8: =7.355*10^3 -> 7355 | F8: =Certificat!J50 -> 50 | G8: =IF(F8<=125,3,IF(AND(F8<=225,F8>125),2.5,IF(F8>225,2))) -> 3
A9: HBW 5/250 | B9: 5 | C9: 250kg | D9: =2.452*10^3 -> 2452 | F9: =Certificat!J51 -> 55 | G9: =IF(F9<=125,3,IF(AND(F9<=225,F9>125),2.5,IF(F9>225,2))) -> 3
A10: HBW 5/125 | B10: 5 | C10: 125kg | D10: =1.226*10^3 -> 1226 | F10: =Certificat!J52 -> 60 | G10: =IF(F10<=125,3,IF(AND(F10<=225,F10>125),2.5,IF(F10>225,2))) -> 3
A11: HBW 5/62,5 | B11: 5 | C11: 62,5kg | D11: 612.9 | F11: =Certificat!J54 -> 65 | G11: =IF(F11<=125,3,IF(AND(F11<=225,F11>125),2.5,IF(F11>225,2))) -> 3
A12: HBW 5/25 | B12: 5 | C12: 25kg | D12: 245.2 | F12: =Certificat!J55 -> 70 | G12: =IF(F12<=125,3,IF(AND(F12<=225,F12>125),2.5,IF(F12>225,2))) -> 3
A13: HBW 2,5/187,5 | B13: 2.5 | C13: 187,5kg | D13: =1.839*10^3 -> 1839 | F13: =Certificat!J56 -> 75 | G13: =IF(F13<=125,3,IF(AND(F13<=225,F13>125),2.5,IF(F13>225,2))) -> 3
A14: HBW 2,5/62,5 | B14: 2.5 | C14: 62,5kg | D14: 612.9
A15: HBW 2,5/31,25 | B15: 2.5 | C15: 31,25kg | D15: 306.5
A16: HBW 2,5/15,625 | B16: 2.5 | C16: 15,625kg | D16: 153.2
A17: HBW 2,5/6,25 | B17: 2.5 | C17: 6,25kg | D17: 61.29
A18: HBW 1/30 | B18: 1 | C18: 30kg | D18: 294.2
A19: HBW 1/10 | B19: 1 | C19: 10kg | D19: 98.07
A20: HBW 1/5 | B20: 1 | C20: 5kg | D20: 49.03
A21: HBW 1/2,5 | B21: 1 | C21: 2,5kg | D21: 24.52
A22: HBW 1/1 | B22: 1 | C22: 1kg | D22: 9.807
A23: Rapport Echelle/Bille/Charge
