Workbook

Sheet CALCUL DECLARATION TVA MOSS
A1: TVA MINI GUICHET UNIQUE - MOSS
A2: Client: | B2: X | J2: Sélectionner
A3: Livres Electroniques (taux réduit)
A4: MOIS | B4: PAYS | C4: TAUX | D4: MONTANT HT | E4: TVA | F4: TTC
A5: JANVIER | B5: France | C5: =IF($A$3="Services electroniques",HLOOKUP(B5,'TAUX UE'!$B$1:$AC$8,2,0),IF($A$3="Livres Electroniques (taux réduit)",HLOOKUP(B5,'TAUX UE'!$B$1:$AC$3,3),IF('CALCUL DECLARATION TVA MOSS'!A3:G3="Livres Electroniques (tx normal)",HLOOKUP(B5,'TAUX UE'!$A$1:$AC$4,4),HLOOKUP(B5,'TAUX UE'!$B$1:$AC$6,5)))) -> 0.2 | D5: 0 | E5: =+C5*D5 -> 0 | F5: =+D5+E5 -> 0 | G5: Déclaration effectué le: | I5: 42839
A6: FEVRIER | B6: Belgique | C6: =IF($A$3="Services electroniques",HLOOKUP(B6,'TAUX UE'!$B$1:$AC$8,2,0),IF($A$3="Livres Electroniques (taux réduit)",HLOOKUP(B6,'TAUX UE'!$B$1:$AC$3,3),IF('CALCUL DECLARATION TVA MOSS'!A4:G4="Livres Electroniques (tx normal)",HLOOKUP(B6,'TAUX UE'!$A$1:$AC$4,4),HLOOKUP(B6,'TAUX UE'!$B$1:$AC$6,5)))) -> 0.21 | D6: 1305 | E6: =+C6*D6 -> 274.05 | F6: =+D6+E6 -> 1579.05 | G6: Paiement: | I6: 42844
A7: MARS | B7: Espagne | C7: =IF($A$3="Services electroniques",HLOOKUP(B7,'TAUX UE'!$B$1:$AC$8,2,0),IF($A$3="Livres Electroniques (taux réduit)",HLOOKUP(B7,'TAUX UE'!$B$1:$AC$3,3),IF('CALCUL DECLARATION TVA MOSS'!A5:G5="Livres Electroniques (tx normal)",HLOOKUP(B7,'TAUX UE'!$A$1:$AC$4,4),HLOOKUP(B7,'TAUX UE'!$B$1:$AC$6,5)))) -> 0.2 | D7: 3974.33 | E7: =+C7*D7 -> 794.866 | F7: =+D7+E7 -> 4769.196 | G7: DATE LIMITE | H7: 42845
B8: TOTAL | C8: TRIMESTRE 1 | D8: =SUM(D5:D7) -> 5279.33 | E8: =SUM(E5:E7) -> 1068.916
A10: MOIS | B10: PAYS | C10: TAUX | D10: MONTANT HT | E10: TVA | F10: TTC
A11: AVRIL | B11: Irlande | C11: =IF($A$3="Services electroniques",HLOOKUP(B11,'TAUX UE'!$B$1:$AC$8,2,0),IF($A$3="Livres Electroniques (taux réduit)",HLOOKUP(B11,'TAUX UE'!$B$1:$AC$3,3),IF('CALCUL DECLARATION TVA MOSS'!A9:G9="Livres Electroniques (tx normal)",HLOOKUP(B11,'TAUX UE'!$A$1:$AC$4,4),HLOOKUP(B11,'TAUX UE'!$B$1:$AC$6,5)))) -> 0.23 | D11: 0 | E11: =+C11*D11 -> 0 | F11: =+D11+E11 -> 0 | G11: Déclaration effectué le:
A12: MAI | B12: Allemagne | C12: =IF($A$3="Services electroniques",HLOOKUP(B12,'TAUX UE'!$B$1:$AC$8,2,0),IF($A$3="Livres Electroniques (taux réduit)",HLOOKUP(B12,'TAUX UE'!$B$1:$AC$3,3),IF('CALCUL DECLARATION TVA MOSS'!A10:G10="Livres Electroniques (tx normal)",HLOOKUP(B12,'TAUX UE'!$A$1:$AC$4,4),HLOOKUP(B12,'TAUX UE'!$B$1:$AC$6,5)))) -> #N/A | E12: =+C12*D12 -> #N/A | F12: =+D12+E12 -> #N/A | G12: Paiement:
A13: JUIN | B13: Grèce | C13: =IF($A$3="Services electroniques",HLOOKUP(B13,'TAUX UE'!$B$1:$AC$8,2,0),IF($A$3="Livres Electroniques (taux réduit)",HLOOKUP(B13,'TAUX UE'!$B$1:$AC$3,3),IF('CALCUL DECLARATION TVA MOSS'!A11:G11="Livres Electroniques (tx normal)",HLOOKUP(B13,'TAUX UE'!$A$1:$AC$4,4),HLOOKUP(B13,'TAUX UE'!$B$1:$AC$6,5)))) -> 0.2 | E13: =+C13*D13 -> 0 | F13: =+D13+E13 -> 0 | G13: DATE LIMITE | H13: 42936
B14: TOTAL | C14: TRIMESTRE 2 | D14: =SUM(D11:D13) -> 0 | E14: =SUM(E11:E13) -> #N/A
A16: MOIS | B16: PAYS | C16: TAUX | D16: MONTANT HT | E16: TVA | F16: TTC
A17: JUILLET | B17: Belgique | C17: =IF($A$3="Services electroniques",HLOOKUP(B17,'TAUX UE'!$B$1:$AC$8,2,0),IF($A$3="Livres Electroniques (taux réduit)",HLOOKUP(B17,'TAUX UE'!$B$1:$AC$3,3),IF('CALCUL DECLARATION TVA MOSS'!A15:G15="Livres Electroniques (tx normal)",HLOOKUP(B17,'TAUX UE'!$A$1:$AC$4,4),HLOOKUP(B17,'TAUX UE'!$B$1:$AC$6,5)))) -> 0.21 | G17: Déclaration effectué le:
A18: AOÛT | B18: Estonie | C18: =IF($A$3="Services electroniques",HLOOKUP(B18,'TAUX UE'!$B$1:$AC$8,2,0),IF($A$3="Livres Electroniques (taux réduit)",HLOOKUP(B18,'TAUX UE'!$B$1:$AC$3,3),IF('CALCUL DECLARATION TVA MOSS'!A16:G16="Livres Electroniques (tx normal)",HLOOKUP(B18,'TAUX UE'!$A$1:$AC$4,4),HLOOKUP(B18,'TAUX UE'!$B$1:$AC$6,5)))) -> 0.2 | G18: Paiement:
A19: SEPTEMBRE | B19: Belgique | C19: =IF($A$3="Services electroniques",HLOOKUP(B19,'TAUX UE'!$B$1:$AC$8,2,0),IF($A$3="Livres Electroniques (taux réduit)",HLOOKUP(B19,'TAUX UE'!$B$1:$AC$3,3),IF('CALCUL DECLARATION TVA MOSS'!A17:G17="Livres Electroniques (tx normal)",HLOOKUP(B19,'TAUX UE'!$A$1:$AC$4,4),HLOOKUP(B19,'TAUX UE'!$B$1:$AC$6,5)))) -> 0.21 | G19: DATE LIMITE | H19: 43028
B20: TOTAL | C20: TRIMESTRE 3 | D20: =SUM(D17:D19) -> 0 | E20: =SUM(E17:E19) -> 0
A22: MOIS | B22: PAYS | C22: TAUX | D22: MONTANT HT | E22: TVA | F22: TTC
A23: OCTOBRE | B23: Belgique | C23: =IF($A$3="Services electroniques",HLOOKUP(B23,'TAUX UE'!$B$1:$AC$8,2,0),IF($A$3="Livres Electroniques (taux réduit)",HLOOKUP(B23,'TAUX UE'!$B$1:$AC$3,3),IF('CALCUL DECLARATION TVA MOSS'!A21:G21="Livres Electroniques (tx normal)",HLOOKUP(B23,'TAUX UE'!$A$1:$AC$4,4),HLOOKUP(B23,'TAUX UE'!$B$1:$AC$6,5)))) -> 0.21 | G23: Déclaration effectué le:
A24: NOVEMBRE | B24: Belgique | C24: =IF($A$3="Services electroniques",HLOOKUP(B24,'TAUX UE'!$B$1:$AC$8,2,0),IF($A$3="Livres Electroniques (taux réduit)",HLOOKUP(B24,'TAUX UE'!$B$1:$AC$3,3),IF('CALCUL DECLARATION TVA MOSS'!A22:G22="Livres Electroniques (tx normal)",HLOOKUP(B24,'TAUX UE'!$A$1:$AC$4,4),HLOOKUP(B24,'TAUX UE'!$B$1:$AC$6,5)))) -> 0.21 | G24: Paiement:
A25: DÉCEMBRE | B25: Belgique | C25: =IF($A$3="Services electroniques",HLOOKUP(B25,'TAUX UE'!$B$1:$AC$8,2,0),IF($A$3="Livres Electroniques (taux réduit)",HLOOKUP(B25,'TAUX UE'!$B$1:$AC$3,3),IF('CALCUL DECLARATION TVA MOSS'!A23:G23="Livres Electroniques (tx normal)",HLOOKUP(B25,'TAUX UE'!$A$1:$AC$4,4),HLOOKUP(B25,'TAUX UE'!$B$1:$AC$6,5)))) -> 0.21 | G25: DATE LIMITE | H25: 42755
B26: TOTAL | C26: TRIMESTRE 4 | D26: =SUM(D23:D25) -> 0 | E26: =SUM(E23:E25) -> 0

Sheet TAUX UE
A1: Services | B1: Belgique | C1: Bulgarie | D1: République Tchèque | E1: Danemark | F1: Allemagne | G1: Estonie | H1: Irlande | I1: Grèce | J1: Espagne | K1: France | L1: Croatie | M1: Italie | N1: Chypre | O1: Lettonie | P1: Lituanie | Q1: Luxembourg | R1: Hongrie | S1: Malte | T1: Pays Bas | U1: Autriche | V1: Pologne | W1: Portugal | X1: Roumanie | Y1: Slovenie | Z1: Slovaquie | AA1: Finlande | AB1: Suède | AC1: Royaume Unis
A2: Services electroniques | B2: 0.21 | C2: 0.2 | D2: 0.21 | E2: 0.25 | F2: 0.19 | G2: 0.2 | H2: 0.23 | I2: 0.24 | J2: 0.21 | K2: 0.2 | L2: 0.25 | M2: 0.22 | N2: 0.19 | O2: 0.21 | P2: 0.21 | Q2: 0.17 | R2: 0.27 | S2: 0.18 | T2: 0.21 | U2: 0.2 | V2: 0.23 | W2: 0.23 | X2: 0.19 | Y2: 0.22 | Z2: 0.2 | AA2: 0.24 | AB2: 0.25 | AC2: 0.2
A3: Livres Electroniques (taux réduit) | B3: 0.21 | C3: 0.2 | D3: 0.21 | E3: 0.25 | F3: 0.19 | G3: 0.2 | H3: 0.23 | I3: 0.24 | J3: 0.21 | K3: 0.055 | L3: 0.25 | M3: 0.04 | N3: 0.19 | O3: 0.21 | P3: 0.21 | Q3: 0.17 | R3: 0.27 | S3: 0.18 | T3: 0.21 | U3: 0.2 | V3: 0.23 | W3: 0.23 | X3: 0.19 | Y3: 0.22 | Z3: 0.2 | AA3: 0.24 | AB3: 0.25 | AC3: 0.2
A4: Livres Electroniques (tx normal) | B4: 0.21 | C4: 0.2 | D4: 0.21 | E4: 0.25 | F4: 0.19 | G4: 0.2 | H4: 0.23 | I4: 0.24 | J4: 0.21 | K4: 0.2 | L4: 0.25 | M4: 0.22 | N4: 0.19 | O4: 0.21 | P4: 0.21 | Q4: 0.17 | R4: 0.27 | S4: 0.18 | T4: 0.21 | U4: 0.2 | V4: 0.23 | W4: 0.23 | X4: 0.19 | Y4: 0.22 | Z4: 0.2 | AA4: 0.24 | AB4: 0.25 | AC4: 0.2
A5: TV payante/cable | B5: 0.21 | C5: 0.2 | D5: 0 | E5: 0.25 | F5: 0.19 | G5: 0.2 | H5: 0.23 | I5: 0.24 | J5: 0.21 | K5: 0.1 | L5: 0.25 | M5: 0.22 | N5: 0.19 | O5: 0.21 | P5: 0.21 | Q5: 0.03 | R5: 0.27 | S5: 0.18 | T5: 0.21 | U5: 0.1 | V5: 0.08 | W5: 0.23 | X5: 0.19 | Y5: 0.22 | Z5: 0.2 | AA5: 0.24 | AB5: 0.25 | AC5: 0.2
I6: 0 | L6: 0 | Q6: 0.17 | V6: 0.23 | Z6: 0
A7: Licence TV | B7: 0 | C7: 0.2 | D7: 0.21 | E7: 0.25 | F7: 0 | G7: 0.2 | H7: 0 | I7: 0 | J7: 0.21 | K7: 0.21 | L7: 0 | M7: 0.04 | N7: 0.19 | O7: 0 | P7: 0.21 | Q7: 0 | R7: 0.27 | S7: 0 | T7: 0 | U7: 0.1 | V7: 0.23 | W7: 0.06 | X7: 0.19 | Y7: 0 | Z7: 0.2 | AA7: 0.1 | AB7: 0 | AC7: 0
D8: 0 | Z8: 0
