Workbook

Sheet Matrice
A1: Date A | B1: Date B | C1: Libellé | D1: Référence | E1: Date C | F1: Montant
B2: 45504 | C2: Toto 1 en chemise jaune | F2: -500
B3: 45493 | C3: trop de Dépense B achats | F3: -13.36
B4: 45495 | C4: Tata 1 | F4: 424.1
B5: 45495 | C5: Remise | F5: 1646.77
B6: 45489 | C6: Tata 2 | F6: 904.23
B7: 45485 | C7: Tata 9 | F7: 278.23
B8: 45484 | C8: Tata 11 | F8: 271
B9: 45484 | C9: Tata 11 | F9: 214.9
B10: 45483 | C10: Dépense B | F10: -79
B11: 45481 | C11: Toto 2 | F11: -711.84
B12: 45477 | C12: Tata 6 | F12: 240.29
B13: 45477 | C13: Tata 10 | F13: 200
... B21: 45474 | C21: Tata 5 | F21: 961.14

Sheet Crédit

Sheet Débit

Sheet Débit_Par_Mois
B1: DEPENSES 2023/2024
B2: Mois | C2: Dépense 1 | D2: Dépense 2 | E2: Dépense 3 | F2: Dépense 4 | G2: Dépense 5 | H2: Dépense 6 | I2: Dépense 7 | J2: Dépense 8 | K2: Dépense 9 | L2: Dépense 10 | M2: Dépenses par mois
A3: 2024 | B3: Octobre | C3: 89.85 | E3: 6630.63 | F3: 599.99 | G3: 202.9 | L3: 296.25 | M3: =SUM(C3:L3) -> 7819.62
B4: Novembre | C4: 12.5 | E4: 7142.46 | F4: 500 | L4: 50 | M4: =SUM(C4:L4) -> 7704.96
B5: Décembre | C5: 12.5 | F5: 535.48 | L5: 864.49 | M5: =SUM(C5:L5) -> 1412.47
A6: 2025 | B6: Janvier | C6: 13 | E6: 6949.06 | F6: 500 | G6: 57 | L6: 50 | M6: =SUM(C6:L6) -> 7569.06
B7: Février | C7: 26.37 | L7: 10 | M7: =SUM(C7:L7) -> 36.37
B8: Mars | C8: 13.36 | D8: 819.19 | E8: 10 | F8: 500 | G8: 43.92 | H8: 848 | J8: 243 | K8: 1718.84 | L8: 59.28 | M8: =SUM(C8:L8) -> 4255.59
B9: Avril | C9: 92.36 | E9: 7081.47 | F9: 525.8 | G9: 177.69 | K9: 718.06 | L9: 550 | M9: =SUM(C9:L9) -> 9145.38
B10: Mai | C10: 13.36 | K10: 259.9 | L10: 500 | M10: =SUM(C10:L10) -> 773.26
B11: Juin | C11: 13.36 | F11: 500 | G11: 138.29 | M11: =SUM(C11:L11) -> 651.65
B12: Juillet | C12: 92.36 | E12: 7171.84 | F12: 500 | L12: 95 | M12: =SUM(C12:L12) -> 7859.2
B13: Août | C13: 13.36 | F13: 500 | G13: 323.54 | L13: 100 | M13: =SUM(C13:L13) -> 936.9
B14: Septembre | C14: 13.36 | F14: 576.2 | K14: 117.8 | L14: 1008.3 | M14: =SUM(C14:L14) -> 1715.66
B15: Total par catégories | C15: =SUM(C3:C14) -> 405.74 | D15: =SUM(D3:D14) -> 819.19 | E15: =SUM(E3:E14) -> 34985.46 | F15: =SUM(F3:F14) -> 5237.47 | G15: =SUM(G3:G14) -> 943.34 | H15: =SUM(H3:H14) -> 848 | I15: =SUM(I3:I14) -> 0 | J15: =SUM(J3:J14) -> 243 | ... M15: =SUM(M3:M14) -> 49880.12
B16: Dépenses en % | C16: =C15/$M$15 -> 0.0081343028 | D16: =D15/$M$15 -> 0.016423176 | E16: =E15/$M$15 -> 0.70139085 | F16: =F15/$M$15 -> 0.10500115 | G16: =G15/$M$15 -> 0.018912144 | H16: =H15/$M$15 -> 0.017000761 | I16: =I15/$M$15 -> 0 | J16: =J15/$M$15 -> 0.0048716803 | ... L16: =L15/$M$15 -> 0.07183864
D17: Rappel 2018 | F17: Désherbage | I17: En attente

Sheet Frais_Individuel
A1: 2024/2025 | N1: Dépenses/an
D2: =[1]FRAIS_GENERAUX_2023_2024!C15 -> 405.74 | E2: =[1]FRAIS_GENERAUX_2023_2024!D15 -> 819.19 | F2: =[1]FRAIS_GENERAUX_2023_2024!E15 -> 34985.46 | G2: =[1]FRAIS_GENERAUX_2023_2024!F15 -> 5237.47 | H2: =[1]FRAIS_GENERAUX_2023_2024!G15 -> 943.34 | I2: =[1]FRAIS_GENERAUX_2023_2024!H15 -> 848 | J2: =[1]FRAIS_GENERAUX_2023_2024!I15 -> 0 | K2: =[1]FRAIS_GENERAUX_2023_2024!J15 -> 243 | ... N2: =[1]FRAIS_GENERAUX_2023_2024!M15 -> 49880.12
A5: Résidence | B5: NOM | C5: Part/Toto | D5: Dépense 1 | E5: Dépense 2 | F5: Dépense 3 | G5: Dépense 4 | H5: Dépense 5 | I5: Dépense 6 | J5: Dépense 7 | K5: Dépense 8 | L5: Dépense 9 | M5: Dépense 10 | N5: Dépenses/Toto/An
A6: =[2]Fichier_De_Référence_Résidence!A3 -> 1 | B6: Toto 1 | C6: 263 | D6: =D$2*$C6/$C$43 -> 10.670962 | E6: =E$2*$C6/$C$43 -> 21.544697 | F6: =F$2*$C6/$C$43 -> 920.1176 | G6: =G$2*$C6/$C$43 -> 137.74546 | H6: =H$2*$C6/$C$43 -> 24.809842 | I6: =I$2*$C6/$C$43 -> 22.3024 | J6: =J$2*$C6/$C$43 -> 0 | K6: =K$2*$C6/$C$43 -> 6.3909 | ... N6: =N$2*$C6/$C$43 -> 1311.8472
A7: =[2]Fichier_De_Référence_Résidence!A4 -> 3 | B7: Toto 2 | C7: 258 | D7: =D$2*$C7/$C$43 -> 10.468092 | E7: =E$2*$C7/$C$43 -> 21.135102 | F7: =F$2*$C7/$C$43 -> 902.62487 | G7: =G$2*$C7/$C$43 -> 135.12673 | H7: =H$2*$C7/$C$43 -> 24.338172 | I7: =I$2*$C7/$C$43 -> 21.8784 | J7: =J$2*$C7/$C$43 -> 0 | K7: =K$2*$C7/$C$43 -> 6.2694 | ... N7: =N$2*$C7/$C$43 -> 1286.9071
A8: =[2]Fichier_De_Référence_Résidence!A5 -> 4 | B8: Toto 3 | C8: 263 | D8: =D$2*$C8/$C$43 -> 10.670962 | E8: =E$2*$C8/$C$43 -> 21.544697 | F8: =F$2*$C8/$C$43 -> 920.1176 | G8: =G$2*$C8/$C$43 -> 137.74546 | H8: =H$2*$C8/$C$43 -> 24.809842 | I8: =I$2*$C8/$C$43 -> 22.3024 | J8: =J$2*$C8/$C$43 -> 0 | K8: =K$2*$C8/$C$43 -> 6.3909 | ... N8: =N$2*$C8/$C$43 -> 1311.8472
A9: =[2]Fichier_De_Référence_Résidence!A6 -> 5 | B9: Toto 4 | C9: 299 | D9: =D$2*$C9/$C$43 -> 12.131626 | E9: =E$2*$C9/$C$43 -> 24.493781 | F9: =F$2*$C9/$C$43 -> 1046.0653 | G9: =G$2*$C9/$C$43 -> 156.60035 | H9: =H$2*$C9/$C$43 -> 28.205866 | I9: =I$2*$C9/$C$43 -> 25.3552 | J9: =J$2*$C9/$C$43 -> 0 | K9: =K$2*$C9/$C$43 -> 7.2657 | ... N9: =N$2*$C9/$C$43 -> 1491.4156
A10: =[2]Fichier_De_Référence_Résidence!A7 -> 7 | B10: Toto 5 | C10: 266 | D10: =D$2*$C10/$C$43 -> 10.792684 | E10: =E$2*$C10/$C$43 -> 21.790454 | F10: =F$2*$C10/$C$43 -> 930.61324 | G10: =G$2*$C10/$C$43 -> 139.3167 | H10: =H$2*$C10/$C$43 -> 25.092844 | I10: =I$2*$C10/$C$43 -> 22.5568 | J10: =J$2*$C10/$C$43 -> 0 | K10: =K$2*$C10/$C$43 -> 6.4638 | ... N10: =N$2*$C10/$C$43 -> 1326.8112
A11: =[2]Fichier_De_Référence_Résidence!A8 -> 8 | B11: Toto 6 | C11: 263 | D11: =D$2*$C11/$C$43 -> 10.670962 | E11: =E$2*$C11/$C$43 -> 21.544697 | F11: =F$2*$C11/$C$43 -> 920.1176 | G11: =G$2*$C11/$C$43 -> 137.74546 | H11: =H$2*$C11/$C$43 -> 24.809842 | I11: =I$2*$C11/$C$43 -> 22.3024 | J11: =J$2*$C11/$C$43 -> 0 | K11: =K$2*$C11/$C$43 -> 6.3909 | ... N11: =N$2*$C11/$C$43 -> 1311.8472
A12: =[2]Fichier_De_Référence_Résidence!A9 -> 9 | B12: Toto 7 | C12: 266 | D12: =D$2*$C12/$C$43 -> 10.792684 | E12: =E$2*$C12/$C$43 -> 21.790454 | F12: =F$2*$C12/$C$43 -> 930.61324 | G12: =G$2*$C12/$C$43 -> 139.3167 | H12: =H$2*$C12/$C$43 -> 25.092844 | I12: =I$2*$C12/$C$43 -> 22.5568 | J12: =J$2*$C12/$C$43 -> 0 | K12: =K$2*$C12/$C$43 -> 6.4638 | ... N12: =N$2*$C12/$C$43 -> 1326.8112
A13: =[2]Fichier_De_Référence_Résidence!A10 -> 10 | B13: Toto 8 | C13: 267 | D13: =D$2*$C13/$C$43 -> 10.833258 | E13: =E$2*$C13/$C$43 -> 21.872373 | F13: =F$2*$C13/$C$43 -> 934.11178 | G13: =G$2*$C13/$C$43 -> 139.84045 | H13: =H$2*$C13/$C$43 -> 25.187178 | I13: =I$2*$C13/$C$43 -> 22.6416 | J13: =J$2*$C13/$C$43 -> 0 | K13: =K$2*$C13/$C$43 -> 6.4881 | ... N13: =N$2*$C13/$C$43 -> 1331.7992
A14: =[2]Fichier_De_Référence_Résidence!A11 -> 11 | B14: Toto 9 | C14: 267 | D14: =D$2*$C14/$C$43 -> 10.833258 | E14: =E$2*$C14/$C$43 -> 21.872373 | F14: =F$2*$C14/$C$43 -> 934.11178 | G14: =G$2*$C14/$C$43 -> 139.84045 | H14: =H$2*$C14/$C$43 -> 25.187178 | I14: =I$2*$C14/$C$43 -> 22.6416 | J14: =J$2*$C14/$C$43 -> 0 | K14: =K$2*$C14/$C$43 -> 6.4881 | ... N14: =N$2*$C14/$C$43 -> 1331.7992
A15: =[2]Fichier_De_Référence_Résidence!A12 -> 12 | B15: Toto 10 | C15: 267 | D15: =D$2*$C15/$C$43 -> 10.833258 | E15: =E$2*$C15/$C$43 -> 21.872373 | F15: =F$2*$C15/$C$43 -> 934.11178 | G15: =G$2*$C15/$C$43 -> 139.84045 | H15: =H$2*$C15/$C$43 -> 25.187178 | I15: =I$2*$C15/$C$43 -> 22.6416 | J15: =J$2*$C15/$C$43 -> 0 | K15: =K$2*$C15/$C$43 -> 6.4881 | ... N15: =N$2*$C15/$C$43 -> 1331.7992
A16: =[2]Fichier_De_Référence_Résidence!A13 -> 13 | B16: Toto 11 | C16: 266 | D16: =D$2*$C16/$C$43 -> 10.792684 | E16: =E$2*$C16/$C$43 -> 21.790454 | F16: =F$2*$C16/$C$43 -> 930.61324 | G16: =G$2*$C16/$C$43 -> 139.3167 | H16: =H$2*$C16/$C$43 -> 25.092844 | I16: =I$2*$C16/$C$43 -> 22.5568 | J16: =J$2*$C16/$C$43 -> 0 | K16: =K$2*$C16/$C$43 -> 6.4638 | ... N16: =N$2*$C16/$C$43 -> 1326.8112
A17: =[2]Fichier_De_Référence_Résidence!A14 -> 14 | B17: Toto 12 | C17: 267 | D17: =D$2*$C17/$C$43 -> 10.833258 | E17: =E$2*$C17/$C$43 -> 21.872373 | F17: =F$2*$C17/$C$43 -> 934.11178 | G17: =G$2*$C17/$C$43 -> 139.84045 | H17: =H$2*$C17/$C$43 -> 25.187178 | I17: =I$2*$C17/$C$43 -> 22.6416 | J17: =J$2*$C17/$C$43 -> 0 | K17: =K$2*$C17/$C$43 -> 6.4881 | ... N17: =N$2*$C17/$C$43 -> 1331.7992
... A41: =[2]Fichier_De_Référence_Résidence!A38 -> 42 | B41: Toto 36 | C41: 308 | D41: =D$2*$C41/$C$43 -> 12.496792 | E41: =E$2*$C41/$C$43 -> 25.231052 | F41: =F$2*$C41/$C$43 -> 1077.5522 | G41: =G$2*$C41/$C$43 -> 161.31408 | H41: =H$2*$C41/$C$43 -> 29.054872 | I41: =I$2*$C41/$C$43 -> 26.1184 | J41: =J$2*$C41/$C$43 -> 0 | K41: =K$2*$C41/$C$43 -> 7.4844 | ... N41: =N$2*$C41/$C$43 -> 1536.3077
B42: Toto 37 | C42: 37 | D42: =D$2*$C42/$C$43 -> 1.501238 | E42: =E$2*$C42/$C$43 -> 3.031003 | F42: =F$2*$C42/$C$43 -> 129.4462 | G42: =G$2*$C42/$C$43 -> 19.378639 | H42: =H$2*$C42/$C$43 -> 3.490358 | I42: =I$2*$C42/$C$43 -> 3.1376 | J42: =J$2*$C42/$C$43 -> 0 | K42: =K$2*$C42/$C$43 -> 0.8991 | ... N42: =N$2*$C42/$C$43 -> 184.55644
B43: Total | C43: =SUM(C6:C42) -> 10000 | D43: =SUM(D6:D42) -> 405.74 | E43: =SUM(E6:E42) -> 819.19 | F43: =SUM(F6:F42) -> 34985.46 | G43: =SUM(G6:G42) -> 5237.47 | H43: =SUM(H6:H42) -> 943.34 | I43: =SUM(I6:I42) -> 848 | J43: =SUM(J6:J42) -> 0 | ... N43: =SUM(N6:N42) -> 49880.12 | X43: =SUM(#REF!) -> #REF!
