Workbook

Sheet Présentation
A1: Calcul des coûts et remboursement réels pour les parents
A3: Si votre enfant né ou adopté à partir du 1er avril 2014 | G3: Lundi | H3: Mardi | I3: Mercredi | J3: Jeudi | K3: Vendredi
F4: Tranche 1 | H4: OUI | I4: OUI | J4: OUI | K4: OUI
A5: Q1: Elevez-vous seul(e) votre enfant? | E5: non | F5: Tranche 2
F6: Tranche 3
A7: Q2: Combien d'enfant avez-vous à charge? | E7: 1
A9: Q3: Dans quelle tranche de revenus vous trouvez-vous? | E9: 2
B11: Tranche 1 | C11: Tranche 2 | D11: Tranche 3
B12: Inférieurs à | C12: Ne dépassant pas | D12: Supérieurs à
B13: =Calculs!B7 -> 20509 | C13: =Calculs!C7 -> 45575 | D13: =Calculs!D7 -> 45575
A15: Q4: Combien de jours par semaine votre enfant passera chez BeeBaby? | E15: 5
A17: Q5: Combien d'heure par semaine votre enfant passera chez BeeBaby? | E17: 23
A19: Le coût horaire de garde sera de | E19: =Calculs!E15 -> 7.75
A20: Le coût hebdomadaire de garde sera de | E20: =Calculs!B18 -> 178.25
A21: Le coût mensuel de garde sera de | E21: =IF(E9=3,Calculs!G18,IF(E9=2,IF(E17<=25,Calculs!D18,Calculs!E18),IF(OR(E17<25,E17>35),Calculs!D18,Calculs!E18))) -> 648.27712
A23: Le montant maximum remboursé par la CAF est de | E23: =Calculs!E22 -> 727.29
A24: Le remboursement réel de la CAF sera de | E24: =Calculs!F22 -> 592.51135
A26: Le coût réel mensuel de la garde BeeBaby sera de | E26: =Calculs!G22 -> 104.56083
A27: Le coût réel horaire estimé de la garde après déduction d'impôts sera de | E27: =Calculs!K22 -> 0.52495645

Sheet Calculs
A2: CMG si enfant né ou adopté à partir du 1er avril 2014
A3: Elève seul(e) ses enfants
A4: =Présentation!E5 -> non
B5: Revenus
A6: Enfants à charge | B6: Inférieurs à | C6: Ne dépassant pas | D6: Supérieurs à
A7: =Présentation!E7 -> 1 | B7: =IF($A$4="OUI",IF($A$7="","",(Données!B12+$A$7*Données!B13)*1.4),IF($A$7="","",Données!B12+$A$7*Données!B13)) -> 20509 | C7: =IF($A$4="OUI",IF($A$7="","",(Données!C12+$A$7*Données!C13)*1.4),IF($A$7="","",Données!C12+$A$7*Données!C13)) -> 45575 | D7: =IF($A$4="OUI",IF($A$7="","",(Données!D12+$A$7*Données!D13)*1.4),IF($A$7="","",Données!D12+$A$7*Données!D13)) -> 45575
B8: Tranche 1 | C8: Tranche 2 | D8: Tranche 3
A10: Tranche de revenus
A11: =Présentation!E9 -> 2
A13: Nombre de journée de garde | B13: =Présentation!E15 -> 5
A14: tranche | B14: 1 | C14: 2 | D14: 3 | E14: pour les parents présents
A15: Coût horaire | B15: =VLOOKUP($B$13,Données!$A$4:$D$8,2) -> 7.5 | C15: =VLOOKUP($B$13,Données!$A$4:$D$8,3) -> 7.75 | D15: =VLOOKUP($B$13,Données!$A$4:$D$8,4) -> 8 | E15: =HLOOKUP(A11,B14:D15,2) -> 7.75
A17: Nb d'heure de garde/sem | B17: Coût sem | C17: Coût Annuel | D17: Coût Mensuel Tranche 1 | E17: Coût Mensuel Tranche 2 | F17: Coût Mensuel Tranche 2 bis | G17: Coût Mensuel Tanche 3
A18: =Présentation!E17 -> 23 | B18: =A18*E15 -> 178.25 | C18: =(B18*4.33)*((47*12)/52) -> 8371.3056 | D18: =IF(A11>=1,E18*0.93,E18) -> 648.27712 | E18: =(C18/52)*4.33 -> 697.07218 | F18: =IF(A11>=1,E18*0.85,E18) -> 592.51135 | G18: =IF(A11<=3,E18*0.99,E18) -> 690.10145
A20: Remboursement CAF
A21: tranche | B21: 1 | C21: 2 | D21: 3 | E21: max pour les parents | F21: remboursement reel | G21: coût réel | H21: coût réel annuel | I21: rembousement max d'impôts | J21: coût réel annuel apres déduction d'impôts | K21: coût réel horaire approximatif de la garde après déduction d'impôts
A22: montant max | B22: 843.69 | C22: 727.29 | D22: 610.93 | E22: =HLOOKUP(A11,B21:D22,2) -> 727.29 | F22: =IF(E18*0.85>E22,E22,E18*0.85) -> 592.51135 | G22: =E18-F22 -> 104.56083 | H22: =G22*12 -> 1254.7299 | I22: 1150 | J22: =IF(H22<I22*2, H22/2, H22-I22) -> 627.36496 | K22: =(J22/12)/(Présentation!E17*4.33) -> 0.52495645

Sheet Données
B1: Tranche revenu 1 | C1: Tranche revenu 2 | D1: Tranche revenu 3
B2: 0.3 | C2: 0.5 | D2: 0.2
A3: Nb de jours réservés/sem | B3: Montant horaire | C3: Montant horaire | D3: Montant horaire
A4: 1 | B4: 9.5 | C4: 9.75 | D4: 10
A5: 2 | B5: 9 | C5: 9.25 | D5: 9.5
A6: 3 | B6: 8.5 | C6: 8.75 | D6: 9
A7: 4 | B7: 8 | C7: 8.25 | D7: 8.5
A8: 5 | B8: 7.5 | C8: 7.75 | D8: 8
A10: plafonds de revenus
A11: Enfants à charge | B11: Inférieurs à | C11: Ne dépassant pas | D11: Supérieurs à
A12: 0 enfants | B12: 17598 | C12: 39106 | D12: 39106
A13: par enfant supplémentaires | B13: 2911 | C13: 6469 | D13: 6469

Sheet Matrice
A1: Volume horaire | B1: 0 à 15 | C1: 15 à 25 | D1: 25 à 35 | E1: plus de 35
A2: Tranche 1 | B2: =Calculs!E18 -> 697.07218 | C2: =Calculs!D18 -> 648.27712 | D2: =Calculs!E18 -> 697.07218 | E2: =Calculs!D18 -> 648.27712
A3: Tranche 2 | B3: =Calculs!F18 -> 592.51135 | C3: =Calculs!G18 -> 690.10145 | D3: =Calculs!E18 -> 697.07218 | E3: =Calculs!E18 -> 697.07218
A4: Tranche 3 | B4: =Calculs!E18 -> 697.07218 | C4: =Calculs!G18 -> 690.10145 | D4: =Calculs!G18 -> 690.10145 | E4: =Calculs!G18 -> 690.10145
