Workbook
Name Liste_a_Facturer: OFFSET([1]Clients!$B$4,,,COUNTA([1]Clients!$B:$B)-2)

Sheet Septembre 2023
A1: Nombre d'enfant | B1: NOM et PRENOM | C1: Total Dû Mois Août | D1: Paiement | E1: Date | F1: Paiement obtenus | G1: Paiement en attente | H1: Total prélèvements | I1: Paiement cumulé / famille | J1: Restant dû / famille | K1: Commentaires
F4: =SUMIF($D$5:$D$29,"OUI",$C$5:$C$28) -> 10305.93 | G4: =SUMIF($D$5:$D$29,"NON",$C$5:$C$29) -> 10305.93 | H4: =SUM(C5+C6+C7+C8+C9+C10+C12+C15+C16) -> 6550.78
A5: 1 | B5: A | C5: 453.17 | D5: OUI | E5: 45216 | G5: =SUMIF(D5,"NON",C5) -> 0 | I5: =SUM('Septembre 2023'!C5) -> 453.17 | J5: =SUM('Septembre 2023'!G5) -> 0
A6: 2 | B6: B | C6: 1017.53 | D6: OUI | E6: 45216 | G6: =SUMIF(D6,"NON",C6) -> 0 | I6: =SUM('Septembre 2023'!C6) -> 1017.53 | J6: =SUM('Septembre 2023'!G6) -> 0
A7: 3 | B7: C | C7: 554.8 | D7: OUI | E7: 45216 | G7: =SUMIF(D7,"NON",C7) -> 0 | I7: =SUM('Septembre 2023'!C7) -> 554.8 | J7: =SUM('Septembre 2023'!G7) -> 0
A8: 4 | B8: D | C8: 730 | D8: OUI | E8: 45216 | G8: =SUMIF(D8,"NON",C8) -> 0 | I8: =SUM('Septembre 2023'!C8) -> 730 | J8: =SUM('Septembre 2023'!G8) -> 0
A9: 5 | B9: E | C9: 722 | D9: OUI | E9: 45216 | G9: =SUMIF(D9,"NON",C9) -> 0 | I9: =SUM('Septembre 2023'!C9) -> 722 | J9: =SUM('Septembre 2023'!G9) -> 0
A10: 6 | B10: F | C10: 520.4 | D10: OUI | E10: 45216 | G10: =SUMIF(D10,"NON",C10) -> 0 | I10: =SUM('Septembre 2023'!C10) -> 520.4 | J10: =SUM('Septembre 2023'!G10) -> 0
A11: 7 | B11: G | C11: 963.79 | D11: OUI | E11: 45208 | G11: =SUMIF(D11,"NON",C11) -> 0 | I11: =SUM('Septembre 2023'!C11) -> 963.79 | J11: =SUM('Septembre 2023'!G11) -> 0 | K11: Virement de 3000€ le 9/10 et 65,15 le 10/10 en complément
A12: 8 | B12: H | C12: 738.97 | D12: OUI | E12: 45216 | G12: =SUMIF(D12,"NON",C12) -> 0 | I12: =SUM('Septembre 2023'!C12) -> 738.97 | J12: =SUM('Septembre 2023'!G12) -> 0
A13: 9 | B13: I | C13: 790 | D13: OUI | E13: 45216 | G13: =SUMIF(D13,"NON",C13) -> 0 | I13: =SUM('Septembre 2023'!C13) -> 790 | J13: =SUM('Septembre 2023'!G13) -> 0
A14: 10 | B14: J | C14: 1000.68 | D14: OUI | E14: 45208 | G14: =SUMIF(D14,"NON",C14) -> 0 | I14: =SUM('Septembre 2023'!C14) -> 1000.68 | J14: =SUM('Septembre 2023'!G14) -> 0
A15: 11 | B15: K | C15: 654.61 | D15: OUI | E15: 45216 | G15: =SUMIF(D15,"NON",C15) -> 0 | I15: =SUM('Septembre 2023'!C15) -> 654.61 | J15: =SUM('Septembre 2023'!G15) -> 0
A16: 12 | B16: L | C16: 1159.3 | D16: OUI | E16: 45216 | G16: =SUMIF(D16,"NON",C16) -> 0 | I16: =SUM('Septembre 2023'!C16) -> 1159.3 | J16: =SUM('Septembre 2023'!G16) -> 0
A17: 13 | B17: M | C17: 1000.68 | D17: OUI | E17: 45208 | G17: =SUMIF(D17,"NON",C17) -> 0 | I17: =SUM('Septembre 2023'!C17) -> 1000.68 | J17: =SUM('Septembre 2023'!G17) -> 0
A18: 14 | D18: NON | G18: =SUMIF(D18,"NON",C18) -> 0 | I18: =SUM('Septembre 2023'!C18) -> 0 | J18: =SUM('Septembre 2023'!G18) -> 0
A19: 15 | D19: NON | G19: =SUMIF(D19,"NON",C19) -> 0 | I19: =SUM('Septembre 2023'!C19) -> 0 | J19: =SUM('Septembre 2023'!G19) -> 0
A20: 16 | D20: NON | G20: =SUMIF(D20,"NON",C20) -> 0 | I20: =SUM('Septembre 2023'!C20) -> 0 | J20: =SUM('Septembre 2023'!G20) -> 0
A21: 17 | D21: NON
A22: 18 | C22: 0 | D22: NON
A23: 19 | C23: 0 | D23: NON
A24: 20 | C24: 0 | D24: NON
A25: 21 | C25: 0 | D25: NON
A26: 22 | C26: 0 | D26: NON
A27: 23 | C27: 0 | D27: NON
A28: 24 | C28: 0 | D28: NON
A29: 25 | C29: =SUM(C5:C28) -> 10305.93 | D29: NON
I30: =SUM(I5:I29) -> 10305.93 | J30: =SUM(J5:J29) -> 0

Sheet Octobre 2023
A1: Nombre d'enfant | B1: NOM et PRENOM | C1: Total Dû Mois Août | D1: Paiement | E1: Date | F1: Paiement obtenus | G1: Paiement en attente | H1: Total prélèvements | I1: Paiement cumulé / famille | J1: Restant dû / famille | K1: Commentaires
F4: =SUMIF($D$5:$D$29,"OUI",$C$5:$C$28) -> 14537.45 | G4: =SUMIF($D$5:$D$29,"NON",$C$5:$C$29) -> 14537.45 | H4: =SUM(C5+C6+C7+C8+C9+C10+C12+C15+C16) -> 9506.08
A5: 1 | B5: A | C5: 1045.74 | D5: OUI | E5: 45244 | G5: =SUMIF(D5,"NON",C5) -> 0 | I5: =SUM('Septembre 2023:Octobre 2023'!C5) -> 1498.91 | J5: =SUM('Septembre 2023:Octobre 2023'!G5) -> 0
A6: 2 | B6: B | C6: 1017.53 | D6: OUI | E6: 45244 | G6: =SUMIF(D6,"NON",C6) -> 0 | I6: =SUM('Septembre 2023:Octobre 2023'!C6) -> 2035.06 | J6: =SUM('Septembre 2023:Octobre 2023'!G6) -> 0
A7: 3 | B7: C | C7: 904.8 | D7: OUI | E7: 45244 | G7: =SUMIF(D7,"NON",C7) -> 0 | I7: =SUM('Septembre 2023:Octobre 2023'!C7) -> 1459.6 | J7: =SUM('Septembre 2023:Octobre 2023'!G7) -> 0
A8: 4 | B8: D | C8: 1080 | D8: OUI | E8: 45244 | G8: =SUMIF(D8,"NON",C8) -> 0 | I8: =SUM('Septembre 2023:Octobre 2023'!C8) -> 1810 | J8: =SUM('Septembre 2023:Octobre 2023'!G8) -> 0
A9: 5 | B9: E | C9: 988.8 | D9: OUI | E9: 45259 | G9: =SUMIF(D9,"NON",C9) -> 0 | I9: =SUM('Septembre 2023:Octobre 2023'!C9) -> 1710.8 | J9: =SUM('Septembre 2023:Octobre 2023'!G9) -> 0
A10: 6 | B10: F | C10: 961.6 | D10: OUI | E10: 45244 | G10: =SUMIF(D10,"NON",C10) -> 0 | I10: =SUM('Septembre 2023:Octobre 2023'!C10) -> 1482 | J10: =SUM('Septembre 2023:Octobre 2023'!G10) -> 0 | K10: Attention prélèvement rejetté le 16/11/23 vu avec la famille paiement fin novembre
A11: 7 | B11: G | C11: 1413.79 | D11: OUI | E11: 45244 | G11: =SUMIF(D11,"NON",C11) -> 0 | I11: =SUM('Septembre 2023:Octobre 2023'!C11) -> 2377.58 | J11: =SUM('Septembre 2023:Octobre 2023'!G11) -> 0 | K11: virement de 3000€ le 14/11/23 et 1241,37 le 14/11/23
A12: 8 | B12: H | C12: 1088.97 | D12: OUI | E12: 45244 | G12: =SUMIF(D12,"NON",C12) -> 0 | I12: =SUM('Septembre 2023:Octobre 2023'!C12) -> 1827.94 | J12: =SUM('Septembre 2023:Octobre 2023'!G12) -> 0
A13: 9 | B13: I | C13: 790 | D13: OUI | E13: 45253 | G13: =SUMIF(D13,"NON",C13) -> 0 | I13: =SUM('Septembre 2023:Octobre 2023'!C13) -> 1580 | J13: =SUM('Septembre 2023:Octobre 2023'!G13) -> 0
A14: 10 | B14: J | C14: 1413.79 | D14: OUI | E14: 45244 | G14: =SUMIF(D14,"NON",C14) -> 0 | I14: =SUM('Septembre 2023:Octobre 2023'!C14) -> 2414.47 | J14: =SUM('Septembre 2023:Octobre 2023'!G14) -> 0
A15: 11 | B15: K | C15: 909.34 | D15: OUI | E15: 45244 | G15: =SUMIF(D15,"NON",C15) -> 0 | I15: =SUM('Septembre 2023:Octobre 2023'!C15) -> 1563.95 | J15: =SUM('Septembre 2023:Octobre 2023'!G15) -> 0
A16: 12 | B16: L | C16: 1509.3 | D16: OUI | E16: 45244 | G16: =SUMIF(D16,"NON",C16) -> 0 | I16: =SUM('Septembre 2023:Octobre 2023'!C16) -> 2668.6 | J16: =SUM('Septembre 2023:Octobre 2023'!G16) -> 0
A17: 13 | B17: M | C17: 1413.79 | D17: OUI | E17: 45244 | G17: =SUMIF(D17,"NON",C17) -> 0 | I17: =SUM('Septembre 2023:Octobre 2023'!C17) -> 2414.47 | J17: =SUM('Septembre 2023:Octobre 2023'!G17) -> 0
A18: 14 | D18: NON | G18: =SUMIF(D18,"NON",C18) -> 0 | I18: =SUM('Septembre 2023:Octobre 2023'!C18) -> 0 | J18: =SUM('Septembre 2023:Octobre 2023'!G18) -> 0
A19: 15 | D19: NON | G19: =SUMIF(D19,"NON",C19) -> 0 | I19: =SUM('Septembre 2023:Octobre 2023'!C19) -> 0 | J19: =SUM('Septembre 2023:Octobre 2023'!G19) -> 0
A20: 16 | D20: NON | G20: =SUMIF(D20,"NON",C20) -> 0 | I20: =SUM('Septembre 2023:Octobre 2023'!C20) -> 0 | J20: =SUM('Septembre 2023:Octobre 2023'!G20) -> 0
A21: 17 | D21: NON
A22: 18 | C22: 0 | D22: NON
A23: 19 | C23: 0 | D23: NON
A24: 20 | C24: 0 | D24: NON
A25: 21 | C25: 0 | D25: NON
A26: 22 | C26: 0 | D26: NON
A27: 23 | C27: 0 | D27: NON
A28: 24 | C28: 0 | D28: NON
A29: 25 | C29: =SUM(C5:C28) -> 14537.45 | D29: NON
I30: =SUM(I5:I29) -> 24843.38 | J30: =SUM(J5:J29) -> 0

Sheet Novembre 2023
A1: Nombre d'enfant | B1: NOM et PRENOM | C1: Total Dû Mois Août | D1: Paiement | E1: Date | F1: Paiement obtenus | G1: Paiement en attente | H1: Total prélèvements | I1: Paiement cumulé / famille | J1: Restant dû / famille | K1: Commentaires
F4: =SUMIF($D$5:$D$29,"OUI",$C$5:$C$28) -> 15248.92 | G4: =SUMIF($D$5:$D$29,"NON",$C$5:$C$29) -> 15248.92 | H4: =SUM(C5+C6+C8+C9+C10+C11+C13+C16+C17) -> 9426.83
A5: 1 | B5: A | C5: 1060.74 | D5: OUI | E5: 45274 | G5: =SUMIF(D5,"NON",C5) -> 0
A6: 2 | B6: B | C6: 1017.53 | D6: OUI | E6: 45274 | G6: =SUMIF(D6,"NON",C6) -> 0
A7: 3 | B7: N | C7: 771.87 | D7: OUI | E7: 45278 | G7: =SUMIF(D7,"NON",C7) -> 0 | K7: ATTENTION a viré 772
A8: 4 | B8: C | C8: 914.8 | D8: OUI | E8: 45274 | G8: =SUMIF(D8,"NON",C8) -> 0
A9: 5 | B9: D | C9: 1080 | D9: OUI | E9: 45274 | G9: =SUMIF(D9,"NON",C9) -> 0
A10: 6 | B10: E | C10: 972 | D10: OUI | E10: 45274 | G10: =SUMIF(D10,"NON",C10) -> 0
A11: 7 | B11: F | C11: 874.15 | D11: OUI | E11: 45274 | G11: =SUMIF(D11,"NON",C11) -> 0 | K11: Virement de 3000 le 12/12/23 + 1252,62 le 13/12/23
A12: 8 | B12: G | C12: 1417.54 | D12: OUI | E12: 45272 | G12: =SUMIF(D12,"NON",C12) -> 0
A13: 9 | B13: H | C13: 1088.97 | D13: OUI | E13: 45274 | G13: =SUMIF(D13,"NON",C13) -> 0
A14: 10 | B14: I | C14: 797.6 | D14: OUI | E14: 45268 | G14: =SUMIF(D14,"NON",C14) -> 0
A15: 11 | B15: J | C15: 1417.54 | D15: OUI | E15: 45272 | G15: =SUMIF(D15,"NON",C15) -> 0
A16: 12 | B16: K | C16: 909.34 | D16: OUI | E16: 45274 | G16: =SUMIF(D16,"NON",C16) -> 0
A17: 13 | B17: L | C17: 1509.3 | D17: OUI | E17: 45274 | G17: =SUMIF(D17,"NON",C17) -> 0
A18: 14 | B18: M | C18: 1417.54 | D18: OUI | E18: 45272 | G18: =SUMIF(D18,"NON",C18) -> 0
A19: 15 | D19: NON | G19: =SUMIF(D19,"NON",C19) -> 0
A20: 16 | D20: NON | G20: =SUMIF(D20,"NON",C20) -> 0
A21: 17 | D21: NON
A22: 18 | C22: 0 | D22: NON
A23: 19 | C23: 0 | D23: NON
A24: 20 | C24: 0 | D24: NON
A25: 21 | C25: 0 | D25: NON
A26: 22 | C26: 0 | D26: NON
A27: 23 | C27: 0 | D27: NON
A28: 24 | C28: 0 | D28: NON
A29: 25 | C29: =SUM(C5:C28) -> 15248.92 | D29: NON
I30: =SUM(I5:I29) -> 0 | J30: =SUM(J5:J29) -> 0

Sheet Décembre 2023
A1: Nombre d'enfant | B1: NOM et PRENOM | C1: Total Dû Mois Août | D1: Paiement | E1: Date | F1: Paiement obtenus | G1: Paiement en attente | H1: Total prélèvements | I1: Paiement cumulé / famille | J1: Restant dû / famille | K1: Commentaires
F4: =SUMIF($D$5:$D$29,"OUI",$C$5:$C$28) -> 15737.69 | G4: =SUMIF($D$5:$D$29,"NON",$C$5:$C$29) -> 15737.69 | H4: =SUM(C5+C6+C8+C9+C10+C11+C13+C16+C17) -> 9404.48
A5: 1 | B5: A | C5: 1045.74 | D5: OUI | E5: 45306 | G5: =SUMIF(D5,"NON",C5) -> 0
A6: 2 | B6: B | C6: 1017.53 | D6: OUI | E6: 45306 | G6: =SUMIF(D6,"NON",C6) -> 0
A7: 3 | B7: N | C7: 1286.74 | D7: OUI | E7: 45302 | G7: =SUMIF(D7,"NON",C7) -> 0
A8: 4 | B8: C | C8: 891.2 | D8: OUI | E8: 45306 | G8: =SUMIF(D8,"NON",C8) -> 0
A9: 5 | B9: D | C9: 1080 | D9: OUI | E9: 45306 | G9: =SUMIF(D9,"NON",C9) -> 0
A10: 6 | B10: E | C10: 972 | D10: OUI | E10: 45306 | G10: =SUMIF(D10,"NON",C10) -> 0
A11: 7 | B11: F | C11: 870.4 | D11: OUI | E11: 45306 | G11: =SUMIF(D11,"NON",C11) -> 0 | K11: 3000+1248,87
A12: 8 | B12: G | C12: 1413.79 | D12: OUI | E12: 45306 | G12: =SUMIF(D12,"NON",C12) -> 0
A13: 9 | B13: H | C13: 1108.97 | D13: OUI | E13: 45306 | G13: =SUMIF(D13,"NON",C13) -> 0
A14: 10 | B14: I | C14: 797.6 | D14: OUI | E14: 45302 | G14: =SUMIF(D14,"NON",C14) -> 0
A15: 11 | B15: J | C15: 1417.54 | D15: OUI | E15: 45306 | G15: =SUMIF(D15,"NON",C15) -> 0
A16: 12 | B16: K | C16: 909.34 | D16: OUI | E16: 45306 | G16: =SUMIF(D16,"NON",C16) -> 0
A17: 13 | B17: L | C17: 1509.3 | D17: OUI | E17: 45306 | G17: =SUMIF(D17,"NON",C17) -> 0
A18: 14 | B18: M | C18: 1417.54 | D18: OUI | E18: 45306 | G18: =SUMIF(D18,"NON",C18) -> 0
A19: 15 | D19: NON | G19: =SUMIF(D19,"NON",C19) -> 0
A20: 16 | D20: NON | G20: =SUMIF(D20,"NON",C20) -> 0
A21: 17 | D21: NON
A22: 18 | C22: 0 | D22: NON
A23: 19 | C23: 0 | D23: NON
A24: 20 | C24: 0 | D24: NON
A25: 21 | C25: 0 | D25: NON
A26: 22 | C26: 0 | D26: NON
A27: 23 | C27: 0 | D27: NON
A28: 24 | C28: 0 | D28: NON
A29: 25 | C29: =SUM(C5:C28) -> 15737.69 | D29: NON
I30: =SUM(I5:I29) -> 0 | J30: =SUM(J5:J29) -> 0

Sheet Janvier 2024
A1: Nombre d'enfant | B1: NOM et PRENOM | C1: Total Dû Mois Août | D1: Paiement | E1: Date | F1: Paiement obtenus | G1: Paiement en attente | H1: Total prélèvements | I1: Paiement cumulé / famille | J1: Restant dû / famille | K1: Commentaires
F4: =SUMIF($D$5:$D$29,"OUI",$C$5:$C$28) -> 0 | G4: =SUMIF($D$5:$D$29,"NON",$C$5:$C$29) -> 0 | H4: =SUM(C5+C6+C8+C9+C10+C11+C13+C16+C17) -> 0
A5: 1 | B5: A | D5: NON | G5: =SUMIF(D5,"NON",C5) -> 0
A6: 2 | B6: B | D6: NON | G6: =SUMIF(D6,"NON",C6) -> 0
A7: 3 | B7: C | D7: NON | G7: =SUMIF(D7,"NON",C7) -> 0
A8: 4 | B8: D | D8: NON | G8: =SUMIF(D8,"NON",C8) -> 0
A9: 5 | B9: E | D9: NON | G9: =SUMIF(D9,"NON",C9) -> 0
A10: 6 | B10: F | D10: NON | G10: =SUMIF(D10,"NON",C10) -> 0
A11: 7 | B11: G | D11: NON | G11: =SUMIF(D11,"NON",C11) -> 0 | K11: 3000+1248,87
A12: 8 | B12: H | D12: NON | G12: =SUMIF(D12,"NON",C12) -> 0
A13: 9 | B13: I | D13: NON | G13: =SUMIF(D13,"NON",C13) -> 0
A14: 10 | B14: J | D14: NON | G14: =SUMIF(D14,"NON",C14) -> 0
A15: 11 | B15: K | D15: NON | G15: =SUMIF(D15,"NON",C15) -> 0
A16: 12 | B16: L | D16: NON | G16: =SUMIF(D16,"NON",C16) -> 0
A17: 13 | B17: M | D17: NON | G17: =SUMIF(D17,"NON",C17) -> 0
A18: 14 | D18: NON | G18: =SUMIF(D18,"NON",C18) -> 0
A19: 15 | D19: NON | G19: =SUMIF(D19,"NON",C19) -> 0
A20: 16 | D20: NON | G20: =SUMIF(D20,"NON",C20) -> 0
A21: 17 | D21: NON
A22: 18 | C22: 0 | D22: NON
A23: 19 | C23: 0 | D23: NON
A24: 20 | C24: 0 | D24: NON
A25: 21 | C25: 0 | D25: NON
A26: 22 | C26: 0 | D26: NON
A27: 23 | C27: 0 | D27: NON
A28: 24 | C28: 0 | D28: NON
A29: 25 | C29: =SUM(C5:C28) -> 0 | D29: NON
I30: =SUM(I5:I29) -> 0 | J30: =SUM(J5:J29) -> 0
