Workbook
Name Marque: [1]Marque!$A$2:$A$8

Sheet Base Qualité
C1: Pour fiche de démarrage => | D1: 1 | E1: =D1+1 -> 2 | F1: =E1+1 -> 3 | G1: =F1+1 -> 4 | H1: =G1+1 -> 5 | I1: =H1+1 -> 6 | J1: =I1+1 -> 7 | K1: =J1+1 -> 8 | L1: =K1+1 -> 9 | ... HQ1: =HP1+1 -> 222
A2: 1 | B2: 2 | C2: 3 | D2: 4 | E2: 5 | F2: 6 | G2: =F2+1 -> 7 | H2: =G2+1 -> 8 | I2: =H2+1 -> 9 | J2: =I2+1 -> 10 | K2: =J2+1 -> 11 | L2: =K2+1 -> 12 | M2: =L2+1 -> 13 | N2: =M2+1 -> 14 | ... HQ2: =HP2+1 -> 225
C3: Remplacement du sel par sel dans saumure | D3: REI CORNI FR 5/1 AD 20+ 2120G | I3: 26 | J3: 8 | K3: 27 | L3: 28 | M3: 12 | Q3: 32 | S3: 6 | V3: 33 | Y3: 34 | Z3: 34 | AD3: POUR 1.000L | AE3: POUR 1.000L | AF3: POUR 1.000L | AG3: POUR 1.000L | AH3: POUR 1.000L | AI3: POUR 1.000L | AJ3: POUR 1.000L | AK3: POUR 1.000L | AL3: POUR 1.000L | AM3: POUR 1.000L | AN3: POUR 1.000L | AO3: POUR 1.000L | AP3: POUR 1.000L | AQ3: POUR 1.000L | AR3: POUR 1.000L | AS3: POUR 1.000L | AT3: POUR 1.000L | AU3: POUR 1.000L | AV3: POUR 1.000L | AW3: POUR 1.000L | AX3: POUR 1.000L | AY3: POUR 1.000L | AZ3: POUR 1.000L | BA3: POUR 1.000L | BB3: POUR 1.000L | BC3: POUR 1.000L | BD3: POUR 1.000L | BE3: POUR 1.000L | BF3: POUR 1.000L | BG3: POUR 1.000L | BH3: POUR 1.000L | BI3: POUR 1.000L | BJ3: POUR 1.000L | BK3: POUR 1.000L | BL3: POUR 1.000L | BM3: POUR 1.000L | BN3: POUR 1.000L | BO3: POUR 1.000L | BP3: POUR 1.000L | BQ3: POUR 1.000L | BR3: POUR 1.000L | BS3: POUR 1.000L | BT3: POUR 1.000L PICKLES | BU3: POUR 1.000L PICKLES | BV3: POUR 1.000L PICKLES | BW3: POUR 1.000L PICKLES | BX3: POUR 1.000L PICKLES | BY3: POUR 1.000L VARIANTES | BZ3: POUR 1.000L | CA3: POUR 1.000L | CB3: POUR 1.000L | CC3: POUR 1.000L | CD3: POUR 1.000L | CE3: POUR 1.000L | CF3: POUR 1.000L | CG3: POUR 1.000L | CH3: POUR 1.000L | CI3: POUR 1.000L | CJ3: POUR 1.000L | CK3: POUR 1.000L | CL3: POUR 1.000L | CM3: POUR 1.000L | CN3: POUR 1.000L | CO3: POUR 1.000L | CP3: POUR 1.000L | CQ3: POUR 1.000L | CR3: POUR 1.000L | CS3: POUR 1.000L | CT3: PAR BOCAL | CU3: PAR BOCAL | CV3: PAR BOCAL | CW3: PAR BOCAL | CX3: PAR BOCAL | CY3: PAR BOCAL | CZ3: PAR BOCAL | DA3: PAR BOCAL | DB3: PAR BOCAL | DC3: PAR BOCAL | DD3: PAR BOCAL | DE3: PAR BOCAL | DF3: PAR BOCAL | DG3: PAR BOCAL | DH3: PAR BOCAL | DI3: PAR BOCAL | DJ3: PAR BOCAL | DK3: PAR BOCAL | DL3: PAR BOCAL | DM3: PAR BOCAL | DN3: PAR BOCAL | DO3: PAR BOCAL | DP3: PAR BOCAL | DQ3: PAR BOCAL | DR3: PAR BOCAL | DS3: PAR BOCAL | DT3: PAR BOCAL | DU3: PAR BOCAL | DV3: PAR BOCAL | DW3: PAR BOCAL | DX3: PAR BOCAL | DY3: PAR BOCAL | DZ3: PAR BOCAL | EA3: PAR BOCAL | EB3: PAR BOCAL | EC3: PAR BOCAL | ED3: PAR BOCAL | EE3: PAR BOCAL | EF3: PAR BOCAL | EG3: PAR BOCAL | EH3: PAR BOCAL | EI3: PAR BOCAL | EJ3: PAR BOCAL | EK3: PAR BOCAL | EL3: PAR BOCAL | EM3: PAR BOCAL | EN3: PAR BOCAL | EO3: PAR BOCAL | EP3: PAR BOCAL | EQ3: PAR BOCAL | ER3: PAR BOCAL | ES3: PAR BOCAL | ET3: PAR BOCAL | EU3: PAR BOCAL | EV3: PAR BOCAL | EW3: PAR BOCAL | EX3: PAR BOCAL | EY3: PAR BOCAL | EZ3: PAR BOCAL | FA3: PAR BOCAL | FB3: PAR BOCAL | FC3: PAR BOCAL | FD3: PAR BOCAL | FE3: PAR BOCAL | FF3: PAR BOCAL | FG3: PAR BOCAL | FH3: PAR BOCAL | FI3: PAR BOCAL | FJ3: PAR BOCAL | FK3: PAR BOCAL | FL3: PAR BOCAL | FM3: PAR BOCAL | FN3: PAR BOCAL | FO3: PAR BOCAL | FP3: PAR BOCAL | FQ3: PAR BOCAL | FR3: PAR BOCAL | FS3: PAR BOCAL | FT3: PAR BOCAL | FU3: PAR BOCAL | FV3: PAR BOCAL | FW3: PAR BOCAL | FX3: PAR BOCAL | FY3: PAR BOCAL | FZ3: PAR BOCAL | GA3: PAR BOCAL | GB3: PAR BOCAL | GC3: PAR BOCAL | GD3: PAR BOCAL | GE3: PAR BOCAL | GF3: PAR BOCAL | GG3: PAR BOCAL | GH3: PAR BOCAL | GI3: PAR BOCAL | GJ3: PAR BOCAL | GK3: PAR BOCAL | GL3: PAR BOCAL | GM3: PAR BOCAL | HM3: Information pour DD-MDP-001
A4: Index | B4: Référence Di Valto | C4: IN / OUT | D4: Dénomination Di Valto | E4: Détenteur de Marque | F4: Marque | G4: Origine MP | H4: Type de colis | I4: Type bocal | J4: Nb UVC par colis | K4: Caps / Fond | L4: Puisettes / Film | M4: Nature du colis | N4: Dimension Etiquette (mm) | O4: DLUO (an) | P4: Produit | Q4: Calibre | R4: Fruit Principal seul PNE (g) | S4: Poids net égoutté (g) | T4: Poids net (g) | U4: Poids brut (g) | V4: Poids oignons de couv (gr) | W4: Calibre oignons de couverture | X4: N° mélange | Y4: Poids total aromates (g) | Z4: Poids total aromates hors oignons (g) | AA4: N° de jus | AB4: Jus dans bocal en L | AC4: Volume bocal en Cl | AD4: Sucre (Kg/T) | AE4: Mini piment rouge (g) | AF4: Vinaigre d'alcool à 14 ° (L/T) | AG4: Vinaigre de Vin blanc 10° (L/T) | AH4: Vinaigre condiment blanc de modène 5° (L/T) | AI4: Eau (L/T) | AJ4: Acide citrique (kg/T) | AK4: Métabisulfite de sodium (kg/T) | AL4: FNB1038 ou PE16640 (L/T) | AM4: PE15654 (L/T) | AN4: Pastor T10223 (L/T) | AO4: Spice flavour 252490 (L/T) | AP4: Sweet Mouthfeel 260037 (L/T) | AQ4: Naturel piment infusion LM8460 (L/T) | AR4: Basilic PE17043 (L/T) | AS4: Colodor 703 ANETH (L/T) | AT4: Saumure (L/T) 1L=0,33kg sel | AU4: Chlorure de calcium (kg/T) | AV4: Riboflavine 11,5% (Kg/L) | AW4: Acide ascorbique (Kg/L) | AX4: Arôme oignon frais naturel 5773 (L/T) | AY4: Arôme Colodor 3515 (L/T) | AZ4: Arôme Colodor 1591 (L/T) | BA4: Sel de mer NON TRAITÉ (Kg) | BB4: Vinaigre d'alcool Bio à 14° (L/T) | BC4: Mix arômes AD REITZEL (L/T) | BD4: Arôme Aneth Estragon PE 3693 (L/T) | BE4: Double concentré de tomates Kg | BF4: Olives noires broyées pasteurisées (Kg/L) | BG4: Arôme Origan FNB7297 (Kg/L) | BH4: Arôme Herbes de provence LM7082 (L/T) | BI4: Vinaigre de cidre Bio à 5° (L/T) | BJ4: Arôme poivre Y10310 (L/T) | BK4: Arôme coriandre FNB1264 (L/T) | BL4: Arôme Ail (L/T) | BM4: Arôme Marjolaine (L/T) | BN4: Vinaigre de vin blanc Bio à 10° (L/T) | BO4: Arôme naturel d'estragon BIO LB18263 (L/T) | BP4: Condiment blanc de Modène BIO à 5° (L/T) | BQ4: Sucre de canne BIO (Kg/T) | BR4: Arôme naturel aneth BIO LB 18520 (L/T) | BS4: Arôme Colodor 1166 (L/T) | BT4: Poivrons rouges en cubes (Kg) | BU4: Carottes en rondelles (Kg) | BV4: Choux fleurs 15/30 (Kg) | BW4: Cornichons 150/300 (Kg) | BX4: Oignons 16/18 (Kg) | BY4: Navets en tronçon (Kg) | BZ4: VIDE | CA4: VIDE | CB4: VIDE | CC4: VIDE | CD4: VIDE | CE4: VIDE | CF4: VIDE | CG4: VIDE | CH4: VIDE | CI4: VIDE | CJ4: VIDE | CK4: VIDE | CL4: VIDE | CM4: VIDE | CN4: VIDE | CO4: VIDE | CP4: VIDE | CQ4: VIDE | CR4: VIDE | CS4: VIDE | CT4: Petits oignons (g) | CU4: Moutarde noire (g) | CV4: Moutarde jaune (g) | CW4: Mélange 300 (g) | CX4: Mélange 320 (g) | CY4: Mélange 410 (g) | CZ4: Mélange Mix 300 (g) | DA4: Mélange Mix 320 (g) | DB4: Estragon haché au vinaigre (g) | DC4: Estragon Déshydraté (g) | DD4: Oignons émincés déshydratés (g) | DE4: Ail lamelles déshydraté (g) | DF4: Grains de poivre noir (g) | DG4: Basilic Déshydraté (g) | DH4: Aneth déshydratée (g) | DI4: Vinaigre alcool 14° L | DJ4: Vinaigre vin 10° L | DK4: CaCl Kg | DL4: Arôme combinés FNB1038 ou PE166410 L | DM4: Arôme BP86 T10240 L | DN4: Arôme Estragon PE15654 L | DO4: Arôme Pastor T10223 L | DP4: Acide Citrique Kg | DQ4: Métabisulfite Kg | DR4: Sweet Mouthfeel 260037 Kg | DS4: Basilic PE17043 L | DT4: Condiment blanc de Modène 5° L | DU4: Arôme oignon frais naturel 5773 L | DV4: Arôme Colodor 703 ANETH L | DW4: Spice Flavour 252490 L | DX4: Flavour red Chili D1100806 L | DY4: Mix 320 en Kg (Coriandre, Piment, Moutarde Jaune et Noire, Poivre) | DZ4: Mix 300 en Kg (moutarde jaune, coriandre) | EA4: Mix 410 en Kg (Mout.Jaune et Noire, Coriandre, Poivre) | EB4: Mélange 420 Kg | EC4: Estragon haché Kg div par 5 | ED4: Estragon déshy Kg | EE4: Basilic déshydraté Kg | EF4: Aneth déshydratée Kg | EG4: Coriandre Kg | EH4: Moutarde jaune Kg | EI4: Moutarde noire Kg | EJ4: Grains de poivre noir Kg | EK4: Oignons blancs deshy Kg | EL4: Ail lamelles deshydraté Kg | EM4: Mini piment rouge Kg | EN4: Sel Kg | EO4: Sucre Kg | EP4: Riboflavine 11,5% Kg | EQ4: Acide ascorbique Kg | ER4: Arôme Colodor 3515 L | ES4: Laurier (feuille) | ET4: Ail (gousse) | EU4: Coriandre (g) | EV4: Arôme Colodor 1591 L | EW4: Sel de mer NON TRAITÉ en Kg | EX4: Vinaigre d'alcool Bio à 14° L | EY4: Moutarde jaune Bio (g) | EZ4: Moutarde jaune Bio (Kg) | FA4: Baie de genièvre (g) | FB4: Baie de genièvre (Kg) | FC4: Mix arômes AD REITZEL (L/T) | FD4: Arôme Aneth Estragon PE 3693 (L) | FE4: Tomates flocon (g) | FF4: Tomates flocon (Kg) | FG4: Naturel piment infusion LM8460 (L) | FH4: Double concentré de tomates (Kg) | FI4: Olives noires broyées pasteurisées (Kg) | FJ4: Arôme Origan FNB7297 (Kg) | FK4: Poivrons jaunes séchés (g) | FL4: Poivrons jaunes séchés (Kg) | FM4: Arôme Herbes de provence LM7082 (L) | FN4: Paprika séché ROUGE (g) | FO4: Paprika séché ROUGE (Kg) | FP4: Herbes de provence (g) | FQ4: Herbes de provence (Kg) | FR4: Vinaigre de cidre Bio à 5° (L) | FS4: Oignons Bio en cube (g) | FT4: Arôme poivre Y10310 (L) | FU4: Arôme coriandre FNB1264 (L) | FV4: Poivrons rouges déshydratés (g) | FW4: Poivrons rouges déshydratés (Kg) | FX4: Arôme Ail (L) | FY4: Arôme Marjolaine (L) | FZ4: Vinaigre de vin blanc Bio à 10° (L) | GA4: Arôme naturel d'estragon BIO LB18263 (L) | GB4: Estragon déshydraté BIO (g) | GC4: Estragon déshydraté BIO (Kg) | GD4: Condiment blanc de Modène BIO à 5° (L/T) | GE4: Sucre de canne BIO (Kg) | GF4: Arôme naturel aneth BIO (L/T) | GG4: Aneth déshydraté BIO (g) | GH4: Aneth déshydraté BIO (Kg) | GI4: Arôme Colodor 1166 (L/T) | GJ4: Epis de maïs (nombre d'épis) | GK4: Piment d'Espelette poudre (g) | GL4: VIDE | GM4: VIDE | GN4: Fûts de cornichons pour 1 fût d'oignons | GO4: T° Pasto (°C) | GP4: Tps Pasto (min ou Hertz) | GQ4: Perte en jus | GR4: Prix MP au kg | GS4: Acidité cible Jus (°) | GT4: Taux de sel Jus cible (%) | GU4: Acidité cible PF (°) | GV4: Taux de sel PF cible - densité | GW4: VIDE | GX4: VIDE | GY4: VIDE | GZ4: VIDE | HA4: VIDE | HB4: VIDE | HC4: VIDE | HD4: VIDE | HE4: VIDE | HF4: VIDE | HG4: VIDE | HH4: VIDE | HI4: VIDE | HJ4: VIDE | HK4: VIDE | HL4: Secteur | HM4: =B4 -> Référence Di Valto | HN4: Marquage en ligne | HO4: Marquage en reprise | HP4: Emplacement du marquage | HQ4: ='Base Mère'!I1 -> Site de production
A5: 416 | B5: =VLOOKUP($A5,'Base Mère'!$A:$AA,B$2,FALSE) -> MNC0110640006BIS | C5: =VLOOKUP($A5,'Base Mère'!$A:$AA,C$2,FALSE) -> REI CORNI FR 5/1 AD 20+ FR 2120G | D5: =VLOOKUP($A5,'Base Mère'!$A:$AA,D$2,FALSE) -> REI CORNI FR 5/1 AD 20+ FR 2120G | E5: =VLOOKUP($A5,'Base Mère'!$A:$AA,E$2,FALSE) -> Reitzel | F5: =VLOOKUP($A5,'Base Mère'!$A:$AA,F$2,FALSE) -> Reitzel | G5: Frais Français | H5: Plaque + Film | I5: 5/1 Or/Blanc Ouv.153 | J5: 3 | K5: FOND 5/1 | L5: - | M5: Plate à monter 3 x 5/1 | N5: 500 x 235 | O5: 4 ans | P5: Cornichons français | Q5: 20/40 Frais (6-9 cm) | R5: =S5-Y5 -> 2120 | S5: 2120 | T5: 4100 | U5: 4650 | V5: 0 | W5: - | X5: - | Y5: 0 | Z5: =Y5-V5 -> 0 | AA5: 6504 | AB5: =(T5-S5)/1000 -> 1.98 | AC5: 425 | AD5: 65 | AE5: 0 | AF5: 157 | AG5: 0 | AH5: 0 | AI5: 659.933 | AJ5: 0 | AK5: 0 | AL5: 0 | AM5: 0 | AN5: 0 | AO5: 0 | AP5: 0 | AQ5: 0 | AR5: 0 | AS5: 0.7 | AT5: =35/0.3 -> 116.66667 | AU5: 0 | AV5: 0 | AW5: 0 | AX5: 0 | AY5: 0 | AZ5: 0.7 | BA5: 0 | BB5: 0 | BC5: 0 | BD5: 0 | BE5: 0 | BF5: 0 | BG5: 0 | BH5: 0 | BI5: 0 | BJ5: 0 | BK5: 0 | BL5: 0 | BM5: 0 | BN5: 0 | BO5: 0 | BP5: 0 | BQ5: 0 | BR5: 0 | BS5: 0 | BT5: 0 | BU5: 0 | BV5: 0 | BW5: 0 | BX5: 0 | BY5: 0 | CT5: 0 | CU5: 0 | CV5: 0 | CW5: 0 | CX5: 0 | CY5: 0 | CZ5: 0 | DA5: 0 | DB5: 0 | DC5: 0 | DD5: 0 | DE5: 0 | DF5: 0 | DG5: 0 | DH5: 0 | DI5: =(AB5*AF5)/1000 -> 0.31086 | DJ5: =(AG5*AB5)/100 -> 0 | DK5: =(AU5*AB5)/1000 -> 0 | DL5: =(AB5*AL5)/1000 -> 0 | DM5: 0 | DN5: =(AM5*AB5)/1000 -> 0 | DO5: =(AN5*AB5)/1000 -> 0 | DP5: =(AJ5*AB5)/1000 -> 0 | DQ5: =(AK5*AB5)/1000 -> 0 | DR5: =(AP5*AB5)/1000 -> 0 | DS5: =(AR5*AB5)/1000 -> 0 | DT5: =(AH5*AB5)/1000 -> 0 | DU5: =(AX5*AB5)/1000 -> 0 | DV5: =(AS5*AB5)/1000 -> 0.001386 | DW5: =(AO5*AB5)/1000 -> 0 | DX5: 0 | DY5: =DA5/1000 -> 0 | DZ5: =CZ5/1000 -> 0 | EA5: 0 | EB5: 0 | EC5: =DB5/5/1000 -> 0 | ED5: =DC5/1000 -> 0 | EE5: =DG5/1000 -> 0 | EF5: =DH5/1000 -> 0 | EG5: =EU5/1000 -> 0 | EH5: =CV5/1000 -> 0 | EI5: =CU5/1000 -> 0 | EJ5: =DF5/1000 -> 0 | EK5: 0 | EL5: =DE5/1000 -> 0 | EM5: 0 | EN5: =(35*AB5)/1000 -> 0.0693 | EO5: =(AD5*AB5)/1000 -> 0.1287 | EP5: =(AV5*AB5)/1000 -> 0 | EQ5: =(AW5*AB5)/1000 -> 0 | ER5: =(AY5*AB5)/1000 -> 0 | ES5: 0 | ET5: 0 | EU5: 0 | EV5: =(AZ5*AB5)/1000 -> 0.001386 | EW5: =(BA5*AB5)/1000 -> 0 | EX5: =(BB5*AB5)/1000 -> 0 | EY5: 0 | EZ5: =EY5/1000 -> 0 | FA5: 0 | FB5: =FA5/1000 -> 0 | FC5: =(BC5*AB5)/1000 -> 0 | FD5: =(BD5*AB5)/1000 -> 0 | FE5: 0 | FF5: =FE5/1000 -> 0 | FG5: =(AQ5*AB5)/1000 -> 0 | FH5: =(BE5*AB5)/1000 -> 0 | FI5: =(BF5*AB5)/1000 -> 0 | FJ5: =(BG5*AB5)/1000 -> 0 | FK5: 0 | FL5: =FK5/1000 -> 0 | FM5: =(BH5*AB5)/1000 -> 0 | FN5: 0 | FO5: =FN5/1000 -> 0 | FP5: 0 | FQ5: =FP5/1000 -> 0 | FR5: =(BI5*AB5)/1000 -> 0 | FS5: 0 | FT5: =(BJ5*AB5)/1000 -> 0 | FU5: =(BK5*AB5)/1000 -> 0 | FV5: 0 | FW5: =FV5/1000 -> 0 | FX5: =(BL5*AB5)/1000 -> 0 | FY5: =(BM5*AB5)/1000 -> 0 | FZ5: =(BN5*AB5)/1000 -> 0 | GA5: =(BO5*AB5)/1000 -> 0 | GB5: 0 | GC5: =GB5/1000 -> 0 | GD5: =(BP5*AB5)/1000 -> 0 | GE5: =(BQ5*AB5)/1000 -> 0 | GF5: =(BR5*AB5)/1000 -> 0 | GG5: 0 | GH5: =GG5/1000 -> 0 | GI5: =(BS5*AB5)/1000 -> 0 | GJ5: 0 | GK5: 0 | GN5: 0 | GO5: 90 | GP5: 25 | GR5: =VLOOKUP(Q5,#REF!,2,FALSE) -> #REF! | GS5: 2,2 +/- 0,1 | GT5: 3,5 +/- 0,4 | GU5: 1,0 +/- 0,5 | GV5: 2 +/- 0,5 | HL5: =VLOOKUP($A5,'Base Mère'!$A:$N,10,FALSE) -> RHF | HM5: =B5 -> MNC0110640006BIS | HN5: JJ/MM/AA . AA HH:MM AD | HO5: JJ/MM/AA QQQ HH:MM AD | HP5: Couvercle | HQ5: =VLOOKUP($A5,'Base Mère'!$A:$AA,9,FALSE) -> La Herse
A6: 299 | B6: =VLOOKUP($A6,'Base Mère'!$A:$AA,B$2,FALSE) -> MNC0110640006 | C6: =VLOOKUP($A6,'Base Mère'!$A:$AA,C$2,FALSE) -> REI CORNI FR 5/1 AD 20+ FR 2120G | D6: =VLOOKUP($A6,'Base Mère'!$A:$AA,D$2,FALSE) -> REI CORNI FR 5/1 AD 20+ FR 2120G | E6: =VLOOKUP($A6,'Base Mère'!$A:$AA,E$2,FALSE) -> Reitzel | F6: =VLOOKUP($A6,'Base Mère'!$A:$AA,F$2,FALSE) -> Reitzel | G6: Fûts | H6: Plaque + Film | I6: 5/1 Or/Blanc Ouv.153 | J6: 3 | K6: FOND 5/1 | L6: - | M6: Plate à monter 3 x 5/1 | N6: 500 x 235 | O6: 4 ans | P6: Cornichons français | Q6: 20/40 Frais/Fûts (6-9 cm) | R6: =S6-Y6 -> 2120 | S6: 2120 | T6: 4100 | U6: 4650 | V6: 0 | W6: - | X6: - | Y6: 0 | Z6: =Y6-V6 -> 0 | AA6: 6224 | AB6: =(T6-S6)/1000 -> 1.98 | AC6: 425 | AD6: 65 | AE6: 0 | AF6: 0 | AG6: 0 | AH6: 0 | AI6: 933.6 | AJ6: 0 | AK6: 0 | AL6: 0 | AM6: 0 | AN6: 0 | AO6: 0 | AP6: 0 | AQ6: 0 | AR6: 0 | AS6: 0.7 | AT6: 0 | AU6: 0 | AV6: 0 | AW6: 0 | AX6: 0 | AY6: 0 | AZ6: 0.7 | BA6: 0 | BB6: 0 | BC6: 0 | BD6: 0 | BE6: 0 | BF6: 0 | BG6: 0 | BH6: 0 | BI6: 0 | BJ6: 0 | BK6: 0 | BL6: 0 | BM6: 0 | BN6: 0 | BO6: 0 | BP6: 0 | BQ6: 0 | BR6: 0 | BS6: 0 | BT6: 0 | BU6: 0 | BV6: 0 | BW6: 0 | BX6: 0 | BY6: 0 | CT6: 0 | CU6: 0 | CV6: 0 | CW6: 0 | CX6: 0 | CY6: 0 | CZ6: 0 | DA6: 0 | DB6: 0 | DC6: 0 | DD6: 0 | DE6: 0 | DF6: 0 | DG6: 0 | DH6: 0 | DI6: =(AB6*AF6)/1000 -> 0 | DJ6: =(AG6*AB6)/100 -> 0 | DK6: =(AU6*AB6)/1000 -> 0 | DL6: =(AB6*AL6)/1000 -> 0 | DM6: 0 | DN6: =(AM6*AB6)/1000 -> 0 | DO6: =(AN6*AB6)/1000 -> 0 | DP6: =(AJ6*AB6)/1000 -> 0 | DQ6: =(AK6*AB6)/1000 -> 0 | DR6: =(AP6*AB6)/1000 -> 0 | DS6: =(AR6*AB6)/1000 -> 0 | DT6: =(AH6*AB6)/1000 -> 0 | DU6: =(AX6*AB6)/1000 -> 0 | DV6: =(AS6*AB6)/1000 -> 0.001386 | DW6: =(AO6*AB6)/1000 -> 0 | DX6: 0 | DY6: =DA6/1000 -> 0 | DZ6: =CZ6/1000 -> 0 | EA6: 0 | EB6: 0 | EC6: =DB6/5/1000 -> 0 | ED6: =DC6/1000 -> 0 | EE6: =DG6/1000 -> 0 | EF6: =DH6/1000 -> 0 | EG6: =EU6/1000 -> 0 | EH6: =CV6/1000 -> 0 | EI6: =CU6/1000 -> 0 | EJ6: =DF6/1000 -> 0 | EK6: 0 | EL6: =DE6/1000 -> 0 | EM6: 0 | EN6: =(0*AB6)/1000 -> 0 | EO6: =(AD6*AB6)/1000 -> 0.1287 | EP6: =(AV6*AB6)/1000 -> 0 | EQ6: =(AW6*AB6)/1000 -> 0 | ER6: =(AY6*AB6)/1000 -> 0 | ES6: 0 | ET6: 0 | EU6: 0 | EV6: =(AZ6*AB6)/1000 -> 0.001386 | EW6: =(BA6*AB6)/1000 -> 0 | EX6: =(BB6*AB6)/1000 -> 0 | EY6: 0 | EZ6: =EY6/1000 -> 0 | FA6: 0 | FB6: =FA6/1000 -> 0 | FC6: =(BC6*AB6)/1000 -> 0 | FD6: =(BD6*AB6)/1000 -> 0 | FE6: 0 | FF6: =FE6/1000 -> 0 | FG6: =(AQ6*AB6)/1000 -> 0 | FH6: =(BE6*AB6)/1000 -> 0 | FI6: =(BF6*AB6)/1000 -> 0 | FJ6: =(BG6*AB6)/1000 -> 0 | FK6: 0 | FL6: =FK6/1000 -> 0 | FM6: =(BH6*AB6)/1000 -> 0 | FN6: 0 | FO6: =FN6/1000 -> 0 | FP6: 0 | FQ6: =FP6/1000 -> 0 | FR6: =(BI6*AB6)/1000 -> 0 | FS6: 0 | FT6: =(BJ6*AB6)/1000 -> 0 | FU6: =(BK6*AB6)/1000 -> 0 | FV6: 0 | FW6: =FV6/1000 -> 0 | FX6: =(BL6*AB6)/1000 -> 0 | FY6: =(BM6*AB6)/1000 -> 0 | FZ6: =(BN6*AB6)/1000 -> 0 | GA6: =(BO6*AB6)/1000 -> 0 | GB6: 0 | GC6: =GB6/1000 -> 0 | GD6: =(BP6*AB6)/1000 -> 0 | GE6: =(BQ6*AB6)/1000 -> 0 | GF6: =(BR6*AB6)/1000 -> 0 | GG6: 0 | GH6: =GG6/1000 -> 0 | GI6: =(BS6*AB6)/1000 -> 0 | GJ6: 0 | GK6: 0 | GN6: 0 | GO6: 94 | GP6: 33 | GS6: Pas de vinaigre | GT6: Pas de sel | GU6: 1,0 +/- 0,5 | GV6: 2 +/- 0,5 | HL6: =VLOOKUP($A6,'Base Mère'!$A:$N,10,FALSE) -> RHF | HM6: =B6 -> MNC0110640006 | HN6: JJ/MM/AA . AA HH:MM AD | HO6: JJ/MM/AA QQQ HH:MM AD | HP6: Couvercle | HQ6: =VLOOKUP($A6,'Base Mère'!$A:$AA,9,FALSE) -> La Herse

Sheet Base Mère
A1: Index | B1: Référence Di Valto RB | C1: Référence interne | D1: Dénomination Di Valto | E1: Détenteur de Marque | F1: Marque | G1: Code Neutre RH | H1: Code Divalto RH (si différent RB) | I1: Site de production | J1: Secteur | K1: Site de stockage | L1: EAN | M1: Famille prévisions | N1: IN / OUT
A2: 416 | B2: MNC0110640006BIS | C2: REI CORNI FR 5/1 AD 20+ FR 2120G | D2: REI CORNI FR 5/1 AD 20+ FR 2120G | E2: Reitzel | F2: Reitzel | G2: N1011064001 | H2: MNC0110640006 | I2: La Herse | J2: RHF | K2: RBH | M2: RHF | N2: IN
A3: 299 | B3: MNC0110640006 | C3: REI CORNI FR 5/1 AD 20+ FR 2120G | D3: REI CORNI FR 5/1 AD 20+ FR 2120G | E3: Reitzel | F3: Reitzel | G3: N1011064001 | H3: MNC0110640006 | I3: La Herse | J3: RHF | K3: RBH | M3: RHF | N3: IN
