Workbook
Name Jours: 'prix chambre'!$A$3:$A$33

Sheet résa
A1: Arrivée | B1: 43105 | D1: Nombre de nuits | E1: =SUM(B2-B1) -> 5
A2: Départ | B2: 43110
A4: Type de chambre | C4: Total | D4: Type de chambre | F4: Total | G4: Type de chambre | I4: Total | J4: Type de chambre | L4: Total
A5: Village | C5: =SUM(C8:C55) -> 225 | D5: Océan | F5: =SUM(F8:F55) -> 275 | G5: City | I5: =SUM(I8:I55) -> 275 | J5: Mer | L5: =SUM(L8:L55) -> 275
A7: Journées de présence | C7: Tarif Jour | D7: Journées de présence | F7: Tarif Jour | G7: Journées de présence | I7: Tarif Jour | J7: Journées de présence | L7: Tarif Jour
A8: =B1 -> 43105 | C8: =IF(A8<>"",OFFSET('prix chambre'!$A$2,MATCH(DAY(résa!$A8),Jours,0),IF(résa!$A$5="Village",(MONTH(résa!A8)*2)-1,MONTH(résa!A8)*2)),0) -> 45 | D8: =B1 -> 43105 | F8: =IF(D8<>"",OFFSET('prix chambre'!$A$2,MATCH(DAY(résa!$A8),Jours,0),IF(résa!$D$5="Village",(MONTH(résa!D8)*2)-1,MONTH(résa!D8)*2)),0) -> 55 | G8: =B1 -> 43105 | I8: =IF(G8<>"",OFFSET('prix chambre'!$A$2,MATCH(DAY(résa!$A8),Jours,0),IF(résa!$G$5="Village",(MONTH(résa!G8)*2)-1,MONTH(résa!G8)*2)),0) -> 55 | J8: =B1 -> 43105 | L8: =IF(J8<>"",OFFSET('prix chambre'!$A$2,MATCH(DAY(résa!$A8),Jours,0),IF(résa!$J$5="Village",(MONTH(résa!J8)*2)-1,MONTH(résa!J8)*2)),0) -> 55
A9: =IF(A8="","",IF(A8+1<$B$2,A8+1,"")) -> 43106 | C9: =IF(A9<>"",OFFSET('prix chambre'!$A$2,MATCH(DAY(résa!$A9),Jours,0),IF(résa!$A$5="Village",(MONTH(résa!A9)*2)-1,MONTH(résa!A9)*2)),0) -> 45 | D9: =IF(D8="","",IF(D8+1<$B$2,D8+1,"")) -> 43106 | F9: =IF(D9<>"",OFFSET('prix chambre'!$A$2,MATCH(DAY(résa!$A9),Jours,0),IF(résa!$D$5="Village",(MONTH(résa!D9)*2)-1,MONTH(résa!D9)*2)),0) -> 55 | G9: =IF(G8="","",IF(G8+1<$B$2,G8+1,"")) -> 43106 | I9: =IF(G9<>"",OFFSET('prix chambre'!$A$2,MATCH(DAY(résa!$A9),Jours,0),IF(résa!$G$5="Village",(MONTH(résa!G9)*2)-1,MONTH(résa!G9)*2)),0) -> 55 | J9: =IF(J8="","",IF(J8+1<$B$2,J8+1,"")) -> 43106 | L9: =IF(J9<>"",OFFSET('prix chambre'!$A$2,MATCH(DAY(résa!$A9),Jours,0),IF(résa!$J$5="Village",(MONTH(résa!J9)*2)-1,MONTH(résa!J9)*2)),0) -> 55
A10: =IF(A9="","",IF(A9+1<$B$2,A9+1,"")) -> 43107 | C10: =IF(A10<>"",OFFSET('prix chambre'!$A$2,MATCH(DAY(résa!$A10),Jours,0),IF(résa!$A$5="Village",(MONTH(résa!A10)*2)-1,MONTH(résa!A10)*2)),0) -> 45 | D10: =IF(D9="","",IF(D9+1<$B$2,D9+1,"")) -> 43107 | F10: =IF(D10<>"",OFFSET('prix chambre'!$A$2,MATCH(DAY(résa!$A10),Jours,0),IF(résa!$D$5="Village",(MONTH(résa!D10)*2)-1,MONTH(résa!D10)*2)),0) -> 55 | G10: =IF(G9="","",IF(G9+1<$B$2,G9+1,"")) -> 43107 | I10: =IF(G10<>"",OFFSET('prix chambre'!$A$2,MATCH(DAY(résa!$A10),Jours,0),IF(résa!$G$5="Village",(MONTH(résa!G10)*2)-1,MONTH(résa!G10)*2)),0) -> 55 | J10: =IF(J9="","",IF(J9+1<$B$2,J9+1,"")) -> 43107 | L10: =IF(J10<>"",OFFSET('prix chambre'!$A$2,MATCH(DAY(résa!$A10),Jours,0),IF(résa!$J$5="Village",(MONTH(résa!J10)*2)-1,MONTH(résa!J10)*2)),0) -> 55
A11: =IF(A10="","",IF(A10+1<$B$2,A10+1,"")) -> 43108 | C11: =IF(A11<>"",OFFSET('prix chambre'!$A$2,MATCH(DAY(résa!$A11),Jours,0),IF(résa!$A$5="Village",(MONTH(résa!A11)*2)-1,MONTH(résa!A11)*2)),0) -> 45 | D11: =IF(D10="","",IF(D10+1<$B$2,D10+1,"")) -> 43108 | F11: =IF(D11<>"",OFFSET('prix chambre'!$A$2,MATCH(DAY(résa!$A11),Jours,0),IF(résa!$D$5="Village",(MONTH(résa!D11)*2)-1,MONTH(résa!D11)*2)),0) -> 55 | G11: =IF(G10="","",IF(G10+1<$B$2,G10+1,"")) -> 43108 | I11: =IF(G11<>"",OFFSET('prix chambre'!$A$2,MATCH(DAY(résa!$A11),Jours,0),IF(résa!$G$5="Village",(MONTH(résa!G11)*2)-1,MONTH(résa!G11)*2)),0) -> 55 | J11: =IF(J10="","",IF(J10+1<$B$2,J10+1,"")) -> 43108 | L11: =IF(J11<>"",OFFSET('prix chambre'!$A$2,MATCH(DAY(résa!$A11),Jours,0),IF(résa!$J$5="Village",(MONTH(résa!J11)*2)-1,MONTH(résa!J11)*2)),0) -> 55
A12: =IF(A11="","",IF(A11+1<$B$2,A11+1,"")) -> 43109 | C12: =IF(A12<>"",OFFSET('prix chambre'!$A$2,MATCH(DAY(résa!$A12),Jours,0),IF(résa!$A$5="Village",(MONTH(résa!A12)*2)-1,MONTH(résa!A12)*2)),0) -> 45 | D12: =IF(D11="","",IF(D11+1<$B$2,D11+1,"")) -> 43109 | F12: =IF(D12<>"",OFFSET('prix chambre'!$A$2,MATCH(DAY(résa!$A12),Jours,0),IF(résa!$D$5="Village",(MONTH(résa!D12)*2)-1,MONTH(résa!D12)*2)),0) -> 55 | G12: =IF(G11="","",IF(G11+1<$B$2,G11+1,"")) -> 43109 | I12: =IF(G12<>"",OFFSET('prix chambre'!$A$2,MATCH(DAY(résa!$A12),Jours,0),IF(résa!$G$5="Village",(MONTH(résa!G12)*2)-1,MONTH(résa!G12)*2)),0) -> 55 | J12: =IF(J11="","",IF(J11+1<$B$2,J11+1,"")) -> 43109 | L12: =IF(J12<>"",OFFSET('prix chambre'!$A$2,MATCH(DAY(résa!$A12),Jours,0),IF(résa!$J$5="Village",(MONTH(résa!J12)*2)-1,MONTH(résa!J12)*2)),0) -> 55
A13: =IF(A12="","",IF(A12+1<$B$2,A12+1,"")) | C13: =IF(A13<>"",OFFSET('prix chambre'!$A$2,MATCH(DAY(résa!$A13),Jours,0),IF(résa!$A$5="Village",(MONTH(résa!A13)*2)-1,MONTH(résa!A13)*2)),0) -> 0 | D13: =IF(D12="","",IF(D12+1<$B$2,D12+1,"")) | F13: =IF(D13<>"",OFFSET('prix chambre'!$A$2,MATCH(DAY(résa!$A13),Jours,0),IF(résa!$D$5="Village",(MONTH(résa!D13)*2)-1,MONTH(résa!D13)*2)),0) -> 0 | G13: =IF(G12="","",IF(G12+1<$B$2,G12+1,"")) | I13: =IF(G13<>"",OFFSET('prix chambre'!$A$2,MATCH(DAY(résa!$A13),Jours,0),IF(résa!$G$5="Village",(MONTH(résa!G13)*2)-1,MONTH(résa!G13)*2)),0) -> 0 | J13: =IF(J12="","",IF(J12+1<$B$2,J12+1,"")) | L13: =IF(J13<>"",OFFSET('prix chambre'!$A$2,MATCH(DAY(résa!$A13),Jours,0),IF(résa!$J$5="Village",(MONTH(résa!J13)*2)-1,MONTH(résa!J13)*2)),0) -> 0
A14: =IF(A13="","",IF(A13+1<$B$2,A13+1,"")) | C14: =IF(A14<>"",OFFSET('prix chambre'!$A$2,MATCH(DAY(résa!$A14),Jours,0),IF(résa!$A$5="Village",(MONTH(résa!A14)*2)-1,MONTH(résa!A14)*2)),0) -> 0 | D14: =IF(D13="","",IF(D13+1<$B$2,D13+1,"")) | F14: =IF(D14<>"",OFFSET('prix chambre'!$A$2,MATCH(DAY(résa!$A14),Jours,0),IF(résa!$D$5="Village",(MONTH(résa!D14)*2)-1,MONTH(résa!D14)*2)),0) -> 0 | G14: =IF(G13="","",IF(G13+1<$B$2,G13+1,"")) | I14: =IF(G14<>"",OFFSET('prix chambre'!$A$2,MATCH(DAY(résa!$A14),Jours,0),IF(résa!$G$5="Village",(MONTH(résa!G14)*2)-1,MONTH(résa!G14)*2)),0) -> 0 | J14: =IF(J13="","",IF(J13+1<$B$2,J13+1,"")) | L14: =IF(J14<>"",OFFSET('prix chambre'!$A$2,MATCH(DAY(résa!$A14),Jours,0),IF(résa!$J$5="Village",(MONTH(résa!J14)*2)-1,MONTH(résa!J14)*2)),0) -> 0
A15: =IF(A14="","",IF(A14+1<$B$2,A14+1,"")) | C15: =IF(A15<>"",OFFSET('prix chambre'!$A$2,MATCH(DAY(résa!$A15),Jours,0),IF(résa!$A$5="Village",(MONTH(résa!A15)*2)-1,MONTH(résa!A15)*2)),0) -> 0 | D15: =IF(D14="","",IF(D14+1<$B$2,D14+1,"")) | F15: =IF(D15<>"",OFFSET('prix chambre'!$A$2,MATCH(DAY(résa!$A15),Jours,0),IF(résa!$D$5="Village",(MONTH(résa!D15)*2)-1,MONTH(résa!D15)*2)),0) -> 0 | G15: =IF(G14="","",IF(G14+1<$B$2,G14+1,"")) | I15: =IF(G15<>"",OFFSET('prix chambre'!$A$2,MATCH(DAY(résa!$A15),Jours,0),IF(résa!$G$5="Village",(MONTH(résa!G15)*2)-1,MONTH(résa!G15)*2)),0) -> 0 | J15: =IF(J14="","",IF(J14+1<$B$2,J14+1,"")) | L15: =IF(J15<>"",OFFSET('prix chambre'!$A$2,MATCH(DAY(résa!$A15),Jours,0),IF(résa!$J$5="Village",(MONTH(résa!J15)*2)-1,MONTH(résa!J15)*2)),0) -> 0
A16: =IF(A15="","",IF(A15+1<$B$2,A15+1,"")) | C16: =IF(A16<>"",OFFSET('prix chambre'!$A$2,MATCH(DAY(résa!$A16),Jours,0),IF(résa!$A$5="Village",(MONTH(résa!A16)*2)-1,MONTH(résa!A16)*2)),0) -> 0 | D16: =IF(D15="","",IF(D15+1<$B$2,D15+1,"")) | F16: =IF(D16<>"",OFFSET('prix chambre'!$A$2,MATCH(DAY(résa!$A16),Jours,0),IF(résa!$D$5="Village",(MONTH(résa!D16)*2)-1,MONTH(résa!D16)*2)),0) -> 0 | G16: =IF(G15="","",IF(G15+1<$B$2,G15+1,"")) | I16: =IF(G16<>"",OFFSET('prix chambre'!$A$2,MATCH(DAY(résa!$A16),Jours,0),IF(résa!$G$5="Village",(MONTH(résa!G16)*2)-1,MONTH(résa!G16)*2)),0) -> 0 | J16: =IF(J15="","",IF(J15+1<$B$2,J15+1,"")) | L16: =IF(J16<>"",OFFSET('prix chambre'!$A$2,MATCH(DAY(résa!$A16),Jours,0),IF(résa!$J$5="Village",(MONTH(résa!J16)*2)-1,MONTH(résa!J16)*2)),0) -> 0
A17: =IF(A16="","",IF(A16+1<$B$2,A16+1,"")) | C17: =IF(A17<>"",OFFSET('prix chambre'!$A$2,MATCH(DAY(résa!$A17),Jours,0),IF(résa!$A$5="Village",(MONTH(résa!A17)*2)-1,MONTH(résa!A17)*2)),0) -> 0 | D17: =IF(D16="","",IF(D16+1<$B$2,D16+1,"")) | F17: =IF(D17<>"",OFFSET('prix chambre'!$A$2,MATCH(DAY(résa!$A17),Jours,0),IF(résa!$D$5="Village",(MONTH(résa!D17)*2)-1,MONTH(résa!D17)*2)),0) -> 0 | G17: =IF(G16="","",IF(G16+1<$B$2,G16+1,"")) | I17: =IF(G17<>"",OFFSET('prix chambre'!$A$2,MATCH(DAY(résa!$A17),Jours,0),IF(résa!$G$5="Village",(MONTH(résa!G17)*2)-1,MONTH(résa!G17)*2)),0) -> 0 | J17: =IF(J16="","",IF(J16+1<$B$2,J16+1,"")) | L17: =IF(J17<>"",OFFSET('prix chambre'!$A$2,MATCH(DAY(résa!$A17),Jours,0),IF(résa!$J$5="Village",(MONTH(résa!J17)*2)-1,MONTH(résa!J17)*2)),0) -> 0
A18: =IF(A17="","",IF(A17+1<$B$2,A17+1,"")) | C18: =IF(A18<>"",OFFSET('prix chambre'!$A$2,MATCH(DAY(résa!$A18),Jours,0),IF(résa!$A$5="Village",(MONTH(résa!A18)*2)-1,MONTH(résa!A18)*2)),0) -> 0 | D18: =IF(D17="","",IF(D17+1<$B$2,D17+1,"")) | F18: =IF(D18<>"",OFFSET('prix chambre'!$A$2,MATCH(DAY(résa!$A18),Jours,0),IF(résa!$D$5="Village",(MONTH(résa!D18)*2)-1,MONTH(résa!D18)*2)),0) -> 0 | G18: =IF(G17="","",IF(G17+1<$B$2,G17+1,"")) | I18: =IF(G18<>"",OFFSET('prix chambre'!$A$2,MATCH(DAY(résa!$A18),Jours,0),IF(résa!$G$5="Village",(MONTH(résa!G18)*2)-1,MONTH(résa!G18)*2)),0) -> 0 | J18: =IF(J17="","",IF(J17+1<$B$2,J17+1,"")) | L18: =IF(J18<>"",OFFSET('prix chambre'!$A$2,MATCH(DAY(résa!$A18),Jours,0),IF(résa!$J$5="Village",(MONTH(résa!J18)*2)-1,MONTH(résa!J18)*2)),0) -> 0
A19: =IF(A18="","",IF(A18+1<$B$2,A18+1,"")) | C19: =IF(A19<>"",OFFSET('prix chambre'!$A$2,MATCH(DAY(résa!$A19),Jours,0),IF(résa!$A$5="Village",(MONTH(résa!A19)*2)-1,MONTH(résa!A19)*2)),0) -> 0 | D19: =IF(D18="","",IF(D18+1<$B$2,D18+1,"")) | F19: =IF(D19<>"",OFFSET('prix chambre'!$A$2,MATCH(DAY(résa!$A19),Jours,0),IF(résa!$D$5="Village",(MONTH(résa!D19)*2)-1,MONTH(résa!D19)*2)),0) -> 0 | G19: =IF(G18="","",IF(G18+1<$B$2,G18+1,"")) | I19: =IF(G19<>"",OFFSET('prix chambre'!$A$2,MATCH(DAY(résa!$A19),Jours,0),IF(résa!$G$5="Village",(MONTH(résa!G19)*2)-1,MONTH(résa!G19)*2)),0) -> 0 | J19: =IF(J18="","",IF(J18+1<$B$2,J18+1,"")) | L19: =IF(J19<>"",OFFSET('prix chambre'!$A$2,MATCH(DAY(résa!$A19),Jours,0),IF(résa!$J$5="Village",(MONTH(résa!J19)*2)-1,MONTH(résa!J19)*2)),0) -> 0
A20: =IF(A19="","",IF(A19+1<$B$2,A19+1,"")) | C20: =IF(A20<>"",OFFSET('prix chambre'!$A$2,MATCH(DAY(résa!$A20),Jours,0),IF(résa!$A$5="Village",(MONTH(résa!A20)*2)-1,MONTH(résa!A20)*2)),0) -> 0 | D20: =IF(D19="","",IF(D19+1<$B$2,D19+1,"")) | F20: =IF(D20<>"",OFFSET('prix chambre'!$A$2,MATCH(DAY(résa!$A20),Jours,0),IF(résa!$D$5="Village",(MONTH(résa!D20)*2)-1,MONTH(résa!D20)*2)),0) -> 0 | G20: =IF(G19="","",IF(G19+1<$B$2,G19+1,"")) | I20: =IF(G20<>"",OFFSET('prix chambre'!$A$2,MATCH(DAY(résa!$A20),Jours,0),IF(résa!$G$5="Village",(MONTH(résa!G20)*2)-1,MONTH(résa!G20)*2)),0) -> 0 | J20: =IF(J19="","",IF(J19+1<$B$2,J19+1,"")) | L20: =IF(J20<>"",OFFSET('prix chambre'!$A$2,MATCH(DAY(résa!$A20),Jours,0),IF(résa!$J$5="Village",(MONTH(résa!J20)*2)-1,MONTH(résa!J20)*2)),0) -> 0
... A44: =IF(A43="","",IF(A43+1<$B$2,A43+1,"")) | C44: =IF(A44<>"",OFFSET('prix chambre'!$A$2,MATCH(DAY(résa!$A44),Jours,0),IF(résa!$A$5="Village",(MONTH(résa!A44)*2)-1,MONTH(résa!A44)*2)),0) -> 0 | D44: =IF(D43="","",IF(D43+1<$B$2,D43+1,"")) | F44: =IF(D44<>"",OFFSET('prix chambre'!$A$2,MATCH(DAY(résa!$A44),Jours,0),IF(résa!$D$5="Village",(MONTH(résa!D44)*2)-1,MONTH(résa!D44)*2)),0) -> 0 | G44: =IF(G43="","",IF(G43+1<$B$2,G43+1,"")) | I44: =IF(G44<>"",OFFSET('prix chambre'!$A$2,MATCH(DAY(résa!$A44),Jours,0),IF(résa!$G$5="Village",(MONTH(résa!G44)*2)-1,MONTH(résa!G44)*2)),0) -> 0 | J44: =IF(J43="","",IF(J43+1<$B$2,J43+1,"")) | L44: =IF(J44<>"",OFFSET('prix chambre'!$A$2,MATCH(DAY(résa!$A44),Jours,0),IF(résa!$J$5="Village",(MONTH(résa!J44)*2)-1,MONTH(résa!J44)*2)),0) -> 0
A45: =IF(A44="","",IF(A44+1<$B$2,A44+1,"")) | B45: =IF(A45<>"",OFFSET('prix chambre'!$A$2,MATCH(DAY(résa!$A45),Jours,0),IF(résa!$A$5="Single",(MONTH(résa!A45)*2)-1,MONTH(résa!A45)*2)),0) -> 0 | C45: =IF(A45<>"",OFFSET('prix chambre'!$A$2,MATCH(DAY(résa!$A45),Jours,0),IF(résa!$A$5="Village",(MONTH(résa!A45)*2)-1,MONTH(résa!A45)*2)),0) -> 0 | D45: =IF(D44="","",IF(D44+1<$B$2,D44+1,"")) | E45: =IF(D45<>"",OFFSET('prix chambre'!$A$2,MATCH(DAY(résa!$A45),Jours,0),IF(résa!$A$5="Single",(MONTH(résa!D45)*2)-1,MONTH(résa!D45)*2)),0) -> 0 | F45: =IF(D45<>"",OFFSET('prix chambre'!$A$2,MATCH(DAY(résa!$A45),Jours,0),IF(résa!$D$5="Village",(MONTH(résa!D45)*2)-1,MONTH(résa!D45)*2)),0) -> 0 | G45: =IF(G44="","",IF(G44+1<$B$2,G44+1,"")) | H45: =IF(G45<>"",OFFSET('prix chambre'!$A$2,MATCH(DAY(résa!$A45),Jours,0),IF(résa!$A$5="Single",(MONTH(résa!G45)*2)-1,MONTH(résa!G45)*2)),0) -> 0 | I45: =IF(G45<>"",OFFSET('prix chambre'!$A$2,MATCH(DAY(résa!$A45),Jours,0),IF(résa!$G$5="Village",(MONTH(résa!G45)*2)-1,MONTH(résa!G45)*2)),0) -> 0 | J45: =IF(J44="","",IF(J44+1<$B$2,J44+1,"")) | K45: =IF(J45<>"",OFFSET('prix chambre'!$A$2,MATCH(DAY(résa!$A45),Jours,0),IF(résa!$A$5="Single",(MONTH(résa!J45)*2)-1,MONTH(résa!J45)*2)),0) -> 0 | L45: =IF(J45<>"",OFFSET('prix chambre'!$A$2,MATCH(DAY(résa!$A45),Jours,0),IF(résa!$J$5="Village",(MONTH(résa!J45)*2)-1,MONTH(résa!J45)*2)),0) -> 0
A46: =IF(A45="","",IF(A45+1<$B$2,A45+1,"")) | B46: =IF(A46<>"",OFFSET('prix chambre'!$A$2,MATCH(DAY(résa!$A46),Jours,0),IF(résa!$A$5="Single",(MONTH(résa!A46)*2)-1,MONTH(résa!A46)*2)),0) -> 0 | C46: =IF(A46<>"",OFFSET('prix chambre'!$A$2,MATCH(DAY(résa!$A46),Jours,0),IF(résa!$A$5="Village",(MONTH(résa!A46)*2)-1,MONTH(résa!A46)*2)),0) -> 0 | D46: =IF(D45="","",IF(D45+1<$B$2,D45+1,"")) | E46: =IF(D46<>"",OFFSET('prix chambre'!$A$2,MATCH(DAY(résa!$A46),Jours,0),IF(résa!$A$5="Single",(MONTH(résa!D46)*2)-1,MONTH(résa!D46)*2)),0) -> 0 | F46: =IF(D46<>"",OFFSET('prix chambre'!$A$2,MATCH(DAY(résa!$A46),Jours,0),IF(résa!$D$5="Village",(MONTH(résa!D46)*2)-1,MONTH(résa!D46)*2)),0) -> 0 | G46: =IF(G45="","",IF(G45+1<$B$2,G45+1,"")) | H46: =IF(G46<>"",OFFSET('prix chambre'!$A$2,MATCH(DAY(résa!$A46),Jours,0),IF(résa!$A$5="Single",(MONTH(résa!G46)*2)-1,MONTH(résa!G46)*2)),0) -> 0 | I46: =IF(G46<>"",OFFSET('prix chambre'!$A$2,MATCH(DAY(résa!$A46),Jours,0),IF(résa!$G$5="Village",(MONTH(résa!G46)*2)-1,MONTH(résa!G46)*2)),0) -> 0 | J46: =IF(J45="","",IF(J45+1<$B$2,J45+1,"")) | K46: =IF(J46<>"",OFFSET('prix chambre'!$A$2,MATCH(DAY(résa!$A46),Jours,0),IF(résa!$A$5="Single",(MONTH(résa!J46)*2)-1,MONTH(résa!J46)*2)),0) -> 0 | L46: =IF(J46<>"",OFFSET('prix chambre'!$A$2,MATCH(DAY(résa!$A46),Jours,0),IF(résa!$J$5="Village",(MONTH(résa!J46)*2)-1,MONTH(résa!J46)*2)),0) -> 0
A47: =IF(A46="","",IF(A46+1<$B$2,A46+1,"")) | B47: =IF(A47<>"",OFFSET('prix chambre'!$A$2,MATCH(DAY(résa!$A47),Jours,0),IF(résa!$A$5="Single",(MONTH(résa!A47)*2)-1,MONTH(résa!A47)*2)),0) -> 0 | C47: =IF(A47<>"",OFFSET('prix chambre'!$A$2,MATCH(DAY(résa!$A47),Jours,0),IF(résa!$A$5="Village",(MONTH(résa!A47)*2)-1,MONTH(résa!A47)*2)),0) -> 0 | D47: =IF(D46="","",IF(D46+1<$B$2,D46+1,"")) | E47: =IF(D47<>"",OFFSET('prix chambre'!$A$2,MATCH(DAY(résa!$A47),Jours,0),IF(résa!$A$5="Single",(MONTH(résa!D47)*2)-1,MONTH(résa!D47)*2)),0) -> 0 | F47: =IF(D47<>"",OFFSET('prix chambre'!$A$2,MATCH(DAY(résa!$A47),Jours,0),IF(résa!$D$5="Village",(MONTH(résa!D47)*2)-1,MONTH(résa!D47)*2)),0) -> 0 | G47: =IF(G46="","",IF(G46+1<$B$2,G46+1,"")) | H47: =IF(G47<>"",OFFSET('prix chambre'!$A$2,MATCH(DAY(résa!$A47),Jours,0),IF(résa!$A$5="Single",(MONTH(résa!G47)*2)-1,MONTH(résa!G47)*2)),0) -> 0 | I47: =IF(G47<>"",OFFSET('prix chambre'!$A$2,MATCH(DAY(résa!$A47),Jours,0),IF(résa!$G$5="Village",(MONTH(résa!G47)*2)-1,MONTH(résa!G47)*2)),0) -> 0 | J47: =IF(J46="","",IF(J46+1<$B$2,J46+1,"")) | K47: =IF(J47<>"",OFFSET('prix chambre'!$A$2,MATCH(DAY(résa!$A47),Jours,0),IF(résa!$A$5="Single",(MONTH(résa!J47)*2)-1,MONTH(résa!J47)*2)),0) -> 0 | L47: =IF(J47<>"",OFFSET('prix chambre'!$A$2,MATCH(DAY(résa!$A47),Jours,0),IF(résa!$J$5="Village",(MONTH(résa!J47)*2)-1,MONTH(résa!J47)*2)),0) -> 0
A48: =IF(A47="","",IF(A47+1<$B$2,A47+1,"")) | B48: =IF(A48<>"",OFFSET('prix chambre'!$A$2,MATCH(DAY(résa!$A48),Jours,0),IF(résa!$A$5="Single",(MONTH(résa!A48)*2)-1,MONTH(résa!A48)*2)),0) -> 0 | C48: =IF(A48<>"",OFFSET('prix chambre'!$A$2,MATCH(DAY(résa!$A48),Jours,0),IF(résa!$A$5="Village",(MONTH(résa!A48)*2)-1,MONTH(résa!A48)*2)),0) -> 0 | D48: =IF(D47="","",IF(D47+1<$B$2,D47+1,"")) | E48: =IF(D48<>"",OFFSET('prix chambre'!$A$2,MATCH(DAY(résa!$A48),Jours,0),IF(résa!$A$5="Single",(MONTH(résa!D48)*2)-1,MONTH(résa!D48)*2)),0) -> 0 | F48: =IF(D48<>"",OFFSET('prix chambre'!$A$2,MATCH(DAY(résa!$A48),Jours,0),IF(résa!$D$5="Village",(MONTH(résa!D48)*2)-1,MONTH(résa!D48)*2)),0) -> 0 | G48: =IF(G47="","",IF(G47+1<$B$2,G47+1,"")) | H48: =IF(G48<>"",OFFSET('prix chambre'!$A$2,MATCH(DAY(résa!$A48),Jours,0),IF(résa!$A$5="Single",(MONTH(résa!G48)*2)-1,MONTH(résa!G48)*2)),0) -> 0 | I48: =IF(G48<>"",OFFSET('prix chambre'!$A$2,MATCH(DAY(résa!$A48),Jours,0),IF(résa!$G$5="Village",(MONTH(résa!G48)*2)-1,MONTH(résa!G48)*2)),0) -> 0 | J48: =IF(J47="","",IF(J47+1<$B$2,J47+1,"")) | K48: =IF(J48<>"",OFFSET('prix chambre'!$A$2,MATCH(DAY(résa!$A48),Jours,0),IF(résa!$A$5="Single",(MONTH(résa!J48)*2)-1,MONTH(résa!J48)*2)),0) -> 0 | L48: =IF(J48<>"",OFFSET('prix chambre'!$A$2,MATCH(DAY(résa!$A48),Jours,0),IF(résa!$J$5="Village",(MONTH(résa!J48)*2)-1,MONTH(résa!J48)*2)),0) -> 0
A49: =IF(A48="","",IF(A48+1<$B$2,A48+1,"")) | B49: =IF(A49<>"",OFFSET('prix chambre'!$A$2,MATCH(DAY(résa!$A49),Jours,0),IF(résa!$A$5="Single",(MONTH(résa!A49)*2)-1,MONTH(résa!A49)*2)),0) -> 0 | C49: =IF(A49<>"",OFFSET('prix chambre'!$A$2,MATCH(DAY(résa!$A49),Jours,0),IF(résa!$A$5="Village",(MONTH(résa!A49)*2)-1,MONTH(résa!A49)*2)),0) -> 0 | D49: =IF(D48="","",IF(D48+1<$B$2,D48+1,"")) | E49: =IF(D49<>"",OFFSET('prix chambre'!$A$2,MATCH(DAY(résa!$A49),Jours,0),IF(résa!$A$5="Single",(MONTH(résa!D49)*2)-1,MONTH(résa!D49)*2)),0) -> 0 | F49: =IF(D49<>"",OFFSET('prix chambre'!$A$2,MATCH(DAY(résa!$A49),Jours,0),IF(résa!$D$5="Village",(MONTH(résa!D49)*2)-1,MONTH(résa!D49)*2)),0) -> 0 | G49: =IF(G48="","",IF(G48+1<$B$2,G48+1,"")) | H49: =IF(G49<>"",OFFSET('prix chambre'!$A$2,MATCH(DAY(résa!$A49),Jours,0),IF(résa!$A$5="Single",(MONTH(résa!G49)*2)-1,MONTH(résa!G49)*2)),0) -> 0 | I49: =IF(G49<>"",OFFSET('prix chambre'!$A$2,MATCH(DAY(résa!$A49),Jours,0),IF(résa!$G$5="Village",(MONTH(résa!G49)*2)-1,MONTH(résa!G49)*2)),0) -> 0 | J49: =IF(J48="","",IF(J48+1<$B$2,J48+1,"")) | K49: =IF(J49<>"",OFFSET('prix chambre'!$A$2,MATCH(DAY(résa!$A49),Jours,0),IF(résa!$A$5="Single",(MONTH(résa!J49)*2)-1,MONTH(résa!J49)*2)),0) -> 0 | L49: =IF(J49<>"",OFFSET('prix chambre'!$A$2,MATCH(DAY(résa!$A49),Jours,0),IF(résa!$J$5="Village",(MONTH(résa!J49)*2)-1,MONTH(résa!J49)*2)),0) -> 0
A50: =IF(A49="","",IF(A49+1<$B$2,A49+1,"")) | B50: =IF(A50<>"",OFFSET('prix chambre'!$A$2,MATCH(DAY(résa!$A50),Jours,0),IF(résa!$A$5="Single",(MONTH(résa!A50)*2)-1,MONTH(résa!A50)*2)),0) -> 0 | C50: =IF(A50<>"",OFFSET('prix chambre'!$A$2,MATCH(DAY(résa!$A50),Jours,0),IF(résa!$A$5="Village",(MONTH(résa!A50)*2)-1,MONTH(résa!A50)*2)),0) -> 0 | D50: =IF(D49="","",IF(D49+1<$B$2,D49+1,"")) | E50: =IF(D50<>"",OFFSET('prix chambre'!$A$2,MATCH(DAY(résa!$A50),Jours,0),IF(résa!$A$5="Single",(MONTH(résa!D50)*2)-1,MONTH(résa!D50)*2)),0) -> 0 | F50: =IF(D50<>"",OFFSET('prix chambre'!$A$2,MATCH(DAY(résa!$A50),Jours,0),IF(résa!$D$5="Village",(MONTH(résa!D50)*2)-1,MONTH(résa!D50)*2)),0) -> 0 | G50: =IF(G49="","",IF(G49+1<$B$2,G49+1,"")) | H50: =IF(G50<>"",OFFSET('prix chambre'!$A$2,MATCH(DAY(résa!$A50),Jours,0),IF(résa!$A$5="Single",(MONTH(résa!G50)*2)-1,MONTH(résa!G50)*2)),0) -> 0 | I50: =IF(G50<>"",OFFSET('prix chambre'!$A$2,MATCH(DAY(résa!$A50),Jours,0),IF(résa!$G$5="Village",(MONTH(résa!G50)*2)-1,MONTH(résa!G50)*2)),0) -> 0 | J50: =IF(J49="","",IF(J49+1<$B$2,J49+1,"")) | K50: =IF(J50<>"",OFFSET('prix chambre'!$A$2,MATCH(DAY(résa!$A50),Jours,0),IF(résa!$A$5="Single",(MONTH(résa!J50)*2)-1,MONTH(résa!J50)*2)),0) -> 0 | L50: =IF(J50<>"",OFFSET('prix chambre'!$A$2,MATCH(DAY(résa!$A50),Jours,0),IF(résa!$J$5="Village",(MONTH(résa!J50)*2)-1,MONTH(résa!J50)*2)),0) -> 0
A51: =IF(A50="","",IF(A50+1<$B$2,A50+1,"")) | B51: =IF(A51<>"",OFFSET('prix chambre'!$A$2,MATCH(DAY(résa!$A51),Jours,0),IF(résa!$A$5="Single",(MONTH(résa!A51)*2)-1,MONTH(résa!A51)*2)),0) -> 0 | C51: =IF(A51<>"",OFFSET('prix chambre'!$A$2,MATCH(DAY(résa!$A51),Jours,0),IF(résa!$A$5="Village",(MONTH(résa!A51)*2)-1,MONTH(résa!A51)*2)),0) -> 0 | D51: =IF(D50="","",IF(D50+1<$B$2,D50+1,"")) | E51: =IF(D51<>"",OFFSET('prix chambre'!$A$2,MATCH(DAY(résa!$A51),Jours,0),IF(résa!$A$5="Single",(MONTH(résa!D51)*2)-1,MONTH(résa!D51)*2)),0) -> 0 | F51: =IF(D51<>"",OFFSET('prix chambre'!$A$2,MATCH(DAY(résa!$A51),Jours,0),IF(résa!$D$5="Village",(MONTH(résa!D51)*2)-1,MONTH(résa!D51)*2)),0) -> 0 | G51: =IF(G50="","",IF(G50+1<$B$2,G50+1,"")) | H51: =IF(G51<>"",OFFSET('prix chambre'!$A$2,MATCH(DAY(résa!$A51),Jours,0),IF(résa!$A$5="Single",(MONTH(résa!G51)*2)-1,MONTH(résa!G51)*2)),0) -> 0 | I51: =IF(G51<>"",OFFSET('prix chambre'!$A$2,MATCH(DAY(résa!$A51),Jours,0),IF(résa!$G$5="Village",(MONTH(résa!G51)*2)-1,MONTH(résa!G51)*2)),0) -> 0 | J51: =IF(J50="","",IF(J50+1<$B$2,J50+1,"")) | K51: =IF(J51<>"",OFFSET('prix chambre'!$A$2,MATCH(DAY(résa!$A51),Jours,0),IF(résa!$A$5="Single",(MONTH(résa!J51)*2)-1,MONTH(résa!J51)*2)),0) -> 0 | L51: =IF(J51<>"",OFFSET('prix chambre'!$A$2,MATCH(DAY(résa!$A51),Jours,0),IF(résa!$J$5="Village",(MONTH(résa!J51)*2)-1,MONTH(résa!J51)*2)),0) -> 0
A52: =IF(A51="","",IF(A51+1<$B$2,A51+1,"")) | B52: =IF(A52<>"",OFFSET('prix chambre'!$A$2,MATCH(DAY(résa!$A52),Jours,0),IF(résa!$A$5="Single",(MONTH(résa!A52)*2)-1,MONTH(résa!A52)*2)),0) -> 0 | C52: =IF(A52<>"",OFFSET('prix chambre'!$A$2,MATCH(DAY(résa!$A52),Jours,0),IF(résa!$A$5="Village",(MONTH(résa!A52)*2)-1,MONTH(résa!A52)*2)),0) -> 0 | D52: =IF(D51="","",IF(D51+1<$B$2,D51+1,"")) | E52: =IF(D52<>"",OFFSET('prix chambre'!$A$2,MATCH(DAY(résa!$A52),Jours,0),IF(résa!$A$5="Single",(MONTH(résa!D52)*2)-1,MONTH(résa!D52)*2)),0) -> 0 | F52: =IF(D52<>"",OFFSET('prix chambre'!$A$2,MATCH(DAY(résa!$A52),Jours,0),IF(résa!$D$5="Village",(MONTH(résa!D52)*2)-1,MONTH(résa!D52)*2)),0) -> 0 | G52: =IF(G51="","",IF(G51+1<$B$2,G51+1,"")) | H52: =IF(G52<>"",OFFSET('prix chambre'!$A$2,MATCH(DAY(résa!$A52),Jours,0),IF(résa!$A$5="Single",(MONTH(résa!G52)*2)-1,MONTH(résa!G52)*2)),0) -> 0 | I52: =IF(G52<>"",OFFSET('prix chambre'!$A$2,MATCH(DAY(résa!$A52),Jours,0),IF(résa!$G$5="Village",(MONTH(résa!G52)*2)-1,MONTH(résa!G52)*2)),0) -> 0 | J52: =IF(J51="","",IF(J51+1<$B$2,J51+1,"")) | K52: =IF(J52<>"",OFFSET('prix chambre'!$A$2,MATCH(DAY(résa!$A52),Jours,0),IF(résa!$A$5="Single",(MONTH(résa!J52)*2)-1,MONTH(résa!J52)*2)),0) -> 0 | L52: =IF(J52<>"",OFFSET('prix chambre'!$A$2,MATCH(DAY(résa!$A52),Jours,0),IF(résa!$J$5="Village",(MONTH(résa!J52)*2)-1,MONTH(résa!J52)*2)),0) -> 0
A53: =IF(A52="","",IF(A52+1<$B$2,A52+1,"")) | B53: =IF(A53<>"",OFFSET('prix chambre'!$A$2,MATCH(DAY(résa!$A53),Jours,0),IF(résa!$A$5="Single",(MONTH(résa!A53)*2)-1,MONTH(résa!A53)*2)),0) -> 0 | C53: =IF(A53<>"",OFFSET('prix chambre'!$A$2,MATCH(DAY(résa!$A53),Jours,0),IF(résa!$A$5="Village",(MONTH(résa!A53)*2)-1,MONTH(résa!A53)*2)),0) -> 0 | D53: =IF(D52="","",IF(D52+1<$B$2,D52+1,"")) | E53: =IF(D53<>"",OFFSET('prix chambre'!$A$2,MATCH(DAY(résa!$A53),Jours,0),IF(résa!$A$5="Single",(MONTH(résa!D53)*2)-1,MONTH(résa!D53)*2)),0) -> 0 | F53: =IF(D53<>"",OFFSET('prix chambre'!$A$2,MATCH(DAY(résa!$A53),Jours,0),IF(résa!$D$5="Village",(MONTH(résa!D53)*2)-1,MONTH(résa!D53)*2)),0) -> 0 | G53: =IF(G52="","",IF(G52+1<$B$2,G52+1,"")) | H53: =IF(G53<>"",OFFSET('prix chambre'!$A$2,MATCH(DAY(résa!$A53),Jours,0),IF(résa!$A$5="Single",(MONTH(résa!G53)*2)-1,MONTH(résa!G53)*2)),0) -> 0 | I53: =IF(G53<>"",OFFSET('prix chambre'!$A$2,MATCH(DAY(résa!$A53),Jours,0),IF(résa!$G$5="Village",(MONTH(résa!G53)*2)-1,MONTH(résa!G53)*2)),0) -> 0 | J53: =IF(J52="","",IF(J52+1<$B$2,J52+1,"")) | K53: =IF(J53<>"",OFFSET('prix chambre'!$A$2,MATCH(DAY(résa!$A53),Jours,0),IF(résa!$A$5="Single",(MONTH(résa!J53)*2)-1,MONTH(résa!J53)*2)),0) -> 0 | L53: =IF(J53<>"",OFFSET('prix chambre'!$A$2,MATCH(DAY(résa!$A53),Jours,0),IF(résa!$J$5="Village",(MONTH(résa!J53)*2)-1,MONTH(résa!J53)*2)),0) -> 0
A54: =IF(A53="","",IF(A53+1<$B$2,A53+1,"")) | B54: =IF(A54<>"",OFFSET('prix chambre'!$A$2,MATCH(DAY(résa!$A54),Jours,0),IF(résa!$A$5="Single",(MONTH(résa!A54)*2)-1,MONTH(résa!A54)*2)),0) -> 0 | C54: =IF(A54<>"",OFFSET('prix chambre'!$A$2,MATCH(DAY(résa!$A54),Jours,0),IF(résa!$A$5="Village",(MONTH(résa!A54)*2)-1,MONTH(résa!A54)*2)),0) -> 0 | D54: =IF(D53="","",IF(D53+1<$B$2,D53+1,"")) | E54: =IF(D54<>"",OFFSET('prix chambre'!$A$2,MATCH(DAY(résa!$A54),Jours,0),IF(résa!$A$5="Single",(MONTH(résa!D54)*2)-1,MONTH(résa!D54)*2)),0) -> 0 | F54: =IF(D54<>"",OFFSET('prix chambre'!$A$2,MATCH(DAY(résa!$A54),Jours,0),IF(résa!$D$5="Village",(MONTH(résa!D54)*2)-1,MONTH(résa!D54)*2)),0) -> 0 | G54: =IF(G53="","",IF(G53+1<$B$2,G53+1,"")) | H54: =IF(G54<>"",OFFSET('prix chambre'!$A$2,MATCH(DAY(résa!$A54),Jours,0),IF(résa!$A$5="Single",(MONTH(résa!G54)*2)-1,MONTH(résa!G54)*2)),0) -> 0 | I54: =IF(G54<>"",OFFSET('prix chambre'!$A$2,MATCH(DAY(résa!$A54),Jours,0),IF(résa!$G$5="Village",(MONTH(résa!G54)*2)-1,MONTH(résa!G54)*2)),0) -> 0 | J54: =IF(J53="","",IF(J53+1<$B$2,J53+1,"")) | K54: =IF(J54<>"",OFFSET('prix chambre'!$A$2,MATCH(DAY(résa!$A54),Jours,0),IF(résa!$A$5="Single",(MONTH(résa!J54)*2)-1,MONTH(résa!J54)*2)),0) -> 0 | L54: =IF(J54<>"",OFFSET('prix chambre'!$A$2,MATCH(DAY(résa!$A54),Jours,0),IF(résa!$J$5="Village",(MONTH(résa!J54)*2)-1,MONTH(résa!J54)*2)),0) -> 0
A55: =IF(A54="","",IF(A54+1<$B$2,A54+1,"")) | B55: =IF(A55<>"",OFFSET('prix chambre'!$A$2,MATCH(DAY(résa!$A55),Jours,0),IF(résa!$A$5="Single",(MONTH(résa!A55)*2)-1,MONTH(résa!A55)*2)),0) -> 0 | C55: =IF(A55<>"",OFFSET('prix chambre'!$A$2,MATCH(DAY(résa!$A55),Jours,0),IF(résa!$A$5="Village",(MONTH(résa!A55)*2)-1,MONTH(résa!A55)*2)),0) -> 0 | D55: =IF(D54="","",IF(D54+1<$B$2,D54+1,"")) | E55: =IF(D55<>"",OFFSET('prix chambre'!$A$2,MATCH(DAY(résa!$A55),Jours,0),IF(résa!$A$5="Single",(MONTH(résa!D55)*2)-1,MONTH(résa!D55)*2)),0) -> 0 | F55: =IF(D55<>"",OFFSET('prix chambre'!$A$2,MATCH(DAY(résa!$A55),Jours,0),IF(résa!$D$5="Village",(MONTH(résa!D55)*2)-1,MONTH(résa!D55)*2)),0) -> 0 | G55: =IF(G54="","",IF(G54+1<$B$2,G54+1,"")) | H55: =IF(G55<>"",OFFSET('prix chambre'!$A$2,MATCH(DAY(résa!$A55),Jours,0),IF(résa!$A$5="Single",(MONTH(résa!G55)*2)-1,MONTH(résa!G55)*2)),0) -> 0 | I55: =IF(G55<>"",OFFSET('prix chambre'!$A$2,MATCH(DAY(résa!$A55),Jours,0),IF(résa!$G$5="Village",(MONTH(résa!G55)*2)-1,MONTH(résa!G55)*2)),0) -> 0 | J55: =IF(J54="","",IF(J54+1<$B$2,J54+1,"")) | K55: =IF(J55<>"",OFFSET('prix chambre'!$A$2,MATCH(DAY(résa!$A55),Jours,0),IF(résa!$A$5="Single",(MONTH(résa!J55)*2)-1,MONTH(résa!J55)*2)),0) -> 0 | L55: =IF(J55<>"",OFFSET('prix chambre'!$A$2,MATCH(DAY(résa!$A55),Jours,0),IF(résa!$J$5="Village",(MONTH(résa!J55)*2)-1,MONTH(résa!J55)*2)),0) -> 0

Sheet prix chambre
A1: 2018 | B1: JANVIER | F1: FEVRIER | J1: MARS | N1: AVRIL | R1: MAI | V1: JUIN | Z1: JUILLET | AD1: AOUT | AH1: SEPTEMBRE | AL1: OCTOBRE | AP1: NOVEMBRE | AT1: DECEMBRE
A2: Jours | B2: Village | C2: Océan | D2: City | E2: Mer | F2: Village | G2: Océan | H2: City | I2: Jeu. | J2: Village | K2: Océan | L2: City | M2: Ven. | N2: Village | O2: Océan | P2: City | Q2: Sam. | R2: Village | S2: Océan | T2: City | U2: Dim. | V2: Village | W2: Océan | X2: City | Y2: Lun. | Z2: Village | AA2: Océan | AB2: City | AC2: Mar. | AD2: Village | AE2: Océan | AF2: City | AG2: Mer. | AH2: Village | AI2: Océan | AJ2: City | AK2: Jeu. | AL2: Village | AM2: Océan | AN2: City | AO2: Ven. | AP2: Village | AQ2: Océan | AR2: City | AS2: Sam. | AT2: Village | AU2: Océan | AV2: City | AW2: Dim.
A3: 1 | B3: 45 | C3: 55 | D3: 40 | E3: 60 | F3: 40 | G3: 50 | H3: 35 | I3: 55 | J3: 45 | K3: 55 | L3: 40 | M3: 60 | N3: 45 | O3: 55 | P3: 40 | Q3: 60 | R3: 45 | S3: 55 | T3: 40 | U3: 60 | V3: 40 | W3: 50 | X3: 35 | Y3: 55 | Z3: 55 | AA3: 60 | AB3: 45 | AC3: 65 | AD3: 55 | AE3: 60 | AF3: 45 | AG3: 65 | AH3: 55 | AI3: 60 | AJ3: 45 | AK3: 65 | AL3: 40 | AM3: 50 | AN3: 30 | AO3: 55 | AP3: 40 | AQ3: 50 | AR3: 30 | AS3: 55 | AT3: 40 | AU3: 50 | AV3: 30 | AW3: 55
A4: 2 | B4: 45 | C4: 55 | D4: 40 | E4: 60 | F4: 40 | G4: 50 | H4: 35 | I4: 55 | J4: 45 | K4: 55 | L4: 40 | M4: 60 | N4: 45 | O4: 55 | P4: 40 | Q4: 60 | R4: 45 | S4: 55 | T4: 40 | U4: 60 | V4: 40 | W4: 50 | X4: 35 | Y4: 55 | Z4: 55 | AA4: 60 | AB4: 45 | AC4: 65 | AD4: 55 | AE4: 60 | AF4: 45 | AG4: 65 | AH4: 55 | AI4: 60 | AJ4: 45 | AK4: 65 | AL4: 40 | AM4: 50 | AN4: 30 | AO4: 55 | AP4: 40 | AQ4: 50 | AR4: 30 | AS4: 55 | AT4: 40 | AU4: 50 | AV4: 30 | AW4: 55
A5: 3 | B5: 45 | C5: 55 | D5: 40 | E5: 60 | F5: 40 | G5: 50 | H5: 35 | I5: 55 | J5: 45 | K5: 55 | L5: 40 | M5: 60 | N5: 45 | O5: 55 | P5: 40 | Q5: 60 | R5: 45 | S5: 55 | T5: 40 | U5: 60 | V5: 40 | W5: 50 | X5: 35 | Y5: 55 | Z5: 55 | AA5: 60 | AB5: 45 | AC5: 65 | AD5: 55 | AE5: 60 | AF5: 45 | AG5: 65 | AH5: 55 | AI5: 60 | AJ5: 45 | AK5: 65 | AL5: 40 | AM5: 50 | AN5: 30 | AO5: 55 | AP5: 40 | AQ5: 50 | AR5: 30 | AS5: 55 | AT5: 40 | AU5: 50 | AV5: 30 | AW5: 55
A6: 4 | B6: 45 | C6: 55 | D6: 40 | E6: 60 | F6: 40 | G6: 50 | H6: 35 | I6: 55 | J6: 45 | K6: 55 | L6: 40 | M6: 60 | N6: 45 | O6: 55 | P6: 40 | Q6: 60 | R6: 45 | S6: 55 | T6: 40 | U6: 60 | V6: 40 | W6: 50 | X6: 35 | Y6: 55 | Z6: 55 | AA6: 60 | AB6: 45 | AC6: 65 | AD6: 55 | AE6: 60 | AF6: 45 | AG6: 65 | AH6: 55 | AI6: 60 | AJ6: 45 | AK6: 65 | AL6: 40 | AM6: 50 | AN6: 30 | AO6: 55 | AP6: 40 | AQ6: 50 | AR6: 30 | AS6: 55 | AT6: 40 | AU6: 50 | AV6: 30 | AW6: 55
A7: 5 | B7: 45 | C7: 55 | D7: 40 | E7: 60 | F7: 40 | G7: 50 | H7: 35 | I7: 55 | J7: 45 | K7: 55 | L7: 40 | M7: 60 | N7: 45 | O7: 55 | P7: 40 | Q7: 60 | R7: 45 | S7: 55 | T7: 40 | U7: 60 | V7: 40 | W7: 50 | X7: 35 | Y7: 55 | Z7: 55 | AA7: 60 | AB7: 45 | AC7: 65 | AD7: 55 | AE7: 60 | AF7: 45 | AG7: 65 | AH7: 55 | AI7: 60 | AJ7: 45 | AK7: 65 | AL7: 40 | AM7: 50 | AN7: 30 | AO7: 55 | AP7: 40 | AQ7: 50 | AR7: 30 | AS7: 55 | AT7: 40 | AU7: 50 | AV7: 30 | AW7: 55
A8: 6 | B8: 45 | C8: 55 | D8: 40 | E8: 60 | F8: 40 | G8: 50 | H8: 35 | I8: 55 | J8: 45 | K8: 55 | L8: 40 | M8: 60 | N8: 45 | O8: 55 | P8: 40 | Q8: 60 | R8: 45 | S8: 55 | T8: 40 | U8: 60 | V8: 40 | W8: 50 | X8: 35 | Y8: 55 | Z8: 55 | AA8: 60 | AB8: 45 | AC8: 65 | AD8: 55 | AE8: 60 | AF8: 45 | AG8: 65 | AH8: 55 | AI8: 60 | AJ8: 45 | AK8: 65 | AL8: 40 | AM8: 50 | AN8: 30 | AO8: 55 | AP8: 40 | AQ8: 50 | AR8: 30 | AS8: 55 | AT8: 40 | AU8: 50 | AV8: 30 | AW8: 55
A9: 7 | B9: 45 | C9: 55 | D9: 40 | E9: 60 | F9: 40 | G9: 50 | H9: 35 | I9: 55 | J9: 45 | K9: 55 | L9: 40 | M9: 60 | N9: 45 | O9: 55 | P9: 40 | Q9: 60 | R9: 45 | S9: 55 | T9: 40 | U9: 60 | V9: 40 | W9: 50 | X9: 35 | Y9: 55 | Z9: 55 | AA9: 60 | AB9: 45 | AC9: 65 | AD9: 55 | AE9: 60 | AF9: 45 | AG9: 65 | AH9: 55 | AI9: 60 | AJ9: 45 | AK9: 65 | AL9: 40 | AM9: 50 | AN9: 30 | AO9: 55 | AP9: 40 | AQ9: 50 | AR9: 30 | AS9: 55 | AT9: 40 | AU9: 50 | AV9: 30 | AW9: 55
A10: 8 | B10: 45 | C10: 55 | D10: 40 | E10: 60 | F10: 40 | G10: 50 | H10: 35 | I10: 55 | J10: 45 | K10: 55 | L10: 40 | M10: 60 | N10: 45 | O10: 55 | P10: 40 | Q10: 60 | R10: 45 | S10: 55 | T10: 40 | U10: 60 | V10: 40 | W10: 50 | X10: 35 | Y10: 55 | Z10: 55 | AA10: 60 | AB10: 45 | AC10: 65 | AD10: 55 | AE10: 60 | AF10: 45 | AG10: 65 | AH10: 55 | AI10: 60 | AJ10: 45 | AK10: 65 | AL10: 40 | AM10: 50 | AN10: 30 | AO10: 55 | AP10: 40 | AQ10: 50 | AR10: 30 | AS10: 55 | AT10: 40 | AU10: 50 | AV10: 30 | AW10: 55
A11: 9 | B11: 45 | C11: 55 | D11: 40 | E11: 60 | F11: 40 | G11: 50 | H11: 35 | I11: 55 | J11: 45 | K11: 55 | L11: 40 | M11: 60 | N11: 45 | O11: 55 | P11: 40 | Q11: 60 | R11: 45 | S11: 55 | T11: 40 | U11: 60 | V11: 40 | W11: 50 | X11: 35 | Y11: 55 | Z11: 55 | AA11: 60 | AB11: 45 | AC11: 65 | AD11: 55 | AE11: 60 | AF11: 45 | AG11: 65 | AH11: 55 | AI11: 60 | AJ11: 45 | AK11: 65 | AL11: 40 | AM11: 50 | AN11: 30 | AO11: 55 | AP11: 40 | AQ11: 50 | AR11: 30 | AS11: 55 | AT11: 40 | AU11: 50 | AV11: 30 | AW11: 55
A12: 10 | B12: 45 | C12: 55 | D12: 40 | E12: 60 | F12: 40 | G12: 50 | H12: 35 | I12: 55 | J12: 45 | K12: 55 | L12: 40 | M12: 60 | N12: 45 | O12: 55 | P12: 40 | Q12: 60 | R12: 45 | S12: 55 | T12: 40 | U12: 60 | V12: 40 | W12: 50 | X12: 35 | Y12: 55 | Z12: 55 | AA12: 60 | AB12: 45 | AC12: 65 | AD12: 55 | AE12: 60 | AF12: 45 | AG12: 65 | AH12: 55 | AI12: 60 | AJ12: 45 | AK12: 65 | AL12: 40 | AM12: 50 | AN12: 30 | AO12: 55 | AP12: 40 | AQ12: 50 | AR12: 30 | AS12: 55 | AT12: 40 | AU12: 50 | AV12: 30 | AW12: 55
A13: 11 | B13: 45 | C13: 55 | D13: 40 | E13: 60 | F13: 40 | G13: 50 | H13: 35 | I13: 55 | J13: 45 | K13: 55 | L13: 40 | M13: 60 | N13: 45 | O13: 55 | P13: 40 | Q13: 60 | R13: 45 | S13: 55 | T13: 40 | U13: 60 | V13: 40 | W13: 50 | X13: 35 | Y13: 55 | Z13: 55 | AA13: 60 | AB13: 45 | AC13: 65 | AD13: 55 | AE13: 60 | AF13: 45 | AG13: 65 | AH13: 55 | AI13: 60 | AJ13: 45 | AK13: 65 | AL13: 40 | AM13: 50 | AN13: 30 | AO13: 55 | AP13: 40 | AQ13: 50 | AR13: 30 | AS13: 55 | AT13: 40 | AU13: 50 | AV13: 30 | AW13: 55
A14: 12 | B14: 45 | C14: 55 | D14: 40 | E14: 60 | F14: 40 | G14: 50 | H14: 35 | I14: 55 | J14: 45 | K14: 55 | L14: 40 | M14: 60 | N14: 45 | O14: 55 | P14: 40 | Q14: 60 | R14: 45 | S14: 55 | T14: 40 | U14: 60 | V14: 40 | W14: 50 | X14: 35 | Y14: 55 | Z14: 55 | AA14: 60 | AB14: 45 | AC14: 65 | AD14: 55 | AE14: 60 | AF14: 45 | AG14: 65 | AH14: 55 | AI14: 60 | AJ14: 45 | AK14: 65 | AL14: 40 | AM14: 50 | AN14: 30 | AO14: 55 | AP14: 40 | AQ14: 50 | AR14: 30 | AS14: 55 | AT14: 40 | AU14: 50 | AV14: 30 | AW14: 55
... A30: 28 | B30: 45 | C30: 55 | D30: 40 | E30: 60 | F30: 40 | G30: 50 | H30: 35 | I30: 55 | J30: 45 | K30: 55 | L30: 40 | M30: 60 | N30: 45 | O30: 55 | P30: 40 | Q30: 60 | R30: 45 | S30: 55 | T30: 40 | U30: 60 | V30: 40 | W30: 50 | X30: 35 | Y30: 55 | Z30: 55 | AA30: 60 | AB30: 45 | AC30: 65 | AD30: 55 | AE30: 60 | AF30: 45 | AG30: 65 | AH30: 55 | AI30: 60 | AJ30: 45 | AK30: 65 | AL30: 40 | AM30: 50 | AN30: 30 | AO30: 55 | AP30: 40 | AQ30: 50 | AR30: 30 | AS30: 55 | AT30: 55 | AU30: 60 | AV30: 45 | AW30: 65
A31: 29 | B31: 45 | C31: 55 | D31: 40 | E31: 60 | J31: 45 | K31: 55 | L31: 40 | M31: 60 | N31: 45 | O31: 55 | P31: 40 | Q31: 60 | R31: 45 | S31: 55 | T31: 40 | U31: 60 | V31: 40 | W31: 50 | X31: 35 | Y31: 55 | Z31: 55 | AA31: 60 | AB31: 45 | AC31: 65 | AD31: 55 | AE31: 60 | AF31: 45 | AG31: 65 | AH31: 55 | AI31: 60 | AJ31: 45 | AK31: 65 | AL31: 40 | AM31: 50 | AN31: 30 | AO31: 55 | AP31: 40 | AQ31: 50 | AR31: 30 | AS31: 55 | AT31: 55 | AU31: 60 | AV31: 45 | AW31: 65
A32: 30 | B32: 45 | C32: 55 | D32: 40 | E32: 60 | J32: 45 | K32: 55 | L32: 40 | M32: 60 | N32: 45 | O32: 55 | P32: 40 | Q32: 60 | R32: 45 | S32: 55 | T32: 40 | U32: 60 | V32: 40 | W32: 50 | X32: 35 | Y32: 55 | Z32: 55 | AA32: 60 | AB32: 45 | AC32: 65 | AD32: 55 | AE32: 60 | AF32: 45 | AG32: 65 | AH32: 55 | AI32: 60 | AJ32: 45 | AK32: 65 | AL32: 40 | AM32: 50 | AN32: 30 | AO32: 55 | AP32: 40 | AQ32: 50 | AR32: 30 | AS32: 55 | AT32: 55 | AU32: 60 | AV32: 45 | AW32: 65
A33: 31 | B33: 45 | C33: 55 | D33: 40 | E33: 60 | J33: 45 | K33: 55 | L33: 40 | M33: 60 | R33: 45 | S33: 55 | T33: 40 | U33: 60 | Z33: 55 | AA33: 60 | AB33: 45 | AC33: 65 | AD33: 55 | AE33: 60 | AF33: 45 | AG33: 65 | AL33: 40 | AM33: 50 | AN33: 30 | AO33: 55 | AT33: 55 | AU33: 60 | AV33: 45 | AW33: 65
