Workbook

Sheet Coût fixe
B3: Coût fixe Bun | C3: Prix | E3: Coût fixe Modulable | F3: Prix | H3: Coût fixe Bandeau | I3: Prix | K3: Coût fixe plissé | L3: Prix
B4: Doublure | C4: 1.63 | E4: Doublure | F4: 1.4 | H4: Doublure | I4: 1.49 | K4: Etiquettes papier | L4: =C4 -> 1.63
B5: Etiquettes papier | C5: 0.3 | E5: Etiquettes papier | F5: =C5 -> 0.3 | H5: Etiquettes papier | I5: =C5 -> 0.3 | K5: Etiquettes tissu | L5: =C5 -> 0.3
B6: Enveloppe | C6: 0.17 | E6: Enveloppe | F6: 0.17 | H6: Enveloppe | I6: 0.17 | K6: Enveloppe | L6: 0.17
B7: Etiquettes tissu | C7: 0.36 | E7: Etiquettes tissu | F7: =C7 -> 0.36 | H7: Etiquettes tissu | I7: =C7 -> 0.36 | K7: Fil | L7: 0.05
B8: Fil | C8: 0.05 | E8: Fil | F8: 0.05 | H8: Fil | I8: 0.05 | K8: Scratch | L8: 0.3
B9: Bouton | C9: 0.25 | E9: Fil de fer | F9: 0.37 | H9: Bande élastique | I9: 0.19
B10: Elastique | C10: 0.18
B14: Coût heure de travail | C14: 18

Sheet Bun
A3: Nom tissu | B3: Prix de vente | C3: Prix du tissu | D3: Nombre de coupes | E3: Coût produit final | F3: Pix minimum marge à 30% | G3: Marge réelle | I3: Temps de travail en minutes
A4: Bun Marinière | B4: 40 | C4: 6 | D4: 2 | E4: =SUM('Coût fixe'!$C$4:$C$10)+(C4/D4)+('Coût fixe'!$C$14*$I$4/60) -> 23.94 | F4: =100*E4/70 -> 34.2 | G4: =(B4-E4)*1/B4 -> 0.4015 | I4: 60
A5: Bun Lagos | B5: 43 | C5: 7.6 | D5: 2 | E5: =SUM('Coût fixe'!$C$4:$C$10)+(C5/D5)+('Coût fixe'!$C$14*$I$4/60) -> 24.74 | F5: =100*E5/70 -> 35.342857 | G5: =(B5-E5)*1/B5 -> 0.42465116
A6: Bun Bamako | B6: 43 | C6: 7.6 | D6: 2 | E6: =SUM('Coût fixe'!$C$4:$C$10)+(C6/D6)+('Coût fixe'!$C$14*$I$4/60) -> 24.74 | F6: =100*E6/70 -> 35.342857 | G6: =(B6-E6)*1/B6 -> 0.42465116 | I6: Coût unitaire temps de travail
A7: Bun Jakarta | B7: 48 | C7: 15 | D7: 2 | E7: =SUM('Coût fixe'!$C$4:$C$10)+(C7/D7)+('Coût fixe'!$C$14*$I$4/60) -> 28.44 | F7: =100*E7/70 -> 40.628571 | G7: =(B7-E7)*1/B7 -> 0.4075 | I7: =I4*'Coût fixe'!C14/60 -> 18
A8: Bun Cherry | B8: 48 | C8: 17.9 | D8: 2 | E8: =SUM('Coût fixe'!$C$4:$C$10)+(C8/D8)+('Coût fixe'!$C$14*$I$4/60) -> 29.89 | F8: =100*E8/70 -> 42.7 | G8: =(B8-E8)*1/B8 -> 0.37729167

Sheet Modulable
A3: Nom tissu | B3: Prix de vente | C3: Prix du tissu | D3: Nombre de coupes | E3: Coût produit final | F3: Pix minimum marge à 30% | G3: Marge réelle | I3: Temps de travail en minutes
A4: Modulable Marinière | B4: 42 | C4: 6 | D4: 2 | E4: =SUM('Coût fixe'!$F$4:$F$9)+(C4/D4)+('Coût fixe'!$C$14*$I$4/60) -> 23.65 | F4: =100*E4/70 -> 33.785714 | G4: =(B4-E4)*1/B4 -> 0.43690476 | I4: 60
A5: Modulable Lagos | B5: 42 | C5: 7.6 | D5: 2 | E5: =SUM('Coût fixe'!$F$4:$F$9)+(C5/D5)+('Coût fixe'!$C$14*$I$4/60) -> 24.45 | F5: =100*E5/70 -> 34.928571 | G5: =(B5-E5)*1/B5 -> 0.41785714
A6: Modulable Nairobi | B6: 42 | C6: 7.6 | D6: 2 | E6: =SUM('Coût fixe'!$F$4:$F$9)+(C6/D6)+('Coût fixe'!$C$14*$I$4/60) -> 24.45 | F6: =100*E6/70 -> 34.928571 | G6: =(B6-E6)*1/B6 -> 0.41785714 | I6: Coût unitaire temps de travail
A7: Modulable Jakarta | B7: 45 | C7: 15 | D7: 2 | E7: =SUM('Coût fixe'!$F$4:$F$9)+(C7/D7)+('Coût fixe'!$C$14*$I$4/60) -> 28.15 | F7: =100*E7/70 -> 40.214286 | G7: =(B7-E7)*1/B7 -> 0.37444444 | I7: =I4*'Coût fixe'!C14/60 -> 18
A8: Modulable Archipel | B8: 45 | C8: 17.9 | D8: 2 | E8: =SUM('Coût fixe'!$F$4:$F$9)+(C8/D8)+('Coût fixe'!$C$14*$I$4/60) -> 29.6 | F8: =100*E8/70 -> 42.285714 | G8: =(B8-E8)*1/B8 -> 0.34222222

Sheet Plissé
A3: Nom tissu | B3: Prix de vente | C3: Prix du tissu | D3: Nombre de coupes | E3: Coût produit final | F3: Pix minimum marge à 30% | G3: Marge réelle | I3: Temps de travail en minutes
A4: Plissé Lagos | B4: 40 | C4: 7.6 | D4: 2 | E4: =SUM('Coût fixe'!$L$4:$L$8)+(C4/D4)+('Coût fixe'!$C$14*$I$4/60) -> 24.25 | F4: =100*E4/70 -> 34.642857 | G4: =(B4-E4)*1/B4 -> 0.39375 | I4: 60
A5: Plissé Bamako | B5: 40 | C5: 7.6 | D5: 2 | E5: =SUM('Coût fixe'!$L$4:$L$8)+(C5/D5)+('Coût fixe'!$C$14*$I$4/60) -> 24.25 | F5: =100*E5/70 -> 34.642857 | G5: =(B5-E5)*1/B5 -> 0.39375
A6: Plissé Nairobi | B6: 40 | C6: 7.6 | D6: 2 | E6: =SUM('Coût fixe'!$L$4:$L$8)+(C6/D6)+('Coût fixe'!$C$14*$I$4/60) -> 24.25 | F6: =100*E6/70 -> 34.642857 | G6: =(B6-E6)*1/B6 -> 0.39375 | I6: Coût unitaire temps de travail
A7: Plissé Scottish | B7: 42 | C7: 9.72 | D7: 3 | E7: =SUM('Coût fixe'!$L$4:$L$8)+(C7/D7)+('Coût fixe'!$C$14*$I$4/60) -> 23.69 | F7: =100*E7/70 -> 33.842857 | G7: =(B7-E7)*1/B7 -> 0.43595238 | I7: =I4*'Coût fixe'!C14/60 -> 18
A8: Plissé Lagon | B8: 42 | C8: 9.9 | D8: 3 | E8: =SUM('Coût fixe'!$L$4:$L$8)+(C8/D8)+('Coût fixe'!$C$14*$I$4/60) -> 23.75 | F8: =100*E8/70 -> 33.928571 | G8: =(B8-E8)*1/B8 -> 0.43452381

Sheet Bandeau
A3: Nom tissu | B3: Prix de vente | C3: Prix du tissu | D3: Nombre de coupes | E3: Coût produit final | F3: Pix minimum marge à 30% | G3: Marge réelle | I3: Temps de travail en minutes
A4: Bandeau Marinière | B4: 20 | C4: 6 | D4: 14 | E4: =SUM('Coût fixe'!$I$4:$I$9)+(C4/D4)+('Coût fixe'!$C$14*$I$4/60) -> 16.488571 | F4: =100*E4/70 -> 23.555102 | G4: =(B4-E4)*1/B4 -> 0.17557143 | I4: 45
A5: Bandeau Bamako | B5: 20 | C5: 7.6 | D5: 11 | E5: =SUM('Coût fixe'!$I$4:$I$9)+(C5/D5)+('Coût fixe'!$C$14*$I$4/60) -> 16.750909 | F5: =100*E5/70 -> 23.92987 | G5: =(B5-E5)*1/B5 -> 0.16245455
A6: Bandeau Nairobi | B6: 20 | C6: 7.6 | D6: 11 | E6: =SUM('Coût fixe'!$I$4:$I$9)+(C6/D6)+('Coût fixe'!$C$14*$I$4/60) -> 16.750909 | F6: =100*E6/70 -> 23.92987 | G6: =(B6-E6)*1/B6 -> 0.16245455 | I6: Coût unitaire temps de travail
A7: Bandeau Lagos | B7: 20 | C7: 7.6 | D7: 11 | E7: =SUM('Coût fixe'!$I$4:$I$9)+(C7/D7)+('Coût fixe'!$C$14*$I$4/60) -> 16.750909 | F7: =100*E7/70 -> 23.92987 | G7: =(B7-E7)*1/B7 -> 0.16245455 | I7: =I4*'Coût fixe'!C14/60 -> 13.5
A8: Bandeau Scottish | B8: 20 | C8: 9.72 | D8: 14 | E8: =SUM('Coût fixe'!$I$4:$I$9)+(C8/D8)+('Coût fixe'!$C$14*$I$4/60) -> 16.754286 | F8: =100*E8/70 -> 23.934694 | G8: =(B8-E8)*1/B8 -> 0.16228571
A9: Bandeau Lagon | B9: 20 | C9: 9.9 | D9: 16 | E9: =SUM('Coût fixe'!$I$4:$I$9)+(C9/D9)+('Coût fixe'!$C$14*$I$4/60) -> 16.67875 | F9: =100*E9/70 -> 23.826786 | G9: =(B9-E9)*1/B9 -> 0.1660625
A10: Bandeau Jakarta | B10: 25 | C10: 15 | D10: 13 | E10: =SUM('Coût fixe'!$I$4:$I$9)+(C10/D10)+('Coût fixe'!$C$14*$I$4/60) -> 17.213846 | F10: =100*E10/70 -> 24.591209 | G10: =(B10-E10)*1/B10 -> 0.31144615
A11: Bandeau Cherry | B11: 25 | C11: 17.9 | D11: 11 | E11: =SUM('Coût fixe'!$I$4:$I$9)+(C11/D11)+('Coût fixe'!$C$14*$I$4/60) -> 17.687273 | F11: =100*E11/70 -> 25.267532 | G11: =(B11-E11)*1/B11 -> 0.29250909
A12: Bandeau Archipel | B12: 25 | C12: 17.9 | D12: 10 | E12: =SUM('Coût fixe'!$I$4:$I$9)+(C12/D12)+('Coût fixe'!$C$14*$I$4/60) -> 17.85 | F12: =100*E12/70 -> 25.5 | G12: =(B12-E12)*1/B12 -> 0.286

Sheet Bénéfice
A2: Date facture | B2: Numéro de facture | C2: Montant facture | D2: Frais de livraison | E2: Buns vendus | F2: Coût de fabrication | G2: Modulables vendus | H2: Coût de fabrication | I2: Plissés vendus | J2: Coût de fabrication | K2: Bandeaux vendus | L2: Coût de fabrication | M2: Coût pochon | N2: Commission CB | O2: Bénéfice commande | P2: Coût horaire travail
A4: =IF('[1]Registre des ventes'!B6="","",'[1]Registre des ventes'!B6) -> 42872 | B4: =IF('[1]Registre des ventes'!C6="","",'[1]Registre des ventes'!C6) -> 10001 | C4: =IF('[1]Registre des ventes'!D6="","",'[1]Registre des ventes'!D6) -> 30 | D4: =IF(C4="","",IF(C4<90,"Payé par le client",6)) -> Payé par le client | F4: =IF(E4=Bun!$A$4,Bun!$E$4,IF(E4=Bun!$A$5,Bun!$E$5,IF(E4=Bun!$A$6,Bun!$E$6,IF(E4=Bun!$A$7,Bun!$E$7,IF(E4=Bun!$A$8,Bun!$E$8,""))))) | H4: =IF(G4=Modulable!$A$4,Modulable!$E$4,IF(G4=Modulable!$A$5,Modulable!$E$5,IF(G4=Modulable!$A$6,Modulable!$E$6,IF(G4=Modulable!$A$7,Modulable!$E$7,IF(G4=Modulable!$A$8,Modulable!$E$8,""))))) | J4: =IF(I4=Plissé!$A$4,Plissé!$E$4,IF(I4=Plissé!$A$5,Plissé!$E$5,IF(I4=Plissé!$A$6,Plissé!$E$6,IF(I4=Plissé!$A$7,Plissé!$E$7,IF(I4=Plissé!$A$8,Plissé!$E$8,""))))) | K4: Bandeau Cherry | L4: =IF(K4=Bandeau!$A$4,Bandeau!$E$4,IF(K4=Bandeau!$A$5,Bandeau!$E$5,IF(K4=Bandeau!$A$6,Bandeau!$E$6,IF(K4=Bandeau!$A$7,Bandeau!$E$7,IF(K4=Bandeau!$A$8,Bandeau!$E$8,IF(K4=Bandeau!$A$9,Bandeau!$E$9,IF(K4=Bandeau!$A$10,Bandeau!$E$10,IF(K4=Bandeau!$A$11,Bandeau!$E$11,IF(K4=Bandeau!$A$12,Bandeau!$E$12,""))))))))) -> 17.687273 | M4: =IF(C4="","",(1.5)) -> 1.5 | N4: =IF(C4="","",0.25+((1.4*C4)/100)) -> 0.67 | O4: =IF(C4="","",C4-SUM(D4,F4:F8,H4:H8,J4:J8,L4:L8,N4,M4)) -> 10.142727 | P4: =IF(C4="","",SUM(IF(E4="",0,Bun!$I$7),IF(E5="",0,Bun!$I$7),IF(E6="",0,Bun!$I$7),IF(E7="",0,Bun!$I$7),IF(E8="",0,Bun!$I$7),IF(G5="",0,Modulable!$I$7),IF(G6="",0,Modulable!$I$7),IF(G7="",0,Modulable!$I$7),IF(G8="",0,Modulable!$I$7),IF(G4="",0,Modulable!$I$7),IF(I4="",0,Plissé!$I$7),IF(I5="",0,Plissé!$I$7),IF(I6="",0,Plissé!$I$7),IF(I7="",0,Plissé!$I$7),IF(I8="",0,Plissé!$I$7),IF(L4="",0,Bandeau!$I$7),IF(L5="",0,Bandeau!$I$7),IF(L6="",0,Bandeau!$I$7),IF(L7="",0,Bandeau!$I$7),IF(L8="",0,Bandeau!$I$7))) -> 13.5
F5: =IF(E5=Bun!$A$4,Bun!$E$4,IF(E5=Bun!$A$5,Bun!$E$5,IF(E5=Bun!$A$6,Bun!$E$6,IF(E5=Bun!$A$7,Bun!$E$7,IF(E5=Bun!$A$8,Bun!$E$8,""))))) | H5: =IF(G5=Modulable!$A$4,Modulable!$E$4,IF(G5=Modulable!$A$5,Modulable!$E$5,IF(G5=Modulable!$A$6,Modulable!$E$6,IF(G5=Modulable!$A$7,Modulable!$E$7,IF(G5=Modulable!$A$8,Modulable!$E$8,""))))) | J5: =IF(I5=Plissé!$A$4,Plissé!$E$4,IF(I5=Plissé!$A$5,Plissé!$E$5,IF(I5=Plissé!$A$6,Plissé!$E$6,IF(I5=Plissé!$A$7,Plissé!$E$7,IF(I5=Plissé!$A$8,Plissé!$E$8,""))))) | L5: =IF(K5=Bandeau!$A$4,Bandeau!$E$4,IF(K5=Bandeau!$A$5,Bandeau!$E$5,IF(K5=Bandeau!$A$6,Bandeau!$E$6,IF(K5=Bandeau!$A$7,Bandeau!$E$7,IF(K5=Bandeau!$A$8,Bandeau!$E$8,IF(K5=Bandeau!$A$9,Bandeau!$E$9,IF(K5=Bandeau!$A$10,Bandeau!$E$10,IF(K5=Bandeau!$A$11,Bandeau!$E$11,IF(K5=Bandeau!$A$12,Bandeau!$E$12,""))))))))) | P5: =IF(C5="","",SUM(IF(E5="",0,Bun!$I$7),IF(E6="",0,Bun!$I$7),IF(E7="",0,Bun!$I$7),IF(E8="",0,Bun!$I$7),IF(E9="",0,Bun!$I$7),IF(G6="",0,Modulable!$I$7),IF(G7="",0,Modulable!$I$7),IF(G8="",0,Modulable!$I$7),IF(G9="",0,Modulable!$I$7),IF(G5="",0,Modulable!$I$7),IF(I5="",0,Plissé!$I$7),IF(I6="",0,Plissé!$I$7),IF(I7="",0,Plissé!$I$7),IF(I8="",0,Plissé!$I$7),IF(I9="",0,Plissé!$I$7),IF(L5="",0,Bandeau!$I$7),IF(L6="",0,Bandeau!$I$7),IF(L7="",0,Bandeau!$I$7),IF(L8="",0,Bandeau!$I$7),IF(L9="",0,Bandeau!$I$7)))
F6: =IF(E6=Bun!$A$4,Bun!$E$4,IF(E6=Bun!$A$5,Bun!$E$5,IF(E6=Bun!$A$6,Bun!$E$6,IF(E6=Bun!$A$7,Bun!$E$7,IF(E6=Bun!$A$8,Bun!$E$8,""))))) | H6: =IF(G6=Modulable!$A$4,Modulable!$E$4,IF(G6=Modulable!$A$5,Modulable!$E$5,IF(G6=Modulable!$A$6,Modulable!$E$6,IF(G6=Modulable!$A$7,Modulable!$E$7,IF(G6=Modulable!$A$8,Modulable!$E$8,""))))) | J6: =IF(I6=Plissé!$A$4,Plissé!$E$4,IF(I6=Plissé!$A$5,Plissé!$E$5,IF(I6=Plissé!$A$6,Plissé!$E$6,IF(I6=Plissé!$A$7,Plissé!$E$7,IF(I6=Plissé!$A$8,Plissé!$E$8,""))))) | L6: =IF(K6=Bandeau!$A$4,Bandeau!$E$4,IF(K6=Bandeau!$A$5,Bandeau!$E$5,IF(K6=Bandeau!$A$6,Bandeau!$E$6,IF(K6=Bandeau!$A$7,Bandeau!$E$7,IF(K6=Bandeau!$A$8,Bandeau!$E$8,IF(K6=Bandeau!$A$9,Bandeau!$E$9,IF(K6=Bandeau!$A$10,Bandeau!$E$10,IF(K6=Bandeau!$A$11,Bandeau!$E$11,IF(K6=Bandeau!$A$12,Bandeau!$E$12,""))))))))) | P6: =IF(C6="","",SUM(IF(E6="",0,Bun!$I$7),IF(E7="",0,Bun!$I$7),IF(E8="",0,Bun!$I$7),IF(E9="",0,Bun!$I$7),IF(E10="",0,Bun!$I$7),IF(G7="",0,Modulable!$I$7),IF(G8="",0,Modulable!$I$7),IF(G9="",0,Modulable!$I$7),IF(G10="",0,Modulable!$I$7),IF(G6="",0,Modulable!$I$7),IF(I6="",0,Plissé!$I$7),IF(I7="",0,Plissé!$I$7),IF(I8="",0,Plissé!$I$7),IF(I9="",0,Plissé!$I$7),IF(I10="",0,Plissé!$I$7),IF(L6="",0,Bandeau!$I$7),IF(L7="",0,Bandeau!$I$7),IF(L8="",0,Bandeau!$I$7),IF(L9="",0,Bandeau!$I$7),IF(L10="",0,Bandeau!$I$7)))
F7: =IF(E7=Bun!$A$4,Bun!$E$4,IF(E7=Bun!$A$5,Bun!$E$5,IF(E7=Bun!$A$6,Bun!$E$6,IF(E7=Bun!$A$7,Bun!$E$7,IF(E7=Bun!$A$8,Bun!$E$8,""))))) | H7: =IF(G7=Modulable!$A$4,Modulable!$E$4,IF(G7=Modulable!$A$5,Modulable!$E$5,IF(G7=Modulable!$A$6,Modulable!$E$6,IF(G7=Modulable!$A$7,Modulable!$E$7,IF(G7=Modulable!$A$8,Modulable!$E$8,""))))) | J7: =IF(I7=Plissé!$A$4,Plissé!$E$4,IF(I7=Plissé!$A$5,Plissé!$E$5,IF(I7=Plissé!$A$6,Plissé!$E$6,IF(I7=Plissé!$A$7,Plissé!$E$7,IF(I7=Plissé!$A$8,Plissé!$E$8,""))))) | L7: =IF(K7=Bandeau!$A$4,Bandeau!$E$4,IF(K7=Bandeau!$A$5,Bandeau!$E$5,IF(K7=Bandeau!$A$6,Bandeau!$E$6,IF(K7=Bandeau!$A$7,Bandeau!$E$7,IF(K7=Bandeau!$A$8,Bandeau!$E$8,IF(K7=Bandeau!$A$9,Bandeau!$E$9,IF(K7=Bandeau!$A$10,Bandeau!$E$10,IF(K7=Bandeau!$A$11,Bandeau!$E$11,IF(K7=Bandeau!$A$12,Bandeau!$E$12,""))))))))) | P7: =IF(C7="","",SUM(IF(E7="",0,Bun!$I$7),IF(E8="",0,Bun!$I$7),IF(E9="",0,Bun!$I$7),IF(E10="",0,Bun!$I$7),IF(E11="",0,Bun!$I$7),IF(G8="",0,Modulable!$I$7),IF(G9="",0,Modulable!$I$7),IF(G10="",0,Modulable!$I$7),IF(G11="",0,Modulable!$I$7),IF(G7="",0,Modulable!$I$7),IF(I7="",0,Plissé!$I$7),IF(I8="",0,Plissé!$I$7),IF(I9="",0,Plissé!$I$7),IF(I10="",0,Plissé!$I$7),IF(I11="",0,Plissé!$I$7),IF(L7="",0,Bandeau!$I$7),IF(L8="",0,Bandeau!$I$7),IF(L9="",0,Bandeau!$I$7),IF(L10="",0,Bandeau!$I$7),IF(L11="",0,Bandeau!$I$7)))
F8: =IF(E8=Bun!$A$4,Bun!$E$4,IF(E8=Bun!$A$5,Bun!$E$5,IF(E8=Bun!$A$6,Bun!$E$6,IF(E8=Bun!$A$7,Bun!$E$7,IF(E8=Bun!$A$8,Bun!$E$8,""))))) | H8: =IF(G8=Modulable!$A$4,Modulable!$E$4,IF(G8=Modulable!$A$5,Modulable!$E$5,IF(G8=Modulable!$A$6,Modulable!$E$6,IF(G8=Modulable!$A$7,Modulable!$E$7,IF(G8=Modulable!$A$8,Modulable!$E$8,""))))) | J8: =IF(I8=Plissé!$A$4,Plissé!$E$4,IF(I8=Plissé!$A$5,Plissé!$E$5,IF(I8=Plissé!$A$6,Plissé!$E$6,IF(I8=Plissé!$A$7,Plissé!$E$7,IF(I8=Plissé!$A$8,Plissé!$E$8,""))))) | L8: =IF(K8=Bandeau!$A$4,Bandeau!$E$4,IF(K8=Bandeau!$A$5,Bandeau!$E$5,IF(K8=Bandeau!$A$6,Bandeau!$E$6,IF(K8=Bandeau!$A$7,Bandeau!$E$7,IF(K8=Bandeau!$A$8,Bandeau!$E$8,IF(K8=Bandeau!$A$9,Bandeau!$E$9,IF(K8=Bandeau!$A$10,Bandeau!$E$10,IF(K8=Bandeau!$A$11,Bandeau!$E$11,IF(K8=Bandeau!$A$12,Bandeau!$E$12,""))))))))) | P8: =IF(C8="","",SUM(IF(E8="",0,Bun!$I$7),IF(E9="",0,Bun!$I$7),IF(E10="",0,Bun!$I$7),IF(E11="",0,Bun!$I$7),IF(E12="",0,Bun!$I$7),IF(G9="",0,Modulable!$I$7),IF(G10="",0,Modulable!$I$7),IF(G11="",0,Modulable!$I$7),IF(G12="",0,Modulable!$I$7),IF(G8="",0,Modulable!$I$7),IF(I8="",0,Plissé!$I$7),IF(I9="",0,Plissé!$I$7),IF(I10="",0,Plissé!$I$7),IF(I11="",0,Plissé!$I$7),IF(I12="",0,Plissé!$I$7),IF(L8="",0,Bandeau!$I$7),IF(L9="",0,Bandeau!$I$7),IF(L10="",0,Bandeau!$I$7),IF(L11="",0,Bandeau!$I$7),IF(L12="",0,Bandeau!$I$7)))
A9: =IF('[1]Registre des ventes'!B7="","",'[1]Registre des ventes'!B7) -> 42872 | B9: =IF('[1]Registre des ventes'!C7="","",'[1]Registre des ventes'!C7) -> 10002 | C9: =IF('[1]Registre des ventes'!D7="","",'[1]Registre des ventes'!D7) -> 25 | D9: =IF(C9="","",IF(C9<90,"Payé par le client",6)) -> Payé par le client | F9: =IF(E9=Bun!$A$4,Bun!$E$4,IF(E9=Bun!$A$5,Bun!$E$5,IF(E9=Bun!$A$6,Bun!$E$6,IF(E9=Bun!$A$7,Bun!$E$7,IF(E9=Bun!$A$8,Bun!$E$8,""))))) | H9: =IF(G9=Modulable!$A$4,Modulable!$E$4,IF(G9=Modulable!$A$5,Modulable!$E$5,IF(G9=Modulable!$A$6,Modulable!$E$6,IF(G9=Modulable!$A$7,Modulable!$E$7,IF(G9=Modulable!$A$8,Modulable!$E$8,""))))) | J9: =IF(I9=Plissé!$A$4,Plissé!$E$4,IF(I9=Plissé!$A$5,Plissé!$E$5,IF(I9=Plissé!$A$6,Plissé!$E$6,IF(I9=Plissé!$A$7,Plissé!$E$7,IF(I9=Plissé!$A$8,Plissé!$E$8,""))))) | K9: Bandeau Nairobi | L9: =IF(K9=Bandeau!$A$4,Bandeau!$E$4,IF(K9=Bandeau!$A$5,Bandeau!$E$5,IF(K9=Bandeau!$A$6,Bandeau!$E$6,IF(K9=Bandeau!$A$7,Bandeau!$E$7,IF(K9=Bandeau!$A$8,Bandeau!$E$8,IF(K9=Bandeau!$A$9,Bandeau!$E$9,IF(K9=Bandeau!$A$10,Bandeau!$E$10,IF(K9=Bandeau!$A$11,Bandeau!$E$11,IF(K9=Bandeau!$A$12,Bandeau!$E$12,""))))))))) -> 16.750909 | M9: =IF(C9="","",(1.5)) -> 1.5 | N9: =IF(C9="","",0.25+((1.4*C9)/100)) -> 0.6 | O9: =IF(C9="","",C9-SUM(D9,F9:F13,H9:H13,J9:J13,L9:L13,N9,M9)) -> 6.1490909 | P9: =IF(C9="","",SUM(IF(E9="",0,Bun!$I$7),IF(E10="",0,Bun!$I$7),IF(E11="",0,Bun!$I$7),IF(E12="",0,Bun!$I$7),IF(E13="",0,Bun!$I$7),IF(G10="",0,Modulable!$I$7),IF(G11="",0,Modulable!$I$7),IF(G12="",0,Modulable!$I$7),IF(G13="",0,Modulable!$I$7),IF(G9="",0,Modulable!$I$7),IF(I9="",0,Plissé!$I$7),IF(I10="",0,Plissé!$I$7),IF(I11="",0,Plissé!$I$7),IF(I12="",0,Plissé!$I$7),IF(I13="",0,Plissé!$I$7),IF(L9="",0,Bandeau!$I$7),IF(L10="",0,Bandeau!$I$7),IF(L11="",0,Bandeau!$I$7),IF(L12="",0,Bandeau!$I$7),IF(L13="",0,Bandeau!$I$7))) -> 13.5
F10: =IF(E10=Bun!$A$4,Bun!$E$4,IF(E10=Bun!$A$5,Bun!$E$5,IF(E10=Bun!$A$6,Bun!$E$6,IF(E10=Bun!$A$7,Bun!$E$7,IF(E10=Bun!$A$8,Bun!$E$8,""))))) | H10: =IF(G10=Modulable!$A$4,Modulable!$E$4,IF(G10=Modulable!$A$5,Modulable!$E$5,IF(G10=Modulable!$A$6,Modulable!$E$6,IF(G10=Modulable!$A$7,Modulable!$E$7,IF(G10=Modulable!$A$8,Modulable!$E$8,""))))) | J10: =IF(I10=Plissé!$A$4,Plissé!$E$4,IF(I10=Plissé!$A$5,Plissé!$E$5,IF(I10=Plissé!$A$6,Plissé!$E$6,IF(I10=Plissé!$A$7,Plissé!$E$7,IF(I10=Plissé!$A$8,Plissé!$E$8,""))))) | L10: =IF(K10=Bandeau!$A$4,Bandeau!$E$4,IF(K10=Bandeau!$A$5,Bandeau!$E$5,IF(K10=Bandeau!$A$6,Bandeau!$E$6,IF(K10=Bandeau!$A$7,Bandeau!$E$7,IF(K10=Bandeau!$A$8,Bandeau!$E$8,IF(K10=Bandeau!$A$9,Bandeau!$E$9,IF(K10=Bandeau!$A$10,Bandeau!$E$10,IF(K10=Bandeau!$A$11,Bandeau!$E$11,IF(K10=Bandeau!$A$12,Bandeau!$E$12,""))))))))) | P10: =IF(C10="","",SUM(IF(E10="",0,Bun!$I$7),IF(E11="",0,Bun!$I$7),IF(E12="",0,Bun!$I$7),IF(E13="",0,Bun!$I$7),IF(E14="",0,Bun!$I$7),IF(G11="",0,Modulable!$I$7),IF(G12="",0,Modulable!$I$7),IF(G13="",0,Modulable!$I$7),IF(G14="",0,Modulable!$I$7),IF(G10="",0,Modulable!$I$7),IF(I10="",0,Plissé!$I$7),IF(I11="",0,Plissé!$I$7),IF(I12="",0,Plissé!$I$7),IF(I13="",0,Plissé!$I$7),IF(I14="",0,Plissé!$I$7),IF(L10="",0,Bandeau!$I$7),IF(L11="",0,Bandeau!$I$7),IF(L12="",0,Bandeau!$I$7),IF(L13="",0,Bandeau!$I$7),IF(L14="",0,Bandeau!$I$7)))
F11: =IF(E11=Bun!$A$4,Bun!$E$4,IF(E11=Bun!$A$5,Bun!$E$5,IF(E11=Bun!$A$6,Bun!$E$6,IF(E11=Bun!$A$7,Bun!$E$7,IF(E11=Bun!$A$8,Bun!$E$8,""))))) | H11: =IF(G11=Modulable!$A$4,Modulable!$E$4,IF(G11=Modulable!$A$5,Modulable!$E$5,IF(G11=Modulable!$A$6,Modulable!$E$6,IF(G11=Modulable!$A$7,Modulable!$E$7,IF(G11=Modulable!$A$8,Modulable!$E$8,""))))) | J11: =IF(I11=Plissé!$A$4,Plissé!$E$4,IF(I11=Plissé!$A$5,Plissé!$E$5,IF(I11=Plissé!$A$6,Plissé!$E$6,IF(I11=Plissé!$A$7,Plissé!$E$7,IF(I11=Plissé!$A$8,Plissé!$E$8,""))))) | L11: =IF(K11=Bandeau!$A$4,Bandeau!$E$4,IF(K11=Bandeau!$A$5,Bandeau!$E$5,IF(K11=Bandeau!$A$6,Bandeau!$E$6,IF(K11=Bandeau!$A$7,Bandeau!$E$7,IF(K11=Bandeau!$A$8,Bandeau!$E$8,IF(K11=Bandeau!$A$9,Bandeau!$E$9,IF(K11=Bandeau!$A$10,Bandeau!$E$10,IF(K11=Bandeau!$A$11,Bandeau!$E$11,IF(K11=Bandeau!$A$12,Bandeau!$E$12,""))))))))) | P11: =IF(C11="","",SUM(IF(E11="",0,Bun!$I$7),IF(E12="",0,Bun!$I$7),IF(E13="",0,Bun!$I$7),IF(E14="",0,Bun!$I$7),IF(E15="",0,Bun!$I$7),IF(G12="",0,Modulable!$I$7),IF(G13="",0,Modulable!$I$7),IF(G14="",0,Modulable!$I$7),IF(G15="",0,Modulable!$I$7),IF(G11="",0,Modulable!$I$7),IF(I11="",0,Plissé!$I$7),IF(I12="",0,Plissé!$I$7),IF(I13="",0,Plissé!$I$7),IF(I14="",0,Plissé!$I$7),IF(I15="",0,Plissé!$I$7),IF(L11="",0,Bandeau!$I$7),IF(L12="",0,Bandeau!$I$7),IF(L13="",0,Bandeau!$I$7),IF(L14="",0,Bandeau!$I$7),IF(L15="",0,Bandeau!$I$7)))
F12: =IF(E12=Bun!$A$4,Bun!$E$4,IF(E12=Bun!$A$5,Bun!$E$5,IF(E12=Bun!$A$6,Bun!$E$6,IF(E12=Bun!$A$7,Bun!$E$7,IF(E12=Bun!$A$8,Bun!$E$8,""))))) | H12: =IF(G12=Modulable!$A$4,Modulable!$E$4,IF(G12=Modulable!$A$5,Modulable!$E$5,IF(G12=Modulable!$A$6,Modulable!$E$6,IF(G12=Modulable!$A$7,Modulable!$E$7,IF(G12=Modulable!$A$8,Modulable!$E$8,""))))) | J12: =IF(I12=Plissé!$A$4,Plissé!$E$4,IF(I12=Plissé!$A$5,Plissé!$E$5,IF(I12=Plissé!$A$6,Plissé!$E$6,IF(I12=Plissé!$A$7,Plissé!$E$7,IF(I12=Plissé!$A$8,Plissé!$E$8,""))))) | L12: =IF(K12=Bandeau!$A$4,Bandeau!$E$4,IF(K12=Bandeau!$A$5,Bandeau!$E$5,IF(K12=Bandeau!$A$6,Bandeau!$E$6,IF(K12=Bandeau!$A$7,Bandeau!$E$7,IF(K12=Bandeau!$A$8,Bandeau!$E$8,IF(K12=Bandeau!$A$9,Bandeau!$E$9,IF(K12=Bandeau!$A$10,Bandeau!$E$10,IF(K12=Bandeau!$A$11,Bandeau!$E$11,IF(K12=Bandeau!$A$12,Bandeau!$E$12,""))))))))) | P12: =IF(C12="","",SUM(IF(E12="",0,Bun!$I$7),IF(E13="",0,Bun!$I$7),IF(E14="",0,Bun!$I$7),IF(E15="",0,Bun!$I$7),IF(E16="",0,Bun!$I$7),IF(G13="",0,Modulable!$I$7),IF(G14="",0,Modulable!$I$7),IF(G15="",0,Modulable!$I$7),IF(G16="",0,Modulable!$I$7),IF(G12="",0,Modulable!$I$7),IF(I12="",0,Plissé!$I$7),IF(I13="",0,Plissé!$I$7),IF(I14="",0,Plissé!$I$7),IF(I15="",0,Plissé!$I$7),IF(I16="",0,Plissé!$I$7),IF(L12="",0,Bandeau!$I$7),IF(L13="",0,Bandeau!$I$7),IF(L14="",0,Bandeau!$I$7),IF(L15="",0,Bandeau!$I$7),IF(L16="",0,Bandeau!$I$7)))
F13: =IF(E13=Bun!$A$4,Bun!$E$4,IF(E13=Bun!$A$5,Bun!$E$5,IF(E13=Bun!$A$6,Bun!$E$6,IF(E13=Bun!$A$7,Bun!$E$7,IF(E13=Bun!$A$8,Bun!$E$8,""))))) | H13: =IF(G13=Modulable!$A$4,Modulable!$E$4,IF(G13=Modulable!$A$5,Modulable!$E$5,IF(G13=Modulable!$A$6,Modulable!$E$6,IF(G13=Modulable!$A$7,Modulable!$E$7,IF(G13=Modulable!$A$8,Modulable!$E$8,""))))) | J13: =IF(I13=Plissé!$A$4,Plissé!$E$4,IF(I13=Plissé!$A$5,Plissé!$E$5,IF(I13=Plissé!$A$6,Plissé!$E$6,IF(I13=Plissé!$A$7,Plissé!$E$7,IF(I13=Plissé!$A$8,Plissé!$E$8,""))))) | L13: =IF(K13=Bandeau!$A$4,Bandeau!$E$4,IF(K13=Bandeau!$A$5,Bandeau!$E$5,IF(K13=Bandeau!$A$6,Bandeau!$E$6,IF(K13=Bandeau!$A$7,Bandeau!$E$7,IF(K13=Bandeau!$A$8,Bandeau!$E$8,IF(K13=Bandeau!$A$9,Bandeau!$E$9,IF(K13=Bandeau!$A$10,Bandeau!$E$10,IF(K13=Bandeau!$A$11,Bandeau!$E$11,IF(K13=Bandeau!$A$12,Bandeau!$E$12,""))))))))) | P13: =IF(C13="","",SUM(IF(E13="",0,Bun!$I$7),IF(E14="",0,Bun!$I$7),IF(E15="",0,Bun!$I$7),IF(E16="",0,Bun!$I$7),IF(E17="",0,Bun!$I$7),IF(G14="",0,Modulable!$I$7),IF(G15="",0,Modulable!$I$7),IF(G16="",0,Modulable!$I$7),IF(G17="",0,Modulable!$I$7),IF(G13="",0,Modulable!$I$7),IF(I13="",0,Plissé!$I$7),IF(I14="",0,Plissé!$I$7),IF(I15="",0,Plissé!$I$7),IF(I16="",0,Plissé!$I$7),IF(I17="",0,Plissé!$I$7),IF(L13="",0,Bandeau!$I$7),IF(L14="",0,Bandeau!$I$7),IF(L15="",0,Bandeau!$I$7),IF(L16="",0,Bandeau!$I$7),IF(L17="",0,Bandeau!$I$7)))
A14: =IF('[1]Registre des ventes'!B8="","",'[1]Registre des ventes'!B8) -> 42872 | B14: =IF('[1]Registre des ventes'!C8="","",'[1]Registre des ventes'!C8) -> 10003 | C14: =IF('[1]Registre des ventes'!D8="","",'[1]Registre des ventes'!D8) -> 25 | D14: =IF(C14="","",IF(C14<90,"Payé par le client",6)) -> Payé par le client | F14: =IF(E14=Bun!$A$4,Bun!$E$4,IF(E14=Bun!$A$5,Bun!$E$5,IF(E14=Bun!$A$6,Bun!$E$6,IF(E14=Bun!$A$7,Bun!$E$7,IF(E14=Bun!$A$8,Bun!$E$8,""))))) | H14: =IF(G14=Modulable!$A$4,Modulable!$E$4,IF(G14=Modulable!$A$5,Modulable!$E$5,IF(G14=Modulable!$A$6,Modulable!$E$6,IF(G14=Modulable!$A$7,Modulable!$E$7,IF(G14=Modulable!$A$8,Modulable!$E$8,""))))) | J14: =IF(I14=Plissé!$A$4,Plissé!$E$4,IF(I14=Plissé!$A$5,Plissé!$E$5,IF(I14=Plissé!$A$6,Plissé!$E$6,IF(I14=Plissé!$A$7,Plissé!$E$7,IF(I14=Plissé!$A$8,Plissé!$E$8,""))))) | K14: Bandeau Nairobi | L14: =IF(K14=Bandeau!$A$4,Bandeau!$E$4,IF(K14=Bandeau!$A$5,Bandeau!$E$5,IF(K14=Bandeau!$A$6,Bandeau!$E$6,IF(K14=Bandeau!$A$7,Bandeau!$E$7,IF(K14=Bandeau!$A$8,Bandeau!$E$8,IF(K14=Bandeau!$A$9,Bandeau!$E$9,IF(K14=Bandeau!$A$10,Bandeau!$E$10,IF(K14=Bandeau!$A$11,Bandeau!$E$11,IF(K14=Bandeau!$A$12,Bandeau!$E$12,""))))))))) -> 16.750909 | M14: =IF(C14="","",(1.5)) -> 1.5 | N14: =IF(C14="","",0.25+((1.4*C14)/100)) -> 0.6 | O14: =IF(C14="","",C14-SUM(D14,F14:F18,H14:H18,J14:J18,L14:L18,N14)) -> 7.6490909 | P14: =IF(C14="","",SUM(IF(E14="",0,Bun!$I$7),IF(E15="",0,Bun!$I$7),IF(E16="",0,Bun!$I$7),IF(E17="",0,Bun!$I$7),IF(E18="",0,Bun!$I$7),IF(G15="",0,Modulable!$I$7),IF(G16="",0,Modulable!$I$7),IF(G17="",0,Modulable!$I$7),IF(G18="",0,Modulable!$I$7),IF(G14="",0,Modulable!$I$7),IF(I14="",0,Plissé!$I$7),IF(I15="",0,Plissé!$I$7),IF(I16="",0,Plissé!$I$7),IF(I17="",0,Plissé!$I$7),IF(I18="",0,Plissé!$I$7),IF(L14="",0,Bandeau!$I$7),IF(L15="",0,Bandeau!$I$7),IF(L16="",0,Bandeau!$I$7),IF(L17="",0,Bandeau!$I$7),IF(L18="",0,Bandeau!$I$7))) -> 13.5
F15: =IF(E15=Bun!$A$4,Bun!$E$4,IF(E15=Bun!$A$5,Bun!$E$5,IF(E15=Bun!$A$6,Bun!$E$6,IF(E15=Bun!$A$7,Bun!$E$7,IF(E15=Bun!$A$8,Bun!$E$8,""))))) | H15: =IF(G15=Modulable!$A$4,Modulable!$E$4,IF(G15=Modulable!$A$5,Modulable!$E$5,IF(G15=Modulable!$A$6,Modulable!$E$6,IF(G15=Modulable!$A$7,Modulable!$E$7,IF(G15=Modulable!$A$8,Modulable!$E$8,""))))) | J15: =IF(I15=Plissé!$A$4,Plissé!$E$4,IF(I15=Plissé!$A$5,Plissé!$E$5,IF(I15=Plissé!$A$6,Plissé!$E$6,IF(I15=Plissé!$A$7,Plissé!$E$7,IF(I15=Plissé!$A$8,Plissé!$E$8,""))))) | L15: =IF(K15=Bandeau!$A$4,Bandeau!$E$4,IF(K15=Bandeau!$A$5,Bandeau!$E$5,IF(K15=Bandeau!$A$6,Bandeau!$E$6,IF(K15=Bandeau!$A$7,Bandeau!$E$7,IF(K15=Bandeau!$A$8,Bandeau!$E$8,IF(K15=Bandeau!$A$9,Bandeau!$E$9,IF(K15=Bandeau!$A$10,Bandeau!$E$10,IF(K15=Bandeau!$A$11,Bandeau!$E$11,IF(K15=Bandeau!$A$12,Bandeau!$E$12,""))))))))) | P15: =IF(C15="","",SUM(IF(E15="",0,Bun!$I$7),IF(E16="",0,Bun!$I$7),IF(E17="",0,Bun!$I$7),IF(E18="",0,Bun!$I$7),IF(E19="",0,Bun!$I$7),IF(G16="",0,Modulable!$I$7),IF(G17="",0,Modulable!$I$7),IF(G18="",0,Modulable!$I$7),IF(G19="",0,Modulable!$I$7),IF(G15="",0,Modulable!$I$7),IF(I15="",0,Plissé!$I$7),IF(I16="",0,Plissé!$I$7),IF(I17="",0,Plissé!$I$7),IF(I18="",0,Plissé!$I$7),IF(I19="",0,Plissé!$I$7),IF(L15="",0,Bandeau!$I$7),IF(L16="",0,Bandeau!$I$7),IF(L17="",0,Bandeau!$I$7),IF(L18="",0,Bandeau!$I$7),IF(L19="",0,Bandeau!$I$7)))
F16: =IF(E16=Bun!$A$4,Bun!$E$4,IF(E16=Bun!$A$5,Bun!$E$5,IF(E16=Bun!$A$6,Bun!$E$6,IF(E16=Bun!$A$7,Bun!$E$7,IF(E16=Bun!$A$8,Bun!$E$8,""))))) | H16: =IF(G16=Modulable!$A$4,Modulable!$E$4,IF(G16=Modulable!$A$5,Modulable!$E$5,IF(G16=Modulable!$A$6,Modulable!$E$6,IF(G16=Modulable!$A$7,Modulable!$E$7,IF(G16=Modulable!$A$8,Modulable!$E$8,""))))) | J16: =IF(I16=Plissé!$A$4,Plissé!$E$4,IF(I16=Plissé!$A$5,Plissé!$E$5,IF(I16=Plissé!$A$6,Plissé!$E$6,IF(I16=Plissé!$A$7,Plissé!$E$7,IF(I16=Plissé!$A$8,Plissé!$E$8,""))))) | L16: =IF(K16=Bandeau!$A$4,Bandeau!$E$4,IF(K16=Bandeau!$A$5,Bandeau!$E$5,IF(K16=Bandeau!$A$6,Bandeau!$E$6,IF(K16=Bandeau!$A$7,Bandeau!$E$7,IF(K16=Bandeau!$A$8,Bandeau!$E$8,IF(K16=Bandeau!$A$9,Bandeau!$E$9,IF(K16=Bandeau!$A$10,Bandeau!$E$10,IF(K16=Bandeau!$A$11,Bandeau!$E$11,IF(K16=Bandeau!$A$12,Bandeau!$E$12,""))))))))) | P16: =IF(C16="","",SUM(IF(E16="",0,Bun!$I$7),IF(E17="",0,Bun!$I$7),IF(E18="",0,Bun!$I$7),IF(E19="",0,Bun!$I$7),IF(E20="",0,Bun!$I$7),IF(G17="",0,Modulable!$I$7),IF(G18="",0,Modulable!$I$7),IF(G19="",0,Modulable!$I$7),IF(G20="",0,Modulable!$I$7),IF(G16="",0,Modulable!$I$7),IF(I16="",0,Plissé!$I$7),IF(I17="",0,Plissé!$I$7),IF(I18="",0,Plissé!$I$7),IF(I19="",0,Plissé!$I$7),IF(I20="",0,Plissé!$I$7),IF(L16="",0,Bandeau!$I$7),IF(L17="",0,Bandeau!$I$7),IF(L18="",0,Bandeau!$I$7),IF(L19="",0,Bandeau!$I$7),IF(L20="",0,Bandeau!$I$7)))
F17: =IF(E17=Bun!$A$4,Bun!$E$4,IF(E17=Bun!$A$5,Bun!$E$5,IF(E17=Bun!$A$6,Bun!$E$6,IF(E17=Bun!$A$7,Bun!$E$7,IF(E17=Bun!$A$8,Bun!$E$8,""))))) | H17: =IF(G17=Modulable!$A$4,Modulable!$E$4,IF(G17=Modulable!$A$5,Modulable!$E$5,IF(G17=Modulable!$A$6,Modulable!$E$6,IF(G17=Modulable!$A$7,Modulable!$E$7,IF(G17=Modulable!$A$8,Modulable!$E$8,""))))) | J17: =IF(I17=Plissé!$A$4,Plissé!$E$4,IF(I17=Plissé!$A$5,Plissé!$E$5,IF(I17=Plissé!$A$6,Plissé!$E$6,IF(I17=Plissé!$A$7,Plissé!$E$7,IF(I17=Plissé!$A$8,Plissé!$E$8,""))))) | L17: =IF(K17=Bandeau!$A$4,Bandeau!$E$4,IF(K17=Bandeau!$A$5,Bandeau!$E$5,IF(K17=Bandeau!$A$6,Bandeau!$E$6,IF(K17=Bandeau!$A$7,Bandeau!$E$7,IF(K17=Bandeau!$A$8,Bandeau!$E$8,IF(K17=Bandeau!$A$9,Bandeau!$E$9,IF(K17=Bandeau!$A$10,Bandeau!$E$10,IF(K17=Bandeau!$A$11,Bandeau!$E$11,IF(K17=Bandeau!$A$12,Bandeau!$E$12,""))))))))) | P17: =IF(C17="","",SUM(IF(E17="",0,Bun!$I$7),IF(E18="",0,Bun!$I$7),IF(E19="",0,Bun!$I$7),IF(E20="",0,Bun!$I$7),IF(E21="",0,Bun!$I$7),IF(G18="",0,Modulable!$I$7),IF(G19="",0,Modulable!$I$7),IF(G20="",0,Modulable!$I$7),IF(G21="",0,Modulable!$I$7),IF(G17="",0,Modulable!$I$7),IF(I17="",0,Plissé!$I$7),IF(I18="",0,Plissé!$I$7),IF(I19="",0,Plissé!$I$7),IF(I20="",0,Plissé!$I$7),IF(I21="",0,Plissé!$I$7),IF(L17="",0,Bandeau!$I$7),IF(L18="",0,Bandeau!$I$7),IF(L19="",0,Bandeau!$I$7),IF(L20="",0,Bandeau!$I$7),IF(L21="",0,Bandeau!$I$7)))
F18: =IF(E18=Bun!$A$4,Bun!$E$4,IF(E18=Bun!$A$5,Bun!$E$5,IF(E18=Bun!$A$6,Bun!$E$6,IF(E18=Bun!$A$7,Bun!$E$7,IF(E18=Bun!$A$8,Bun!$E$8,""))))) | H18: =IF(G18=Modulable!$A$4,Modulable!$E$4,IF(G18=Modulable!$A$5,Modulable!$E$5,IF(G18=Modulable!$A$6,Modulable!$E$6,IF(G18=Modulable!$A$7,Modulable!$E$7,IF(G18=Modulable!$A$8,Modulable!$E$8,""))))) | J18: =IF(I18=Plissé!$A$4,Plissé!$E$4,IF(I18=Plissé!$A$5,Plissé!$E$5,IF(I18=Plissé!$A$6,Plissé!$E$6,IF(I18=Plissé!$A$7,Plissé!$E$7,IF(I18=Plissé!$A$8,Plissé!$E$8,""))))) | L18: =IF(K18=Bandeau!$A$4,Bandeau!$E$4,IF(K18=Bandeau!$A$5,Bandeau!$E$5,IF(K18=Bandeau!$A$6,Bandeau!$E$6,IF(K18=Bandeau!$A$7,Bandeau!$E$7,IF(K18=Bandeau!$A$8,Bandeau!$E$8,IF(K18=Bandeau!$A$9,Bandeau!$E$9,IF(K18=Bandeau!$A$10,Bandeau!$E$10,IF(K18=Bandeau!$A$11,Bandeau!$E$11,IF(K18=Bandeau!$A$12,Bandeau!$E$12,""))))))))) | P18: =IF(C18="","",SUM(IF(E18="",0,Bun!$I$7),IF(E19="",0,Bun!$I$7),IF(E20="",0,Bun!$I$7),IF(E21="",0,Bun!$I$7),IF(E22="",0,Bun!$I$7),IF(G19="",0,Modulable!$I$7),IF(G20="",0,Modulable!$I$7),IF(G21="",0,Modulable!$I$7),IF(G22="",0,Modulable!$I$7),IF(G18="",0,Modulable!$I$7),IF(I18="",0,Plissé!$I$7),IF(I19="",0,Plissé!$I$7),IF(I20="",0,Plissé!$I$7),IF(I21="",0,Plissé!$I$7),IF(I22="",0,Plissé!$I$7),IF(L18="",0,Bandeau!$I$7),IF(L19="",0,Bandeau!$I$7),IF(L20="",0,Bandeau!$I$7),IF(L21="",0,Bandeau!$I$7),IF(L22="",0,Bandeau!$I$7)))
A19: =IF('[1]Registre des ventes'!B9="","",'[1]Registre des ventes'!B9) -> 42872 | B19: =IF('[1]Registre des ventes'!C9="","",'[1]Registre des ventes'!C9) -> 10004 | C19: =IF('[1]Registre des ventes'!D9="","",'[1]Registre des ventes'!D9) -> 50 | D19: =IF(C19="","",IF(C19<90,"Payé par le client",6)) -> Payé par le client | F19: =IF(E19=Bun!$A$4,Bun!$E$4,IF(E19=Bun!$A$5,Bun!$E$5,IF(E19=Bun!$A$6,Bun!$E$6,IF(E19=Bun!$A$7,Bun!$E$7,IF(E19=Bun!$A$8,Bun!$E$8,""))))) | G19: Modulable Archipel | H19: =IF(G19=Modulable!$A$4,Modulable!$E$4,IF(G19=Modulable!$A$5,Modulable!$E$5,IF(G19=Modulable!$A$6,Modulable!$E$6,IF(G19=Modulable!$A$7,Modulable!$E$7,IF(G19=Modulable!$A$8,Modulable!$E$8,""))))) -> 29.6 | J19: =IF(I19=Plissé!$A$4,Plissé!$E$4,IF(I19=Plissé!$A$5,Plissé!$E$5,IF(I19=Plissé!$A$6,Plissé!$E$6,IF(I19=Plissé!$A$7,Plissé!$E$7,IF(I19=Plissé!$A$8,Plissé!$E$8,""))))) | L19: =IF(K19=Bandeau!$A$4,Bandeau!$E$4,IF(K19=Bandeau!$A$5,Bandeau!$E$5,IF(K19=Bandeau!$A$6,Bandeau!$E$6,IF(K19=Bandeau!$A$7,Bandeau!$E$7,IF(K19=Bandeau!$A$8,Bandeau!$E$8,IF(K19=Bandeau!$A$9,Bandeau!$E$9,IF(K19=Bandeau!$A$10,Bandeau!$E$10,IF(K19=Bandeau!$A$11,Bandeau!$E$11,IF(K19=Bandeau!$A$12,Bandeau!$E$12,""))))))))) | M19: =IF(C19="","",(1.5)) -> 1.5 | N19: =IF(C19="","",0.25+((1.4*C19)/100)) -> 0.95 | O19: =IF(C19="","",C19-SUM(D19,F19:F23,H19:H23,J19:J23,L19:L23,N19)) -> 19.45 | P19: =IF(C19="","",SUM(IF(E19="",0,Bun!$I$7),IF(E20="",0,Bun!$I$7),IF(E21="",0,Bun!$I$7),IF(E22="",0,Bun!$I$7),IF(E23="",0,Bun!$I$7),IF(G20="",0,Modulable!$I$7),IF(G21="",0,Modulable!$I$7),IF(G22="",0,Modulable!$I$7),IF(G23="",0,Modulable!$I$7),IF(G19="",0,Modulable!$I$7),IF(I19="",0,Plissé!$I$7),IF(I20="",0,Plissé!$I$7),IF(I21="",0,Plissé!$I$7),IF(I22="",0,Plissé!$I$7),IF(I23="",0,Plissé!$I$7),IF(L19="",0,Bandeau!$I$7),IF(L20="",0,Bandeau!$I$7),IF(L21="",0,Bandeau!$I$7),IF(L22="",0,Bandeau!$I$7),IF(L23="",0,Bandeau!$I$7))) -> 18
F20: =IF(E20=Bun!$A$4,Bun!$E$4,IF(E20=Bun!$A$5,Bun!$E$5,IF(E20=Bun!$A$6,Bun!$E$6,IF(E20=Bun!$A$7,Bun!$E$7,IF(E20=Bun!$A$8,Bun!$E$8,""))))) | H20: =IF(G20=Modulable!$A$4,Modulable!$E$4,IF(G20=Modulable!$A$5,Modulable!$E$5,IF(G20=Modulable!$A$6,Modulable!$E$6,IF(G20=Modulable!$A$7,Modulable!$E$7,IF(G20=Modulable!$A$8,Modulable!$E$8,""))))) | J20: =IF(I20=Plissé!$A$4,Plissé!$E$4,IF(I20=Plissé!$A$5,Plissé!$E$5,IF(I20=Plissé!$A$6,Plissé!$E$6,IF(I20=Plissé!$A$7,Plissé!$E$7,IF(I20=Plissé!$A$8,Plissé!$E$8,""))))) | L20: =IF(K20=Bandeau!$A$4,Bandeau!$E$4,IF(K20=Bandeau!$A$5,Bandeau!$E$5,IF(K20=Bandeau!$A$6,Bandeau!$E$6,IF(K20=Bandeau!$A$7,Bandeau!$E$7,IF(K20=Bandeau!$A$8,Bandeau!$E$8,IF(K20=Bandeau!$A$9,Bandeau!$E$9,IF(K20=Bandeau!$A$10,Bandeau!$E$10,IF(K20=Bandeau!$A$11,Bandeau!$E$11,IF(K20=Bandeau!$A$12,Bandeau!$E$12,""))))))))) | P20: =IF(C20="","",SUM(IF(E20="",0,Bun!$I$7),IF(E21="",0,Bun!$I$7),IF(E22="",0,Bun!$I$7),IF(E23="",0,Bun!$I$7),IF(E24="",0,Bun!$I$7),IF(G21="",0,Modulable!$I$7),IF(G22="",0,Modulable!$I$7),IF(G23="",0,Modulable!$I$7),IF(G24="",0,Modulable!$I$7),IF(G20="",0,Modulable!$I$7),IF(I20="",0,Plissé!$I$7),IF(I21="",0,Plissé!$I$7),IF(I22="",0,Plissé!$I$7),IF(I23="",0,Plissé!$I$7),IF(I24="",0,Plissé!$I$7),IF(L20="",0,Bandeau!$I$7),IF(L21="",0,Bandeau!$I$7),IF(L22="",0,Bandeau!$I$7),IF(L23="",0,Bandeau!$I$7),IF(L24="",0,Bandeau!$I$7)))
F21: =IF(E21=Bun!$A$4,Bun!$E$4,IF(E21=Bun!$A$5,Bun!$E$5,IF(E21=Bun!$A$6,Bun!$E$6,IF(E21=Bun!$A$7,Bun!$E$7,IF(E21=Bun!$A$8,Bun!$E$8,""))))) | H21: =IF(G21=Modulable!$A$4,Modulable!$E$4,IF(G21=Modulable!$A$5,Modulable!$E$5,IF(G21=Modulable!$A$6,Modulable!$E$6,IF(G21=Modulable!$A$7,Modulable!$E$7,IF(G21=Modulable!$A$8,Modulable!$E$8,""))))) | J21: =IF(I21=Plissé!$A$4,Plissé!$E$4,IF(I21=Plissé!$A$5,Plissé!$E$5,IF(I21=Plissé!$A$6,Plissé!$E$6,IF(I21=Plissé!$A$7,Plissé!$E$7,IF(I21=Plissé!$A$8,Plissé!$E$8,""))))) | L21: =IF(K21=Bandeau!$A$4,Bandeau!$E$4,IF(K21=Bandeau!$A$5,Bandeau!$E$5,IF(K21=Bandeau!$A$6,Bandeau!$E$6,IF(K21=Bandeau!$A$7,Bandeau!$E$7,IF(K21=Bandeau!$A$8,Bandeau!$E$8,IF(K21=Bandeau!$A$9,Bandeau!$E$9,IF(K21=Bandeau!$A$10,Bandeau!$E$10,IF(K21=Bandeau!$A$11,Bandeau!$E$11,IF(K21=Bandeau!$A$12,Bandeau!$E$12,""))))))))) | P21: =IF(C21="","",SUM(IF(E21="",0,Bun!$I$7),IF(E22="",0,Bun!$I$7),IF(E23="",0,Bun!$I$7),IF(E24="",0,Bun!$I$7),IF(E25="",0,Bun!$I$7),IF(G22="",0,Modulable!$I$7),IF(G23="",0,Modulable!$I$7),IF(G24="",0,Modulable!$I$7),IF(G25="",0,Modulable!$I$7),IF(G21="",0,Modulable!$I$7),IF(I21="",0,Plissé!$I$7),IF(I22="",0,Plissé!$I$7),IF(I23="",0,Plissé!$I$7),IF(I24="",0,Plissé!$I$7),IF(I25="",0,Plissé!$I$7),IF(L21="",0,Bandeau!$I$7),IF(L22="",0,Bandeau!$I$7),IF(L23="",0,Bandeau!$I$7),IF(L24="",0,Bandeau!$I$7),IF(L25="",0,Bandeau!$I$7)))
F22: =IF(E22=Bun!$A$4,Bun!$E$4,IF(E22=Bun!$A$5,Bun!$E$5,IF(E22=Bun!$A$6,Bun!$E$6,IF(E22=Bun!$A$7,Bun!$E$7,IF(E22=Bun!$A$8,Bun!$E$8,""))))) | H22: =IF(G22=Modulable!$A$4,Modulable!$E$4,IF(G22=Modulable!$A$5,Modulable!$E$5,IF(G22=Modulable!$A$6,Modulable!$E$6,IF(G22=Modulable!$A$7,Modulable!$E$7,IF(G22=Modulable!$A$8,Modulable!$E$8,""))))) | J22: =IF(I22=Plissé!$A$4,Plissé!$E$4,IF(I22=Plissé!$A$5,Plissé!$E$5,IF(I22=Plissé!$A$6,Plissé!$E$6,IF(I22=Plissé!$A$7,Plissé!$E$7,IF(I22=Plissé!$A$8,Plissé!$E$8,""))))) | L22: =IF(K22=Bandeau!$A$4,Bandeau!$E$4,IF(K22=Bandeau!$A$5,Bandeau!$E$5,IF(K22=Bandeau!$A$6,Bandeau!$E$6,IF(K22=Bandeau!$A$7,Bandeau!$E$7,IF(K22=Bandeau!$A$8,Bandeau!$E$8,IF(K22=Bandeau!$A$9,Bandeau!$E$9,IF(K22=Bandeau!$A$10,Bandeau!$E$10,IF(K22=Bandeau!$A$11,Bandeau!$E$11,IF(K22=Bandeau!$A$12,Bandeau!$E$12,""))))))))) | P22: =IF(C22="","",SUM(IF(E22="",0,Bun!$I$7),IF(E23="",0,Bun!$I$7),IF(E24="",0,Bun!$I$7),IF(E25="",0,Bun!$I$7),IF(E26="",0,Bun!$I$7),IF(G23="",0,Modulable!$I$7),IF(G24="",0,Modulable!$I$7),IF(G25="",0,Modulable!$I$7),IF(G26="",0,Modulable!$I$7),IF(G22="",0,Modulable!$I$7),IF(I22="",0,Plissé!$I$7),IF(I23="",0,Plissé!$I$7),IF(I24="",0,Plissé!$I$7),IF(I25="",0,Plissé!$I$7),IF(I26="",0,Plissé!$I$7),IF(L22="",0,Bandeau!$I$7),IF(L23="",0,Bandeau!$I$7),IF(L24="",0,Bandeau!$I$7),IF(L25="",0,Bandeau!$I$7),IF(L26="",0,Bandeau!$I$7)))
F23: =IF(E23=Bun!$A$4,Bun!$E$4,IF(E23=Bun!$A$5,Bun!$E$5,IF(E23=Bun!$A$6,Bun!$E$6,IF(E23=Bun!$A$7,Bun!$E$7,IF(E23=Bun!$A$8,Bun!$E$8,""))))) | H23: =IF(G23=Modulable!$A$4,Modulable!$E$4,IF(G23=Modulable!$A$5,Modulable!$E$5,IF(G23=Modulable!$A$6,Modulable!$E$6,IF(G23=Modulable!$A$7,Modulable!$E$7,IF(G23=Modulable!$A$8,Modulable!$E$8,""))))) | J23: =IF(I23=Plissé!$A$4,Plissé!$E$4,IF(I23=Plissé!$A$5,Plissé!$E$5,IF(I23=Plissé!$A$6,Plissé!$E$6,IF(I23=Plissé!$A$7,Plissé!$E$7,IF(I23=Plissé!$A$8,Plissé!$E$8,""))))) | L23: =IF(K23=Bandeau!$A$4,Bandeau!$E$4,IF(K23=Bandeau!$A$5,Bandeau!$E$5,IF(K23=Bandeau!$A$6,Bandeau!$E$6,IF(K23=Bandeau!$A$7,Bandeau!$E$7,IF(K23=Bandeau!$A$8,Bandeau!$E$8,IF(K23=Bandeau!$A$9,Bandeau!$E$9,IF(K23=Bandeau!$A$10,Bandeau!$E$10,IF(K23=Bandeau!$A$11,Bandeau!$E$11,IF(K23=Bandeau!$A$12,Bandeau!$E$12,""))))))))) | P23: =IF(C23="","",SUM(IF(E23="",0,Bun!$I$7),IF(E24="",0,Bun!$I$7),IF(E25="",0,Bun!$I$7),IF(E26="",0,Bun!$I$7),IF(E27="",0,Bun!$I$7),IF(G24="",0,Modulable!$I$7),IF(G25="",0,Modulable!$I$7),IF(G26="",0,Modulable!$I$7),IF(G27="",0,Modulable!$I$7),IF(G23="",0,Modulable!$I$7),IF(I23="",0,Plissé!$I$7),IF(I24="",0,Plissé!$I$7),IF(I25="",0,Plissé!$I$7),IF(I26="",0,Plissé!$I$7),IF(I27="",0,Plissé!$I$7),IF(L23="",0,Bandeau!$I$7),IF(L24="",0,Bandeau!$I$7),IF(L25="",0,Bandeau!$I$7),IF(L26="",0,Bandeau!$I$7),IF(L27="",0,Bandeau!$I$7)))
A24: =IF('[1]Registre des ventes'!B10="","",'[1]Registre des ventes'!B10) -> 42872 | B24: =IF('[1]Registre des ventes'!C10="","",'[1]Registre des ventes'!C10) -> 10005 | C24: =IF('[1]Registre des ventes'!D10="","",'[1]Registre des ventes'!D10) -> 45 | D24: =IF(C24="","",IF(C24<90,"Payé par le client",6)) -> Payé par le client | F24: =IF(E24=Bun!$A$4,Bun!$E$4,IF(E24=Bun!$A$5,Bun!$E$5,IF(E24=Bun!$A$6,Bun!$E$6,IF(E24=Bun!$A$7,Bun!$E$7,IF(E24=Bun!$A$8,Bun!$E$8,""))))) | H24: =IF(G24=Modulable!$A$4,Modulable!$E$4,IF(G24=Modulable!$A$5,Modulable!$E$5,IF(G24=Modulable!$A$6,Modulable!$E$6,IF(G24=Modulable!$A$7,Modulable!$E$7,IF(G24=Modulable!$A$8,Modulable!$E$8,""))))) | I24: Plissé Nairobi | J24: =IF(I24=Plissé!$A$4,Plissé!$E$4,IF(I24=Plissé!$A$5,Plissé!$E$5,IF(I24=Plissé!$A$6,Plissé!$E$6,IF(I24=Plissé!$A$7,Plissé!$E$7,IF(I24=Plissé!$A$8,Plissé!$E$8,""))))) -> 24.25 | L24: =IF(K24=Bandeau!$A$4,Bandeau!$E$4,IF(K24=Bandeau!$A$5,Bandeau!$E$5,IF(K24=Bandeau!$A$6,Bandeau!$E$6,IF(K24=Bandeau!$A$7,Bandeau!$E$7,IF(K24=Bandeau!$A$8,Bandeau!$E$8,IF(K24=Bandeau!$A$9,Bandeau!$E$9,IF(K24=Bandeau!$A$10,Bandeau!$E$10,IF(K24=Bandeau!$A$11,Bandeau!$E$11,IF(K24=Bandeau!$A$12,Bandeau!$E$12,""))))))))) | M24: =IF(C24="","",(1.5)) -> 1.5 | N24: =IF(C24="","",0.25+((1.4*C24)/100)) -> 0.88 | O24: =IF(C24="","",C24-SUM(D24,F24:F28,H24:H28,J24:J28,L24:L28,N24)) -> 19.87 | P24: =IF(C24="","",SUM(IF(E24="",0,Bun!$I$7),IF(E25="",0,Bun!$I$7),IF(E26="",0,Bun!$I$7),IF(E27="",0,Bun!$I$7),IF(E28="",0,Bun!$I$7),IF(G25="",0,Modulable!$I$7),IF(G26="",0,Modulable!$I$7),IF(G27="",0,Modulable!$I$7),IF(G28="",0,Modulable!$I$7),IF(G24="",0,Modulable!$I$7),IF(I24="",0,Plissé!$I$7),IF(I25="",0,Plissé!$I$7),IF(I26="",0,Plissé!$I$7),IF(I27="",0,Plissé!$I$7),IF(I28="",0,Plissé!$I$7),IF(L24="",0,Bandeau!$I$7),IF(L25="",0,Bandeau!$I$7),IF(L26="",0,Bandeau!$I$7),IF(L27="",0,Bandeau!$I$7),IF(L28="",0,Bandeau!$I$7))) -> 18
F25: =IF(E25=Bun!$A$4,Bun!$E$4,IF(E25=Bun!$A$5,Bun!$E$5,IF(E25=Bun!$A$6,Bun!$E$6,IF(E25=Bun!$A$7,Bun!$E$7,IF(E25=Bun!$A$8,Bun!$E$8,""))))) | H25: =IF(G25=Modulable!$A$4,Modulable!$E$4,IF(G25=Modulable!$A$5,Modulable!$E$5,IF(G25=Modulable!$A$6,Modulable!$E$6,IF(G25=Modulable!$A$7,Modulable!$E$7,IF(G25=Modulable!$A$8,Modulable!$E$8,""))))) | J25: =IF(I25=Plissé!$A$4,Plissé!$E$4,IF(I25=Plissé!$A$5,Plissé!$E$5,IF(I25=Plissé!$A$6,Plissé!$E$6,IF(I25=Plissé!$A$7,Plissé!$E$7,IF(I25=Plissé!$A$8,Plissé!$E$8,""))))) | L25: =IF(K25=Bandeau!$A$4,Bandeau!$E$4,IF(K25=Bandeau!$A$5,Bandeau!$E$5,IF(K25=Bandeau!$A$6,Bandeau!$E$6,IF(K25=Bandeau!$A$7,Bandeau!$E$7,IF(K25=Bandeau!$A$8,Bandeau!$E$8,IF(K25=Bandeau!$A$9,Bandeau!$E$9,IF(K25=Bandeau!$A$10,Bandeau!$E$10,IF(K25=Bandeau!$A$11,Bandeau!$E$11,IF(K25=Bandeau!$A$12,Bandeau!$E$12,""))))))))) | P25: =IF(C25="","",SUM(IF(E25="",0,Bun!$I$7),IF(E26="",0,Bun!$I$7),IF(E27="",0,Bun!$I$7),IF(E28="",0,Bun!$I$7),IF(E29="",0,Bun!$I$7),IF(G26="",0,Modulable!$I$7),IF(G27="",0,Modulable!$I$7),IF(G28="",0,Modulable!$I$7),IF(G29="",0,Modulable!$I$7),IF(G25="",0,Modulable!$I$7),IF(I25="",0,Plissé!$I$7),IF(I26="",0,Plissé!$I$7),IF(I27="",0,Plissé!$I$7),IF(I28="",0,Plissé!$I$7),IF(I29="",0,Plissé!$I$7),IF(L25="",0,Bandeau!$I$7),IF(L26="",0,Bandeau!$I$7),IF(L27="",0,Bandeau!$I$7),IF(L28="",0,Bandeau!$I$7),IF(L29="",0,Bandeau!$I$7)))
F26: =IF(E26=Bun!$A$4,Bun!$E$4,IF(E26=Bun!$A$5,Bun!$E$5,IF(E26=Bun!$A$6,Bun!$E$6,IF(E26=Bun!$A$7,Bun!$E$7,IF(E26=Bun!$A$8,Bun!$E$8,""))))) | H26: =IF(G26=Modulable!$A$4,Modulable!$E$4,IF(G26=Modulable!$A$5,Modulable!$E$5,IF(G26=Modulable!$A$6,Modulable!$E$6,IF(G26=Modulable!$A$7,Modulable!$E$7,IF(G26=Modulable!$A$8,Modulable!$E$8,""))))) | J26: =IF(I26=Plissé!$A$4,Plissé!$E$4,IF(I26=Plissé!$A$5,Plissé!$E$5,IF(I26=Plissé!$A$6,Plissé!$E$6,IF(I26=Plissé!$A$7,Plissé!$E$7,IF(I26=Plissé!$A$8,Plissé!$E$8,""))))) | L26: =IF(K26=Bandeau!$A$4,Bandeau!$E$4,IF(K26=Bandeau!$A$5,Bandeau!$E$5,IF(K26=Bandeau!$A$6,Bandeau!$E$6,IF(K26=Bandeau!$A$7,Bandeau!$E$7,IF(K26=Bandeau!$A$8,Bandeau!$E$8,IF(K26=Bandeau!$A$9,Bandeau!$E$9,IF(K26=Bandeau!$A$10,Bandeau!$E$10,IF(K26=Bandeau!$A$11,Bandeau!$E$11,IF(K26=Bandeau!$A$12,Bandeau!$E$12,""))))))))) | P26: =IF(C26="","",SUM(IF(E26="",0,Bun!$I$7),IF(E27="",0,Bun!$I$7),IF(E28="",0,Bun!$I$7),IF(E29="",0,Bun!$I$7),IF(E30="",0,Bun!$I$7),IF(G27="",0,Modulable!$I$7),IF(G28="",0,Modulable!$I$7),IF(G29="",0,Modulable!$I$7),IF(G30="",0,Modulable!$I$7),IF(G26="",0,Modulable!$I$7),IF(I26="",0,Plissé!$I$7),IF(I27="",0,Plissé!$I$7),IF(I28="",0,Plissé!$I$7),IF(I29="",0,Plissé!$I$7),IF(I30="",0,Plissé!$I$7),IF(L26="",0,Bandeau!$I$7),IF(L27="",0,Bandeau!$I$7),IF(L28="",0,Bandeau!$I$7),IF(L29="",0,Bandeau!$I$7),IF(L30="",0,Bandeau!$I$7)))
F27: =IF(E27=Bun!$A$4,Bun!$E$4,IF(E27=Bun!$A$5,Bun!$E$5,IF(E27=Bun!$A$6,Bun!$E$6,IF(E27=Bun!$A$7,Bun!$E$7,IF(E27=Bun!$A$8,Bun!$E$8,""))))) | H27: =IF(G27=Modulable!$A$4,Modulable!$E$4,IF(G27=Modulable!$A$5,Modulable!$E$5,IF(G27=Modulable!$A$6,Modulable!$E$6,IF(G27=Modulable!$A$7,Modulable!$E$7,IF(G27=Modulable!$A$8,Modulable!$E$8,""))))) | J27: =IF(I27=Plissé!$A$4,Plissé!$E$4,IF(I27=Plissé!$A$5,Plissé!$E$5,IF(I27=Plissé!$A$6,Plissé!$E$6,IF(I27=Plissé!$A$7,Plissé!$E$7,IF(I27=Plissé!$A$8,Plissé!$E$8,""))))) | L27: =IF(K27=Bandeau!$A$4,Bandeau!$E$4,IF(K27=Bandeau!$A$5,Bandeau!$E$5,IF(K27=Bandeau!$A$6,Bandeau!$E$6,IF(K27=Bandeau!$A$7,Bandeau!$E$7,IF(K27=Bandeau!$A$8,Bandeau!$E$8,IF(K27=Bandeau!$A$9,Bandeau!$E$9,IF(K27=Bandeau!$A$10,Bandeau!$E$10,IF(K27=Bandeau!$A$11,Bandeau!$E$11,IF(K27=Bandeau!$A$12,Bandeau!$E$12,""))))))))) | P27: =IF(C27="","",SUM(IF(E27="",0,Bun!$I$7),IF(E28="",0,Bun!$I$7),IF(E29="",0,Bun!$I$7),IF(E30="",0,Bun!$I$7),IF(E31="",0,Bun!$I$7),IF(G28="",0,Modulable!$I$7),IF(G29="",0,Modulable!$I$7),IF(G30="",0,Modulable!$I$7),IF(G31="",0,Modulable!$I$7),IF(G27="",0,Modulable!$I$7),IF(I27="",0,Plissé!$I$7),IF(I28="",0,Plissé!$I$7),IF(I29="",0,Plissé!$I$7),IF(I30="",0,Plissé!$I$7),IF(I31="",0,Plissé!$I$7),IF(L27="",0,Bandeau!$I$7),IF(L28="",0,Bandeau!$I$7),IF(L29="",0,Bandeau!$I$7),IF(L30="",0,Bandeau!$I$7),IF(L31="",0,Bandeau!$I$7)))
F28: =IF(E28=Bun!$A$4,Bun!$E$4,IF(E28=Bun!$A$5,Bun!$E$5,IF(E28=Bun!$A$6,Bun!$E$6,IF(E28=Bun!$A$7,Bun!$E$7,IF(E28=Bun!$A$8,Bun!$E$8,""))))) | H28: =IF(G28=Modulable!$A$4,Modulable!$E$4,IF(G28=Modulable!$A$5,Modulable!$E$5,IF(G28=Modulable!$A$6,Modulable!$E$6,IF(G28=Modulable!$A$7,Modulable!$E$7,IF(G28=Modulable!$A$8,Modulable!$E$8,""))))) | J28: =IF(I28=Plissé!$A$4,Plissé!$E$4,IF(I28=Plissé!$A$5,Plissé!$E$5,IF(I28=Plissé!$A$6,Plissé!$E$6,IF(I28=Plissé!$A$7,Plissé!$E$7,IF(I28=Plissé!$A$8,Plissé!$E$8,""))))) | L28: =IF(K28=Bandeau!$A$4,Bandeau!$E$4,IF(K28=Bandeau!$A$5,Bandeau!$E$5,IF(K28=Bandeau!$A$6,Bandeau!$E$6,IF(K28=Bandeau!$A$7,Bandeau!$E$7,IF(K28=Bandeau!$A$8,Bandeau!$E$8,IF(K28=Bandeau!$A$9,Bandeau!$E$9,IF(K28=Bandeau!$A$10,Bandeau!$E$10,IF(K28=Bandeau!$A$11,Bandeau!$E$11,IF(K28=Bandeau!$A$12,Bandeau!$E$12,""))))))))) | P28: =IF(C28="","",SUM(IF(E28="",0,Bun!$I$7),IF(E29="",0,Bun!$I$7),IF(E30="",0,Bun!$I$7),IF(E31="",0,Bun!$I$7),IF(E32="",0,Bun!$I$7),IF(G29="",0,Modulable!$I$7),IF(G30="",0,Modulable!$I$7),IF(G31="",0,Modulable!$I$7),IF(G32="",0,Modulable!$I$7),IF(G28="",0,Modulable!$I$7),IF(I28="",0,Plissé!$I$7),IF(I29="",0,Plissé!$I$7),IF(I30="",0,Plissé!$I$7),IF(I31="",0,Plissé!$I$7),IF(I32="",0,Plissé!$I$7),IF(L28="",0,Bandeau!$I$7),IF(L29="",0,Bandeau!$I$7),IF(L30="",0,Bandeau!$I$7),IF(L31="",0,Bandeau!$I$7),IF(L32="",0,Bandeau!$I$7)))
A29: =IF('[1]Registre des ventes'!B11="","",'[1]Registre des ventes'!B11) -> 17/05/217 | B29: =IF('[1]Registre des ventes'!C11="","",'[1]Registre des ventes'!C11) -> 10006 | C29: =IF('[1]Registre des ventes'!D11="","",'[1]Registre des ventes'!D11) -> 30 | D29: =IF(C29="","",IF(C29<90,"Payé par le client",6)) -> Payé par le client | F29: =IF(E29=Bun!$A$4,Bun!$E$4,IF(E29=Bun!$A$5,Bun!$E$5,IF(E29=Bun!$A$6,Bun!$E$6,IF(E29=Bun!$A$7,Bun!$E$7,IF(E29=Bun!$A$8,Bun!$E$8,""))))) | H29: =IF(G29=Modulable!$A$4,Modulable!$E$4,IF(G29=Modulable!$A$5,Modulable!$E$5,IF(G29=Modulable!$A$6,Modulable!$E$6,IF(G29=Modulable!$A$7,Modulable!$E$7,IF(G29=Modulable!$A$8,Modulable!$E$8,""))))) | J29: =IF(I29=Plissé!$A$4,Plissé!$E$4,IF(I29=Plissé!$A$5,Plissé!$E$5,IF(I29=Plissé!$A$6,Plissé!$E$6,IF(I29=Plissé!$A$7,Plissé!$E$7,IF(I29=Plissé!$A$8,Plissé!$E$8,""))))) | K29: Bandeau Cherry | L29: =IF(K29=Bandeau!$A$4,Bandeau!$E$4,IF(K29=Bandeau!$A$5,Bandeau!$E$5,IF(K29=Bandeau!$A$6,Bandeau!$E$6,IF(K29=Bandeau!$A$7,Bandeau!$E$7,IF(K29=Bandeau!$A$8,Bandeau!$E$8,IF(K29=Bandeau!$A$9,Bandeau!$E$9,IF(K29=Bandeau!$A$10,Bandeau!$E$10,IF(K29=Bandeau!$A$11,Bandeau!$E$11,IF(K29=Bandeau!$A$12,Bandeau!$E$12,""))))))))) -> 17.687273 | M29: =IF(C29="","",(1.5)) -> 1.5 | N29: =IF(C29="","",0.25+((1.4*C29)/100)) -> 0.67 | O29: =IF(C29="","",C29-SUM(D29,F29:F33,H29:H33,J29:J33,L29:L33,N29)) -> 11.642727 | P29: =IF(C29="","",SUM(IF(E29="",0,Bun!$I$7),IF(E30="",0,Bun!$I$7),IF(E31="",0,Bun!$I$7),IF(E32="",0,Bun!$I$7),IF(E33="",0,Bun!$I$7),IF(G30="",0,Modulable!$I$7),IF(G31="",0,Modulable!$I$7),IF(G32="",0,Modulable!$I$7),IF(G33="",0,Modulable!$I$7),IF(G29="",0,Modulable!$I$7),IF(I29="",0,Plissé!$I$7),IF(I30="",0,Plissé!$I$7),IF(I31="",0,Plissé!$I$7),IF(I32="",0,Plissé!$I$7),IF(I33="",0,Plissé!$I$7),IF(L29="",0,Bandeau!$I$7),IF(L30="",0,Bandeau!$I$7),IF(L31="",0,Bandeau!$I$7),IF(L32="",0,Bandeau!$I$7),IF(L33="",0,Bandeau!$I$7))) -> 13.5
F30: =IF(E30=Bun!$A$4,Bun!$E$4,IF(E30=Bun!$A$5,Bun!$E$5,IF(E30=Bun!$A$6,Bun!$E$6,IF(E30=Bun!$A$7,Bun!$E$7,IF(E30=Bun!$A$8,Bun!$E$8,""))))) | H30: =IF(G30=Modulable!$A$4,Modulable!$E$4,IF(G30=Modulable!$A$5,Modulable!$E$5,IF(G30=Modulable!$A$6,Modulable!$E$6,IF(G30=Modulable!$A$7,Modulable!$E$7,IF(G30=Modulable!$A$8,Modulable!$E$8,""))))) | J30: =IF(I30=Plissé!$A$4,Plissé!$E$4,IF(I30=Plissé!$A$5,Plissé!$E$5,IF(I30=Plissé!$A$6,Plissé!$E$6,IF(I30=Plissé!$A$7,Plissé!$E$7,IF(I30=Plissé!$A$8,Plissé!$E$8,""))))) | L30: =IF(K30=Bandeau!$A$4,Bandeau!$E$4,IF(K30=Bandeau!$A$5,Bandeau!$E$5,IF(K30=Bandeau!$A$6,Bandeau!$E$6,IF(K30=Bandeau!$A$7,Bandeau!$E$7,IF(K30=Bandeau!$A$8,Bandeau!$E$8,IF(K30=Bandeau!$A$9,Bandeau!$E$9,IF(K30=Bandeau!$A$10,Bandeau!$E$10,IF(K30=Bandeau!$A$11,Bandeau!$E$11,IF(K30=Bandeau!$A$12,Bandeau!$E$12,""))))))))) | P30: =IF(C30="","",SUM(IF(E30="",0,Bun!$I$7),IF(E31="",0,Bun!$I$7),IF(E32="",0,Bun!$I$7),IF(E33="",0,Bun!$I$7),IF(E34="",0,Bun!$I$7),IF(G31="",0,Modulable!$I$7),IF(G32="",0,Modulable!$I$7),IF(G33="",0,Modulable!$I$7),IF(G34="",0,Modulable!$I$7),IF(G30="",0,Modulable!$I$7),IF(I30="",0,Plissé!$I$7),IF(I31="",0,Plissé!$I$7),IF(I32="",0,Plissé!$I$7),IF(I33="",0,Plissé!$I$7),IF(I34="",0,Plissé!$I$7),IF(L30="",0,Bandeau!$I$7),IF(L31="",0,Bandeau!$I$7),IF(L32="",0,Bandeau!$I$7),IF(L33="",0,Bandeau!$I$7),IF(L34="",0,Bandeau!$I$7)))
F31: =IF(E31=Bun!$A$4,Bun!$E$4,IF(E31=Bun!$A$5,Bun!$E$5,IF(E31=Bun!$A$6,Bun!$E$6,IF(E31=Bun!$A$7,Bun!$E$7,IF(E31=Bun!$A$8,Bun!$E$8,""))))) | H31: =IF(G31=Modulable!$A$4,Modulable!$E$4,IF(G31=Modulable!$A$5,Modulable!$E$5,IF(G31=Modulable!$A$6,Modulable!$E$6,IF(G31=Modulable!$A$7,Modulable!$E$7,IF(G31=Modulable!$A$8,Modulable!$E$8,""))))) | J31: =IF(I31=Plissé!$A$4,Plissé!$E$4,IF(I31=Plissé!$A$5,Plissé!$E$5,IF(I31=Plissé!$A$6,Plissé!$E$6,IF(I31=Plissé!$A$7,Plissé!$E$7,IF(I31=Plissé!$A$8,Plissé!$E$8,""))))) | L31: =IF(K31=Bandeau!$A$4,Bandeau!$E$4,IF(K31=Bandeau!$A$5,Bandeau!$E$5,IF(K31=Bandeau!$A$6,Bandeau!$E$6,IF(K31=Bandeau!$A$7,Bandeau!$E$7,IF(K31=Bandeau!$A$8,Bandeau!$E$8,IF(K31=Bandeau!$A$9,Bandeau!$E$9,IF(K31=Bandeau!$A$10,Bandeau!$E$10,IF(K31=Bandeau!$A$11,Bandeau!$E$11,IF(K31=Bandeau!$A$12,Bandeau!$E$12,""))))))))) | P31: =IF(C31="","",SUM(IF(E31="",0,Bun!$I$7),IF(E32="",0,Bun!$I$7),IF(E33="",0,Bun!$I$7),IF(E34="",0,Bun!$I$7),IF(E35="",0,Bun!$I$7),IF(G32="",0,Modulable!$I$7),IF(G33="",0,Modulable!$I$7),IF(G34="",0,Modulable!$I$7),IF(G35="",0,Modulable!$I$7),IF(G31="",0,Modulable!$I$7),IF(I31="",0,Plissé!$I$7),IF(I32="",0,Plissé!$I$7),IF(I33="",0,Plissé!$I$7),IF(I34="",0,Plissé!$I$7),IF(I35="",0,Plissé!$I$7),IF(L31="",0,Bandeau!$I$7),IF(L32="",0,Bandeau!$I$7),IF(L33="",0,Bandeau!$I$7),IF(L34="",0,Bandeau!$I$7),IF(L35="",0,Bandeau!$I$7)))
F32: =IF(E32=Bun!$A$4,Bun!$E$4,IF(E32=Bun!$A$5,Bun!$E$5,IF(E32=Bun!$A$6,Bun!$E$6,IF(E32=Bun!$A$7,Bun!$E$7,IF(E32=Bun!$A$8,Bun!$E$8,""))))) | H32: =IF(G32=Modulable!$A$4,Modulable!$E$4,IF(G32=Modulable!$A$5,Modulable!$E$5,IF(G32=Modulable!$A$6,Modulable!$E$6,IF(G32=Modulable!$A$7,Modulable!$E$7,IF(G32=Modulable!$A$8,Modulable!$E$8,""))))) | J32: =IF(I32=Plissé!$A$4,Plissé!$E$4,IF(I32=Plissé!$A$5,Plissé!$E$5,IF(I32=Plissé!$A$6,Plissé!$E$6,IF(I32=Plissé!$A$7,Plissé!$E$7,IF(I32=Plissé!$A$8,Plissé!$E$8,""))))) | L32: =IF(K32=Bandeau!$A$4,Bandeau!$E$4,IF(K32=Bandeau!$A$5,Bandeau!$E$5,IF(K32=Bandeau!$A$6,Bandeau!$E$6,IF(K32=Bandeau!$A$7,Bandeau!$E$7,IF(K32=Bandeau!$A$8,Bandeau!$E$8,IF(K32=Bandeau!$A$9,Bandeau!$E$9,IF(K32=Bandeau!$A$10,Bandeau!$E$10,IF(K32=Bandeau!$A$11,Bandeau!$E$11,IF(K32=Bandeau!$A$12,Bandeau!$E$12,""))))))))) | P32: =IF(C32="","",SUM(IF(E32="",0,Bun!$I$7),IF(E33="",0,Bun!$I$7),IF(E34="",0,Bun!$I$7),IF(E35="",0,Bun!$I$7),IF(E36="",0,Bun!$I$7),IF(G33="",0,Modulable!$I$7),IF(G34="",0,Modulable!$I$7),IF(G35="",0,Modulable!$I$7),IF(G36="",0,Modulable!$I$7),IF(G32="",0,Modulable!$I$7),IF(I32="",0,Plissé!$I$7),IF(I33="",0,Plissé!$I$7),IF(I34="",0,Plissé!$I$7),IF(I35="",0,Plissé!$I$7),IF(I36="",0,Plissé!$I$7),IF(L32="",0,Bandeau!$I$7),IF(L33="",0,Bandeau!$I$7),IF(L34="",0,Bandeau!$I$7),IF(L35="",0,Bandeau!$I$7),IF(L36="",0,Bandeau!$I$7)))
F33: =IF(E33=Bun!$A$4,Bun!$E$4,IF(E33=Bun!$A$5,Bun!$E$5,IF(E33=Bun!$A$6,Bun!$E$6,IF(E33=Bun!$A$7,Bun!$E$7,IF(E33=Bun!$A$8,Bun!$E$8,""))))) | H33: =IF(G33=Modulable!$A$4,Modulable!$E$4,IF(G33=Modulable!$A$5,Modulable!$E$5,IF(G33=Modulable!$A$6,Modulable!$E$6,IF(G33=Modulable!$A$7,Modulable!$E$7,IF(G33=Modulable!$A$8,Modulable!$E$8,""))))) | J33: =IF(I33=Plissé!$A$4,Plissé!$E$4,IF(I33=Plissé!$A$5,Plissé!$E$5,IF(I33=Plissé!$A$6,Plissé!$E$6,IF(I33=Plissé!$A$7,Plissé!$E$7,IF(I33=Plissé!$A$8,Plissé!$E$8,""))))) | L33: =IF(K33=Bandeau!$A$4,Bandeau!$E$4,IF(K33=Bandeau!$A$5,Bandeau!$E$5,IF(K33=Bandeau!$A$6,Bandeau!$E$6,IF(K33=Bandeau!$A$7,Bandeau!$E$7,IF(K33=Bandeau!$A$8,Bandeau!$E$8,IF(K33=Bandeau!$A$9,Bandeau!$E$9,IF(K33=Bandeau!$A$10,Bandeau!$E$10,IF(K33=Bandeau!$A$11,Bandeau!$E$11,IF(K33=Bandeau!$A$12,Bandeau!$E$12,""))))))))) | P33: =IF(C33="","",SUM(IF(E33="",0,Bun!$I$7),IF(E34="",0,Bun!$I$7),IF(E35="",0,Bun!$I$7),IF(E36="",0,Bun!$I$7),IF(E37="",0,Bun!$I$7),IF(G34="",0,Modulable!$I$7),IF(G35="",0,Modulable!$I$7),IF(G36="",0,Modulable!$I$7),IF(G37="",0,Modulable!$I$7),IF(G33="",0,Modulable!$I$7),IF(I33="",0,Plissé!$I$7),IF(I34="",0,Plissé!$I$7),IF(I35="",0,Plissé!$I$7),IF(I36="",0,Plissé!$I$7),IF(I37="",0,Plissé!$I$7),IF(L33="",0,Bandeau!$I$7),IF(L34="",0,Bandeau!$I$7),IF(L35="",0,Bandeau!$I$7),IF(L36="",0,Bandeau!$I$7),IF(L37="",0,Bandeau!$I$7)))
A34: =IF('[1]Registre des ventes'!B12="","",'[1]Registre des ventes'!B12) -> 42872 | B34: =IF('[1]Registre des ventes'!C12="","",'[1]Registre des ventes'!C12) -> 10007 | C34: =IF('[1]Registre des ventes'!D12="","",'[1]Registre des ventes'!D12) -> 30 | D34: =IF(C34="","",IF(C34<90,"Payé par le client",6)) -> Payé par le client | F34: =IF(E34=Bun!$A$4,Bun!$E$4,IF(E34=Bun!$A$5,Bun!$E$5,IF(E34=Bun!$A$6,Bun!$E$6,IF(E34=Bun!$A$7,Bun!$E$7,IF(E34=Bun!$A$8,Bun!$E$8,""))))) | H34: =IF(G34=Modulable!$A$4,Modulable!$E$4,IF(G34=Modulable!$A$5,Modulable!$E$5,IF(G34=Modulable!$A$6,Modulable!$E$6,IF(G34=Modulable!$A$7,Modulable!$E$7,IF(G34=Modulable!$A$8,Modulable!$E$8,""))))) | J34: =IF(I34=Plissé!$A$4,Plissé!$E$4,IF(I34=Plissé!$A$5,Plissé!$E$5,IF(I34=Plissé!$A$6,Plissé!$E$6,IF(I34=Plissé!$A$7,Plissé!$E$7,IF(I34=Plissé!$A$8,Plissé!$E$8,""))))) | K34: Bandeau Cherry | L34: =IF(K34=Bandeau!$A$4,Bandeau!$E$4,IF(K34=Bandeau!$A$5,Bandeau!$E$5,IF(K34=Bandeau!$A$6,Bandeau!$E$6,IF(K34=Bandeau!$A$7,Bandeau!$E$7,IF(K34=Bandeau!$A$8,Bandeau!$E$8,IF(K34=Bandeau!$A$9,Bandeau!$E$9,IF(K34=Bandeau!$A$10,Bandeau!$E$10,IF(K34=Bandeau!$A$11,Bandeau!$E$11,IF(K34=Bandeau!$A$12,Bandeau!$E$12,""))))))))) -> 17.687273 | M34: =IF(C34="","",(1.5)) -> 1.5 | N34: =IF(C34="","",0.25+((1.4*C34)/100)) -> 0.67 | O34: =IF(C34="","",C34-SUM(D34,F34:F38,H34:H38,J34:J38,L34:L38,N34)) -> 11.642727 | P34: =IF(C34="","",SUM(IF(E34="",0,Bun!$I$7),IF(E35="",0,Bun!$I$7),IF(E36="",0,Bun!$I$7),IF(E37="",0,Bun!$I$7),IF(E38="",0,Bun!$I$7),IF(G35="",0,Modulable!$I$7),IF(G36="",0,Modulable!$I$7),IF(G37="",0,Modulable!$I$7),IF(G38="",0,Modulable!$I$7),IF(G34="",0,Modulable!$I$7),IF(I34="",0,Plissé!$I$7),IF(I35="",0,Plissé!$I$7),IF(I36="",0,Plissé!$I$7),IF(I37="",0,Plissé!$I$7),IF(I38="",0,Plissé!$I$7),IF(L34="",0,Bandeau!$I$7),IF(L35="",0,Bandeau!$I$7),IF(L36="",0,Bandeau!$I$7),IF(L37="",0,Bandeau!$I$7),IF(L38="",0,Bandeau!$I$7))) -> 13.5
F35: =IF(E35=Bun!$A$4,Bun!$E$4,IF(E35=Bun!$A$5,Bun!$E$5,IF(E35=Bun!$A$6,Bun!$E$6,IF(E35=Bun!$A$7,Bun!$E$7,IF(E35=Bun!$A$8,Bun!$E$8,""))))) | H35: =IF(G35=Modulable!$A$4,Modulable!$E$4,IF(G35=Modulable!$A$5,Modulable!$E$5,IF(G35=Modulable!$A$6,Modulable!$E$6,IF(G35=Modulable!$A$7,Modulable!$E$7,IF(G35=Modulable!$A$8,Modulable!$E$8,""))))) | J35: =IF(I35=Plissé!$A$4,Plissé!$E$4,IF(I35=Plissé!$A$5,Plissé!$E$5,IF(I35=Plissé!$A$6,Plissé!$E$6,IF(I35=Plissé!$A$7,Plissé!$E$7,IF(I35=Plissé!$A$8,Plissé!$E$8,""))))) | L35: =IF(K35=Bandeau!$A$4,Bandeau!$E$4,IF(K35=Bandeau!$A$5,Bandeau!$E$5,IF(K35=Bandeau!$A$6,Bandeau!$E$6,IF(K35=Bandeau!$A$7,Bandeau!$E$7,IF(K35=Bandeau!$A$8,Bandeau!$E$8,IF(K35=Bandeau!$A$9,Bandeau!$E$9,IF(K35=Bandeau!$A$10,Bandeau!$E$10,IF(K35=Bandeau!$A$11,Bandeau!$E$11,IF(K35=Bandeau!$A$12,Bandeau!$E$12,""))))))))) | P35: =IF(C35="","",SUM(IF(E35="",0,Bun!$I$7),IF(E36="",0,Bun!$I$7),IF(E37="",0,Bun!$I$7),IF(E38="",0,Bun!$I$7),IF(E39="",0,Bun!$I$7),IF(G36="",0,Modulable!$I$7),IF(G37="",0,Modulable!$I$7),IF(G38="",0,Modulable!$I$7),IF(G39="",0,Modulable!$I$7),IF(G35="",0,Modulable!$I$7),IF(I35="",0,Plissé!$I$7),IF(I36="",0,Plissé!$I$7),IF(I37="",0,Plissé!$I$7),IF(I38="",0,Plissé!$I$7),IF(I39="",0,Plissé!$I$7),IF(L35="",0,Bandeau!$I$7),IF(L36="",0,Bandeau!$I$7),IF(L37="",0,Bandeau!$I$7),IF(L38="",0,Bandeau!$I$7),IF(L39="",0,Bandeau!$I$7)))
F36: =IF(E36=Bun!$A$4,Bun!$E$4,IF(E36=Bun!$A$5,Bun!$E$5,IF(E36=Bun!$A$6,Bun!$E$6,IF(E36=Bun!$A$7,Bun!$E$7,IF(E36=Bun!$A$8,Bun!$E$8,""))))) | H36: =IF(G36=Modulable!$A$4,Modulable!$E$4,IF(G36=Modulable!$A$5,Modulable!$E$5,IF(G36=Modulable!$A$6,Modulable!$E$6,IF(G36=Modulable!$A$7,Modulable!$E$7,IF(G36=Modulable!$A$8,Modulable!$E$8,""))))) | J36: =IF(I36=Plissé!$A$4,Plissé!$E$4,IF(I36=Plissé!$A$5,Plissé!$E$5,IF(I36=Plissé!$A$6,Plissé!$E$6,IF(I36=Plissé!$A$7,Plissé!$E$7,IF(I36=Plissé!$A$8,Plissé!$E$8,""))))) | L36: =IF(K36=Bandeau!$A$4,Bandeau!$E$4,IF(K36=Bandeau!$A$5,Bandeau!$E$5,IF(K36=Bandeau!$A$6,Bandeau!$E$6,IF(K36=Bandeau!$A$7,Bandeau!$E$7,IF(K36=Bandeau!$A$8,Bandeau!$E$8,IF(K36=Bandeau!$A$9,Bandeau!$E$9,IF(K36=Bandeau!$A$10,Bandeau!$E$10,IF(K36=Bandeau!$A$11,Bandeau!$E$11,IF(K36=Bandeau!$A$12,Bandeau!$E$12,""))))))))) | P36: =IF(C36="","",SUM(IF(E36="",0,Bun!$I$7),IF(E37="",0,Bun!$I$7),IF(E38="",0,Bun!$I$7),IF(E39="",0,Bun!$I$7),IF(E40="",0,Bun!$I$7),IF(G37="",0,Modulable!$I$7),IF(G38="",0,Modulable!$I$7),IF(G39="",0,Modulable!$I$7),IF(G40="",0,Modulable!$I$7),IF(G36="",0,Modulable!$I$7),IF(I36="",0,Plissé!$I$7),IF(I37="",0,Plissé!$I$7),IF(I38="",0,Plissé!$I$7),IF(I39="",0,Plissé!$I$7),IF(I40="",0,Plissé!$I$7),IF(L36="",0,Bandeau!$I$7),IF(L37="",0,Bandeau!$I$7),IF(L38="",0,Bandeau!$I$7),IF(L39="",0,Bandeau!$I$7),IF(L40="",0,Bandeau!$I$7)))
F37: =IF(E37=Bun!$A$4,Bun!$E$4,IF(E37=Bun!$A$5,Bun!$E$5,IF(E37=Bun!$A$6,Bun!$E$6,IF(E37=Bun!$A$7,Bun!$E$7,IF(E37=Bun!$A$8,Bun!$E$8,""))))) | H37: =IF(G37=Modulable!$A$4,Modulable!$E$4,IF(G37=Modulable!$A$5,Modulable!$E$5,IF(G37=Modulable!$A$6,Modulable!$E$6,IF(G37=Modulable!$A$7,Modulable!$E$7,IF(G37=Modulable!$A$8,Modulable!$E$8,""))))) | J37: =IF(I37=Plissé!$A$4,Plissé!$E$4,IF(I37=Plissé!$A$5,Plissé!$E$5,IF(I37=Plissé!$A$6,Plissé!$E$6,IF(I37=Plissé!$A$7,Plissé!$E$7,IF(I37=Plissé!$A$8,Plissé!$E$8,""))))) | L37: =IF(K37=Bandeau!$A$4,Bandeau!$E$4,IF(K37=Bandeau!$A$5,Bandeau!$E$5,IF(K37=Bandeau!$A$6,Bandeau!$E$6,IF(K37=Bandeau!$A$7,Bandeau!$E$7,IF(K37=Bandeau!$A$8,Bandeau!$E$8,IF(K37=Bandeau!$A$9,Bandeau!$E$9,IF(K37=Bandeau!$A$10,Bandeau!$E$10,IF(K37=Bandeau!$A$11,Bandeau!$E$11,IF(K37=Bandeau!$A$12,Bandeau!$E$12,""))))))))) | P37: =IF(C37="","",SUM(IF(E37="",0,Bun!$I$7),IF(E38="",0,Bun!$I$7),IF(E39="",0,Bun!$I$7),IF(E40="",0,Bun!$I$7),IF(E41="",0,Bun!$I$7),IF(G38="",0,Modulable!$I$7),IF(G39="",0,Modulable!$I$7),IF(G40="",0,Modulable!$I$7),IF(G41="",0,Modulable!$I$7),IF(G37="",0,Modulable!$I$7),IF(I37="",0,Plissé!$I$7),IF(I38="",0,Plissé!$I$7),IF(I39="",0,Plissé!$I$7),IF(I40="",0,Plissé!$I$7),IF(I41="",0,Plissé!$I$7),IF(L37="",0,Bandeau!$I$7),IF(L38="",0,Bandeau!$I$7),IF(L39="",0,Bandeau!$I$7),IF(L40="",0,Bandeau!$I$7),IF(L41="",0,Bandeau!$I$7)))
F38: =IF(E38=Bun!$A$4,Bun!$E$4,IF(E38=Bun!$A$5,Bun!$E$5,IF(E38=Bun!$A$6,Bun!$E$6,IF(E38=Bun!$A$7,Bun!$E$7,IF(E38=Bun!$A$8,Bun!$E$8,""))))) | H38: =IF(G38=Modulable!$A$4,Modulable!$E$4,IF(G38=Modulable!$A$5,Modulable!$E$5,IF(G38=Modulable!$A$6,Modulable!$E$6,IF(G38=Modulable!$A$7,Modulable!$E$7,IF(G38=Modulable!$A$8,Modulable!$E$8,""))))) | J38: =IF(I38=Plissé!$A$4,Plissé!$E$4,IF(I38=Plissé!$A$5,Plissé!$E$5,IF(I38=Plissé!$A$6,Plissé!$E$6,IF(I38=Plissé!$A$7,Plissé!$E$7,IF(I38=Plissé!$A$8,Plissé!$E$8,""))))) | L38: =IF(K38=Bandeau!$A$4,Bandeau!$E$4,IF(K38=Bandeau!$A$5,Bandeau!$E$5,IF(K38=Bandeau!$A$6,Bandeau!$E$6,IF(K38=Bandeau!$A$7,Bandeau!$E$7,IF(K38=Bandeau!$A$8,Bandeau!$E$8,IF(K38=Bandeau!$A$9,Bandeau!$E$9,IF(K38=Bandeau!$A$10,Bandeau!$E$10,IF(K38=Bandeau!$A$11,Bandeau!$E$11,IF(K38=Bandeau!$A$12,Bandeau!$E$12,""))))))))) | P38: =IF(C38="","",SUM(IF(E38="",0,Bun!$I$7),IF(E39="",0,Bun!$I$7),IF(E40="",0,Bun!$I$7),IF(E41="",0,Bun!$I$7),IF(E42="",0,Bun!$I$7),IF(G39="",0,Modulable!$I$7),IF(G40="",0,Modulable!$I$7),IF(G41="",0,Modulable!$I$7),IF(G42="",0,Modulable!$I$7),IF(G38="",0,Modulable!$I$7),IF(I38="",0,Plissé!$I$7),IF(I39="",0,Plissé!$I$7),IF(I40="",0,Plissé!$I$7),IF(I41="",0,Plissé!$I$7),IF(I42="",0,Plissé!$I$7),IF(L38="",0,Bandeau!$I$7),IF(L39="",0,Bandeau!$I$7),IF(L40="",0,Bandeau!$I$7),IF(L41="",0,Bandeau!$I$7),IF(L42="",0,Bandeau!$I$7)))
