Workbook
Name An: GESTION!$E$8
Name type: OFFSET(GESTION!$E$30,,,SUMPRODUCT(N(LEN(GESTION!$E$30:$E$100)>0))+1)
Name types: GESTION!#REF!

Sheet GESTION
D8: ANNEE: | E8: 2010
B9: Utilisez les 12 feuilles pour gérer les dépenses sur 12 mois ou pour gérer jusqu'à 12 comptes …
D10: ="REPORT :"&$E$8-1 -> REPORT :2009 | E10: 0 | F10: 0 | G10: 0
B11: Récapitulatif : | D11: Mois | E11: Entrées | F11: Sorties | G11: Balances
B12: (automatisé) | D12: Janvier | E12: =SUM(Janvier!E:E) -> 0 | F12: =SUM(Janvier!F:F) -> 0 | G12: =SUM(Janvier!E:E)-SUM(Janvier!F:F) -> 0
D13: Février | E13: =SUM(Février!E:E) -> 0 | F13: =SUM(Février!F:F) -> 340 | G13: =SUM(Février!E:E)-SUM(Février!F:F) -> -340
D14: Mars | E14: =SUM(Mars!E:E) -> 0 | F14: =SUM(Mars!F:F) -> 0 | G14: =SUM(Mars!E:E)-SUM(Mars!F:F) -> 0
D15: Avril | E15: =SUM(#REF!) -> #REF! | F15: =SUM(#REF!) -> #REF! | G15: =SUM(#REF!)-SUM(#REF!) -> #REF!
D16: Mai | E16: =SUM(#REF!) -> #REF! | F16: =SUM(#REF!) -> #REF! | G16: =SUM(#REF!)-SUM(#REF!) -> #REF!
D17: Juin | E17: =SUM(#REF!) -> #REF! | F17: =SUM(#REF!) -> #REF! | G17: =SUM(#REF!)-SUM(#REF!) -> #REF!
D18: Juillet | E18: =SUM(#REF!) -> #REF! | F18: =SUM(#REF!) -> #REF! | G18: =SUM(#REF!)-SUM(#REF!) -> #REF!
D19: Août | E19: =SUM(#REF!) -> #REF! | F19: =SUM(#REF!) -> #REF! | G19: =SUM(#REF!)-SUM(#REF!) -> #REF!
D20: Septembre | E20: =SUM(#REF!) -> #REF! | F20: =SUM(#REF!) -> #REF! | G20: =SUM(#REF!)-SUM(#REF!) -> #REF!
D21: Octobre | E21: =SUM(#REF!) -> #REF! | F21: =SUM(#REF!) -> #REF! | G21: =SUM(#REF!)-SUM(#REF!) -> #REF!
D22: Novembre | E22: =SUM(#REF!) -> #REF! | F22: =SUM(#REF!) -> #REF! | G22: =SUM(#REF!)-SUM(#REF!) -> #REF!
D23: Décembre | E23: =SUM(#REF!) -> #REF! | F23: =SUM(#REF!) -> #REF! | G23: =SUM(#REF!)-SUM(#REF!) -> #REF!
D24: Moyennes | E24: =IF(COUNTIF($G$12:$G$23,0)=12,0,SUM(E12:E23)/(12-COUNTIF($G$12:$G$23,0))) -> #REF! | F24: =IF(COUNTIF($G$12:$G$23,0)=12,0,SUM(F12:F23)/(12-COUNTIF($G$12:$G$23,0))) -> #REF! | G24: =IF(COUNTIF($G$12:$G$23,0)=12,0,SUM(G12:G23)/(12-COUNTIF($G$12:$G$23,0))) -> #REF!
D25: Totaux | E25: =SUM(E12:E23) -> #REF! | F25: =SUM(F12:F23) -> #REF! | G25: =SUM(G12:G23) -> #REF!
B27: Types à définir :
B28: (personnalisable)
C29: Index | D29: Saisie Types | E29: Tri auto (Listes)
C30: =IF(OR(D30="",COUNTIF(D$30:D30,D30)>1),"",COUNTIF(D$30:D$100,"<"&D30)+1) -> 1 | D30: Alimentation | E30: =IF(ISNUMBER(C30),VLOOKUP(ROW()-29,$C$30:$D$100,2,FALSE),"") -> Alimentation
C31: =IF(OR(D31="",COUNTIF(D$30:D31,D31)>1),"",COUNTIF(D$30:D$100,"<"&D31)+1) -> 2 | D31: Assurances | E31: =IF(ISNUMBER(C31),VLOOKUP(ROW()-29,$C$30:$D$100,2,FALSE),"") -> Assurances
C32: =IF(OR(D32="",COUNTIF(D$30:D32,D32)>1),"",COUNTIF(D$30:D$100,"<"&D32)+1) -> 3 | D32: Autres Revenus | E32: =IF(ISNUMBER(C32),VLOOKUP(ROW()-29,$C$30:$D$100,2,FALSE),"") -> Autres Revenus
C33: =IF(OR(D33="",COUNTIF(D$30:D33,D33)>1),"",COUNTIF(D$30:D$100,"<"&D33)+1) -> 4 | D33: Boisson | E33: =IF(ISNUMBER(C33),VLOOKUP(ROW()-29,$C$30:$D$100,2,FALSE),"") -> Boisson
C34: =IF(OR(D34="",COUNTIF(D$30:D34,D34)>1),"",COUNTIF(D$30:D$100,"<"&D34)+1) -> 5 | D34: Carburant | E34: =IF(ISNUMBER(C34),VLOOKUP(ROW()-29,$C$30:$D$100,2,FALSE),"") -> Carburant
C35: =IF(OR(D35="",COUNTIF(D$30:D35,D35)>1),"",COUNTIF(D$30:D$100,"<"&D35)+1) -> 6 | D35: Cotisation diverses | E35: =IF(ISNUMBER(C35),VLOOKUP(ROW()-29,$C$30:$D$100,2,FALSE),"") -> Cotisation diverses
C36: =IF(OR(D36="",COUNTIF(D$30:D36,D36)>1),"",COUNTIF(D$30:D$100,"<"&D36)+1) -> 7 | D36: Dépenses de santé | E36: =IF(ISNUMBER(C36),VLOOKUP(ROW()-29,$C$30:$D$100,2,FALSE),"") -> Dépenses de santé
C37: =IF(OR(D37="",COUNTIF(D$30:D37,D37)>1),"",COUNTIF(D$30:D$100,"<"&D37)+1) -> 10 | D37: Factures EAU | E37: =IF(ISNUMBER(C37),VLOOKUP(ROW()-29,$C$30:$D$100,2,FALSE),"") -> Entretien Maison
C38: =IF(OR(D38="",COUNTIF(D$30:D38,D38)>1),"",COUNTIF(D$30:D$100,"<"&D38)+1) -> 11 | D38: Factures EDP | E38: =IF(ISNUMBER(C38),VLOOKUP(ROW()-29,$C$30:$D$100,2,FALSE),"") -> Facture Internet
C39: =IF(OR(D39="",COUNTIF(D$30:D39,D39)>1),"",COUNTIF(D$30:D$100,"<"&D39)+1) -> 12 | D39: Frais Banquaires | E39: =IF(ISNUMBER(C39),VLOOKUP(ROW()-29,$C$30:$D$100,2,FALSE),"") -> Factures EAU
C40: =IF(OR(D40="",COUNTIF(D$30:D40,D40)>1),"",COUNTIF(D$30:D$100,"<"&D40)+1) -> 14 | D40: Gsm Alain | E40: =IF(ISNUMBER(C40),VLOOKUP(ROW()-29,$C$30:$D$100,2,FALSE),"") -> Factures EDP
C41: =IF(OR(D41="",COUNTIF(D$30:D41,D41)>1),"",COUNTIF(D$30:D$100,"<"&D41)+1) -> 15 | D41: Gsm Marty | E41: =IF(ISNUMBER(C41),VLOOKUP(ROW()-29,$C$30:$D$100,2,FALSE),"") -> Frais Banquaires
... C54: =IF(OR(D54="",COUNTIF(D$30:D54,D54)>1),"",COUNTIF(D$30:D$100,"<"&D54)+1) -> 19 | D54: Petit mobilier | E54: =IF(ISNUMBER(C54),VLOOKUP(ROW()-29,$C$30:$D$100,2,FALSE),"") -> Vacances-Loisirs
C55: =IF(OR(D55="",COUNTIF(D$30:D55,D55)>1),"",COUNTIF(D$30:D$100,"<"&D55)+1) | E55: =IF(ISNUMBER(C55),VLOOKUP(ROW()-29,$C$30:$D$100,2,FALSE),"")
C56: =IF(OR(D56="",COUNTIF(D$30:D56,D56)>1),"",COUNTIF(D$30:D$100,"<"&D56)+1) | E56: =IF(ISNUMBER(C56),VLOOKUP(ROW()-29,$C$30:$D$100,2,FALSE),"")
C57: =IF(OR(D57="",COUNTIF(D$30:D57,D57)>1),"",COUNTIF(D$30:D$100,"<"&D57)+1) | E57: =IF(ISNUMBER(C57),VLOOKUP(ROW()-29,$C$30:$D$100,2,FALSE),"")
C58: =IF(OR(D58="",COUNTIF(D$30:D58,D58)>1),"",COUNTIF(D$30:D$100,"<"&D58)+1) | E58: =IF(ISNUMBER(C58),VLOOKUP(ROW()-29,$C$30:$D$100,2,FALSE),"")
C59: =IF(OR(D59="",COUNTIF(D$30:D59,D59)>1),"",COUNTIF(D$30:D$100,"<"&D59)+1) | E59: =IF(ISNUMBER(C59),VLOOKUP(ROW()-29,$C$30:$D$100,2,FALSE),"")
C60: =IF(OR(D60="",COUNTIF(D$30:D60,D60)>1),"",COUNTIF(D$30:D$100,"<"&D60)+1) | E60: =IF(ISNUMBER(C60),VLOOKUP(ROW()-29,$C$30:$D$100,2,FALSE),"")
...

Sheet Janvier
A1: =MID(CELL("nomfichier",$A$1),FIND("]",CELL("nomfichier",$A$1))+1,32) -> Janvier
B2: Date | C2: Type | D2: Détails | E2: Entrées | F2: Sorties | H2: Balance : | I2: =IF(SUM(E:E)-SUM(F:F)<0,"- "&ABS(SUM(E:E)-SUM(F:F)),IF(SUM(E:E)-SUM(F:F)=0," -","+ "&SUM(E:E)-SUM(F:F))) -> -
B3: =DATE(An,MONTH("1/"&A1),1) -> 40179 | H3: =IF(C3<>"",IF(COUNTIF($C$3:C3,C3)>1,"",SUMPRODUCT(($C$3:$C$200=C3)*($F$3:$F$200))/SUM(F:F)),"") | L3: =IF(B3="","",B3) -> 40179 | M3: =IF(L3="","",L3+1) -> 40180 | N3: =""
B4: 40180 | H4: =IF(C4<>"",IF(COUNTIF($C$3:C4,C4)>1,"",SUMPRODUCT(($C$3:$C$200=C4)*($F$3:$F$200))/SUM(F:F)),"") | L4: =IF(B4="","",B4) -> 40180 | M4: =IF(L4="","",L4+1) -> 40181 | N4: =""
H5: =IF(C5<>"",IF(COUNTIF($C$3:C5,C5)>1,"",SUMPRODUCT(($C$3:$C$200=C5)*($F$3:$F$200))/SUM(F:F)),"") | L5: =IF(B5="","",B5) | M5: =IF(L5="","",L5+1) | N5: =""
H6: =IF(C6<>"",IF(COUNTIF($C$3:C6,C6)>1,"",SUMPRODUCT(($C$3:$C$200=C6)*($F$3:$F$200))/SUM(F:F)),"") | L6: =IF(B6="","",B6) | M6: =IF(L6="","",L6+1) | N6: =""
H7: =IF(C7<>"",IF(COUNTIF($C$3:C7,C7)>1,"",SUMPRODUCT(($C$3:$C$200=C7)*($F$3:$F$200))/SUM(F:F)),"") | L7: =IF(B7="","",B7) | M7: =IF(L7="","",L7+1) | N7: =""
H8: =IF(C8<>"",IF(COUNTIF($C$3:C8,C8)>1,"",SUMPRODUCT(($C$3:$C$200=C8)*($F$3:$F$200))/SUM(F:F)),"") | L8: =IF(B8="","",B8) | M8: =IF(L8="","",L8+1) | N8: =""
H9: =IF(C9<>"",IF(COUNTIF($C$3:C9,C9)>1,"",SUMPRODUCT(($C$3:$C$200=C9)*($F$3:$F$200))/SUM(F:F)),"") | L9: =IF(B9="","",B9) | M9: =IF(L9="","",L9+1) | N9: =""
H10: =IF(C10<>"",IF(COUNTIF($C$3:C10,C10)>1,"",SUMPRODUCT(($C$3:$C$200=C10)*($F$3:$F$200))/SUM(F:F)),"") | L10: =IF(B10="","",B10) | M10: =IF(L10="","",L10+1) | N10: =""
H11: =IF(C11<>"",IF(COUNTIF($C$3:C11,C11)>1,"",SUMPRODUCT(($C$3:$C$200=C11)*($F$3:$F$200))/SUM(F:F)),"") | L11: =IF(B11="","",B11) | M11: =IF(L11="","",L11+1) | N11: =""
H12: =IF(C12<>"",IF(COUNTIF($C$3:C12,C12)>1,"",SUMPRODUCT(($C$3:$C$200=C12)*($F$3:$F$200))/SUM(F:F)),"") | L12: =IF(B12="","",B12) | M12: =IF(L12="","",L12+1) | N12: =""
H13: =IF(C13<>"",IF(COUNTIF($C$3:C13,C13)>1,"",SUMPRODUCT(($C$3:$C$200=C13)*($F$3:$F$200))/SUM(F:F)),"") | L13: =IF(B13="","",B13) | M13: =IF(L13="","",L13+1) | N13: =""
H14: =IF(C14<>"",IF(COUNTIF($C$3:C14,C14)>1,"",SUMPRODUCT(($C$3:$C$200=C14)*($F$3:$F$200))/SUM(F:F)),"") | L14: =IF(B14="","",B14) | M14: =IF(L14="","",L14+1) | N14: =""
H15: =IF(C15<>"",IF(COUNTIF($C$3:C15,C15)>1,"",SUMPRODUCT(($C$3:$C$200=C15)*($F$3:$F$200))/SUM(F:F)),"") | L15: =IF(B15="","",B15) | M15: =IF(L15="","",L15+1) | N15: =""
H16: =IF(C16<>"",IF(COUNTIF($C$3:C16,C16)>1,"",SUMPRODUCT(($C$3:$C$200=C16)*($F$3:$F$200))/SUM(F:F)),"") | L16: =IF(B16="","",B16) | M16: =IF(L16="","",L16+1) | N16: =""
... H37: =IF(C37<>"",IF(COUNTIF($C$3:C37,C37)>1,"",SUMPRODUCT(($C$3:$C$200=C37)*($F$3:$F$200))/SUM(F:F)),"") | L37: =IF(B37="","",B37) | M37: =IF(L37="","",L37+1) | N37: =""
H38: =IF(F38<>"",F38/SUM(F:F),"") | L38: =IF(B38="","",B38) | M38: =IF(L38="","",L38+1) | N38: =""
H39: =IF(F39<>"",F39/SUM(F:F),"") | L39: =IF(B39="","",B39) | M39: =IF(L39="","",L39+1) | N39: =""
H40: =IF(F40<>"",F40/SUM(F:F),"") | L40: =IF(B40="","",B40) | M40: =IF(L40="","",L40+1) | N40: =""
H41: =IF(F41<>"",F41/SUM(F:F),"") | L41: =IF(B41="","",B41) | M41: =IF(L41="","",L41+1) | N41: =""
H42: =IF(F42<>"",F42/SUM(F:F),"") | L42: =IF(B42="","",B42) | M42: =IF(L42="","",L42+1) | N42: =""
H43: =IF(F43<>"",F43/SUM(F:F),"") | L43: =IF(B43="","",B43) | M43: =IF(L43="","",L43+1) | N43: =""
H44: =IF(F44<>"",F44/SUM(F:F),"") | L44: =IF(B44="","",B44) | M44: =IF(L44="","",L44+1) | N44: =""
H45: =IF(F45<>"",F45/SUM(F:F),"") | L45: =IF(B45="","",B45) | M45: =IF(L45="","",L45+1) | N45: =""
H46: =IF(F46<>"",F46/SUM(F:F),"") | L46: =IF(B46="","",B46) | M46: =IF(L46="","",L46+1) | N46: =""
H47: =IF(F47<>"",F47/SUM(F:F),"") | L47: =IF(B47="","",B47) | M47: =IF(L47="","",L47+1) | N47: =""
H48: =IF(F48<>"",F48/SUM(F:F),"") | L48: =IF(B48="","",B48) | M48: =IF(L48="","",L48+1) | N48: =""
H49: =IF(F49<>"",F49/SUM(F:F),"") | L49: =IF(B49="","",B49) | M49: =IF(L49="","",L49+1) | N49: =""
... H57: =IF(F57<>"",F57/SUM(F:F),"") | L57: =IF(B57="","",B57) | M57: =IF(L57="","",L57+1) | N57: =""
L58: =IF(B58="","",B58) | M58: =IF(L58="","",L58+1) | N58: =""

Sheet Février
A1: =MID(CELL("nomfichier",$A$1),FIND("]",CELL("nomfichier",$A$1))+1,32) -> Février
B2: Date | C2: Type | D2: Détails | E2: Entrées | F2: Sorties | H2: Balance : | I2: =IF(SUM(E:E)-SUM(F:F)<0,"- "&ABS(SUM(E:E)-SUM(F:F)),IF(SUM(E:E)-SUM(F:F)=0," -","+ "&SUM(E:E)-SUM(F:F))) -> - 340
B3: =DATE(An,MONTH("1/"&A1),1) -> 40210 | C3: Carburant | F3: 25 | H3: =IF(C3<>"",IF(COUNTIF($C$3:C3,C3)>1,"",SUMPRODUCT(($C$3:$C$200=C3)*($F$3:$F$200))/SUM(F:F)),"") -> 0.30882353 | L3: =B3 -> 40210 | M3: =L3+1 -> 40211 | N3: =""
B4: 40210 | C4: Carburant | F4: 30 | H4: =IF(C4<>"",IF(COUNTIF($C$3:C4,C4)>1,"",SUMPRODUCT(($C$3:$C$200=C4)*($F$3:$F$200))/SUM(F:F)),"") | L4: =IF(B4="","",B4) -> 40210 | M4: =IF(L4="","",L4+1) -> 40211 | N4: =""
B5: 40210 | C5: Carburant | F5: 40 | H5: =IF(C5<>"",IF(COUNTIF($C$3:C5,C5)>1,"",SUMPRODUCT(($C$3:$C$200=C5)*($F$3:$F$200))/SUM(F:F)),"") | L5: =IF(B5="","",B5) -> 40210 | M5: =IF(L5="","",L5+1) -> 40211 | N5: =""
B6: 40210 | C6: Carburant | F6: 10 | H6: =IF(C6<>"",IF(COUNTIF($C$3:C6,C6)>1,"",SUMPRODUCT(($C$3:$C$200=C6)*($F$3:$F$200))/SUM(F:F)),"") | L6: =IF(B6="","",B6) -> 40210 | M6: =IF(L6="","",L6+1) -> 40211 | N6: =""
B7: 40211 | C7: Restaurant | F7: 40 | H7: =IF(C7<>"",IF(COUNTIF($C$3:C7,C7)>1,"",SUMPRODUCT(($C$3:$C$200=C7)*($F$3:$F$200))/SUM(F:F)),"") -> 0.52941176 | L7: =IF(B7="","",B7) -> 40211 | M7: =IF(L7="","",L7+1) -> 40212 | N7: =""
B8: 40211 | C8: Restaurant | F8: 40 | H8: =IF(C8<>"",IF(COUNTIF($C$3:C8,C8)>1,"",SUMPRODUCT(($C$3:$C$200=C8)*($F$3:$F$200))/SUM(F:F)),"") | L8: =IF(B8="","",B8) -> 40211 | M8: =IF(L8="","",L8+1) -> 40212 | N8: =""
B9: 40211 | C9: Restaurant | F9: 50 | H9: =IF(C9<>"",IF(COUNTIF($C$3:C9,C9)>1,"",SUMPRODUCT(($C$3:$C$200=C9)*($F$3:$F$200))/SUM(F:F)),"") | L9: =IF(B9="","",B9) -> 40211 | M9: =IF(L9="","",L9+1) -> 40212 | N9: =""
B10: 40212 | C10: Retraits(liquidités) | F10: 50 | H10: =IF(C10<>"",IF(COUNTIF($C$3:C10,C10)>1,"",SUMPRODUCT(($C$3:$C$200=C10)*($F$3:$F$200))/SUM(F:F)),"") -> 0.16176471 | L10: =IF(B10="","",B10) -> 40212 | M10: =IF(L10="","",L10+1) -> 40213 | N10: =""
B11: 40212 | C11: Restaurant | F11: 50 | H11: =IF(C11<>"",IF(COUNTIF($C$3:C11,C11)>1,"",SUMPRODUCT(($C$3:$C$200=C11)*($F$3:$F$200))/SUM(F:F)),"") | L11: =IF(B11="","",B11) -> 40212 | M11: =IF(L11="","",L11+1) -> 40213 | N11: =""
B12: 40212 | C12: Retraits(liquidités) | F12: 5 | H12: =IF(C12<>"",IF(COUNTIF($C$3:C12,C12)>1,"",SUMPRODUCT(($C$3:$C$200=C12)*($F$3:$F$200))/SUM(F:F)),"") | L12: =IF(B12="","",B12) -> 40212 | M12: =IF(L12="","",L12+1) -> 40213 | N12: =""
B13: 40213 | C13: Péage | H13: =IF(C13<>"",IF(COUNTIF($C$3:C13,C13)>1,"",SUMPRODUCT(($C$3:$C$200=C13)*($F$3:$F$200))/SUM(F:F)),"") -> 0 | L13: =IF(B13="","",B13) -> 40213 | M13: =IF(L13="","",L13+1) -> 40214 | N13: =""
H14: =IF(C14<>"",IF(COUNTIF($C$3:C14,C14)>1,"",SUMPRODUCT(($C$3:$C$200=C14)*($F$3:$F$200))/SUM(F:F)),"") | L14: =IF(B14="","",B14) | M14: =IF(L14="","",L14+1) | N14: =""
H15: =IF(C15<>"",IF(COUNTIF($C$3:C15,C15)>1,"",SUMPRODUCT(($C$3:$C$200=C15)*($F$3:$F$200))/SUM(F:F)),"") | L15: =IF(B15="","",B15) | M15: =IF(L15="","",L15+1) | N15: =""
H16: =IF(C16<>"",IF(COUNTIF($C$3:C16,C16)>1,"",SUMPRODUCT(($C$3:$C$200=C16)*($F$3:$F$200))/SUM(F:F)),"") | L16: =IF(B16="","",B16) | M16: =IF(L16="","",L16+1) | N16: =""
H17: =IF(C17<>"",IF(COUNTIF($C$3:C17,C17)>1,"",SUMPRODUCT(($C$3:$C$200=C17)*($F$3:$F$200))/SUM(F:F)),"") | L17: =IF(B17="","",B17) | M17: =IF(L17="","",L17+1) | N17: =""
H18: =IF(C18<>"",IF(COUNTIF($C$3:C18,C18)>1,"",SUMPRODUCT(($C$3:$C$200=C18)*($F$3:$F$200))/SUM(F:F)),"") | L18: =IF(B18="","",B18) | M18: =IF(L18="","",L18+1) | N18: =""
H19: =IF(C19<>"",IF(COUNTIF($C$3:C19,C19)>1,"",SUMPRODUCT(($C$3:$C$200=C19)*($F$3:$F$200))/SUM(F:F)),"") | L19: =IF(B19="","",B19) | M19: =IF(L19="","",L19+1) | N19: =""
H20: =IF(C20<>"",IF(COUNTIF($C$3:C20,C20)>1,"",SUMPRODUCT(($C$3:$C$200=C20)*($F$3:$F$200))/SUM(F:F)),"") | L20: =IF(B20="","",B20) | M20: =IF(L20="","",L20+1) | N20: =""
H21: =IF(C21<>"",IF(COUNTIF($C$3:C21,C21)>1,"",SUMPRODUCT(($C$3:$C$200=C21)*($F$3:$F$200))/SUM(F:F)),"") | L21: =IF(B21="","",B21) | M21: =IF(L21="","",L21+1) | N21: =""
H22: =IF(C22<>"",IF(COUNTIF($C$3:C22,C22)>1,"",SUMPRODUCT(($C$3:$C$200=C22)*($F$3:$F$200))/SUM(F:F)),"") | L22: =IF(B22="","",B22) | M22: =IF(L22="","",L22+1) | N22: =""
H23: =IF(C23<>"",IF(COUNTIF($C$3:C23,C23)>1,"",SUMPRODUCT(($C$3:$C$200=C23)*($F$3:$F$200))/SUM(F:F)),"") | L23: =IF(B23="","",B23) | M23: =IF(L23="","",L23+1) | N23: =""
H24: =IF(C24<>"",IF(COUNTIF($C$3:C24,C24)>1,"",SUMPRODUCT(($C$3:$C$200=C24)*($F$3:$F$200))/SUM(F:F)),"") | L24: =IF(B24="","",B24) | M24: =IF(L24="","",L24+1) | N24: =""
H25: =IF(C25<>"",IF(COUNTIF($C$3:C25,C25)>1,"",SUMPRODUCT(($C$3:$C$200=C25)*($F$3:$F$200))/SUM(F:F)),"") | L25: =IF(B25="","",B25) | M25: =IF(L25="","",L25+1) | N25: =""
... H30: =IF(C30<>"",IF(COUNTIF($C$3:C30,C30)>1,"",SUMPRODUCT(($C$3:$C$200=C30)*($F$3:$F$200))/SUM(F:F)),"") | L30: =IF(B30="","",B30) | M30: =IF(L30="","",L30+1) | N30: =""
H31: =IF(F31<>"",F31/SUM(F:F),"") | L31: =IF(B31="","",B31) | M31: =IF(L31="","",L31+1) | N31: =""
H32: =IF(F32<>"",F32/SUM(F:F),"") | L32: =IF(B32="","",B32) | M32: =IF(L32="","",L32+1) | N32: =""
H33: =IF(F33<>"",F33/SUM(F:F),"") | L33: =IF(B33="","",B33) | M33: =IF(L33="","",L33+1) | N33: =""
H34: =IF(F34<>"",F34/SUM(F:F),"") | L34: =IF(B34="","",B34) | M34: =IF(L34="","",L34+1) | N34: =""
H35: =IF(F35<>"",F35/SUM(F:F),"") | L35: =IF(B35="","",B35) | M35: =IF(L35="","",L35+1) | N35: =""
H36: =IF(F36<>"",F36/SUM(F:F),"") | L36: =IF(B36="","",B36) | M36: =IF(L36="","",L36+1) | N36: =""
H37: =IF(F37<>"",F37/SUM(F:F),"") | L37: =IF(B37="","",B37) | M37: =IF(L37="","",L37+1) | N37: =""
H38: =IF(F38<>"",F38/SUM(F:F),"") | L38: =IF(B38="","",B38) | M38: =IF(L38="","",L38+1) | N38: =""
H39: =IF(F39<>"",F39/SUM(F:F),"") | L39: =IF(B39="","",B39) | M39: =IF(L39="","",L39+1) | N39: =""
H40: =IF(F40<>"",F40/SUM(F:F),"") | L40: =IF(B40="","",B40) | M40: =IF(L40="","",L40+1) | N40: =""
H41: =IF(F41<>"",F41/SUM(F:F),"") | L41: =IF(B41="","",B41) | M41: =IF(L41="","",L41+1) | N41: =""
H42: =IF(F42<>"",F42/SUM(F:F),"") | L42: =IF(B42="","",B42) | M42: =IF(L42="","",L42+1) | N42: =""
... H50: =IF(F50<>"",F50/SUM(F:F),"") | L50: =IF(B50="","",B50) | M50: =IF(L50="","",L50+1) | N50: =""
L51: =IF(B51="","",B51) | M51: =IF(L51="","",L51+1) | N51: =""
...

Sheet Mars
A1: =MID(CELL("nomfichier",$A$1),FIND("]",CELL("nomfichier",$A$1))+1,32) -> Mars
B2: Date | C2: Type | D2: Détails | E2: Entrées | F2: Sorties | H2: Balance : | I2: =IF(SUM(E:E)-SUM(F:F)<0,"- "&ABS(SUM(E:E)-SUM(F:F)),IF(SUM(E:E)-SUM(F:F)=0," -","+ "&SUM(E:E)-SUM(F:F))) -> -
B3: =DATE(An,MONTH("1/"&A1),1) -> 40238 | H3: =IF(C3<>"",IF(COUNTIF($C$3:C3,C3)>1,"",SUMPRODUCT(($C$3:$C$200=C3)*($F$3:$F$200))/SUM(F:F)),"") | L3: =B3 -> 40238 | M3: =L3+1 -> 40239 | N3: =""
H4: =IF(C4<>"",IF(COUNTIF($C$3:C4,C4)>1,"",SUMPRODUCT(($C$3:$C$200=C4)*($F$3:$F$200))/SUM(F:F)),"") | L4: =IF(B4="","",B4) | M4: =IF(L4="","",L4+1) | N4: =""
H5: =IF(C5<>"",IF(COUNTIF($C$3:C5,C5)>1,"",SUMPRODUCT(($C$3:$C$200=C5)*($F$3:$F$200))/SUM(F:F)),"") | L5: =IF(B5="","",B5) | M5: =IF(L5="","",L5+1) | N5: =""
H6: =IF(C6<>"",IF(COUNTIF($C$3:C6,C6)>1,"",SUMPRODUCT(($C$3:$C$200=C6)*($F$3:$F$200))/SUM(F:F)),"") | L6: =IF(B6="","",B6) | M6: =IF(L6="","",L6+1) | N6: =""
H7: =IF(C7<>"",IF(COUNTIF($C$3:C7,C7)>1,"",SUMPRODUCT(($C$3:$C$200=C7)*($F$3:$F$200))/SUM(F:F)),"") | L7: =IF(B7="","",B7) | M7: =IF(L7="","",L7+1) | N7: =""
H8: =IF(C8<>"",IF(COUNTIF($C$3:C8,C8)>1,"",SUMPRODUCT(($C$3:$C$200=C8)*($F$3:$F$200))/SUM(F:F)),"") | L8: =IF(B8="","",B8) | M8: =IF(L8="","",L8+1) | N8: =""
H9: =IF(C9<>"",IF(COUNTIF($C$3:C9,C9)>1,"",SUMPRODUCT(($C$3:$C$200=C9)*($F$3:$F$200))/SUM(F:F)),"") | L9: =IF(B9="","",B9) | M9: =IF(L9="","",L9+1) | N9: =""
H10: =IF(C10<>"",IF(COUNTIF($C$3:C10,C10)>1,"",SUMPRODUCT(($C$3:$C$200=C10)*($F$3:$F$200))/SUM(F:F)),"") | L10: =IF(B10="","",B10) | M10: =IF(L10="","",L10+1) | N10: =""
H11: =IF(C11<>"",IF(COUNTIF($C$3:C11,C11)>1,"",SUMPRODUCT(($C$3:$C$200=C11)*($F$3:$F$200))/SUM(F:F)),"") | L11: =IF(B11="","",B11) | M11: =IF(L11="","",L11+1) | N11: =""
H12: =IF(C12<>"",IF(COUNTIF($C$3:C12,C12)>1,"",SUMPRODUCT(($C$3:$C$200=C12)*($F$3:$F$200))/SUM(F:F)),"") | L12: =IF(B12="","",B12) | M12: =IF(L12="","",L12+1) | N12: =""
H13: =IF(C13<>"",IF(COUNTIF($C$3:C13,C13)>1,"",SUMPRODUCT(($C$3:$C$200=C13)*($F$3:$F$200))/SUM(F:F)),"") | L13: =IF(B13="","",B13) | M13: =IF(L13="","",L13+1) | N13: =""
H14: =IF(C14<>"",IF(COUNTIF($C$3:C14,C14)>1,"",SUMPRODUCT(($C$3:$C$200=C14)*($F$3:$F$200))/SUM(F:F)),"") | L14: =IF(B14="","",B14) | M14: =IF(L14="","",L14+1) | N14: =""
H15: =IF(C15<>"",IF(COUNTIF($C$3:C15,C15)>1,"",SUMPRODUCT(($C$3:$C$200=C15)*($F$3:$F$200))/SUM(F:F)),"") | L15: =IF(B15="","",B15) | M15: =IF(L15="","",L15+1) | N15: =""
... H33: =IF(C33<>"",IF(COUNTIF($C$3:C33,C33)>1,"",SUMPRODUCT(($C$3:$C$200=C33)*($F$3:$F$200))/SUM(F:F)),"") | L33: =IF(B33="","",B33) | M33: =IF(L33="","",L33+1) | N33: =""
H34: =IF(F34<>"",F34/SUM(F:F),"") | L34: =IF(B34="","",B34) | M34: =IF(L34="","",L34+1) | N34: =""
H35: =IF(F35<>"",F35/SUM(F:F),"") | L35: =IF(B35="","",B35) | M35: =IF(L35="","",L35+1) | N35: =""
H36: =IF(F36<>"",F36/SUM(F:F),"") | L36: =IF(B36="","",B36) | M36: =IF(L36="","",L36+1) | N36: =""
H37: =IF(F37<>"",F37/SUM(F:F),"") | L37: =IF(B37="","",B37) | M37: =IF(L37="","",L37+1) | N37: =""
H38: =IF(F38<>"",F38/SUM(F:F),"") | L38: =IF(B38="","",B38) | M38: =IF(L38="","",L38+1) | N38: =""
H39: =IF(F39<>"",F39/SUM(F:F),"") | L39: =IF(B39="","",B39) | M39: =IF(L39="","",L39+1) | N39: =""
H40: =IF(F40<>"",F40/SUM(F:F),"") | L40: =IF(B40="","",B40) | M40: =IF(L40="","",L40+1) | N40: =""
H41: =IF(F41<>"",F41/SUM(F:F),"") | L41: =IF(B41="","",B41) | M41: =IF(L41="","",L41+1) | N41: =""
H42: =IF(F42<>"",F42/SUM(F:F),"") | L42: =IF(B42="","",B42) | M42: =IF(L42="","",L42+1) | N42: =""
H43: =IF(F43<>"",F43/SUM(F:F),"") | L43: =IF(B43="","",B43) | M43: =IF(L43="","",L43+1) | N43: =""
H44: =IF(F44<>"",F44/SUM(F:F),"") | L44: =IF(B44="","",B44) | M44: =IF(L44="","",L44+1) | N44: =""
H45: =IF(F45<>"",F45/SUM(F:F),"") | L45: =IF(B45="","",B45) | M45: =IF(L45="","",L45+1) | N45: =""
... H50: =IF(F50<>"",F50/SUM(F:F),"") | L50: =IF(B50="","",B50) | M50: =IF(L50="","",L50+1) | N50: =""
L51: =IF(B51="","",B51) | M51: =IF(L51="","",L51+1) | N51: =""
L52: =IF(B52="","",B52) | M52: =IF(L52="","",L52+1) | N52: =""
L53: =IF(B53="","",B53) | M53: =IF(L53="","",L53+1) | N53: =""
L54: =IF(B54="","",B54) | M54: =IF(L54="","",L54+1) | N54: =""
L55: =IF(B55="","",B55) | M55: =IF(L55="","",L55+1) | N55: =""
L56: =IF(B56="","",B56) | M56: =IF(L56="","",L56+1) | N56: =""
L57: =IF(B57="","",B57) | M57: =IF(L57="","",L57+1) | N57: =""
L58: =IF(B58="","",B58) | M58: =IF(L58="","",L58+1) | N58: =""
