Workbook

Sheet Donnée
A1: Donnée 1 | B1: Donnée 2 | C1: Donnée 3 | D1: Donnée 4 | E1: Donnée 5
B2: lkdhsf | C2: ed | D2: lkdhsf | E2: ed
B3: fg | C3: Donnée 2 | D3: fg | E3: Donnée 3
B4: e | C4: x | D4: e | E4: x
B5: q | C5: d | D5: q | E5: d
C6: x | E6: x
C7: x | E7: x
B8: gq | D8: gq
B9: sdf | D9: sdf
C10: x | E10: x
B12: fdf | D12: fdf
B13: q | C13: xx | D13: q | E13: xx
B14: S | C14: xx | D14: S | E14: xx
B15: qd | C15: x | D15: qd | E15: x
B16: q | C16: d | D16: q | E16: d
B17: QS | C17: x | D17: QS | E17: x
B18: DQDS | C18: x | D18: DQDS | E18: x
B19: QSD | D19: QSD
B20: QD | D20: QD
B21: Q | C21: x | D21: Q | E21: x
B22: S | D22: S
B23: qd | D23: qd
B24: q | C24: xx | D24: q | E24: xx
B25: ds | C25: xx | D25: ds | E25: xx

Sheet Résultat
A1: Donnée 1 | B1: Donnée 3 | C1: Donnée 5
A2: =IF($A$1=Donnée!$A$1,Donnée!A2,IF($A$1=Donnée!$B$1,Donnée!B2,IF($A$1=Donnée!$C$1,Donnée!C2,IF($A$1=Donnée!$D$1,Donnée!D2,IF($A$1=Donnée!$E$1,Donnée!E2,IF($A$1=Donnée!$F$1,Donnée!F2,"")))))) -> 0 | B2: =IF($B$1=Donnée!$A$1,Donnée!A2,IF($B$1=Donnée!$B$1,Donnée!B2,IF($B$1=Donnée!$C$1,Donnée!C2,IF($B$1=Donnée!$D$1,Donnée!D2,IF($B$1=Donnée!$E$1,Donnée!E2,IF($B$1=Donnée!$F$1,Donnée!F2,"")))))) -> ed | C2: =IF($C$1=Donnée!$A$1,Donnée!A2,IF($C$1=Donnée!$B$1,Donnée!B2,IF($C$1=Donnée!$C$1,Donnée!C2,IF($C$1=Donnée!$D$1,Donnée!D2,IF($C$1=Donnée!$E$1,Donnée!E2,IF($C$1=Donnée!$F$1,Donnée!F2,"")))))) -> ed
A3: =IF($A$1=Donnée!$A$1,Donnée!A3,IF($A$1=Donnée!$B$1,Donnée!B3,IF($A$1=Donnée!$C$1,Donnée!C3,IF($A$1=Donnée!$D$1,Donnée!D3,IF($A$1=Donnée!$E$1,Donnée!E3,IF($A$1=Donnée!$F$1,Donnée!F3,"")))))) -> 0 | B3: =IF($B$1=Donnée!$A$1,Donnée!A3,IF($B$1=Donnée!$B$1,Donnée!B3,IF($B$1=Donnée!$C$1,Donnée!C3,IF($B$1=Donnée!$D$1,Donnée!D3,IF($B$1=Donnée!$E$1,Donnée!E3,IF($B$1=Donnée!$F$1,Donnée!F3,"")))))) -> Donnée 2 | C3: =IF($C$1=Donnée!$A$1,Donnée!A3,IF($C$1=Donnée!$B$1,Donnée!B3,IF($C$1=Donnée!$C$1,Donnée!C3,IF($C$1=Donnée!$D$1,Donnée!D3,IF($C$1=Donnée!$E$1,Donnée!E3,IF($C$1=Donnée!$F$1,Donnée!F3,"")))))) -> Donnée 3
A4: =IF($A$1=Donnée!$A$1,Donnée!A4,IF($A$1=Donnée!$B$1,Donnée!B4,IF($A$1=Donnée!$C$1,Donnée!C4,IF($A$1=Donnée!$D$1,Donnée!D4,IF($A$1=Donnée!$E$1,Donnée!E4,IF($A$1=Donnée!$F$1,Donnée!F4,"")))))) -> 0 | B4: =IF($B$1=Donnée!$A$1,Donnée!A4,IF($B$1=Donnée!$B$1,Donnée!B4,IF($B$1=Donnée!$C$1,Donnée!C4,IF($B$1=Donnée!$D$1,Donnée!D4,IF($B$1=Donnée!$E$1,Donnée!E4,IF($B$1=Donnée!$F$1,Donnée!F4,"")))))) -> x | C4: =IF($C$1=Donnée!$A$1,Donnée!A4,IF($C$1=Donnée!$B$1,Donnée!B4,IF($C$1=Donnée!$C$1,Donnée!C4,IF($C$1=Donnée!$D$1,Donnée!D4,IF($C$1=Donnée!$E$1,Donnée!E4,IF($C$1=Donnée!$F$1,Donnée!F4,"")))))) -> x
A5: =IF($A$1=Donnée!$A$1,Donnée!A5,IF($A$1=Donnée!$B$1,Donnée!B5,IF($A$1=Donnée!$C$1,Donnée!C5,IF($A$1=Donnée!$D$1,Donnée!D5,IF($A$1=Donnée!$E$1,Donnée!E5,IF($A$1=Donnée!$F$1,Donnée!F5,"")))))) -> 0 | B5: =IF($B$1=Donnée!$A$1,Donnée!A5,IF($B$1=Donnée!$B$1,Donnée!B5,IF($B$1=Donnée!$C$1,Donnée!C5,IF($B$1=Donnée!$D$1,Donnée!D5,IF($B$1=Donnée!$E$1,Donnée!E5,IF($B$1=Donnée!$F$1,Donnée!F5,"")))))) -> d | C5: =IF($C$1=Donnée!$A$1,Donnée!A5,IF($C$1=Donnée!$B$1,Donnée!B5,IF($C$1=Donnée!$C$1,Donnée!C5,IF($C$1=Donnée!$D$1,Donnée!D5,IF($C$1=Donnée!$E$1,Donnée!E5,IF($C$1=Donnée!$F$1,Donnée!F5,"")))))) -> d
A6: =IF($A$1=Donnée!$A$1,Donnée!A6,IF($A$1=Donnée!$B$1,Donnée!B6,IF($A$1=Donnée!$C$1,Donnée!C6,IF($A$1=Donnée!$D$1,Donnée!D6,IF($A$1=Donnée!$E$1,Donnée!E6,IF($A$1=Donnée!$F$1,Donnée!F6,"")))))) -> 0 | B6: =IF($B$1=Donnée!$A$1,Donnée!A6,IF($B$1=Donnée!$B$1,Donnée!B6,IF($B$1=Donnée!$C$1,Donnée!C6,IF($B$1=Donnée!$D$1,Donnée!D6,IF($B$1=Donnée!$E$1,Donnée!E6,IF($B$1=Donnée!$F$1,Donnée!F6,"")))))) -> x | C6: =IF($C$1=Donnée!$A$1,Donnée!A6,IF($C$1=Donnée!$B$1,Donnée!B6,IF($C$1=Donnée!$C$1,Donnée!C6,IF($C$1=Donnée!$D$1,Donnée!D6,IF($C$1=Donnée!$E$1,Donnée!E6,IF($C$1=Donnée!$F$1,Donnée!F6,"")))))) -> x
A7: =IF($A$1=Donnée!$A$1,Donnée!A7,IF($A$1=Donnée!$B$1,Donnée!B7,IF($A$1=Donnée!$C$1,Donnée!C7,IF($A$1=Donnée!$D$1,Donnée!D7,IF($A$1=Donnée!$E$1,Donnée!E7,IF($A$1=Donnée!$F$1,Donnée!F7,"")))))) -> 0 | B7: =IF($B$1=Donnée!$A$1,Donnée!A7,IF($B$1=Donnée!$B$1,Donnée!B7,IF($B$1=Donnée!$C$1,Donnée!C7,IF($B$1=Donnée!$D$1,Donnée!D7,IF($B$1=Donnée!$E$1,Donnée!E7,IF($B$1=Donnée!$F$1,Donnée!F7,"")))))) -> x | C7: =IF($C$1=Donnée!$A$1,Donnée!A7,IF($C$1=Donnée!$B$1,Donnée!B7,IF($C$1=Donnée!$C$1,Donnée!C7,IF($C$1=Donnée!$D$1,Donnée!D7,IF($C$1=Donnée!$E$1,Donnée!E7,IF($C$1=Donnée!$F$1,Donnée!F7,"")))))) -> x
A8: =IF($A$1=Donnée!$A$1,Donnée!A8,IF($A$1=Donnée!$B$1,Donnée!B8,IF($A$1=Donnée!$C$1,Donnée!C8,IF($A$1=Donnée!$D$1,Donnée!D8,IF($A$1=Donnée!$E$1,Donnée!E8,IF($A$1=Donnée!$F$1,Donnée!F8,"")))))) -> 0 | B8: =IF($B$1=Donnée!$A$1,Donnée!A8,IF($B$1=Donnée!$B$1,Donnée!B8,IF($B$1=Donnée!$C$1,Donnée!C8,IF($B$1=Donnée!$D$1,Donnée!D8,IF($B$1=Donnée!$E$1,Donnée!E8,IF($B$1=Donnée!$F$1,Donnée!F8,"")))))) -> 0 | C8: =IF($C$1=Donnée!$A$1,Donnée!A8,IF($C$1=Donnée!$B$1,Donnée!B8,IF($C$1=Donnée!$C$1,Donnée!C8,IF($C$1=Donnée!$D$1,Donnée!D8,IF($C$1=Donnée!$E$1,Donnée!E8,IF($C$1=Donnée!$F$1,Donnée!F8,"")))))) -> 0
A9: =IF($A$1=Donnée!$A$1,Donnée!A9,IF($A$1=Donnée!$B$1,Donnée!B9,IF($A$1=Donnée!$C$1,Donnée!C9,IF($A$1=Donnée!$D$1,Donnée!D9,IF($A$1=Donnée!$E$1,Donnée!E9,IF($A$1=Donnée!$F$1,Donnée!F9,"")))))) -> 0 | B9: =IF($B$1=Donnée!$A$1,Donnée!A9,IF($B$1=Donnée!$B$1,Donnée!B9,IF($B$1=Donnée!$C$1,Donnée!C9,IF($B$1=Donnée!$D$1,Donnée!D9,IF($B$1=Donnée!$E$1,Donnée!E9,IF($B$1=Donnée!$F$1,Donnée!F9,"")))))) -> 0 | C9: =IF($C$1=Donnée!$A$1,Donnée!A9,IF($C$1=Donnée!$B$1,Donnée!B9,IF($C$1=Donnée!$C$1,Donnée!C9,IF($C$1=Donnée!$D$1,Donnée!D9,IF($C$1=Donnée!$E$1,Donnée!E9,IF($C$1=Donnée!$F$1,Donnée!F9,"")))))) -> 0
A10: =IF($A$1=Donnée!$A$1,Donnée!A10,IF($A$1=Donnée!$B$1,Donnée!B10,IF($A$1=Donnée!$C$1,Donnée!C10,IF($A$1=Donnée!$D$1,Donnée!D10,IF($A$1=Donnée!$E$1,Donnée!E10,IF($A$1=Donnée!$F$1,Donnée!F10,"")))))) -> 0 | B10: =IF($B$1=Donnée!$A$1,Donnée!A10,IF($B$1=Donnée!$B$1,Donnée!B10,IF($B$1=Donnée!$C$1,Donnée!C10,IF($B$1=Donnée!$D$1,Donnée!D10,IF($B$1=Donnée!$E$1,Donnée!E10,IF($B$1=Donnée!$F$1,Donnée!F10,"")))))) -> x | C10: =IF($C$1=Donnée!$A$1,Donnée!A10,IF($C$1=Donnée!$B$1,Donnée!B10,IF($C$1=Donnée!$C$1,Donnée!C10,IF($C$1=Donnée!$D$1,Donnée!D10,IF($C$1=Donnée!$E$1,Donnée!E10,IF($C$1=Donnée!$F$1,Donnée!F10,"")))))) -> x
A11: =IF($A$1=Donnée!$A$1,Donnée!A11,IF($A$1=Donnée!$B$1,Donnée!B11,IF($A$1=Donnée!$C$1,Donnée!C11,IF($A$1=Donnée!$D$1,Donnée!D11,IF($A$1=Donnée!$E$1,Donnée!E11,IF($A$1=Donnée!$F$1,Donnée!F11,"")))))) -> 0 | B11: =IF($B$1=Donnée!$A$1,Donnée!A11,IF($B$1=Donnée!$B$1,Donnée!B11,IF($B$1=Donnée!$C$1,Donnée!C11,IF($B$1=Donnée!$D$1,Donnée!D11,IF($B$1=Donnée!$E$1,Donnée!E11,IF($B$1=Donnée!$F$1,Donnée!F11,"")))))) -> 0 | C11: =IF($C$1=Donnée!$A$1,Donnée!A11,IF($C$1=Donnée!$B$1,Donnée!B11,IF($C$1=Donnée!$C$1,Donnée!C11,IF($C$1=Donnée!$D$1,Donnée!D11,IF($C$1=Donnée!$E$1,Donnée!E11,IF($C$1=Donnée!$F$1,Donnée!F11,"")))))) -> 0
A12: =IF($A$1=Donnée!$A$1,Donnée!A12,IF($A$1=Donnée!$B$1,Donnée!B12,IF($A$1=Donnée!$C$1,Donnée!C12,IF($A$1=Donnée!$D$1,Donnée!D12,IF($A$1=Donnée!$E$1,Donnée!E12,IF($A$1=Donnée!$F$1,Donnée!F12,"")))))) -> 0 | B12: =IF($B$1=Donnée!$A$1,Donnée!A12,IF($B$1=Donnée!$B$1,Donnée!B12,IF($B$1=Donnée!$C$1,Donnée!C12,IF($B$1=Donnée!$D$1,Donnée!D12,IF($B$1=Donnée!$E$1,Donnée!E12,IF($B$1=Donnée!$F$1,Donnée!F12,"")))))) -> 0 | C12: =IF($C$1=Donnée!$A$1,Donnée!A12,IF($C$1=Donnée!$B$1,Donnée!B12,IF($C$1=Donnée!$C$1,Donnée!C12,IF($C$1=Donnée!$D$1,Donnée!D12,IF($C$1=Donnée!$E$1,Donnée!E12,IF($C$1=Donnée!$F$1,Donnée!F12,"")))))) -> 0
A13: =IF($A$1=Donnée!$A$1,Donnée!A13,IF($A$1=Donnée!$B$1,Donnée!B13,IF($A$1=Donnée!$C$1,Donnée!C13,IF($A$1=Donnée!$D$1,Donnée!D13,IF($A$1=Donnée!$E$1,Donnée!E13,IF($A$1=Donnée!$F$1,Donnée!F13,"")))))) -> 0 | B13: =IF($B$1=Donnée!$A$1,Donnée!A13,IF($B$1=Donnée!$B$1,Donnée!B13,IF($B$1=Donnée!$C$1,Donnée!C13,IF($B$1=Donnée!$D$1,Donnée!D13,IF($B$1=Donnée!$E$1,Donnée!E13,IF($B$1=Donnée!$F$1,Donnée!F13,"")))))) -> xx | C13: =IF($C$1=Donnée!$A$1,Donnée!A13,IF($C$1=Donnée!$B$1,Donnée!B13,IF($C$1=Donnée!$C$1,Donnée!C13,IF($C$1=Donnée!$D$1,Donnée!D13,IF($C$1=Donnée!$E$1,Donnée!E13,IF($C$1=Donnée!$F$1,Donnée!F13,"")))))) -> xx
... A32: =IF($A$1=Donnée!$A$1,Donnée!A32,IF($A$1=Donnée!$B$1,Donnée!B32,IF($A$1=Donnée!$C$1,Donnée!C32,IF($A$1=Donnée!$D$1,Donnée!D32,IF($A$1=Donnée!$E$1,Donnée!E32,IF($A$1=Donnée!$F$1,Donnée!F32,"")))))) -> 0 | B32: =IF($B$1=Donnée!$A$1,Donnée!A32,IF($B$1=Donnée!$B$1,Donnée!B32,IF($B$1=Donnée!$C$1,Donnée!C32,IF($B$1=Donnée!$D$1,Donnée!D32,IF($B$1=Donnée!$E$1,Donnée!E32,IF($B$1=Donnée!$F$1,Donnée!F32,"")))))) -> 0 | C32: =IF($C$1=Donnée!$A$1,Donnée!A32,IF($C$1=Donnée!$B$1,Donnée!B32,IF($C$1=Donnée!$C$1,Donnée!C32,IF($C$1=Donnée!$D$1,Donnée!D32,IF($C$1=Donnée!$E$1,Donnée!E32,IF($C$1=Donnée!$F$1,Donnée!F32,"")))))) -> 0

Sheet Feuil3
A1: Donnée 1 | B1: Donnée 2 | C1: Donnée 3 | D1: Donnée 4 | E1: Donnée 5
A2: ed | B2: lkdhsf | C2: ed | D2: lkdhsf | E2: ed
A3: Donnée 1 | B3: fg | C3: Donnée 2 | D3: fg | E3: Donnée 3
A4: x | B4: e | C4: x | D4: e | E4: x
A5: d | B5: q | C5: d | D5: q | E5: d
A6: x | C6: x | E6: x
A7: x | C7: x | E7: x
B8: gq | D8: gq
B9: sdf | D9: sdf
A10: x | C10: x | E10: x
B12: fdf | D12: fdf
A13: xx | B13: q | C13: xx | D13: q | E13: xx
A14: xx | B14: S | C14: xx | D14: S | E14: xx
A15: x | B15: qd | C15: x | D15: qd | E15: x
A16: d | B16: q | C16: d | D16: q | E16: d
A17: x | B17: QS | C17: x | D17: QS | E17: x
A18: x | B18: DQDS | C18: x | D18: DQDS | E18: x
B19: QSD | D19: QSD
B20: QD | D20: QD
A21: x | B21: Q | C21: x | D21: Q | E21: x
B22: S | D22: S
B23: qd | D23: qd
A24: xx | B24: q | C24: xx | D24: q | E24: xx
A25: xx | B25: ds | C25: xx | D25: ds | E25: xx
