Workbook
Name fériés: [1]Férié!$A$8:$A$21

Sheet planing
A1: =TODAY()+1/24*8 -> 43612.333
A3: Réf article | B3: Temps d'écoulement (en heure) | C3: Heure de début de l'Of | D3: Heure de fin de l'Of (estimée) | E3: Heure de fin rélle
A4: A532166 | B4: 2.5 | C4: 0.33333333 | D4: =C4+B4/24 -> 0.4375 | E4: =IF(D4>pause!$A$2,D4+pause!$C$2,IF(D4>pause!$A$3,D4+pause!$C$3,IF(D4>pause!$A$4,D4+pause!$C$4,D4))) -> 0.44444444 | F4: 10 | G4: =IF(D4>$J$5,D4+$L$5,IF(AND(D4>$J$6,D4<$J$7),D4+$L$6,IF(D4>$J$7,D4+$L$7,D4))) -> 0.44444444 | H4: =IF(D4<$J$5,D4,IF(D4<$J$6,D4+$L$5,IF(AND(D4>$J$6,D4<$J$7),D4+$L$6,IF(D4>$J$7,D4+$L$7,D4)))) -> 0.44444444 | J4: début | K4: fin | L4: durée
A5: B532166 | B5: 2.5 | C5: =D4 -> 0.4375 | D5: =C5+B5/24 -> 0.54166667 | E5: =IF(D5>pause!$A$2,D5+pause!$C$2,IF(D5>pause!$A$3,D5+pause!$C$3,IF(D5>pause!$A$4,D5+pause!$C$4,D5))) -> 0.54861111 | F5: 40 | G5: =IF(D5>$J$5,D5+$L$5,IF(AND(D5>$J$6,D5<$J$7),D5+$L$6,IF(D5>$J$7,D5+$L$7,D5))) -> 0.54861111 | H5: =IF(D5<$J$5,D5,IF(D5<$J$6,D5+$L$5,IF(AND(D5>$J$6,D5<$J$7),D5+$L$6,IF(D5>$J$7,D5+$L$7,D5)))) -> 0.56944444 | I5: a2 | J5: 0.42361111 | K5: 0.43055556 | L5: =K5-J5 -> 0.0069444444
A6: C532158 | B6: 1.4 | C6: =D5 -> 0.54166667 | D6: =C6+B6/24 -> 0.6 | E6: =IF(D6>pause!$A$2,D6+pause!$C$2,IF(D6>pause!$A$3,D6+pause!$C$3,IF(D6>pause!$A$4,D6+pause!$C$4,D6))) -> 0.60694444 | F6: 0 | G6: =IF(D6>$J$5,D6+$L$5,IF(AND(D6>$J$6,D6<$J$7),D6+$L$6,IF(D6>$J$7,D6+$L$7,D6))) -> 0.60694444 | H6: =IF(D6<$J$5,D6,IF(D6<$J$6,D6+$L$5,IF(AND(D6>$J$6,D6<$J$7),D6+$L$6,IF(D6>$J$7,D6+$L$7,D6)))) -> 0.62777778 | I6: a3 | J6: 0.5 | K6: 0.52777778 | L6: =K6-J6 -> 0.027777778
A7: J0483053 | B7: 5 | C7: =D6 -> 0.6 | D7: =C7+B7/24 -> 0.80833333 | E7: =IF(D7>pause!$A$2,D7+pause!$C$2,IF(D7>pause!$A$3,D7+pause!$C$3,IF(D7>pause!$A$4,D7+pause!$C$4,D7))) -> 0.81527778 | F7: 10 | G7: =IF(D7>$J$5,D7+$L$5,IF(AND(D7>$J$6,D7<$J$7),D7+$L$6,IF(D7>$J$7,D7+$L$7,D7))) -> 0.81527778 | H7: =IF(D7<$J$5,D7,IF(D7<$J$6,D7+$L$5,IF(AND(D7>$J$6,D7<$J$7),D7+$L$6,IF(D7>$J$7,D7+$L$7,D7)))) -> 0.81527778 | I7: a4 | J7: 0.64583333 | K7: 0.65277778 | L7: =K7-J7 -> 0.0069444444
A8: D0532167 | B8: 0.6 | C8: =D7 -> 0.80833333 | D8: =C8+B8/24 -> 0.83333333 | E8: =IF(D8>pause!$A$2,D8+pause!$C$2,IF(D8>pause!$A$3,D8+pause!$C$3,IF(D8>pause!$A$4,D8+pause!$C$4,D8))) -> 0.84027778 | F8: 0 | G8: =IF(D8>$J$5,D8+$L$5,IF(AND(D8>$J$6,D8<$J$7),D8+$L$6,IF(D8>$J$7,D8+$L$7,D8))) -> 0.84027778 | H8: =IF(D8<$J$5,D8,IF(D8<$J$6,D8+$L$5,IF(AND(D8>$J$6,D8<$J$7),D8+$L$6,IF(D8>$J$7,D8+$L$7,D8)))) -> 0.84027778
C9: =D8 -> 0.83333333 | D9: =C9+B9/24 -> 0.83333333
C10: =D9 -> 0.83333333 | D10: =C10+B10/24 -> 0.83333333
C17: =IF(B17="","",D12)
E22: Note: -

Sheet pause
A1: début | B1: fin | C1: durée
A2: 0.42361111 | B2: 0.43055556 | C2: =B2-A2 -> 0.0069444444
A3: 0.5 | B3: 0.52777778 | C3: =B3-A3 -> 0.027777778
A4: 0.64583333 | B4: 0.65277778 | C4: =B4-A4 -> 0.0069444444
