Workbook
Name Code_clients: tblContactsClients[Code client]
Name Description: Bibliothèques!$A$5:$A$43
Name MO: Bibliothèques!$A$24:$A$59

Sheet Liste des clients
A3: CLIENT LISTE DE CONTACTS
A6: Code client | B6: Nom de la société | C6: Nom du contact | D6: Adresse de facturation | E6: Ville | F6: Type de contact | G6: CP | H6: Pays | I6: Titre du contact | J6: N°téléphone | K6: N° fax | L6: Mail | M6: Notes
A7: CU0001 | B7: SA XXXX | C7: TOTO | D7: rue Bleue | E7: PARIS | G7: 75000 | H7: France | J7: 200000000 | K7: 201010101 | M7: 001
A8: CU0002 | B8: SARL YYYYYYY | C8: TITI | D8: Rue Verte | E8: PARIS | G8: 75000 | H8: France | J8: 210101010 | K8: 211111111 | M8: 002
A9: CU0003
A10: CU0004
A11: CU0005
A12: CU0006
A13: CU0007
A14: CU0008
A15: CU0009
A16: CU0010
A17: CU0011
A18: CU0012
A19: CU0013
A20: CU0014
... A39: CU0033

Sheet Devis
A1: Logo de l'entreprise | F1: Devis
E3: DATE | F3: =TODAY() -> 41982
A4: Adresse | E4: Devis N° | F4: ="2014 -" & VLOOKUP(F5,tblContactsClients[],13,FALSE) -> 2014 -001
A5: Code postal, Ville | E5: Code client | F5: CU0001
A6: Téléphone (503) 555-0190 Télécopie (503) 555-0191
A8: Devis à l'attention de : | C8: =VLOOKUP(F5,tblContactsClients[],2,FALSE) -> SA XXXX | E8: Devis valide jusqu'au : | F8: =TODAY() + 60 -> 42042
A9: Nom | C9: =VLOOKUP(F5,tblContactsClients[],3,FALSE) -> TOTO | E9: Préparé par :
A10: Nom de la société | C10: =VLOOKUP(F5,tblContactsClients[],2,FALSE) -> SA XXXX
A11: Adresse | C11: =VLOOKUP(F5,tblContactsClients[],4,FALSE) -> rue Bleue
A12: Code postal, Ville | C12: =VLOOKUP(F5,tblContactsClients[],7,FALSE)&","&VLOOKUP(F5,tblContactsClients[],5,FALSE) -> 75000,PARIS
A13: Téléphone | C13: =VLOOKUP(F5,tblContactsClients[],10,FALSE) -> 200000000
A16: Commentaires ou instructions spéciales : | D16: Aucun
A21: TVA | B21: QUANTITÉ | C21: DESCRIPTION | E21: PRIX UNITAIRE | F21: MONTANT
C22: Marchandises | F22: =A22*E22 -> 0
A23: 1 | B23: 100 | C23: maillot | E23: =VLOOKUP(C23,Bibliothèques!A5:B295,2,FALSE) -> 2 | F23: =E23*B23 -> 200
A24: 1 | B24: 3 | C24: Description 2 | E24: =VLOOKUP(C24,Bibliothèques!A6:B296,2,FALSE) -> 10 | F24: =E24*B24 -> 30
A25: 1 | B25: 4 | C25: Description 14 | E25: =VLOOKUP(C25,Bibliothèques!A7:B297,2,FALSE) -> 10 | F25: =E25*B25 -> 40
A26: 1 | B26: 5 | C26: Description 17 | E26: =VLOOKUP(C26,Bibliothèques!A8:B298,2,FALSE) -> 10 | F26: =E26*B26 -> 50
F27: =B27*E27 -> 0
F28: =B28*E28 -> 0
F29: =B29*E29 -> 0
F30: =B30*E30 -> 0
F31: =B31*E31 -> 0
F32: =B32*E32 -> 0
F33: =B33*E33 -> 0
F34: =B34*E34 -> 0
F35: =B35*E35 -> 0
F36: =B36*E36 -> 0
F37: =B37*E37 -> 0
F38: =B38*E38 -> 0
... F43: =B43*E43 -> 0
C44: Main d'œuvre | F44: =B44*E44 -> 0
A45: 2 | B45: 10 | C45: Flocage (ex:les 10) | E45: =VLOOKUP(C45,Bibliothèques!A24:B59,2,FALSE) -> 45 | F45: =E45*B45 -> 450
F46: =B46*E46 -> 0
F47: =B47*E47 -> 0
F48: =B48*E48 -> 0
F49: =B49*E49 -> 0
F50: =B50*E50 -> 0
E51: SOUS-TOTAL | F51: =SUM(F22:F50) -> 770
E52: T.V.A. 1 (20%) | F52: =SUM(F23:F43)*20/100 -> 64
E53: T.V.A. 2 (7%) | F53: =SUM(F45:F50)*7/100 -> 31.5
E54: REMISE | F54: 0
E55: TOTAL | F55: =SUM(F51:F53)-F54 -> 865.5
A57: Pour toute question relative à ce devis, veuillez contacter Nom, numéro de téléphone, adresse de messagerie.

Sheet Bibliothèques
A1: Bibliothèques
A4: Description | B4: PU | F4: Type
A5: maillot | B5: 2 | F5: Type 1
A6: Description 2 | B6: 10 | F6: Type 2
A7: Description 3 | B7: 10 | F7: Type 3
A8: Description 4 | B8: 10 | F8: Type 4
A9: Description 5 | B9: 10
A10: Description 6 | B10: 10
A11: Description 7 | B11: 10
A12: Description 8 | B12: 10
A13: Description 9 | B13: 10
A14: Description 10 | B14: 10
A15: Description 11 | B15: 10
A16: Description 12 | B16: 10
A17: Description 13 | B17: 10
A18: Description 14 | B18: 10
A19: Description 15 | B19: 10
A20: Description 16 | B20: 10
... A22: Description 18 | B22: 10
A23: MAIN D'ŒUVRE | B23: MO
A24: Flocage (ex:les 10) | B24: 45
