Workbook
Name Etat: Listes!$D$2:$D$6
Name Gite: Calendrier!$A$5:$A$45

Sheet Calendrier
A1: 4 | B1: <-----CHOIX du MOIS (Liste déroulante) | G1: SITUATION DES RESERVATIONS
A2: =DATE($B$2,$A$1,1) -> 92
B3: =DATE($A$4,$A$1,1) -> 46113 | C3: =B$3+1 -> 46114 | D3: =C$3+1 -> 46115 | E3: =D$3+1 -> 46116 | F3: =E$3+1 -> 46117 | G3: =F$3+1 -> 46118 | H3: =G$3+1 -> 46119 | I3: =H$3+1 -> 46120 | J3: =I$3+1 -> 46121 | ... AF3: =AE$3+1 -> 46143
A4: 2026 | B4: =B3 -> 46113 | C4: =B4+1 -> 46114 | D4: =C4+1 -> 46115 | E4: =D4+1 -> 46116 | F4: =E4+1 -> 46117 | G4: =F4+1 -> 46118 | H4: =G4+1 -> 46119 | I4: =H4+1 -> 46120 | J4: =I4+1 -> 46121 | ... AF4: =AE4+1 -> 46143
A5: Belle Dune 4 pers. | B5: =IF(SUMPRODUCT((T_BDD[Destination]=Calendrier!$A5)*(T_BDD[Début séjour]<=Calendrier!B$3)*(T_BDD[Fin Séjour]>=Calendrier!B$3))>0,"X","") | C5: =IF(SUMPRODUCT((T_BDD[Destination]=Calendrier!$A5)*(T_BDD[Début séjour]<=Calendrier!C$3)*(T_BDD[Fin Séjour]>=Calendrier!C$3))>0,"X","") | D5: =IF(SUMPRODUCT((T_BDD[Destination]=Calendrier!$A5)*(T_BDD[Début séjour]<=Calendrier!D$3)*(T_BDD[Fin Séjour]>=Calendrier!D$3))>0,"X","") | E5: =IF(SUMPRODUCT((T_BDD[Destination]=Calendrier!$A5)*(T_BDD[Début séjour]<=Calendrier!E$3)*(T_BDD[Fin Séjour]>=Calendrier!E$3))>0,"X","") -> X | F5: =IF(SUMPRODUCT((T_BDD[Destination]=Calendrier!$A5)*(T_BDD[Début séjour]<=Calendrier!F$3)*(T_BDD[Fin Séjour]>=Calendrier!F$3))>0,"X","") -> X | G5: =IF(SUMPRODUCT((T_BDD[Destination]=Calendrier!$A5)*(T_BDD[Début séjour]<=Calendrier!G$3)*(T_BDD[Fin Séjour]>=Calendrier!G$3))>0,"X","") -> X | H5: =IF(SUMPRODUCT((T_BDD[Destination]=Calendrier!$A5)*(T_BDD[Début séjour]<=Calendrier!H$3)*(T_BDD[Fin Séjour]>=Calendrier!H$3))>0,"X","") | I5: =IF(SUMPRODUCT((T_BDD[Destination]=Calendrier!$A5)*(T_BDD[Début séjour]<=Calendrier!I$3)*(T_BDD[Fin Séjour]>=Calendrier!I$3))>0,"X","") | ... AF5: =IF(SUMPRODUCT((T_BDD[Destination]=Calendrier!$A5)*(T_BDD[Début séjour]<=Calendrier!AF$3)*(T_BDD[Fin Séjour]>=Calendrier!AF$3))>0,"X","") -> X
A6: Belle Dune 6 pers. | B6: =IF(SUMPRODUCT((T_BDD[Destination]=Calendrier!$A6)*(T_BDD[Début séjour]<=Calendrier!B$3)*(T_BDD[Fin Séjour]>=Calendrier!B$3))>0,"X","") | C6: =IF(SUMPRODUCT((T_BDD[Destination]=Calendrier!$A6)*(T_BDD[Début séjour]<=Calendrier!C$3)*(T_BDD[Fin Séjour]>=Calendrier!C$3))>0,"X","") | D6: =IF(SUMPRODUCT((T_BDD[Destination]=Calendrier!$A6)*(T_BDD[Début séjour]<=Calendrier!D$3)*(T_BDD[Fin Séjour]>=Calendrier!D$3))>0,"X","") | E6: =IF(SUMPRODUCT((T_BDD[Destination]=Calendrier!$A6)*(T_BDD[Début séjour]<=Calendrier!E$3)*(T_BDD[Fin Séjour]>=Calendrier!E$3))>0,"X","") -> X | F6: =IF(SUMPRODUCT((T_BDD[Destination]=Calendrier!$A6)*(T_BDD[Début séjour]<=Calendrier!F$3)*(T_BDD[Fin Séjour]>=Calendrier!F$3))>0,"X","") -> X | G6: =IF(SUMPRODUCT((T_BDD[Destination]=Calendrier!$A6)*(T_BDD[Début séjour]<=Calendrier!G$3)*(T_BDD[Fin Séjour]>=Calendrier!G$3))>0,"X","") -> X | H6: =IF(SUMPRODUCT((T_BDD[Destination]=Calendrier!$A6)*(T_BDD[Début séjour]<=Calendrier!H$3)*(T_BDD[Fin Séjour]>=Calendrier!H$3))>0,"X","") | I6: =IF(SUMPRODUCT((T_BDD[Destination]=Calendrier!$A6)*(T_BDD[Début séjour]<=Calendrier!I$3)*(T_BDD[Fin Séjour]>=Calendrier!I$3))>0,"X","") | ... AF6: =IF(SUMPRODUCT((T_BDD[Destination]=Calendrier!$A6)*(T_BDD[Début séjour]<=Calendrier!AF$3)*(T_BDD[Fin Séjour]>=Calendrier!AF$3))>0,"X","") -> X
A7: Binic | B7: =IF(SUMPRODUCT((T_BDD[Destination]=Calendrier!$A7)*(T_BDD[Début séjour]<=Calendrier!B$3)*(T_BDD[Fin Séjour]>=Calendrier!B$3))>0,"X","") -> X | C7: =IF(SUMPRODUCT((T_BDD[Destination]=Calendrier!$A7)*(T_BDD[Début séjour]<=Calendrier!C$3)*(T_BDD[Fin Séjour]>=Calendrier!C$3))>0,"X","") -> X | D7: =IF(SUMPRODUCT((T_BDD[Destination]=Calendrier!$A7)*(T_BDD[Début séjour]<=Calendrier!D$3)*(T_BDD[Fin Séjour]>=Calendrier!D$3))>0,"X","") -> X | E7: =IF(SUMPRODUCT((T_BDD[Destination]=Calendrier!$A7)*(T_BDD[Début séjour]<=Calendrier!E$3)*(T_BDD[Fin Séjour]>=Calendrier!E$3))>0,"X","") -> X | F7: =IF(SUMPRODUCT((T_BDD[Destination]=Calendrier!$A7)*(T_BDD[Début séjour]<=Calendrier!F$3)*(T_BDD[Fin Séjour]>=Calendrier!F$3))>0,"X","") -> X | G7: =IF(SUMPRODUCT((T_BDD[Destination]=Calendrier!$A7)*(T_BDD[Début séjour]<=Calendrier!G$3)*(T_BDD[Fin Séjour]>=Calendrier!G$3))>0,"X","") -> X | H7: =IF(SUMPRODUCT((T_BDD[Destination]=Calendrier!$A7)*(T_BDD[Début séjour]<=Calendrier!H$3)*(T_BDD[Fin Séjour]>=Calendrier!H$3))>0,"X","") -> X | I7: =IF(SUMPRODUCT((T_BDD[Destination]=Calendrier!$A7)*(T_BDD[Début séjour]<=Calendrier!I$3)*(T_BDD[Fin Séjour]>=Calendrier!I$3))>0,"X","") -> X | ... AF7: =IF(SUMPRODUCT((T_BDD[Destination]=Calendrier!$A7)*(T_BDD[Début séjour]<=Calendrier!AF$3)*(T_BDD[Fin Séjour]>=Calendrier!AF$3))>0,"X","") -> X
A8: Cabourg | B8: =IF(SUMPRODUCT((T_BDD[Destination]=Calendrier!$A8)*(T_BDD[Début séjour]<=Calendrier!B$3)*(T_BDD[Fin Séjour]>=Calendrier!B$3))>0,"X","") -> X | C8: =IF(SUMPRODUCT((T_BDD[Destination]=Calendrier!$A8)*(T_BDD[Début séjour]<=Calendrier!C$3)*(T_BDD[Fin Séjour]>=Calendrier!C$3))>0,"X","") -> X | D8: =IF(SUMPRODUCT((T_BDD[Destination]=Calendrier!$A8)*(T_BDD[Début séjour]<=Calendrier!D$3)*(T_BDD[Fin Séjour]>=Calendrier!D$3))>0,"X","") -> X | E8: =IF(SUMPRODUCT((T_BDD[Destination]=Calendrier!$A8)*(T_BDD[Début séjour]<=Calendrier!E$3)*(T_BDD[Fin Séjour]>=Calendrier!E$3))>0,"X","") -> X | F8: =IF(SUMPRODUCT((T_BDD[Destination]=Calendrier!$A8)*(T_BDD[Début séjour]<=Calendrier!F$3)*(T_BDD[Fin Séjour]>=Calendrier!F$3))>0,"X","") -> X | G8: =IF(SUMPRODUCT((T_BDD[Destination]=Calendrier!$A8)*(T_BDD[Début séjour]<=Calendrier!G$3)*(T_BDD[Fin Séjour]>=Calendrier!G$3))>0,"X","") -> X | H8: =IF(SUMPRODUCT((T_BDD[Destination]=Calendrier!$A8)*(T_BDD[Début séjour]<=Calendrier!H$3)*(T_BDD[Fin Séjour]>=Calendrier!H$3))>0,"X","") -> X | I8: =IF(SUMPRODUCT((T_BDD[Destination]=Calendrier!$A8)*(T_BDD[Début séjour]<=Calendrier!I$3)*(T_BDD[Fin Séjour]>=Calendrier!I$3))>0,"X","") -> X | ... AF8: =IF(SUMPRODUCT((T_BDD[Destination]=Calendrier!$A8)*(T_BDD[Début séjour]<=Calendrier!AF$3)*(T_BDD[Fin Séjour]>=Calendrier!AF$3))>0,"X","") -> X
A9: Château d'Olonne | B9: =IF(SUMPRODUCT((T_BDD[Destination]=Calendrier!$A9)*(T_BDD[Début séjour]<=Calendrier!B$3)*(T_BDD[Fin Séjour]>=Calendrier!B$3))>0,"X","") -> X | C9: =IF(SUMPRODUCT((T_BDD[Destination]=Calendrier!$A9)*(T_BDD[Début séjour]<=Calendrier!C$3)*(T_BDD[Fin Séjour]>=Calendrier!C$3))>0,"X","") -> X | D9: =IF(SUMPRODUCT((T_BDD[Destination]=Calendrier!$A9)*(T_BDD[Début séjour]<=Calendrier!D$3)*(T_BDD[Fin Séjour]>=Calendrier!D$3))>0,"X","") -> X | E9: =IF(SUMPRODUCT((T_BDD[Destination]=Calendrier!$A9)*(T_BDD[Début séjour]<=Calendrier!E$3)*(T_BDD[Fin Séjour]>=Calendrier!E$3))>0,"X","") -> X | F9: =IF(SUMPRODUCT((T_BDD[Destination]=Calendrier!$A9)*(T_BDD[Début séjour]<=Calendrier!F$3)*(T_BDD[Fin Séjour]>=Calendrier!F$3))>0,"X","") -> X | G9: =IF(SUMPRODUCT((T_BDD[Destination]=Calendrier!$A9)*(T_BDD[Début séjour]<=Calendrier!G$3)*(T_BDD[Fin Séjour]>=Calendrier!G$3))>0,"X","") -> X | H9: =IF(SUMPRODUCT((T_BDD[Destination]=Calendrier!$A9)*(T_BDD[Début séjour]<=Calendrier!H$3)*(T_BDD[Fin Séjour]>=Calendrier!H$3))>0,"X","") -> X | I9: =IF(SUMPRODUCT((T_BDD[Destination]=Calendrier!$A9)*(T_BDD[Début séjour]<=Calendrier!I$3)*(T_BDD[Fin Séjour]>=Calendrier!I$3))>0,"X","") -> X | ... AF9: =IF(SUMPRODUCT((T_BDD[Destination]=Calendrier!$A9)*(T_BDD[Début séjour]<=Calendrier!AF$3)*(T_BDD[Fin Séjour]>=Calendrier!AF$3))>0,"X","") -> X
A10: Dives | B10: =IF(SUMPRODUCT((T_BDD[Destination]=Calendrier!$A10)*(T_BDD[Début séjour]<=Calendrier!B$3)*(T_BDD[Fin Séjour]>=Calendrier!B$3))>0,"X","") -> X | C10: =IF(SUMPRODUCT((T_BDD[Destination]=Calendrier!$A10)*(T_BDD[Début séjour]<=Calendrier!C$3)*(T_BDD[Fin Séjour]>=Calendrier!C$3))>0,"X","") -> X | D10: =IF(SUMPRODUCT((T_BDD[Destination]=Calendrier!$A10)*(T_BDD[Début séjour]<=Calendrier!D$3)*(T_BDD[Fin Séjour]>=Calendrier!D$3))>0,"X","") -> X | E10: =IF(SUMPRODUCT((T_BDD[Destination]=Calendrier!$A10)*(T_BDD[Début séjour]<=Calendrier!E$3)*(T_BDD[Fin Séjour]>=Calendrier!E$3))>0,"X","") -> X | F10: =IF(SUMPRODUCT((T_BDD[Destination]=Calendrier!$A10)*(T_BDD[Début séjour]<=Calendrier!F$3)*(T_BDD[Fin Séjour]>=Calendrier!F$3))>0,"X","") -> X | G10: =IF(SUMPRODUCT((T_BDD[Destination]=Calendrier!$A10)*(T_BDD[Début séjour]<=Calendrier!G$3)*(T_BDD[Fin Séjour]>=Calendrier!G$3))>0,"X","") -> X | H10: =IF(SUMPRODUCT((T_BDD[Destination]=Calendrier!$A10)*(T_BDD[Début séjour]<=Calendrier!H$3)*(T_BDD[Fin Séjour]>=Calendrier!H$3))>0,"X","") -> X | I10: =IF(SUMPRODUCT((T_BDD[Destination]=Calendrier!$A10)*(T_BDD[Début séjour]<=Calendrier!I$3)*(T_BDD[Fin Séjour]>=Calendrier!I$3))>0,"X","") -> X | ... AF10: =IF(SUMPRODUCT((T_BDD[Destination]=Calendrier!$A10)*(T_BDD[Début séjour]<=Calendrier!AF$3)*(T_BDD[Fin Séjour]>=Calendrier!AF$3))>0,"X","") -> X
A11: Houlgate | B11: =IF(SUMPRODUCT((T_BDD[Destination]=Calendrier!$A11)*(T_BDD[Début séjour]<=Calendrier!B$3)*(T_BDD[Fin Séjour]>=Calendrier!B$3))>0,"X","") | C11: =IF(SUMPRODUCT((T_BDD[Destination]=Calendrier!$A11)*(T_BDD[Début séjour]<=Calendrier!C$3)*(T_BDD[Fin Séjour]>=Calendrier!C$3))>0,"X","") | D11: =IF(SUMPRODUCT((T_BDD[Destination]=Calendrier!$A11)*(T_BDD[Début séjour]<=Calendrier!D$3)*(T_BDD[Fin Séjour]>=Calendrier!D$3))>0,"X","") | E11: =IF(SUMPRODUCT((T_BDD[Destination]=Calendrier!$A11)*(T_BDD[Début séjour]<=Calendrier!E$3)*(T_BDD[Fin Séjour]>=Calendrier!E$3))>0,"X","") | F11: =IF(SUMPRODUCT((T_BDD[Destination]=Calendrier!$A11)*(T_BDD[Début séjour]<=Calendrier!F$3)*(T_BDD[Fin Séjour]>=Calendrier!F$3))>0,"X","") | G11: =IF(SUMPRODUCT((T_BDD[Destination]=Calendrier!$A11)*(T_BDD[Début séjour]<=Calendrier!G$3)*(T_BDD[Fin Séjour]>=Calendrier!G$3))>0,"X","") | H11: =IF(SUMPRODUCT((T_BDD[Destination]=Calendrier!$A11)*(T_BDD[Début séjour]<=Calendrier!H$3)*(T_BDD[Fin Séjour]>=Calendrier!H$3))>0,"X","") | I11: =IF(SUMPRODUCT((T_BDD[Destination]=Calendrier!$A11)*(T_BDD[Début séjour]<=Calendrier!I$3)*(T_BDD[Fin Séjour]>=Calendrier!I$3))>0,"X","") | ... AF11: =IF(SUMPRODUCT((T_BDD[Destination]=Calendrier!$A11)*(T_BDD[Début séjour]<=Calendrier!AF$3)*(T_BDD[Fin Séjour]>=Calendrier!AF$3))>0,"X","") -> X
A12: Léon - 4 pers. - Bungalow n° 5 | B12: =IF(SUMPRODUCT((T_BDD[Destination]=Calendrier!$A12)*(T_BDD[Début séjour]<=Calendrier!B$3)*(T_BDD[Fin Séjour]>=Calendrier!B$3))>0,"X","") | C12: =IF(SUMPRODUCT((T_BDD[Destination]=Calendrier!$A12)*(T_BDD[Début séjour]<=Calendrier!C$3)*(T_BDD[Fin Séjour]>=Calendrier!C$3))>0,"X","") | D12: =IF(SUMPRODUCT((T_BDD[Destination]=Calendrier!$A12)*(T_BDD[Début séjour]<=Calendrier!D$3)*(T_BDD[Fin Séjour]>=Calendrier!D$3))>0,"X","") | E12: =IF(SUMPRODUCT((T_BDD[Destination]=Calendrier!$A12)*(T_BDD[Début séjour]<=Calendrier!E$3)*(T_BDD[Fin Séjour]>=Calendrier!E$3))>0,"X","") | F12: =IF(SUMPRODUCT((T_BDD[Destination]=Calendrier!$A12)*(T_BDD[Début séjour]<=Calendrier!F$3)*(T_BDD[Fin Séjour]>=Calendrier!F$3))>0,"X","") | G12: =IF(SUMPRODUCT((T_BDD[Destination]=Calendrier!$A12)*(T_BDD[Début séjour]<=Calendrier!G$3)*(T_BDD[Fin Séjour]>=Calendrier!G$3))>0,"X","") | H12: =IF(SUMPRODUCT((T_BDD[Destination]=Calendrier!$A12)*(T_BDD[Début séjour]<=Calendrier!H$3)*(T_BDD[Fin Séjour]>=Calendrier!H$3))>0,"X","") | I12: =IF(SUMPRODUCT((T_BDD[Destination]=Calendrier!$A12)*(T_BDD[Début séjour]<=Calendrier!I$3)*(T_BDD[Fin Séjour]>=Calendrier!I$3))>0,"X","") | ... AF12: =IF(SUMPRODUCT((T_BDD[Destination]=Calendrier!$A12)*(T_BDD[Début séjour]<=Calendrier!AF$3)*(T_BDD[Fin Séjour]>=Calendrier!AF$3))>0,"X","")
A13: Léon - 4 pers. - Bungalow n° 6 | B13: =IF(SUMPRODUCT((T_BDD[Destination]=Calendrier!$A13)*(T_BDD[Début séjour]<=Calendrier!B$3)*(T_BDD[Fin Séjour]>=Calendrier!B$3))>0,"X","") | C13: =IF(SUMPRODUCT((T_BDD[Destination]=Calendrier!$A13)*(T_BDD[Début séjour]<=Calendrier!C$3)*(T_BDD[Fin Séjour]>=Calendrier!C$3))>0,"X","") | D13: =IF(SUMPRODUCT((T_BDD[Destination]=Calendrier!$A13)*(T_BDD[Début séjour]<=Calendrier!D$3)*(T_BDD[Fin Séjour]>=Calendrier!D$3))>0,"X","") | E13: =IF(SUMPRODUCT((T_BDD[Destination]=Calendrier!$A13)*(T_BDD[Début séjour]<=Calendrier!E$3)*(T_BDD[Fin Séjour]>=Calendrier!E$3))>0,"X","") | F13: =IF(SUMPRODUCT((T_BDD[Destination]=Calendrier!$A13)*(T_BDD[Début séjour]<=Calendrier!F$3)*(T_BDD[Fin Séjour]>=Calendrier!F$3))>0,"X","") | G13: =IF(SUMPRODUCT((T_BDD[Destination]=Calendrier!$A13)*(T_BDD[Début séjour]<=Calendrier!G$3)*(T_BDD[Fin Séjour]>=Calendrier!G$3))>0,"X","") | H13: =IF(SUMPRODUCT((T_BDD[Destination]=Calendrier!$A13)*(T_BDD[Début séjour]<=Calendrier!H$3)*(T_BDD[Fin Séjour]>=Calendrier!H$3))>0,"X","") | I13: =IF(SUMPRODUCT((T_BDD[Destination]=Calendrier!$A13)*(T_BDD[Début séjour]<=Calendrier!I$3)*(T_BDD[Fin Séjour]>=Calendrier!I$3))>0,"X","") | ... AF13: =IF(SUMPRODUCT((T_BDD[Destination]=Calendrier!$A13)*(T_BDD[Début séjour]<=Calendrier!AF$3)*(T_BDD[Fin Séjour]>=Calendrier!AF$3))>0,"X","")
A14: Léon - 4 pers. - Bungalow n° 7 | B14: =IF(SUMPRODUCT((T_BDD[Destination]=Calendrier!$A14)*(T_BDD[Début séjour]<=Calendrier!B$3)*(T_BDD[Fin Séjour]>=Calendrier!B$3))>0,"X","") | C14: =IF(SUMPRODUCT((T_BDD[Destination]=Calendrier!$A14)*(T_BDD[Début séjour]<=Calendrier!C$3)*(T_BDD[Fin Séjour]>=Calendrier!C$3))>0,"X","") | D14: =IF(SUMPRODUCT((T_BDD[Destination]=Calendrier!$A14)*(T_BDD[Début séjour]<=Calendrier!D$3)*(T_BDD[Fin Séjour]>=Calendrier!D$3))>0,"X","") | E14: =IF(SUMPRODUCT((T_BDD[Destination]=Calendrier!$A14)*(T_BDD[Début séjour]<=Calendrier!E$3)*(T_BDD[Fin Séjour]>=Calendrier!E$3))>0,"X","") | F14: =IF(SUMPRODUCT((T_BDD[Destination]=Calendrier!$A14)*(T_BDD[Début séjour]<=Calendrier!F$3)*(T_BDD[Fin Séjour]>=Calendrier!F$3))>0,"X","") | G14: =IF(SUMPRODUCT((T_BDD[Destination]=Calendrier!$A14)*(T_BDD[Début séjour]<=Calendrier!G$3)*(T_BDD[Fin Séjour]>=Calendrier!G$3))>0,"X","") | H14: =IF(SUMPRODUCT((T_BDD[Destination]=Calendrier!$A14)*(T_BDD[Début séjour]<=Calendrier!H$3)*(T_BDD[Fin Séjour]>=Calendrier!H$3))>0,"X","") | I14: =IF(SUMPRODUCT((T_BDD[Destination]=Calendrier!$A14)*(T_BDD[Début séjour]<=Calendrier!I$3)*(T_BDD[Fin Séjour]>=Calendrier!I$3))>0,"X","") | ... AF14: =IF(SUMPRODUCT((T_BDD[Destination]=Calendrier!$A14)*(T_BDD[Début séjour]<=Calendrier!AF$3)*(T_BDD[Fin Séjour]>=Calendrier!AF$3))>0,"X","")
A15: Léon - 4 pers. - Bungalow n° 8 | B15: =IF(SUMPRODUCT((T_BDD[Destination]=Calendrier!$A15)*(T_BDD[Début séjour]<=Calendrier!B$3)*(T_BDD[Fin Séjour]>=Calendrier!B$3))>0,"X","") | C15: =IF(SUMPRODUCT((T_BDD[Destination]=Calendrier!$A15)*(T_BDD[Début séjour]<=Calendrier!C$3)*(T_BDD[Fin Séjour]>=Calendrier!C$3))>0,"X","") | D15: =IF(SUMPRODUCT((T_BDD[Destination]=Calendrier!$A15)*(T_BDD[Début séjour]<=Calendrier!D$3)*(T_BDD[Fin Séjour]>=Calendrier!D$3))>0,"X","") | E15: =IF(SUMPRODUCT((T_BDD[Destination]=Calendrier!$A15)*(T_BDD[Début séjour]<=Calendrier!E$3)*(T_BDD[Fin Séjour]>=Calendrier!E$3))>0,"X","") | F15: =IF(SUMPRODUCT((T_BDD[Destination]=Calendrier!$A15)*(T_BDD[Début séjour]<=Calendrier!F$3)*(T_BDD[Fin Séjour]>=Calendrier!F$3))>0,"X","") | G15: =IF(SUMPRODUCT((T_BDD[Destination]=Calendrier!$A15)*(T_BDD[Début séjour]<=Calendrier!G$3)*(T_BDD[Fin Séjour]>=Calendrier!G$3))>0,"X","") | H15: =IF(SUMPRODUCT((T_BDD[Destination]=Calendrier!$A15)*(T_BDD[Début séjour]<=Calendrier!H$3)*(T_BDD[Fin Séjour]>=Calendrier!H$3))>0,"X","") | I15: =IF(SUMPRODUCT((T_BDD[Destination]=Calendrier!$A15)*(T_BDD[Début séjour]<=Calendrier!I$3)*(T_BDD[Fin Séjour]>=Calendrier!I$3))>0,"X","") | ... AF15: =IF(SUMPRODUCT((T_BDD[Destination]=Calendrier!$A15)*(T_BDD[Début séjour]<=Calendrier!AF$3)*(T_BDD[Fin Séjour]>=Calendrier!AF$3))>0,"X","")
A16: Léon - 4 pers. - Bungalow n° 18 | B16: =IF(SUMPRODUCT((T_BDD[Destination]=Calendrier!$A16)*(T_BDD[Début séjour]<=Calendrier!B$3)*(T_BDD[Fin Séjour]>=Calendrier!B$3))>0,"X","") | C16: =IF(SUMPRODUCT((T_BDD[Destination]=Calendrier!$A16)*(T_BDD[Début séjour]<=Calendrier!C$3)*(T_BDD[Fin Séjour]>=Calendrier!C$3))>0,"X","") | D16: =IF(SUMPRODUCT((T_BDD[Destination]=Calendrier!$A16)*(T_BDD[Début séjour]<=Calendrier!D$3)*(T_BDD[Fin Séjour]>=Calendrier!D$3))>0,"X","") | E16: =IF(SUMPRODUCT((T_BDD[Destination]=Calendrier!$A16)*(T_BDD[Début séjour]<=Calendrier!E$3)*(T_BDD[Fin Séjour]>=Calendrier!E$3))>0,"X","") | F16: =IF(SUMPRODUCT((T_BDD[Destination]=Calendrier!$A16)*(T_BDD[Début séjour]<=Calendrier!F$3)*(T_BDD[Fin Séjour]>=Calendrier!F$3))>0,"X","") | G16: =IF(SUMPRODUCT((T_BDD[Destination]=Calendrier!$A16)*(T_BDD[Début séjour]<=Calendrier!G$3)*(T_BDD[Fin Séjour]>=Calendrier!G$3))>0,"X","") | H16: =IF(SUMPRODUCT((T_BDD[Destination]=Calendrier!$A16)*(T_BDD[Début séjour]<=Calendrier!H$3)*(T_BDD[Fin Séjour]>=Calendrier!H$3))>0,"X","") | I16: =IF(SUMPRODUCT((T_BDD[Destination]=Calendrier!$A16)*(T_BDD[Début séjour]<=Calendrier!I$3)*(T_BDD[Fin Séjour]>=Calendrier!I$3))>0,"X","") | ... AF16: =IF(SUMPRODUCT((T_BDD[Destination]=Calendrier!$A16)*(T_BDD[Début séjour]<=Calendrier!AF$3)*(T_BDD[Fin Séjour]>=Calendrier!AF$3))>0,"X","")
... A45: Valmorel | B45: =IF(SUMPRODUCT((T_BDD[Destination]=Calendrier!$A45)*(T_BDD[Début séjour]<=Calendrier!B$3)*(T_BDD[Fin Séjour]>=Calendrier!B$3))>0,"X","") | C45: =IF(SUMPRODUCT((T_BDD[Destination]=Calendrier!$A45)*(T_BDD[Début séjour]<=Calendrier!C$3)*(T_BDD[Fin Séjour]>=Calendrier!C$3))>0,"X","") | D45: =IF(SUMPRODUCT((T_BDD[Destination]=Calendrier!$A45)*(T_BDD[Début séjour]<=Calendrier!D$3)*(T_BDD[Fin Séjour]>=Calendrier!D$3))>0,"X","") | E45: =IF(SUMPRODUCT((T_BDD[Destination]=Calendrier!$A45)*(T_BDD[Début séjour]<=Calendrier!E$3)*(T_BDD[Fin Séjour]>=Calendrier!E$3))>0,"X","") -> X | F45: =IF(SUMPRODUCT((T_BDD[Destination]=Calendrier!$A45)*(T_BDD[Début séjour]<=Calendrier!F$3)*(T_BDD[Fin Séjour]>=Calendrier!F$3))>0,"X","") -> X | G45: =IF(SUMPRODUCT((T_BDD[Destination]=Calendrier!$A45)*(T_BDD[Début séjour]<=Calendrier!G$3)*(T_BDD[Fin Séjour]>=Calendrier!G$3))>0,"X","") -> X | H45: =IF(SUMPRODUCT((T_BDD[Destination]=Calendrier!$A45)*(T_BDD[Début séjour]<=Calendrier!H$3)*(T_BDD[Fin Séjour]>=Calendrier!H$3))>0,"X","") -> X | I45: =IF(SUMPRODUCT((T_BDD[Destination]=Calendrier!$A45)*(T_BDD[Début séjour]<=Calendrier!I$3)*(T_BDD[Fin Séjour]>=Calendrier!I$3))>0,"X","") -> X | ... AF45: =IF(SUMPRODUCT((T_BDD[Destination]=Calendrier!$A45)*(T_BDD[Début séjour]<=Calendrier!AF$3)*(T_BDD[Fin Séjour]>=Calendrier!AF$3))>0,"X","")

Sheet export_etat
A1: Destination | B1: Logement | C1: Début séjour | D1: Fin Séjour | E1: Etat Dossier
A2: Léon - 4 pers. - Bungalow n° 47 | B2: Bungalow n° 47 | C2: 46249 | D2: 46256 | E2: Facturé
A3: Léon - 4 pers. - Bungalow n° 39 | B3: Bungalow n° 39 | C3: 46249 | D3: 46256 | E3: Facturé
A4: Léon - 4 pers. - Bungalow n° 40 | B4: Bungalow n° 40 | C4: 46242 | D4: 46256 | E4: Facturé
A5: Léon 5 pers. M.R. | C5: 46256 | D5: 46263 | E5: Facturé
A6: Léon 5 pers. M.R. | C6: 46242 | D6: 46256 | E6: Facturé
A7: Houlgate | C7: 46242 | D7: 46249 | E7: Facturé
A8: Belle Dune 4 pers. | C8: 46221 | D8: 46228 | E8: Facturé
A9: Quiberon 3 Iles | C9: 46081 | D9: 46088 | E9: Retour des clés
A10: Les Coches | C10: 46039 | D10: 46046 | E10: Retour des clés
A11: Les Coches | C11: 46221 | D11: 46228 | E11: Facturé
A12: Houlgate | C12: 46193 | D12: 46200 | E12: Facturé
A13: Château d'Olonne | C13: 46130 | D13: 46137 | E13: Bon de séjour remis
A14: Vallandry | C14: 46382 | D14: 46389 | E14: Facturé
A15: Dives | C15: 46207 | D15: 46214 | E15: Facturé
A16: Léon - 6 pers. - Bungalow n° 36 | B16: Bungalow n° 36 | C16: 46228 | D16: 46235 | E16: Demande en ligne
A17: Léon - 4 pers. - Bungalow n° 37 | B17: Bungalow n° 37 | C17: 46235 | D17: 46242 | E17: Facturé
A18: Dives | C18: 46270 | D18: 46284 | E18: Facturé
A19: Cabourg | C19: 46095 | D19: 46102 | E19: Retour des clés
A20: Château d'Olonne | C20: 46368 | D20: 46382 | E20: Facturé
A21: Château d'Olonne | C21: 46186 | D21: 46193 | E21: Facturé
A22: Vallandry | C22: 46039 | D22: 46046 | E22: Retour des clés
A23: Trouville | C23: 46074 | D23: 46081 | E23: Bon de séjour remis
A24: Quiberon Front de Mer | C24: 46130 | D24: 46137 | E24: Bon de séjour remis
A25: Trouville | C25: 46151 | D25: 46158 | E25: Facturé
A26: Château d'Olonne | C26: 46382 | D26: 46389 | E26: Facturé
A27: Vallandry | C27: 46319 | D27: 46326 | E27: Facturé
A28: Belle Dune 6 pers. | C28: 46081 | D28: 46088 | E28: Bon de séjour remis
A29: Léon - 4 pers. - Bungalow n° 25 | B29: Bungalow n° 25 | C29: 46242 | D29: 46249 | E29: Facturé
A30: Cabourg | C30: 46074 | D30: 46081 | E30: Retour des clés
A31: Cabourg | C31: 46319 | D31: 46326 | E31: Facturé
A32: Houlgate | C32: 46045 | D32: 46047 | E32: Retour des clés
A33: Léon - 4 pers. - Bungalow n° 21 | B33: Bungalow n° 21 | C33: 46193 | D33: 46200 | E33: Facturé
A34: Belle Dune 6 pers. | C34: 46263 | D34: 46270 | E34: Facturé
A35: Léon - 6 pers. 2026 - Bungalow n° 36 | B35: Bungalow n° 36 | C35: 46221 | D35: 46228 | E35: Facturé
A36: Trouville | C36: 46207 | D36: 46214 | E36: Facturé
A37: Belle Dune 4 pers. 2026 | C37: 46164 | D37: 46167 | E37: Facturé
A38: Cabourg | C38: 46200 | D38: 46207 | E38: Facturé
A39: Cabourg | C39: 46102 | D39: 46109 | E39: Remise des clés
A40: Léon - 6 pers. - Bungalow n° 18 | B40: Bungalow n° 18 | C40: 46214 | D40: 46221 | E40: Facturé
...

Sheet Listes
A1: Mois | B1: N° Mois | D1: Etat
A2: Janvier | B2: 1 | D2: Facturé
A3: Février | B3: 2 | D3: Retour des clés
A4: Mars | B4: 3 | D4: Bon de séjour remis
A5: Avril | B5: 4 | D5: Demande en ligne
A6: Mai | B6: 5 | D6: Remise des clés
A7: Juin | B7: 6
A8: Juillet | B8: 7
A9: Août | B9: 8
A10: Septembre | B10: 9
A11: Octobre | B11: 10
A12: Novembre | B12: 11
A13: Décembre | B13: 12
