Workbook
Name Plage: Data!$A$3:$H$52

Sheet Data
A1: Numéro d'étiquette | B1: Article | D1: EAN 13 | E1: Prix Unitaire | F1: Poids | G1: Unité | H1: Prix /unité
B2: Désignation | C2: Marque
A3: 1 | B3: Lait demi écrème | C3: Pur Perche | D3: 21458596321458 | E3: 1.1 | F3: 1 | G3: /Litre | H3: =E3/F3 -> 1.1
A4: 2 | B4: Lait demi écrème | C4: Pur Perche | D4: 2147896325478 | E4: 0.6 | F4: 0.5 | G4: /Litre | H4: =E4/F4 -> 1.2
A5: 3 | H5: =E5/F5 -> #DIV/0!
A6: 4 | H6: =E6/F6 -> #DIV/0!
A7: 5 | H7: =E7/F7 -> #DIV/0!
A8: 6 | H8: =E8/F8 -> #DIV/0!
A9: 7 | H9: =E9/F9 -> #DIV/0!
A10: 8 | H10: =E10/F10 -> #DIV/0!
A11: 9 | H11: =E11/F11 -> #DIV/0!
A12: 10 | H12: =E12/F12 -> #DIV/0!
A13: 11 | H13: =E13/F13 -> #DIV/0!
A14: 12 | H14: =E14/F14 -> #DIV/0!
A15: 13 | H15: =E15/F15 -> #DIV/0!
A16: 14 | H16: =E16/F16 -> #DIV/0!
... A52: 50 | H52: =E52/F52 -> #DIV/0!

Sheet Etiquettes
A2: 1 | B2: =VLOOKUP($A$2,Plage,2,FALSE) -> Lait demi écrème | D2: =VLOOKUP($A$2,Plage,5,FALSE) -> 1.1 | F2: 2 | G2: =VLOOKUP($F$2,Plage,2,FALSE) -> Lait demi écrème | I2: =VLOOKUP($F$2,Plage,5,FALSE) -> 0.6 | K2: 3 | L2: =VLOOKUP($K$2,Plage,2,FALSE) -> 0 | N2: =VLOOKUP($K$2,Plage,5,FALSE) -> 0 | P2: 4 | Q2: =VLOOKUP($P$2,Plage,2,FALSE) -> 0 | S2: =VLOOKUP($P$2,Plage,5,FALSE) -> 0 | U2: 5 | V2: =VLOOKUP($U$2,Plage,2,FALSE) -> 0 | X2: =VLOOKUP($U$2,Plage,5,FALSE) -> 0
B3: =VLOOKUP($A$2,Plage,3,FALSE) -> Pur Perche | G3: =VLOOKUP($F$2,Plage,3,FALSE) -> Pur Perche | L3: =VLOOKUP($K$2,Plage,3,FALSE) -> 0 | Q3: =VLOOKUP($P$2,Plage,3,FALSE) -> 0 | V3: =VLOOKUP($U$2,Plage,3,FALSE) -> 0
B5: =VLOOKUP($A$2,Plage,4,FALSE) -> 21458596321458 | D5: =VLOOKUP($A$2,Plage,8,FALSE) -> 1.1 | E5: =VLOOKUP($A$2,Plage,7,FALSE) -> /Litre | G5: =VLOOKUP($F$2,Plage,4,FALSE) -> 2147896325478 | I5: =VLOOKUP($F$2,Plage,8,FALSE) -> 1.2 | J5: =VLOOKUP($F$2,Plage,7,FALSE) -> /Litre | L5: =VLOOKUP($K$2,Plage,4,FALSE) -> 0 | N5: =VLOOKUP($K$2,Plage,8,FALSE) -> #DIV/0! | O5: =VLOOKUP($K$2,Plage,7,FALSE) -> 0 | Q5: =VLOOKUP($P$2,Plage,4,FALSE) -> 0 | S5: =VLOOKUP($P$2,Plage,8,FALSE) -> #DIV/0! | T5: =VLOOKUP($P$2,Plage,7,FALSE) -> 0 | V5: =VLOOKUP($U$2,Plage,4,FALSE) -> 0 | X5: =VLOOKUP($U$2,Plage,8,FALSE) -> #DIV/0! | Y5: =VLOOKUP($U$2,Plage,7,FALSE) -> 0
A7: =Data!A8 -> 6 | B7: =VLOOKUP($A$7,Plage,2,FALSE) -> 0 | D7: =VLOOKUP($A$7,Plage,5,FALSE) -> 0 | F7: 7 | G7: =VLOOKUP($F$7,Plage,2,FALSE) -> 0 | I7: =VLOOKUP($F$7,Plage,5,FALSE) -> 0 | K7: 8 | L7: =VLOOKUP($K$7,Plage,2,FALSE) -> 0 | N7: =VLOOKUP($K$7,Plage,5,FALSE) -> 0 | P7: 9 | Q7: =VLOOKUP($P$7,Plage,2,FALSE) -> 0 | S7: =VLOOKUP($P$7,Plage,5,FALSE) -> 0 | U7: 10 | V7: =VLOOKUP($U$7,Plage,2,FALSE) -> 0 | X7: =VLOOKUP($U$7,Plage,5,FALSE) -> 0
B8: =VLOOKUP($A$7,Plage,3,FALSE) -> 0 | G8: =VLOOKUP($F$7,Plage,3,FALSE) -> 0 | L8: =VLOOKUP($K$7,Plage,3,FALSE) -> 0 | Q8: =VLOOKUP($P$7,Plage,3,FALSE) -> 0 | V8: =VLOOKUP($U$7,Plage,3,FALSE) -> 0
B10: =VLOOKUP($A$7,Plage,4,FALSE) -> 0 | D10: =VLOOKUP($A$7,Plage,8,FALSE) -> #DIV/0! | E10: =VLOOKUP($A$7,Plage,7,FALSE) -> 0 | G10: =VLOOKUP($F$7,Plage,4,FALSE) -> 0 | I10: =VLOOKUP($F$7,Plage,8,FALSE) -> #DIV/0! | J10: =VLOOKUP($F$7,Plage,7,FALSE) -> 0 | L10: =VLOOKUP($K$7,Plage,4,FALSE) -> 0 | N10: =VLOOKUP($K$7,Plage,8,FALSE) -> #DIV/0! | O10: =VLOOKUP($K$7,Plage,7,FALSE) -> 0 | Q10: =VLOOKUP($P$7,Plage,4,FALSE) -> 0 | S10: =VLOOKUP($P$7,Plage,8,FALSE) -> #DIV/0! | T10: =VLOOKUP($P$7,Plage,7,FALSE) -> 0 | V10: =VLOOKUP($U$7,Plage,4,FALSE) -> 0 | X10: =VLOOKUP($U$7,Plage,8,FALSE) -> #DIV/0! | Y10: =VLOOKUP($U$7,Plage,7,FALSE) -> 0
B12: =Data!B7 -> 0 | D12: =Data!E7 -> 0 | G12: =Data!G7 -> 0 | I12: =Data!J7 -> 0 | L12: =Data!L7 -> 0 | N12: =Data!O7 -> 0 | Q12: =Data!Q7 -> 0 | S12: =Data!T7 -> 0 | V12: =Data!V7 -> 0 | X12: =Data!Y7 -> 0
B13: =Data!C7 -> 0 | G13: =Data!H7 -> #DIV/0! | L13: =Data!M7 -> 0 | Q13: =Data!R7 -> 0 | V13: =Data!W7 -> 0
B15: =Data!D7 -> 0 | D15: =Data!H7 -> #DIV/0! | E15: =Data!G7 -> 0 | G15: =Data!I7 -> 0 | I15: =Data!M7 -> 0 | J15: =Data!L7 -> 0 | L15: =Data!N7 -> 0 | N15: =Data!R7 -> 0 | O15: =Data!Q7 -> 0 | Q15: =Data!S7 -> 0 | S15: =Data!W7 -> 0 | T15: =Data!V7 -> 0 | V15: =Data!X7 -> 0 | X15: =Data!AB7 -> 0 | Y15: =Data!AA7 -> 0
B17: =Data!B12 -> 0 | D17: =Data!E12 -> 0 | G17: =Data!G12 -> 0 | I17: =Data!J12 -> 0 | L17: =Data!L12 -> 0 | N17: =Data!O12 -> 0 | Q17: =Data!Q12 -> 0 | S17: =Data!T12 -> 0 | V17: =Data!V12 -> 0 | X17: =Data!Y12 -> 0
B18: =Data!C12 -> 0 | G18: =Data!H12 -> #DIV/0! | L18: =Data!M12 -> 0 | Q18: =Data!R12 -> 0 | V18: =Data!W12 -> 0
B20: =Data!D12 -> 0 | D20: =Data!H12 -> #DIV/0! | E20: =Data!G12 -> 0 | G20: =Data!I12 -> 0 | I20: =Data!M12 -> 0 | J20: =Data!L12 -> 0 | L20: =Data!N12 -> 0 | N20: =Data!R12 -> 0 | O20: =Data!Q12 -> 0 | Q20: =Data!S12 -> 0 | S20: =Data!W12 -> 0 | T20: =Data!V12 -> 0 | V20: =Data!X12 -> 0 | X20: =Data!AB12 -> 0 | Y20: =Data!AA12 -> 0
B22: =Data!B17 -> 0 | D22: =Data!E17 -> 0 | G22: =Data!G17 -> 0 | I22: =Data!J17 -> 0 | L22: =Data!L17 -> 0 | N22: =Data!O17 -> 0 | Q22: =Data!Q17 -> 0 | S22: =Data!T17 -> 0 | V22: =Data!V17 -> 0 | X22: =Data!Y17 -> 0
B23: =Data!C17 -> 0 | G23: =Data!H17 -> #DIV/0! | L23: =Data!M17 -> 0 | Q23: =Data!R17 -> 0 | V23: =Data!W17 -> 0
B25: =Data!D17 -> 0 | D25: =Data!H17 -> #DIV/0! | E25: =Data!G17 -> 0 | G25: =Data!I17 -> 0 | I25: =Data!M17 -> 0 | J25: =Data!L17 -> 0 | L25: =Data!N17 -> 0 | N25: =Data!R17 -> 0 | O25: =Data!Q17 -> 0 | Q25: =Data!S17 -> 0 | S25: =Data!W17 -> 0 | T25: =Data!V17 -> 0 | V25: =Data!X17 -> 0 | X25: =Data!AB17 -> 0 | Y25: =Data!AA17 -> 0
B27: =Data!B22 -> 0 | D27: =Data!E22 -> 0 | G27: =Data!G22 -> 0 | I27: =Data!J22 -> 0 | L27: =Data!L22 -> 0 | N27: =Data!O22 -> 0 | Q27: =Data!Q22 -> 0 | S27: =Data!T22 -> 0 | V27: =Data!V22 -> 0 | X27: =Data!Y22 -> 0
B28: =Data!C22 -> 0 | G28: =Data!H22 -> #DIV/0! | L28: =Data!M22 -> 0 | Q28: =Data!R22 -> 0 | V28: =Data!W22 -> 0
B30: =Data!D22 -> 0 | D30: =Data!H22 -> #DIV/0! | E30: =Data!G22 -> 0 | G30: =Data!I22 -> 0 | I30: =Data!M22 -> 0 | J30: =Data!L22 -> 0 | L30: =Data!N22 -> 0 | N30: =Data!R22 -> 0 | O30: =Data!Q22 -> 0 | Q30: =Data!S22 -> 0 | S30: =Data!W22 -> 0 | T30: =Data!V22 -> 0 | V30: =Data!X22 -> 0 | X30: =Data!AB22 -> 0 | Y30: =Data!AA22 -> 0
B32: =Data!B27 -> 0 | D32: =Data!E27 -> 0 | G32: =Data!G27 -> 0 | I32: =Data!J27 -> 0 | L32: =Data!L27 -> 0 | N32: =Data!O27 -> 0 | Q32: =Data!Q27 -> 0 | S32: =Data!T27 -> 0 | V32: =Data!V27 -> 0 | X32: =Data!Y27 -> 0
B33: =Data!C27 -> 0 | G33: =Data!H27 -> #DIV/0! | L33: =Data!M27 -> 0 | Q33: =Data!R27 -> 0 | V33: =Data!W27 -> 0
B35: =Data!D27 -> 0 | D35: =Data!H27 -> #DIV/0! | E35: =Data!G27 -> 0 | G35: =Data!I27 -> 0 | I35: =Data!M27 -> 0 | J35: =Data!L27 -> 0 | L35: =Data!N27 -> 0 | N35: =Data!R27 -> 0 | O35: =Data!Q27 -> 0 | Q35: =Data!S27 -> 0 | S35: =Data!W27 -> 0 | T35: =Data!V27 -> 0 | V35: =Data!X27 -> 0 | X35: =Data!AB27 -> 0 | Y35: =Data!AA27 -> 0
B37: =Data!B32 -> 0 | D37: =Data!E32 -> 0 | G37: =Data!G32 -> 0 | I37: =Data!J32 -> 0 | L37: =Data!L32 -> 0 | N37: =Data!O32 -> 0 | Q37: =Data!Q32 -> 0 | S37: =Data!T32 -> 0 | V37: =Data!V32 -> 0 | X37: =Data!Y32 -> 0
B38: =Data!C32 -> 0 | G38: =Data!H32 -> #DIV/0! | L38: =Data!M32 -> 0 | Q38: =Data!R32 -> 0 | V38: =Data!W32 -> 0
B40: =Data!D32 -> 0 | D40: =Data!H32 -> #DIV/0! | E40: =Data!G32 -> 0 | G40: =Data!I32 -> 0 | I40: =Data!M32 -> 0 | J40: =Data!L32 -> 0 | L40: =Data!N32 -> 0 | N40: =Data!R32 -> 0 | O40: =Data!Q32 -> 0 | Q40: =Data!S32 -> 0 | S40: =Data!W32 -> 0 | T40: =Data!V32 -> 0 | V40: =Data!X32 -> 0 | X40: =Data!AB32 -> 0 | Y40: =Data!AA32 -> 0
B42: =Data!B37 -> 0 | D42: =Data!E37 -> 0 | G42: =Data!G37 -> 0 | I42: =Data!J37 -> 0 | L42: =Data!L37 -> 0 | N42: =Data!O37 -> 0 | Q42: =Data!Q37 -> 0 | S42: =Data!T37 -> 0 | V42: =Data!V37 -> 0 | X42: =Data!Y37 -> 0
B43: =Data!C37 -> 0 | G43: =Data!H37 -> #DIV/0! | L43: =Data!M37 -> 0 | Q43: =Data!R37 -> 0 | V43: =Data!W37 -> 0
B45: =Data!D37 -> 0 | D45: =Data!H37 -> #DIV/0! | E45: =Data!G37 -> 0 | G45: =Data!I37 -> 0 | I45: =Data!M37 -> 0 | J45: =Data!L37 -> 0 | L45: =Data!N37 -> 0 | N45: =Data!R37 -> 0 | O45: =Data!Q37 -> 0 | Q45: =Data!S37 -> 0 | S45: =Data!W37 -> 0 | T45: =Data!V37 -> 0 | V45: =Data!X37 -> 0 | X45: =Data!AB37 -> 0 | Y45: =Data!AA37 -> 0
B47: =Data!B42 -> 0 | D47: =Data!E42 -> 0 | G47: =Data!G42 -> 0 | I47: =Data!J42 -> 0 | L47: =Data!L42 -> 0 | N47: =Data!O42 -> 0 | Q47: =Data!Q42 -> 0 | S47: =Data!T42 -> 0 | V47: =Data!V42 -> 0 | X47: =Data!Y42 -> 0
B48: =Data!C42 -> 0 | G48: =Data!H42 -> #DIV/0! | L48: =Data!M42 -> 0 | Q48: =Data!R42 -> 0 | V48: =Data!W42 -> 0
B50: =Data!D42 -> 0 | D50: =Data!H42 -> #DIV/0! | E50: =Data!G42 -> 0 | G50: =Data!I42 -> 0 | I50: =Data!M42 -> 0 | J50: =Data!L42 -> 0 | L50: =Data!N42 -> 0 | N50: =Data!R42 -> 0 | O50: =Data!Q42 -> 0 | Q50: =Data!S42 -> 0 | S50: =Data!W42 -> 0 | T50: =Data!V42 -> 0 | V50: =Data!X42 -> 0 | X50: =Data!AB42 -> 0 | Y50: =Data!AA42 -> 0
