Workbook

Sheet Feuil2
B1: LUNDI | D1: MARDI | F1: MERCREDI | H1: JEUDI | J1: VENDREDI | L1: SAMEDI | N1: DIMANCHE | P1: Totaux | Q1: Cumul | R1: Solde
A2: SEMAINE 01 | B2: 44558 | D2: 44559 | F2: 44560 | H2: 44561 | J2: 44562 | L2: 44563 | N2: 44564 | R2: 18.958333
B3: 0.33333333 | C3: 0.5 | D3: 0.33333333 | H3: 0.33333333 | J3: 0.33333333 | P3: =IF(COUNT(B4:C4)=2,C4-B4,0)+IF(COUNT(D4:E4)=2,E4-D4,0)+IF(COUNT(F4:G4)=2,G4-F4,0)+IF(COUNT(H4:I4)=2,I4-H4,0)+IF(COUNT(J4:K4)=2,K4-J4,0)+IF(COUNT(L4:M4)=2,M4-L4,0)+IF(COUNT(N4:O4)=2,O4-N4,0)+(SUMPRODUCT(COUNTIF(B4:O4,Absences[Absent]),Absences[Valeur])/24) -> 0.16666667 | Q3: =P3+P4 -> 0.33333333 | R3: =R$2-Q3 -> 18.625 | S3: =IF(COUNT(B59:C59)=2,C59-D59,0)+IF(COUNT(E59:F59)=2,F59-E59,0)+IF(COUNT(H59:I59)=2,I59-H59,0)+IF(COUNT(K59:L59)=2,L59-K59,0)+IF(COUNT(N59:O59)=2,O59-N59,0)+IF(COUNT(P59:R59)=2,R59-P59,0)+IF(COUNT(S59:T59)=2,T59-S59,0)+(SUMPRODUCT(COUNTIF(B59:O59,Absences[Absent]),Absences[Valeur])/24) -> 0
B4: 0.54166667 | C4: 0.70833333 | E4: 0.70833333 | I4: 0.70833333 | K4: 0.70833333 | P4: =IF(COUNT(B4:C4)=2,C4-B4,0)+IF(COUNT(D4:E4)=2,E4-D4,0)+IF(COUNT(F4:G4)=2,G4-F4,0)+IF(COUNT(H4:I4)=2,I4-H4,0)+IF(COUNT(J4:K4)=2,K4-J4,0)+IF(COUNT(L4:M4)=2,M4-L4,0)+IF(COUNT(N4:O4)=2,O4-N4,0)+(SUMPRODUCT(COUNTIF(B4:O4,Absences[Absent]),Absences[Valeur])/24) -> 0.16666667 | S4: =IFERROR( SUM((C3:D4-B3:C4)*24) + SUMPRODUCT((B3:O4=Absences[Absent])*Absences[Valeur]), 0) -> 0
B5: =+IF(C3="","","TR") -> TR | D5: =+IF(E3=0,"","TR") | F5: =+IF(G3=0,"","TR") | H5: =+IF(I3=0,"","TR") | J5: =+IF(K3=0,"","TR") | P5: =IFERROR( SUM( SUMPRODUCT( ISNUMBER(SEARCH(":",B3:O4)) * ((RIGHT(B3:O3,5)-LEFT(B3:O3,5))*24) ), SUMPRODUCT( (B3:O3=Absences[Absent]) * Absences[Valeur] ) ),0) -> 0
B6: 0.33333333 | D6: 0.33333333 | F6: 0.33333333 | H6: 0.33333333 | J6: 0.33333333 | P6: =+(C3-B3)+(C4-B4)+(E3-D3)+(E4-D4)+(G3-F3)+(G4-F4)+(I3-H3)+(I4-H4)+(K3-J3)+(K4-J4) -> 1.4583333 | Q6: =P6 -> 1.4583333 | R6: =R$2-Q6 -> 17.5
C7: 0.70833333 | E7: 0.70833333 | G7: 0.70833333 | I7: 0.70833333 | K7: 0.70833333
P8: =+IFERROR(SUMPRODUCT(--COUNTIF(B3:K3,Absences[Absent]),Absences[Valeur])/24,0) -> 0
A9: SEMAINE 02 | B9: 44565 | D9: 44566 | F9: 44567 | H9: 44568 | J9: 44569 | L9: 44570 | N9: 44571
B10: 0.33333333 | D10: 0.33333333 | F10: 0.33333333 | G10: 0.5 | H10: 0.33333333 | J10: 0.33333333 | P10: =IF(COUNT(B10:C10)=2,C10-B10,0)+IF(COUNT(D10:E10)=2,E10-D10,0)+IF(COUNT(F10:G10)=2,G10-F10,0)+IF(COUNT(H10:I10)=2,I10-H10,0)+IF(COUNT(J10:K10)=2,K10-J10,0)+IF(COUNT(L10:M10)=2,M10-L10,0)+IF(COUNT(N10:O10)=2,O10-N10,0)+(SUMPRODUCT(COUNTIF(B10:O10,Absences[Absent]),Absences[Valeur])/24) -> 0.16666667 | Q10: =Q3+P10 -> 0.5 | R10: =+R$2-Q10 -> 18.458333
C11: 0.70833333 | E11: 0.70833333 | I11: 0.70833333 | K11: 0.70833333
B13: 0.33333333 | D13: 0.33333333 | F13: 0.33333333 | G13: 0.5 | H13: 0.33333333 | J13: 0.33333333 | P13: =IF(COUNT(B13:C13)=2,C13-B13,0)+IF(COUNT(D13:E13)=2,E13-D13,0)+IF(COUNT(F13:G13)=2,G13-F13,0)+IF(COUNT(H13:I13)=2,I13-H13,0)+IF(COUNT(J13:K13)=2,K13-J13,0)+IF(COUNT(L13:M13)=2,M13-L13,0)+IF(COUNT(N13:O13)=2,O13-N13,0)+(SUMPRODUCT(COUNTIF(B13:O13,Absences[Absent]),Absences[Valeur])/24) -> 0.16666667 | Q13: =Q6+P13 -> 1.625 | R13: =+R$2-Q13 -> 17.333333
C14: 0.70833333 | E14: 0.70833333 | I14: 0.70833333 | K14: 0.70833333
A16: SEMAINE 3 | B16: 44572 | D16: 44573 | F16: 44574 | H16: 44575 | J16: 44576 | L16: 44577 | N16: 44578
B17: 0.33333333 | D17: 0.33333333 | F17: 0.33333333 | G17: 0.5 | H17: 0.33333333 | J17: 0.33333333 | P17: =IF(COUNT(B17:C17)=2,C17-B17,0)+IF(COUNT(D17:E17)=2,E17-D17,0)+IF(COUNT(F17:G17)=2,G17-F17,0)+IF(COUNT(H17:I17)=2,I17-H17,0)+IF(COUNT(J17:K17)=2,K17-J17,0)+IF(COUNT(L17:M17)=2,M17-L17,0)+IF(COUNT(N17:O17)=2,O17-N17,0)+(SUMPRODUCT(COUNTIF(B17:O17,Absences[Absent]),Absences[Valeur])/24) -> 0.16666667 | Q17: =Q10+P17 -> 0.66666667 | R17: =+R$2-Q17 -> 18.291667
C18: 0.70833333 | E18: 0.70833333 | I18: 0.70833333 | K18: 0.70833333
B20: 0.33333333 | D20: 0.33333333 | F20: 0.33333333 | G20: 0.5 | H20: 0.33333333 | J20: 0.33333333 | P20: =IF(COUNT(B20:C20)=2,C20-B20,0)+IF(COUNT(D20:E20)=2,E20-D20,0)+IF(COUNT(F20:G20)=2,G20-F20,0)+IF(COUNT(H20:I20)=2,I20-H20,0)+IF(COUNT(J20:K20)=2,K20-J20,0)+IF(COUNT(L20:M20)=2,M20-L20,0)+IF(COUNT(N20:O20)=2,O20-N20,0)+(SUMPRODUCT(COUNTIF(B20:O20,Absences[Absent]),Absences[Valeur])/24) -> 0.16666667 | Q20: =Q13+P20 -> 1.7916667 | R20: =+R$2-Q20 -> 17.166667
C21: 0.70833333 | E21: 0.70833333 | I21: 0.70833333 | K21: 0.70833333
A23: SEMAINE 4 | B23: 44214 | D23: 44215 | F23: 44216 | H23: 44217 | J23: 44218 | L23: 44219 | N23: 44220
B24: 0.33333333 | D24: 0.33333333 | F24: 0.33333333 | G24: 0.5 | H24: 0.33333333 | J24: 0.33333333 | P24: =IF(COUNT(B24:C24)=2,C24-B24,0)+IF(COUNT(D24:E24)=2,E24-D24,0)+IF(COUNT(F24:G24)=2,G24-F24,0)+IF(COUNT(H24:I24)=2,I24-H24,0)+IF(COUNT(J24:K24)=2,K24-J24,0)+IF(COUNT(L24:M24)=2,M24-L24,0)+IF(COUNT(N24:O24)=2,O24-N24,0)+(SUMPRODUCT(COUNTIF(B24:O24,Absences[Absent]),Absences[Valeur])/24) -> 0.16666667 | Q24: =Q17+P24 -> 0.83333333 | R24: =+R$2-Q24 -> 18.125
C25: 0.70833333 | E25: 0.70833333 | I25: 0.70833333 | K25: 0.70833333
B27: 0.33333333 | D27: 0.33333333 | F27: 0.33333333 | G27: 0.5 | H27: 0.33333333 | J27: 0.33333333 | P27: =IF(COUNT(B27:C27)=2,C27-B27,0)+IF(COUNT(D27:E27)=2,E27-D27,0)+IF(COUNT(F27:G27)=2,G27-F27,0)+IF(COUNT(H27:I27)=2,I27-H27,0)+IF(COUNT(J27:K27)=2,K27-J27,0)+IF(COUNT(L27:M27)=2,M27-L27,0)+IF(COUNT(N27:O27)=2,O27-N27,0)+(SUMPRODUCT(COUNTIF(B27:O27,Absences[Absent]),Absences[Valeur])/24) -> 0.16666667 | Q27: =Q20+P27 -> 1.9583333 | R27: =+R$2-Q27 -> 17
C28: 0.70833333 | E28: 0.70833333 | I28: 0.70833333 | K28: 0.70833333
A30: SEMAINE 5 | B30: 44221 | D30: 44222 | F30: 44223 | H30: 44224 | J30: 44225 | L30: 44226 | N30: 44227
B31: 0.33333333 | D31: 0.33333333 | F31: 0.33333333 | G31: 0.5 | H31: 0.33333333 | J31: 0.33333333 | P31: =IF(COUNT(B31:C31)=2,C31-B31,0)+IF(COUNT(D31:E31)=2,E31-D31,0)+IF(COUNT(F31:G31)=2,G31-F31,0)+IF(COUNT(H31:I31)=2,I31-H31,0)+IF(COUNT(J31:K31)=2,K31-J31,0)+IF(COUNT(L31:M31)=2,M31-L31,0)+IF(COUNT(N31:O31)=2,O31-N31,0)+(SUMPRODUCT(COUNTIF(B31:O31,Absences[Absent]),Absences[Valeur])/24) -> 0.16666667 | Q31: =Q24+P31 -> 1 | R31: =R$2-Q31 -> 17.958333
C32: 0.70833333 | E32: 0.70833333 | I32: 0.70833333 | K32: 0.70833333
B34: 0.33333333 | D34: 0.33333333 | F34: 0.33333333 | G34: 0.5 | H34: 0.33333333 | J34: 0.33333333 | P34: =IF(COUNT(B34:C34)=2,C34-B34,0)+IF(COUNT(D34:E34)=2,E34-D34,0)+IF(COUNT(F34:G34)=2,G34-F34,0)+IF(COUNT(H34:I34)=2,I34-H34,0)+IF(COUNT(J34:K34)=2,K34-J34,0)+IF(COUNT(L34:M34)=2,M34-L34,0)+IF(COUNT(N34:O34)=2,O34-N34,0)+(SUMPRODUCT(COUNTIF(B34:O34,Absences[Absent]),Absences[Valeur])/24) -> 0.16666667 | Q34: =Q27+P34 -> 2.125 | R34: =R$2-Q34 -> 16.833333
C35: 0.70833333 | E35: 0.70833333 | I35: 0.70833333 | K35: 0.70833333
A37: SEMAINE 6 | B37: 44593 | D37: 44594 | F37: 44595 | H37: 44596 | J37: 44597 | L37: 44598 | N37: 44599
B38: 0.33333333 | D38: 0.33333333 | F38: 0.33333333 | G38: 0.5 | H38: 0.33333333 | J38: 0.33333333
C39: 0.70833333 | E39: 0.70833333 | I39: 0.70833333 | K39: 0.70833333
B41: 0.33333333 | D41: 0.33333333 | F41: 0.33333333 | G41: 0.5 | H41: 0.33333333 | J41: 0.33333333
C42: 0.70833333 | E42: 0.70833333 | I42: 0.70833333 | K42: 0.70833333
A44: SEMAINE 7 | B44: 44235 | D44: 44236 | F44: 44237 | H44: 44238 | J44: 44239 | L44: 44240 | N44: 44241
B45: 0.33333333 | D45: 0.33333333 | F45: 0.33333333 | G45: 0.5 | H45: 0.33333333 | J45: 0.33333333 | P45: =IF(COUNT(B45:C45)=2,C45-B45,0)+IF(COUNT(D45:E45)=2,E45-D45,0)+IF(COUNT(F45:G45)=2,G45-F45,0)+IF(COUNT(H45:I45)=2,I45-H45,0)+IF(COUNT(J45:K45)=2,K45-J45,0)+IF(COUNT(L45:M45)=2,M45-L45,0)+IF(COUNT(N45:O45)=2,O45-N45,0)+(SUMPRODUCT(COUNTIF(B45:O45,Absences[Absent]),Absences[Valeur])/24) -> 0.16666667 | Q45: =Q38+P45 -> 0.16666667 | R45: =+R$2-Q45 -> 18.791667
C46: 0.70833333 | E46: 0.70833333 | I46: 0.70833333 | K46: 0.70833333
B48: 0.33333333 | D48: 0.33333333 | F48: 0.33333333 | G48: 0.5 | H48: 0.33333333 | J48: 0.33333333 | P48: =IF(COUNT(B48:C48)=2,C48-B48,0)+IF(COUNT(D48:E48)=2,E48-D48,0)+IF(COUNT(F48:G48)=2,G48-F48,0)+IF(COUNT(H48:I48)=2,I48-H48,0)+IF(COUNT(J48:K48)=2,K48-J48,0)+IF(COUNT(L48:M48)=2,M48-L48,0)+IF(COUNT(N48:O48)=2,O48-N48,0)+(SUMPRODUCT(COUNTIF(B48:O48,Absences[Absent]),Absences[Valeur])/24) -> 0.16666667 | Q48: =Q41+P48 -> 0.16666667 | R48: =+R$2-Q48 -> 18.791667
C49: 0.70833333 | E49: 0.70833333 | I49: 0.70833333 | K49: 0.70833333
A51: SEMAINE 8 | B51: 44607 | D51: 44608 | F51: 44609 | H51: 44610 | J51: 44611 | L51: 44612 | N51: 44613
B52: 0.33333333 | D52: 0.33333333 | F52: 0.33333333 | G52: 0.5 | H52: 0.33333333 | J52: 0.33333333 | P52: =IF(COUNT(B52:C52)=2,C52-B52,0)+IF(COUNT(D52:E52)=2,E52-D52,0)+IF(COUNT(F52:G52)=2,G52-F52,0)+IF(COUNT(H52:I52)=2,I52-H52,0)+IF(COUNT(J52:K52)=2,K52-J52,0)+IF(COUNT(L52:M52)=2,M52-L52,0)+IF(COUNT(N52:O52)=2,O52-N52,0)+(SUMPRODUCT(COUNTIF(B52:O52,Absences[Absent]),Absences[Valeur])/24) -> 0.16666667 | Q52: =+Q45+P52 -> 0.33333333 | R52: =+R$2-Q52 -> 18.625
C53: 0.70833333 | E53: 0.70833333 | I53: 0.70833333 | K53: 0.70833333
B55: 0.33333333 | D55: 0.33333333 | F55: 0.33333333 | G55: 0.5 | H55: 0.33333333 | J55: 0.33333333 | P55: =IF(COUNT(B55:C55)=2,C55-B55,0)+IF(COUNT(D55:E55)=2,E55-D55,0)+IF(COUNT(F55:G55)=2,G55-F55,0)+IF(COUNT(H55:I55)=2,I55-H55,0)+IF(COUNT(J55:K55)=2,K55-J55,0)+IF(COUNT(L55:M55)=2,M55-L55,0)+IF(COUNT(N55:O55)=2,O55-N55,0)+(SUMPRODUCT(COUNTIF(B55:O55,Absences[Absent]),Absences[Valeur])/24) -> 0.16666667 | Q55: =+Q48+P55 -> 0.33333333 | R55: =+R$2-Q55 -> 18.625
C56: 0.70833333 | E56: 0.70833333 | I56: 0.70833333 | K56: 0.70833333
A58: SEMAINE 9 | B58: 44614 | D58: 44615 | F58: 44616 | H58: 44617 | J58: 44618 | L58: 44619 | N58: 44620
B59: 0.33333333 | D59: 0.33333333 | F59: 0.33333333 | G59: 0.5 | H59: 0.33333333 | J59: 0.33333333 | P59: =IF(COUNT(B59:C59)=2,C59-B59,0)+IF(COUNT(D59:E59)=2,E59-D59,0)+IF(COUNT(F59:G59)=2,G59-F59,0)+IF(COUNT(H59:I59)=2,I59-H59,0)+IF(COUNT(J59:K59)=2,K59-J59,0)+IF(COUNT(L59:M59)=2,M59-L59,0)+IF(COUNT(N59:O59)=2,O59-N59,0)+(SUMPRODUCT(COUNTIF(B59:O59,Absences[Absent]),Absences[Valeur])/24) -> 0.16666667 | Q59: =+Q52+P59 -> 0.5 | R59: =+R$2-Q59 -> 18.458333
C60: 0.70833333 | E60: 0.70833333 | I60: 0.70833333 | K60: 0.70833333
B62: 0.33333333 | D62: 0.33333333 | F62: 0.33333333 | G62: 0.5 | H62: 0.33333333 | J62: 0.33333333 | P62: =IF(COUNT(B62:C62)=2,C62-B62,0)+IF(COUNT(D62:E62)=2,E62-D62,0)+IF(COUNT(F62:G62)=2,G62-F62,0)+IF(COUNT(H62:I62)=2,I62-H62,0)+IF(COUNT(J62:K62)=2,K62-J62,0)+IF(COUNT(L62:M62)=2,M62-L62,0)+IF(COUNT(N62:O62)=2,O62-N62,0)+(SUMPRODUCT(COUNTIF(B62:O62,Absences[Absent]),Absences[Valeur])/24) -> 0.16666667 | Q62: =+Q55+P62 -> 0.5 | R62: =+R$2-Q62 -> 18.458333
C63: 0.70833333 | E63: 0.70833333 | I63: 0.70833333 | K63: 0.70833333
A65: SEMAINE 10 | B65: 44621 | D65: 44622 | F65: 44623 | H65: 44624 | J65: 44625 | L65: 44626 | N65: 44627
B66: 0.33333333 | D66: 0.33333333 | F66: 0.33333333 | G66: 0.5 | H66: 0.33333333 | J66: 0.33333333
C67: 0.70833333 | E67: 0.70833333 | I67: 0.70833333 | K67: 0.70833333
B69: 0.33333333 | D69: 0.33333333 | F69: 0.33333333 | G69: 0.5 | H69: 0.33333333 | J69: 0.33333333
C70: 0.70833333 | E70: 0.70833333 | I70: 0.70833333 | K70: 0.70833333
A72: SEMAINE 11 | B72: 44263 | D72: 44264 | F72: 44265 | H72: 44266 | J72: 44267 | L72: 44268 | N72: 44269
B73: 0.33333333 | D73: 0.33333333 | F73: 0.33333333 | G73: 0.5 | H73: 0.33333333 | J73: 0.33333333 | P73: =IF(COUNT(B73:C73)=2,C73-B73,0)+IF(COUNT(D73:E73)=2,E73-D73,0)+IF(COUNT(F73:G73)=2,G73-F73,0)+IF(COUNT(H73:I73)=2,I73-H73,0)+IF(COUNT(J73:K73)=2,K73-J73,0)+IF(COUNT(L73:M73)=2,M73-L73,0)+IF(COUNT(N73:O73)=2,O73-N73,0)+(SUMPRODUCT(COUNTIF(B73:O73,Absences[Absent]),Absences[Valeur])/24) -> 0.16666667 | Q73: =Q66+P73 -> 0.16666667 | R73: =+R$2-Q73 -> 18.791667
C74: 0.70833333 | E74: 0.70833333 | I74: 0.70833333 | K74: 0.70833333
B76: 0.33333333 | D76: 0.33333333 | F76: 0.33333333 | G76: 0.5 | H76: 0.33333333 | J76: 0.33333333 | P76: =IF(COUNT(B76:C76)=2,C76-B76,0)+IF(COUNT(D76:E76)=2,E76-D76,0)+IF(COUNT(F76:G76)=2,G76-F76,0)+IF(COUNT(H76:I76)=2,I76-H76,0)+IF(COUNT(J76:K76)=2,K76-J76,0)+IF(COUNT(L76:M76)=2,M76-L76,0)+IF(COUNT(N76:O76)=2,O76-N76,0)+(SUMPRODUCT(COUNTIF(B76:O76,Absences[Absent]),Absences[Valeur])/24) -> 0.16666667 | Q76: =Q69+P76 -> 0.16666667 | R76: =+R$2-Q76 -> 18.791667
C77: 0.70833333 | E77: 0.70833333 | I77: 0.70833333 | K77: 0.70833333
A79: SEMAINE 12 | B79: 44270 | D79: 44271 | F79: 44272 | H79: 44273 | J79: 44274 | L79: 44275 | N79: 44276
B80: 0.33333333 | D80: 0.33333333 | F80: 0.33333333 | G80: 0.5 | H80: 0.33333333 | J80: 0.33333333 | P80: =IF(COUNT(B80:C80)=2,C80-B80,0)+IF(COUNT(D80:E80)=2,E80-D80,0)+IF(COUNT(F80:G80)=2,G80-F80,0)+IF(COUNT(H80:I80)=2,I80-H80,0)+IF(COUNT(J80:K80)=2,K80-J80,0)+IF(COUNT(L80:M80)=2,M80-L80,0)+IF(COUNT(N80:O80)=2,O80-N80,0)+(SUMPRODUCT(COUNTIF(B80:O80,Absences[Absent]),Absences[Valeur])/24) -> 0.16666667 | Q80: =+Q73+P80 -> 0.33333333 | R80: =+R$2-Q80 -> 18.625
C81: 0.70833333 | E81: 0.70833333 | I81: 0.70833333 | K81: 0.70833333
B83: 0.33333333 | D83: 0.33333333 | F83: 0.33333333 | G83: 0.5 | H83: 0.33333333 | J83: 0.33333333 | P83: =IF(COUNT(B83:C83)=2,C83-B83,0)+IF(COUNT(D83:E83)=2,E83-D83,0)+IF(COUNT(F83:G83)=2,G83-F83,0)+IF(COUNT(H83:I83)=2,I83-H83,0)+IF(COUNT(J83:K83)=2,K83-J83,0)+IF(COUNT(L83:M83)=2,M83-L83,0)+IF(COUNT(N83:O83)=2,O83-N83,0)+(SUMPRODUCT(COUNTIF(B83:O83,Absences[Absent]),Absences[Valeur])/24) -> 0.16666667 | Q83: =+Q76+P83 -> 0.33333333 | R83: =+R$2-Q83 -> 18.625
C84: 0.70833333 | E84: 0.70833333 | I84: 0.70833333 | K84: 0.70833333
A86: SEMAINE 13 | B86: 44277 | D86: 44278 | F86: 44279 | H86: 44280 | J86: 44281 | L86: 44282 | N86: 44283
B87: 0.33333333 | D87: 0.33333333 | F87: 0.33333333 | G87: 0.5 | H87: 0.33333333 | J87: 0.33333333 | P87: =IF(COUNT(B87:C87)=2,C87-B87,0)+IF(COUNT(D87:E87)=2,E87-D87,0)+IF(COUNT(F87:G87)=2,G87-F87,0)+IF(COUNT(H87:I87)=2,I87-H87,0)+IF(COUNT(J87:K87)=2,K87-J87,0)+IF(COUNT(L87:M87)=2,M87-L87,0)+IF(COUNT(N87:O87)=2,O87-N87,0)+(SUMPRODUCT(COUNTIF(B87:O87,Absences[Absent]),Absences[Valeur])/24) -> 0.16666667 | Q87: =+Q80+P87 -> 0.5 | R87: =+R$2-Q87 -> 18.458333
C88: 0.70833333 | E88: 0.70833333 | I88: 0.70833333 | K88: 0.70833333
B90: 0.33333333 | D90: 0.33333333 | F90: 0.33333333 | G90: 0.5 | H90: 0.33333333 | J90: 0.33333333 | P90: =IF(COUNT(B90:C90)=2,C90-B90,0)+IF(COUNT(D90:E90)=2,E90-D90,0)+IF(COUNT(F90:G90)=2,G90-F90,0)+IF(COUNT(H90:I90)=2,I90-H90,0)+IF(COUNT(J90:K90)=2,K90-J90,0)+IF(COUNT(L90:M90)=2,M90-L90,0)+IF(COUNT(N90:O90)=2,O90-N90,0)+(SUMPRODUCT(COUNTIF(B90:O90,Absences[Absent]),Absences[Valeur])/24) -> 0.16666667 | Q90: =+Q83+P90 -> 0.5 | R90: =+R$2-Q90 -> 18.458333
C91: 0.70833333 | E91: 0.70833333 | I91: 0.70833333 | K91: 0.70833333
A93: SEMAINE 14 | B93: 44284 | D93: 44285 | F93: 44286 | H93: 44287 | J93: 44288 | L93: 44289 | N93: 44290
B94: 0.33333333 | D94: 0.33333333 | F94: 0.33333333 | G94: 0.5 | H94: 0.33333333 | J94: 0.33333333 | P94: =IF(COUNT(B94:C94)=2,C94-B94,0)+IF(COUNT(D94:E94)=2,E94-D94,0)+IF(COUNT(F94:G94)=2,G94-F94,0)+IF(COUNT(H94:I94)=2,I94-H94,0)+IF(COUNT(J94:K94)=2,K94-J94,0)+IF(COUNT(L94:M94)=2,M94-L94,0)+IF(COUNT(N94:O94)=2,O94-N94,0)+(SUMPRODUCT(COUNTIF(B94:O94,Absences[Absent]),Absences[Valeur])/24) -> 0.16666667 | Q94: =+Q87+P94 -> 0.66666667 | R94: =+R$2-Q94 -> 18.291667
C95: 0.70833333 | E95: 0.70833333 | I95: 0.70833333 | K95: 0.70833333
B97: 0.33333333 | D97: 0.33333333 | F97: 0.33333333 | G97: 0.5 | H97: 0.33333333 | J97: 0.33333333 | P97: =IF(COUNT(B97:C97)=2,C97-B97,0)+IF(COUNT(D97:E97)=2,E97-D97,0)+IF(COUNT(F97:G97)=2,G97-F97,0)+IF(COUNT(H97:I97)=2,I97-H97,0)+IF(COUNT(J97:K97)=2,K97-J97,0)+IF(COUNT(L97:M97)=2,M97-L97,0)+IF(COUNT(N97:O97)=2,O97-N97,0)+(SUMPRODUCT(COUNTIF(B97:O97,Absences[Absent]),Absences[Valeur])/24) -> 0.16666667 | Q97: =+Q90+P97 -> 0.66666667 | R97: =+R$2-Q97 -> 18.291667
C98: 0.70833333 | E98: 0.70833333 | I98: 0.70833333 | K98: 0.70833333
C102: Absent | D102: Valeur
C103: JF | D103: 0.29166667
C104: CA | D104: 0.29166667
C105: CT | D105: 0.29166667
C106: Formation | D106: 0.29166667
C107: ECOLE | D107: 0.29166667
C108: MALADIE | D108: 0.29166667

Sheet Decompte
A1: JOUR | B1: N° semaine | C1: Début AM | D1: Fin AM | E1: Début PM | F1: Fin PM | G1: Abences | H1: TOTAL JOUR | I1: SOLDE | L1: 18.958333
A2: 44558 | B2: =WEEKNUM(Tableau2[[#This Row],[JOUR]]) -> 53 | C2: 0.33333333 | D2: 0.5 | E2: 0.54166667 | F2: 0.70833333 | H2: =IF(IF(AND(D2<>0,E2<>0),D2-C2+F2-E2,F2-C2)+ IF(Decompte!G2<>"",VLOOKUP(Decompte!G2,Absences[],2,FALSE))=0,"",IF(AND(D2<>0,E2<>0),D2-C2+F2-E2,F2-C2)+ IF(Decompte!G2<>"",VLOOKUP(Decompte!G2,Absences[],2,FALSE))) -> 0.33333333 | I2: =IFERROR($L$1-H2,"") -> 18.625
A3: =A2+1 -> 44559 | B3: =WEEKNUM(Tableau2[[#This Row],[JOUR]]) -> 53 | C3: 0.33333333 | F3: 0.70833333 | H3: =IF(IF(AND(D3<>0,E3<>0),D3-C3+F3-E3,F3-C3)+ IF(Decompte!G3<>"",VLOOKUP(Decompte!G3,Absences[],2,FALSE))=0,"",IF(AND(D3<>0,E3<>0),D3-C3+F3-E3,F3-C3)+ IF(Decompte!G3<>"",VLOOKUP(Decompte!G3,Absences[],2,FALSE))) -> 0.375 | I3: =IFERROR($L$1-H3,"") -> 18.583333
A4: =A3+1 -> 44560 | B4: =WEEKNUM(Tableau2[[#This Row],[JOUR]]) -> 53 | H4: =IF(IF(AND(D4<>0,E4<>0),D4-C4+F4-E4,F4-C4)+ IF(Decompte!G4<>"",VLOOKUP(Decompte!G4,Absences[],2,FALSE))=0,"",IF(AND(D4<>0,E4<>0),D4-C4+F4-E4,F4-C4)+ IF(Decompte!G4<>"",VLOOKUP(Decompte!G4,Absences[],2,FALSE))) | I4: =IFERROR($L$1-H4,"")
A5: =A4+1 -> 44561 | B5: =WEEKNUM(Tableau2[[#This Row],[JOUR]]) -> 1 | C5: 0.33333333 | F5: 0.70833333 | H5: =IF(IF(AND(D5<>0,E5<>0),D5-C5+F5-E5,F5-C5)+ IF(Decompte!G5<>"",VLOOKUP(Decompte!G5,Absences[],2,FALSE))=0,"",IF(AND(D5<>0,E5<>0),D5-C5+F5-E5,F5-C5)+ IF(Decompte!G5<>"",VLOOKUP(Decompte!G5,Absences[],2,FALSE))) -> 0.375 | I5: =IFERROR($L$1-H5,"") -> 18.583333
A6: =A5+1 -> 44562 | B6: =WEEKNUM(Tableau2[[#This Row],[JOUR]]) -> 1 | C6: 0.33333333 | F6: 0.70833333 | H6: =IF(IF(AND(D6<>0,E6<>0),D6-C6+F6-E6,F6-C6)+ IF(Decompte!G6<>"",VLOOKUP(Decompte!G6,Absences[],2,FALSE))=0,"",IF(AND(D6<>0,E6<>0),D6-C6+F6-E6,F6-C6)+ IF(Decompte!G6<>"",VLOOKUP(Decompte!G6,Absences[],2,FALSE))) -> 0.375 | I6: =IFERROR($L$1-H6,"") -> 18.583333
A7: =A6+1 -> 44563 | B7: =WEEKNUM(Tableau2[[#This Row],[JOUR]]) -> 1 | H7: =IF(IF(AND(D7<>0,E7<>0),D7-C7+F7-E7,F7-C7)+ IF(Decompte!G7<>"",VLOOKUP(Decompte!G7,Absences[],2,FALSE))=0,"",IF(AND(D7<>0,E7<>0),D7-C7+F7-E7,F7-C7)+ IF(Decompte!G7<>"",VLOOKUP(Decompte!G7,Absences[],2,FALSE))) | I7: =IFERROR($L$1-H7,"")
A8: =A7+1 -> 44564 | B8: =WEEKNUM(Tableau2[[#This Row],[JOUR]]) -> 2 | H8: =IF(IF(AND(D8<>0,E8<>0),D8-C8+F8-E8,F8-C8)+ IF(Decompte!G8<>"",VLOOKUP(Decompte!G8,Absences[],2,FALSE))=0,"",IF(AND(D8<>0,E8<>0),D8-C8+F8-E8,F8-C8)+ IF(Decompte!G8<>"",VLOOKUP(Decompte!G8,Absences[],2,FALSE))) | I8: =IFERROR($L$1-H8,"")
A9: =A8+1 -> 44565 | B9: =WEEKNUM(Tableau2[[#This Row],[JOUR]]) -> 2 | H9: =IF(IF(AND(D9<>0,E9<>0),D9-C9+F9-E9,F9-C9)+ IF(Decompte!G9<>"",VLOOKUP(Decompte!G9,Absences[],2,FALSE))=0,"",IF(AND(D9<>0,E9<>0),D9-C9+F9-E9,F9-C9)+ IF(Decompte!G9<>"",VLOOKUP(Decompte!G9,Absences[],2,FALSE))) | I9: =IFERROR($L$1-H9,"")
A10: =A9+1 -> 44566 | B10: =WEEKNUM(Tableau2[[#This Row],[JOUR]]) -> 2 | H10: =IF(IF(AND(D10<>0,E10<>0),D10-C10+F10-E10,F10-C10)+ IF(Decompte!G10<>"",VLOOKUP(Decompte!G10,Absences[],2,FALSE))=0,"",IF(AND(D10<>0,E10<>0),D10-C10+F10-E10,F10-C10)+ IF(Decompte!G10<>"",VLOOKUP(Decompte!G10,Absences[],2,FALSE))) | I10: =IFERROR($L$1-H10,"")
A11: =A10+1 -> 44567 | B11: =WEEKNUM(Tableau2[[#This Row],[JOUR]]) -> 2 | H11: =IF(IF(AND(D11<>0,E11<>0),D11-C11+F11-E11,F11-C11)+ IF(Decompte!G11<>"",VLOOKUP(Decompte!G11,Absences[],2,FALSE))=0,"",IF(AND(D11<>0,E11<>0),D11-C11+F11-E11,F11-C11)+ IF(Decompte!G11<>"",VLOOKUP(Decompte!G11,Absences[],2,FALSE))) | I11: =IFERROR($L$1-H11,"")
A12: =A11+1 -> 44568 | B12: =WEEKNUM(Tableau2[[#This Row],[JOUR]]) -> 2 | H12: =IF(IF(AND(D12<>0,E12<>0),D12-C12+F12-E12,F12-C12)+ IF(Decompte!G12<>"",VLOOKUP(Decompte!G12,Absences[],2,FALSE))=0,"",IF(AND(D12<>0,E12<>0),D12-C12+F12-E12,F12-C12)+ IF(Decompte!G12<>"",VLOOKUP(Decompte!G12,Absences[],2,FALSE))) | I12: =IFERROR($L$1-H12,"")
A13: =A12+1 -> 44569 | B13: =WEEKNUM(Tableau2[[#This Row],[JOUR]]) -> 2 | H13: =IF(IF(AND(D13<>0,E13<>0),D13-C13+F13-E13,F13-C13)+ IF(Decompte!G13<>"",VLOOKUP(Decompte!G13,Absences[],2,FALSE))=0,"",IF(AND(D13<>0,E13<>0),D13-C13+F13-E13,F13-C13)+ IF(Decompte!G13<>"",VLOOKUP(Decompte!G13,Absences[],2,FALSE))) | I13: =IFERROR($L$1-H13,"")
A14: =A13+1 -> 44570 | B14: =WEEKNUM(Tableau2[[#This Row],[JOUR]]) -> 2 | H14: =IF(IF(AND(D14<>0,E14<>0),D14-C14+F14-E14,F14-C14)+ IF(Decompte!G14<>"",VLOOKUP(Decompte!G14,Absences[],2,FALSE))=0,"",IF(AND(D14<>0,E14<>0),D14-C14+F14-E14,F14-C14)+ IF(Decompte!G14<>"",VLOOKUP(Decompte!G14,Absences[],2,FALSE))) | I14: =IFERROR($L$1-H14,"")
A15: =A14+1 -> 44571 | B15: =WEEKNUM(Tableau2[[#This Row],[JOUR]]) -> 3 | H15: =IF(IF(AND(D15<>0,E15<>0),D15-C15+F15-E15,F15-C15)+ IF(Decompte!G15<>"",VLOOKUP(Decompte!G15,Absences[],2,FALSE))=0,"",IF(AND(D15<>0,E15<>0),D15-C15+F15-E15,F15-C15)+ IF(Decompte!G15<>"",VLOOKUP(Decompte!G15,Absences[],2,FALSE))) | I15: =IFERROR($L$1-H15,"")
A16: =A15+1 -> 44572 | B16: =WEEKNUM(Tableau2[[#This Row],[JOUR]]) -> 3 | H16: =IF(IF(AND(D16<>0,E16<>0),D16-C16+F16-E16,F16-C16)+ IF(Decompte!G16<>"",VLOOKUP(Decompte!G16,Absences[],2,FALSE))=0,"",IF(AND(D16<>0,E16<>0),D16-C16+F16-E16,F16-C16)+ IF(Decompte!G16<>"",VLOOKUP(Decompte!G16,Absences[],2,FALSE))) | I16: =IFERROR($L$1-H16,"")
A17: =A16+1 -> 44573 | B17: =WEEKNUM(Tableau2[[#This Row],[JOUR]]) -> 3 | H17: =IF(IF(AND(D17<>0,E17<>0),D17-C17+F17-E17,F17-C17)+ IF(Decompte!G17<>"",VLOOKUP(Decompte!G17,Absences[],2,FALSE))=0,"",IF(AND(D17<>0,E17<>0),D17-C17+F17-E17,F17-C17)+ IF(Decompte!G17<>"",VLOOKUP(Decompte!G17,Absences[],2,FALSE))) | I17: =IFERROR($L$1-H17,"")
A18: =A17+1 -> 44574 | B18: =WEEKNUM(Tableau2[[#This Row],[JOUR]]) -> 3 | H18: =IF(IF(AND(D18<>0,E18<>0),D18-C18+F18-E18,F18-C18)+ IF(Decompte!G18<>"",VLOOKUP(Decompte!G18,Absences[],2,FALSE))=0,"",IF(AND(D18<>0,E18<>0),D18-C18+F18-E18,F18-C18)+ IF(Decompte!G18<>"",VLOOKUP(Decompte!G18,Absences[],2,FALSE))) | I18: =IFERROR($L$1-H18,"")
... A94: =A93+1 -> 44650 | B94: =WEEKNUM(Tableau2[[#This Row],[JOUR]]) -> 14 | H94: =IF(IF(AND(D94<>0,E94<>0),D94-C94+F94-E94,F94-C94)+ IF(Decompte!G94<>"",VLOOKUP(Decompte!G94,Absences[],2,FALSE))=0,"",IF(AND(D94<>0,E94<>0),D94-C94+F94-E94,F94-C94)+ IF(Decompte!G94<>"",VLOOKUP(Decompte!G94,Absences[],2,FALSE))) | I94: =IFERROR($L$1-H94,"")
