Workbook
Name Financeurs: T_Financeurs[Financeurs]
Name Personnes: T_Personnel[Personnel]
Name Projets: T_Projets[Projets]
Name Taches: T_Tache[Taches]

Sheet Saisie
A2: Date | B2: N° semaine | C2: Mois | D2: Durée (heures) | E2: Personne | F2: Statut (Salarié/Bénévole) | G2: Financeur | H2: Projet | I2: Tâche | J2: Titre resto utilisé (Oui/Non) | K2: N° Mois
A3: 46027 | B3: ="Semaine "&WEEKNUM(T_Saisie[[#This Row],[Date]]) -> Semaine 2 | C3: =VLOOKUP(T_Saisie[[#This Row],[N° Mois]],T_Mois[],2,FALSE) -> Janvier | D3: 0.16666667 | E3: Fanny | F3: =VLOOKUP(T_Saisie[Personne],T_Personnel[],2,FALSE) -> Salariée | G3: Ville de Lyon | H3: Projet 1 | I3: Administratif | J3: OUI | K3: =MONTH(A3) -> 1
A4: 46027 | B4: ="Semaine "&WEEKNUM(T_Saisie[[#This Row],[Date]]) -> Semaine 2 | C4: =VLOOKUP(T_Saisie[[#This Row],[N° Mois]],T_Mois[],2,FALSE) -> Janvier | D4: 0.125 | E4: Fanny | F4: =VLOOKUP(T_Saisie[Personne],T_Personnel[],2,FALSE) -> Salariée | G4: Ville de Villeurbanne | H4: Projet 2 | I4: Administratif | K4: =MONTH(A4) -> 1
A5: 46027 | B5: ="Semaine "&WEEKNUM(T_Saisie[[#This Row],[Date]]) -> Semaine 2 | C5: =VLOOKUP(T_Saisie[[#This Row],[N° Mois]],T_Mois[],2,FALSE) -> Janvier | D5: 0.041666667 | E5: Fanny | F5: =VLOOKUP(T_Saisie[Personne],T_Personnel[],2,FALSE) -> Salariée | G5: Ville de Vénissieux | H5: Projet 2 | I5: Administratif | J5: NON | K5: =MONTH(A5) -> 1
A6: 46028 | B6: ="Semaine "&WEEKNUM(T_Saisie[[#This Row],[Date]]) -> Semaine 2 | C6: =VLOOKUP(T_Saisie[[#This Row],[N° Mois]],T_Mois[],2,FALSE) -> Janvier | D6: 0.16666667 | E6: Fanny | F6: =VLOOKUP(T_Saisie[Personne],T_Personnel[],2,FALSE) -> Salariée | G6: Ville de Lyon | H6: Projet 3 | I6: Administratif | J6: NON | K6: =MONTH(A6) -> 1
A7: 46028 | B7: ="Semaine "&WEEKNUM(T_Saisie[[#This Row],[Date]]) -> Semaine 2 | C7: =VLOOKUP(T_Saisie[[#This Row],[N° Mois]],T_Mois[],2,FALSE) -> Janvier | D7: 0.125 | E7: Fanny | F7: =VLOOKUP(T_Saisie[Personne],T_Personnel[],2,FALSE) -> Salariée | G7: Ville de Lyon | H7: Projet 3 | I7: Administratif | K7: =MONTH(A7) -> 1
A8: 46028 | B8: ="Semaine "&WEEKNUM(T_Saisie[[#This Row],[Date]]) -> Semaine 2 | C8: =VLOOKUP(T_Saisie[[#This Row],[N° Mois]],T_Mois[],2,FALSE) -> Janvier | D8: 0.041666667 | E8: Fanny | F8: =VLOOKUP(T_Saisie[Personne],T_Personnel[],2,FALSE) -> Salariée | H8: Projet 4 | I8: Administratif | K8: =MONTH(A8) -> 1
A9: 46029 | B9: ="Semaine "&WEEKNUM(T_Saisie[[#This Row],[Date]]) -> Semaine 2 | C9: =VLOOKUP(T_Saisie[[#This Row],[N° Mois]],T_Mois[],2,FALSE) -> Janvier | D9: 0.16666667 | E9: Fanny | F9: =VLOOKUP(T_Saisie[Personne],T_Personnel[],2,FALSE) -> Salariée | H9: Projet 4 | I9: Administratif | K9: =MONTH(A9) -> 1
A10: 46029 | B10: ="Semaine "&WEEKNUM(T_Saisie[[#This Row],[Date]]) -> Semaine 2 | C10: =VLOOKUP(T_Saisie[[#This Row],[N° Mois]],T_Mois[],2,FALSE) -> Janvier | D10: 0.125 | E10: Fanny | F10: =VLOOKUP(T_Saisie[Personne],T_Personnel[],2,FALSE) -> Salariée | H10: Projet 5 | I10: Administratif | K10: =MONTH(A10) -> 1
A11: 46029 | B11: ="Semaine "&WEEKNUM(T_Saisie[[#This Row],[Date]]) -> Semaine 2 | C11: =VLOOKUP(T_Saisie[[#This Row],[N° Mois]],T_Mois[],2,FALSE) -> Janvier | D11: 0.041666667 | E11: Fanny | F11: =VLOOKUP(T_Saisie[Personne],T_Personnel[],2,FALSE) -> Salariée | H11: Projet 5 | I11: Administratif | K11: =MONTH(A11) -> 1
A12: 46029 | B12: ="Semaine "&WEEKNUM(T_Saisie[[#This Row],[Date]]) -> Semaine 2 | C12: =VLOOKUP(T_Saisie[[#This Row],[N° Mois]],T_Mois[],2,FALSE) -> Janvier | D12: 0.125 | E12: Fanny | F12: =VLOOKUP(T_Saisie[Personne],T_Personnel[],2,FALSE) -> Salariée | H12: Projet 6 | I12: Administratif | K12: =MONTH(A12) -> 1
A13: 46063 | B13: ="Semaine "&WEEKNUM(T_Saisie[[#This Row],[Date]]) -> Semaine 7 | C13: =VLOOKUP(T_Saisie[[#This Row],[N° Mois]],T_Mois[],2,FALSE) -> Février | D13: 0.22916667 | E13: Alexia | F13: =VLOOKUP(T_Saisie[Personne],T_Personnel[],2,FALSE) -> Salariée | G13: Equipop | H13: Projet 6 | I13: Administratif | J13: OUI | K13: =MONTH(A13) -> 2

Sheet Récap
A1: Fanny | B1: Semaine | C1: Total heures semaine | D1: Dépassement quota/semaine | E1: Total heures mois | F1: Total titres restaurant | G1: Mois
B2: Semaine 1 | C2: =SUMIFS(T_Saisie[Durée (heures)],T_Saisie[Personne],Récap!$A$1,T_Saisie[N° semaine],Récap!B2) -> 0 | D2: =IF(AND($A$1,listes!$D$2,C2>listes!$F$2),C2-listes!$F$2,IF(AND($A$1,listes!$D$3,C2>listes!$F$3),C2-listes!$F$3,"")) | E2: =SUMIFS(T_Saisie[Durée (heures)],T_Saisie[Personne],$A$1,T_Saisie[Mois],G2) -> 1.125 | F2: =COUNTIFS(T_Saisie[Personne],$A$1,T_Saisie[Mois],G2,T_Saisie[Titre resto utilisé (Oui/Non)],"OUI") -> 1 | G2: Janvier
B3: Semaine 2 | C3: =SUMIFS(T_Saisie[Durée (heures)],T_Saisie[Personne],Récap!$A$1,T_Saisie[N° semaine],Récap!B3) -> 1.125 | D3: =IF(AND($A$1,listes!$D$2,C3>listes!$F$2),C3-listes!$F$2,IF(AND($A$1,listes!$D$3,C3>listes!$F$3),C3-listes!$F$3,"")) -> 0.125 | E3: =SUMIFS(T_Saisie[Durée (heures)],T_Saisie[Personne],$A$1,T_Saisie[Mois],G3) -> 0 | F3: =COUNTIFS(T_Saisie[Personne],$A$1,T_Saisie[Mois],G3,T_Saisie[Titre resto utilisé (Oui/Non)],"OUI") -> 0 | G3: Février
B4: Semaine 3 | C4: =SUMIFS(T_Saisie[Durée (heures)],T_Saisie[Personne],Récap!$A$1,T_Saisie[N° semaine],Récap!B4) -> 0 | D4: =IF(AND($A$1,listes!$D$2,C4>listes!$F$2),C4-listes!$F$2,IF(AND($A$1,listes!$D$3,C4>listes!$F$3),C4-listes!$F$3,"")) | E4: =SUMIFS(T_Saisie[Durée (heures)],T_Saisie[Personne],$A$1,T_Saisie[Mois],G4) -> 0 | F4: =COUNTIFS(T_Saisie[Personne],$A$1,T_Saisie[Mois],G4,T_Saisie[Titre resto utilisé (Oui/Non)],"OUI") -> 0 | G4: Mars
B5: Semaine 4 | C5: =SUMIFS(T_Saisie[Durée (heures)],T_Saisie[Personne],Récap!$A$1,T_Saisie[N° semaine],Récap!B5) -> 0 | D5: =IF(AND($A$1,listes!$D$2,C5>listes!$F$2),C5-listes!$F$2,IF(AND($A$1,listes!$D$3,C5>listes!$F$3),C5-listes!$F$3,"")) | E5: =SUMIFS(T_Saisie[Durée (heures)],T_Saisie[Personne],$A$1,T_Saisie[Mois],G5) -> 0 | F5: =COUNTIFS(T_Saisie[Personne],$A$1,T_Saisie[Mois],G5,T_Saisie[Titre resto utilisé (Oui/Non)],"OUI") -> 0 | G5: Avril
B6: Semaine 5 | C6: =SUMIFS(T_Saisie[Durée (heures)],T_Saisie[Personne],Récap!$A$1,T_Saisie[N° semaine],Récap!B6) -> 0 | D6: =IF(AND($A$1,listes!$D$2,C6>listes!$F$2),C6-listes!$F$2,IF(AND($A$1,listes!$D$3,C6>listes!$F$3),C6-listes!$F$3,"")) | E6: =SUMIFS(T_Saisie[Durée (heures)],T_Saisie[Personne],$A$1,T_Saisie[Mois],G6) -> 0 | F6: =COUNTIFS(T_Saisie[Personne],$A$1,T_Saisie[Mois],G6,T_Saisie[Titre resto utilisé (Oui/Non)],"OUI") -> 0 | G6: Mai
B7: Semaine 6 | C7: =SUMIFS(T_Saisie[Durée (heures)],T_Saisie[Personne],Récap!$A$1,T_Saisie[N° semaine],Récap!B7) -> 0 | D7: =IF(AND($A$1,listes!$D$2,C7>listes!$F$2),C7-listes!$F$2,IF(AND($A$1,listes!$D$3,C7>listes!$F$3),C7-listes!$F$3,"")) | E7: =SUMIFS(T_Saisie[Durée (heures)],T_Saisie[Personne],$A$1,T_Saisie[Mois],G7) -> 0 | F7: =COUNTIFS(T_Saisie[Personne],$A$1,T_Saisie[Mois],G7,T_Saisie[Titre resto utilisé (Oui/Non)],"OUI") -> 0 | G7: Juin
B8: Semaine 7 | C8: =SUMIFS(T_Saisie[Durée (heures)],T_Saisie[Personne],Récap!$A$1,T_Saisie[N° semaine],Récap!B8) -> 0 | D8: =IF(AND($A$1,listes!$D$2,C8>listes!$F$2),C8-listes!$F$2,IF(AND($A$1,listes!$D$3,C8>listes!$F$3),C8-listes!$F$3,"")) | E8: =SUMIFS(T_Saisie[Durée (heures)],T_Saisie[Personne],$A$1,T_Saisie[Mois],G8) -> 0 | F8: =COUNTIFS(T_Saisie[Personne],$A$1,T_Saisie[Mois],G8,T_Saisie[Titre resto utilisé (Oui/Non)],"OUI") -> 0 | G8: Juillet
B9: Semaine 8 | C9: =SUMIFS(T_Saisie[Durée (heures)],T_Saisie[Personne],Récap!$A$1,T_Saisie[N° semaine],Récap!B9) -> 0 | D9: =IF(AND($A$1,listes!$D$2,C9>listes!$F$2),C9-listes!$F$2,IF(AND($A$1,listes!$D$3,C9>listes!$F$3),C9-listes!$F$3,"")) | E9: =SUMIFS(T_Saisie[Durée (heures)],T_Saisie[Personne],$A$1,T_Saisie[Mois],G9) -> 0 | F9: =COUNTIFS(T_Saisie[Personne],$A$1,T_Saisie[Mois],G9,T_Saisie[Titre resto utilisé (Oui/Non)],"OUI") -> 0 | G9: Août
B10: Semaine 9 | C10: =SUMIFS(T_Saisie[Durée (heures)],T_Saisie[Personne],Récap!$A$1,T_Saisie[N° semaine],Récap!B10) -> 0 | D10: =IF(AND($A$1,listes!$D$2,C10>listes!$F$2),C10-listes!$F$2,IF(AND($A$1,listes!$D$3,C10>listes!$F$3),C10-listes!$F$3,"")) | E10: =SUMIFS(T_Saisie[Durée (heures)],T_Saisie[Personne],$A$1,T_Saisie[Mois],G10) -> 0 | F10: =COUNTIFS(T_Saisie[Personne],$A$1,T_Saisie[Mois],G10,T_Saisie[Titre resto utilisé (Oui/Non)],"OUI") -> 0 | G10: Septembre
B11: Semaine 10 | C11: =SUMIFS(T_Saisie[Durée (heures)],T_Saisie[Personne],Récap!$A$1,T_Saisie[N° semaine],Récap!B11) -> 0 | D11: =IF(AND($A$1,listes!$D$2,C11>listes!$F$2),C11-listes!$F$2,IF(AND($A$1,listes!$D$3,C11>listes!$F$3),C11-listes!$F$3,"")) | E11: =SUMIFS(T_Saisie[Durée (heures)],T_Saisie[Personne],$A$1,T_Saisie[Mois],G11) -> 0 | F11: =COUNTIFS(T_Saisie[Personne],$A$1,T_Saisie[Mois],G11,T_Saisie[Titre resto utilisé (Oui/Non)],"OUI") -> 0 | G11: Octobre
B12: Semaine 11 | C12: =SUMIFS(T_Saisie[Durée (heures)],T_Saisie[Personne],Récap!$A$1,T_Saisie[N° semaine],Récap!B12) -> 0 | D12: =IF(AND($A$1,listes!$D$2,C12>listes!$F$2),C12-listes!$F$2,IF(AND($A$1,listes!$D$3,C12>listes!$F$3),C12-listes!$F$3,"")) | E12: =SUMIFS(T_Saisie[Durée (heures)],T_Saisie[Personne],$A$1,T_Saisie[Mois],G12) -> 0 | F12: =COUNTIFS(T_Saisie[Personne],$A$1,T_Saisie[Mois],G12,T_Saisie[Titre resto utilisé (Oui/Non)],"OUI") -> 0 | G12: Novembre
B13: Semaine 12 | C13: =SUMIFS(T_Saisie[Durée (heures)],T_Saisie[Personne],Récap!$A$1,T_Saisie[N° semaine],Récap!B13) -> 0 | D13: =IF(AND($A$1,listes!$D$2,C13>listes!$F$2),C13-listes!$F$2,IF(AND($A$1,listes!$D$3,C13>listes!$F$3),C13-listes!$F$3,"")) | E13: =SUMIFS(T_Saisie[Durée (heures)],T_Saisie[Personne],$A$1,T_Saisie[Mois],G13) -> 0 | F13: =COUNTIFS(T_Saisie[Personne],$A$1,T_Saisie[Mois],G13,T_Saisie[Titre resto utilisé (Oui/Non)],"OUI") -> 0 | G13: Décembre
B14: Semaine 13 | C14: =SUMIFS(T_Saisie[Durée (heures)],T_Saisie[Personne],Récap!$A$1,T_Saisie[N° semaine],Récap!B14) -> 0 | D14: =IF(AND($A$1,listes!$D$2,C14>listes!$F$2),C14-listes!$F$2,IF(AND($A$1,listes!$D$3,C14>listes!$F$3),C14-listes!$F$3,""))
B15: Semaine 14 | C15: =SUMIFS(T_Saisie[Durée (heures)],T_Saisie[Personne],Récap!$A$1,T_Saisie[N° semaine],Récap!B15) -> 0 | D15: =IF(AND($A$1,listes!$D$2,C15>listes!$F$2),C15-listes!$F$2,IF(AND($A$1,listes!$D$3,C15>listes!$F$3),C15-listes!$F$3,""))
B16: Semaine 15 | C16: =SUMIFS(T_Saisie[Durée (heures)],T_Saisie[Personne],Récap!$A$1,T_Saisie[N° semaine],Récap!B16) -> 0 | D16: =IF(AND($A$1,listes!$D$2,C16>listes!$F$2),C16-listes!$F$2,IF(AND($A$1,listes!$D$3,C16>listes!$F$3),C16-listes!$F$3,""))
B17: Semaine 16 | C17: =SUMIFS(T_Saisie[Durée (heures)],T_Saisie[Personne],Récap!$A$1,T_Saisie[N° semaine],Récap!B17) -> 0 | D17: =IF(AND($A$1,listes!$D$2,C17>listes!$F$2),C17-listes!$F$2,IF(AND($A$1,listes!$D$3,C17>listes!$F$3),C17-listes!$F$3,""))
B18: Semaine 17 | C18: =SUMIFS(T_Saisie[Durée (heures)],T_Saisie[Personne],Récap!$A$1,T_Saisie[N° semaine],Récap!B18) -> 0 | D18: =IF(AND($A$1,listes!$D$2,C18>listes!$F$2),C18-listes!$F$2,IF(AND($A$1,listes!$D$3,C18>listes!$F$3),C18-listes!$F$3,""))
B19: Semaine 18 | C19: =SUMIFS(T_Saisie[Durée (heures)],T_Saisie[Personne],Récap!$A$1,T_Saisie[N° semaine],Récap!B19) -> 0 | D19: =IF(AND($A$1,listes!$D$2,C19>listes!$F$2),C19-listes!$F$2,IF(AND($A$1,listes!$D$3,C19>listes!$F$3),C19-listes!$F$3,""))
B20: Semaine 19 | C20: =SUMIFS(T_Saisie[Durée (heures)],T_Saisie[Personne],Récap!$A$1,T_Saisie[N° semaine],Récap!B20) -> 0 | D20: =IF(AND($A$1,listes!$D$2,C20>listes!$F$2),C20-listes!$F$2,IF(AND($A$1,listes!$D$3,C20>listes!$F$3),C20-listes!$F$3,""))
B21: Semaine 20 | C21: =SUMIFS(T_Saisie[Durée (heures)],T_Saisie[Personne],Récap!$A$1,T_Saisie[N° semaine],Récap!B21) -> 0 | D21: =IF(AND($A$1,listes!$D$2,C21>listes!$F$2),C21-listes!$F$2,IF(AND($A$1,listes!$D$3,C21>listes!$F$3),C21-listes!$F$3,""))
B22: Semaine 21 | C22: =SUMIFS(T_Saisie[Durée (heures)],T_Saisie[Personne],Récap!$A$1,T_Saisie[N° semaine],Récap!B22) -> 0 | D22: =IF(AND($A$1,listes!$D$2,C22>listes!$F$2),C22-listes!$F$2,IF(AND($A$1,listes!$D$3,C22>listes!$F$3),C22-listes!$F$3,""))
B23: Semaine 22 | C23: =SUMIFS(T_Saisie[Durée (heures)],T_Saisie[Personne],Récap!$A$1,T_Saisie[N° semaine],Récap!B23) -> 0 | D23: =IF(AND($A$1,listes!$D$2,C23>listes!$F$2),C23-listes!$F$2,IF(AND($A$1,listes!$D$3,C23>listes!$F$3),C23-listes!$F$3,""))
B24: Semaine 23 | C24: =SUMIFS(T_Saisie[Durée (heures)],T_Saisie[Personne],Récap!$A$1,T_Saisie[N° semaine],Récap!B24) -> 0 | D24: =IF(AND($A$1,listes!$D$2,C24>listes!$F$2),C24-listes!$F$2,IF(AND($A$1,listes!$D$3,C24>listes!$F$3),C24-listes!$F$3,""))
B25: Semaine 24 | C25: =SUMIFS(T_Saisie[Durée (heures)],T_Saisie[Personne],Récap!$A$1,T_Saisie[N° semaine],Récap!B25) -> 0 | D25: =IF(AND($A$1,listes!$D$2,C25>listes!$F$2),C25-listes!$F$2,IF(AND($A$1,listes!$D$3,C25>listes!$F$3),C25-listes!$F$3,""))
... B54: Semaine 53 | C54: =SUMIFS(T_Saisie[Durée (heures)],T_Saisie[Personne],Récap!$A$1,T_Saisie[N° semaine],Récap!B54) -> 0 | D54: =IF(AND($A$1,listes!$D$2,C54>listes!$F$2),C54-listes!$F$2,IF(AND($A$1,listes!$D$3,C54>listes!$F$3),C54-listes!$F$3,""))

Sheet Récap 2
A1: Financeurs | B1: Janvier | C1: Février | D1: Mars | E1: Avril | F1: Mai | G1: Juin | H1: Juillet | I1: Août | J1: Septembre | K1: Octobre | L1: Novembre | M1: Décembre | N1: TOTAL Année
A2: Ville de Lyon | B2: =SUMIFS(T_Saisie[Durée (heures)],T_Saisie[Mois],T_Financeurs[[#Headers],[Janvier]],T_Saisie[Financeur],T_Financeurs[[#This Row],[Financeurs]]) -> 0.45833333 | C2: =SUMIFS(T_Saisie[Durée (heures)],T_Saisie[Mois],T_Financeurs[[#Headers],[Février]],T_Saisie[Financeur],T_Financeurs[[#This Row],[Financeurs]]) -> 0 | D2: =SUMIFS(T_Saisie[Durée (heures)],T_Saisie[Mois],T_Financeurs[[#Headers],[Mars]],T_Saisie[Financeur],T_Financeurs[[#This Row],[Financeurs]]) -> 0 | E2: =SUMIFS(T_Saisie[Durée (heures)],T_Saisie[Mois],T_Financeurs[[#Headers],[Avril]],T_Saisie[Financeur],T_Financeurs[[#This Row],[Financeurs]]) -> 0 | F2: =SUMIFS(T_Saisie[Durée (heures)],T_Saisie[Mois],T_Financeurs[[#Headers],[Mai]],T_Saisie[Financeur],T_Financeurs[[#This Row],[Financeurs]]) -> 0 | G2: =SUMIFS(T_Saisie[Durée (heures)],T_Saisie[Mois],T_Financeurs[[#Headers],[Juin]],T_Saisie[Financeur],T_Financeurs[[#This Row],[Financeurs]]) -> 0 | H2: =SUMIFS(T_Saisie[Durée (heures)],T_Saisie[Mois],T_Financeurs[[#Headers],[Juillet]],T_Saisie[Financeur],T_Financeurs[[#This Row],[Financeurs]]) -> 0 | I2: =SUMIFS(T_Saisie[Durée (heures)],T_Saisie[Mois],T_Financeurs[[#Headers],[Août]],T_Saisie[Financeur],T_Financeurs[[#This Row],[Financeurs]]) -> 0 | J2: =SUMIFS(T_Saisie[Durée (heures)],T_Saisie[Mois],T_Financeurs[[#Headers],[Septembre]],T_Saisie[Financeur],T_Financeurs[[#This Row],[Financeurs]]) -> 0 | K2: =SUMIFS(T_Saisie[Durée (heures)],T_Saisie[Mois],T_Financeurs[[#Headers],[Octobre]],T_Saisie[Financeur],T_Financeurs[[#This Row],[Financeurs]]) -> 0 | L2: =SUMIFS(T_Saisie[Durée (heures)],T_Saisie[Mois],T_Financeurs[[#Headers],[Novembre]],T_Saisie[Financeur],T_Financeurs[[#This Row],[Financeurs]]) -> 0 | M2: =SUMIFS(T_Saisie[Durée (heures)],T_Saisie[Mois],T_Financeurs[[#Headers],[Décembre]],T_Saisie[Financeur],T_Financeurs[[#This Row],[Financeurs]]) -> 0 | N2: =SUMIFS(T_Saisie[Durée (heures)],T_Saisie[Financeur],T_Financeurs[[#This Row],[Financeurs]]) -> 0.45833333
A3: Ville de Villeurbanne | B3: =SUMIFS(T_Saisie[Durée (heures)],T_Saisie[Mois],T_Financeurs[[#Headers],[Janvier]],T_Saisie[Financeur],T_Financeurs[[#This Row],[Financeurs]]) -> 0.125 | C3: =SUMIFS(T_Saisie[Durée (heures)],T_Saisie[Mois],T_Financeurs[[#Headers],[Février]],T_Saisie[Financeur],T_Financeurs[[#This Row],[Financeurs]]) -> 0 | D3: =SUMIFS(T_Saisie[Durée (heures)],T_Saisie[Mois],T_Financeurs[[#Headers],[Mars]],T_Saisie[Financeur],T_Financeurs[[#This Row],[Financeurs]]) -> 0 | E3: =SUMIFS(T_Saisie[Durée (heures)],T_Saisie[Mois],T_Financeurs[[#Headers],[Avril]],T_Saisie[Financeur],T_Financeurs[[#This Row],[Financeurs]]) -> 0 | F3: =SUMIFS(T_Saisie[Durée (heures)],T_Saisie[Mois],T_Financeurs[[#Headers],[Mai]],T_Saisie[Financeur],T_Financeurs[[#This Row],[Financeurs]]) -> 0 | G3: =SUMIFS(T_Saisie[Durée (heures)],T_Saisie[Mois],T_Financeurs[[#Headers],[Juin]],T_Saisie[Financeur],T_Financeurs[[#This Row],[Financeurs]]) -> 0 | H3: =SUMIFS(T_Saisie[Durée (heures)],T_Saisie[Mois],T_Financeurs[[#Headers],[Juillet]],T_Saisie[Financeur],T_Financeurs[[#This Row],[Financeurs]]) -> 0 | I3: =SUMIFS(T_Saisie[Durée (heures)],T_Saisie[Mois],T_Financeurs[[#Headers],[Août]],T_Saisie[Financeur],T_Financeurs[[#This Row],[Financeurs]]) -> 0 | J3: =SUMIFS(T_Saisie[Durée (heures)],T_Saisie[Mois],T_Financeurs[[#Headers],[Septembre]],T_Saisie[Financeur],T_Financeurs[[#This Row],[Financeurs]]) -> 0 | K3: =SUMIFS(T_Saisie[Durée (heures)],T_Saisie[Mois],T_Financeurs[[#Headers],[Octobre]],T_Saisie[Financeur],T_Financeurs[[#This Row],[Financeurs]]) -> 0 | L3: =SUMIFS(T_Saisie[Durée (heures)],T_Saisie[Mois],T_Financeurs[[#Headers],[Novembre]],T_Saisie[Financeur],T_Financeurs[[#This Row],[Financeurs]]) -> 0 | M3: =SUMIFS(T_Saisie[Durée (heures)],T_Saisie[Mois],T_Financeurs[[#Headers],[Décembre]],T_Saisie[Financeur],T_Financeurs[[#This Row],[Financeurs]]) -> 0 | N3: =SUMIFS(T_Saisie[Durée (heures)],T_Saisie[Financeur],T_Financeurs[[#This Row],[Financeurs]]) -> 0.125
A4: Equipop | B4: =SUMIFS(T_Saisie[Durée (heures)],T_Saisie[Mois],T_Financeurs[[#Headers],[Janvier]],T_Saisie[Financeur],T_Financeurs[[#This Row],[Financeurs]]) -> 0 | C4: =SUMIFS(T_Saisie[Durée (heures)],T_Saisie[Mois],T_Financeurs[[#Headers],[Février]],T_Saisie[Financeur],T_Financeurs[[#This Row],[Financeurs]]) -> 0.22916667 | D4: =SUMIFS(T_Saisie[Durée (heures)],T_Saisie[Mois],T_Financeurs[[#Headers],[Mars]],T_Saisie[Financeur],T_Financeurs[[#This Row],[Financeurs]]) -> 0 | E4: =SUMIFS(T_Saisie[Durée (heures)],T_Saisie[Mois],T_Financeurs[[#Headers],[Avril]],T_Saisie[Financeur],T_Financeurs[[#This Row],[Financeurs]]) -> 0 | F4: =SUMIFS(T_Saisie[Durée (heures)],T_Saisie[Mois],T_Financeurs[[#Headers],[Mai]],T_Saisie[Financeur],T_Financeurs[[#This Row],[Financeurs]]) -> 0 | G4: =SUMIFS(T_Saisie[Durée (heures)],T_Saisie[Mois],T_Financeurs[[#Headers],[Juin]],T_Saisie[Financeur],T_Financeurs[[#This Row],[Financeurs]]) -> 0 | H4: =SUMIFS(T_Saisie[Durée (heures)],T_Saisie[Mois],T_Financeurs[[#Headers],[Juillet]],T_Saisie[Financeur],T_Financeurs[[#This Row],[Financeurs]]) -> 0 | I4: =SUMIFS(T_Saisie[Durée (heures)],T_Saisie[Mois],T_Financeurs[[#Headers],[Août]],T_Saisie[Financeur],T_Financeurs[[#This Row],[Financeurs]]) -> 0 | J4: =SUMIFS(T_Saisie[Durée (heures)],T_Saisie[Mois],T_Financeurs[[#Headers],[Septembre]],T_Saisie[Financeur],T_Financeurs[[#This Row],[Financeurs]]) -> 0 | K4: =SUMIFS(T_Saisie[Durée (heures)],T_Saisie[Mois],T_Financeurs[[#Headers],[Octobre]],T_Saisie[Financeur],T_Financeurs[[#This Row],[Financeurs]]) -> 0 | L4: =SUMIFS(T_Saisie[Durée (heures)],T_Saisie[Mois],T_Financeurs[[#Headers],[Novembre]],T_Saisie[Financeur],T_Financeurs[[#This Row],[Financeurs]]) -> 0 | M4: =SUMIFS(T_Saisie[Durée (heures)],T_Saisie[Mois],T_Financeurs[[#Headers],[Décembre]],T_Saisie[Financeur],T_Financeurs[[#This Row],[Financeurs]]) -> 0 | N4: =SUMIFS(T_Saisie[Durée (heures)],T_Saisie[Financeur],T_Financeurs[[#This Row],[Financeurs]]) -> 0.22916667
A5: Ville de Vénissieux | B5: =SUMIFS(T_Saisie[Durée (heures)],T_Saisie[Mois],T_Financeurs[[#Headers],[Janvier]],T_Saisie[Financeur],T_Financeurs[[#This Row],[Financeurs]]) -> 0.041666667 | C5: =SUMIFS(T_Saisie[Durée (heures)],T_Saisie[Mois],T_Financeurs[[#Headers],[Février]],T_Saisie[Financeur],T_Financeurs[[#This Row],[Financeurs]]) -> 0 | D5: =SUMIFS(T_Saisie[Durée (heures)],T_Saisie[Mois],T_Financeurs[[#Headers],[Mars]],T_Saisie[Financeur],T_Financeurs[[#This Row],[Financeurs]]) -> 0 | E5: =SUMIFS(T_Saisie[Durée (heures)],T_Saisie[Mois],T_Financeurs[[#Headers],[Avril]],T_Saisie[Financeur],T_Financeurs[[#This Row],[Financeurs]]) -> 0 | F5: =SUMIFS(T_Saisie[Durée (heures)],T_Saisie[Mois],T_Financeurs[[#Headers],[Mai]],T_Saisie[Financeur],T_Financeurs[[#This Row],[Financeurs]]) -> 0 | G5: =SUMIFS(T_Saisie[Durée (heures)],T_Saisie[Mois],T_Financeurs[[#Headers],[Juin]],T_Saisie[Financeur],T_Financeurs[[#This Row],[Financeurs]]) -> 0 | H5: =SUMIFS(T_Saisie[Durée (heures)],T_Saisie[Mois],T_Financeurs[[#Headers],[Juillet]],T_Saisie[Financeur],T_Financeurs[[#This Row],[Financeurs]]) -> 0 | I5: =SUMIFS(T_Saisie[Durée (heures)],T_Saisie[Mois],T_Financeurs[[#Headers],[Août]],T_Saisie[Financeur],T_Financeurs[[#This Row],[Financeurs]]) -> 0 | J5: =SUMIFS(T_Saisie[Durée (heures)],T_Saisie[Mois],T_Financeurs[[#Headers],[Septembre]],T_Saisie[Financeur],T_Financeurs[[#This Row],[Financeurs]]) -> 0 | K5: =SUMIFS(T_Saisie[Durée (heures)],T_Saisie[Mois],T_Financeurs[[#Headers],[Octobre]],T_Saisie[Financeur],T_Financeurs[[#This Row],[Financeurs]]) -> 0 | L5: =SUMIFS(T_Saisie[Durée (heures)],T_Saisie[Mois],T_Financeurs[[#Headers],[Novembre]],T_Saisie[Financeur],T_Financeurs[[#This Row],[Financeurs]]) -> 0 | M5: =SUMIFS(T_Saisie[Durée (heures)],T_Saisie[Mois],T_Financeurs[[#Headers],[Décembre]],T_Saisie[Financeur],T_Financeurs[[#This Row],[Financeurs]]) -> 0 | N5: =SUMIFS(T_Saisie[Durée (heures)],T_Saisie[Financeur],T_Financeurs[[#This Row],[Financeurs]]) -> 0.041666667
A6: FDVA1 | B6: =SUMIFS(T_Saisie[Durée (heures)],T_Saisie[Mois],T_Financeurs[[#Headers],[Janvier]],T_Saisie[Financeur],T_Financeurs[[#This Row],[Financeurs]]) -> 0 | C6: =SUMIFS(T_Saisie[Durée (heures)],T_Saisie[Mois],T_Financeurs[[#Headers],[Février]],T_Saisie[Financeur],T_Financeurs[[#This Row],[Financeurs]]) -> 0 | D6: =SUMIFS(T_Saisie[Durée (heures)],T_Saisie[Mois],T_Financeurs[[#Headers],[Mars]],T_Saisie[Financeur],T_Financeurs[[#This Row],[Financeurs]]) -> 0 | E6: =SUMIFS(T_Saisie[Durée (heures)],T_Saisie[Mois],T_Financeurs[[#Headers],[Avril]],T_Saisie[Financeur],T_Financeurs[[#This Row],[Financeurs]]) -> 0 | F6: =SUMIFS(T_Saisie[Durée (heures)],T_Saisie[Mois],T_Financeurs[[#Headers],[Mai]],T_Saisie[Financeur],T_Financeurs[[#This Row],[Financeurs]]) -> 0 | G6: =SUMIFS(T_Saisie[Durée (heures)],T_Saisie[Mois],T_Financeurs[[#Headers],[Juin]],T_Saisie[Financeur],T_Financeurs[[#This Row],[Financeurs]]) -> 0 | H6: =SUMIFS(T_Saisie[Durée (heures)],T_Saisie[Mois],T_Financeurs[[#Headers],[Juillet]],T_Saisie[Financeur],T_Financeurs[[#This Row],[Financeurs]]) -> 0 | I6: =SUMIFS(T_Saisie[Durée (heures)],T_Saisie[Mois],T_Financeurs[[#Headers],[Août]],T_Saisie[Financeur],T_Financeurs[[#This Row],[Financeurs]]) -> 0 | J6: =SUMIFS(T_Saisie[Durée (heures)],T_Saisie[Mois],T_Financeurs[[#Headers],[Septembre]],T_Saisie[Financeur],T_Financeurs[[#This Row],[Financeurs]]) -> 0 | K6: =SUMIFS(T_Saisie[Durée (heures)],T_Saisie[Mois],T_Financeurs[[#Headers],[Octobre]],T_Saisie[Financeur],T_Financeurs[[#This Row],[Financeurs]]) -> 0 | L6: =SUMIFS(T_Saisie[Durée (heures)],T_Saisie[Mois],T_Financeurs[[#Headers],[Novembre]],T_Saisie[Financeur],T_Financeurs[[#This Row],[Financeurs]]) -> 0 | M6: =SUMIFS(T_Saisie[Durée (heures)],T_Saisie[Mois],T_Financeurs[[#Headers],[Décembre]],T_Saisie[Financeur],T_Financeurs[[#This Row],[Financeurs]]) -> 0 | N6: =SUMIFS(T_Saisie[Durée (heures)],T_Saisie[Financeur],T_Financeurs[[#This Row],[Financeurs]]) -> 0
A7: FDVA2 | B7: =SUMIFS(T_Saisie[Durée (heures)],T_Saisie[Mois],T_Financeurs[[#Headers],[Janvier]],T_Saisie[Financeur],T_Financeurs[[#This Row],[Financeurs]]) -> 0 | C7: =SUMIFS(T_Saisie[Durée (heures)],T_Saisie[Mois],T_Financeurs[[#Headers],[Février]],T_Saisie[Financeur],T_Financeurs[[#This Row],[Financeurs]]) -> 0 | D7: =SUMIFS(T_Saisie[Durée (heures)],T_Saisie[Mois],T_Financeurs[[#Headers],[Mars]],T_Saisie[Financeur],T_Financeurs[[#This Row],[Financeurs]]) -> 0 | E7: =SUMIFS(T_Saisie[Durée (heures)],T_Saisie[Mois],T_Financeurs[[#Headers],[Avril]],T_Saisie[Financeur],T_Financeurs[[#This Row],[Financeurs]]) -> 0 | F7: =SUMIFS(T_Saisie[Durée (heures)],T_Saisie[Mois],T_Financeurs[[#Headers],[Mai]],T_Saisie[Financeur],T_Financeurs[[#This Row],[Financeurs]]) -> 0 | G7: =SUMIFS(T_Saisie[Durée (heures)],T_Saisie[Mois],T_Financeurs[[#Headers],[Juin]],T_Saisie[Financeur],T_Financeurs[[#This Row],[Financeurs]]) -> 0 | H7: =SUMIFS(T_Saisie[Durée (heures)],T_Saisie[Mois],T_Financeurs[[#Headers],[Juillet]],T_Saisie[Financeur],T_Financeurs[[#This Row],[Financeurs]]) -> 0 | I7: =SUMIFS(T_Saisie[Durée (heures)],T_Saisie[Mois],T_Financeurs[[#Headers],[Août]],T_Saisie[Financeur],T_Financeurs[[#This Row],[Financeurs]]) -> 0 | J7: =SUMIFS(T_Saisie[Durée (heures)],T_Saisie[Mois],T_Financeurs[[#Headers],[Septembre]],T_Saisie[Financeur],T_Financeurs[[#This Row],[Financeurs]]) -> 0 | K7: =SUMIFS(T_Saisie[Durée (heures)],T_Saisie[Mois],T_Financeurs[[#Headers],[Octobre]],T_Saisie[Financeur],T_Financeurs[[#This Row],[Financeurs]]) -> 0 | L7: =SUMIFS(T_Saisie[Durée (heures)],T_Saisie[Mois],T_Financeurs[[#Headers],[Novembre]],T_Saisie[Financeur],T_Financeurs[[#This Row],[Financeurs]]) -> 0 | M7: =SUMIFS(T_Saisie[Durée (heures)],T_Saisie[Mois],T_Financeurs[[#Headers],[Décembre]],T_Saisie[Financeur],T_Financeurs[[#This Row],[Financeurs]]) -> 0 | N7: =SUMIFS(T_Saisie[Durée (heures)],T_Saisie[Financeur],T_Financeurs[[#This Row],[Financeurs]]) -> 0
A8: Métropole de Lyon | B8: =SUMIFS(T_Saisie[Durée (heures)],T_Saisie[Mois],T_Financeurs[[#Headers],[Janvier]],T_Saisie[Financeur],T_Financeurs[[#This Row],[Financeurs]]) -> 0 | C8: =SUMIFS(T_Saisie[Durée (heures)],T_Saisie[Mois],T_Financeurs[[#Headers],[Février]],T_Saisie[Financeur],T_Financeurs[[#This Row],[Financeurs]]) -> 0 | D8: =SUMIFS(T_Saisie[Durée (heures)],T_Saisie[Mois],T_Financeurs[[#Headers],[Mars]],T_Saisie[Financeur],T_Financeurs[[#This Row],[Financeurs]]) -> 0 | E8: =SUMIFS(T_Saisie[Durée (heures)],T_Saisie[Mois],T_Financeurs[[#Headers],[Avril]],T_Saisie[Financeur],T_Financeurs[[#This Row],[Financeurs]]) -> 0 | F8: =SUMIFS(T_Saisie[Durée (heures)],T_Saisie[Mois],T_Financeurs[[#Headers],[Mai]],T_Saisie[Financeur],T_Financeurs[[#This Row],[Financeurs]]) -> 0 | G8: =SUMIFS(T_Saisie[Durée (heures)],T_Saisie[Mois],T_Financeurs[[#Headers],[Juin]],T_Saisie[Financeur],T_Financeurs[[#This Row],[Financeurs]]) -> 0 | H8: =SUMIFS(T_Saisie[Durée (heures)],T_Saisie[Mois],T_Financeurs[[#Headers],[Juillet]],T_Saisie[Financeur],T_Financeurs[[#This Row],[Financeurs]]) -> 0 | I8: =SUMIFS(T_Saisie[Durée (heures)],T_Saisie[Mois],T_Financeurs[[#Headers],[Août]],T_Saisie[Financeur],T_Financeurs[[#This Row],[Financeurs]]) -> 0 | J8: =SUMIFS(T_Saisie[Durée (heures)],T_Saisie[Mois],T_Financeurs[[#Headers],[Septembre]],T_Saisie[Financeur],T_Financeurs[[#This Row],[Financeurs]]) -> 0 | K8: =SUMIFS(T_Saisie[Durée (heures)],T_Saisie[Mois],T_Financeurs[[#Headers],[Octobre]],T_Saisie[Financeur],T_Financeurs[[#This Row],[Financeurs]]) -> 0 | L8: =SUMIFS(T_Saisie[Durée (heures)],T_Saisie[Mois],T_Financeurs[[#Headers],[Novembre]],T_Saisie[Financeur],T_Financeurs[[#This Row],[Financeurs]]) -> 0 | M8: =SUMIFS(T_Saisie[Durée (heures)],T_Saisie[Mois],T_Financeurs[[#Headers],[Décembre]],T_Saisie[Financeur],T_Financeurs[[#This Row],[Financeurs]]) -> 0 | N8: =SUMIFS(T_Saisie[Durée (heures)],T_Saisie[Financeur],T_Financeurs[[#This Row],[Financeurs]]) -> 0
A13: Taches | B13: Janvier | C13: Février | D13: Mars | E13: Avril | F13: Mai | G13: Juin | H13: Juillet | I13: Août | J13: Septembre | K13: Octobre | L13: Novembre | M13: Décembre | N13: Total Année
A14: Administratif | B14: =SUMIFS(T_Saisie[Durée (heures)],T_Saisie[Tâche],T_Tache[[#This Row],[Taches]],T_Saisie[Mois],T_Tache[[#Headers],[Janvier]]) -> 1.125 | C14: =SUMIFS(T_Saisie[Durée (heures)],T_Saisie[Tâche],T_Tache[[#This Row],[Taches]],T_Saisie[Mois],T_Tache[[#Headers],[Février]]) -> 0.22916667 | D14: =SUMIFS(T_Saisie[Durée (heures)],T_Saisie[Tâche],T_Tache[[#This Row],[Taches]],T_Saisie[Mois],T_Tache[[#Headers],[Mars]]) -> 0 | E14: =SUMIFS(T_Saisie[Durée (heures)],T_Saisie[Tâche],T_Tache[[#This Row],[Taches]],T_Saisie[Mois],T_Tache[[#Headers],[Avril]]) -> 0 | F14: =SUMIFS(T_Saisie[Durée (heures)],T_Saisie[Tâche],T_Tache[[#This Row],[Taches]],T_Saisie[Mois],T_Tache[[#Headers],[Mai]]) -> 0 | G14: =SUMIFS(T_Saisie[Durée (heures)],T_Saisie[Tâche],T_Tache[[#This Row],[Taches]],T_Saisie[Mois],T_Tache[[#Headers],[Juin]]) -> 0 | H14: =SUMIFS(T_Saisie[Durée (heures)],T_Saisie[Tâche],T_Tache[[#This Row],[Taches]],T_Saisie[Mois],T_Tache[[#Headers],[Juillet]]) -> 0 | I14: =SUMIFS(T_Saisie[Durée (heures)],T_Saisie[Tâche],T_Tache[[#This Row],[Taches]],T_Saisie[Mois],T_Tache[[#Headers],[Août]]) -> 0 | J14: =SUMIFS(T_Saisie[Durée (heures)],T_Saisie[Tâche],T_Tache[[#This Row],[Taches]],T_Saisie[Mois],T_Tache[[#Headers],[Septembre]]) -> 0 | K14: =SUMIFS(T_Saisie[Durée (heures)],T_Saisie[Tâche],T_Tache[[#This Row],[Taches]],T_Saisie[Mois],T_Tache[[#Headers],[Octobre]]) -> 0 | L14: =SUMIFS(T_Saisie[Durée (heures)],T_Saisie[Tâche],T_Tache[[#This Row],[Taches]],T_Saisie[Mois],T_Tache[[#Headers],[Novembre]]) -> 0 | M14: =SUMIFS(T_Saisie[Durée (heures)],T_Saisie[Tâche],T_Tache[[#This Row],[Taches]],T_Saisie[Mois],T_Tache[[#Headers],[Décembre]]) -> 0 | N14: =SUMIF(T_Saisie[Tâche],T_Tache[[#This Row],[Taches]],T_Saisie[Durée (heures)]) -> 1.3541667
A15: Comptabilité | B15: =SUMIFS(T_Saisie[Durée (heures)],T_Saisie[Tâche],T_Tache[[#This Row],[Taches]],T_Saisie[Mois],T_Tache[[#Headers],[Janvier]]) -> 0 | C15: =SUMIFS(T_Saisie[Durée (heures)],T_Saisie[Tâche],T_Tache[[#This Row],[Taches]],T_Saisie[Mois],T_Tache[[#Headers],[Février]]) -> 0 | D15: =SUMIFS(T_Saisie[Durée (heures)],T_Saisie[Tâche],T_Tache[[#This Row],[Taches]],T_Saisie[Mois],T_Tache[[#Headers],[Mars]]) -> 0 | E15: =SUMIFS(T_Saisie[Durée (heures)],T_Saisie[Tâche],T_Tache[[#This Row],[Taches]],T_Saisie[Mois],T_Tache[[#Headers],[Avril]]) -> 0 | F15: =SUMIFS(T_Saisie[Durée (heures)],T_Saisie[Tâche],T_Tache[[#This Row],[Taches]],T_Saisie[Mois],T_Tache[[#Headers],[Mai]]) -> 0 | G15: =SUMIFS(T_Saisie[Durée (heures)],T_Saisie[Tâche],T_Tache[[#This Row],[Taches]],T_Saisie[Mois],T_Tache[[#Headers],[Juin]]) -> 0 | H15: =SUMIFS(T_Saisie[Durée (heures)],T_Saisie[Tâche],T_Tache[[#This Row],[Taches]],T_Saisie[Mois],T_Tache[[#Headers],[Juillet]]) -> 0 | I15: =SUMIFS(T_Saisie[Durée (heures)],T_Saisie[Tâche],T_Tache[[#This Row],[Taches]],T_Saisie[Mois],T_Tache[[#Headers],[Août]]) -> 0 | J15: =SUMIFS(T_Saisie[Durée (heures)],T_Saisie[Tâche],T_Tache[[#This Row],[Taches]],T_Saisie[Mois],T_Tache[[#Headers],[Septembre]]) -> 0 | K15: =SUMIFS(T_Saisie[Durée (heures)],T_Saisie[Tâche],T_Tache[[#This Row],[Taches]],T_Saisie[Mois],T_Tache[[#Headers],[Octobre]]) -> 0 | L15: =SUMIFS(T_Saisie[Durée (heures)],T_Saisie[Tâche],T_Tache[[#This Row],[Taches]],T_Saisie[Mois],T_Tache[[#Headers],[Novembre]]) -> 0 | M15: =SUMIFS(T_Saisie[Durée (heures)],T_Saisie[Tâche],T_Tache[[#This Row],[Taches]],T_Saisie[Mois],T_Tache[[#Headers],[Décembre]]) -> 0 | N15: =SUMIF(T_Saisie[Tâche],T_Tache[[#This Row],[Taches]],T_Saisie[Durée (heures)]) -> 0
A16: Recherche de fonds | B16: =SUMIFS(T_Saisie[Durée (heures)],T_Saisie[Tâche],T_Tache[[#This Row],[Taches]],T_Saisie[Mois],T_Tache[[#Headers],[Janvier]]) -> 0 | C16: =SUMIFS(T_Saisie[Durée (heures)],T_Saisie[Tâche],T_Tache[[#This Row],[Taches]],T_Saisie[Mois],T_Tache[[#Headers],[Février]]) -> 0 | D16: =SUMIFS(T_Saisie[Durée (heures)],T_Saisie[Tâche],T_Tache[[#This Row],[Taches]],T_Saisie[Mois],T_Tache[[#Headers],[Mars]]) -> 0 | E16: =SUMIFS(T_Saisie[Durée (heures)],T_Saisie[Tâche],T_Tache[[#This Row],[Taches]],T_Saisie[Mois],T_Tache[[#Headers],[Avril]]) -> 0 | F16: =SUMIFS(T_Saisie[Durée (heures)],T_Saisie[Tâche],T_Tache[[#This Row],[Taches]],T_Saisie[Mois],T_Tache[[#Headers],[Mai]]) -> 0 | G16: =SUMIFS(T_Saisie[Durée (heures)],T_Saisie[Tâche],T_Tache[[#This Row],[Taches]],T_Saisie[Mois],T_Tache[[#Headers],[Juin]]) -> 0 | H16: =SUMIFS(T_Saisie[Durée (heures)],T_Saisie[Tâche],T_Tache[[#This Row],[Taches]],T_Saisie[Mois],T_Tache[[#Headers],[Juillet]]) -> 0 | I16: =SUMIFS(T_Saisie[Durée (heures)],T_Saisie[Tâche],T_Tache[[#This Row],[Taches]],T_Saisie[Mois],T_Tache[[#Headers],[Août]]) -> 0 | J16: =SUMIFS(T_Saisie[Durée (heures)],T_Saisie[Tâche],T_Tache[[#This Row],[Taches]],T_Saisie[Mois],T_Tache[[#Headers],[Septembre]]) -> 0 | K16: =SUMIFS(T_Saisie[Durée (heures)],T_Saisie[Tâche],T_Tache[[#This Row],[Taches]],T_Saisie[Mois],T_Tache[[#Headers],[Octobre]]) -> 0 | L16: =SUMIFS(T_Saisie[Durée (heures)],T_Saisie[Tâche],T_Tache[[#This Row],[Taches]],T_Saisie[Mois],T_Tache[[#Headers],[Novembre]]) -> 0 | M16: =SUMIFS(T_Saisie[Durée (heures)],T_Saisie[Tâche],T_Tache[[#This Row],[Taches]],T_Saisie[Mois],T_Tache[[#Headers],[Décembre]]) -> 0 | N16: =SUMIF(T_Saisie[Tâche],T_Tache[[#This Row],[Taches]],T_Saisie[Durée (heures)]) -> 0
A17: Logistique stage | B17: =SUMIFS(T_Saisie[Durée (heures)],T_Saisie[Tâche],T_Tache[[#This Row],[Taches]],T_Saisie[Mois],T_Tache[[#Headers],[Janvier]]) -> 0 | C17: =SUMIFS(T_Saisie[Durée (heures)],T_Saisie[Tâche],T_Tache[[#This Row],[Taches]],T_Saisie[Mois],T_Tache[[#Headers],[Février]]) -> 0 | D17: =SUMIFS(T_Saisie[Durée (heures)],T_Saisie[Tâche],T_Tache[[#This Row],[Taches]],T_Saisie[Mois],T_Tache[[#Headers],[Mars]]) -> 0 | E17: =SUMIFS(T_Saisie[Durée (heures)],T_Saisie[Tâche],T_Tache[[#This Row],[Taches]],T_Saisie[Mois],T_Tache[[#Headers],[Avril]]) -> 0 | F17: =SUMIFS(T_Saisie[Durée (heures)],T_Saisie[Tâche],T_Tache[[#This Row],[Taches]],T_Saisie[Mois],T_Tache[[#Headers],[Mai]]) -> 0 | G17: =SUMIFS(T_Saisie[Durée (heures)],T_Saisie[Tâche],T_Tache[[#This Row],[Taches]],T_Saisie[Mois],T_Tache[[#Headers],[Juin]]) -> 0 | H17: =SUMIFS(T_Saisie[Durée (heures)],T_Saisie[Tâche],T_Tache[[#This Row],[Taches]],T_Saisie[Mois],T_Tache[[#Headers],[Juillet]]) -> 0 | I17: =SUMIFS(T_Saisie[Durée (heures)],T_Saisie[Tâche],T_Tache[[#This Row],[Taches]],T_Saisie[Mois],T_Tache[[#Headers],[Août]]) -> 0 | J17: =SUMIFS(T_Saisie[Durée (heures)],T_Saisie[Tâche],T_Tache[[#This Row],[Taches]],T_Saisie[Mois],T_Tache[[#Headers],[Septembre]]) -> 0 | K17: =SUMIFS(T_Saisie[Durée (heures)],T_Saisie[Tâche],T_Tache[[#This Row],[Taches]],T_Saisie[Mois],T_Tache[[#Headers],[Octobre]]) -> 0 | L17: =SUMIFS(T_Saisie[Durée (heures)],T_Saisie[Tâche],T_Tache[[#This Row],[Taches]],T_Saisie[Mois],T_Tache[[#Headers],[Novembre]]) -> 0 | M17: =SUMIFS(T_Saisie[Durée (heures)],T_Saisie[Tâche],T_Tache[[#This Row],[Taches]],T_Saisie[Mois],T_Tache[[#Headers],[Décembre]]) -> 0 | N17: =SUMIF(T_Saisie[Tâche],T_Tache[[#This Row],[Taches]],T_Saisie[Durée (heures)]) -> 0
A18: Animation stage | B18: =SUMIFS(T_Saisie[Durée (heures)],T_Saisie[Tâche],T_Tache[[#This Row],[Taches]],T_Saisie[Mois],T_Tache[[#Headers],[Janvier]]) -> 0 | C18: =SUMIFS(T_Saisie[Durée (heures)],T_Saisie[Tâche],T_Tache[[#This Row],[Taches]],T_Saisie[Mois],T_Tache[[#Headers],[Février]]) -> 0 | D18: =SUMIFS(T_Saisie[Durée (heures)],T_Saisie[Tâche],T_Tache[[#This Row],[Taches]],T_Saisie[Mois],T_Tache[[#Headers],[Mars]]) -> 0 | E18: =SUMIFS(T_Saisie[Durée (heures)],T_Saisie[Tâche],T_Tache[[#This Row],[Taches]],T_Saisie[Mois],T_Tache[[#Headers],[Avril]]) -> 0 | F18: =SUMIFS(T_Saisie[Durée (heures)],T_Saisie[Tâche],T_Tache[[#This Row],[Taches]],T_Saisie[Mois],T_Tache[[#Headers],[Mai]]) -> 0 | G18: =SUMIFS(T_Saisie[Durée (heures)],T_Saisie[Tâche],T_Tache[[#This Row],[Taches]],T_Saisie[Mois],T_Tache[[#Headers],[Juin]]) -> 0 | H18: =SUMIFS(T_Saisie[Durée (heures)],T_Saisie[Tâche],T_Tache[[#This Row],[Taches]],T_Saisie[Mois],T_Tache[[#Headers],[Juillet]]) -> 0 | I18: =SUMIFS(T_Saisie[Durée (heures)],T_Saisie[Tâche],T_Tache[[#This Row],[Taches]],T_Saisie[Mois],T_Tache[[#Headers],[Août]]) -> 0 | J18: =SUMIFS(T_Saisie[Durée (heures)],T_Saisie[Tâche],T_Tache[[#This Row],[Taches]],T_Saisie[Mois],T_Tache[[#Headers],[Septembre]]) -> 0 | K18: =SUMIFS(T_Saisie[Durée (heures)],T_Saisie[Tâche],T_Tache[[#This Row],[Taches]],T_Saisie[Mois],T_Tache[[#Headers],[Octobre]]) -> 0 | L18: =SUMIFS(T_Saisie[Durée (heures)],T_Saisie[Tâche],T_Tache[[#This Row],[Taches]],T_Saisie[Mois],T_Tache[[#Headers],[Novembre]]) -> 0 | M18: =SUMIFS(T_Saisie[Durée (heures)],T_Saisie[Tâche],T_Tache[[#This Row],[Taches]],T_Saisie[Mois],T_Tache[[#Headers],[Décembre]]) -> 0 | N18: =SUMIF(T_Saisie[Tâche],T_Tache[[#This Row],[Taches]],T_Saisie[Durée (heures)]) -> 0
A19: Coordination stage | B19: =SUMIFS(T_Saisie[Durée (heures)],T_Saisie[Tâche],T_Tache[[#This Row],[Taches]],T_Saisie[Mois],T_Tache[[#Headers],[Janvier]]) -> 0 | C19: =SUMIFS(T_Saisie[Durée (heures)],T_Saisie[Tâche],T_Tache[[#This Row],[Taches]],T_Saisie[Mois],T_Tache[[#Headers],[Février]]) -> 0 | D19: =SUMIFS(T_Saisie[Durée (heures)],T_Saisie[Tâche],T_Tache[[#This Row],[Taches]],T_Saisie[Mois],T_Tache[[#Headers],[Mars]]) -> 0 | E19: =SUMIFS(T_Saisie[Durée (heures)],T_Saisie[Tâche],T_Tache[[#This Row],[Taches]],T_Saisie[Mois],T_Tache[[#Headers],[Avril]]) -> 0 | F19: =SUMIFS(T_Saisie[Durée (heures)],T_Saisie[Tâche],T_Tache[[#This Row],[Taches]],T_Saisie[Mois],T_Tache[[#Headers],[Mai]]) -> 0 | G19: =SUMIFS(T_Saisie[Durée (heures)],T_Saisie[Tâche],T_Tache[[#This Row],[Taches]],T_Saisie[Mois],T_Tache[[#Headers],[Juin]]) -> 0 | H19: =SUMIFS(T_Saisie[Durée (heures)],T_Saisie[Tâche],T_Tache[[#This Row],[Taches]],T_Saisie[Mois],T_Tache[[#Headers],[Juillet]]) -> 0 | I19: =SUMIFS(T_Saisie[Durée (heures)],T_Saisie[Tâche],T_Tache[[#This Row],[Taches]],T_Saisie[Mois],T_Tache[[#Headers],[Août]]) -> 0 | J19: =SUMIFS(T_Saisie[Durée (heures)],T_Saisie[Tâche],T_Tache[[#This Row],[Taches]],T_Saisie[Mois],T_Tache[[#Headers],[Septembre]]) -> 0 | K19: =SUMIFS(T_Saisie[Durée (heures)],T_Saisie[Tâche],T_Tache[[#This Row],[Taches]],T_Saisie[Mois],T_Tache[[#Headers],[Octobre]]) -> 0 | L19: =SUMIFS(T_Saisie[Durée (heures)],T_Saisie[Tâche],T_Tache[[#This Row],[Taches]],T_Saisie[Mois],T_Tache[[#Headers],[Novembre]]) -> 0 | M19: =SUMIFS(T_Saisie[Durée (heures)],T_Saisie[Tâche],T_Tache[[#This Row],[Taches]],T_Saisie[Mois],T_Tache[[#Headers],[Décembre]]) -> 0 | N19: =SUMIF(T_Saisie[Tâche],T_Tache[[#This Row],[Taches]],T_Saisie[Durée (heures)]) -> 0
A20: AG | B20: =SUMIFS(T_Saisie[Durée (heures)],T_Saisie[Tâche],T_Tache[[#This Row],[Taches]],T_Saisie[Mois],T_Tache[[#Headers],[Janvier]]) -> 0 | C20: =SUMIFS(T_Saisie[Durée (heures)],T_Saisie[Tâche],T_Tache[[#This Row],[Taches]],T_Saisie[Mois],T_Tache[[#Headers],[Février]]) -> 0 | D20: =SUMIFS(T_Saisie[Durée (heures)],T_Saisie[Tâche],T_Tache[[#This Row],[Taches]],T_Saisie[Mois],T_Tache[[#Headers],[Mars]]) -> 0 | E20: =SUMIFS(T_Saisie[Durée (heures)],T_Saisie[Tâche],T_Tache[[#This Row],[Taches]],T_Saisie[Mois],T_Tache[[#Headers],[Avril]]) -> 0 | F20: =SUMIFS(T_Saisie[Durée (heures)],T_Saisie[Tâche],T_Tache[[#This Row],[Taches]],T_Saisie[Mois],T_Tache[[#Headers],[Mai]]) -> 0 | G20: =SUMIFS(T_Saisie[Durée (heures)],T_Saisie[Tâche],T_Tache[[#This Row],[Taches]],T_Saisie[Mois],T_Tache[[#Headers],[Juin]]) -> 0 | H20: =SUMIFS(T_Saisie[Durée (heures)],T_Saisie[Tâche],T_Tache[[#This Row],[Taches]],T_Saisie[Mois],T_Tache[[#Headers],[Juillet]]) -> 0 | I20: =SUMIFS(T_Saisie[Durée (heures)],T_Saisie[Tâche],T_Tache[[#This Row],[Taches]],T_Saisie[Mois],T_Tache[[#Headers],[Août]]) -> 0 | J20: =SUMIFS(T_Saisie[Durée (heures)],T_Saisie[Tâche],T_Tache[[#This Row],[Taches]],T_Saisie[Mois],T_Tache[[#Headers],[Septembre]]) -> 0 | K20: =SUMIFS(T_Saisie[Durée (heures)],T_Saisie[Tâche],T_Tache[[#This Row],[Taches]],T_Saisie[Mois],T_Tache[[#Headers],[Octobre]]) -> 0 | L20: =SUMIFS(T_Saisie[Durée (heures)],T_Saisie[Tâche],T_Tache[[#This Row],[Taches]],T_Saisie[Mois],T_Tache[[#Headers],[Novembre]]) -> 0 | M20: =SUMIFS(T_Saisie[Durée (heures)],T_Saisie[Tâche],T_Tache[[#This Row],[Taches]],T_Saisie[Mois],T_Tache[[#Headers],[Décembre]]) -> 0 | N20: =SUMIF(T_Saisie[Tâche],T_Tache[[#This Row],[Taches]],T_Saisie[Durée (heures)]) -> 0
A21: Réunion d’équipe | B21: =SUMIFS(T_Saisie[Durée (heures)],T_Saisie[Tâche],T_Tache[[#This Row],[Taches]],T_Saisie[Mois],T_Tache[[#Headers],[Janvier]]) -> 0 | C21: =SUMIFS(T_Saisie[Durée (heures)],T_Saisie[Tâche],T_Tache[[#This Row],[Taches]],T_Saisie[Mois],T_Tache[[#Headers],[Février]]) -> 0 | D21: =SUMIFS(T_Saisie[Durée (heures)],T_Saisie[Tâche],T_Tache[[#This Row],[Taches]],T_Saisie[Mois],T_Tache[[#Headers],[Mars]]) -> 0 | E21: =SUMIFS(T_Saisie[Durée (heures)],T_Saisie[Tâche],T_Tache[[#This Row],[Taches]],T_Saisie[Mois],T_Tache[[#Headers],[Avril]]) -> 0 | F21: =SUMIFS(T_Saisie[Durée (heures)],T_Saisie[Tâche],T_Tache[[#This Row],[Taches]],T_Saisie[Mois],T_Tache[[#Headers],[Mai]]) -> 0 | G21: =SUMIFS(T_Saisie[Durée (heures)],T_Saisie[Tâche],T_Tache[[#This Row],[Taches]],T_Saisie[Mois],T_Tache[[#Headers],[Juin]]) -> 0 | H21: =SUMIFS(T_Saisie[Durée (heures)],T_Saisie[Tâche],T_Tache[[#This Row],[Taches]],T_Saisie[Mois],T_Tache[[#Headers],[Juillet]]) -> 0 | I21: =SUMIFS(T_Saisie[Durée (heures)],T_Saisie[Tâche],T_Tache[[#This Row],[Taches]],T_Saisie[Mois],T_Tache[[#Headers],[Août]]) -> 0 | J21: =SUMIFS(T_Saisie[Durée (heures)],T_Saisie[Tâche],T_Tache[[#This Row],[Taches]],T_Saisie[Mois],T_Tache[[#Headers],[Septembre]]) -> 0 | K21: =SUMIFS(T_Saisie[Durée (heures)],T_Saisie[Tâche],T_Tache[[#This Row],[Taches]],T_Saisie[Mois],T_Tache[[#Headers],[Octobre]]) -> 0 | L21: =SUMIFS(T_Saisie[Durée (heures)],T_Saisie[Tâche],T_Tache[[#This Row],[Taches]],T_Saisie[Mois],T_Tache[[#Headers],[Novembre]]) -> 0 | M21: =SUMIFS(T_Saisie[Durée (heures)],T_Saisie[Tâche],T_Tache[[#This Row],[Taches]],T_Saisie[Mois],T_Tache[[#Headers],[Décembre]]) -> 0 | N21: =SUMIF(T_Saisie[Tâche],T_Tache[[#This Row],[Taches]],T_Saisie[Durée (heures)]) -> 0
A22: Réunion collège | B22: =SUMIFS(T_Saisie[Durée (heures)],T_Saisie[Tâche],T_Tache[[#This Row],[Taches]],T_Saisie[Mois],T_Tache[[#Headers],[Janvier]]) -> 0 | C22: =SUMIFS(T_Saisie[Durée (heures)],T_Saisie[Tâche],T_Tache[[#This Row],[Taches]],T_Saisie[Mois],T_Tache[[#Headers],[Février]]) -> 0 | D22: =SUMIFS(T_Saisie[Durée (heures)],T_Saisie[Tâche],T_Tache[[#This Row],[Taches]],T_Saisie[Mois],T_Tache[[#Headers],[Mars]]) -> 0 | E22: =SUMIFS(T_Saisie[Durée (heures)],T_Saisie[Tâche],T_Tache[[#This Row],[Taches]],T_Saisie[Mois],T_Tache[[#Headers],[Avril]]) -> 0 | F22: =SUMIFS(T_Saisie[Durée (heures)],T_Saisie[Tâche],T_Tache[[#This Row],[Taches]],T_Saisie[Mois],T_Tache[[#Headers],[Mai]]) -> 0 | G22: =SUMIFS(T_Saisie[Durée (heures)],T_Saisie[Tâche],T_Tache[[#This Row],[Taches]],T_Saisie[Mois],T_Tache[[#Headers],[Juin]]) -> 0 | H22: =SUMIFS(T_Saisie[Durée (heures)],T_Saisie[Tâche],T_Tache[[#This Row],[Taches]],T_Saisie[Mois],T_Tache[[#Headers],[Juillet]]) -> 0 | I22: =SUMIFS(T_Saisie[Durée (heures)],T_Saisie[Tâche],T_Tache[[#This Row],[Taches]],T_Saisie[Mois],T_Tache[[#Headers],[Août]]) -> 0 | J22: =SUMIFS(T_Saisie[Durée (heures)],T_Saisie[Tâche],T_Tache[[#This Row],[Taches]],T_Saisie[Mois],T_Tache[[#Headers],[Septembre]]) -> 0 | K22: =SUMIFS(T_Saisie[Durée (heures)],T_Saisie[Tâche],T_Tache[[#This Row],[Taches]],T_Saisie[Mois],T_Tache[[#Headers],[Octobre]]) -> 0 | L22: =SUMIFS(T_Saisie[Durée (heures)],T_Saisie[Tâche],T_Tache[[#This Row],[Taches]],T_Saisie[Mois],T_Tache[[#Headers],[Novembre]]) -> 0 | M22: =SUMIFS(T_Saisie[Durée (heures)],T_Saisie[Tâche],T_Tache[[#This Row],[Taches]],T_Saisie[Mois],T_Tache[[#Headers],[Décembre]]) -> 0 | N22: =SUMIF(T_Saisie[Tâche],T_Tache[[#This Row],[Taches]],T_Saisie[Durée (heures)]) -> 0
A23: Ménage | B23: =SUMIFS(T_Saisie[Durée (heures)],T_Saisie[Tâche],T_Tache[[#This Row],[Taches]],T_Saisie[Mois],T_Tache[[#Headers],[Janvier]]) -> 0 | C23: =SUMIFS(T_Saisie[Durée (heures)],T_Saisie[Tâche],T_Tache[[#This Row],[Taches]],T_Saisie[Mois],T_Tache[[#Headers],[Février]]) -> 0 | D23: =SUMIFS(T_Saisie[Durée (heures)],T_Saisie[Tâche],T_Tache[[#This Row],[Taches]],T_Saisie[Mois],T_Tache[[#Headers],[Mars]]) -> 0 | E23: =SUMIFS(T_Saisie[Durée (heures)],T_Saisie[Tâche],T_Tache[[#This Row],[Taches]],T_Saisie[Mois],T_Tache[[#Headers],[Avril]]) -> 0 | F23: =SUMIFS(T_Saisie[Durée (heures)],T_Saisie[Tâche],T_Tache[[#This Row],[Taches]],T_Saisie[Mois],T_Tache[[#Headers],[Mai]]) -> 0 | G23: =SUMIFS(T_Saisie[Durée (heures)],T_Saisie[Tâche],T_Tache[[#This Row],[Taches]],T_Saisie[Mois],T_Tache[[#Headers],[Juin]]) -> 0 | H23: =SUMIFS(T_Saisie[Durée (heures)],T_Saisie[Tâche],T_Tache[[#This Row],[Taches]],T_Saisie[Mois],T_Tache[[#Headers],[Juillet]]) -> 0 | I23: =SUMIFS(T_Saisie[Durée (heures)],T_Saisie[Tâche],T_Tache[[#This Row],[Taches]],T_Saisie[Mois],T_Tache[[#Headers],[Août]]) -> 0 | J23: =SUMIFS(T_Saisie[Durée (heures)],T_Saisie[Tâche],T_Tache[[#This Row],[Taches]],T_Saisie[Mois],T_Tache[[#Headers],[Septembre]]) -> 0 | K23: =SUMIFS(T_Saisie[Durée (heures)],T_Saisie[Tâche],T_Tache[[#This Row],[Taches]],T_Saisie[Mois],T_Tache[[#Headers],[Octobre]]) -> 0 | L23: =SUMIFS(T_Saisie[Durée (heures)],T_Saisie[Tâche],T_Tache[[#This Row],[Taches]],T_Saisie[Mois],T_Tache[[#Headers],[Novembre]]) -> 0 | M23: =SUMIFS(T_Saisie[Durée (heures)],T_Saisie[Tâche],T_Tache[[#This Row],[Taches]],T_Saisie[Mois],T_Tache[[#Headers],[Décembre]]) -> 0 | N23: =SUMIF(T_Saisie[Tâche],T_Tache[[#This Row],[Taches]],T_Saisie[Durée (heures)]) -> 0
A24: Travail de fond | B24: =SUMIFS(T_Saisie[Durée (heures)],T_Saisie[Tâche],T_Tache[[#This Row],[Taches]],T_Saisie[Mois],T_Tache[[#Headers],[Janvier]]) -> 0 | C24: =SUMIFS(T_Saisie[Durée (heures)],T_Saisie[Tâche],T_Tache[[#This Row],[Taches]],T_Saisie[Mois],T_Tache[[#Headers],[Février]]) -> 0 | D24: =SUMIFS(T_Saisie[Durée (heures)],T_Saisie[Tâche],T_Tache[[#This Row],[Taches]],T_Saisie[Mois],T_Tache[[#Headers],[Mars]]) -> 0 | E24: =SUMIFS(T_Saisie[Durée (heures)],T_Saisie[Tâche],T_Tache[[#This Row],[Taches]],T_Saisie[Mois],T_Tache[[#Headers],[Avril]]) -> 0 | F24: =SUMIFS(T_Saisie[Durée (heures)],T_Saisie[Tâche],T_Tache[[#This Row],[Taches]],T_Saisie[Mois],T_Tache[[#Headers],[Mai]]) -> 0 | G24: =SUMIFS(T_Saisie[Durée (heures)],T_Saisie[Tâche],T_Tache[[#This Row],[Taches]],T_Saisie[Mois],T_Tache[[#Headers],[Juin]]) -> 0 | H24: =SUMIFS(T_Saisie[Durée (heures)],T_Saisie[Tâche],T_Tache[[#This Row],[Taches]],T_Saisie[Mois],T_Tache[[#Headers],[Juillet]]) -> 0 | I24: =SUMIFS(T_Saisie[Durée (heures)],T_Saisie[Tâche],T_Tache[[#This Row],[Taches]],T_Saisie[Mois],T_Tache[[#Headers],[Août]]) -> 0 | J24: =SUMIFS(T_Saisie[Durée (heures)],T_Saisie[Tâche],T_Tache[[#This Row],[Taches]],T_Saisie[Mois],T_Tache[[#Headers],[Septembre]]) -> 0 | K24: =SUMIFS(T_Saisie[Durée (heures)],T_Saisie[Tâche],T_Tache[[#This Row],[Taches]],T_Saisie[Mois],T_Tache[[#Headers],[Octobre]]) -> 0 | L24: =SUMIFS(T_Saisie[Durée (heures)],T_Saisie[Tâche],T_Tache[[#This Row],[Taches]],T_Saisie[Mois],T_Tache[[#Headers],[Novembre]]) -> 0 | M24: =SUMIFS(T_Saisie[Durée (heures)],T_Saisie[Tâche],T_Tache[[#This Row],[Taches]],T_Saisie[Mois],T_Tache[[#Headers],[Décembre]]) -> 0 | N24: =SUMIF(T_Saisie[Tâche],T_Tache[[#This Row],[Taches]],T_Saisie[Durée (heures)]) -> 0
A25: Demande de subvention | B25: =SUMIFS(T_Saisie[Durée (heures)],T_Saisie[Tâche],T_Tache[[#This Row],[Taches]],T_Saisie[Mois],T_Tache[[#Headers],[Janvier]]) -> 0 | C25: =SUMIFS(T_Saisie[Durée (heures)],T_Saisie[Tâche],T_Tache[[#This Row],[Taches]],T_Saisie[Mois],T_Tache[[#Headers],[Février]]) -> 0 | D25: =SUMIFS(T_Saisie[Durée (heures)],T_Saisie[Tâche],T_Tache[[#This Row],[Taches]],T_Saisie[Mois],T_Tache[[#Headers],[Mars]]) -> 0 | E25: =SUMIFS(T_Saisie[Durée (heures)],T_Saisie[Tâche],T_Tache[[#This Row],[Taches]],T_Saisie[Mois],T_Tache[[#Headers],[Avril]]) -> 0 | F25: =SUMIFS(T_Saisie[Durée (heures)],T_Saisie[Tâche],T_Tache[[#This Row],[Taches]],T_Saisie[Mois],T_Tache[[#Headers],[Mai]]) -> 0 | G25: =SUMIFS(T_Saisie[Durée (heures)],T_Saisie[Tâche],T_Tache[[#This Row],[Taches]],T_Saisie[Mois],T_Tache[[#Headers],[Juin]]) -> 0 | H25: =SUMIFS(T_Saisie[Durée (heures)],T_Saisie[Tâche],T_Tache[[#This Row],[Taches]],T_Saisie[Mois],T_Tache[[#Headers],[Juillet]]) -> 0 | I25: =SUMIFS(T_Saisie[Durée (heures)],T_Saisie[Tâche],T_Tache[[#This Row],[Taches]],T_Saisie[Mois],T_Tache[[#Headers],[Août]]) -> 0 | J25: =SUMIFS(T_Saisie[Durée (heures)],T_Saisie[Tâche],T_Tache[[#This Row],[Taches]],T_Saisie[Mois],T_Tache[[#Headers],[Septembre]]) -> 0 | K25: =SUMIFS(T_Saisie[Durée (heures)],T_Saisie[Tâche],T_Tache[[#This Row],[Taches]],T_Saisie[Mois],T_Tache[[#Headers],[Octobre]]) -> 0 | L25: =SUMIFS(T_Saisie[Durée (heures)],T_Saisie[Tâche],T_Tache[[#This Row],[Taches]],T_Saisie[Mois],T_Tache[[#Headers],[Novembre]]) -> 0 | M25: =SUMIFS(T_Saisie[Durée (heures)],T_Saisie[Tâche],T_Tache[[#This Row],[Taches]],T_Saisie[Mois],T_Tache[[#Headers],[Décembre]]) -> 0 | N25: =SUMIF(T_Saisie[Tâche],T_Tache[[#This Row],[Taches]],T_Saisie[Durée (heures)]) -> 0
A29: Projets | B29: Janvier | C29: Février | D29: Mars | E29: Avril | F29: Mai | G29: Juin | H29: Juillet | I29: Août | J29: Septembre | K29: Octobre | L29: Novembre | M29: Décembre | N29: TOTAL Année
A30: Projet 1 | B30: =SUMIFS(T_Saisie[Durée (heures)],T_Saisie[Projet],T_Projets[[#This Row],[Projets]],T_Saisie[Mois],T_Projets[[#Headers],[Janvier]]) -> 0.16666667 | C30: =SUMIFS(T_Saisie[Durée (heures)],T_Saisie[Projet],T_Projets[[#This Row],[Projets]],T_Saisie[Mois],T_Projets[[#Headers],[Février]]) -> 0 | D30: =SUMIFS(T_Saisie[Durée (heures)],T_Saisie[Projet],T_Projets[[#This Row],[Projets]],T_Saisie[Mois],T_Projets[[#Headers],[Mars]]) -> 0 | E30: =SUMIFS(T_Saisie[Durée (heures)],T_Saisie[Projet],T_Projets[[#This Row],[Projets]],T_Saisie[Mois],T_Projets[[#Headers],[Avril]]) -> 0 | F30: =SUMIFS(T_Saisie[Durée (heures)],T_Saisie[Projet],T_Projets[[#This Row],[Projets]],T_Saisie[Mois],T_Projets[[#Headers],[Mai]]) -> 0 | G30: =SUMIFS(T_Saisie[Durée (heures)],T_Saisie[Projet],T_Projets[[#This Row],[Projets]],T_Saisie[Mois],T_Projets[[#Headers],[Juin]]) -> 0 | H30: =SUMIFS(T_Saisie[Durée (heures)],T_Saisie[Projet],T_Projets[[#This Row],[Projets]],T_Saisie[Mois],T_Projets[[#Headers],[Juillet]]) -> 0 | I30: =SUMIFS(T_Saisie[Durée (heures)],T_Saisie[Projet],T_Projets[[#This Row],[Projets]],T_Saisie[Mois],T_Projets[[#Headers],[Août]]) -> 0 | J30: =SUMIFS(T_Saisie[Durée (heures)],T_Saisie[Projet],T_Projets[[#This Row],[Projets]],T_Saisie[Mois],T_Projets[[#Headers],[Septembre]]) -> 0 | K30: =SUMIFS(T_Saisie[Durée (heures)],T_Saisie[Projet],T_Projets[[#This Row],[Projets]],T_Saisie[Mois],T_Projets[[#Headers],[Octobre]]) -> 0 | L30: =SUMIFS(T_Saisie[Durée (heures)],T_Saisie[Projet],T_Projets[[#This Row],[Projets]],T_Saisie[Mois],T_Projets[[#Headers],[Novembre]]) -> 0 | M30: =SUMIFS(T_Saisie[Durée (heures)],T_Saisie[Projet],T_Projets[[#This Row],[Projets]],T_Saisie[Mois],T_Projets[[#Headers],[Décembre]]) -> 0 | N30: =SUMIF(T_Saisie[Projet],T_Projets[[#This Row],[Projets]],T_Saisie[Durée (heures)]) -> 0.16666667
A31: Projet 2 | B31: =SUMIFS(T_Saisie[Durée (heures)],T_Saisie[Projet],T_Projets[[#This Row],[Projets]],T_Saisie[Mois],T_Projets[[#Headers],[Janvier]]) -> 0.16666667 | C31: =SUMIFS(T_Saisie[Durée (heures)],T_Saisie[Projet],T_Projets[[#This Row],[Projets]],T_Saisie[Mois],T_Projets[[#Headers],[Février]]) -> 0 | D31: =SUMIFS(T_Saisie[Durée (heures)],T_Saisie[Projet],T_Projets[[#This Row],[Projets]],T_Saisie[Mois],T_Projets[[#Headers],[Mars]]) -> 0 | E31: =SUMIFS(T_Saisie[Durée (heures)],T_Saisie[Projet],T_Projets[[#This Row],[Projets]],T_Saisie[Mois],T_Projets[[#Headers],[Avril]]) -> 0 | F31: =SUMIFS(T_Saisie[Durée (heures)],T_Saisie[Projet],T_Projets[[#This Row],[Projets]],T_Saisie[Mois],T_Projets[[#Headers],[Mai]]) -> 0 | G31: =SUMIFS(T_Saisie[Durée (heures)],T_Saisie[Projet],T_Projets[[#This Row],[Projets]],T_Saisie[Mois],T_Projets[[#Headers],[Juin]]) -> 0 | H31: =SUMIFS(T_Saisie[Durée (heures)],T_Saisie[Projet],T_Projets[[#This Row],[Projets]],T_Saisie[Mois],T_Projets[[#Headers],[Juillet]]) -> 0 | I31: =SUMIFS(T_Saisie[Durée (heures)],T_Saisie[Projet],T_Projets[[#This Row],[Projets]],T_Saisie[Mois],T_Projets[[#Headers],[Août]]) -> 0 | J31: =SUMIFS(T_Saisie[Durée (heures)],T_Saisie[Projet],T_Projets[[#This Row],[Projets]],T_Saisie[Mois],T_Projets[[#Headers],[Septembre]]) -> 0 | K31: =SUMIFS(T_Saisie[Durée (heures)],T_Saisie[Projet],T_Projets[[#This Row],[Projets]],T_Saisie[Mois],T_Projets[[#Headers],[Octobre]]) -> 0 | L31: =SUMIFS(T_Saisie[Durée (heures)],T_Saisie[Projet],T_Projets[[#This Row],[Projets]],T_Saisie[Mois],T_Projets[[#Headers],[Novembre]]) -> 0 | M31: =SUMIFS(T_Saisie[Durée (heures)],T_Saisie[Projet],T_Projets[[#This Row],[Projets]],T_Saisie[Mois],T_Projets[[#Headers],[Décembre]]) -> 0 | N31: =SUMIF(T_Saisie[Projet],T_Projets[[#This Row],[Projets]],T_Saisie[Durée (heures)]) -> 0.16666667
A32: Projet 3 | B32: =SUMIFS(T_Saisie[Durée (heures)],T_Saisie[Projet],T_Projets[[#This Row],[Projets]],T_Saisie[Mois],T_Projets[[#Headers],[Janvier]]) -> 0.29166667 | C32: =SUMIFS(T_Saisie[Durée (heures)],T_Saisie[Projet],T_Projets[[#This Row],[Projets]],T_Saisie[Mois],T_Projets[[#Headers],[Février]]) -> 0 | D32: =SUMIFS(T_Saisie[Durée (heures)],T_Saisie[Projet],T_Projets[[#This Row],[Projets]],T_Saisie[Mois],T_Projets[[#Headers],[Mars]]) -> 0 | E32: =SUMIFS(T_Saisie[Durée (heures)],T_Saisie[Projet],T_Projets[[#This Row],[Projets]],T_Saisie[Mois],T_Projets[[#Headers],[Avril]]) -> 0 | F32: =SUMIFS(T_Saisie[Durée (heures)],T_Saisie[Projet],T_Projets[[#This Row],[Projets]],T_Saisie[Mois],T_Projets[[#Headers],[Mai]]) -> 0 | G32: =SUMIFS(T_Saisie[Durée (heures)],T_Saisie[Projet],T_Projets[[#This Row],[Projets]],T_Saisie[Mois],T_Projets[[#Headers],[Juin]]) -> 0 | H32: =SUMIFS(T_Saisie[Durée (heures)],T_Saisie[Projet],T_Projets[[#This Row],[Projets]],T_Saisie[Mois],T_Projets[[#Headers],[Juillet]]) -> 0 | I32: =SUMIFS(T_Saisie[Durée (heures)],T_Saisie[Projet],T_Projets[[#This Row],[Projets]],T_Saisie[Mois],T_Projets[[#Headers],[Août]]) -> 0 | J32: =SUMIFS(T_Saisie[Durée (heures)],T_Saisie[Projet],T_Projets[[#This Row],[Projets]],T_Saisie[Mois],T_Projets[[#Headers],[Septembre]]) -> 0 | K32: =SUMIFS(T_Saisie[Durée (heures)],T_Saisie[Projet],T_Projets[[#This Row],[Projets]],T_Saisie[Mois],T_Projets[[#Headers],[Octobre]]) -> 0 | L32: =SUMIFS(T_Saisie[Durée (heures)],T_Saisie[Projet],T_Projets[[#This Row],[Projets]],T_Saisie[Mois],T_Projets[[#Headers],[Novembre]]) -> 0 | M32: =SUMIFS(T_Saisie[Durée (heures)],T_Saisie[Projet],T_Projets[[#This Row],[Projets]],T_Saisie[Mois],T_Projets[[#Headers],[Décembre]]) -> 0 | N32: =SUMIF(T_Saisie[Projet],T_Projets[[#This Row],[Projets]],T_Saisie[Durée (heures)]) -> 0.29166667
A33: Projet 4 | B33: =SUMIFS(T_Saisie[Durée (heures)],T_Saisie[Projet],T_Projets[[#This Row],[Projets]],T_Saisie[Mois],T_Projets[[#Headers],[Janvier]]) -> 0.20833333 | C33: =SUMIFS(T_Saisie[Durée (heures)],T_Saisie[Projet],T_Projets[[#This Row],[Projets]],T_Saisie[Mois],T_Projets[[#Headers],[Février]]) -> 0 | D33: =SUMIFS(T_Saisie[Durée (heures)],T_Saisie[Projet],T_Projets[[#This Row],[Projets]],T_Saisie[Mois],T_Projets[[#Headers],[Mars]]) -> 0 | E33: =SUMIFS(T_Saisie[Durée (heures)],T_Saisie[Projet],T_Projets[[#This Row],[Projets]],T_Saisie[Mois],T_Projets[[#Headers],[Avril]]) -> 0 | F33: =SUMIFS(T_Saisie[Durée (heures)],T_Saisie[Projet],T_Projets[[#This Row],[Projets]],T_Saisie[Mois],T_Projets[[#Headers],[Mai]]) -> 0 | G33: =SUMIFS(T_Saisie[Durée (heures)],T_Saisie[Projet],T_Projets[[#This Row],[Projets]],T_Saisie[Mois],T_Projets[[#Headers],[Juin]]) -> 0 | H33: =SUMIFS(T_Saisie[Durée (heures)],T_Saisie[Projet],T_Projets[[#This Row],[Projets]],T_Saisie[Mois],T_Projets[[#Headers],[Juillet]]) -> 0 | I33: =SUMIFS(T_Saisie[Durée (heures)],T_Saisie[Projet],T_Projets[[#This Row],[Projets]],T_Saisie[Mois],T_Projets[[#Headers],[Août]]) -> 0 | J33: =SUMIFS(T_Saisie[Durée (heures)],T_Saisie[Projet],T_Projets[[#This Row],[Projets]],T_Saisie[Mois],T_Projets[[#Headers],[Septembre]]) -> 0 | K33: =SUMIFS(T_Saisie[Durée (heures)],T_Saisie[Projet],T_Projets[[#This Row],[Projets]],T_Saisie[Mois],T_Projets[[#Headers],[Octobre]]) -> 0 | L33: =SUMIFS(T_Saisie[Durée (heures)],T_Saisie[Projet],T_Projets[[#This Row],[Projets]],T_Saisie[Mois],T_Projets[[#Headers],[Novembre]]) -> 0 | M33: =SUMIFS(T_Saisie[Durée (heures)],T_Saisie[Projet],T_Projets[[#This Row],[Projets]],T_Saisie[Mois],T_Projets[[#Headers],[Décembre]]) -> 0 | N33: =SUMIF(T_Saisie[Projet],T_Projets[[#This Row],[Projets]],T_Saisie[Durée (heures)]) -> 0.20833333
A34: Projet 5 | B34: =SUMIFS(T_Saisie[Durée (heures)],T_Saisie[Projet],T_Projets[[#This Row],[Projets]],T_Saisie[Mois],T_Projets[[#Headers],[Janvier]]) -> 0.16666667 | C34: =SUMIFS(T_Saisie[Durée (heures)],T_Saisie[Projet],T_Projets[[#This Row],[Projets]],T_Saisie[Mois],T_Projets[[#Headers],[Février]]) -> 0 | D34: =SUMIFS(T_Saisie[Durée (heures)],T_Saisie[Projet],T_Projets[[#This Row],[Projets]],T_Saisie[Mois],T_Projets[[#Headers],[Mars]]) -> 0 | E34: =SUMIFS(T_Saisie[Durée (heures)],T_Saisie[Projet],T_Projets[[#This Row],[Projets]],T_Saisie[Mois],T_Projets[[#Headers],[Avril]]) -> 0 | F34: =SUMIFS(T_Saisie[Durée (heures)],T_Saisie[Projet],T_Projets[[#This Row],[Projets]],T_Saisie[Mois],T_Projets[[#Headers],[Mai]]) -> 0 | G34: =SUMIFS(T_Saisie[Durée (heures)],T_Saisie[Projet],T_Projets[[#This Row],[Projets]],T_Saisie[Mois],T_Projets[[#Headers],[Juin]]) -> 0 | H34: =SUMIFS(T_Saisie[Durée (heures)],T_Saisie[Projet],T_Projets[[#This Row],[Projets]],T_Saisie[Mois],T_Projets[[#Headers],[Juillet]]) -> 0 | I34: =SUMIFS(T_Saisie[Durée (heures)],T_Saisie[Projet],T_Projets[[#This Row],[Projets]],T_Saisie[Mois],T_Projets[[#Headers],[Août]]) -> 0 | J34: =SUMIFS(T_Saisie[Durée (heures)],T_Saisie[Projet],T_Projets[[#This Row],[Projets]],T_Saisie[Mois],T_Projets[[#Headers],[Septembre]]) -> 0 | K34: =SUMIFS(T_Saisie[Durée (heures)],T_Saisie[Projet],T_Projets[[#This Row],[Projets]],T_Saisie[Mois],T_Projets[[#Headers],[Octobre]]) -> 0 | L34: =SUMIFS(T_Saisie[Durée (heures)],T_Saisie[Projet],T_Projets[[#This Row],[Projets]],T_Saisie[Mois],T_Projets[[#Headers],[Novembre]]) -> 0 | M34: =SUMIFS(T_Saisie[Durée (heures)],T_Saisie[Projet],T_Projets[[#This Row],[Projets]],T_Saisie[Mois],T_Projets[[#Headers],[Décembre]]) -> 0 | N34: =SUMIF(T_Saisie[Projet],T_Projets[[#This Row],[Projets]],T_Saisie[Durée (heures)]) -> 0.16666667
A35: Projet 6 | B35: =SUMIFS(T_Saisie[Durée (heures)],T_Saisie[Projet],T_Projets[[#This Row],[Projets]],T_Saisie[Mois],T_Projets[[#Headers],[Janvier]]) -> 0.125 | C35: =SUMIFS(T_Saisie[Durée (heures)],T_Saisie[Projet],T_Projets[[#This Row],[Projets]],T_Saisie[Mois],T_Projets[[#Headers],[Février]]) -> 0.22916667 | D35: =SUMIFS(T_Saisie[Durée (heures)],T_Saisie[Projet],T_Projets[[#This Row],[Projets]],T_Saisie[Mois],T_Projets[[#Headers],[Mars]]) -> 0 | E35: =SUMIFS(T_Saisie[Durée (heures)],T_Saisie[Projet],T_Projets[[#This Row],[Projets]],T_Saisie[Mois],T_Projets[[#Headers],[Avril]]) -> 0 | F35: =SUMIFS(T_Saisie[Durée (heures)],T_Saisie[Projet],T_Projets[[#This Row],[Projets]],T_Saisie[Mois],T_Projets[[#Headers],[Mai]]) -> 0 | G35: =SUMIFS(T_Saisie[Durée (heures)],T_Saisie[Projet],T_Projets[[#This Row],[Projets]],T_Saisie[Mois],T_Projets[[#Headers],[Juin]]) -> 0 | H35: =SUMIFS(T_Saisie[Durée (heures)],T_Saisie[Projet],T_Projets[[#This Row],[Projets]],T_Saisie[Mois],T_Projets[[#Headers],[Juillet]]) -> 0 | I35: =SUMIFS(T_Saisie[Durée (heures)],T_Saisie[Projet],T_Projets[[#This Row],[Projets]],T_Saisie[Mois],T_Projets[[#Headers],[Août]]) -> 0 | J35: =SUMIFS(T_Saisie[Durée (heures)],T_Saisie[Projet],T_Projets[[#This Row],[Projets]],T_Saisie[Mois],T_Projets[[#Headers],[Septembre]]) -> 0 | K35: =SUMIFS(T_Saisie[Durée (heures)],T_Saisie[Projet],T_Projets[[#This Row],[Projets]],T_Saisie[Mois],T_Projets[[#Headers],[Octobre]]) -> 0 | L35: =SUMIFS(T_Saisie[Durée (heures)],T_Saisie[Projet],T_Projets[[#This Row],[Projets]],T_Saisie[Mois],T_Projets[[#Headers],[Novembre]]) -> 0 | M35: =SUMIFS(T_Saisie[Durée (heures)],T_Saisie[Projet],T_Projets[[#This Row],[Projets]],T_Saisie[Mois],T_Projets[[#Headers],[Décembre]]) -> 0 | N35: =SUMIF(T_Saisie[Projet],T_Projets[[#This Row],[Projets]],T_Saisie[Durée (heures)]) -> 0.35416667
A36: Projet 7 | B36: =SUMIFS(T_Saisie[Durée (heures)],T_Saisie[Projet],T_Projets[[#This Row],[Projets]],T_Saisie[Mois],T_Projets[[#Headers],[Janvier]]) -> 0 | C36: =SUMIFS(T_Saisie[Durée (heures)],T_Saisie[Projet],T_Projets[[#This Row],[Projets]],T_Saisie[Mois],T_Projets[[#Headers],[Février]]) -> 0 | D36: =SUMIFS(T_Saisie[Durée (heures)],T_Saisie[Projet],T_Projets[[#This Row],[Projets]],T_Saisie[Mois],T_Projets[[#Headers],[Mars]]) -> 0 | E36: =SUMIFS(T_Saisie[Durée (heures)],T_Saisie[Projet],T_Projets[[#This Row],[Projets]],T_Saisie[Mois],T_Projets[[#Headers],[Avril]]) -> 0 | F36: =SUMIFS(T_Saisie[Durée (heures)],T_Saisie[Projet],T_Projets[[#This Row],[Projets]],T_Saisie[Mois],T_Projets[[#Headers],[Mai]]) -> 0 | G36: =SUMIFS(T_Saisie[Durée (heures)],T_Saisie[Projet],T_Projets[[#This Row],[Projets]],T_Saisie[Mois],T_Projets[[#Headers],[Juin]]) -> 0 | H36: =SUMIFS(T_Saisie[Durée (heures)],T_Saisie[Projet],T_Projets[[#This Row],[Projets]],T_Saisie[Mois],T_Projets[[#Headers],[Juillet]]) -> 0 | I36: =SUMIFS(T_Saisie[Durée (heures)],T_Saisie[Projet],T_Projets[[#This Row],[Projets]],T_Saisie[Mois],T_Projets[[#Headers],[Août]]) -> 0 | J36: =SUMIFS(T_Saisie[Durée (heures)],T_Saisie[Projet],T_Projets[[#This Row],[Projets]],T_Saisie[Mois],T_Projets[[#Headers],[Septembre]]) -> 0 | K36: =SUMIFS(T_Saisie[Durée (heures)],T_Saisie[Projet],T_Projets[[#This Row],[Projets]],T_Saisie[Mois],T_Projets[[#Headers],[Octobre]]) -> 0 | L36: =SUMIFS(T_Saisie[Durée (heures)],T_Saisie[Projet],T_Projets[[#This Row],[Projets]],T_Saisie[Mois],T_Projets[[#Headers],[Novembre]]) -> 0 | M36: =SUMIFS(T_Saisie[Durée (heures)],T_Saisie[Projet],T_Projets[[#This Row],[Projets]],T_Saisie[Mois],T_Projets[[#Headers],[Décembre]]) -> 0 | N36: =SUMIF(T_Saisie[Projet],T_Projets[[#This Row],[Projets]],T_Saisie[Durée (heures)]) -> 0
A37: Projet 8 | B37: =SUMIFS(T_Saisie[Durée (heures)],T_Saisie[Projet],T_Projets[[#This Row],[Projets]],T_Saisie[Mois],T_Projets[[#Headers],[Janvier]]) -> 0 | C37: =SUMIFS(T_Saisie[Durée (heures)],T_Saisie[Projet],T_Projets[[#This Row],[Projets]],T_Saisie[Mois],T_Projets[[#Headers],[Février]]) -> 0 | D37: =SUMIFS(T_Saisie[Durée (heures)],T_Saisie[Projet],T_Projets[[#This Row],[Projets]],T_Saisie[Mois],T_Projets[[#Headers],[Mars]]) -> 0 | E37: =SUMIFS(T_Saisie[Durée (heures)],T_Saisie[Projet],T_Projets[[#This Row],[Projets]],T_Saisie[Mois],T_Projets[[#Headers],[Avril]]) -> 0 | F37: =SUMIFS(T_Saisie[Durée (heures)],T_Saisie[Projet],T_Projets[[#This Row],[Projets]],T_Saisie[Mois],T_Projets[[#Headers],[Mai]]) -> 0 | G37: =SUMIFS(T_Saisie[Durée (heures)],T_Saisie[Projet],T_Projets[[#This Row],[Projets]],T_Saisie[Mois],T_Projets[[#Headers],[Juin]]) -> 0 | H37: =SUMIFS(T_Saisie[Durée (heures)],T_Saisie[Projet],T_Projets[[#This Row],[Projets]],T_Saisie[Mois],T_Projets[[#Headers],[Juillet]]) -> 0 | I37: =SUMIFS(T_Saisie[Durée (heures)],T_Saisie[Projet],T_Projets[[#This Row],[Projets]],T_Saisie[Mois],T_Projets[[#Headers],[Août]]) -> 0 | J37: =SUMIFS(T_Saisie[Durée (heures)],T_Saisie[Projet],T_Projets[[#This Row],[Projets]],T_Saisie[Mois],T_Projets[[#Headers],[Septembre]]) -> 0 | K37: =SUMIFS(T_Saisie[Durée (heures)],T_Saisie[Projet],T_Projets[[#This Row],[Projets]],T_Saisie[Mois],T_Projets[[#Headers],[Octobre]]) -> 0 | L37: =SUMIFS(T_Saisie[Durée (heures)],T_Saisie[Projet],T_Projets[[#This Row],[Projets]],T_Saisie[Mois],T_Projets[[#Headers],[Novembre]]) -> 0 | M37: =SUMIFS(T_Saisie[Durée (heures)],T_Saisie[Projet],T_Projets[[#This Row],[Projets]],T_Saisie[Mois],T_Projets[[#Headers],[Décembre]]) -> 0 | N37: =SUMIF(T_Saisie[Projet],T_Projets[[#This Row],[Projets]],T_Saisie[Durée (heures)]) -> 0
A38: Projet 9 | B38: =SUMIFS(T_Saisie[Durée (heures)],T_Saisie[Projet],T_Projets[[#This Row],[Projets]],T_Saisie[Mois],T_Projets[[#Headers],[Janvier]]) -> 0 | C38: =SUMIFS(T_Saisie[Durée (heures)],T_Saisie[Projet],T_Projets[[#This Row],[Projets]],T_Saisie[Mois],T_Projets[[#Headers],[Février]]) -> 0 | D38: =SUMIFS(T_Saisie[Durée (heures)],T_Saisie[Projet],T_Projets[[#This Row],[Projets]],T_Saisie[Mois],T_Projets[[#Headers],[Mars]]) -> 0 | E38: =SUMIFS(T_Saisie[Durée (heures)],T_Saisie[Projet],T_Projets[[#This Row],[Projets]],T_Saisie[Mois],T_Projets[[#Headers],[Avril]]) -> 0 | F38: =SUMIFS(T_Saisie[Durée (heures)],T_Saisie[Projet],T_Projets[[#This Row],[Projets]],T_Saisie[Mois],T_Projets[[#Headers],[Mai]]) -> 0 | G38: =SUMIFS(T_Saisie[Durée (heures)],T_Saisie[Projet],T_Projets[[#This Row],[Projets]],T_Saisie[Mois],T_Projets[[#Headers],[Juin]]) -> 0 | H38: =SUMIFS(T_Saisie[Durée (heures)],T_Saisie[Projet],T_Projets[[#This Row],[Projets]],T_Saisie[Mois],T_Projets[[#Headers],[Juillet]]) -> 0 | I38: =SUMIFS(T_Saisie[Durée (heures)],T_Saisie[Projet],T_Projets[[#This Row],[Projets]],T_Saisie[Mois],T_Projets[[#Headers],[Août]]) -> 0 | J38: =SUMIFS(T_Saisie[Durée (heures)],T_Saisie[Projet],T_Projets[[#This Row],[Projets]],T_Saisie[Mois],T_Projets[[#Headers],[Septembre]]) -> 0 | K38: =SUMIFS(T_Saisie[Durée (heures)],T_Saisie[Projet],T_Projets[[#This Row],[Projets]],T_Saisie[Mois],T_Projets[[#Headers],[Octobre]]) -> 0 | L38: =SUMIFS(T_Saisie[Durée (heures)],T_Saisie[Projet],T_Projets[[#This Row],[Projets]],T_Saisie[Mois],T_Projets[[#Headers],[Novembre]]) -> 0 | M38: =SUMIFS(T_Saisie[Durée (heures)],T_Saisie[Projet],T_Projets[[#This Row],[Projets]],T_Saisie[Mois],T_Projets[[#Headers],[Décembre]]) -> 0 | N38: =SUMIF(T_Saisie[Projet],T_Projets[[#This Row],[Projets]],T_Saisie[Durée (heures)]) -> 0

Sheet listes
A1: N° Mois | B1: Texte Mois | D1: Personnel | E1: Statut | F1: Quota H/semaine
A2: 1 | B2: Janvier | D2: Alexia | E2: Salariée | F2: 1.1666667
A3: 2 | B3: Février | D3: Fanny | E3: Salariée | F3: 1
A4: 3 | B4: Mars | D4: Corinne | E4: Bénévole
A5: 4 | B5: Avril | D5: Lili | E5: Bénévole
A6: 5 | B6: Mai | D6: Clem | E6: Bénévole
A7: 6 | B7: Juin
A8: 7 | B8: Juillet
A9: 8 | B9: Août
A10: 9 | B10: Septembre
A11: 10 | B11: Octobre
A12: 11 | B12: Novembre
A13: 12 | B13: Décembre
