Workbook

Sheet Données
A3: Nom - prénom élèves
A4: 1
A5: 2
A6: 3
A7: 4
A8: 5
A9: 6
A10: 7
A11: 8
A12: 9
A13: 10
A14: 11
A15: 12
... A27: 24

Sheet P1
B1: 2017 - 2018 | C1: Date
B2: Mathématiques | C2: Titre
B3: Période 1 | C3: Compétence
C4: Encodé sur | V4: =SUM(D4:U4) -> 0
A5: n° | B5: Nom - prénom | D5: 1 | E5: 2 | F5: 3 | G5: 4 | H5: 5 | I5: 6 | J5: 7 | K5: 8 | L5: 9 | M5: 10 | N5: 11 | O5: 12 | P5: 13 | Q5: 14 | R5: 15 | S5: 16 | T5: 17 | U5: 18 | V5: Total C1 | X5: % C1 | Y5: Total C2 | AA5: % C2 | AB5: Total C3 | AD5: % C3 | AE5: Total période
A6: 1 | B6: =Données!B4 -> 0 | V6: =SUMIFS(D6:U6,$D$3:$U$3,"=1") -> 0 | W6: =SUMIFS(D$4:U$4,$D$3:$U$3,"=1") -> 0 | X6: =IFERROR(V6/W6,0)*100 -> 0 | Y6: =SUMIFS(D6:U6,$D$3:$U$3,"=2") -> 0 | Z6: =SUMIFS(D$4:U$4,$D$3:$U$3,"=2") -> 0 | AA6: =IFERROR(Y6/Z6,0)*100 -> 0 | AB6: =SUMIFS(D6:U6,$D$3:$U$3,"=3") -> 0 | AC6: =SUMIFS(D$4:U$4,$D$3:$U$3,"=3") -> 0 | AD6: =IFERROR(AB6/AC6,0)*100 -> 0 | AE6: =(X6+AA6+AD6)/3 -> 0
A7: 2 | B7: =Données!B5 -> 0 | V7: =SUMIFS(D7:U7,$D$3:$U$3,"=1") -> 0 | W7: =SUMIFS(D$4:U$4,$D$3:$U$3,"=1") -> 0 | X7: =IFERROR(V7/W7,0)*100 -> 0 | Y7: =SUMIFS(D7:U7,$D$3:$U$3,"=2") -> 0 | Z7: =SUMIFS(D$4:U$4,$D$3:$U$3,"=2") -> 0 | AA7: =IFERROR(Y7/Z7,0)*100 -> 0 | AB7: =SUMIFS(D7:U7,$D$3:$U$3,"=3") -> 0 | AC7: =SUMIFS(D$4:U$4,$D$3:$U$3,"=3") -> 0 | AD7: =IFERROR(AB7/AC7,0)*100 -> 0 | AE7: =(X7+AA7+AD7)/3 -> 0
A8: 3 | B8: =Données!B6 -> 0 | V8: =SUMIFS(D8:U8,$D$3:$U$3,"=1") -> 0 | W8: =SUMIFS(D$4:U$4,$D$3:$U$3,"=1") -> 0 | X8: =IFERROR(V8/W8,0)*100 -> 0 | Y8: =SUMIFS(D8:U8,$D$3:$U$3,"=2") -> 0 | Z8: =SUMIFS(D$4:U$4,$D$3:$U$3,"=2") -> 0 | AA8: =IFERROR(Y8/Z8,0)*100 -> 0 | AB8: =SUMIFS(D8:U8,$D$3:$U$3,"=3") -> 0 | AC8: =SUMIFS(D$4:U$4,$D$3:$U$3,"=3") -> 0 | AD8: =IFERROR(AB8/AC8,0)*100 -> 0 | AE8: =(X8+AA8+AD8)/3 -> 0
A9: 4 | B9: =Données!B7 -> 0 | V9: =SUMIFS(D9:U9,$D$3:$U$3,"=1") -> 0 | W9: =SUMIFS(D$4:U$4,$D$3:$U$3,"=1") -> 0 | X9: =IFERROR(V9/W9,0)*100 -> 0 | Y9: =SUMIFS(D9:U9,$D$3:$U$3,"=2") -> 0 | Z9: =SUMIFS(D$4:U$4,$D$3:$U$3,"=2") -> 0 | AA9: =IFERROR(Y9/Z9,0)*100 -> 0 | AB9: =SUMIFS(D9:U9,$D$3:$U$3,"=3") -> 0 | AC9: =SUMIFS(D$4:U$4,$D$3:$U$3,"=3") -> 0 | AD9: =IFERROR(AB9/AC9,0)*100 -> 0 | AE9: =(X9+AA9+AD9)/3 -> 0
A10: 5 | B10: =Données!B8 -> 0 | V10: =SUMIFS(D10:U10,$D$3:$U$3,"=1") -> 0 | W10: =SUMIFS(D$4:U$4,$D$3:$U$3,"=1") -> 0 | X10: =IFERROR(V10/W10,0)*100 -> 0 | Y10: =SUMIFS(D10:U10,$D$3:$U$3,"=2") -> 0 | Z10: =SUMIFS(D$4:U$4,$D$3:$U$3,"=2") -> 0 | AA10: =IFERROR(Y10/Z10,0)*100 -> 0 | AB10: =SUMIFS(D10:U10,$D$3:$U$3,"=3") -> 0 | AC10: =SUMIFS(D$4:U$4,$D$3:$U$3,"=3") -> 0 | AD10: =IFERROR(AB10/AC10,0)*100 -> 0 | AE10: =(X10+AA10+AD10)/3 -> 0
A11: 6 | B11: =Données!B9 -> 0 | V11: =SUMIFS(D11:U11,$D$3:$U$3,"=1") -> 0 | W11: =SUMIFS(D$4:U$4,$D$3:$U$3,"=1") -> 0 | X11: =IFERROR(V11/W11,0)*100 -> 0 | Y11: =SUMIFS(D11:U11,$D$3:$U$3,"=2") -> 0 | Z11: =SUMIFS(D$4:U$4,$D$3:$U$3,"=2") -> 0 | AA11: =IFERROR(Y11/Z11,0)*100 -> 0 | AB11: =SUMIFS(D11:U11,$D$3:$U$3,"=3") -> 0 | AC11: =SUMIFS(D$4:U$4,$D$3:$U$3,"=3") -> 0 | AD11: =IFERROR(AB11/AC11,0)*100 -> 0 | AE11: =(X11+AA11+AD11)/3 -> 0
A12: 7 | B12: =Données!B10 -> 0 | V12: =SUMIFS(D12:U12,$D$3:$U$3,"=1") -> 0 | W12: =SUMIFS(D$4:U$4,$D$3:$U$3,"=1") -> 0 | X12: =IFERROR(V12/W12,0)*100 -> 0 | Y12: =SUMIFS(D12:U12,$D$3:$U$3,"=2") -> 0 | Z12: =SUMIFS(D$4:U$4,$D$3:$U$3,"=2") -> 0 | AA12: =IFERROR(Y12/Z12,0)*100 -> 0 | AB12: =SUMIFS(D12:U12,$D$3:$U$3,"=3") -> 0 | AC12: =SUMIFS(D$4:U$4,$D$3:$U$3,"=3") -> 0 | AD12: =IFERROR(AB12/AC12,0)*100 -> 0 | AE12: =(X12+AA12+AD12)/3 -> 0
A13: 8 | B13: =Données!B11 -> 0 | V13: =SUMIFS(D13:U13,$D$3:$U$3,"=1") -> 0 | W13: =SUMIFS(D$4:U$4,$D$3:$U$3,"=1") -> 0 | X13: =IFERROR(V13/W13,0)*100 -> 0 | Y13: =SUMIFS(D13:U13,$D$3:$U$3,"=2") -> 0 | Z13: =SUMIFS(D$4:U$4,$D$3:$U$3,"=2") -> 0 | AA13: =IFERROR(Y13/Z13,0)*100 -> 0 | AB13: =SUMIFS(D13:U13,$D$3:$U$3,"=3") -> 0 | AC13: =SUMIFS(D$4:U$4,$D$3:$U$3,"=3") -> 0 | AD13: =IFERROR(AB13/AC13,0)*100 -> 0 | AE13: =(X13+AA13+AD13)/3 -> 0
A14: 9 | B14: =Données!B12 -> 0 | V14: =SUMIFS(D14:U14,$D$3:$U$3,"=1") -> 0 | W14: =SUMIFS(D$4:U$4,$D$3:$U$3,"=1") -> 0 | X14: =IFERROR(V14/W14,0)*100 -> 0 | Y14: =SUMIFS(D14:U14,$D$3:$U$3,"=2") -> 0 | Z14: =SUMIFS(D$4:U$4,$D$3:$U$3,"=2") -> 0 | AA14: =IFERROR(Y14/Z14,0)*100 -> 0 | AB14: =SUMIFS(D14:U14,$D$3:$U$3,"=3") -> 0 | AC14: =SUMIFS(D$4:U$4,$D$3:$U$3,"=3") -> 0 | AD14: =IFERROR(AB14/AC14,0)*100 -> 0 | AE14: =(X14+AA14+AD14)/3 -> 0
A15: 10 | B15: =Données!B13 -> 0 | V15: =SUMIFS(D15:U15,$D$3:$U$3,"=1") -> 0 | W15: =SUMIFS(D$4:U$4,$D$3:$U$3,"=1") -> 0 | X15: =IFERROR(V15/W15,0)*100 -> 0 | Y15: =SUMIFS(D15:U15,$D$3:$U$3,"=2") -> 0 | Z15: =SUMIFS(D$4:U$4,$D$3:$U$3,"=2") -> 0 | AA15: =IFERROR(Y15/Z15,0)*100 -> 0 | AB15: =SUMIFS(D15:U15,$D$3:$U$3,"=3") -> 0 | AC15: =SUMIFS(D$4:U$4,$D$3:$U$3,"=3") -> 0 | AD15: =IFERROR(AB15/AC15,0)*100 -> 0 | AE15: =(X15+AA15+AD15)/3 -> 0
A16: 11 | B16: =Données!B14 -> 0 | V16: =SUMIFS(D16:U16,$D$3:$U$3,"=1") -> 0 | W16: =SUMIFS(D$4:U$4,$D$3:$U$3,"=1") -> 0 | X16: =IFERROR(V16/W16,0)*100 -> 0 | Y16: =SUMIFS(D16:U16,$D$3:$U$3,"=2") -> 0 | Z16: =SUMIFS(D$4:U$4,$D$3:$U$3,"=2") -> 0 | AA16: =IFERROR(Y16/Z16,0)*100 -> 0 | AB16: =SUMIFS(D16:U16,$D$3:$U$3,"=3") -> 0 | AC16: =SUMIFS(D$4:U$4,$D$3:$U$3,"=3") -> 0 | AD16: =IFERROR(AB16/AC16,0)*100 -> 0 | AE16: =(X16+AA16+AD16)/3 -> 0
A17: 12 | B17: =Données!B15 -> 0 | V17: =SUMIFS(D17:U17,$D$3:$U$3,"=1") -> 0 | W17: =SUMIFS(D$4:U$4,$D$3:$U$3,"=1") -> 0 | X17: =IFERROR(V17/W17,0)*100 -> 0 | Y17: =SUMIFS(D17:U17,$D$3:$U$3,"=2") -> 0 | Z17: =SUMIFS(D$4:U$4,$D$3:$U$3,"=2") -> 0 | AA17: =IFERROR(Y17/Z17,0)*100 -> 0 | AB17: =SUMIFS(D17:U17,$D$3:$U$3,"=3") -> 0 | AC17: =SUMIFS(D$4:U$4,$D$3:$U$3,"=3") -> 0 | AD17: =IFERROR(AB17/AC17,0)*100 -> 0 | AE17: =(X17+AA17+AD17)/3 -> 0
... A30: 25 | B30: =Données!B28 -> 0 | V30: =SUMIFS(D30:U30,$D$3:$U$3,"=1") -> 0 | W30: =SUMIFS(D$4:U$4,$D$3:$U$3,"=1") -> 0 | X30: =IFERROR(V30/W30,0)*100 -> 0 | Y30: =SUMIFS(D30:U30,$D$3:$U$3,"=2") -> 0 | Z30: =SUMIFS(D$4:U$4,$D$3:$U$3,"=2") -> 0 | AA30: =IFERROR(Y30/Z30,0)*100 -> 0 | AB30: =SUMIFS(D30:U30,$D$3:$U$3,"=3") -> 0 | AC30: =SUMIFS(D$4:U$4,$D$3:$U$3,"=3") -> 0 | AD30: =IFERROR(AB30/AC30,0)*100 -> 0 | AE30: =(X30+AA30+AD30)/3 -> 0

Sheet P2
B1: 2017 - 2018 | C1: Date
B2: Mathématiques | C2: Titre
B3: Période 2 | C3: Compétence
C4: Encodé sur | V4: =SUM(D4:U4) -> 0
A5: n° | B5: Nom - prénom | D5: 1 | E5: 2 | F5: 3 | G5: 4 | H5: 5 | I5: 6 | J5: 7 | K5: 8 | L5: 9 | M5: 10 | N5: 11 | O5: 12 | P5: 13 | Q5: 14 | R5: 15 | S5: 16 | T5: 17 | U5: 18 | V5: Total C1 | X5: % C1 | Y5: Total C2 | AA5: % C2 | AB5: Total C3 | AD5: % C3 | AE5: Total période
A6: 1 | B6: =Données!B4 -> 0 | V6: =SUMIFS(D6:U6,D3:U3,"=1") -> 0 | W6: =SUMIFS(D4:U4,D3:U3,"=1") -> 0 | X6: =IFERROR(V6/W6,0)*100 -> 0 | Y6: =SUMIFS(D6:U6,D3:U3,"=2") -> 0 | Z6: =SUMIFS(D4:U4,D3:U3,"=2") -> 0 | AA6: =IFERROR(Y6/Z6,0)*100 -> 0 | AB6: =SUMIFS(D6:U6,D3:U3,"=3") -> 0 | AC6: =SUMIFS(D4:U4,D3:U3,"=3") -> 0 | AD6: =IFERROR(AB6/AC6,0)*100 -> 0 | AE6: =(X6+AA6+AD6)/3 -> 0
A7: 2 | B7: =Données!B5 -> 0 | V7: =SUMIFS(D7:U7,D4:U4,"=1") -> 0 | W7: =SUMIFS(D5:U5,D4:U4,"=1") -> 0 | X7: =IFERROR(V7/W7,0)*100 -> 0 | Y7: =SUMIFS(D7:U7,D4:U4,"=2") -> 0 | Z7: =SUMIFS(D5:U5,D4:U4,"=2") -> 0 | AA7: =IFERROR(Y7/Z7,0)*100 -> 0 | AB7: =SUMIFS(D7:U7,D4:U4,"=3") -> 0 | AC7: =SUMIFS(D5:U5,D4:U4,"=3") -> 0 | AD7: =IFERROR(AB7/AC7,0)*100 -> 0 | AE7: =(X7+AA7+AD7)/3 -> 0
A8: 3 | B8: =Données!B6 -> 0 | V8: =SUMIFS(D8:U8,D5:U5,"=1") -> 0 | W8: =SUMIFS(D6:U6,D5:U5,"=1") -> 0 | X8: =IFERROR(V8/W8,0)*100 -> 0 | Y8: =SUMIFS(D8:U8,D5:U5,"=2") -> 0 | Z8: =SUMIFS(D6:U6,D5:U5,"=2") -> 0 | AA8: =IFERROR(Y8/Z8,0)*100 -> 0 | AB8: =SUMIFS(D8:U8,D5:U5,"=3") -> 0 | AC8: =SUMIFS(D6:U6,D5:U5,"=3") -> 0 | AD8: =IFERROR(AB8/AC8,0)*100 -> 0 | AE8: =(X8+AA8+AD8)/3 -> 0
A9: 4 | B9: =Données!B7 -> 0 | V9: =SUMIFS(D9:U9,D6:U6,"=1") -> 0 | W9: =SUMIFS(D7:U7,D6:U6,"=1") -> 0 | X9: =IFERROR(V9/W9,0)*100 -> 0 | Y9: =SUMIFS(D9:U9,D6:U6,"=2") -> 0 | Z9: =SUMIFS(D7:U7,D6:U6,"=2") -> 0 | AA9: =IFERROR(Y9/Z9,0)*100 -> 0 | AB9: =SUMIFS(D9:U9,D6:U6,"=3") -> 0 | AC9: =SUMIFS(D7:U7,D6:U6,"=3") -> 0 | AD9: =IFERROR(AB9/AC9,0)*100 -> 0 | AE9: =(X9+AA9+AD9)/3 -> 0
A10: 5 | B10: =Données!B8 -> 0 | V10: =SUMIFS(D10:U10,D7:U7,"=1") -> 0 | W10: =SUMIFS(D8:U8,D7:U7,"=1") -> 0 | X10: =IFERROR(V10/W10,0)*100 -> 0 | Y10: =SUMIFS(D10:U10,D7:U7,"=2") -> 0 | Z10: =SUMIFS(D8:U8,D7:U7,"=2") -> 0 | AA10: =IFERROR(Y10/Z10,0)*100 -> 0 | AB10: =SUMIFS(D10:U10,D7:U7,"=3") -> 0 | AC10: =SUMIFS(D8:U8,D7:U7,"=3") -> 0 | AD10: =IFERROR(AB10/AC10,0)*100 -> 0 | AE10: =(X10+AA10+AD10)/3 -> 0
A11: 6 | B11: =Données!B9 -> 0 | V11: =SUMIFS(D11:U11,D8:U8,"=1") -> 0 | W11: =SUMIFS(D9:U9,D8:U8,"=1") -> 0 | X11: =IFERROR(V11/W11,0)*100 -> 0 | Y11: =SUMIFS(D11:U11,D8:U8,"=2") -> 0 | Z11: =SUMIFS(D9:U9,D8:U8,"=2") -> 0 | AA11: =IFERROR(Y11/Z11,0)*100 -> 0 | AB11: =SUMIFS(D11:U11,D8:U8,"=3") -> 0 | AC11: =SUMIFS(D9:U9,D8:U8,"=3") -> 0 | AD11: =IFERROR(AB11/AC11,0)*100 -> 0 | AE11: =(X11+AA11+AD11)/3 -> 0
A12: 7 | B12: =Données!B10 -> 0 | V12: =SUMIFS(D12:U12,D9:U9,"=1") -> 0 | W12: =SUMIFS(D10:U10,D9:U9,"=1") -> 0 | X12: =IFERROR(V12/W12,0)*100 -> 0 | Y12: =SUMIFS(D12:U12,D9:U9,"=2") -> 0 | Z12: =SUMIFS(D10:U10,D9:U9,"=2") -> 0 | AA12: =IFERROR(Y12/Z12,0)*100 -> 0 | AB12: =SUMIFS(D12:U12,D9:U9,"=3") -> 0 | AC12: =SUMIFS(D10:U10,D9:U9,"=3") -> 0 | AD12: =IFERROR(AB12/AC12,0)*100 -> 0 | AE12: =(X12+AA12+AD12)/3 -> 0
A13: 8 | B13: =Données!B11 -> 0 | V13: =SUMIFS(D13:U13,D10:U10,"=1") -> 0 | W13: =SUMIFS(D11:U11,D10:U10,"=1") -> 0 | X13: =IFERROR(V13/W13,0)*100 -> 0 | Y13: =SUMIFS(D13:U13,D10:U10,"=2") -> 0 | Z13: =SUMIFS(D11:U11,D10:U10,"=2") -> 0 | AA13: =IFERROR(Y13/Z13,0)*100 -> 0 | AB13: =SUMIFS(D13:U13,D10:U10,"=3") -> 0 | AC13: =SUMIFS(D11:U11,D10:U10,"=3") -> 0 | AD13: =IFERROR(AB13/AC13,0)*100 -> 0 | AE13: =(X13+AA13+AD13)/3 -> 0
A14: 9 | B14: =Données!B12 -> 0 | V14: =SUMIFS(D14:U14,D11:U11,"=1") -> 0 | W14: =SUMIFS(D12:U12,D11:U11,"=1") -> 0 | X14: =IFERROR(V14/W14,0)*100 -> 0 | Y14: =SUMIFS(D14:U14,D11:U11,"=2") -> 0 | Z14: =SUMIFS(D12:U12,D11:U11,"=2") -> 0 | AA14: =IFERROR(Y14/Z14,0)*100 -> 0 | AB14: =SUMIFS(D14:U14,D11:U11,"=3") -> 0 | AC14: =SUMIFS(D12:U12,D11:U11,"=3") -> 0 | AD14: =IFERROR(AB14/AC14,0)*100 -> 0 | AE14: =(X14+AA14+AD14)/3 -> 0
A15: 10 | B15: =Données!B13 -> 0 | V15: =SUMIFS(D15:U15,D12:U12,"=1") -> 0 | W15: =SUMIFS(D13:U13,D12:U12,"=1") -> 0 | X15: =IFERROR(V15/W15,0)*100 -> 0 | Y15: =SUMIFS(D15:U15,D12:U12,"=2") -> 0 | Z15: =SUMIFS(D13:U13,D12:U12,"=2") -> 0 | AA15: =IFERROR(Y15/Z15,0)*100 -> 0 | AB15: =SUMIFS(D15:U15,D12:U12,"=3") -> 0 | AC15: =SUMIFS(D13:U13,D12:U12,"=3") -> 0 | AD15: =IFERROR(AB15/AC15,0)*100 -> 0 | AE15: =(X15+AA15+AD15)/3 -> 0
A16: 11 | B16: =Données!B14 -> 0 | V16: =SUMIFS(D16:U16,D13:U13,"=1") -> 0 | W16: =SUMIFS(D14:U14,D13:U13,"=1") -> 0 | X16: =IFERROR(V16/W16,0)*100 -> 0 | Y16: =SUMIFS(D16:U16,D13:U13,"=2") -> 0 | Z16: =SUMIFS(D14:U14,D13:U13,"=2") -> 0 | AA16: =IFERROR(Y16/Z16,0)*100 -> 0 | AB16: =SUMIFS(D16:U16,D13:U13,"=3") -> 0 | AC16: =SUMIFS(D14:U14,D13:U13,"=3") -> 0 | AD16: =IFERROR(AB16/AC16,0)*100 -> 0 | AE16: =(X16+AA16+AD16)/3 -> 0
A17: 12 | B17: =Données!B15 -> 0 | V17: =SUMIFS(D17:U17,D14:U14,"=1") -> 0 | W17: =SUMIFS(D15:U15,D14:U14,"=1") -> 0 | X17: =IFERROR(V17/W17,0)*100 -> 0 | Y17: =SUMIFS(D17:U17,D14:U14,"=2") -> 0 | Z17: =SUMIFS(D15:U15,D14:U14,"=2") -> 0 | AA17: =IFERROR(Y17/Z17,0)*100 -> 0 | AB17: =SUMIFS(D17:U17,D14:U14,"=3") -> 0 | AC17: =SUMIFS(D15:U15,D14:U14,"=3") -> 0 | AD17: =IFERROR(AB17/AC17,0)*100 -> 0 | AE17: =(X17+AA17+AD17)/3 -> 0
... A30: 25 | B30: =Données!B28 -> 0 | V30: =SUMIFS(D30:U30,D27:U27,"=1") -> 0 | W30: =SUMIFS(D28:U28,D27:U27,"=1") -> 0 | X30: =IFERROR(V30/W30,0)*100 -> 0 | Y30: =SUMIFS(D30:U30,D27:U27,"=2") -> 0 | Z30: =SUMIFS(D28:U28,D27:U27,"=2") -> 0 | AA30: =IFERROR(Y30/Z30,0)*100 -> 0 | AB30: =SUMIFS(D30:U30,D27:U27,"=3") -> 0 | AC30: =SUMIFS(D28:U28,D27:U27,"=3") -> 0 | AD30: =IFERROR(AB30/AC30,0)*100 -> 0 | AE30: =(X30+AA30+AD30)/3 -> 0

Sheet Noël
B1: 2017 - 2018 | C1: Date
B2: Mathématiques | C2: Titre
B3: Période 2 | C3: Compétence
C4: Encodé sur | V4: =SUM(D4:U4) -> 0
A5: n° | B5: Nom - prénom | D5: 1 | E5: 2 | F5: 3 | G5: 4 | H5: 5 | I5: 6 | J5: 7 | K5: 8 | L5: 9 | M5: 10 | N5: 11 | O5: 12 | P5: 13 | Q5: 14 | R5: 15 | S5: 16 | T5: 17 | U5: 18 | V5: Total C1 | X5: % C1 | Y5: Total C2 | AA5: % C2 | AB5: Total C3 | AD5: % C3 | AE5: Total période
A6: 1 | B6: =Données!B4 -> 0 | V6: =SUMIFS(D6:U6,D3:U3,"=1") -> 0 | W6: =SUMIFS(D4:U4,D3:U3,"=1") -> 0 | X6: =IFERROR(V6/W6,0)*100 -> 0 | Y6: =SUMIFS(D6:U6,D3:U3,"=2") -> 0 | Z6: =SUMIFS(D4:U4,D3:U3,"=2") -> 0 | AA6: =IFERROR(Y6/Z6,0)*100 -> 0 | AB6: =SUMIFS(D6:U6,D3:U3,"=3") -> 0 | AC6: =SUMIFS(D4:U4,D3:U3,"=3") -> 0 | AD6: =IFERROR(AB6/AC6,0)*100 -> 0 | AE6: =(X6+AA6+AD6)/3 -> 0
A7: 2 | B7: =Données!B5 -> 0 | V7: =SUMIFS(D7:U7,D4:U4,"=1") -> 0 | W7: =SUMIFS(D5:U5,D4:U4,"=1") -> 0 | X7: =IFERROR(V7/W7,0)*100 -> 0 | Y7: =SUMIFS(D7:U7,D4:U4,"=2") -> 0 | Z7: =SUMIFS(D5:U5,D4:U4,"=2") -> 0 | AA7: =IFERROR(Y7/Z7,0)*100 -> 0 | AB7: =SUMIFS(D7:U7,D4:U4,"=3") -> 0 | AC7: =SUMIFS(D5:U5,D4:U4,"=3") -> 0 | AD7: =IFERROR(AB7/AC7,0)*100 -> 0 | AE7: =(X7+AA7+AD7)/3 -> 0
A8: 3 | B8: =Données!B6 -> 0 | D8: 5 | V8: =SUMIFS(D8:U8,D5:U5,"=1") -> 5 | W8: =SUMIFS(D6:U6,D5:U5,"=1") -> 0 | X8: =IFERROR(V8/W8,0)*100 -> 0 | Y8: =SUMIFS(D8:U8,D5:U5,"=2") -> 0 | Z8: =SUMIFS(D6:U6,D5:U5,"=2") -> 0 | AA8: =IFERROR(Y8/Z8,0)*100 -> 0 | AB8: =SUMIFS(D8:U8,D5:U5,"=3") -> 0 | AC8: =SUMIFS(D6:U6,D5:U5,"=3") -> 0 | AD8: =IFERROR(AB8/AC8,0)*100 -> 0 | AE8: =(X8+AA8+AD8)/3 -> 0
A9: 4 | B9: =Données!B7 -> 0 | V9: =SUMIFS(D9:U9,D6:U6,"=1") -> 0 | W9: =SUMIFS(D7:U7,D6:U6,"=1") -> 0 | X9: =IFERROR(V9/W9,0)*100 -> 0 | Y9: =SUMIFS(D9:U9,D6:U6,"=2") -> 0 | Z9: =SUMIFS(D7:U7,D6:U6,"=2") -> 0 | AA9: =IFERROR(Y9/Z9,0)*100 -> 0 | AB9: =SUMIFS(D9:U9,D6:U6,"=3") -> 0 | AC9: =SUMIFS(D7:U7,D6:U6,"=3") -> 0 | AD9: =IFERROR(AB9/AC9,0)*100 -> 0 | AE9: =(X9+AA9+AD9)/3 -> 0
A10: 5 | B10: =Données!B8 -> 0 | V10: =SUMIFS(D10:U10,D7:U7,"=1") -> 0 | W10: =SUMIFS(D8:U8,D7:U7,"=1") -> 0 | X10: =IFERROR(V10/W10,0)*100 -> 0 | Y10: =SUMIFS(D10:U10,D7:U7,"=2") -> 0 | Z10: =SUMIFS(D8:U8,D7:U7,"=2") -> 0 | AA10: =IFERROR(Y10/Z10,0)*100 -> 0 | AB10: =SUMIFS(D10:U10,D7:U7,"=3") -> 0 | AC10: =SUMIFS(D8:U8,D7:U7,"=3") -> 0 | AD10: =IFERROR(AB10/AC10,0)*100 -> 0 | AE10: =(X10+AA10+AD10)/3 -> 0
A11: 6 | B11: =Données!B9 -> 0 | V11: =SUMIFS(D11:U11,D8:U8,"=1") -> 0 | W11: =SUMIFS(D9:U9,D8:U8,"=1") -> 0 | X11: =IFERROR(V11/W11,0)*100 -> 0 | Y11: =SUMIFS(D11:U11,D8:U8,"=2") -> 0 | Z11: =SUMIFS(D9:U9,D8:U8,"=2") -> 0 | AA11: =IFERROR(Y11/Z11,0)*100 -> 0 | AB11: =SUMIFS(D11:U11,D8:U8,"=3") -> 0 | AC11: =SUMIFS(D9:U9,D8:U8,"=3") -> 0 | AD11: =IFERROR(AB11/AC11,0)*100 -> 0 | AE11: =(X11+AA11+AD11)/3 -> 0
A12: 7 | B12: =Données!B10 -> 0 | V12: =SUMIFS(D12:U12,D9:U9,"=1") -> 0 | W12: =SUMIFS(D10:U10,D9:U9,"=1") -> 0 | X12: =IFERROR(V12/W12,0)*100 -> 0 | Y12: =SUMIFS(D12:U12,D9:U9,"=2") -> 0 | Z12: =SUMIFS(D10:U10,D9:U9,"=2") -> 0 | AA12: =IFERROR(Y12/Z12,0)*100 -> 0 | AB12: =SUMIFS(D12:U12,D9:U9,"=3") -> 0 | AC12: =SUMIFS(D10:U10,D9:U9,"=3") -> 0 | AD12: =IFERROR(AB12/AC12,0)*100 -> 0 | AE12: =(X12+AA12+AD12)/3 -> 0
A13: 8 | B13: =Données!B11 -> 0 | V13: =SUMIFS(D13:U13,D10:U10,"=1") -> 0 | W13: =SUMIFS(D11:U11,D10:U10,"=1") -> 0 | X13: =IFERROR(V13/W13,0)*100 -> 0 | Y13: =SUMIFS(D13:U13,D10:U10,"=2") -> 0 | Z13: =SUMIFS(D11:U11,D10:U10,"=2") -> 0 | AA13: =IFERROR(Y13/Z13,0)*100 -> 0 | AB13: =SUMIFS(D13:U13,D10:U10,"=3") -> 0 | AC13: =SUMIFS(D11:U11,D10:U10,"=3") -> 0 | AD13: =IFERROR(AB13/AC13,0)*100 -> 0 | AE13: =(X13+AA13+AD13)/3 -> 0
A14: 9 | B14: =Données!B12 -> 0 | V14: =SUMIFS(D14:U14,D11:U11,"=1") -> 0 | W14: =SUMIFS(D12:U12,D11:U11,"=1") -> 0 | X14: =IFERROR(V14/W14,0)*100 -> 0 | Y14: =SUMIFS(D14:U14,D11:U11,"=2") -> 0 | Z14: =SUMIFS(D12:U12,D11:U11,"=2") -> 0 | AA14: =IFERROR(Y14/Z14,0)*100 -> 0 | AB14: =SUMIFS(D14:U14,D11:U11,"=3") -> 0 | AC14: =SUMIFS(D12:U12,D11:U11,"=3") -> 0 | AD14: =IFERROR(AB14/AC14,0)*100 -> 0 | AE14: =(X14+AA14+AD14)/3 -> 0
A15: 10 | B15: =Données!B13 -> 0 | V15: =SUMIFS(D15:U15,D12:U12,"=1") -> 0 | W15: =SUMIFS(D13:U13,D12:U12,"=1") -> 0 | X15: =IFERROR(V15/W15,0)*100 -> 0 | Y15: =SUMIFS(D15:U15,D12:U12,"=2") -> 0 | Z15: =SUMIFS(D13:U13,D12:U12,"=2") -> 0 | AA15: =IFERROR(Y15/Z15,0)*100 -> 0 | AB15: =SUMIFS(D15:U15,D12:U12,"=3") -> 0 | AC15: =SUMIFS(D13:U13,D12:U12,"=3") -> 0 | AD15: =IFERROR(AB15/AC15,0)*100 -> 0 | AE15: =(X15+AA15+AD15)/3 -> 0
A16: 11 | B16: =Données!B14 -> 0 | V16: =SUMIFS(D16:U16,D13:U13,"=1") -> 0 | W16: =SUMIFS(D14:U14,D13:U13,"=1") -> 0 | X16: =IFERROR(V16/W16,0)*100 -> 0 | Y16: =SUMIFS(D16:U16,D13:U13,"=2") -> 0 | Z16: =SUMIFS(D14:U14,D13:U13,"=2") -> 0 | AA16: =IFERROR(Y16/Z16,0)*100 -> 0 | AB16: =SUMIFS(D16:U16,D13:U13,"=3") -> 0 | AC16: =SUMIFS(D14:U14,D13:U13,"=3") -> 0 | AD16: =IFERROR(AB16/AC16,0)*100 -> 0 | AE16: =(X16+AA16+AD16)/3 -> 0
A17: 12 | B17: =Données!B15 -> 0 | V17: =SUMIFS(D17:U17,D14:U14,"=1") -> 0 | W17: =SUMIFS(D15:U15,D14:U14,"=1") -> 0 | X17: =IFERROR(V17/W17,0)*100 -> 0 | Y17: =SUMIFS(D17:U17,D14:U14,"=2") -> 0 | Z17: =SUMIFS(D15:U15,D14:U14,"=2") -> 0 | AA17: =IFERROR(Y17/Z17,0)*100 -> 0 | AB17: =SUMIFS(D17:U17,D14:U14,"=3") -> 0 | AC17: =SUMIFS(D15:U15,D14:U14,"=3") -> 0 | AD17: =IFERROR(AB17/AC17,0)*100 -> 0 | AE17: =(X17+AA17+AD17)/3 -> 0
A18: 13 | B18: =Données!B16 -> 0 | V18: =SUMIFS(D18:U18,D15:U15,"=1") -> 0 | W18: =SUMIFS(D16:U16,D15:U15,"=1") -> 0 | X18: =IFERROR(V18/W18,0)*100 -> 0 | Y18: =SUMIFS(D18:U18,D15:U15,"=2") -> 0 | Z18: =SUMIFS(D16:U16,D15:U15,"=2") -> 0 | AA18: =IFERROR(Y18/Z18,0)*100 -> 0 | AB18: =SUMIFS(D18:U18,D15:U15,"=3") -> 0 | AC18: =SUMIFS(D16:U16,D15:U15,"=3") -> 0 | AD18: =IFERROR(AB18/AC18,0)*100 -> 0 | AE18: =(X18+AA18+AD18)/3 -> 0
A19: 14 | B19: =Données!B17 -> 0 | V19: =SUMIFS(D19:U19,D16:U16,"=1") -> 0 | W19: =SUMIFS(D17:U17,D16:U16,"=1") -> 0 | X19: =IFERROR(V19/W19,0)*100 -> 0 | Y19: =SUMIFS(D19:U19,D16:U16,"=2") -> 0 | Z19: =SUMIFS(D17:U17,D16:U16,"=2") -> 0 | AA19: =IFERROR(Y19/Z19,0)*100 -> 0 | AB19: =SUMIFS(D19:U19,D16:U16,"=3") -> 0 | AC19: =SUMIFS(D17:U17,D16:U16,"=3") -> 0 | AD19: =IFERROR(AB19/AC19,0)*100 -> 0 | AE19: =(X19+AA19+AD19)/3 -> 0
A20: 15 | B20: =Données!B18 -> 0 | V20: =SUMIFS(D20:U20,D17:U17,"=1") -> 0 | W20: =SUMIFS(D18:U18,D17:U17,"=1") -> 0 | X20: =IFERROR(V20/W20,0)*100 -> 0 | Y20: =SUMIFS(D20:U20,D17:U17,"=2") -> 0 | Z20: =SUMIFS(D18:U18,D17:U17,"=2") -> 0 | AA20: =IFERROR(Y20/Z20,0)*100 -> 0 | AB20: =SUMIFS(D20:U20,D17:U17,"=3") -> 0 | AC20: =SUMIFS(D18:U18,D17:U17,"=3") -> 0 | AD20: =IFERROR(AB20/AC20,0)*100 -> 0 | AE20: =(X20+AA20+AD20)/3 -> 0
... A30: 25 | B30: =Données!B28 -> 0 | V30: =SUMIFS(D30:U30,D27:U27,"=1") -> 0 | W30: =SUMIFS(D28:U28,D27:U27,"=1") -> 0 | X30: =IFERROR(V30/W30,0)*100 -> 0 | Y30: =SUMIFS(D30:U30,D27:U27,"=2") -> 0 | Z30: =SUMIFS(D28:U28,D27:U27,"=2") -> 0 | AA30: =IFERROR(Y30/Z30,0)*100 -> 0 | AB30: =SUMIFS(D30:U30,D27:U27,"=3") -> 0 | AC30: =SUMIFS(D28:U28,D27:U27,"=3") -> 0 | AD30: =IFERROR(AB30/AC30,0)*100 -> 0 | AE30: =(X30+AA30+AD30)/3 -> 0

Sheet P3
B1: 2017 - 2018 | C1: Date
B2: Mathématiques | C2: Titre
B3: Période 2 | C3: Compétence
C4: Encodé sur | V4: =SUM(D4:U4) -> 0
A5: n° | B5: Nom - prénom | D5: 1 | E5: 2 | F5: 3 | G5: 4 | H5: 5 | I5: 6 | J5: 7 | K5: 8 | L5: 9 | M5: 10 | N5: 11 | O5: 12 | P5: 13 | Q5: 14 | R5: 15 | S5: 16 | T5: 17 | U5: 18 | V5: Total C1 | X5: % C1 | Y5: Total C2 | AA5: % C2 | AB5: Total C3 | AD5: % C3 | AE5: Total période
A6: 1 | B6: =Données!B4 -> 0 | V6: =SUMIFS(D6:U6,D3:U3,"=1") -> 0 | W6: =SUMIFS(D4:U4,D3:U3,"=1") -> 0 | X6: =IFERROR(V6/W6,0)*100 -> 0 | Y6: =SUMIFS(D6:U6,D3:U3,"=2") -> 0 | Z6: =SUMIFS(D4:U4,D3:U3,"=2") -> 0 | AA6: =IFERROR(Y6/Z6,0)*100 -> 0 | AB6: =SUMIFS(D6:U6,D3:U3,"=3") -> 0 | AC6: =SUMIFS(D4:U4,D3:U3,"=3") -> 0 | AD6: =IFERROR(AB6/AC6,0)*100 -> 0 | AE6: =(X6+AA6+AD6)/3 -> 0
A7: 2 | B7: =Données!B5 -> 0 | V7: =SUMIFS(D7:U7,D4:U4,"=1") -> 0 | W7: =SUMIFS(D5:U5,D4:U4,"=1") -> 0 | X7: =IFERROR(V7/W7,0)*100 -> 0 | Y7: =SUMIFS(D7:U7,D4:U4,"=2") -> 0 | Z7: =SUMIFS(D5:U5,D4:U4,"=2") -> 0 | AA7: =IFERROR(Y7/Z7,0)*100 -> 0 | AB7: =SUMIFS(D7:U7,D4:U4,"=3") -> 0 | AC7: =SUMIFS(D5:U5,D4:U4,"=3") -> 0 | AD7: =IFERROR(AB7/AC7,0)*100 -> 0 | AE7: =(X7+AA7+AD7)/3 -> 0
A8: 3 | B8: =Données!B6 -> 0 | V8: =SUMIFS(D8:U8,D5:U5,"=1") -> 0 | W8: =SUMIFS(D6:U6,D5:U5,"=1") -> 0 | X8: =IFERROR(V8/W8,0)*100 -> 0 | Y8: =SUMIFS(D8:U8,D5:U5,"=2") -> 0 | Z8: =SUMIFS(D6:U6,D5:U5,"=2") -> 0 | AA8: =IFERROR(Y8/Z8,0)*100 -> 0 | AB8: =SUMIFS(D8:U8,D5:U5,"=3") -> 0 | AC8: =SUMIFS(D6:U6,D5:U5,"=3") -> 0 | AD8: =IFERROR(AB8/AC8,0)*100 -> 0 | AE8: =(X8+AA8+AD8)/3 -> 0
A9: 4 | B9: =Données!B7 -> 0 | V9: =SUMIFS(D9:U9,D6:U6,"=1") -> 0 | W9: =SUMIFS(D7:U7,D6:U6,"=1") -> 0 | X9: =IFERROR(V9/W9,0)*100 -> 0 | Y9: =SUMIFS(D9:U9,D6:U6,"=2") -> 0 | Z9: =SUMIFS(D7:U7,D6:U6,"=2") -> 0 | AA9: =IFERROR(Y9/Z9,0)*100 -> 0 | AB9: =SUMIFS(D9:U9,D6:U6,"=3") -> 0 | AC9: =SUMIFS(D7:U7,D6:U6,"=3") -> 0 | AD9: =IFERROR(AB9/AC9,0)*100 -> 0 | AE9: =(X9+AA9+AD9)/3 -> 0
A10: 5 | B10: =Données!B8 -> 0 | V10: =SUMIFS(D10:U10,D7:U7,"=1") -> 0 | W10: =SUMIFS(D8:U8,D7:U7,"=1") -> 0 | X10: =IFERROR(V10/W10,0)*100 -> 0 | Y10: =SUMIFS(D10:U10,D7:U7,"=2") -> 0 | Z10: =SUMIFS(D8:U8,D7:U7,"=2") -> 0 | AA10: =IFERROR(Y10/Z10,0)*100 -> 0 | AB10: =SUMIFS(D10:U10,D7:U7,"=3") -> 0 | AC10: =SUMIFS(D8:U8,D7:U7,"=3") -> 0 | AD10: =IFERROR(AB10/AC10,0)*100 -> 0 | AE10: =(X10+AA10+AD10)/3 -> 0
A11: 6 | B11: =Données!B9 -> 0 | V11: =SUMIFS(D11:U11,D8:U8,"=1") -> 0 | W11: =SUMIFS(D9:U9,D8:U8,"=1") -> 0 | X11: =IFERROR(V11/W11,0)*100 -> 0 | Y11: =SUMIFS(D11:U11,D8:U8,"=2") -> 0 | Z11: =SUMIFS(D9:U9,D8:U8,"=2") -> 0 | AA11: =IFERROR(Y11/Z11,0)*100 -> 0 | AB11: =SUMIFS(D11:U11,D8:U8,"=3") -> 0 | AC11: =SUMIFS(D9:U9,D8:U8,"=3") -> 0 | AD11: =IFERROR(AB11/AC11,0)*100 -> 0 | AE11: =(X11+AA11+AD11)/3 -> 0
A12: 7 | B12: =Données!B10 -> 0 | V12: =SUMIFS(D12:U12,D9:U9,"=1") -> 0 | W12: =SUMIFS(D10:U10,D9:U9,"=1") -> 0 | X12: =IFERROR(V12/W12,0)*100 -> 0 | Y12: =SUMIFS(D12:U12,D9:U9,"=2") -> 0 | Z12: =SUMIFS(D10:U10,D9:U9,"=2") -> 0 | AA12: =IFERROR(Y12/Z12,0)*100 -> 0 | AB12: =SUMIFS(D12:U12,D9:U9,"=3") -> 0 | AC12: =SUMIFS(D10:U10,D9:U9,"=3") -> 0 | AD12: =IFERROR(AB12/AC12,0)*100 -> 0 | AE12: =(X12+AA12+AD12)/3 -> 0
A13: 8 | B13: =Données!B11 -> 0 | V13: =SUMIFS(D13:U13,D10:U10,"=1") -> 0 | W13: =SUMIFS(D11:U11,D10:U10,"=1") -> 0 | X13: =IFERROR(V13/W13,0)*100 -> 0 | Y13: =SUMIFS(D13:U13,D10:U10,"=2") -> 0 | Z13: =SUMIFS(D11:U11,D10:U10,"=2") -> 0 | AA13: =IFERROR(Y13/Z13,0)*100 -> 0 | AB13: =SUMIFS(D13:U13,D10:U10,"=3") -> 0 | AC13: =SUMIFS(D11:U11,D10:U10,"=3") -> 0 | AD13: =IFERROR(AB13/AC13,0)*100 -> 0 | AE13: =(X13+AA13+AD13)/3 -> 0
A14: 9 | B14: =Données!B12 -> 0 | V14: =SUMIFS(D14:U14,D11:U11,"=1") -> 0 | W14: =SUMIFS(D12:U12,D11:U11,"=1") -> 0 | X14: =IFERROR(V14/W14,0)*100 -> 0 | Y14: =SUMIFS(D14:U14,D11:U11,"=2") -> 0 | Z14: =SUMIFS(D12:U12,D11:U11,"=2") -> 0 | AA14: =IFERROR(Y14/Z14,0)*100 -> 0 | AB14: =SUMIFS(D14:U14,D11:U11,"=3") -> 0 | AC14: =SUMIFS(D12:U12,D11:U11,"=3") -> 0 | AD14: =IFERROR(AB14/AC14,0)*100 -> 0 | AE14: =(X14+AA14+AD14)/3 -> 0
A15: 10 | B15: =Données!B13 -> 0 | V15: =SUMIFS(D15:U15,D12:U12,"=1") -> 0 | W15: =SUMIFS(D13:U13,D12:U12,"=1") -> 0 | X15: =IFERROR(V15/W15,0)*100 -> 0 | Y15: =SUMIFS(D15:U15,D12:U12,"=2") -> 0 | Z15: =SUMIFS(D13:U13,D12:U12,"=2") -> 0 | AA15: =IFERROR(Y15/Z15,0)*100 -> 0 | AB15: =SUMIFS(D15:U15,D12:U12,"=3") -> 0 | AC15: =SUMIFS(D13:U13,D12:U12,"=3") -> 0 | AD15: =IFERROR(AB15/AC15,0)*100 -> 0 | AE15: =(X15+AA15+AD15)/3 -> 0
A16: 11 | B16: =Données!B14 -> 0 | V16: =SUMIFS(D16:U16,D13:U13,"=1") -> 0 | W16: =SUMIFS(D14:U14,D13:U13,"=1") -> 0 | X16: =IFERROR(V16/W16,0)*100 -> 0 | Y16: =SUMIFS(D16:U16,D13:U13,"=2") -> 0 | Z16: =SUMIFS(D14:U14,D13:U13,"=2") -> 0 | AA16: =IFERROR(Y16/Z16,0)*100 -> 0 | AB16: =SUMIFS(D16:U16,D13:U13,"=3") -> 0 | AC16: =SUMIFS(D14:U14,D13:U13,"=3") -> 0 | AD16: =IFERROR(AB16/AC16,0)*100 -> 0 | AE16: =(X16+AA16+AD16)/3 -> 0
A17: 12 | B17: =Données!B15 -> 0 | V17: =SUMIFS(D17:U17,D14:U14,"=1") -> 0 | W17: =SUMIFS(D15:U15,D14:U14,"=1") -> 0 | X17: =IFERROR(V17/W17,0)*100 -> 0 | Y17: =SUMIFS(D17:U17,D14:U14,"=2") -> 0 | Z17: =SUMIFS(D15:U15,D14:U14,"=2") -> 0 | AA17: =IFERROR(Y17/Z17,0)*100 -> 0 | AB17: =SUMIFS(D17:U17,D14:U14,"=3") -> 0 | AC17: =SUMIFS(D15:U15,D14:U14,"=3") -> 0 | AD17: =IFERROR(AB17/AC17,0)*100 -> 0 | AE17: =(X17+AA17+AD17)/3 -> 0
... A30: 25 | B30: =Données!B28 -> 0 | V30: =SUMIFS(D30:U30,D27:U27,"=1") -> 0 | W30: =SUMIFS(D28:U28,D27:U27,"=1") -> 0 | X30: =IFERROR(V30/W30,0)*100 -> 0 | Y30: =SUMIFS(D30:U30,D27:U27,"=2") -> 0 | Z30: =SUMIFS(D28:U28,D27:U27,"=2") -> 0 | AA30: =IFERROR(Y30/Z30,0)*100 -> 0 | AB30: =SUMIFS(D30:U30,D27:U27,"=3") -> 0 | AC30: =SUMIFS(D28:U28,D27:U27,"=3") -> 0 | AD30: =IFERROR(AB30/AC30,0)*100 -> 0 | AE30: =(X30+AA30+AD30)/3 -> 0

Sheet P4
B1: 2017 - 2018 | C1: Date
B2: Mathématiques | C2: Titre
B3: Période 2 | C3: Compétence
C4: Encodé sur | V4: =SUM(D4:U4) -> 0
A5: n° | B5: Nom - prénom | D5: 1 | E5: 2 | F5: 3 | G5: 4 | H5: 5 | I5: 6 | J5: 7 | K5: 8 | L5: 9 | M5: 10 | N5: 11 | O5: 12 | P5: 13 | Q5: 14 | R5: 15 | S5: 16 | T5: 17 | U5: 18 | V5: Total C1 | X5: % C1 | Y5: Total C2 | AA5: % C2 | AB5: Total C3 | AD5: % C3 | AE5: Total période
A6: 1 | B6: =Données!B4 -> 0 | V6: =SUMIFS(D6:U6,D3:U3,"=1") -> 0 | W6: =SUMIFS(D4:U4,D3:U3,"=1") -> 0 | X6: =IFERROR(V6/W6,0)*100 -> 0 | Y6: =SUMIFS(D6:U6,D3:U3,"=2") -> 0 | Z6: =SUMIFS(D4:U4,D3:U3,"=2") -> 0 | AA6: =IFERROR(Y6/Z6,0)*100 -> 0 | AB6: =SUMIFS(D6:U6,D3:U3,"=3") -> 0 | AC6: =SUMIFS(D4:U4,D3:U3,"=3") -> 0 | AD6: =IFERROR(AB6/AC6,0)*100 -> 0 | AE6: =(X6+AA6+AD6)/3 -> 0
A7: 2 | B7: =Données!B5 -> 0 | V7: =SUMIFS(D7:U7,D4:U4,"=1") -> 0 | W7: =SUMIFS(D5:U5,D4:U4,"=1") -> 0 | X7: =IFERROR(V7/W7,0)*100 -> 0 | Y7: =SUMIFS(D7:U7,D4:U4,"=2") -> 0 | Z7: =SUMIFS(D5:U5,D4:U4,"=2") -> 0 | AA7: =IFERROR(Y7/Z7,0)*100 -> 0 | AB7: =SUMIFS(D7:U7,D4:U4,"=3") -> 0 | AC7: =SUMIFS(D5:U5,D4:U4,"=3") -> 0 | AD7: =IFERROR(AB7/AC7,0)*100 -> 0 | AE7: =(X7+AA7+AD7)/3 -> 0
A8: 3 | B8: =Données!B6 -> 0 | V8: =SUMIFS(D8:U8,D5:U5,"=1") -> 0 | W8: =SUMIFS(D6:U6,D5:U5,"=1") -> 0 | X8: =IFERROR(V8/W8,0)*100 -> 0 | Y8: =SUMIFS(D8:U8,D5:U5,"=2") -> 0 | Z8: =SUMIFS(D6:U6,D5:U5,"=2") -> 0 | AA8: =IFERROR(Y8/Z8,0)*100 -> 0 | AB8: =SUMIFS(D8:U8,D5:U5,"=3") -> 0 | AC8: =SUMIFS(D6:U6,D5:U5,"=3") -> 0 | AD8: =IFERROR(AB8/AC8,0)*100 -> 0 | AE8: =(X8+AA8+AD8)/3 -> 0
A9: 4 | B9: =Données!B7 -> 0 | V9: =SUMIFS(D9:U9,D6:U6,"=1") -> 0 | W9: =SUMIFS(D7:U7,D6:U6,"=1") -> 0 | X9: =IFERROR(V9/W9,0)*100 -> 0 | Y9: =SUMIFS(D9:U9,D6:U6,"=2") -> 0 | Z9: =SUMIFS(D7:U7,D6:U6,"=2") -> 0 | AA9: =IFERROR(Y9/Z9,0)*100 -> 0 | AB9: =SUMIFS(D9:U9,D6:U6,"=3") -> 0 | AC9: =SUMIFS(D7:U7,D6:U6,"=3") -> 0 | AD9: =IFERROR(AB9/AC9,0)*100 -> 0 | AE9: =(X9+AA9+AD9)/3 -> 0
A10: 5 | B10: =Données!B8 -> 0 | V10: =SUMIFS(D10:U10,D7:U7,"=1") -> 0 | W10: =SUMIFS(D8:U8,D7:U7,"=1") -> 0 | X10: =IFERROR(V10/W10,0)*100 -> 0 | Y10: =SUMIFS(D10:U10,D7:U7,"=2") -> 0 | Z10: =SUMIFS(D8:U8,D7:U7,"=2") -> 0 | AA10: =IFERROR(Y10/Z10,0)*100 -> 0 | AB10: =SUMIFS(D10:U10,D7:U7,"=3") -> 0 | AC10: =SUMIFS(D8:U8,D7:U7,"=3") -> 0 | AD10: =IFERROR(AB10/AC10,0)*100 -> 0 | AE10: =(X10+AA10+AD10)/3 -> 0
A11: 6 | B11: =Données!B9 -> 0 | V11: =SUMIFS(D11:U11,D8:U8,"=1") -> 0 | W11: =SUMIFS(D9:U9,D8:U8,"=1") -> 0 | X11: =IFERROR(V11/W11,0)*100 -> 0 | Y11: =SUMIFS(D11:U11,D8:U8,"=2") -> 0 | Z11: =SUMIFS(D9:U9,D8:U8,"=2") -> 0 | AA11: =IFERROR(Y11/Z11,0)*100 -> 0 | AB11: =SUMIFS(D11:U11,D8:U8,"=3") -> 0 | AC11: =SUMIFS(D9:U9,D8:U8,"=3") -> 0 | AD11: =IFERROR(AB11/AC11,0)*100 -> 0 | AE11: =(X11+AA11+AD11)/3 -> 0
A12: 7 | B12: =Données!B10 -> 0 | V12: =SUMIFS(D12:U12,D9:U9,"=1") -> 0 | W12: =SUMIFS(D10:U10,D9:U9,"=1") -> 0 | X12: =IFERROR(V12/W12,0)*100 -> 0 | Y12: =SUMIFS(D12:U12,D9:U9,"=2") -> 0 | Z12: =SUMIFS(D10:U10,D9:U9,"=2") -> 0 | AA12: =IFERROR(Y12/Z12,0)*100 -> 0 | AB12: =SUMIFS(D12:U12,D9:U9,"=3") -> 0 | AC12: =SUMIFS(D10:U10,D9:U9,"=3") -> 0 | AD12: =IFERROR(AB12/AC12,0)*100 -> 0 | AE12: =(X12+AA12+AD12)/3 -> 0
A13: 8 | B13: =Données!B11 -> 0 | V13: =SUMIFS(D13:U13,D10:U10,"=1") -> 0 | W13: =SUMIFS(D11:U11,D10:U10,"=1") -> 0 | X13: =IFERROR(V13/W13,0)*100 -> 0 | Y13: =SUMIFS(D13:U13,D10:U10,"=2") -> 0 | Z13: =SUMIFS(D11:U11,D10:U10,"=2") -> 0 | AA13: =IFERROR(Y13/Z13,0)*100 -> 0 | AB13: =SUMIFS(D13:U13,D10:U10,"=3") -> 0 | AC13: =SUMIFS(D11:U11,D10:U10,"=3") -> 0 | AD13: =IFERROR(AB13/AC13,0)*100 -> 0 | AE13: =(X13+AA13+AD13)/3 -> 0
A14: 9 | B14: =Données!B12 -> 0 | V14: =SUMIFS(D14:U14,D11:U11,"=1") -> 0 | W14: =SUMIFS(D12:U12,D11:U11,"=1") -> 0 | X14: =IFERROR(V14/W14,0)*100 -> 0 | Y14: =SUMIFS(D14:U14,D11:U11,"=2") -> 0 | Z14: =SUMIFS(D12:U12,D11:U11,"=2") -> 0 | AA14: =IFERROR(Y14/Z14,0)*100 -> 0 | AB14: =SUMIFS(D14:U14,D11:U11,"=3") -> 0 | AC14: =SUMIFS(D12:U12,D11:U11,"=3") -> 0 | AD14: =IFERROR(AB14/AC14,0)*100 -> 0 | AE14: =(X14+AA14+AD14)/3 -> 0
A15: 10 | B15: =Données!B13 -> 0 | V15: =SUMIFS(D15:U15,D12:U12,"=1") -> 0 | W15: =SUMIFS(D13:U13,D12:U12,"=1") -> 0 | X15: =IFERROR(V15/W15,0)*100 -> 0 | Y15: =SUMIFS(D15:U15,D12:U12,"=2") -> 0 | Z15: =SUMIFS(D13:U13,D12:U12,"=2") -> 0 | AA15: =IFERROR(Y15/Z15,0)*100 -> 0 | AB15: =SUMIFS(D15:U15,D12:U12,"=3") -> 0 | AC15: =SUMIFS(D13:U13,D12:U12,"=3") -> 0 | AD15: =IFERROR(AB15/AC15,0)*100 -> 0 | AE15: =(X15+AA15+AD15)/3 -> 0
A16: 11 | B16: =Données!B14 -> 0 | V16: =SUMIFS(D16:U16,D13:U13,"=1") -> 0 | W16: =SUMIFS(D14:U14,D13:U13,"=1") -> 0 | X16: =IFERROR(V16/W16,0)*100 -> 0 | Y16: =SUMIFS(D16:U16,D13:U13,"=2") -> 0 | Z16: =SUMIFS(D14:U14,D13:U13,"=2") -> 0 | AA16: =IFERROR(Y16/Z16,0)*100 -> 0 | AB16: =SUMIFS(D16:U16,D13:U13,"=3") -> 0 | AC16: =SUMIFS(D14:U14,D13:U13,"=3") -> 0 | AD16: =IFERROR(AB16/AC16,0)*100 -> 0 | AE16: =(X16+AA16+AD16)/3 -> 0
A17: 12 | B17: =Données!B15 -> 0 | V17: =SUMIFS(D17:U17,D14:U14,"=1") -> 0 | W17: =SUMIFS(D15:U15,D14:U14,"=1") -> 0 | X17: =IFERROR(V17/W17,0)*100 -> 0 | Y17: =SUMIFS(D17:U17,D14:U14,"=2") -> 0 | Z17: =SUMIFS(D15:U15,D14:U14,"=2") -> 0 | AA17: =IFERROR(Y17/Z17,0)*100 -> 0 | AB17: =SUMIFS(D17:U17,D14:U14,"=3") -> 0 | AC17: =SUMIFS(D15:U15,D14:U14,"=3") -> 0 | AD17: =IFERROR(AB17/AC17,0)*100 -> 0 | AE17: =(X17+AA17+AD17)/3 -> 0
... A30: 25 | B30: =Données!B28 -> 0 | V30: =SUMIFS(D30:U30,D27:U27,"=1") -> 0 | W30: =SUMIFS(D28:U28,D27:U27,"=1") -> 0 | X30: =IFERROR(V30/W30,0)*100 -> 0 | Y30: =SUMIFS(D30:U30,D27:U27,"=2") -> 0 | Z30: =SUMIFS(D28:U28,D27:U27,"=2") -> 0 | AA30: =IFERROR(Y30/Z30,0)*100 -> 0 | AB30: =SUMIFS(D30:U30,D27:U27,"=3") -> 0 | AC30: =SUMIFS(D28:U28,D27:U27,"=3") -> 0 | AD30: =IFERROR(AB30/AC30,0)*100 -> 0 | AE30: =(X30+AA30+AD30)/3 -> 0

Sheet Juin
B1: 2017 - 2018 | C1: Date
B2: Mathématiques | C2: Titre
B3: Période 2 | C3: Compétence
C4: Encodé sur | V4: =SUM(D4:U4) -> 0
A5: n° | B5: Nom - prénom | D5: 1 | E5: 2 | F5: 3 | G5: 4 | H5: 5 | I5: 6 | J5: 7 | K5: 8 | L5: 9 | M5: 10 | N5: 11 | O5: 12 | P5: 13 | Q5: 14 | R5: 15 | S5: 16 | T5: 17 | U5: 18 | V5: Total C1 | X5: % C1 | Y5: Total C2 | AA5: % C2 | AB5: Total C3 | AD5: % C3 | AE5: Total période
A6: 1 | B6: =Données!B4 -> 0 | V6: =SUMIFS(D6:U6,D3:U3,"=1") -> 0 | W6: =SUMIFS(D4:U4,D3:U3,"=1") -> 0 | X6: =IFERROR(V6/W6,0)*100 -> 0 | Y6: =SUMIFS(D6:U6,D3:U3,"=2") -> 0 | Z6: =SUMIFS(D4:U4,D3:U3,"=2") -> 0 | AA6: =IFERROR(Y6/Z6,0)*100 -> 0 | AB6: =SUMIFS(D6:U6,D3:U3,"=3") -> 0 | AC6: =SUMIFS(D4:U4,D3:U3,"=3") -> 0 | AD6: =IFERROR(AB6/AC6,0)*100 -> 0 | AE6: =(X6+AA6+AD6)/3 -> 0
A7: 2 | B7: =Données!B5 -> 0 | V7: =SUMIFS(D7:U7,D4:U4,"=1") -> 0 | W7: =SUMIFS(D5:U5,D4:U4,"=1") -> 0 | X7: =IFERROR(V7/W7,0)*100 -> 0 | Y7: =SUMIFS(D7:U7,D4:U4,"=2") -> 0 | Z7: =SUMIFS(D5:U5,D4:U4,"=2") -> 0 | AA7: =IFERROR(Y7/Z7,0)*100 -> 0 | AB7: =SUMIFS(D7:U7,D4:U4,"=3") -> 0 | AC7: =SUMIFS(D5:U5,D4:U4,"=3") -> 0 | AD7: =IFERROR(AB7/AC7,0)*100 -> 0 | AE7: =(X7+AA7+AD7)/3 -> 0
A8: 3 | B8: =Données!B6 -> 0 | V8: =SUMIFS(D8:U8,D5:U5,"=1") -> 0 | W8: =SUMIFS(D6:U6,D5:U5,"=1") -> 0 | X8: =IFERROR(V8/W8,0)*100 -> 0 | Y8: =SUMIFS(D8:U8,D5:U5,"=2") -> 0 | Z8: =SUMIFS(D6:U6,D5:U5,"=2") -> 0 | AA8: =IFERROR(Y8/Z8,0)*100 -> 0 | AB8: =SUMIFS(D8:U8,D5:U5,"=3") -> 0 | AC8: =SUMIFS(D6:U6,D5:U5,"=3") -> 0 | AD8: =IFERROR(AB8/AC8,0)*100 -> 0 | AE8: =(X8+AA8+AD8)/3 -> 0
A9: 4 | B9: =Données!B7 -> 0 | V9: =SUMIFS(D9:U9,D6:U6,"=1") -> 0 | W9: =SUMIFS(D7:U7,D6:U6,"=1") -> 0 | X9: =IFERROR(V9/W9,0)*100 -> 0 | Y9: =SUMIFS(D9:U9,D6:U6,"=2") -> 0 | Z9: =SUMIFS(D7:U7,D6:U6,"=2") -> 0 | AA9: =IFERROR(Y9/Z9,0)*100 -> 0 | AB9: =SUMIFS(D9:U9,D6:U6,"=3") -> 0 | AC9: =SUMIFS(D7:U7,D6:U6,"=3") -> 0 | AD9: =IFERROR(AB9/AC9,0)*100 -> 0 | AE9: =(X9+AA9+AD9)/3 -> 0
A10: 5 | B10: =Données!B8 -> 0 | V10: =SUMIFS(D10:U10,D7:U7,"=1") -> 0 | W10: =SUMIFS(D8:U8,D7:U7,"=1") -> 0 | X10: =IFERROR(V10/W10,0)*100 -> 0 | Y10: =SUMIFS(D10:U10,D7:U7,"=2") -> 0 | Z10: =SUMIFS(D8:U8,D7:U7,"=2") -> 0 | AA10: =IFERROR(Y10/Z10,0)*100 -> 0 | AB10: =SUMIFS(D10:U10,D7:U7,"=3") -> 0 | AC10: =SUMIFS(D8:U8,D7:U7,"=3") -> 0 | AD10: =IFERROR(AB10/AC10,0)*100 -> 0 | AE10: =(X10+AA10+AD10)/3 -> 0
A11: 6 | B11: =Données!B9 -> 0 | V11: =SUMIFS(D11:U11,D8:U8,"=1") -> 0 | W11: =SUMIFS(D9:U9,D8:U8,"=1") -> 0 | X11: =IFERROR(V11/W11,0)*100 -> 0 | Y11: =SUMIFS(D11:U11,D8:U8,"=2") -> 0 | Z11: =SUMIFS(D9:U9,D8:U8,"=2") -> 0 | AA11: =IFERROR(Y11/Z11,0)*100 -> 0 | AB11: =SUMIFS(D11:U11,D8:U8,"=3") -> 0 | AC11: =SUMIFS(D9:U9,D8:U8,"=3") -> 0 | AD11: =IFERROR(AB11/AC11,0)*100 -> 0 | AE11: =(X11+AA11+AD11)/3 -> 0
A12: 7 | B12: =Données!B10 -> 0 | V12: =SUMIFS(D12:U12,D9:U9,"=1") -> 0 | W12: =SUMIFS(D10:U10,D9:U9,"=1") -> 0 | X12: =IFERROR(V12/W12,0)*100 -> 0 | Y12: =SUMIFS(D12:U12,D9:U9,"=2") -> 0 | Z12: =SUMIFS(D10:U10,D9:U9,"=2") -> 0 | AA12: =IFERROR(Y12/Z12,0)*100 -> 0 | AB12: =SUMIFS(D12:U12,D9:U9,"=3") -> 0 | AC12: =SUMIFS(D10:U10,D9:U9,"=3") -> 0 | AD12: =IFERROR(AB12/AC12,0)*100 -> 0 | AE12: =(X12+AA12+AD12)/3 -> 0
A13: 8 | B13: =Données!B11 -> 0 | V13: =SUMIFS(D13:U13,D10:U10,"=1") -> 0 | W13: =SUMIFS(D11:U11,D10:U10,"=1") -> 0 | X13: =IFERROR(V13/W13,0)*100 -> 0 | Y13: =SUMIFS(D13:U13,D10:U10,"=2") -> 0 | Z13: =SUMIFS(D11:U11,D10:U10,"=2") -> 0 | AA13: =IFERROR(Y13/Z13,0)*100 -> 0 | AB13: =SUMIFS(D13:U13,D10:U10,"=3") -> 0 | AC13: =SUMIFS(D11:U11,D10:U10,"=3") -> 0 | AD13: =IFERROR(AB13/AC13,0)*100 -> 0 | AE13: =(X13+AA13+AD13)/3 -> 0
A14: 9 | B14: =Données!B12 -> 0 | V14: =SUMIFS(D14:U14,D11:U11,"=1") -> 0 | W14: =SUMIFS(D12:U12,D11:U11,"=1") -> 0 | X14: =IFERROR(V14/W14,0)*100 -> 0 | Y14: =SUMIFS(D14:U14,D11:U11,"=2") -> 0 | Z14: =SUMIFS(D12:U12,D11:U11,"=2") -> 0 | AA14: =IFERROR(Y14/Z14,0)*100 -> 0 | AB14: =SUMIFS(D14:U14,D11:U11,"=3") -> 0 | AC14: =SUMIFS(D12:U12,D11:U11,"=3") -> 0 | AD14: =IFERROR(AB14/AC14,0)*100 -> 0 | AE14: =(X14+AA14+AD14)/3 -> 0
A15: 10 | B15: =Données!B13 -> 0 | V15: =SUMIFS(D15:U15,D12:U12,"=1") -> 0 | W15: =SUMIFS(D13:U13,D12:U12,"=1") -> 0 | X15: =IFERROR(V15/W15,0)*100 -> 0 | Y15: =SUMIFS(D15:U15,D12:U12,"=2") -> 0 | Z15: =SUMIFS(D13:U13,D12:U12,"=2") -> 0 | AA15: =IFERROR(Y15/Z15,0)*100 -> 0 | AB15: =SUMIFS(D15:U15,D12:U12,"=3") -> 0 | AC15: =SUMIFS(D13:U13,D12:U12,"=3") -> 0 | AD15: =IFERROR(AB15/AC15,0)*100 -> 0 | AE15: =(X15+AA15+AD15)/3 -> 0
A16: 11 | B16: =Données!B14 -> 0 | V16: =SUMIFS(D16:U16,D13:U13,"=1") -> 0 | W16: =SUMIFS(D14:U14,D13:U13,"=1") -> 0 | X16: =IFERROR(V16/W16,0)*100 -> 0 | Y16: =SUMIFS(D16:U16,D13:U13,"=2") -> 0 | Z16: =SUMIFS(D14:U14,D13:U13,"=2") -> 0 | AA16: =IFERROR(Y16/Z16,0)*100 -> 0 | AB16: =SUMIFS(D16:U16,D13:U13,"=3") -> 0 | AC16: =SUMIFS(D14:U14,D13:U13,"=3") -> 0 | AD16: =IFERROR(AB16/AC16,0)*100 -> 0 | AE16: =(X16+AA16+AD16)/3 -> 0
A17: 12 | B17: =Données!B15 -> 0 | V17: =SUMIFS(D17:U17,D14:U14,"=1") -> 0 | W17: =SUMIFS(D15:U15,D14:U14,"=1") -> 0 | X17: =IFERROR(V17/W17,0)*100 -> 0 | Y17: =SUMIFS(D17:U17,D14:U14,"=2") -> 0 | Z17: =SUMIFS(D15:U15,D14:U14,"=2") -> 0 | AA17: =IFERROR(Y17/Z17,0)*100 -> 0 | AB17: =SUMIFS(D17:U17,D14:U14,"=3") -> 0 | AC17: =SUMIFS(D15:U15,D14:U14,"=3") -> 0 | AD17: =IFERROR(AB17/AC17,0)*100 -> 0 | AE17: =(X17+AA17+AD17)/3 -> 0
... A30: 25 | B30: =Données!B28 -> 0 | V30: =SUMIFS(D30:U30,D27:U27,"=1") -> 0 | W30: =SUMIFS(D28:U28,D27:U27,"=1") -> 0 | X30: =IFERROR(V30/W30,0)*100 -> 0 | Y30: =SUMIFS(D30:U30,D27:U27,"=2") -> 0 | Z30: =SUMIFS(D28:U28,D27:U27,"=2") -> 0 | AA30: =IFERROR(Y30/Z30,0)*100 -> 0 | AB30: =SUMIFS(D30:U30,D27:U27,"=3") -> 0 | AC30: =SUMIFS(D28:U28,D27:U27,"=3") -> 0 | AD30: =IFERROR(AB30/AC30,0)*100 -> 0 | AE30: =(X30+AA30+AD30)/3 -> 0

Sheet Globa
A1: n° | B1: Nom - prénom | C1: P1 | D1: P2 | E1: Noël | F1: P3 | G1: P4 | H1: Juin | I1: GLOBA | J1: LETTRE
A2: 1 | B2: =Données!B4 -> 0 | C2: ='P1'!AE6 -> 0 | D2: ='P2'!AE6 -> 0 | E2: =Noël!AE6 -> 0 | F2: ='P3'!AE6 -> 0 | G2: ='P4'!AE6 -> 0 | H2: =Juin!AE6 -> 0
A3: 2 | B3: =Données!B5 -> 0 | C3: ='P1'!AE7 -> 0 | D3: ='P2'!AE7 -> 0 | E3: =Noël!AE7 -> 0 | F3: ='P3'!AE7 -> 0 | G3: ='P4'!AE7 -> 0 | H3: =Juin!AE7 -> 0
A4: 3 | B4: =Données!B6 -> 0 | C4: ='P1'!AE8 -> 0 | D4: ='P2'!AE8 -> 0 | E4: =Noël!AE8 -> 0 | F4: ='P3'!AE8 -> 0 | G4: ='P4'!AE8 -> 0 | H4: =Juin!AE8 -> 0 | I4: =SUM(C4:H4) -> 0
A5: 4 | B5: =Données!B7 -> 0 | C5: ='P1'!AE9 -> 0 | D5: ='P2'!AE9 -> 0 | E5: =Noël!AE9 -> 0 | F5: ='P3'!AE9 -> 0 | G5: ='P4'!AE9 -> 0 | H5: =Juin!AE9 -> 0 | I5: =SUM(C5:H5) -> 0
A6: 5 | B6: =Données!B8 -> 0 | C6: ='P1'!AE10 -> 0 | D6: ='P2'!AE10 -> 0 | E6: =Noël!AE10 -> 0 | F6: ='P3'!AE10 -> 0 | G6: ='P4'!AE10 -> 0 | H6: =Juin!AE10 -> 0 | I6: =SUM(C6:H6) -> 0
A7: 6 | B7: =Données!B9 -> 0 | C7: ='P1'!AE11 -> 0 | D7: ='P2'!AE11 -> 0 | E7: =Noël!AE11 -> 0 | F7: ='P3'!AE11 -> 0 | G7: ='P4'!AE11 -> 0 | H7: =Juin!AE11 -> 0 | I7: =SUM(C7:H7) -> 0
A8: 7 | B8: =Données!B10 -> 0 | C8: ='P1'!AE12 -> 0 | D8: ='P2'!AE12 -> 0 | E8: =Noël!AE12 -> 0 | F8: ='P3'!AE12 -> 0 | G8: ='P4'!AE12 -> 0 | H8: =Juin!AE12 -> 0 | I8: =SUM(C8:H8) -> 0
A9: 8 | B9: =Données!B11 -> 0 | C9: ='P1'!AE13 -> 0 | D9: ='P2'!AE13 -> 0 | E9: =Noël!AE13 -> 0 | F9: ='P3'!AE13 -> 0 | G9: ='P4'!AE13 -> 0 | H9: =Juin!AE13 -> 0 | I9: =SUM(C9:H9) -> 0
A10: 9 | B10: =Données!B12 -> 0 | C10: ='P1'!AE14 -> 0 | D10: ='P2'!AE14 -> 0 | E10: =Noël!AE14 -> 0 | F10: ='P3'!AE14 -> 0 | G10: ='P4'!AE14 -> 0 | H10: =Juin!AE14 -> 0 | I10: =SUM(C10:H10) -> 0
A11: 10 | B11: =Données!B13 -> 0 | C11: ='P1'!AE15 -> 0 | D11: ='P2'!AE15 -> 0 | E11: =Noël!AE15 -> 0 | F11: ='P3'!AE15 -> 0 | G11: ='P4'!AE15 -> 0 | H11: =Juin!AE15 -> 0 | I11: =SUM(C11:H11) -> 0
A12: 11 | B12: =Données!B14 -> 0 | C12: ='P1'!AE16 -> 0 | D12: ='P2'!AE16 -> 0 | E12: =Noël!AE16 -> 0 | F12: ='P3'!AE16 -> 0 | G12: ='P4'!AE16 -> 0 | H12: =Juin!AE16 -> 0 | I12: =SUM(C12:H12) -> 0
A13: 12 | B13: =Données!B15 -> 0 | C13: ='P1'!AE17 -> 0 | D13: ='P2'!AE17 -> 0 | E13: =Noël!AE17 -> 0 | F13: ='P3'!AE17 -> 0 | G13: ='P4'!AE17 -> 0 | H13: =Juin!AE17 -> 0 | I13: =SUM(C13:H13) -> 0
A14: 13 | B14: =Données!B16 -> 0 | C14: ='P1'!AE18 -> 0 | D14: ='P2'!AE18 -> 0 | E14: =Noël!AE18 -> 0 | F14: ='P3'!AE18 -> 0 | G14: ='P4'!AE18 -> 0 | H14: =Juin!AE18 -> 0 | I14: =SUM(C14:H14) -> 0
A15: 14 | B15: =Données!B17 -> 0 | C15: ='P1'!AE19 -> 0 | D15: ='P2'!AE19 -> 0 | E15: =Noël!AE19 -> 0 | F15: ='P3'!AE19 -> 0 | G15: ='P4'!AE19 -> 0 | H15: =Juin!AE19 -> 0 | I15: =SUM(C15:H15) -> 0
... A25: 24 | B25: =Données!B27 -> 0 | C25: ='P1'!AE29 -> 0 | D25: ='P2'!AE29 -> 0 | E25: =Noël!AE29 -> 0 | F25: ='P3'!AE29 -> 0 | G25: ='P4'!AE29 -> 0 | H25: =Juin!AE29 -> 0 | I25: =SUM(C25:H25) -> 0
