Workbook
Name Auditeurs: [1]Auditeur!$B$2:$B$85
Name Initale: [1]Auditeur!$B$2:$B$10
Name Initial: [1]Auditeur!$B$2:$B$10
Name Liste_auditeurs: [1]Auditeur!$A$2:$A$10

Sheet  Planning et suivi
A1: =TODAY() -> 42900
H3: Délai d'avancement des actions
H4: =U16 -> Terminée | I4: =Z18 -> 0
A5: Délai d'avancement de la réalisation | H5: =T16 -> En retard | I5: =Y18 -> 0
A6: =P16 -> Total Respecté | B6: =P18 -> 0 | H6: =R16 -> Pas commencée | I6: =W18 -> 0
A7: =Q16 -> Total Retard | B7: =Q18 -> 0 | H7: =S16 -> Commencée | I7: =X18 -> 0
H8: =V16 -> Pas de délai | I8: =AA18 -> 0
H9: Avancement des actions | I9: =(SUBTOTAL(9,K18:K1048576))/(SUBTOTAL(3,K18:K1048576)) -> #DIV/0!
N15: Gestion délai réalisation audit | R15: Gestion d'avancement des actions | W15: Total des avancement
N16: Respecté | O16: Retard | P16: Total Respecté | Q16: Total Retard | R16: Pas commencée | S16: Commencée | T16: En retard | U16: Terminée | V16: Pas de délai | W16: Pas commencée | X16: Commencée | Y16: En retard | Z16: Terminée | AA16: Pas de délai
A17: Ligne/Poste | B17: Auditeur | C17: Résultat (noté OK ou NOK) | D17: Date de planification JJ/MM/AAAA | E17: Date de réalisation JJ/MM/AAAA | F17: Délai | H17: Action(s) | I17: Pilote | J17: Délai (date de planification JJ/MM/AAAA) | K17: Avancement | L17: État
F18: =IF(E18=0,"",IF(AND(E18=0,D18=0),"",(IF(D18>=E18,"Respecté","Retard")))) | L18: =IF(A18="","",IF(J18="","Pas de délai",IF(K18=1,"Terminée",IF(J18<$A$1,"En retard",IF(K18=0,"Pas commencée","Commencée"))))) | N18: =IF(F18=$N$16,1,"") | O18: =IF(F18=$O$16,1,"") | P18: =SUBTOTAL(9,N17:N1048574) -> 0 | Q18: =SUBTOTAL(9,O17:O1048574) -> 0 | R18: =IF(L18=$R$16,1,"") | S18: =IF(L18=$S$16,1,"") | T18: =IF(L18=$T$16,1,"") | U18: =IF(L18=$U$16,1,"") | V18: =IF(L18=$V$16,1,"") | W18: =SUBTOTAL(9,R17:R1048574) -> 0 | X18: =SUBTOTAL(9,S17:S1048574) -> 0 | Y18: =SUBTOTAL(9,T17:T1048574) -> 0 | Z18: =SUBTOTAL(9,U17:U1048574) -> 0 | AA18: =SUBTOTAL(9,V17:V1048574) -> 0
F19: =IF(E19=0,"",IF(AND(E19=0,D19=0),"",(IF(D19>=E19,"Respecté","Retard")))) | L19: =IF(A19="","",IF(J19="","Pas de délai",IF(K19=1,"Terminée",IF(J19<$A$1,"En retard",IF(K19=0,"Pas commencée","Commencée"))))) | N19: =IF(F19=$N$16,1,"") | O19: =IF(F19=$O$16,1,"") | R19: =IF(L19=$R$16,1,"") | S19: =IF(L19=$S$16,1,"") | T19: =IF(L19=$T$16,1,"") | U19: =IF(L19=$U$16,1,"") | V19: =IF(L19=$V$16,1,"")
F20: =IF(E20=0,"",IF(AND(E20=0,D20=0),"",(IF(D20>=E20,"Respecté","Retard")))) | L20: =IF(A20="","",IF(J20="","Pas de délai",IF(K20=1,"Terminée",IF(J20<$A$1,"En retard",IF(K20=0,"Pas commencée","Commencée"))))) | N20: =IF(F20=$N$16,1,"") | O20: =IF(F20=$O$16,1,"") | R20: =IF(L20=$R$16,1,"") | S20: =IF(L20=$S$16,1,"") | T20: =IF(L20=$T$16,1,"") | U20: =IF(L20=$U$16,1,"") | V20: =IF(L20=$V$16,1,"")
F21: =IF(E21=0,"",IF(AND(E21=0,D21=0),"",(IF(D21>=E21,"Respecté","Retard")))) | L21: =IF(A21="","",IF(J21="","Pas de délai",IF(K21=1,"Terminée",IF(J21<$A$1,"En retard",IF(K21=0,"Pas commencée","Commencée"))))) | N21: =IF(F21=$N$16,1,"") | O21: =IF(F21=$O$16,1,"") | R21: =IF(L21=$R$16,1,"") | S21: =IF(L21=$S$16,1,"") | T21: =IF(L21=$T$16,1,"") | U21: =IF(L21=$U$16,1,"") | V21: =IF(L21=$V$16,1,"")
F22: =IF(E22=0,"",IF(AND(E22=0,D22=0),"",(IF(D22>=E22,"Respecté","Retard")))) | L22: =IF(A22="","",IF(J22="","Pas de délai",IF(K22=1,"Terminée",IF(J22<$A$1,"En retard",IF(K22=0,"Pas commencée","Commencée"))))) | N22: =IF(F22=$N$16,1,"") | O22: =IF(F22=$O$16,1,"") | R22: =IF(L22=$R$16,1,"") | S22: =IF(L22=$S$16,1,"") | T22: =IF(L22=$T$16,1,"") | U22: =IF(L22=$U$16,1,"") | V22: =IF(L22=$V$16,1,"")
F23: =IF(E23=0,"",IF(AND(E23=0,D23=0),"",(IF(D23>=E23,"Respecté","Retard")))) | L23: =IF(A23="","",IF(J23="","Pas de délai",IF(K23=1,"Terminée",IF(J23<$A$1,"En retard",IF(K23=0,"Pas commencée","Commencée"))))) | N23: =IF(F23=$N$16,1,"") | O23: =IF(F23=$O$16,1,"") | R23: =IF(L23=$R$16,1,"") | S23: =IF(L23=$S$16,1,"") | T23: =IF(L23=$T$16,1,"") | U23: =IF(L23=$U$16,1,"") | V23: =IF(L23=$V$16,1,"")
F24: =IF(E24=0,"",IF(AND(E24=0,D24=0),"",(IF(D24>=E24,"Respecté","Retard")))) | L24: =IF(A24="","",IF(J24="","Pas de délai",IF(K24=1,"Terminée",IF(J24<$A$1,"En retard",IF(K24=0,"Pas commencée","Commencée"))))) | N24: =IF(F24=$N$16,1,"") | O24: =IF(F24=$O$16,1,"") | R24: =IF(L24=$R$16,1,"") | S24: =IF(L24=$S$16,1,"") | T24: =IF(L24=$T$16,1,"") | U24: =IF(L24=$U$16,1,"") | V24: =IF(L24=$V$16,1,"")
F25: =IF(E25=0,"",IF(AND(E25=0,D25=0),"",(IF(D25>=E25,"Respecté","Retard")))) | L25: =IF(A25="","",IF(J25="","Pas de délai",IF(K25=1,"Terminée",IF(J25<$A$1,"En retard",IF(K25=0,"Pas commencée","Commencée"))))) | N25: =IF(F25=$N$16,1,"") | O25: =IF(F25=$O$16,1,"") | R25: =IF(L25=$R$16,1,"") | S25: =IF(L25=$S$16,1,"") | T25: =IF(L25=$T$16,1,"") | U25: =IF(L25=$U$16,1,"") | V25: =IF(L25=$V$16,1,"")
F26: =IF(E26=0,"",IF(AND(E26=0,D26=0),"",(IF(D26>=E26,"Respecté","Retard")))) | L26: =IF(A26="","",IF(J26="","Pas de délai",IF(K26=1,"Terminée",IF(J26<$A$1,"En retard",IF(K26=0,"Pas commencée","Commencée"))))) | N26: =IF(F26=$N$16,1,"") | O26: =IF(F26=$O$16,1,"") | R26: =IF(L26=$R$16,1,"") | S26: =IF(L26=$S$16,1,"") | T26: =IF(L26=$T$16,1,"") | U26: =IF(L26=$U$16,1,"") | V26: =IF(L26=$V$16,1,"")
F27: =IF(E27=0,"",IF(AND(E27=0,D27=0),"",(IF(D27>=E27,"Respecté","Retard")))) | L27: =IF(A27="","",IF(J27="","Pas de délai",IF(K27=1,"Terminée",IF(J27<$A$1,"En retard",IF(K27=0,"Pas commencée","Commencée"))))) | N27: =IF(F27=$N$16,1,"") | O27: =IF(F27=$O$16,1,"") | R27: =IF(L27=$R$16,1,"") | S27: =IF(L27=$S$16,1,"") | T27: =IF(L27=$T$16,1,"") | U27: =IF(L27=$U$16,1,"") | V27: =IF(L27=$V$16,1,"")
F28: =IF(E28=0,"",IF(AND(E28=0,D28=0),"",(IF(D28>=E28,"Respecté","Retard")))) | L28: =IF(A28="","",IF(J28="","Pas de délai",IF(K28=1,"Terminée",IF(J28<$A$1,"En retard",IF(K28=0,"Pas commencée","Commencée"))))) | N28: =IF(F28=$N$16,1,"") | O28: =IF(F28=$O$16,1,"") | R28: =IF(L28=$R$16,1,"") | S28: =IF(L28=$S$16,1,"") | T28: =IF(L28=$T$16,1,"") | U28: =IF(L28=$U$16,1,"") | V28: =IF(L28=$V$16,1,"")
F29: =IF(E29=0,"",IF(AND(E29=0,D29=0),"",(IF(D29>=E29,"Respecté","Retard")))) | L29: =IF(A29="","",IF(J29="","Pas de délai",IF(K29=1,"Terminée",IF(J29<$A$1,"En retard",IF(K29=0,"Pas commencée","Commencée"))))) | N29: =IF(F29=$N$16,1,"") | O29: =IF(F29=$O$16,1,"") | R29: =IF(L29=$R$16,1,"") | S29: =IF(L29=$S$16,1,"") | T29: =IF(L29=$T$16,1,"") | U29: =IF(L29=$U$16,1,"") | V29: =IF(L29=$V$16,1,"")
F30: =IF(E30=0,"",IF(AND(E30=0,D30=0),"",(IF(D30>=E30,"Respecté","Retard")))) | L30: =IF(A30="","",IF(J30="","Pas de délai",IF(K30=1,"Terminée",IF(J30<$A$1,"En retard",IF(K30=0,"Pas commencée","Commencée"))))) | N30: =IF(F30=$N$16,1,"") | O30: =IF(F30=$O$16,1,"") | R30: =IF(L30=$R$16,1,"") | S30: =IF(L30=$S$16,1,"") | T30: =IF(L30=$T$16,1,"") | U30: =IF(L30=$U$16,1,"") | V30: =IF(L30=$V$16,1,"")
... F169: =IF(E169=0,"",IF(AND(E169=0,D169=0),"",(IF(D169>=E169,"Respecté","Retard")))) | L169: =IF(A169="","",IF(J169="","Pas de délai",IF(K169=1,"Terminée",IF(J169<$A$1,"En retard",IF(K169=0,"Pas commencée","Commencée"))))) | N169: =IF(F169=$N$16,1,"") | O169: =IF(F169=$O$16,1,"") | R169: =IF(L169=$R$16,1,"") | S169: =IF(L169=$S$16,1,"") | T169: =IF(L169=$T$16,1,"") | U169: =IF(L169=$U$16,1,"") | V169: =IF(L169=$V$16,1,"")
L170: =IF(A170="","",IF(J170="","Pas de délai",IF(K170=1,"Terminée",IF(J170<$A$1,"En retard",IF(K170=0,"Pas commencée","Commencée"))))) | N170: =IF(F170=$N$16,1,"") | O170: =IF(F170=$O$16,1,"") | R170: =IF(L170=$R$16,1,"") | S170: =IF(L170=$S$16,1,"") | T170: =IF(L170=$T$16,1,"") | U170: =IF(L170=$U$16,1,"") | V170: =IF(L170=$V$16,1,"")
L171: =IF(A171="","",IF(J171="","Pas de délai",IF(K171=1,"Terminée",IF(J171<$A$1,"En retard",IF(K171=0,"Pas commencée","Commencée"))))) | N171: =IF(F171=$N$16,1,"") | O171: =IF(F171=$O$16,1,"") | R171: =IF(L171=$R$16,1,"") | S171: =IF(L171=$S$16,1,"") | T171: =IF(L171=$T$16,1,"") | U171: =IF(L171=$U$16,1,"") | V171: =IF(L171=$V$16,1,"")
L172: =IF(A172="","",IF(J172="","Pas de délai",IF(K172=1,"Terminée",IF(J172<$A$1,"En retard",IF(K172=0,"Pas commencée","Commencée"))))) | N172: =IF(F172=$N$16,1,"") | O172: =IF(F172=$O$16,1,"") | R172: =IF(L172=$R$16,1,"") | S172: =IF(L172=$S$16,1,"") | T172: =IF(L172=$T$16,1,"") | U172: =IF(L172=$U$16,1,"") | V172: =IF(L172=$V$16,1,"")
L173: =IF(A173="","",IF(J173="","Pas de délai",IF(K173=1,"Terminée",IF(J173<$A$1,"En retard",IF(K173=0,"Pas commencée","Commencée"))))) | N173: =IF(F173=$N$16,1,"") | O173: =IF(F173=$O$16,1,"") | R173: =IF(L173=$R$16,1,"") | S173: =IF(L173=$S$16,1,"") | T173: =IF(L173=$T$16,1,"") | U173: =IF(L173=$U$16,1,"") | V173: =IF(L173=$V$16,1,"")
L174: =IF(A174="","",IF(J174="","Pas de délai",IF(K174=1,"Terminée",IF(J174<$A$1,"En retard",IF(K174=0,"Pas commencée","Commencée"))))) | N174: =IF(F174=$N$16,1,"") | O174: =IF(F174=$O$16,1,"") | R174: =IF(L174=$R$16,1,"") | S174: =IF(L174=$S$16,1,"") | T174: =IF(L174=$T$16,1,"") | U174: =IF(L174=$U$16,1,"") | V174: =IF(L174=$V$16,1,"")
L175: =IF(A175="","",IF(J175="","Pas de délai",IF(K175=1,"Terminée",IF(J175<$A$1,"En retard",IF(K175=0,"Pas commencée","Commencée"))))) | N175: =IF(F175=$N$16,1,"") | O175: =IF(F175=$O$16,1,"") | R175: =IF(L175=$R$16,1,"") | S175: =IF(L175=$S$16,1,"") | T175: =IF(L175=$T$16,1,"") | U175: =IF(L175=$U$16,1,"") | V175: =IF(L175=$V$16,1,"")
L176: =IF(A176="","",IF(J176="","Pas de délai",IF(K176=1,"Terminée",IF(J176<$A$1,"En retard",IF(K176=0,"Pas commencée","Commencée"))))) | N176: =IF(F176=$N$16,1,"") | O176: =IF(F176=$O$16,1,"")
L177: =IF(A177="","",IF(J177="","Pas de délai",IF(K177=1,"Terminée",IF(J177<$A$1,"En retard",IF(K177=0,"Pas commencée","Commencée"))))) | N177: =IF(F177=$N$16,1,"") | O177: =IF(F177=$O$16,1,"")

Sheet Calendrier
B1: W1 | C1: W2 | D1: W3 | E1: W4 | F1: W5 | G1: W6 | H1: W7 | I1: W8 | J1: W9 | K1: W10 | L1: W11 | M1: W12 | N1: W13 | O1: W14 | P1: W15 | Q1: W16 | R1: W17 | S1: W18 | T1: W19 | U1: W20 | V1: W21 | W1: W22 | X1: W23 | Y1: W24 | Z1: W25 | AA1: W26 | AB1: W27 | AC1: W28 | AD1: W29 | AE1: W30 | AF1: W31 | AG1: W32 | AH1: W33 | AI1: W34 | AJ1: W35 | AK1: W36 | AL1: W37 | AM1: W38 | AN1: W39 | AO1: W40 | AP1: W41 | AQ1: W42 | AR1: W43 | AS1: W44 | AT1: W45 | AU1: W46 | AV1: W47 | AW1: W48 | AX1: W49 | AY1: W50 | AZ1: W51 | BA1: W52 | BB1: Nbre de d'audit planifié
A2: N° ligne
A3: Secteur 1
A4: ZAP FE - Bâtiment A
A5: V013 | X5: =IF(AND(X1=' Planning et suivi'!$D18,A5=' Planning et suivi'!A18),' Planning et suivi'!B18,"") | Z5: =IF(AND(Z1=' Planning et suivi'!$D18,X5=' Planning et suivi'!C18),' Planning et suivi'!D18,"") | AA5: =IF(AND(AA1=' Planning et suivi'!$D18,Y5=' Planning et suivi'!D18),' Planning et suivi'!E18,"") | AB5: =IF(AND(AB1=' Planning et suivi'!$D18,Z5=' Planning et suivi'!E18),' Planning et suivi'!F18,"") | AM5: =IF(AND(AM1=' Planning et suivi'!$D18,AK5=' Planning et suivi'!P18),' Planning et suivi'!Q18,"") | AN5: =IF(AND(AN1=' Planning et suivi'!$D18,AL5=' Planning et suivi'!Q18),' Planning et suivi'!R18,"") | AO5: =IF(AND(AO1=' Planning et suivi'!$D18,AM5=' Planning et suivi'!R18),' Planning et suivi'!S18,"") | AP5: =IF(AND(AP1=' Planning et suivi'!$D18,AN5=' Planning et suivi'!S18),' Planning et suivi'!T18,"") | AQ5: =IF(AND(AQ1=' Planning et suivi'!$D18,AO5=' Planning et suivi'!T18),' Planning et suivi'!U18,"") | AR5: =IF(AND(AR1=' Planning et suivi'!$D18,AP5=' Planning et suivi'!U18),' Planning et suivi'!V18,"") | AS5: =IF(AND(AS1=' Planning et suivi'!$D18,AQ5=' Planning et suivi'!V18),' Planning et suivi'!W18,"") | AT5: =IF(AND(AT1=' Planning et suivi'!$D18,AR5=' Planning et suivi'!W18),' Planning et suivi'!X18,"") | ... BA5: =IF(AND(BA1=' Planning et suivi'!$D18,AY5=' Planning et suivi'!AD18),' Planning et suivi'!AE18,"") | BB5: =52-COUNTBLANK(B5:BA5) -> 0
A6: V002/V024 | BB6: =52-COUNTBLANK(B6:BA6) -> 0
A7: V010 | BB7: =52-COUNTBLANK(B7:BA7) -> 0
A8: V011 | BB8: =52-COUNTBLANK(B8:BA8) -> 0
A9: V018 | BB9: =52-COUNTBLANK(B9:BA9) -> 0
A10: V016 | BB10: =52-COUNTBLANK(B10:BA10) -> 0
A11: V033/V035/V046 | BB11: =52-COUNTBLANK(B11:BA11) -> 0
A12: V019 | BB12: =52-COUNTBLANK(B12:BA12) -> 0
A13: V904 | BB13: =52-COUNTBLANK(B13:BA13) -> 0
A14: V910 | BB14: =52-COUNTBLANK(B14:BA14) -> 0
A15: V949 | BB15: =52-COUNTBLANK(B15:BA15) -> 0
A16: V962 | BB16: =52-COUNTBLANK(B16:BA16) -> 0
A17: V901 | BB17: =52-COUNTBLANK(B17:BA17) -> 0
... A47: Petit tonnage (40t < ou = à 80t) | BB47: =52-COUNTBLANK(B47:BA47) -> 0
A48: 607 | BB48: =52-COUNTBLANK(B48:BA48) -> 0
A49: 610 | BB49: =52-COUNTBLANK(B49:BA49) -> 0
A50: 614 | BB50: =52-COUNTBLANK(B50:BA50) -> 0
A51: 615 | BB51: =52-COUNTBLANK(B51:BA51) -> 0
A52: 620 | BB52: =52-COUNTBLANK(B52:BA52) -> 0
A53: 630 | BB53: =52-COUNTBLANK(B53:BA53) -> 0
A54: Secteur 4 | BB54: =52-COUNTBLANK(B54:BA54) -> 0
A55: Moyen tonnage (100t < 200t) | BB55: =52-COUNTBLANK(B55:BA55) -> 0
A56: 634 | BB56: =52-COUNTBLANK(B56:BA56) -> 0
A57: 635 | BB57: =52-COUNTBLANK(B57:BA57) -> 0
A58: 636 | BB58: =52-COUNTBLANK(B58:BA58) -> 0
A59: 637 | BB59: =52-COUNTBLANK(B59:BA59) -> 0
A60: 638 | BB60: =52-COUNTBLANK(B60:BA60) -> 0
A61: 639 | BB61: =52-COUNTBLANK(B61:BA61) -> 0
A62: 640 | BB62: =52-COUNTBLANK(B62:BA62) -> 0
A63: 642 | BB63: =52-COUNTBLANK(B63:BA63) -> 0
A64: 645 | BB64: =52-COUNTBLANK(B64:BA64) -> 0
A65: 643 | BB65: =52-COUNTBLANK(B65:BA65) -> 0
A66: 644 | BB66: =52-COUNTBLANK(B66:BA66) -> 0
A67: 645 | BB67: =52-COUNTBLANK(B67:BA67) -> 0
A68: Secteur 5 | BB68: =52-COUNTBLANK(B68:BA68) -> 0
A69: Grand tonnage (200t < 600t) | BB69: =52-COUNTBLANK(B69:BA69) -> 0
...
