Workbook
Name _6102_0032: [1]POTENTIELS!#REF!
Name Carb_DL06_civil: #REF!
Name Carb_DL06_F54: #REF!
Name Carb_DMD34_Civil: #REF!
Name Carb_DMD34_F54: #REF!
Name Carb_EMT13_civil: #REF!
Name Carb_EMT13_F54: #REF!
Name Date_du_jour: #REF!
Name Km_DET34_GS: [1]POTENTIELS!#REF!
Name Km_DL06_GS: [1]POTENTIELS!#REF!
Name Km_DL06_Loc: [1]POTENTIELS!#REF!
Name Km_EMT13_GS: [1]POTENTIELS!#REF!
Name Km_EMT13_Loc: [1]POTENTIELS!#REF!
Name StatutVHL: [2]Données!$B$3:$B$4

Sheet G0
J1: PRESENCE | R1: X | S1: Y | T1: Z | U1: T
A2: G | B2: NIV | C2: R | D2: NOM | E2: Prénom | F2: NUM | G2: CLASSE | H2: IN | I2: OUT | J2: =Résumé!A1 -> 42897 | K2: G | L2: P | M2: R | N2: IN | O2: OU | Q2: P | R2: =COUNTIF($L:$L,R1) -> 5 | S2: =COUNTIF($L:$L,S1) -> 7 | T2: =COUNTIF($L:$L,T1) -> 2 | U2: =SUM(R2:T2) -> 14
A3: G0 | B3: BC1 | D3: TARTANPION | E3: HUGUETTE | H3: 42884 | I3: 42915 | J3: =IF(AND($J$2>=H3,$J$2<=I3),"OUI","NON") -> OUI | K3: =IF(OR(B3="CES",B3="CNE",B3="LTN",B3="SLT",B3="ASP"),"X",IF(OR(B3="ACH",B3="ADC",B3="ADJ",B3="MAJ",B3="MJR",B3="MDL",B3="MCH",B3="MDC",B3="SGT",B3="SGC",B3="SCH"),"Y","Z")) -> Z | L3: =IF(J3="OUI",K3,"") -> Z | M3: =IF(C3="R",L3,"") | N3: =IF(H3=Résumé!$A$1,K3,"") | O3: =IF(I3=Résumé!$A$1-1,K3,"") | Q3: R | R3: =COUNTIF($M:$M,R1) -> 3 | S3: =COUNTIF($M:$M,S1) -> 1 | T3: =COUNTIF($M:$M,T1) -> 0 | U3: =SUM(R3:T3) -> 4
A4: G0 | B4: SLT | C4: R | H4: 42892 | I4: 42909 | J4: =IF(AND($J$2>=H4,$J$2<=I4),"OUI","NON") -> OUI | K4: =IF(OR(B4="CES",B4="CNE",B4="LTN",B4="SLT",B4="ASP"),"X",IF(OR(B4="ACH",B4="ADC",B4="ADJ",B4="MAJ",B4="MJR",B4="MDL",B4="MCH",B4="MDC",B4="SGT",B4="SGC",B4="SCH"),"Y","Z")) -> X | L4: =IF(J4="OUI",K4,"") -> X | M4: =IF(C4="R",L4,"") -> X | N4: =IF(H4=Résumé!$A$1,K4,"") | O4: =IF(I4=Résumé!$A$1-1,K4,"") | Q4: IN | R4: =COUNTIF($N:$N,R1) -> 0 | S4: =COUNTIF($N:$N,S1) -> 0 | T4: =COUNTIF($N:$N,T1) -> 0 | U4: =SUM(R4:T4) -> 0
A5: G0 | B5: ADJ | H5: 42892 | I5: 42951 | J5: =IF(AND($J$2>=H5,$J$2<=I5),"OUI","NON") -> OUI | K5: =IF(OR(B5="CES",B5="CNE",B5="LTN",B5="SLT",B5="ASP"),"X",IF(OR(B5="ACH",B5="ADC",B5="ADJ",B5="MAJ",B5="MJR",B5="MDL",B5="MCH",B5="MDC",B5="SGT",B5="SGC",B5="SCH"),"Y","Z")) -> Y | L5: =IF(J5="OUI",K5,"") -> Y | M5: =IF(C5="R",L5,"") | N5: =IF(H5=Résumé!$A$1,K5,"") | O5: =IF(I5=Résumé!$A$1-1,K5,"") | Q5: OUT | R5: =COUNTIF($O:$O,R1) -> 0 | S5: =COUNTIF($O:$O,S1) -> 0 | T5: =COUNTIF($O:$O,T1) -> 0 | U5: =SUM(R5:T5) -> 0
A6: G0 | B6: CNE | C6: R | H6: 42892 | I6: 42928 | J6: =IF(AND($J$2>=H6,$J$2<=I6),"OUI","NON") -> OUI | K6: =IF(OR(B6="CES",B6="CNE",B6="LTN",B6="SLT",B6="ASP"),"X",IF(OR(B6="ACH",B6="ADC",B6="ADJ",B6="MAJ",B6="MJR",B6="MDL",B6="MCH",B6="MDC",B6="SGT",B6="SGC",B6="SCH"),"Y","Z")) -> X | L6: =IF(J6="OUI",K6,"") -> X | M6: =IF(C6="R",L6,"") -> X | N6: =IF(H6=Résumé!$A$1,K6,"") | O6: =IF(I6=Résumé!$A$1-1,K6,"")
A7: G0 | B7: LTN | C7: R | H7: 42892 | I7: 42911 | J7: =IF(AND($J$2>=H7,$J$2<=I7),"OUI","NON") -> OUI | K7: =IF(OR(B7="CES",B7="CNE",B7="LTN",B7="SLT",B7="ASP"),"X",IF(OR(B7="ACH",B7="ADC",B7="ADJ",B7="MAJ",B7="MJR",B7="MDL",B7="MCH",B7="MDC",B7="SGT",B7="SGC",B7="SCH"),"Y","Z")) -> X | L7: =IF(J7="OUI",K7,"") -> X | M7: =IF(C7="R",L7,"") -> X | N7: =IF(H7=Résumé!$A$1,K7,"") | O7: =IF(I7=Résumé!$A$1-1,K7,"")
A8: G0 | B8: SGT | H8: 42884 | I8: 42915 | J8: =IF(AND($J$2>=H8,$J$2<=I8),"OUI","NON") -> OUI | K8: =IF(OR(B8="CES",B8="CNE",B8="LTN",B8="SLT",B8="ASP"),"X",IF(OR(B8="ACH",B8="ADC",B8="ADJ",B8="MAJ",B8="MJR",B8="MDL",B8="MCH",B8="MDC",B8="SGT",B8="SGC",B8="SCH"),"Y","Z")) -> Y | L8: =IF(J8="OUI",K8,"") -> Y | M8: =IF(C8="R",L8,"") | N8: =IF(H8=Résumé!$A$1,K8,"") | O8: =IF(I8=Résumé!$A$1-1,K8,"")
A9: G0 | B9: BGR | H9: 42892 | I9: 42951 | J9: =IF(AND($J$2>=H9,$J$2<=I9),"OUI","NON") -> OUI | K9: =IF(OR(B9="CES",B9="CNE",B9="LTN",B9="SLT",B9="ASP"),"X",IF(OR(B9="ACH",B9="ADC",B9="ADJ",B9="MAJ",B9="MJR",B9="MDL",B9="MCH",B9="MDC",B9="SGT",B9="SGC",B9="SCH"),"Y","Z")) -> Z | L9: =IF(J9="OUI",K9,"") -> Z | M9: =IF(C9="R",L9,"") | N9: =IF(H9=Résumé!$A$1,K9,"") | O9: =IF(I9=Résumé!$A$1-1,K9,"")
A10: G0 | B10: ADJ | H10: 42892 | I10: 42951 | J10: =IF(AND($J$2>=H10,$J$2<=I10),"OUI","NON") -> OUI | K10: =IF(OR(B10="CES",B10="CNE",B10="LTN",B10="SLT",B10="ASP"),"X",IF(OR(B10="ACH",B10="ADC",B10="ADJ",B10="MAJ",B10="MJR",B10="MDL",B10="MCH",B10="MDC",B10="SGT",B10="SGC",B10="SCH"),"Y","Z")) -> Y | L10: =IF(J10="OUI",K10,"") -> Y | M10: =IF(C10="R",L10,"") | N10: =IF(H10=Résumé!$A$1,K10,"") | O10: =IF(I10=Résumé!$A$1-1,K10,"")
A11: G0 | B11: CES | H11: 42892 | I11: 42921 | J11: =IF(AND($J$2>=H11,$J$2<=I11),"OUI","NON") -> OUI | K11: =IF(OR(B11="CES",B11="CNE",B11="LTN",B11="SLT",B11="ASP"),"X",IF(OR(B11="ACH",B11="ADC",B11="ADJ",B11="MAJ",B11="MJR",B11="MDL",B11="MCH",B11="MDC",B11="SGT",B11="SGC",B11="SCH"),"Y","Z")) -> X | L11: =IF(J11="OUI",K11,"") -> X | M11: =IF(C11="R",L11,"") | N11: =IF(H11=Résumé!$A$1,K11,"") | O11: =IF(I11=Résumé!$A$1-1,K11,"")
A12: G0 | B12: CNE | H12: 42892 | I12: 42921 | J12: =IF(AND($J$2>=H12,$J$2<=I12),"OUI","NON") -> OUI | K12: =IF(OR(B12="CES",B12="CNE",B12="LTN",B12="SLT",B12="ASP"),"X",IF(OR(B12="ACH",B12="ADC",B12="ADJ",B12="MAJ",B12="MJR",B12="MDL",B12="MCH",B12="MDC",B12="SGT",B12="SGC",B12="SCH"),"Y","Z")) -> X | L12: =IF(J12="OUI",K12,"") -> X | M12: =IF(C12="R",L12,"") | N12: =IF(H12=Résumé!$A$1,K12,"") | O12: =IF(I12=Résumé!$A$1-1,K12,"")
A13: G0 | B13: ADC | H13: 42892 | I13: 42917 | J13: =IF(AND($J$2>=H13,$J$2<=I13),"OUI","NON") -> OUI | K13: =IF(OR(B13="CES",B13="CNE",B13="LTN",B13="SLT",B13="ASP"),"X",IF(OR(B13="ACH",B13="ADC",B13="ADJ",B13="MAJ",B13="MJR",B13="MDL",B13="MCH",B13="MDC",B13="SGT",B13="SGC",B13="SCH"),"Y","Z")) -> Y | L13: =IF(J13="OUI",K13,"") -> Y | M13: =IF(C13="R",L13,"") | N13: =IF(H13=Résumé!$A$1,K13,"") | O13: =IF(I13=Résumé!$A$1-1,K13,"")
A14: G0 | B14: ADC | H14: 42892 | I14: 42921 | J14: =IF(AND($J$2>=H14,$J$2<=I14),"OUI","NON") -> OUI | K14: =IF(OR(B14="CES",B14="CNE",B14="LTN",B14="SLT",B14="ASP"),"X",IF(OR(B14="ACH",B14="ADC",B14="ADJ",B14="MAJ",B14="MJR",B14="MDL",B14="MCH",B14="MDC",B14="SGT",B14="SGC",B14="SCH"),"Y","Z")) -> Y | L14: =IF(J14="OUI",K14,"") -> Y | M14: =IF(C14="R",L14,"") | N14: =IF(H14=Résumé!$A$1,K14,"") | O14: =IF(I14=Résumé!$A$1-1,K14,"")
A15: G0 | B15: MCH | H15: 42892 | I15: 42951 | J15: =IF(AND($J$2>=H15,$J$2<=I15),"OUI","NON") -> OUI | K15: =IF(OR(B15="CES",B15="CNE",B15="LTN",B15="SLT",B15="ASP"),"X",IF(OR(B15="ACH",B15="ADC",B15="ADJ",B15="MAJ",B15="MJR",B15="MDL",B15="MCH",B15="MDC",B15="SGT",B15="SGC",B15="SCH"),"Y","Z")) -> Y | L15: =IF(J15="OUI",K15,"") -> Y | M15: =IF(C15="R",L15,"") | N15: =IF(H15=Résumé!$A$1,K15,"") | O15: =IF(I15=Résumé!$A$1-1,K15,"")
A16: G0 | B16: MDL | C16: R | H16: 42892 | I16: 42912 | J16: =IF(AND($J$2>=H16,$J$2<=I16),"OUI","NON") -> OUI | K16: =IF(OR(B16="CES",B16="CNE",B16="LTN",B16="SLT",B16="ASP"),"X",IF(OR(B16="ACH",B16="ADC",B16="ADJ",B16="MAJ",B16="MJR",B16="MDL",B16="MCH",B16="MDC",B16="SGT",B16="SGC",B16="SCH"),"Y","Z")) -> Y | L16: =IF(J16="OUI",K16,"") -> Y | M16: =IF(C16="R",L16,"") -> Y | N16: =IF(H16=Résumé!$A$1,K16,"") | O16: =IF(I16=Résumé!$A$1-1,K16,"")
A17: G0 | B17: ADC | H17: 42908 | I17: 42921 | J17: =IF(AND($J$2>=H17,$J$2<=I17),"OUI","NON") -> NON | K17: =IF(OR(B17="CES",B17="CNE",B17="LTN",B17="SLT",B17="ASP"),"X",IF(OR(B17="ACH",B17="ADC",B17="ADJ",B17="MAJ",B17="MJR",B17="MDL",B17="MCH",B17="MDC",B17="SGT",B17="SGC",B17="SCH"),"Y","Z")) -> Y | L17: =IF(J17="OUI",K17,"") | M17: =IF(C17="R",L17,"") | N17: =IF(H17=Résumé!$A$1,K17,"") | O17: =IF(I17=Résumé!$A$1-1,K17,"")
A18: G0 | B18: LTN | H18: 42917 | I18: 42951 | J18: =IF(AND($J$2>=H18,$J$2<=I18),"OUI","NON") -> NON | K18: =IF(OR(B18="CES",B18="CNE",B18="LTN",B18="SLT",B18="ASP"),"X",IF(OR(B18="ACH",B18="ADC",B18="ADJ",B18="MAJ",B18="MJR",B18="MDL",B18="MCH",B18="MDC",B18="SGT",B18="SGC",B18="SCH"),"Y","Z")) -> X | L18: =IF(J18="OUI",K18,"") | M18: =IF(C18="R",L18,"") | N18: =IF(H18=Résumé!$A$1,K18,"") | O18: =IF(I18=Résumé!$A$1-1,K18,"")
A19: G0 | B19: MCH | H19: 42914 | I19: 42951 | J19: =IF(AND($J$2>=H19,$J$2<=I19),"OUI","NON") -> NON | K19: =IF(OR(B19="CES",B19="CNE",B19="LTN",B19="SLT",B19="ASP"),"X",IF(OR(B19="ACH",B19="ADC",B19="ADJ",B19="MAJ",B19="MJR",B19="MDL",B19="MCH",B19="MDC",B19="SGT",B19="SGC",B19="SCH"),"Y","Z")) -> Y | L19: =IF(J19="OUI",K19,"") | M19: =IF(C19="R",L19,"") | N19: =IF(H19=Résumé!$A$1,K19,"") | O19: =IF(I19=Résumé!$A$1-1,K19,"")
A20: G0 | B20: MCH | H20: 42910 | I20: 42951 | J20: =IF(AND($J$2>=H20,$J$2<=I20),"OUI","NON") -> NON | K20: =IF(OR(B20="CES",B20="CNE",B20="LTN",B20="SLT",B20="ASP"),"X",IF(OR(B20="ACH",B20="ADC",B20="ADJ",B20="MAJ",B20="MJR",B20="MDL",B20="MCH",B20="MDC",B20="SGT",B20="SGC",B20="SCH"),"Y","Z")) -> Y | L20: =IF(J20="OUI",K20,"") | M20: =IF(C20="R",L20,"") | N20: =IF(H20=Résumé!$A$1,K20,"") | O20: =IF(I20=Résumé!$A$1-1,K20,"")
A21: G0 | B21: ADC | H21: 42919 | I21: 42951 | J21: =IF(AND($J$2>=H21,$J$2<=I21),"OUI","NON") -> NON | K21: =IF(OR(B21="CES",B21="CNE",B21="LTN",B21="SLT",B21="ASP"),"X",IF(OR(B21="ACH",B21="ADC",B21="ADJ",B21="MAJ",B21="MJR",B21="MDL",B21="MCH",B21="MDC",B21="SGT",B21="SGC",B21="SCH"),"Y","Z")) -> Y | L21: =IF(J21="OUI",K21,"") | M21: =IF(C21="R",L21,"") | N21: =IF(H21=Résumé!$A$1,K21,"") | O21: =IF(I21=Résumé!$A$1-1,K21,"")
A22: G0 | B22: CNE | H22: 42919 | I22: 42951 | J22: =IF(AND($J$2>=H22,$J$2<=I22),"OUI","NON") -> NON | K22: =IF(OR(B22="CES",B22="CNE",B22="LTN",B22="SLT",B22="ASP"),"X",IF(OR(B22="ACH",B22="ADC",B22="ADJ",B22="MAJ",B22="MJR",B22="MDL",B22="MCH",B22="MDC",B22="SGT",B22="SGC",B22="SCH"),"Y","Z")) -> X | L22: =IF(J22="OUI",K22,"") | M22: =IF(C22="R",L22,"") | N22: =IF(H22=Résumé!$A$1,K22,"") | O22: =IF(I22=Résumé!$A$1-1,K22,"")
A23: G0 | B23: CNE | H23: 42919 | I23: 42951 | J23: =IF(AND($J$2>=H23,$J$2<=I23),"OUI","NON") -> NON | K23: =IF(OR(B23="CES",B23="CNE",B23="LTN",B23="SLT",B23="ASP"),"X",IF(OR(B23="ACH",B23="ADC",B23="ADJ",B23="MAJ",B23="MJR",B23="MDL",B23="MCH",B23="MDC",B23="SGT",B23="SGC",B23="SCH"),"Y","Z")) -> X | L23: =IF(J23="OUI",K23,"") | M23: =IF(C23="R",L23,"") | N23: =IF(H23=Résumé!$A$1,K23,"") | O23: =IF(I23=Résumé!$A$1-1,K23,"")
A24: G0 | B24: MAJ | C24: R | H24: 42926 | I24: 42951 | J24: =IF(AND($J$2>=H24,$J$2<=I24),"OUI","NON") -> NON | K24: =IF(OR(B24="CES",B24="CNE",B24="LTN",B24="SLT",B24="ASP"),"X",IF(OR(B24="ACH",B24="ADC",B24="ADJ",B24="MAJ",B24="MJR",B24="MDL",B24="MCH",B24="MDC",B24="SGT",B24="SGC",B24="SCH"),"Y","Z")) -> Y | L24: =IF(J24="OUI",K24,"") | M24: =IF(C24="R",L24,"") | N24: =IF(H24=Résumé!$A$1,K24,"") | O24: =IF(I24=Résumé!$A$1-1,K24,"")
A25: G0 | B25: ADJ | H25: 42920 | I25: 42951 | J25: =IF(AND($J$2>=H25,$J$2<=I25),"OUI","NON") -> NON | K25: =IF(OR(B25="CES",B25="CNE",B25="LTN",B25="SLT",B25="ASP"),"X",IF(OR(B25="ACH",B25="ADC",B25="ADJ",B25="MAJ",B25="MJR",B25="MDL",B25="MCH",B25="MDC",B25="SGT",B25="SGC",B25="SCH"),"Y","Z")) -> Y | L25: =IF(J25="OUI",K25,"") | M25: =IF(C25="R",L25,"") | N25: =IF(H25=Résumé!$A$1,K25,"") | O25: =IF(I25=Résumé!$A$1-1,K25,"")
A26: G0 | B26: LTN | H26: 42908 | I26: 42921 | J26: =IF(AND($J$2>=H26,$J$2<=I26),"OUI","NON") -> NON | K26: =IF(OR(B26="CES",B26="CNE",B26="LTN",B26="SLT",B26="ASP"),"X",IF(OR(B26="ACH",B26="ADC",B26="ADJ",B26="MAJ",B26="MJR",B26="MDL",B26="MCH",B26="MDC",B26="SGT",B26="SGC",B26="SCH"),"Y","Z")) -> X | L26: =IF(J26="OUI",K26,"") | M26: =IF(C26="R",L26,"") | N26: =IF(H26=Résumé!$A$1,K26,"") | O26: =IF(I26=Résumé!$A$1-1,K26,"")
A27: G0 | B27: CNE | H27: 42909 | I27: 42940 | J27: =IF(AND($J$2>=H27,$J$2<=I27),"OUI","NON") -> NON | K27: =IF(OR(B27="CES",B27="CNE",B27="LTN",B27="SLT",B27="ASP"),"X",IF(OR(B27="ACH",B27="ADC",B27="ADJ",B27="MAJ",B27="MJR",B27="MDL",B27="MCH",B27="MDC",B27="SGT",B27="SGC",B27="SCH"),"Y","Z")) -> X | L27: =IF(J27="OUI",K27,"") | M27: =IF(C27="R",L27,"") | N27: =IF(H27=Résumé!$A$1,K27,"") | O27: =IF(I27=Résumé!$A$1-1,K27,"")
A28: G0 | B28: CES | H28: 42919 | I28: 42951 | J28: =IF(AND($J$2>=H28,$J$2<=I28),"OUI","NON") -> NON | K28: =IF(OR(B28="CES",B28="CNE",B28="LTN",B28="SLT",B28="ASP"),"X",IF(OR(B28="ACH",B28="ADC",B28="ADJ",B28="MAJ",B28="MJR",B28="MDL",B28="MCH",B28="MDC",B28="SGT",B28="SGC",B28="SCH"),"Y","Z")) -> X | L28: =IF(J28="OUI",K28,"") | M28: =IF(C28="R",L28,"") | N28: =IF(H28=Résumé!$A$1,K28,"") | O28: =IF(I28=Résumé!$A$1-1,K28,"")

Sheet G1
J1: PRESENCE | R1: X | S1: Y | T1: Z | U1: T
A2: G | B2: NIV | C2: R | D2: NOM | E2: Prénom | F2: NUM | G2: CLASSE | H2: IN | I2: OUT | J2: =Résumé!A1 -> 42897 | K2: G | L2: P | M2: R | N2: IN | O2: OU | Q2: P | R2: =COUNTIF($L:$L,R1) -> 4 | S2: =COUNTIF($L:$L,S1) -> 14 | T2: =COUNTIF($L:$L,T1) -> 65 | U2: =SUM(R2:T2) -> 83
A3: G1 | B3: CNE | H3: 42892 | I3: 42953 | J3: =IF(AND($J$2>=H3,$J$2<=I3),"OUI","NON") -> OUI | K3: =IF(OR(B3="CES",B3="CNE",B3="LTN",B3="SLT",B3="ASP"),"X",IF(OR(B3="ACH",B3="ADC",B3="ADJ",B3="MAJ",B3="MJR",B3="MDL",B3="MCH",B3="MDC",B3="SGT",B3="SGC",B3="SCH"),"Y","Z")) -> X | L3: =IF(J3="OUI",K3,"") -> X | M3: =IF(C3="R",L3,"") | N3: =IF(H3=Résumé!$A$1,K3,"") | O3: =IF(I3=Résumé!$A$1-1,K3,"") | Q3: R | R3: =COUNTIF($M:$M,R1) -> 0 | S3: =COUNTIF($M:$M,S1) -> 0 | T3: =COUNTIF($M:$M,T1) -> 0 | U3: =SUM(R3:T3) -> 0
A4: G1 | B4: CNE | H4: 42893 | I4: 42953 | J4: =IF(AND($J$2>=H4,$J$2<=I4),"OUI","NON") -> OUI | K4: =IF(OR(B4="CES",B4="CNE",B4="LTN",B4="SLT",B4="ASP"),"X",IF(OR(B4="ACH",B4="ADC",B4="ADJ",B4="MAJ",B4="MJR",B4="MDL",B4="MCH",B4="MDC",B4="SGT",B4="SGC",B4="SCH"),"Y","Z")) -> X | L4: =IF(J4="OUI",K4,"") -> X | M4: =IF(C4="R",L4,"") | N4: =IF(H4=Résumé!$A$1,K4,"") | O4: =IF(I4=Résumé!$A$1-1,K4,"") | Q4: IN | R4: =COUNTIF($N:$N,R1) -> 0 | S4: =COUNTIF($N:$N,S1) -> 0 | T4: =COUNTIF($N:$N,T1) -> 0 | U4: =SUM(R4:T4) -> 0
A5: G1 | B5: LTN | H5: 42892 | I5: 42953 | J5: =IF(AND($J$2>=H5,$J$2<=I5),"OUI","NON") -> OUI | K5: =IF(OR(B5="CES",B5="CNE",B5="LTN",B5="SLT",B5="ASP"),"X",IF(OR(B5="ACH",B5="ADC",B5="ADJ",B5="MAJ",B5="MJR",B5="MDL",B5="MCH",B5="MDC",B5="SGT",B5="SGC",B5="SCH"),"Y","Z")) -> X | L5: =IF(J5="OUI",K5,"") -> X | M5: =IF(C5="R",L5,"") | N5: =IF(H5=Résumé!$A$1,K5,"") | O5: =IF(I5=Résumé!$A$1-1,K5,"") | Q5: OUT | R5: =COUNTIF($O:$O,R1) -> 0 | S5: =COUNTIF($O:$O,S1) -> 0 | T5: =COUNTIF($O:$O,T1) -> 0 | U5: =SUM(R5:T5) -> 0
A6: G1 | B6: LTN | H6: 42892 | I6: 42953 | J6: =IF(AND($J$2>=H6,$J$2<=I6),"OUI","NON") -> OUI | K6: =IF(OR(B6="CES",B6="CNE",B6="LTN",B6="SLT",B6="ASP"),"X",IF(OR(B6="ACH",B6="ADC",B6="ADJ",B6="MAJ",B6="MJR",B6="MDL",B6="MCH",B6="MDC",B6="SGT",B6="SGC",B6="SCH"),"Y","Z")) -> X | L6: =IF(J6="OUI",K6,"") -> X | M6: =IF(C6="R",L6,"") | N6: =IF(H6=Résumé!$A$1,K6,"") | O6: =IF(I6=Résumé!$A$1-1,K6,"")
A7: G1 | B7: SLT | H7: 42893 | I7: 42895 | J7: =IF(AND($J$2>=H7,$J$2<=I7),"OUI","NON") -> NON | K7: =IF(OR(B7="CES",B7="CNE",B7="LTN",B7="SLT",B7="ASP"),"X",IF(OR(B7="ACH",B7="ADC",B7="ADJ",B7="MAJ",B7="MJR",B7="MDL",B7="MCH",B7="MDC",B7="SGT",B7="SGC",B7="SCH"),"Y","Z")) -> X | L7: =IF(J7="OUI",K7,"") | M7: =IF(C7="R",L7,"") | N7: =IF(H7=Résumé!$A$1,K7,"") | O7: =IF(I7=Résumé!$A$1-1,K7,"")
A8: G1 | B8: SLT | H8: 42898 | I8: 42941 | J8: =IF(AND($J$2>=H8,$J$2<=I8),"OUI","NON") -> NON | K8: =IF(OR(B8="CES",B8="CNE",B8="LTN",B8="SLT",B8="ASP"),"X",IF(OR(B8="ACH",B8="ADC",B8="ADJ",B8="MAJ",B8="MJR",B8="MDL",B8="MCH",B8="MDC",B8="SGT",B8="SGC",B8="SCH"),"Y","Z")) -> X | L8: =IF(J8="OUI",K8,"") | M8: =IF(C8="R",L8,"") | N8: =IF(H8=Résumé!$A$1,K8,"") | O8: =IF(I8=Résumé!$A$1-1,K8,"")
A9: G1 | B9: ADC | H9: 42892 | I9: 42953 | J9: =IF(AND($J$2>=H9,$J$2<=I9),"OUI","NON") -> OUI | K9: =IF(OR(B9="CES",B9="CNE",B9="LTN",B9="SLT",B9="ASP"),"X",IF(OR(B9="ACH",B9="ADC",B9="ADJ",B9="MAJ",B9="MJR",B9="MDL",B9="MCH",B9="MDC",B9="SGT",B9="SGC",B9="SCH"),"Y","Z")) -> Y | L9: =IF(J9="OUI",K9,"") -> Y | M9: =IF(C9="R",L9,"") | N9: =IF(H9=Résumé!$A$1,K9,"") | O9: =IF(I9=Résumé!$A$1-1,K9,"")
A10: G1 | B10: MCH | H10: 42893 | I10: 42953 | J10: =IF(AND($J$2>=H10,$J$2<=I10),"OUI","NON") -> OUI | K10: =IF(OR(B10="CES",B10="CNE",B10="LTN",B10="SLT",B10="ASP"),"X",IF(OR(B10="ACH",B10="ADC",B10="ADJ",B10="MAJ",B10="MJR",B10="MDL",B10="MCH",B10="MDC",B10="SGT",B10="SGC",B10="SCH"),"Y","Z")) -> Y | L10: =IF(J10="OUI",K10,"") -> Y | M10: =IF(C10="R",L10,"") | N10: =IF(H10=Résumé!$A$1,K10,"") | O10: =IF(I10=Résumé!$A$1-1,K10,"")
A11: G1 | B11: ADJ | H11: 42892 | I11: 42953 | J11: =IF(AND($J$2>=H11,$J$2<=I11),"OUI","NON") -> OUI | K11: =IF(OR(B11="CES",B11="CNE",B11="LTN",B11="SLT",B11="ASP"),"X",IF(OR(B11="ACH",B11="ADC",B11="ADJ",B11="MAJ",B11="MJR",B11="MDL",B11="MCH",B11="MDC",B11="SGT",B11="SGC",B11="SCH"),"Y","Z")) -> Y | L11: =IF(J11="OUI",K11,"") -> Y | M11: =IF(C11="R",L11,"") | N11: =IF(H11=Résumé!$A$1,K11,"") | O11: =IF(I11=Résumé!$A$1-1,K11,"")
A12: G1 | B12: MCH | H12: 42892 | I12: 42953 | J12: =IF(AND($J$2>=H12,$J$2<=I12),"OUI","NON") -> OUI | K12: =IF(OR(B12="CES",B12="CNE",B12="LTN",B12="SLT",B12="ASP"),"X",IF(OR(B12="ACH",B12="ADC",B12="ADJ",B12="MAJ",B12="MJR",B12="MDL",B12="MCH",B12="MDC",B12="SGT",B12="SGC",B12="SCH"),"Y","Z")) -> Y | L12: =IF(J12="OUI",K12,"") -> Y | M12: =IF(C12="R",L12,"") | N12: =IF(H12=Résumé!$A$1,K12,"") | O12: =IF(I12=Résumé!$A$1-1,K12,"")
A13: G1 | B13: MDL | H13: 42892 | I13: 42953 | J13: =IF(AND($J$2>=H13,$J$2<=I13),"OUI","NON") -> OUI | K13: =IF(OR(B13="CES",B13="CNE",B13="LTN",B13="SLT",B13="ASP"),"X",IF(OR(B13="ACH",B13="ADC",B13="ADJ",B13="MAJ",B13="MJR",B13="MDL",B13="MCH",B13="MDC",B13="SGT",B13="SGC",B13="SCH"),"Y","Z")) -> Y | L13: =IF(J13="OUI",K13,"") -> Y | M13: =IF(C13="R",L13,"") | N13: =IF(H13=Résumé!$A$1,K13,"") | O13: =IF(I13=Résumé!$A$1-1,K13,"")
A14: G1 | B14: MCH | H14: 42893 | I14: 42953 | J14: =IF(AND($J$2>=H14,$J$2<=I14),"OUI","NON") -> OUI | K14: =IF(OR(B14="CES",B14="CNE",B14="LTN",B14="SLT",B14="ASP"),"X",IF(OR(B14="ACH",B14="ADC",B14="ADJ",B14="MAJ",B14="MJR",B14="MDL",B14="MCH",B14="MDC",B14="SGT",B14="SGC",B14="SCH"),"Y","Z")) -> Y | L14: =IF(J14="OUI",K14,"") -> Y | M14: =IF(C14="R",L14,"") | N14: =IF(H14=Résumé!$A$1,K14,"") | O14: =IF(I14=Résumé!$A$1-1,K14,"")
A15: G1 | B15: MDL | H15: 42892 | I15: 42953 | J15: =IF(AND($J$2>=H15,$J$2<=I15),"OUI","NON") -> OUI | K15: =IF(OR(B15="CES",B15="CNE",B15="LTN",B15="SLT",B15="ASP"),"X",IF(OR(B15="ACH",B15="ADC",B15="ADJ",B15="MAJ",B15="MJR",B15="MDL",B15="MCH",B15="MDC",B15="SGT",B15="SGC",B15="SCH"),"Y","Z")) -> Y | L15: =IF(J15="OUI",K15,"") -> Y | M15: =IF(C15="R",L15,"") | N15: =IF(H15=Résumé!$A$1,K15,"") | O15: =IF(I15=Résumé!$A$1-1,K15,"")
A16: G1 | B16: MDL | H16: 42892 | I16: 42953 | J16: =IF(AND($J$2>=H16,$J$2<=I16),"OUI","NON") -> OUI | K16: =IF(OR(B16="CES",B16="CNE",B16="LTN",B16="SLT",B16="ASP"),"X",IF(OR(B16="ACH",B16="ADC",B16="ADJ",B16="MAJ",B16="MJR",B16="MDL",B16="MCH",B16="MDC",B16="SGT",B16="SGC",B16="SCH"),"Y","Z")) -> Y | L16: =IF(J16="OUI",K16,"") -> Y | M16: =IF(C16="R",L16,"") | N16: =IF(H16=Résumé!$A$1,K16,"") | O16: =IF(I16=Résumé!$A$1-1,K16,"")
A17: G1 | B17: MCH | H17: 42892 | I17: 42953 | J17: =IF(AND($J$2>=H17,$J$2<=I17),"OUI","NON") -> OUI | K17: =IF(OR(B17="CES",B17="CNE",B17="LTN",B17="SLT",B17="ASP"),"X",IF(OR(B17="ACH",B17="ADC",B17="ADJ",B17="MAJ",B17="MJR",B17="MDL",B17="MCH",B17="MDC",B17="SGT",B17="SGC",B17="SCH"),"Y","Z")) -> Y | L17: =IF(J17="OUI",K17,"") -> Y | M17: =IF(C17="R",L17,"") | N17: =IF(H17=Résumé!$A$1,K17,"") | O17: =IF(I17=Résumé!$A$1-1,K17,"")
... A24: G1 | B24: BCH | H24: 42926 | I24: 42953 | J24: =IF(AND($J$2>=H24,$J$2<=I24),"OUI","NON") -> NON | K24: =IF(OR(B24="CES",B24="CNE",B24="LTN",B24="SLT",B24="ASP"),"X",IF(OR(B24="ACH",B24="ADC",B24="ADJ",B24="MAJ",B24="MJR",B24="MDL",B24="MCH",B24="MDC",B24="SGT",B24="SGC",B24="SCH"),"Y","Z")) -> Z | L24: =IF(J24="OUI",K24,"") | M24: =IF(C24="R",L24,"") | N24: =IF(H24=Résumé!$A$1,K24,"") | O24: =IF(I24=Résumé!$A$1-1,K24,"")
A25: G1 | B25: BCH | H25: 42893 | I25: 42925 | J25: =IF(AND($J$2>=H25,$J$2<=I25),"OUI","NON") -> OUI | K25: =IF(OR(B25="CES",B25="CNE",B25="LTN",B25="SLT",B25="ASP"),"X",IF(OR(B25="ACH",B25="ADC",B25="ADJ",B25="MAJ",B25="MJR",B25="MDL",B25="MCH",B25="MDC",B25="SGT",B25="SGC",B25="SCH"),"Y","Z")) -> Z | M25: =IF(C25="R",L25,"") | N25: =IF(H25=Résumé!$A$1,K25,"") | O25: =IF(I25=Résumé!$A$1-1,K25,"")
A26: G1 | B26: BCH | H26: 42926 | I26: 42953 | J26: =IF(AND($J$2>=H26,$J$2<=I26),"OUI","NON") -> NON | K26: =IF(OR(B26="CES",B26="CNE",B26="LTN",B26="SLT",B26="ASP"),"X",IF(OR(B26="ACH",B26="ADC",B26="ADJ",B26="MAJ",B26="MJR",B26="MDL",B26="MCH",B26="MDC",B26="SGT",B26="SGC",B26="SCH"),"Y","Z")) -> Z | L26: =IF(J26="OUI",K26,"") | M26: =IF(C26="R",L26,"") | N26: =IF(H26=Résumé!$A$1,K26,"") | O26: =IF(I26=Résumé!$A$1-1,K26,"")
A27: G1 | B27: BRI | H27: 42892 | I27: 42953 | J27: =IF(AND($J$2>=H27,$J$2<=I27),"OUI","NON") -> OUI | K27: =IF(OR(B27="CES",B27="CNE",B27="LTN",B27="SLT",B27="ASP"),"X",IF(OR(B27="ACH",B27="ADC",B27="ADJ",B27="MAJ",B27="MJR",B27="MDL",B27="MCH",B27="MDC",B27="SGT",B27="SGC",B27="SCH"),"Y","Z")) -> Z | L27: =IF(J27="OUI",K27,"") -> Z | M27: =IF(C27="R",L27,"") | N27: =IF(H27=Résumé!$A$1,K27,"") | O27: =IF(I27=Résumé!$A$1-1,K27,"")
A28: G1 | B28: MCH | H28: 42893 | I28: 42953 | J28: =IF(AND($J$2>=H28,$J$2<=I28),"OUI","NON") -> OUI | K28: =IF(OR(B28="CES",B28="CNE",B28="LTN",B28="SLT",B28="ASP"),"X",IF(OR(B28="ACH",B28="ADC",B28="ADJ",B28="MAJ",B28="MJR",B28="MDL",B28="MCH",B28="MDC",B28="SGT",B28="SGC",B28="SCH"),"Y","Z")) -> Y | L28: =IF(J28="OUI",K28,"") -> Y | M28: =IF(C28="R",L28,"") | N28: =IF(H28=Résumé!$A$1,K28,"") | O28: =IF(I28=Résumé!$A$1-1,K28,"")
A29: G1 | B29: 1CL | H29: 42892 | I29: 42953 | J29: =IF(AND($J$2>=H29,$J$2<=I29),"OUI","NON") -> OUI | K29: =IF(OR(B29="CES",B29="CNE",B29="LTN",B29="SLT",B29="ASP"),"X",IF(OR(B29="ACH",B29="ADC",B29="ADJ",B29="MAJ",B29="MJR",B29="MDL",B29="MCH",B29="MDC",B29="SGT",B29="SGC",B29="SCH"),"Y","Z")) -> Z | L29: =IF(J29="OUI",K29,"") -> Z | M29: =IF(C29="R",L29,"") | N29: =IF(H29=Résumé!$A$1,K29,"") | O29: =IF(I29=Résumé!$A$1-1,K29,"")
A30: G1 | B30: BRG | H30: 42893 | I30: 42922 | J30: =IF(AND($J$2>=H30,$J$2<=I30),"OUI","NON") -> OUI | K30: =IF(OR(B30="CES",B30="CNE",B30="LTN",B30="SLT",B30="ASP"),"X",IF(OR(B30="ACH",B30="ADC",B30="ADJ",B30="MAJ",B30="MJR",B30="MDL",B30="MCH",B30="MDC",B30="SGT",B30="SGC",B30="SCH"),"Y","Z")) -> Z | L30: =IF(J30="OUI",K30,"") -> Z | M30: =IF(C30="R",L30,"") | N30: =IF(H30=Résumé!$A$1,K30,"") | O30: =IF(I30=Résumé!$A$1-1,K30,"")
A31: G1 | B31: 1CL | H31: 42923 | I31: 42953 | J31: =IF(AND($J$2>=H31,$J$2<=I31),"OUI","NON") -> NON | K31: =IF(OR(B31="CES",B31="CNE",B31="LTN",B31="SLT",B31="ASP"),"X",IF(OR(B31="ACH",B31="ADC",B31="ADJ",B31="MAJ",B31="MJR",B31="MDL",B31="MCH",B31="MDC",B31="SGT",B31="SGC",B31="SCH"),"Y","Z")) -> Z | L31: =IF(J31="OUI",K31,"") | M31: =IF(C31="R",L31,"") | N31: =IF(H31=Résumé!$A$1,K31,"") | O31: =IF(I31=Résumé!$A$1-1,K31,"")
A32: G1 | B32: BRG | H32: 42893 | I32: 42953 | J32: =IF(AND($J$2>=H32,$J$2<=I32),"OUI","NON") -> OUI | K32: =IF(OR(B32="CES",B32="CNE",B32="LTN",B32="SLT",B32="ASP"),"X",IF(OR(B32="ACH",B32="ADC",B32="ADJ",B32="MAJ",B32="MJR",B32="MDL",B32="MCH",B32="MDC",B32="SGT",B32="SGC",B32="SCH"),"Y","Z")) -> Z | L32: =IF(J32="OUI",K32,"") -> Z | M32: =IF(C32="R",L32,"") | N32: =IF(H32=Résumé!$A$1,K32,"") | O32: =IF(I32=Résumé!$A$1-1,K32,"")
A33: G1 | B33: 1CL | H33: 42893 | I33: 42953 | J33: =IF(AND($J$2>=H33,$J$2<=I33),"OUI","NON") -> OUI | K33: =IF(OR(B33="CES",B33="CNE",B33="LTN",B33="SLT",B33="ASP"),"X",IF(OR(B33="ACH",B33="ADC",B33="ADJ",B33="MAJ",B33="MJR",B33="MDL",B33="MCH",B33="MDC",B33="SGT",B33="SGC",B33="SCH"),"Y","Z")) -> Z | L33: =IF(J33="OUI",K33,"") -> Z | M33: =IF(C33="R",L33,"") | N33: =IF(H33=Résumé!$A$1,K33,"") | O33: =IF(I33=Résumé!$A$1-1,K33,"")
A34: G1 | B34: 1CL | H34: 42893 | I34: 42953 | J34: =IF(AND($J$2>=H34,$J$2<=I34),"OUI","NON") -> OUI | K34: =IF(OR(B34="CES",B34="CNE",B34="LTN",B34="SLT",B34="ASP"),"X",IF(OR(B34="ACH",B34="ADC",B34="ADJ",B34="MAJ",B34="MJR",B34="MDL",B34="MCH",B34="MDC",B34="SGT",B34="SGC",B34="SCH"),"Y","Z")) -> Z | L34: =IF(J34="OUI",K34,"") -> Z | M34: =IF(C34="R",L34,"") | N34: =IF(H34=Résumé!$A$1,K34,"") | O34: =IF(I34=Résumé!$A$1-1,K34,"")
A35: G1 | B35: LEG | H35: 42893 | I35: 42953 | J35: =IF(AND($J$2>=H35,$J$2<=I35),"OUI","NON") -> OUI | K35: =IF(OR(B35="CES",B35="CNE",B35="LTN",B35="SLT",B35="ASP"),"X",IF(OR(B35="ACH",B35="ADC",B35="ADJ",B35="MAJ",B35="MJR",B35="MDL",B35="MCH",B35="MDC",B35="SGT",B35="SGC",B35="SCH"),"Y","Z")) -> Z | L35: =IF(J35="OUI",K35,"") -> Z | M35: =IF(C35="R",L35,"") | N35: =IF(H35=Résumé!$A$1,K35,"") | O35: =IF(I35=Résumé!$A$1-1,K35,"")
A36: G1 | B36: LEG | H36: 42893 | I36: 42953 | J36: =IF(AND($J$2>=H36,$J$2<=I36),"OUI","NON") -> OUI | K36: =IF(OR(B36="CES",B36="CNE",B36="LTN",B36="SLT",B36="ASP"),"X",IF(OR(B36="ACH",B36="ADC",B36="ADJ",B36="MAJ",B36="MJR",B36="MDL",B36="MCH",B36="MDC",B36="SGT",B36="SGC",B36="SCH"),"Y","Z")) -> Z | L36: =IF(J36="OUI",K36,"") -> Z | M36: =IF(C36="R",L36,"") | N36: =IF(H36=Résumé!$A$1,K36,"") | O36: =IF(I36=Résumé!$A$1-1,K36,"")
A37: G1 | B37: LEG | H37: 42893 | I37: 42953 | J37: =IF(AND($J$2>=H37,$J$2<=I37),"OUI","NON") -> OUI | K37: =IF(OR(B37="CES",B37="CNE",B37="LTN",B37="SLT",B37="ASP"),"X",IF(OR(B37="ACH",B37="ADC",B37="ADJ",B37="MAJ",B37="MJR",B37="MDL",B37="MCH",B37="MDC",B37="SGT",B37="SGC",B37="SCH"),"Y","Z")) -> Z | L37: =IF(J37="OUI",K37,"") -> Z | M37: =IF(C37="R",L37,"") | N37: =IF(H37=Résumé!$A$1,K37,"") | O37: =IF(I37=Résumé!$A$1-1,K37,"")
... A89: G1 | B89: LEG | H89: 42893 | I89: 42953 | J89: =IF(AND($J$2>=H89,$J$2<=I89),"OUI","NON") -> OUI | K89: =IF(OR(B89="CES",B89="CNE",B89="LTN",B89="SLT",B89="ASP"),"X",IF(OR(B89="ACH",B89="ADC",B89="ADJ",B89="MAJ",B89="MJR",B89="MDL",B89="MCH",B89="MDC",B89="SGT",B89="SGC",B89="SCH"),"Y","Z")) -> Z | L89: =IF(J89="OUI",K89,"") -> Z | M89: =IF(C89="R",L89,"") | N89: =IF(H89=Résumé!$A$1,K89,"") | O89: =IF(I89=Résumé!$A$1-1,K89,"")
A90: G1 | B90: BRI | J90: =IF(AND($J$2>=H90,$J$2<=I90),"OUI","NON") -> NON | K90: =IF(OR(B90="CES",B90="CNE",B90="LTN",B90="SLT",B90="ASP"),"X",IF(OR(B90="ACH",B90="ADC",B90="ADJ",B90="MAJ",B90="MJR",B90="MDL",B90="MCH",B90="MDC",B90="SGT",B90="SGC",B90="SCH"),"Y","Z")) -> Z | L90: =IF(J90="OUI",K90,"") | M90: =IF(C90="R",L90,"") | N90: =IF(H90=Résumé!$A$1,K90,"") | O90: =IF(I90=Résumé!$A$1-1,K90,"")
A91: G1 | B91: BRG | H91: 42893 | I91: 42895 | J91: =IF(AND($J$2>=H91,$J$2<=I91),"OUI","NON") -> NON | K91: =IF(OR(B91="CES",B91="CNE",B91="LTN",B91="SLT",B91="ASP"),"X",IF(OR(B91="ACH",B91="ADC",B91="ADJ",B91="MAJ",B91="MJR",B91="MDL",B91="MCH",B91="MDC",B91="SGT",B91="SGC",B91="SCH"),"Y","Z")) -> Z | L91: =IF(J91="OUI",K91,"") | M91: =IF(C91="R",L91,"") | N91: =IF(H91=Résumé!$A$1,K91,"") | O91: =IF(I91=Résumé!$A$1-1,K91,"")
A92: G1 | B92: BRG | H92: 42910 | I92: 42953 | J92: =IF(AND($J$2>=H92,$J$2<=I92),"OUI","NON") -> NON | K92: =IF(OR(B92="CES",B92="CNE",B92="LTN",B92="SLT",B92="ASP"),"X",IF(OR(B92="ACH",B92="ADC",B92="ADJ",B92="MAJ",B92="MJR",B92="MDL",B92="MCH",B92="MDC",B92="SGT",B92="SGC",B92="SCH"),"Y","Z")) -> Z | L92: =IF(J92="OUI",K92,"") | M92: =IF(C92="R",L92,"") | N92: =IF(H92=Résumé!$A$1,K92,"") | O92: =IF(I92=Résumé!$A$1-1,K92,"")
A93: G1 | B93: BRG | H93: 42893 | I93: 42953 | J93: =IF(AND($J$2>=H93,$J$2<=I93),"OUI","NON") -> OUI | K93: =IF(OR(B93="CES",B93="CNE",B93="LTN",B93="SLT",B93="ASP"),"X",IF(OR(B93="ACH",B93="ADC",B93="ADJ",B93="MAJ",B93="MJR",B93="MDL",B93="MCH",B93="MDC",B93="SGT",B93="SGC",B93="SCH"),"Y","Z")) -> Z | L93: =IF(J93="OUI",K93,"") -> Z | M93: =IF(C93="R",L93,"") | N93: =IF(H93=Résumé!$A$1,K93,"") | O93: =IF(I93=Résumé!$A$1-1,K93,"")
A94: G1 | B94: LEG | H94: 42893 | I94: 42953 | J94: =IF(AND($J$2>=H94,$J$2<=I94),"OUI","NON") -> OUI | K94: =IF(OR(B94="CES",B94="CNE",B94="LTN",B94="SLT",B94="ASP"),"X",IF(OR(B94="ACH",B94="ADC",B94="ADJ",B94="MAJ",B94="MJR",B94="MDL",B94="MCH",B94="MDC",B94="SGT",B94="SGC",B94="SCH"),"Y","Z")) -> Z | L94: =IF(J94="OUI",K94,"") -> Z | M94: =IF(C94="R",L94,"") | N94: =IF(H94=Résumé!$A$1,K94,"") | O94: =IF(I94=Résumé!$A$1-1,K94,"")
A95: G1 | B95: LEG | H95: 42893 | I95: 42953 | J95: =IF(AND($J$2>=H95,$J$2<=I95),"OUI","NON") -> OUI | K95: =IF(OR(B95="CES",B95="CNE",B95="LTN",B95="SLT",B95="ASP"),"X",IF(OR(B95="ACH",B95="ADC",B95="ADJ",B95="MAJ",B95="MJR",B95="MDL",B95="MCH",B95="MDC",B95="SGT",B95="SGC",B95="SCH"),"Y","Z")) -> Z | L95: =IF(J95="OUI",K95,"") -> Z | M95: =IF(C95="R",L95,"") | N95: =IF(H95=Résumé!$A$1,K95,"") | O95: =IF(I95=Résumé!$A$1-1,K95,"")
A96: G1 | B96: LEG | H96: 42893 | I96: 42953 | J96: =IF(AND($J$2>=H96,$J$2<=I96),"OUI","NON") -> OUI | K96: =IF(OR(B96="CES",B96="CNE",B96="LTN",B96="SLT",B96="ASP"),"X",IF(OR(B96="ACH",B96="ADC",B96="ADJ",B96="MAJ",B96="MJR",B96="MDL",B96="MCH",B96="MDC",B96="SGT",B96="SGC",B96="SCH"),"Y","Z")) -> Z | L96: =IF(J96="OUI",K96,"") -> Z | M96: =IF(C96="R",L96,"") | N96: =IF(H96=Résumé!$A$1,K96,"") | O96: =IF(I96=Résumé!$A$1-1,K96,"")
A97: G1 | B97: LEG | H97: 42893 | I97: 42953 | J97: =IF(AND($J$2>=H97,$J$2<=I97),"OUI","NON") -> OUI | K97: =IF(OR(B97="CES",B97="CNE",B97="LTN",B97="SLT",B97="ASP"),"X",IF(OR(B97="ACH",B97="ADC",B97="ADJ",B97="MAJ",B97="MJR",B97="MDL",B97="MCH",B97="MDC",B97="SGT",B97="SGC",B97="SCH"),"Y","Z")) -> Z | L97: =IF(J97="OUI",K97,"") -> Z | M97: =IF(C97="R",L97,"") | N97: =IF(H97=Résumé!$A$1,K97,"") | O97: =IF(I97=Résumé!$A$1-1,K97,"")
...

Sheet G2
J1: PRESENCE | R1: X | S1: Y | T1: Z | U1: T
A2: G | B2: NIV | C2: R | D2: NOM | E2: Prénom | F2: NUM | G2: CLASSE | H2: IN | I2: OUT | J2: =Résumé!A1 -> 42897 | K2: G | L2: P | M2: R | N2: IN | O2: OU | Q2: P | R2: =COUNTIF($L:$L,R1) -> 4 | S2: =COUNTIF($L:$L,S1) -> 16 | T2: =COUNTIF($L:$L,T1) -> 69 | U2: =SUM(R2:T2) -> 89
A3: G2 | B3: CNE | H3: 42892 | I3: 42953 | J3: =IF(AND($J$2>=H3,$J$2<=I3),"OUI","NON") -> OUI | K3: =IF(OR(B3="CES",B3="CNE",B3="LTN",B3="SLT",B3="ASP"),"X",IF(OR(B3="ACH",B3="ADC",B3="ADJ",B3="MAJ",B3="MJR",B3="MDL",B3="MCH",B3="MDC",B3="SGT",B3="SGC",B3="SCH"),"Y","Z")) -> X | L3: =IF(J3="OUI",K3,"") -> X | M3: =IF(C3="R",L3,"") | N3: =IF(H3=Résumé!$A$1,K3,"") | O3: =IF(I3=Résumé!$A$1-1,K3,"") | Q3: R | R3: =COUNTIF($M:$M,R1) -> 0 | S3: =COUNTIF($M:$M,S1) -> 0 | T3: =COUNTIF($M:$M,T1) -> 0 | U3: =SUM(R3:T3) -> 0
A4: G2 | B4: LTN | H4: 42893 | I4: 42953 | J4: =IF(AND($J$2>=H4,$J$2<=I4),"OUI","NON") -> OUI | K4: =IF(OR(B4="CES",B4="CNE",B4="LTN",B4="SLT",B4="ASP"),"X",IF(OR(B4="ACH",B4="ADC",B4="ADJ",B4="MAJ",B4="MJR",B4="MDL",B4="MCH",B4="MDC",B4="SGT",B4="SGC",B4="SCH"),"Y","Z")) -> X | L4: =IF(J4="OUI",K4,"") -> X | M4: =IF(C4="R",L4,"") | N4: =IF(H4=Résumé!$A$1,K4,"") | O4: =IF(I4=Résumé!$A$1-1,K4,"") | Q4: IN | R4: =COUNTIF($N:$N,R1) -> 0 | S4: =COUNTIF($N:$N,S1) -> 0 | T4: =COUNTIF($N:$N,T1) -> 0 | U4: =SUM(R4:T4) -> 0
A5: G2 | B5: ADJ | H5: 42892 | I5: 42953 | J5: =IF(AND($J$2>=H5,$J$2<=I5),"OUI","NON") -> OUI | K5: =IF(OR(B5="CES",B5="CNE",B5="LTN",B5="SLT",B5="ASP"),"X",IF(OR(B5="ACH",B5="ADC",B5="ADJ",B5="MAJ",B5="MJR",B5="MDL",B5="MCH",B5="MDC",B5="SGT",B5="SGC",B5="SCH"),"Y","Z")) -> Y | L5: =IF(J5="OUI",K5,"") -> Y | M5: =IF(C5="R",L5,"") | N5: =IF(H5=Résumé!$A$1,K5,"") | O5: =IF(I5=Résumé!$A$1-1,K5,"") | Q5: OUT | R5: =COUNTIF($O:$O,R1) -> 0 | S5: =COUNTIF($O:$O,S1) -> 0 | T5: =COUNTIF($O:$O,T1) -> 0 | U5: =SUM(R5:T5) -> 0
A6: G2 | B6: MCH | H6: 42893 | I6: 42953 | J6: =IF(AND($J$2>=H6,$J$2<=I6),"OUI","NON") -> OUI | K6: =IF(OR(B6="CES",B6="CNE",B6="LTN",B6="SLT",B6="ASP"),"X",IF(OR(B6="ACH",B6="ADC",B6="ADJ",B6="MAJ",B6="MJR",B6="MDL",B6="MCH",B6="MDC",B6="SGT",B6="SGC",B6="SCH"),"Y","Z")) -> Y | L6: =IF(J6="OUI",K6,"") -> Y | M6: =IF(C6="R",L6,"") | N6: =IF(H6=Résumé!$A$1,K6,"") | O6: =IF(I6=Résumé!$A$1-1,K6,"")
A7: G2 | B7: BCH | J7: =IF(AND($J$2>=H7,$J$2<=I7),"OUI","NON") -> NON | K7: =IF(OR(B7="CES",B7="CNE",B7="LTN",B7="SLT",B7="ASP"),"X",IF(OR(B7="ACH",B7="ADC",B7="ADJ",B7="MAJ",B7="MJR",B7="MDL",B7="MCH",B7="MDC",B7="SGT",B7="SGC",B7="SCH"),"Y","Z")) -> Z | L7: =IF(J7="OUI",K7,"") | M7: =IF(C7="R",L7,"") | N7: =IF(H7=Résumé!$A$1,K7,"") | O7: =IF(I7=Résumé!$A$1-1,K7,"")
A8: G2 | B8: MDL | H8: 42893 | I8: 42953 | J8: =IF(AND($J$2>=H8,$J$2<=I8),"OUI","NON") -> OUI | K8: =IF(OR(B8="CES",B8="CNE",B8="LTN",B8="SLT",B8="ASP"),"X",IF(OR(B8="ACH",B8="ADC",B8="ADJ",B8="MAJ",B8="MJR",B8="MDL",B8="MCH",B8="MDC",B8="SGT",B8="SGC",B8="SCH"),"Y","Z")) -> Y | L8: =IF(J8="OUI",K8,"") -> Y | M8: =IF(C8="R",L8,"") | N8: =IF(H8=Résumé!$A$1,K8,"") | O8: =IF(I8=Résumé!$A$1-1,K8,"")
A9: G2 | B9: 1CL | H9: 42893 | I9: 42953 | J9: =IF(AND($J$2>=H9,$J$2<=I9),"OUI","NON") -> OUI | K9: =IF(OR(B9="CES",B9="CNE",B9="LTN",B9="SLT",B9="ASP"),"X",IF(OR(B9="ACH",B9="ADC",B9="ADJ",B9="MAJ",B9="MJR",B9="MDL",B9="MCH",B9="MDC",B9="SGT",B9="SGC",B9="SCH"),"Y","Z")) -> Z | L9: =IF(J9="OUI",K9,"") -> Z | M9: =IF(C9="R",L9,"") | N9: =IF(H9=Résumé!$A$1,K9,"") | O9: =IF(I9=Résumé!$A$1-1,K9,"")
A10: G2 | B10: BCH | H10: 42893 | I10: 42953 | J10: =IF(AND($J$2>=H10,$J$2<=I10),"OUI","NON") -> OUI | K10: =IF(OR(B10="CES",B10="CNE",B10="LTN",B10="SLT",B10="ASP"),"X",IF(OR(B10="ACH",B10="ADC",B10="ADJ",B10="MAJ",B10="MJR",B10="MDL",B10="MCH",B10="MDC",B10="SGT",B10="SGC",B10="SCH"),"Y","Z")) -> Z | L10: =IF(J10="OUI",K10,"") -> Z | M10: =IF(C10="R",L10,"") | N10: =IF(H10=Résumé!$A$1,K10,"") | O10: =IF(I10=Résumé!$A$1-1,K10,"")
A11: G2 | B11: CPL | H11: 42893 | I11: 42953 | J11: =IF(AND($J$2>=H11,$J$2<=I11),"OUI","NON") -> OUI | K11: =IF(OR(B11="CES",B11="CNE",B11="LTN",B11="SLT",B11="ASP"),"X",IF(OR(B11="ACH",B11="ADC",B11="ADJ",B11="MAJ",B11="MJR",B11="MDL",B11="MCH",B11="MDC",B11="SGT",B11="SGC",B11="SCH"),"Y","Z")) -> Z | L11: =IF(J11="OUI",K11,"") -> Z | M11: =IF(C11="R",L11,"") | N11: =IF(H11=Résumé!$A$1,K11,"") | O11: =IF(I11=Résumé!$A$1-1,K11,"")
A12: G2 | B12: MCH | H12: 42892 | I12: 42918 | J12: =IF(AND($J$2>=H12,$J$2<=I12),"OUI","NON") -> OUI | K12: =IF(OR(B12="CES",B12="CNE",B12="LTN",B12="SLT",B12="ASP"),"X",IF(OR(B12="ACH",B12="ADC",B12="ADJ",B12="MAJ",B12="MJR",B12="MDL",B12="MCH",B12="MDC",B12="SGT",B12="SGC",B12="SCH"),"Y","Z")) -> Y | L12: =IF(J12="OUI",K12,"") -> Y | M12: =IF(C12="R",L12,"") | N12: =IF(H12=Résumé!$A$1,K12,"") | O12: =IF(I12=Résumé!$A$1-1,K12,"")
A13: G2 | B13: MCH | H13: 42893 | I13: 42953 | J13: =IF(AND($J$2>=H13,$J$2<=I13),"OUI","NON") -> OUI | K13: =IF(OR(B13="CES",B13="CNE",B13="LTN",B13="SLT",B13="ASP"),"X",IF(OR(B13="ACH",B13="ADC",B13="ADJ",B13="MAJ",B13="MJR",B13="MDL",B13="MCH",B13="MDC",B13="SGT",B13="SGC",B13="SCH"),"Y","Z")) -> Y | L13: =IF(J13="OUI",K13,"") -> Y | M13: =IF(C13="R",L13,"") | N13: =IF(H13=Résumé!$A$1,K13,"") | O13: =IF(I13=Résumé!$A$1-1,K13,"")
A14: G2 | B14: 1CL | H14: 42893 | I14: 42953 | J14: =IF(AND($J$2>=H14,$J$2<=I14),"OUI","NON") -> OUI | K14: =IF(OR(B14="CES",B14="CNE",B14="LTN",B14="SLT",B14="ASP"),"X",IF(OR(B14="ACH",B14="ADC",B14="ADJ",B14="MAJ",B14="MJR",B14="MDL",B14="MCH",B14="MDC",B14="SGT",B14="SGC",B14="SCH"),"Y","Z")) -> Z | L14: =IF(J14="OUI",K14,"") -> Z | M14: =IF(C14="R",L14,"") | N14: =IF(H14=Résumé!$A$1,K14,"") | O14: =IF(I14=Résumé!$A$1-1,K14,"")
A15: G2 | B15: MDL | H15: 42892 | I15: 42953 | J15: =IF(AND($J$2>=H15,$J$2<=I15),"OUI","NON") -> OUI | K15: =IF(OR(B15="CES",B15="CNE",B15="LTN",B15="SLT",B15="ASP"),"X",IF(OR(B15="ACH",B15="ADC",B15="ADJ",B15="MAJ",B15="MJR",B15="MDL",B15="MCH",B15="MDC",B15="SGT",B15="SGC",B15="SCH"),"Y","Z")) -> Y | L15: =IF(J15="OUI",K15,"") -> Y | M15: =IF(C15="R",L15,"") | N15: =IF(H15=Résumé!$A$1,K15,"") | O15: =IF(I15=Résumé!$A$1-1,K15,"")
A16: G2 | B16: CCH | H16: 42894 | I16: 42953 | J16: =IF(AND($J$2>=H16,$J$2<=I16),"OUI","NON") -> OUI | K16: =IF(OR(B16="CES",B16="CNE",B16="LTN",B16="SLT",B16="ASP"),"X",IF(OR(B16="ACH",B16="ADC",B16="ADJ",B16="MAJ",B16="MJR",B16="MDL",B16="MCH",B16="MDC",B16="SGT",B16="SGC",B16="SCH"),"Y","Z")) -> Z | L16: =IF(J16="OUI",K16,"") -> Z | M16: =IF(C16="R",L16,"") | N16: =IF(H16=Résumé!$A$1,K16,"") | O16: =IF(I16=Résumé!$A$1-1,K16,"")
A17: G2 | B17: CPL | H17: 42893 | I17: 42953 | J17: =IF(AND($J$2>=H17,$J$2<=I17),"OUI","NON") -> OUI | K17: =IF(OR(B17="CES",B17="CNE",B17="LTN",B17="SLT",B17="ASP"),"X",IF(OR(B17="ACH",B17="ADC",B17="ADJ",B17="MAJ",B17="MJR",B17="MDL",B17="MCH",B17="MDC",B17="SGT",B17="SGC",B17="SCH"),"Y","Z")) -> Z | L17: =IF(J17="OUI",K17,"") -> Z | M17: =IF(C17="R",L17,"") | N17: =IF(H17=Résumé!$A$1,K17,"") | O17: =IF(I17=Résumé!$A$1-1,K17,"")
A18: G2 | B18: 1CL | H18: 42893 | I18: 42953 | J18: =IF(AND($J$2>=H18,$J$2<=I18),"OUI","NON") -> OUI | K18: =IF(OR(B18="CES",B18="CNE",B18="LTN",B18="SLT",B18="ASP"),"X",IF(OR(B18="ACH",B18="ADC",B18="ADJ",B18="MAJ",B18="MJR",B18="MDL",B18="MCH",B18="MDC",B18="SGT",B18="SGC",B18="SCH"),"Y","Z")) -> Z | L18: =IF(J18="OUI",K18,"") -> Z | M18: =IF(C18="R",L18,"") | N18: =IF(H18=Résumé!$A$1,K18,"") | O18: =IF(I18=Résumé!$A$1-1,K18,"")
A19: G2 | B19: 1CL | H19: 42893 | I19: 42953 | J19: =IF(AND($J$2>=H19,$J$2<=I19),"OUI","NON") -> OUI | K19: =IF(OR(B19="CES",B19="CNE",B19="LTN",B19="SLT",B19="ASP"),"X",IF(OR(B19="ACH",B19="ADC",B19="ADJ",B19="MAJ",B19="MJR",B19="MDL",B19="MCH",B19="MDC",B19="SGT",B19="SGC",B19="SCH"),"Y","Z")) -> Z | L19: =IF(J19="OUI",K19,"") -> Z | M19: =IF(C19="R",L19,"") | N19: =IF(H19=Résumé!$A$1,K19,"") | O19: =IF(I19=Résumé!$A$1-1,K19,"")
... A94: G2 | B94: ADJ | H94: 42931 | I94: 42953 | J94: =IF(AND($J$2>=H94,$J$2<=I94),"OUI","NON") -> NON | K94: =IF(OR(B94="CES",B94="CNE",B94="LTN",B94="SLT",B94="ASP"),"X",IF(OR(B94="ACH",B94="ADC",B94="ADJ",B94="MAJ",B94="MJR",B94="MDL",B94="MCH",B94="MDC",B94="SGT",B94="SGC",B94="SCH"),"Y","Z")) -> Y | L94: =IF(J94="OUI",K94,"") | M94: =IF(C94="R",L94,"") | N94: =IF(H94=Résumé!$A$1,K94,"") | O94: =IF(I94=Résumé!$A$1-1,K94,"")
A95: G2 | B95: MDL | J95: =IF(AND($J$2>=H95,$J$2<=I95),"OUI","NON") -> NON | K95: =IF(OR(B95="CES",B95="CNE",B95="LTN",B95="SLT",B95="ASP"),"X",IF(OR(B95="ACH",B95="ADC",B95="ADJ",B95="MAJ",B95="MJR",B95="MDL",B95="MCH",B95="MDC",B95="SGT",B95="SGC",B95="SCH"),"Y","Z")) -> Y | L95: =IF(J95="OUI",K95,"") | M95: =IF(C95="R",L95,"") | N95: =IF(H95=Résumé!$A$1,K95,"") | O95: =IF(I95=Résumé!$A$1-1,K95,"")
A96: G2 | B96: CPL | J96: =IF(AND($J$2>=H96,$J$2<=I96),"OUI","NON") -> NON | K96: =IF(OR(B96="CES",B96="CNE",B96="LTN",B96="SLT",B96="ASP"),"X",IF(OR(B96="ACH",B96="ADC",B96="ADJ",B96="MAJ",B96="MJR",B96="MDL",B96="MCH",B96="MDC",B96="SGT",B96="SGC",B96="SCH"),"Y","Z")) -> Z | L96: =IF(J96="OUI",K96,"") | M96: =IF(C96="R",L96,"") | N96: =IF(H96=Résumé!$A$1,K96,"") | O96: =IF(I96=Résumé!$A$1-1,K96,"")
A97: G2 | B97: MDL | J97: =IF(AND($J$2>=H97,$J$2<=I97),"OUI","NON") -> NON | K97: =IF(OR(B97="CES",B97="CNE",B97="LTN",B97="SLT",B97="ASP"),"X",IF(OR(B97="ACH",B97="ADC",B97="ADJ",B97="MAJ",B97="MJR",B97="MDL",B97="MCH",B97="MDC",B97="SGT",B97="SGC",B97="SCH"),"Y","Z")) -> Y | L97: =IF(J97="OUI",K97,"") | M97: =IF(C97="R",L97,"") | N97: =IF(H97=Résumé!$A$1,K97,"") | O97: =IF(I97=Résumé!$A$1-1,K97,"")
A98: G2 | B98: CPL | J98: =IF(AND($J$2>=H98,$J$2<=I98),"OUI","NON") -> NON | K98: =IF(OR(B98="CES",B98="CNE",B98="LTN",B98="SLT",B98="ASP"),"X",IF(OR(B98="ACH",B98="ADC",B98="ADJ",B98="MAJ",B98="MJR",B98="MDL",B98="MCH",B98="MDC",B98="SGT",B98="SGC",B98="SCH"),"Y","Z")) -> Z | L98: =IF(J98="OUI",K98,"") | M98: =IF(C98="R",L98,"") | N98: =IF(H98=Résumé!$A$1,K98,"") | O98: =IF(I98=Résumé!$A$1-1,K98,"")
A99: G2 | B99: CPL | J99: =IF(AND($J$2>=H99,$J$2<=I99),"OUI","NON") -> NON | K99: =IF(OR(B99="CES",B99="CNE",B99="LTN",B99="SLT",B99="ASP"),"X",IF(OR(B99="ACH",B99="ADC",B99="ADJ",B99="MAJ",B99="MJR",B99="MDL",B99="MCH",B99="MDC",B99="SGT",B99="SGC",B99="SCH"),"Y","Z")) -> Z | L99: =IF(J99="OUI",K99,"") | M99: =IF(C99="R",L99,"") | N99: =IF(H99=Résumé!$A$1,K99,"") | O99: =IF(I99=Résumé!$A$1-1,K99,"")
A100: G2 | B100: CNE | H100: 42904 | I100: 42953 | J100: =IF(AND($J$2>=H100,$J$2<=I100),"OUI","NON") -> NON | K100: =IF(OR(B100="CES",B100="CNE",B100="LTN",B100="SLT",B100="ASP"),"X",IF(OR(B100="ACH",B100="ADC",B100="ADJ",B100="MAJ",B100="MJR",B100="MDL",B100="MCH",B100="MDC",B100="SGT",B100="SGC",B100="SCH"),"Y","Z")) -> X | L100: =IF(J100="OUI",K100,"") | M100: =IF(C100="R",L100,"") | N100: =IF(H100=Résumé!$A$1,K100,"") | O100: =IF(I100=Résumé!$A$1-1,K100,"")

Sheet G3
J1: PRESENCE | R1: X | S1: Y | T1: Z | U1: T
A2: G | B2: NIV | C2: R | D2: NOM | E2: Prénom | F2: NUM | G2: CLASSE | H2: IN | I2: OUT | J2: =Résumé!A1 -> 42897 | K2: G | L2: P | M2: R | N2: IN | O2: OU | Q2: P | R2: =COUNTIF($L:$L,R1) -> 3 | S2: =COUNTIF($L:$L,S1) -> 15 | T2: =COUNTIF($L:$L,T1) -> 71 | U2: =SUM(R2:T2) -> 89
A3: G3 | B3: CNE | H3: 42894 | I3: 42953 | J3: =IF(AND($J$2>=H3,$J$2<=I3),"OUI","NON") -> OUI | K3: =IF(OR(B3="CES",B3="CNE",B3="LTN",B3="SLT",B3="ASP"),"X",IF(OR(B3="ACH",B3="ADC",B3="ADJ",B3="MAJ",B3="MJR",B3="MDL",B3="MCH",B3="MDC",B3="SGT",B3="SGC",B3="SCH"),"Y","Z")) -> X | L3: =IF(J3="OUI",K3,"") -> X | M3: =IF(C3="R",L3,"") | N3: =IF(H3=Résumé!$A$1,K3,"") | O3: =IF(I3=Résumé!$A$1-1,K3,"") | Q3: R | R3: =COUNTIF($M:$M,R1) -> 0 | S3: =COUNTIF($M:$M,S1) -> 0 | T3: =COUNTIF($M:$M,T1) -> 0 | U3: =SUM(R3:T3) -> 0
A4: G3 | B4: ADJ | H4: 42894 | I4: 42953 | J4: =IF(AND($J$2>=H4,$J$2<=I4),"OUI","NON") -> OUI | K4: =IF(OR(B4="CES",B4="CNE",B4="LTN",B4="SLT",B4="ASP"),"X",IF(OR(B4="ACH",B4="ADC",B4="ADJ",B4="MAJ",B4="MJR",B4="MDL",B4="MCH",B4="MDC",B4="SGT",B4="SGC",B4="SCH"),"Y","Z")) -> Y | L4: =IF(J4="OUI",K4,"") -> Y | M4: =IF(C4="R",L4,"") | N4: =IF(H4=Résumé!$A$1,K4,"") | O4: =IF(I4=Résumé!$A$1-1,K4,"") | Q4: IN | R4: =COUNTIF($N:$N,R1) -> 0 | S4: =COUNTIF($N:$N,S1) -> 1 | T4: =COUNTIF($N:$N,T1) -> 0 | U4: =SUM(R4:T4) -> 1
A5: G3 | B5: CCH | H5: 42894 | I5: 42953 | J5: =IF(AND($J$2>=H5,$J$2<=I5),"OUI","NON") -> OUI | K5: =IF(OR(B5="CES",B5="CNE",B5="LTN",B5="SLT",B5="ASP"),"X",IF(OR(B5="ACH",B5="ADC",B5="ADJ",B5="MAJ",B5="MJR",B5="MDL",B5="MCH",B5="MDC",B5="SGT",B5="SGC",B5="SCH"),"Y","Z")) -> Z | L5: =IF(J5="OUI",K5,"") -> Z | M5: =IF(C5="R",L5,"") | N5: =IF(H5=Résumé!$A$1,K5,"") | O5: =IF(I5=Résumé!$A$1-1,K5,"") | Q5: OUT | R5: =COUNTIF($O:$O,R1) -> 0 | S5: =COUNTIF($O:$O,S1) -> 0 | T5: =COUNTIF($O:$O,T1) -> 0 | U5: =SUM(R5:T5) -> 0
A6: G3 | B6: CCH | H6: 42894 | I6: 42953 | J6: =IF(AND($J$2>=H6,$J$2<=I6),"OUI","NON") -> OUI | K6: =IF(OR(B6="CES",B6="CNE",B6="LTN",B6="SLT",B6="ASP"),"X",IF(OR(B6="ACH",B6="ADC",B6="ADJ",B6="MAJ",B6="MJR",B6="MDL",B6="MCH",B6="MDC",B6="SGT",B6="SGC",B6="SCH"),"Y","Z")) -> Z | L6: =IF(J6="OUI",K6,"") -> Z | M6: =IF(C6="R",L6,"") | N6: =IF(H6=Résumé!$A$1,K6,"") | O6: =IF(I6=Résumé!$A$1-1,K6,"")
A7: G3 | B7: ADJ | H7: 42894 | I7: 42953 | J7: =IF(AND($J$2>=H7,$J$2<=I7),"OUI","NON") -> OUI | K7: =IF(OR(B7="CES",B7="CNE",B7="LTN",B7="SLT",B7="ASP"),"X",IF(OR(B7="ACH",B7="ADC",B7="ADJ",B7="MAJ",B7="MJR",B7="MDL",B7="MCH",B7="MDC",B7="SGT",B7="SGC",B7="SCH"),"Y","Z")) -> Y | L7: =IF(J7="OUI",K7,"") -> Y | M7: =IF(C7="R",L7,"") | N7: =IF(H7=Résumé!$A$1,K7,"") | O7: =IF(I7=Résumé!$A$1-1,K7,"")
A8: G3 | B8: CPL | J8: =IF(AND($J$2>=H8,$J$2<=I8),"OUI","NON") -> NON | K8: =IF(OR(B8="CES",B8="CNE",B8="LTN",B8="SLT",B8="ASP"),"X",IF(OR(B8="ACH",B8="ADC",B8="ADJ",B8="MAJ",B8="MJR",B8="MDL",B8="MCH",B8="MDC",B8="SGT",B8="SGC",B8="SCH"),"Y","Z")) -> Z | L8: =IF(J8="OUI",K8,"") | M8: =IF(C8="R",L8,"") | N8: =IF(H8=Résumé!$A$1,K8,"") | O8: =IF(I8=Résumé!$A$1-1,K8,"")
A9: G3 | B9: CPL | H9: 42894 | I9: 42953 | J9: =IF(AND($J$2>=H9,$J$2<=I9),"OUI","NON") -> OUI | K9: =IF(OR(B9="CES",B9="CNE",B9="LTN",B9="SLT",B9="ASP"),"X",IF(OR(B9="ACH",B9="ADC",B9="ADJ",B9="MAJ",B9="MJR",B9="MDL",B9="MCH",B9="MDC",B9="SGT",B9="SGC",B9="SCH"),"Y","Z")) -> Z | L9: =IF(J9="OUI",K9,"") -> Z | M9: =IF(C9="R",L9,"") | N9: =IF(H9=Résumé!$A$1,K9,"") | O9: =IF(I9=Résumé!$A$1-1,K9,"")
A10: G3 | B10: LTN | H10: 42894 | I10: 42953 | J10: =IF(AND($J$2>=H10,$J$2<=I10),"OUI","NON") -> OUI | K10: =IF(OR(B10="CES",B10="CNE",B10="LTN",B10="SLT",B10="ASP"),"X",IF(OR(B10="ACH",B10="ADC",B10="ADJ",B10="MAJ",B10="MJR",B10="MDL",B10="MCH",B10="MDC",B10="SGT",B10="SGC",B10="SCH"),"Y","Z")) -> X | L10: =IF(J10="OUI",K10,"") -> X | M10: =IF(C10="R",L10,"") | N10: =IF(H10=Résumé!$A$1,K10,"") | O10: =IF(I10=Résumé!$A$1-1,K10,"")
A11: G3 | B11: SCH | H11: 42894 | I11: 42953 | J11: =IF(AND($J$2>=H11,$J$2<=I11),"OUI","NON") -> OUI | K11: =IF(OR(B11="CES",B11="CNE",B11="LTN",B11="SLT",B11="ASP"),"X",IF(OR(B11="ACH",B11="ADC",B11="ADJ",B11="MAJ",B11="MJR",B11="MDL",B11="MCH",B11="MDC",B11="SGT",B11="SGC",B11="SCH"),"Y","Z")) -> Y | L11: =IF(J11="OUI",K11,"") -> Y | M11: =IF(C11="R",L11,"") | N11: =IF(H11=Résumé!$A$1,K11,"") | O11: =IF(I11=Résumé!$A$1-1,K11,"")
A12: G3 | B12: LEG | H12: 42894 | I12: 42953 | J12: =IF(AND($J$2>=H12,$J$2<=I12),"OUI","NON") -> OUI | K12: =IF(OR(B12="CES",B12="CNE",B12="LTN",B12="SLT",B12="ASP"),"X",IF(OR(B12="ACH",B12="ADC",B12="ADJ",B12="MAJ",B12="MJR",B12="MDL",B12="MCH",B12="MDC",B12="SGT",B12="SGC",B12="SCH"),"Y","Z")) -> Z | L12: =IF(J12="OUI",K12,"") -> Z | M12: =IF(C12="R",L12,"") | N12: =IF(H12=Résumé!$A$1,K12,"") | O12: =IF(I12=Résumé!$A$1-1,K12,"")
A13: G3 | B13: SGT | H13: 42894 | I13: 42953 | J13: =IF(AND($J$2>=H13,$J$2<=I13),"OUI","NON") -> OUI | K13: =IF(OR(B13="CES",B13="CNE",B13="LTN",B13="SLT",B13="ASP"),"X",IF(OR(B13="ACH",B13="ADC",B13="ADJ",B13="MAJ",B13="MJR",B13="MDL",B13="MCH",B13="MDC",B13="SGT",B13="SGC",B13="SCH"),"Y","Z")) -> Y | L13: =IF(J13="OUI",K13,"") -> Y | M13: =IF(C13="R",L13,"") | N13: =IF(H13=Résumé!$A$1,K13,"") | O13: =IF(I13=Résumé!$A$1-1,K13,"")
A14: G3 | B14: CCH | H14: 42894 | I14: 42953 | J14: =IF(AND($J$2>=H14,$J$2<=I14),"OUI","NON") -> OUI | K14: =IF(OR(B14="CES",B14="CNE",B14="LTN",B14="SLT",B14="ASP"),"X",IF(OR(B14="ACH",B14="ADC",B14="ADJ",B14="MAJ",B14="MJR",B14="MDL",B14="MCH",B14="MDC",B14="SGT",B14="SGC",B14="SCH"),"Y","Z")) -> Z | L14: =IF(J14="OUI",K14,"") -> Z | M14: =IF(C14="R",L14,"") | N14: =IF(H14=Résumé!$A$1,K14,"") | O14: =IF(I14=Résumé!$A$1-1,K14,"")
A15: G3 | B15: CPL | H15: 42894 | I15: 42953 | J15: =IF(AND($J$2>=H15,$J$2<=I15),"OUI","NON") -> OUI | K15: =IF(OR(B15="CES",B15="CNE",B15="LTN",B15="SLT",B15="ASP"),"X",IF(OR(B15="ACH",B15="ADC",B15="ADJ",B15="MAJ",B15="MJR",B15="MDL",B15="MCH",B15="MDC",B15="SGT",B15="SGC",B15="SCH"),"Y","Z")) -> Z | L15: =IF(J15="OUI",K15,"") -> Z | M15: =IF(C15="R",L15,"") | N15: =IF(H15=Résumé!$A$1,K15,"") | O15: =IF(I15=Résumé!$A$1-1,K15,"")
A16: G3 | B16: CPL | H16: 42894 | I16: 42953 | J16: =IF(AND($J$2>=H16,$J$2<=I16),"OUI","NON") -> OUI | K16: =IF(OR(B16="CES",B16="CNE",B16="LTN",B16="SLT",B16="ASP"),"X",IF(OR(B16="ACH",B16="ADC",B16="ADJ",B16="MAJ",B16="MJR",B16="MDL",B16="MCH",B16="MDC",B16="SGT",B16="SGC",B16="SCH"),"Y","Z")) -> Z | L16: =IF(J16="OUI",K16,"") -> Z | M16: =IF(C16="R",L16,"") | N16: =IF(H16=Résumé!$A$1,K16,"") | O16: =IF(I16=Résumé!$A$1-1,K16,"")
A17: G3 | B17: 1CL | H17: 42894 | I17: 42953 | J17: =IF(AND($J$2>=H17,$J$2<=I17),"OUI","NON") -> OUI | K17: =IF(OR(B17="CES",B17="CNE",B17="LTN",B17="SLT",B17="ASP"),"X",IF(OR(B17="ACH",B17="ADC",B17="ADJ",B17="MAJ",B17="MJR",B17="MDL",B17="MCH",B17="MDC",B17="SGT",B17="SGC",B17="SCH"),"Y","Z")) -> Z | L17: =IF(J17="OUI",K17,"") -> Z | M17: =IF(C17="R",L17,"") | N17: =IF(H17=Résumé!$A$1,K17,"") | O17: =IF(I17=Résumé!$A$1-1,K17,"")
A18: G3 | B18: 1CL | H18: 42894 | I18: 42953 | J18: =IF(AND($J$2>=H18,$J$2<=I18),"OUI","NON") -> OUI | K18: =IF(OR(B18="CES",B18="CNE",B18="LTN",B18="SLT",B18="ASP"),"X",IF(OR(B18="ACH",B18="ADC",B18="ADJ",B18="MAJ",B18="MJR",B18="MDL",B18="MCH",B18="MDC",B18="SGT",B18="SGC",B18="SCH"),"Y","Z")) -> Z | L18: =IF(J18="OUI",K18,"") -> Z | M18: =IF(C18="R",L18,"") | N18: =IF(H18=Résumé!$A$1,K18,"") | O18: =IF(I18=Résumé!$A$1-1,K18,"")
A19: G3 | B19: 1CL | H19: 42894 | I19: 42953 | J19: =IF(AND($J$2>=H19,$J$2<=I19),"OUI","NON") -> OUI | K19: =IF(OR(B19="CES",B19="CNE",B19="LTN",B19="SLT",B19="ASP"),"X",IF(OR(B19="ACH",B19="ADC",B19="ADJ",B19="MAJ",B19="MJR",B19="MDL",B19="MCH",B19="MDC",B19="SGT",B19="SGC",B19="SCH"),"Y","Z")) -> Z | L19: =IF(J19="OUI",K19,"") -> Z | M19: =IF(C19="R",L19,"") | N19: =IF(H19=Résumé!$A$1,K19,"") | O19: =IF(I19=Résumé!$A$1-1,K19,"")
A20: G3 | B20: 1CL | H20: 42894 | I20: 42953 | J20: =IF(AND($J$2>=H20,$J$2<=I20),"OUI","NON") -> OUI | K20: =IF(OR(B20="CES",B20="CNE",B20="LTN",B20="SLT",B20="ASP"),"X",IF(OR(B20="ACH",B20="ADC",B20="ADJ",B20="MAJ",B20="MJR",B20="MDL",B20="MCH",B20="MDC",B20="SGT",B20="SGC",B20="SCH"),"Y","Z")) -> Z | L20: =IF(J20="OUI",K20,"") -> Z | M20: =IF(C20="R",L20,"") | N20: =IF(H20=Résumé!$A$1,K20,"") | O20: =IF(I20=Résumé!$A$1-1,K20,"")
... A92: G3 | B92: LEG | H92: 42894 | I92: 42953 | J92: =IF(AND($J$2>=H92,$J$2<=I92),"OUI","NON") -> OUI | K92: =IF(OR(B92="CES",B92="CNE",B92="LTN",B92="SLT",B92="ASP"),"X",IF(OR(B92="ACH",B92="ADC",B92="ADJ",B92="MAJ",B92="MJR",B92="MDL",B92="MCH",B92="MDC",B92="SGT",B92="SGC",B92="SCH"),"Y","Z")) -> Z | L92: =IF(J92="OUI",K92,"") -> Z | M92: =IF(C92="R",L92,"") | N92: =IF(H92=Résumé!$A$1,K92,"") | O92: =IF(I92=Résumé!$A$1-1,K92,"")
A93: G3 | B93: CPL | J93: =IF(AND($J$2>=H93,$J$2<=I93),"OUI","NON") -> NON | K93: =IF(OR(B93="CES",B93="CNE",B93="LTN",B93="SLT",B93="ASP"),"X",IF(OR(B93="ACH",B93="ADC",B93="ADJ",B93="MAJ",B93="MJR",B93="MDL",B93="MCH",B93="MDC",B93="SGT",B93="SGC",B93="SCH"),"Y","Z")) -> Z | L93: =IF(J93="OUI",K93,"") | M93: =IF(C93="R",L93,"") | N93: =IF(H93=Résumé!$A$1,K93,"") | O93: =IF(I93=Résumé!$A$1-1,K93,"")
A94: G3 | B94: 1CL | H94: 42894 | I94: 42953 | J94: =IF(AND($J$2>=H94,$J$2<=I94),"OUI","NON") -> OUI | K94: =IF(OR(B94="CES",B94="CNE",B94="LTN",B94="SLT",B94="ASP"),"X",IF(OR(B94="ACH",B94="ADC",B94="ADJ",B94="MAJ",B94="MJR",B94="MDL",B94="MCH",B94="MDC",B94="SGT",B94="SGC",B94="SCH"),"Y","Z")) -> Z | L94: =IF(J94="OUI",K94,"") -> Z | M94: =IF(C94="R",L94,"") | N94: =IF(H94=Résumé!$A$1,K94,"") | O94: =IF(I94=Résumé!$A$1-1,K94,"")

Sheet G4
J1: PRESENCE | R1: X | S1: Y | T1: Z | U1: T
A2: G | B2: NIV | C2: R | D2: NOM | E2: Prénom | F2: NUM | G2: CLASSE | H2: IN | I2: OUT | J2: =Résumé!A1 -> 42897 | K2: G | L2: P | M2: R | N2: IN | O2: OU | Q2: P | R2: =COUNTIF($L:$L,R1) -> 4 | S2: =COUNTIF($L:$L,S1) -> 14 | T2: =COUNTIF($L:$L,T1) -> 62 | U2: =SUM(R2:T2) -> 80
A3: G4 | B3: CNE | H3: 42892 | I3: 42953 | J3: =IF(AND($J$2>=H3,$J$2<=I3),"OUI","NON") -> OUI | K3: =IF(OR(B3="CES",B3="CNE",B3="LTN",B3="SLT",B3="ASP"),"X",IF(OR(B3="ACH",B3="ADC",B3="ADJ",B3="MAJ",B3="MJR",B3="MDL",B3="MCH",B3="MDC",B3="SGT",B3="SGC",B3="SCH"),"Y","Z")) -> X | L3: =IF(J3="OUI",K3,"") -> X | M3: =IF(C3="R",L3,"") | N3: =IF(H3=Résumé!$A$1,K3,"") | O3: =IF(I3=Résumé!$A$1-1,K3,"") | Q3: R | R3: =COUNTIF($M:$M,R1) -> 0 | S3: =COUNTIF($M:$M,S1) -> 0 | T3: =COUNTIF($M:$M,T1) -> 0 | U3: =SUM(R3:T3) -> 0
A4: G4 | B4: LTN | H4: 42892 | I4: 42953 | J4: =IF(AND($J$2>=H4,$J$2<=I4),"OUI","NON") -> OUI | K4: =IF(OR(B4="CES",B4="CNE",B4="LTN",B4="SLT",B4="ASP"),"X",IF(OR(B4="ACH",B4="ADC",B4="ADJ",B4="MAJ",B4="MJR",B4="MDL",B4="MCH",B4="MDC",B4="SGT",B4="SGC",B4="SCH"),"Y","Z")) -> X | L4: =IF(J4="OUI",K4,"") -> X | M4: =IF(C4="R",L4,"") | N4: =IF(H4=Résumé!$A$1,K4,"") | O4: =IF(I4=Résumé!$A$1-1,K4,"") | Q4: IN | R4: =COUNTIF($N:$N,R1) -> 0 | S4: =COUNTIF($N:$N,S1) -> 0 | T4: =COUNTIF($N:$N,T1) -> 0 | U4: =SUM(R4:T4) -> 0
A5: G4 | B5: LTN | H5: 42892 | I5: 42953 | J5: =IF(AND($J$2>=H5,$J$2<=I5),"OUI","NON") -> OUI | K5: =IF(OR(B5="CES",B5="CNE",B5="LTN",B5="SLT",B5="ASP"),"X",IF(OR(B5="ACH",B5="ADC",B5="ADJ",B5="MAJ",B5="MJR",B5="MDL",B5="MCH",B5="MDC",B5="SGT",B5="SGC",B5="SCH"),"Y","Z")) -> X | L5: =IF(J5="OUI",K5,"") -> X | M5: =IF(C5="R",L5,"") | N5: =IF(H5=Résumé!$A$1,K5,"") | O5: =IF(I5=Résumé!$A$1-1,K5,"") | Q5: OUT | R5: =COUNTIF($O:$O,R1) -> 0 | S5: =COUNTIF($O:$O,S1) -> 0 | T5: =COUNTIF($O:$O,T1) -> 0 | U5: =SUM(R5:T5) -> 0
A6: G4 | B6: ADC | H6: 42892 | I6: 42953 | J6: =IF(AND($J$2>=H6,$J$2<=I6),"OUI","NON") -> OUI | K6: =IF(OR(B6="CES",B6="CNE",B6="LTN",B6="SLT",B6="ASP"),"X",IF(OR(B6="ACH",B6="ADC",B6="ADJ",B6="MAJ",B6="MJR",B6="MDL",B6="MCH",B6="MDC",B6="SGT",B6="SGC",B6="SCH"),"Y","Z")) -> Y | L6: =IF(J6="OUI",K6,"") -> Y | M6: =IF(C6="R",L6,"") | N6: =IF(H6=Résumé!$A$1,K6,"") | O6: =IF(I6=Résumé!$A$1-1,K6,"")
A7: G4 | B7: MCH | H7: 42892 | I7: 42953 | J7: =IF(AND($J$2>=H7,$J$2<=I7),"OUI","NON") -> OUI | K7: =IF(OR(B7="CES",B7="CNE",B7="LTN",B7="SLT",B7="ASP"),"X",IF(OR(B7="ACH",B7="ADC",B7="ADJ",B7="MAJ",B7="MJR",B7="MDL",B7="MCH",B7="MDC",B7="SGT",B7="SGC",B7="SCH"),"Y","Z")) -> Y | L7: =IF(J7="OUI",K7,"") -> Y | M7: =IF(C7="R",L7,"") | N7: =IF(H7=Résumé!$A$1,K7,"") | O7: =IF(I7=Résumé!$A$1-1,K7,"")
A8: G4 | B8: MCH | H8: 42892 | I8: 42953 | J8: =IF(AND($J$2>=H8,$J$2<=I8),"OUI","NON") -> OUI | K8: =IF(OR(B8="CES",B8="CNE",B8="LTN",B8="SLT",B8="ASP"),"X",IF(OR(B8="ACH",B8="ADC",B8="ADJ",B8="MAJ",B8="MJR",B8="MDL",B8="MCH",B8="MDC",B8="SGT",B8="SGC",B8="SCH"),"Y","Z")) -> Y | L8: =IF(J8="OUI",K8,"") -> Y | M8: =IF(C8="R",L8,"") | N8: =IF(H8=Résumé!$A$1,K8,"") | O8: =IF(I8=Résumé!$A$1-1,K8,"")
A9: G4 | B9: MDL | H9: 42892 | I9: 42953 | J9: =IF(AND($J$2>=H9,$J$2<=I9),"OUI","NON") -> OUI | K9: =IF(OR(B9="CES",B9="CNE",B9="LTN",B9="SLT",B9="ASP"),"X",IF(OR(B9="ACH",B9="ADC",B9="ADJ",B9="MAJ",B9="MJR",B9="MDL",B9="MCH",B9="MDC",B9="SGT",B9="SGC",B9="SCH"),"Y","Z")) -> Y | L9: =IF(J9="OUI",K9,"") -> Y | M9: =IF(C9="R",L9,"") | N9: =IF(H9=Résumé!$A$1,K9,"") | O9: =IF(I9=Résumé!$A$1-1,K9,"")
A10: G4 | B10: MDL | H10: 42892 | I10: 42953 | J10: =IF(AND($J$2>=H10,$J$2<=I10),"OUI","NON") -> OUI | K10: =IF(OR(B10="CES",B10="CNE",B10="LTN",B10="SLT",B10="ASP"),"X",IF(OR(B10="ACH",B10="ADC",B10="ADJ",B10="MAJ",B10="MJR",B10="MDL",B10="MCH",B10="MDC",B10="SGT",B10="SGC",B10="SCH"),"Y","Z")) -> Y | L10: =IF(J10="OUI",K10,"") -> Y | M10: =IF(C10="R",L10,"") | N10: =IF(H10=Résumé!$A$1,K10,"") | O10: =IF(I10=Résumé!$A$1-1,K10,"")
A11: G4 | B11: MDL | H11: 42892 | I11: 42953 | J11: =IF(AND($J$2>=H11,$J$2<=I11),"OUI","NON") -> OUI | K11: =IF(OR(B11="CES",B11="CNE",B11="LTN",B11="SLT",B11="ASP"),"X",IF(OR(B11="ACH",B11="ADC",B11="ADJ",B11="MAJ",B11="MJR",B11="MDL",B11="MCH",B11="MDC",B11="SGT",B11="SGC",B11="SCH"),"Y","Z")) -> Y | L11: =IF(J11="OUI",K11,"") -> Y | M11: =IF(C11="R",L11,"") | N11: =IF(H11=Résumé!$A$1,K11,"") | O11: =IF(I11=Résumé!$A$1-1,K11,"")
A12: G4 | B12: MDL | H12: 42892 | I12: 42953 | J12: =IF(AND($J$2>=H12,$J$2<=I12),"OUI","NON") -> OUI | K12: =IF(OR(B12="CES",B12="CNE",B12="LTN",B12="SLT",B12="ASP"),"X",IF(OR(B12="ACH",B12="ADC",B12="ADJ",B12="MAJ",B12="MJR",B12="MDL",B12="MCH",B12="MDC",B12="SGT",B12="SGC",B12="SCH"),"Y","Z")) -> Y | L12: =IF(J12="OUI",K12,"") -> Y | M12: =IF(C12="R",L12,"") | N12: =IF(H12=Résumé!$A$1,K12,"") | O12: =IF(I12=Résumé!$A$1-1,K12,"")
A13: G4 | B13: MDL | H13: 42892 | I13: 42953 | J13: =IF(AND($J$2>=H13,$J$2<=I13),"OUI","NON") -> OUI | K13: =IF(OR(B13="CES",B13="CNE",B13="LTN",B13="SLT",B13="ASP"),"X",IF(OR(B13="ACH",B13="ADC",B13="ADJ",B13="MAJ",B13="MJR",B13="MDL",B13="MCH",B13="MDC",B13="SGT",B13="SGC",B13="SCH"),"Y","Z")) -> Y | L13: =IF(J13="OUI",K13,"") -> Y | M13: =IF(C13="R",L13,"") | N13: =IF(H13=Résumé!$A$1,K13,"") | O13: =IF(I13=Résumé!$A$1-1,K13,"")
A14: G4 | B14: BC1 | H14: 42892 | I14: 42953 | J14: =IF(AND($J$2>=H14,$J$2<=I14),"OUI","NON") -> OUI | K14: =IF(OR(B14="CES",B14="CNE",B14="LTN",B14="SLT",B14="ASP"),"X",IF(OR(B14="ACH",B14="ADC",B14="ADJ",B14="MAJ",B14="MJR",B14="MDL",B14="MCH",B14="MDC",B14="SGT",B14="SGC",B14="SCH"),"Y","Z")) -> Z | L14: =IF(J14="OUI",K14,"") -> Z | M14: =IF(C14="R",L14,"") | N14: =IF(H14=Résumé!$A$1,K14,"") | O14: =IF(I14=Résumé!$A$1-1,K14,"")
A15: G4 | B15: BC1 | H15: 42894 | I15: 42953 | J15: =IF(AND($J$2>=H15,$J$2<=I15),"OUI","NON") -> OUI | K15: =IF(OR(B15="CES",B15="CNE",B15="LTN",B15="SLT",B15="ASP"),"X",IF(OR(B15="ACH",B15="ADC",B15="ADJ",B15="MAJ",B15="MJR",B15="MDL",B15="MCH",B15="MDC",B15="SGT",B15="SGC",B15="SCH"),"Y","Z")) -> Z | L15: =IF(J15="OUI",K15,"") -> Z | M15: =IF(C15="R",L15,"") | N15: =IF(H15=Résumé!$A$1,K15,"") | O15: =IF(I15=Résumé!$A$1-1,K15,"")
A16: G4 | B16: BCH | H16: 42892 | I16: 42953 | J16: =IF(AND($J$2>=H16,$J$2<=I16),"OUI","NON") -> OUI | K16: =IF(OR(B16="CES",B16="CNE",B16="LTN",B16="SLT",B16="ASP"),"X",IF(OR(B16="ACH",B16="ADC",B16="ADJ",B16="MAJ",B16="MJR",B16="MDL",B16="MCH",B16="MDC",B16="SGT",B16="SGC",B16="SCH"),"Y","Z")) -> Z | L16: =IF(J16="OUI",K16,"") -> Z | M16: =IF(C16="R",L16,"") | N16: =IF(H16=Résumé!$A$1,K16,"") | O16: =IF(I16=Résumé!$A$1-1,K16,"")
A17: G4 | B17: CNE | H17: 42894 | I17: 42953 | J17: =IF(AND($J$2>=H17,$J$2<=I17),"OUI","NON") -> OUI | K17: =IF(OR(B17="CES",B17="CNE",B17="LTN",B17="SLT",B17="ASP"),"X",IF(OR(B17="ACH",B17="ADC",B17="ADJ",B17="MAJ",B17="MJR",B17="MDL",B17="MCH",B17="MDC",B17="SGT",B17="SGC",B17="SCH"),"Y","Z")) -> X | L17: =IF(J17="OUI",K17,"") -> X | M17: =IF(C17="R",L17,"") | N17: =IF(H17=Résumé!$A$1,K17,"") | O17: =IF(I17=Résumé!$A$1-1,K17,"")
... A84: G4 | B84: BRI | H84: 42898 | I84: 42953 | J84: =IF(AND($J$2>=H84,$J$2<=I84),"OUI","NON") -> NON | K84: =IF(OR(B84="CES",B84="CNE",B84="LTN",B84="SLT",B84="ASP"),"X",IF(OR(B84="ACH",B84="ADC",B84="ADJ",B84="MAJ",B84="MJR",B84="MDL",B84="MCH",B84="MDC",B84="SGT",B84="SGC",B84="SCH"),"Y","Z")) -> Z | L84: =IF(J84="OUI",K84,"") | M84: =IF(C84="R",L84,"") | N84: =IF(H84=Résumé!$A$1,K84,"") | O84: =IF(I84=Résumé!$A$1-1,K84,"")

Sheet G5
J1: PRESENCE | R1: X | S1: Y | T1: Z | U1: T
A2: G | B2: NIV | C2: R | D2: NOM | E2: Prénom | F2: NUM | G2: CLASSE | H2: IN | I2: OUT | J2: =Résumé!A1 -> 42897 | K2: G | L2: P | M2: R | N2: IN | O2: OU | Q2: P | R2: =COUNTIF($L:$L,R1) -> 0 | S2: =COUNTIF($L:$L,S1) -> 0 | T2: =COUNTIF($L:$L,T1) -> 27 | U2: =SUM(R2:T2) -> 27
A3: G5 | H3: 42892 | I3: 42953 | J3: =IF(AND($J$2>=H3,$J$2<=I3),"OUI","NON") -> OUI | K3: =IF(OR(B3="CES",B3="CNE",B3="LTN",B3="SLT",B3="ASP"),"X",IF(OR(B3="ACH",B3="ADC",B3="ADJ",B3="MAJ",B3="MJR",B3="MDL",B3="MCH",B3="MDC",B3="SGT",B3="SGC",B3="SCH"),"Y","Z")) -> Z | L3: =IF(J3="OUI",K3,"") -> Z | M3: =IF(C3="R",L3,"") | N3: =IF(H3=Résumé!$A$1,K3,"") | O3: =IF(I3=Résumé!$A$1-1,K3,"") | Q3: R | R3: =COUNTIF($M:$M,R1) -> 0 | S3: =COUNTIF($M:$M,S1) -> 0 | T3: =COUNTIF($M:$M,T1) -> 0 | U3: =SUM(R3:T3) -> 0
A4: G5 | H4: 42892 | I4: 42953 | J4: =IF(AND($J$2>=H4,$J$2<=I4),"OUI","NON") -> OUI | K4: =IF(OR(B4="CES",B4="CNE",B4="LTN",B4="SLT",B4="ASP"),"X",IF(OR(B4="ACH",B4="ADC",B4="ADJ",B4="MAJ",B4="MJR",B4="MDL",B4="MCH",B4="MDC",B4="SGT",B4="SGC",B4="SCH"),"Y","Z")) -> Z | L4: =IF(J4="OUI",K4,"") -> Z | M4: =IF(C4="R",L4,"") | N4: =IF(H4=Résumé!$A$1,K4,"") | O4: =IF(I4=Résumé!$A$1-1,K4,"") | Q4: IN | R4: =COUNTIF($N:$N,R1) -> 0 | S4: =COUNTIF($N:$N,S1) -> 0 | T4: =COUNTIF($N:$N,T1) -> 0 | U4: =SUM(R4:T4) -> 0
A5: G5 | H5: 42892 | I5: 42953 | J5: =IF(AND($J$2>=H5,$J$2<=I5),"OUI","NON") -> OUI | K5: =IF(OR(B5="CES",B5="CNE",B5="LTN",B5="SLT",B5="ASP"),"X",IF(OR(B5="ACH",B5="ADC",B5="ADJ",B5="MAJ",B5="MJR",B5="MDL",B5="MCH",B5="MDC",B5="SGT",B5="SGC",B5="SCH"),"Y","Z")) -> Z | L5: =IF(J5="OUI",K5,"") -> Z | M5: =IF(C5="R",L5,"") | N5: =IF(H5=Résumé!$A$1,K5,"") | O5: =IF(I5=Résumé!$A$1-1,K5,"") | Q5: OUT | R5: =COUNTIF($O:$O,R1) -> 0 | S5: =COUNTIF($O:$O,S1) -> 0 | T5: =COUNTIF($O:$O,T1) -> 0 | U5: =SUM(R5:T5) -> 0
A6: G5 | H6: 42892 | I6: 42953 | J6: =IF(AND($J$2>=H6,$J$2<=I6),"OUI","NON") -> OUI | K6: =IF(OR(B6="CES",B6="CNE",B6="LTN",B6="SLT",B6="ASP"),"X",IF(OR(B6="ACH",B6="ADC",B6="ADJ",B6="MAJ",B6="MJR",B6="MDL",B6="MCH",B6="MDC",B6="SGT",B6="SGC",B6="SCH"),"Y","Z")) -> Z | L6: =IF(J6="OUI",K6,"") -> Z | M6: =IF(C6="R",L6,"") | N6: =IF(H6=Résumé!$A$1,K6,"") | O6: =IF(I6=Résumé!$A$1-1,K6,"")
A7: G5 | H7: 42893 | I7: 42953 | J7: =IF(AND($J$2>=H7,$J$2<=I7),"OUI","NON") -> OUI | K7: =IF(OR(B7="CES",B7="CNE",B7="LTN",B7="SLT",B7="ASP"),"X",IF(OR(B7="ACH",B7="ADC",B7="ADJ",B7="MAJ",B7="MJR",B7="MDL",B7="MCH",B7="MDC",B7="SGT",B7="SGC",B7="SCH"),"Y","Z")) -> Z | L7: =IF(J7="OUI",K7,"") -> Z | M7: =IF(C7="R",L7,"") | N7: =IF(H7=Résumé!$A$1,K7,"") | O7: =IF(I7=Résumé!$A$1-1,K7,"")
A8: G5 | H8: 42893 | I8: 42953 | J8: =IF(AND($J$2>=H8,$J$2<=I8),"OUI","NON") -> OUI | K8: =IF(OR(B8="CES",B8="CNE",B8="LTN",B8="SLT",B8="ASP"),"X",IF(OR(B8="ACH",B8="ADC",B8="ADJ",B8="MAJ",B8="MJR",B8="MDL",B8="MCH",B8="MDC",B8="SGT",B8="SGC",B8="SCH"),"Y","Z")) -> Z | L8: =IF(J8="OUI",K8,"") -> Z | M8: =IF(C8="R",L8,"") | N8: =IF(H8=Résumé!$A$1,K8,"") | O8: =IF(I8=Résumé!$A$1-1,K8,"")
