Workbook
Name DATE: CRQ!$A$1
Name EFFT: CRQ!$O$3
Name RDATA: OFFSET(#REF!,,,,(COUNTA(#REF!)))
Name RDET: OFFSET(#REF!,,,,(COUNTA(#REF!)))
Name REMT13: OFFSET(#REF!,,,,(COUNTA(#REF!)))
Name RTOTAL: OFFSET(#REF!,,,,(COUNTA(#REF!)))
Name RUEDEUX: OFFSET(#REF!,,,,(COUNTA(#REF!)))
Name RUEQUATRE: OFFSET(#REF!,,,,(COUNTA(#REF!)))
Name RUETROIS: OFFSET(#REF!,,,,(COUNTA(#REF!)))
Name RUEUN: OFFSET(#REF!,,,,(COUNTA(#REF!)))
Name StatutVHL: [1]Données!$B$3:$B$4

Sheet EMT13
K1: PRESENCE | S1: X | T1: Y | U1: Z | V1: T
B2: GRADE | C2: R | H2: IN | I2: OUT | J2: MOTIF | K2: =CRQ!A1 -> 42905 | L2: G | M2: P | N2: R | O2: IN | P2: OU | R2: P | S2: =COUNTIF($M:$M,S1) -> 6 | T2: =COUNTIF($M:$M,T1) -> 7 | U2: =COUNTIF($M:$M,U1) -> 2 | V2: =SUM(S2:U2) -> 15
B3: LTN | C3: R | H3: 42892 | I3: 42910 | K3: =IF(AND($K$2>=H3,$K$2<=I3),"OUI","NON") -> OUI | L3: =IF(OR(B3="CES",B3="CNE",B3="LTN",B3="SLT",B3="ASP"),"X",IF(OR(B3="ACH",B3="ADC",B3="ADJ",B3="MAJ",B3="MJR",B3="MDL",B3="MCH",B3="MDC",B3="SGT",B3="SGC",B3="SCH"),"Y","Z")) -> X | M3: =IF(K3="OUI",L3,"") -> X | N3: =IF(C3="R",M3,"") -> X | O3: =IF(H3=CRQ!$A$1,L3,"") | P3: =IF(I3=CRQ!$A$1-1,L3,"") | R3: R | S3: =COUNTIF($N:$N,S1) -> 3 | T3: =COUNTIF($N:$N,T1) -> 1 | U3: =COUNTIF($N:$N,U1) -> 0 | V3: =SUM(S3:U3) -> 4
B4: ADJ | H4: 42892 | I4: 42951 | K4: =IF(AND($K$2>=H4,$K$2<=I4),"OUI","NON") -> OUI | L4: =IF(OR(B4="CES",B4="CNE",B4="LTN",B4="SLT",B4="ASP"),"X",IF(OR(B4="ACH",B4="ADC",B4="ADJ",B4="MAJ",B4="MJR",B4="MDL",B4="MCH",B4="MDC",B4="SGT",B4="SGC",B4="SCH"),"Y","Z")) -> Y | M4: =IF(K4="OUI",L4,"") -> Y | N4: =IF(C4="R",M4,"") | O4: =IF(H4=CRQ!$A$1,L4,"") | P4: =IF(I4=CRQ!$A$1-1,L4,"") | R4: IN | S4: =COUNTIF($O:$O,S1) -> 1 | T4: =COUNTIF($O:$O,T1) -> 0 | U4: =COUNTIF($O:$O,U1) -> 0 | V4: =SUM(S4:U4) -> 1
B5: CNE | C5: R | H5: 42892 | I5: 42928 | K5: =IF(AND($K$2>=H5,$K$2<=I5),"OUI","NON") -> OUI | L5: =IF(OR(B5="CES",B5="CNE",B5="LTN",B5="SLT",B5="ASP"),"X",IF(OR(B5="ACH",B5="ADC",B5="ADJ",B5="MAJ",B5="MJR",B5="MDL",B5="MCH",B5="MDC",B5="SGT",B5="SGC",B5="SCH"),"Y","Z")) -> X | M5: =IF(K5="OUI",L5,"") -> X | N5: =IF(C5="R",M5,"") -> X | O5: =IF(H5=CRQ!$A$1,L5,"") | P5: =IF(I5=CRQ!$A$1-1,L5,"") | R5: OUT | S5: =COUNTIF($P:$P,S1) -> 0 | T5: =COUNTIF($P:$P,T1) -> 0 | U5: =COUNTIF($P:$P,U1) -> 0 | V5: =SUM(S5:U5) -> 0
B6: BC1 | H6: 42884 | I6: 42915 | K6: =IF(AND($K$2>=H6,$K$2<=I6),"OUI","NON") -> OUI | L6: =IF(OR(B6="CES",B6="CNE",B6="LTN",B6="SLT",B6="ASP"),"X",IF(OR(B6="ACH",B6="ADC",B6="ADJ",B6="MAJ",B6="MJR",B6="MDL",B6="MCH",B6="MDC",B6="SGT",B6="SGC",B6="SCH"),"Y","Z")) -> Z | M6: =IF(K6="OUI",L6,"") -> Z | N6: =IF(C6="R",M6,"") | O6: =IF(H6=CRQ!$A$1,L6,"") | P6: =IF(I6=CRQ!$A$1-1,L6,"")
B7: LTN | H7: 42917 | I7: 42951 | K7: =IF(AND($K$2>=H7,$K$2<=I7),"OUI","NON") -> NON | L7: =IF(OR(B7="CES",B7="CNE",B7="LTN",B7="SLT",B7="ASP"),"X",IF(OR(B7="ACH",B7="ADC",B7="ADJ",B7="MAJ",B7="MJR",B7="MDL",B7="MCH",B7="MDC",B7="SGT",B7="SGC",B7="SCH"),"Y","Z")) -> X | M7: =IF(K7="OUI",L7,"") | N7: =IF(C7="R",M7,"") | O7: =IF(H7=CRQ!$A$1,L7,"") | P7: =IF(I7=CRQ!$A$1-1,L7,"")
B8: ADC | H8: 42892 | I8: 42921 | K8: =IF(AND($K$2>=H8,$K$2<=I8),"OUI","NON") -> OUI | L8: =IF(OR(B8="CES",B8="CNE",B8="LTN",B8="SLT",B8="ASP"),"X",IF(OR(B8="ACH",B8="ADC",B8="ADJ",B8="MAJ",B8="MJR",B8="MDL",B8="MCH",B8="MDC",B8="SGT",B8="SGC",B8="SCH"),"Y","Z")) -> Y | M8: =IF(K8="OUI",L8,"") -> Y | N8: =IF(C8="R",M8,"") | O8: =IF(H8=CRQ!$A$1,L8,"") | P8: =IF(I8=CRQ!$A$1-1,L8,"")
B9: BGR | H9: 42892 | I9: 42951 | K9: =IF(AND($K$2>=H9,$K$2<=I9),"OUI","NON") -> OUI | L9: =IF(OR(B9="CES",B9="CNE",B9="LTN",B9="SLT",B9="ASP"),"X",IF(OR(B9="ACH",B9="ADC",B9="ADJ",B9="MAJ",B9="MJR",B9="MDL",B9="MCH",B9="MDC",B9="SGT",B9="SGC",B9="SCH"),"Y","Z")) -> Z | M9: =IF(K9="OUI",L9,"") -> Z | N9: =IF(C9="R",M9,"") | O9: =IF(H9=CRQ!$A$1,L9,"") | P9: =IF(I9=CRQ!$A$1-1,L9,"")
B10: MCH | H10: 42914 | I10: 42951 | K10: =IF(AND($K$2>=H10,$K$2<=I10),"OUI","NON") -> NON | L10: =IF(OR(B10="CES",B10="CNE",B10="LTN",B10="SLT",B10="ASP"),"X",IF(OR(B10="ACH",B10="ADC",B10="ADJ",B10="MAJ",B10="MJR",B10="MDL",B10="MCH",B10="MDC",B10="SGT",B10="SGC",B10="SCH"),"Y","Z")) -> Y | M10: =IF(K10="OUI",L10,"") | N10: =IF(C10="R",M10,"") | O10: =IF(H10=CRQ!$A$1,L10,"") | P10: =IF(I10=CRQ!$A$1-1,L10,"")
B11: CNE | H11: 42892 | I11: 42921 | K11: =IF(AND($K$2>=H11,$K$2<=I11),"OUI","NON") -> OUI | L11: =IF(OR(B11="CES",B11="CNE",B11="LTN",B11="SLT",B11="ASP"),"X",IF(OR(B11="ACH",B11="ADC",B11="ADJ",B11="MAJ",B11="MJR",B11="MDL",B11="MCH",B11="MDC",B11="SGT",B11="SGC",B11="SCH"),"Y","Z")) -> X | M11: =IF(K11="OUI",L11,"") -> X | N11: =IF(C11="R",M11,"") | O11: =IF(H11=CRQ!$A$1,L11,"") | P11: =IF(I11=CRQ!$A$1-1,L11,"")
B12: MCH | H12: 42910 | I12: 42951 | K12: =IF(AND($K$2>=H12,$K$2<=I12),"OUI","NON") -> NON | L12: =IF(OR(B12="CES",B12="CNE",B12="LTN",B12="SLT",B12="ASP"),"X",IF(OR(B12="ACH",B12="ADC",B12="ADJ",B12="MAJ",B12="MJR",B12="MDL",B12="MCH",B12="MDC",B12="SGT",B12="SGC",B12="SCH"),"Y","Z")) -> Y | M12: =IF(K12="OUI",L12,"") | N12: =IF(C12="R",M12,"") | O12: =IF(H12=CRQ!$A$1,L12,"") | P12: =IF(I12=CRQ!$A$1-1,L12,"")
B13: ADC | H13: 42919 | I13: 42951 | K13: =IF(AND($K$2>=H13,$K$2<=I13),"OUI","NON") -> NON | L13: =IF(OR(B13="CES",B13="CNE",B13="LTN",B13="SLT",B13="ASP"),"X",IF(OR(B13="ACH",B13="ADC",B13="ADJ",B13="MAJ",B13="MJR",B13="MDL",B13="MCH",B13="MDC",B13="SGT",B13="SGC",B13="SCH"),"Y","Z")) -> Y | M13: =IF(K13="OUI",L13,"") | N13: =IF(C13="R",M13,"") | O13: =IF(H13=CRQ!$A$1,L13,"") | P13: =IF(I13=CRQ!$A$1-1,L13,"")
B14: SLT | C14: R | H14: 42892 | I14: 42909 | K14: =IF(AND($K$2>=H14,$K$2<=I14),"OUI","NON") -> OUI | L14: =IF(OR(B14="CES",B14="CNE",B14="LTN",B14="SLT",B14="ASP"),"X",IF(OR(B14="ACH",B14="ADC",B14="ADJ",B14="MAJ",B14="MJR",B14="MDL",B14="MCH",B14="MDC",B14="SGT",B14="SGC",B14="SCH"),"Y","Z")) -> X | M14: =IF(K14="OUI",L14,"") -> X | N14: =IF(C14="R",M14,"") -> X | O14: =IF(H14=CRQ!$A$1,L14,"") | P14: =IF(I14=CRQ!$A$1-1,L14,"")
B15: CNE | H15: 42919 | I15: 42951 | K15: =IF(AND($K$2>=H15,$K$2<=I15),"OUI","NON") -> NON | L15: =IF(OR(B15="CES",B15="CNE",B15="LTN",B15="SLT",B15="ASP"),"X",IF(OR(B15="ACH",B15="ADC",B15="ADJ",B15="MAJ",B15="MJR",B15="MDL",B15="MCH",B15="MDC",B15="SGT",B15="SGC",B15="SCH"),"Y","Z")) -> X | M15: =IF(K15="OUI",L15,"") | N15: =IF(C15="R",M15,"") | O15: =IF(H15=CRQ!$A$1,L15,"") | P15: =IF(I15=CRQ!$A$1-1,L15,"")
B16: ADJ | H16: 42892 | I16: 42951 | K16: =IF(AND($K$2>=H16,$K$2<=I16),"OUI","NON") -> OUI | L16: =IF(OR(B16="CES",B16="CNE",B16="LTN",B16="SLT",B16="ASP"),"X",IF(OR(B16="ACH",B16="ADC",B16="ADJ",B16="MAJ",B16="MJR",B16="MDL",B16="MCH",B16="MDC",B16="SGT",B16="SGC",B16="SCH"),"Y","Z")) -> Y | M16: =IF(K16="OUI",L16,"") -> Y | N16: =IF(C16="R",M16,"") | O16: =IF(H16=CRQ!$A$1,L16,"") | P16: =IF(I16=CRQ!$A$1-1,L16,"")
B17: ADC | H17: 42892 | I17: 42917 | K17: =IF(AND($K$2>=H17,$K$2<=I17),"OUI","NON") -> OUI | L17: =IF(OR(B17="CES",B17="CNE",B17="LTN",B17="SLT",B17="ASP"),"X",IF(OR(B17="ACH",B17="ADC",B17="ADJ",B17="MAJ",B17="MJR",B17="MDL",B17="MCH",B17="MDC",B17="SGT",B17="SGC",B17="SCH"),"Y","Z")) -> Y | M17: =IF(K17="OUI",L17,"") -> Y | N17: =IF(C17="R",M17,"") | O17: =IF(H17=CRQ!$A$1,L17,"") | P17: =IF(I17=CRQ!$A$1-1,L17,"")
B18: CNE | H18: 42919 | I18: 42951 | K18: =IF(AND($K$2>=H18,$K$2<=I18),"OUI","NON") -> NON | L18: =IF(OR(B18="CES",B18="CNE",B18="LTN",B18="SLT",B18="ASP"),"X",IF(OR(B18="ACH",B18="ADC",B18="ADJ",B18="MAJ",B18="MJR",B18="MDL",B18="MCH",B18="MDC",B18="SGT",B18="SGC",B18="SCH"),"Y","Z")) -> X | M18: =IF(K18="OUI",L18,"") | N18: =IF(C18="R",M18,"") | O18: =IF(H18=CRQ!$A$1,L18,"") | P18: =IF(I18=CRQ!$A$1-1,L18,"")
B19: MAJ | C19: R | H19: 42926 | I19: 42951 | K19: =IF(AND($K$2>=H19,$K$2<=I19),"OUI","NON") -> NON | L19: =IF(OR(B19="CES",B19="CNE",B19="LTN",B19="SLT",B19="ASP"),"X",IF(OR(B19="ACH",B19="ADC",B19="ADJ",B19="MAJ",B19="MJR",B19="MDL",B19="MCH",B19="MDC",B19="SGT",B19="SGC",B19="SCH"),"Y","Z")) -> Y | M19: =IF(K19="OUI",L19,"") | N19: =IF(C19="R",M19,"") | O19: =IF(H19=CRQ!$A$1,L19,"") | P19: =IF(I19=CRQ!$A$1-1,L19,"")
B20: ADJ | H20: 42920 | I20: 42951 | K20: =IF(AND($K$2>=H20,$K$2<=I20),"OUI","NON") -> NON | L20: =IF(OR(B20="CES",B20="CNE",B20="LTN",B20="SLT",B20="ASP"),"X",IF(OR(B20="ACH",B20="ADC",B20="ADJ",B20="MAJ",B20="MJR",B20="MDL",B20="MCH",B20="MDC",B20="SGT",B20="SGC",B20="SCH"),"Y","Z")) -> Y | M20: =IF(K20="OUI",L20,"") | N20: =IF(C20="R",M20,"") | O20: =IF(H20=CRQ!$A$1,L20,"") | P20: =IF(I20=CRQ!$A$1-1,L20,"")
B21: CES | H21: 42892 | I21: 42921 | K21: =IF(AND($K$2>=H21,$K$2<=I21),"OUI","NON") -> OUI | L21: =IF(OR(B21="CES",B21="CNE",B21="LTN",B21="SLT",B21="ASP"),"X",IF(OR(B21="ACH",B21="ADC",B21="ADJ",B21="MAJ",B21="MJR",B21="MDL",B21="MCH",B21="MDC",B21="SGT",B21="SGC",B21="SCH"),"Y","Z")) -> X | M21: =IF(K21="OUI",L21,"") -> X | N21: =IF(C21="R",M21,"") | O21: =IF(H21=CRQ!$A$1,L21,"") | P21: =IF(I21=CRQ!$A$1-1,L21,"")
B22: MDL | C22: R | H22: 42892 | I22: 42912 | K22: =IF(AND($K$2>=H22,$K$2<=I22),"OUI","NON") -> OUI | L22: =IF(OR(B22="CES",B22="CNE",B22="LTN",B22="SLT",B22="ASP"),"X",IF(OR(B22="ACH",B22="ADC",B22="ADJ",B22="MAJ",B22="MJR",B22="MDL",B22="MCH",B22="MDC",B22="SGT",B22="SGC",B22="SCH"),"Y","Z")) -> Y | M22: =IF(K22="OUI",L22,"") -> Y | N22: =IF(C22="R",M22,"") -> Y | O22: =IF(H22=CRQ!$A$1,L22,"") | P22: =IF(I22=CRQ!$A$1-1,L22,"")
B23: LTN | H23: 42905 | I23: 42921 | K23: =IF(AND($K$2>=H23,$K$2<=I23),"OUI","NON") -> OUI | L23: =IF(OR(B23="CES",B23="CNE",B23="LTN",B23="SLT",B23="ASP"),"X",IF(OR(B23="ACH",B23="ADC",B23="ADJ",B23="MAJ",B23="MJR",B23="MDL",B23="MCH",B23="MDC",B23="SGT",B23="SGC",B23="SCH"),"Y","Z")) -> X | M23: =IF(K23="OUI",L23,"") -> X | N23: =IF(C23="R",M23,"") | O23: =IF(H23=CRQ!$A$1,L23,"") -> X | P23: =IF(I23=CRQ!$A$1-1,L23,"")
B24: CNE | H24: 42909 | I24: 42940 | K24: =IF(AND($K$2>=H24,$K$2<=I24),"OUI","NON") -> NON | L24: =IF(OR(B24="CES",B24="CNE",B24="LTN",B24="SLT",B24="ASP"),"X",IF(OR(B24="ACH",B24="ADC",B24="ADJ",B24="MAJ",B24="MJR",B24="MDL",B24="MCH",B24="MDC",B24="SGT",B24="SGC",B24="SCH"),"Y","Z")) -> X | M24: =IF(K24="OUI",L24,"") | N24: =IF(C24="R",M24,"") | O24: =IF(H24=CRQ!$A$1,L24,"") | P24: =IF(I24=CRQ!$A$1-1,L24,"")
B25: SGT | H25: 42884 | I25: 42915 | K25: =IF(AND($K$2>=H25,$K$2<=I25),"OUI","NON") -> OUI | L25: =IF(OR(B25="CES",B25="CNE",B25="LTN",B25="SLT",B25="ASP"),"X",IF(OR(B25="ACH",B25="ADC",B25="ADJ",B25="MAJ",B25="MJR",B25="MDL",B25="MCH",B25="MDC",B25="SGT",B25="SGC",B25="SCH"),"Y","Z")) -> Y | M25: =IF(K25="OUI",L25,"") -> Y | N25: =IF(C25="R",M25,"") | O25: =IF(H25=CRQ!$A$1,L25,"") | P25: =IF(I25=CRQ!$A$1-1,L25,"")
B26: CES | H26: 42919 | I26: 42951 | K26: =IF(AND($K$2>=H26,$K$2<=I26),"OUI","NON") -> NON | L26: =IF(OR(B26="CES",B26="CNE",B26="LTN",B26="SLT",B26="ASP"),"X",IF(OR(B26="ACH",B26="ADC",B26="ADJ",B26="MAJ",B26="MJR",B26="MDL",B26="MCH",B26="MDC",B26="SGT",B26="SGC",B26="SCH"),"Y","Z")) -> X | M26: =IF(K26="OUI",L26,"") | N26: =IF(C26="R",M26,"") | O26: =IF(H26=CRQ!$A$1,L26,"") | P26: =IF(I26=CRQ!$A$1-1,L26,"")
B27: MCH | H27: 42892 | I27: 42951 | K27: =IF(AND($K$2>=H27,$K$2<=I27),"OUI","NON") -> OUI | L27: =IF(OR(B27="CES",B27="CNE",B27="LTN",B27="SLT",B27="ASP"),"X",IF(OR(B27="ACH",B27="ADC",B27="ADJ",B27="MAJ",B27="MJR",B27="MDL",B27="MCH",B27="MDC",B27="SGT",B27="SGC",B27="SCH"),"Y","Z")) -> Y | M27: =IF(K27="OUI",L27,"") -> Y | N27: =IF(C27="R",M27,"") | O27: =IF(H27=CRQ!$A$1,L27,"") | P27: =IF(I27=CRQ!$A$1-1,L27,"")
K28: =IF(AND($K$2>=H28,$K$2<=I28),"OUI","NON") -> NON | L28: =IF(OR(B28="CES",B28="CNE",B28="LTN",B28="SLT",B28="ASP"),"X",IF(OR(B28="ACH",B28="ADC",B28="ADJ",B28="MAJ",B28="MJR",B28="MDL",B28="MCH",B28="MDC",B28="SGT",B28="SGC",B28="SCH"),"Y","Z")) -> Z | M28: =IF(K28="OUI",L28,"") | N28: =IF(C28="R",M28,"") | O28: =IF(H28=CRQ!$A$1,L28,"") | P28: =IF(I28=CRQ!$A$1-1,L28,"")
K29: =IF(AND($K$2>=H29,$K$2<=I29),"OUI","NON") -> NON | L29: =IF(OR(B29="CES",B29="CNE",B29="LTN",B29="SLT",B29="ASP"),"X",IF(OR(B29="ACH",B29="ADC",B29="ADJ",B29="MAJ",B29="MJR",B29="MDL",B29="MCH",B29="MDC",B29="SGT",B29="SGC",B29="SCH"),"Y","Z")) -> Z | M29: =IF(K29="OUI",L29,"") | N29: =IF(C29="R",M29,"") | O29: =IF(H29=CRQ!$A$1,L29,"") | P29: =IF(I29=CRQ!$A$1-1,L29,"")
K30: =IF(AND($K$2>=H30,$K$2<=I30),"OUI","NON") -> NON | L30: =IF(OR(B30="CES",B30="CNE",B30="LTN",B30="SLT",B30="ASP"),"X",IF(OR(B30="ACH",B30="ADC",B30="ADJ",B30="MAJ",B30="MJR",B30="MDL",B30="MCH",B30="MDC",B30="SGT",B30="SGC",B30="SCH"),"Y","Z")) -> Z | M30: =IF(K30="OUI",L30,"") | N30: =IF(C30="R",M30,"") | O30: =IF(H30=CRQ!$A$1,L30,"") | P30: =IF(I30=CRQ!$A$1-1,L30,"")
K31: =IF(AND($K$2>=H31,$K$2<=I31),"OUI","NON") -> NON | L31: =IF(OR(B31="CES",B31="CNE",B31="LTN",B31="SLT",B31="ASP"),"X",IF(OR(B31="ACH",B31="ADC",B31="ADJ",B31="MAJ",B31="MJR",B31="MDL",B31="MCH",B31="MDC",B31="SGT",B31="SGC",B31="SCH"),"Y","Z")) -> Z | M31: =IF(K31="OUI",L31,"") | N31: =IF(C31="R",M31,"") | O31: =IF(H31=CRQ!$A$1,L31,"") | P31: =IF(I31=CRQ!$A$1-1,L31,"")
K32: =IF(AND($K$2>=H32,$K$2<=I32),"OUI","NON") -> NON | L32: =IF(OR(B32="CES",B32="CNE",B32="LTN",B32="SLT",B32="ASP"),"X",IF(OR(B32="ACH",B32="ADC",B32="ADJ",B32="MAJ",B32="MJR",B32="MDL",B32="MCH",B32="MDC",B32="SGT",B32="SGC",B32="SCH"),"Y","Z")) -> Z | M32: =IF(K32="OUI",L32,"") | N32: =IF(C32="R",M32,"") | O32: =IF(H32=CRQ!$A$1,L32,"") | P32: =IF(I32=CRQ!$A$1-1,L32,"")
K33: =IF(AND($K$2>=H33,$K$2<=I33),"OUI","NON") -> NON | L33: =IF(OR(B33="CES",B33="CNE",B33="LTN",B33="SLT",B33="ASP"),"X",IF(OR(B33="ACH",B33="ADC",B33="ADJ",B33="MAJ",B33="MJR",B33="MDL",B33="MCH",B33="MDC",B33="SGT",B33="SGC",B33="SCH"),"Y","Z")) -> Z | M33: =IF(K33="OUI",L33,"") | N33: =IF(C33="R",M33,"") | O33: =IF(H33=CRQ!$A$1,L33,"") | P33: =IF(I33=CRQ!$A$1-1,L33,"")
K34: =IF(AND($K$2>=H34,$K$2<=I34),"OUI","NON") -> NON | L34: =IF(OR(B34="CES",B34="CNE",B34="LTN",B34="SLT",B34="ASP"),"X",IF(OR(B34="ACH",B34="ADC",B34="ADJ",B34="MAJ",B34="MJR",B34="MDL",B34="MCH",B34="MDC",B34="SGT",B34="SGC",B34="SCH"),"Y","Z")) -> Z | M34: =IF(K34="OUI",L34,"") | N34: =IF(C34="R",M34,"") | O34: =IF(H34=CRQ!$A$1,L34,"") | P34: =IF(I34=CRQ!$A$1-1,L34,"")
K35: =IF(AND($K$2>=H35,$K$2<=I35),"OUI","NON") -> NON | L35: =IF(OR(B35="CES",B35="CNE",B35="LTN",B35="SLT",B35="ASP"),"X",IF(OR(B35="ACH",B35="ADC",B35="ADJ",B35="MAJ",B35="MJR",B35="MDL",B35="MCH",B35="MDC",B35="SGT",B35="SGC",B35="SCH"),"Y","Z")) -> Z | M35: =IF(K35="OUI",L35,"") | N35: =IF(C35="R",M35,"") | O35: =IF(H35=CRQ!$A$1,L35,"") | P35: =IF(I35=CRQ!$A$1-1,L35,"")
K36: =IF(AND($K$2>=H36,$K$2<=I36),"OUI","NON") -> NON | L36: =IF(OR(B36="CES",B36="CNE",B36="LTN",B36="SLT",B36="ASP"),"X",IF(OR(B36="ACH",B36="ADC",B36="ADJ",B36="MAJ",B36="MJR",B36="MDL",B36="MCH",B36="MDC",B36="SGT",B36="SGC",B36="SCH"),"Y","Z")) -> Z | M36: =IF(K36="OUI",L36,"") | N36: =IF(C36="R",M36,"") | O36: =IF(H36=CRQ!$A$1,L36,"") | P36: =IF(I36=CRQ!$A$1-1,L36,"")
K37: =IF(AND($K$2>=H37,$K$2<=I37),"OUI","NON") -> NON | L37: =IF(OR(B37="CES",B37="CNE",B37="LTN",B37="SLT",B37="ASP"),"X",IF(OR(B37="ACH",B37="ADC",B37="ADJ",B37="MAJ",B37="MJR",B37="MDL",B37="MCH",B37="MDC",B37="SGT",B37="SGC",B37="SCH"),"Y","Z")) -> Z | M37: =IF(K37="OUI",L37,"") | N37: =IF(C37="R",M37,"") | O37: =IF(H37=CRQ!$A$1,L37,"") | P37: =IF(I37=CRQ!$A$1-1,L37,"")
K38: =IF(AND($K$2>=H38,$K$2<=I38),"OUI","NON") -> NON | L38: =IF(OR(B38="CES",B38="CNE",B38="LTN",B38="SLT",B38="ASP"),"X",IF(OR(B38="ACH",B38="ADC",B38="ADJ",B38="MAJ",B38="MJR",B38="MDL",B38="MCH",B38="MDC",B38="SGT",B38="SGC",B38="SCH"),"Y","Z")) -> Z | M38: =IF(K38="OUI",L38,"") | N38: =IF(C38="R",M38,"") | O38: =IF(H38=CRQ!$A$1,L38,"") | P38: =IF(I38=CRQ!$A$1-1,L38,"")
K39: =IF(AND($K$2>=H39,$K$2<=I39),"OUI","NON") -> NON | L39: =IF(OR(B39="CES",B39="CNE",B39="LTN",B39="SLT",B39="ASP"),"X",IF(OR(B39="ACH",B39="ADC",B39="ADJ",B39="MAJ",B39="MJR",B39="MDL",B39="MCH",B39="MDC",B39="SGT",B39="SGC",B39="SCH"),"Y","Z")) -> Z | M39: =IF(K39="OUI",L39,"") | N39: =IF(C39="R",M39,"") | O39: =IF(H39=CRQ!$A$1,L39,"") | P39: =IF(I39=CRQ!$A$1-1,L39,"")
... K50: =IF(AND($K$2>=H50,$K$2<=I50),"OUI","NON") -> NON | L50: =IF(OR(B50="CES",B50="CNE",B50="LTN",B50="SLT",B50="ASP"),"X",IF(OR(B50="ACH",B50="ADC",B50="ADJ",B50="MAJ",B50="MJR",B50="MDL",B50="MCH",B50="MDC",B50="SGT",B50="SGC",B50="SCH"),"Y","Z")) -> Z | M50: =IF(K50="OUI",L50,"") | N50: =IF(C50="R",M50,"") | O50: =IF(H50=CRQ!$A$1,L50,"") | P50: =IF(I50=CRQ!$A$1-1,L50,"")

Sheet UE131
K1: PRESENCE | S1: X | T1: Y | U1: Z | V1: T
B2: GRADE | C2: R | H2: IN | I2: OUT | J2: MOTIF | K2: =CRQ!A1 -> 42905 | L2: G | M2: P | N2: R | O2: IN | P2: OU | R2: P | S2: =COUNTIF($M:$M,S1) -> 5 | T2: =COUNTIF($M:$M,T1) -> 14 | U2: =COUNTIF($M:$M,U1) -> 73 | V2: =SUM(S2:U2) -> 92
B3: CNE | H3: 42892 | I3: 42953 | K3: =IF(AND($K$2>=H3,$K$2<=I3),"OUI","NON") -> OUI | L3: =IF(OR(B3="CES",B3="CNE",B3="LTN",B3="SLT",B3="ASP"),"X",IF(OR(B3="ACH",B3="ADC",B3="ADJ",B3="MAJ",B3="MJR",B3="MDL",B3="MCH",B3="MDC",B3="SGT",B3="SGC",B3="SCH"),"Y","Z")) -> X | M3: =IF(K3="OUI",L3,"") -> X | N3: =IF(C3="R",M3,"") | O3: =IF(H3=CRQ!$A$1,L3,"") | P3: =IF(I3=CRQ!$A$1-1,L3,"") | R3: R | S3: =COUNTIF($N:$N,S1) -> 0 | T3: =COUNTIF($N:$N,T1) -> 0 | U3: =COUNTIF($N:$N,U1) -> 0 | V3: =SUM(S3:U3) -> 0
B4: CNE | H4: 42893 | I4: 42907 | K4: =IF(AND($K$2>=H4,$K$2<=I4),"OUI","NON") -> OUI | L4: =IF(OR(B4="CES",B4="CNE",B4="LTN",B4="SLT",B4="ASP"),"X",IF(OR(B4="ACH",B4="ADC",B4="ADJ",B4="MAJ",B4="MJR",B4="MDL",B4="MCH",B4="MDC",B4="SGT",B4="SGC",B4="SCH"),"Y","Z")) -> X | M4: =IF(K4="OUI",L4,"") -> X | N4: =IF(C4="R",M4,"") | O4: =IF(H4=CRQ!$A$1,L4,"") | P4: =IF(I4=CRQ!$A$1-1,L4,"") | R4: IN | S4: =COUNTIF($O:$O,S1) -> 0 | T4: =COUNTIF($O:$O,T1) -> 0 | U4: =COUNTIF($O:$O,U1) -> 7 | V4: =SUM(S4:U4) -> 7
B5: CNE | H5: 42913 | I5: 42953 | K5: =IF(AND($K$2>=H5,$K$2<=I5),"OUI","NON") -> NON | L5: =IF(OR(B5="CES",B5="CNE",B5="LTN",B5="SLT",B5="ASP"),"X",IF(OR(B5="ACH",B5="ADC",B5="ADJ",B5="MAJ",B5="MJR",B5="MDL",B5="MCH",B5="MDC",B5="SGT",B5="SGC",B5="SCH"),"Y","Z")) -> X | M5: =IF(K5="OUI",L5,"") | N5: =IF(C5="R",M5,"") | O5: =IF(H5=CRQ!$A$1,L5,"") | P5: =IF(I5=CRQ!$A$1-1,L5,"") | R5: OUT | S5: =COUNTIF($P:$P,S1) -> 0 | T5: =COUNTIF($P:$P,T1) -> 0 | U5: =COUNTIF($P:$P,U1) -> 0 | V5: =SUM(S5:U5) -> 0
B6: LTN | H6: 42892 | I6: 42953 | K6: =IF(AND($K$2>=H6,$K$2<=I6),"OUI","NON") -> OUI | L6: =IF(OR(B6="CES",B6="CNE",B6="LTN",B6="SLT",B6="ASP"),"X",IF(OR(B6="ACH",B6="ADC",B6="ADJ",B6="MAJ",B6="MJR",B6="MDL",B6="MCH",B6="MDC",B6="SGT",B6="SGC",B6="SCH"),"Y","Z")) -> X | M6: =IF(K6="OUI",L6,"") -> X | N6: =IF(C6="R",M6,"") | O6: =IF(H6=CRQ!$A$1,L6,"") | P6: =IF(I6=CRQ!$A$1-1,L6,"")
B7: LTN | H7: 42892 | I7: 42953 | K7: =IF(AND($K$2>=H7,$K$2<=I7),"OUI","NON") -> OUI | L7: =IF(OR(B7="CES",B7="CNE",B7="LTN",B7="SLT",B7="ASP"),"X",IF(OR(B7="ACH",B7="ADC",B7="ADJ",B7="MAJ",B7="MJR",B7="MDL",B7="MCH",B7="MDC",B7="SGT",B7="SGC",B7="SCH"),"Y","Z")) -> X | M7: =IF(K7="OUI",L7,"") -> X | N7: =IF(C7="R",M7,"") | O7: =IF(H7=CRQ!$A$1,L7,"") | P7: =IF(I7=CRQ!$A$1-1,L7,"")
B8: SLT | H8: 42893 | I8: 42895 | K8: =IF(AND($K$2>=H8,$K$2<=I8),"OUI","NON") -> NON | L8: =IF(OR(B8="CES",B8="CNE",B8="LTN",B8="SLT",B8="ASP"),"X",IF(OR(B8="ACH",B8="ADC",B8="ADJ",B8="MAJ",B8="MJR",B8="MDL",B8="MCH",B8="MDC",B8="SGT",B8="SGC",B8="SCH"),"Y","Z")) -> X | M8: =IF(K8="OUI",L8,"") | N8: =IF(C8="R",M8,"") | O8: =IF(H8=CRQ!$A$1,L8,"") | P8: =IF(I8=CRQ!$A$1-1,L8,"")
B9: SLT | H9: 42898 | I9: 42908 | K9: =IF(AND($K$2>=H9,$K$2<=I9),"OUI","NON") -> OUI | L9: =IF(OR(B9="CES",B9="CNE",B9="LTN",B9="SLT",B9="ASP"),"X",IF(OR(B9="ACH",B9="ADC",B9="ADJ",B9="MAJ",B9="MJR",B9="MDL",B9="MCH",B9="MDC",B9="SGT",B9="SGC",B9="SCH"),"Y","Z")) -> X | M9: =IF(K9="OUI",L9,"") -> X | N9: =IF(C9="R",M9,"") | O9: =IF(H9=CRQ!$A$1,L9,"") | P9: =IF(I9=CRQ!$A$1-1,L9,"")
B10: ADC | H10: 42892 | I10: 42953 | K10: =IF(AND($K$2>=H10,$K$2<=I10),"OUI","NON") -> OUI | L10: =IF(OR(B10="CES",B10="CNE",B10="LTN",B10="SLT",B10="ASP"),"X",IF(OR(B10="ACH",B10="ADC",B10="ADJ",B10="MAJ",B10="MJR",B10="MDL",B10="MCH",B10="MDC",B10="SGT",B10="SGC",B10="SCH"),"Y","Z")) -> Y | M10: =IF(K10="OUI",L10,"") -> Y | N10: =IF(C10="R",M10,"") | O10: =IF(H10=CRQ!$A$1,L10,"") | P10: =IF(I10=CRQ!$A$1-1,L10,"")
B11: MCH | H11: 42893 | I11: 42953 | K11: =IF(AND($K$2>=H11,$K$2<=I11),"OUI","NON") -> OUI | L11: =IF(OR(B11="CES",B11="CNE",B11="LTN",B11="SLT",B11="ASP"),"X",IF(OR(B11="ACH",B11="ADC",B11="ADJ",B11="MAJ",B11="MJR",B11="MDL",B11="MCH",B11="MDC",B11="SGT",B11="SGC",B11="SCH"),"Y","Z")) -> Y | M11: =IF(K11="OUI",L11,"") -> Y | N11: =IF(C11="R",M11,"") | O11: =IF(H11=CRQ!$A$1,L11,"") | P11: =IF(I11=CRQ!$A$1-1,L11,"")
B12: ADJ | H12: 42892 | I12: 42953 | K12: =IF(AND($K$2>=H12,$K$2<=I12),"OUI","NON") -> OUI | L12: =IF(OR(B12="CES",B12="CNE",B12="LTN",B12="SLT",B12="ASP"),"X",IF(OR(B12="ACH",B12="ADC",B12="ADJ",B12="MAJ",B12="MJR",B12="MDL",B12="MCH",B12="MDC",B12="SGT",B12="SGC",B12="SCH"),"Y","Z")) -> Y | M12: =IF(K12="OUI",L12,"") -> Y | N12: =IF(C12="R",M12,"") | O12: =IF(H12=CRQ!$A$1,L12,"") | P12: =IF(I12=CRQ!$A$1-1,L12,"")
B13: MCH | H13: 42892 | I13: 42953 | K13: =IF(AND($K$2>=H13,$K$2<=I13),"OUI","NON") -> OUI | L13: =IF(OR(B13="CES",B13="CNE",B13="LTN",B13="SLT",B13="ASP"),"X",IF(OR(B13="ACH",B13="ADC",B13="ADJ",B13="MAJ",B13="MJR",B13="MDL",B13="MCH",B13="MDC",B13="SGT",B13="SGC",B13="SCH"),"Y","Z")) -> Y | M13: =IF(K13="OUI",L13,"") -> Y | N13: =IF(C13="R",M13,"") | O13: =IF(H13=CRQ!$A$1,L13,"") | P13: =IF(I13=CRQ!$A$1-1,L13,"")
B14: MDL | H14: 42892 | I14: 42953 | K14: =IF(AND($K$2>=H14,$K$2<=I14),"OUI","NON") -> OUI | L14: =IF(OR(B14="CES",B14="CNE",B14="LTN",B14="SLT",B14="ASP"),"X",IF(OR(B14="ACH",B14="ADC",B14="ADJ",B14="MAJ",B14="MJR",B14="MDL",B14="MCH",B14="MDC",B14="SGT",B14="SGC",B14="SCH"),"Y","Z")) -> Y | M14: =IF(K14="OUI",L14,"") -> Y | N14: =IF(C14="R",M14,"") | O14: =IF(H14=CRQ!$A$1,L14,"") | P14: =IF(I14=CRQ!$A$1-1,L14,"")
B15: MCH | H15: 42893 | I15: 42953 | K15: =IF(AND($K$2>=H15,$K$2<=I15),"OUI","NON") -> OUI | L15: =IF(OR(B15="CES",B15="CNE",B15="LTN",B15="SLT",B15="ASP"),"X",IF(OR(B15="ACH",B15="ADC",B15="ADJ",B15="MAJ",B15="MJR",B15="MDL",B15="MCH",B15="MDC",B15="SGT",B15="SGC",B15="SCH"),"Y","Z")) -> Y | M15: =IF(K15="OUI",L15,"") -> Y | N15: =IF(C15="R",M15,"") | O15: =IF(H15=CRQ!$A$1,L15,"") | P15: =IF(I15=CRQ!$A$1-1,L15,"")
B16: MDL | H16: 42892 | I16: 42953 | K16: =IF(AND($K$2>=H16,$K$2<=I16),"OUI","NON") -> OUI | L16: =IF(OR(B16="CES",B16="CNE",B16="LTN",B16="SLT",B16="ASP"),"X",IF(OR(B16="ACH",B16="ADC",B16="ADJ",B16="MAJ",B16="MJR",B16="MDL",B16="MCH",B16="MDC",B16="SGT",B16="SGC",B16="SCH"),"Y","Z")) -> Y | M16: =IF(K16="OUI",L16,"") -> Y | N16: =IF(C16="R",M16,"") | O16: =IF(H16=CRQ!$A$1,L16,"") | P16: =IF(I16=CRQ!$A$1-1,L16,"")
B17: MDL | H17: 42892 | I17: 42953 | K17: =IF(AND($K$2>=H17,$K$2<=I17),"OUI","NON") -> OUI | L17: =IF(OR(B17="CES",B17="CNE",B17="LTN",B17="SLT",B17="ASP"),"X",IF(OR(B17="ACH",B17="ADC",B17="ADJ",B17="MAJ",B17="MJR",B17="MDL",B17="MCH",B17="MDC",B17="SGT",B17="SGC",B17="SCH"),"Y","Z")) -> Y | M17: =IF(K17="OUI",L17,"") -> Y | N17: =IF(C17="R",M17,"") | O17: =IF(H17=CRQ!$A$1,L17,"") | P17: =IF(I17=CRQ!$A$1-1,L17,"")
... B25: BCH | H25: 42893 | I25: 42897 | K25: =IF(AND($K$2>=H25,$K$2<=I25),"OUI","NON") -> NON | L25: =IF(OR(B25="CES",B25="CNE",B25="LTN",B25="SLT",B25="ASP"),"X",IF(OR(B25="ACH",B25="ADC",B25="ADJ",B25="MAJ",B25="MJR",B25="MDL",B25="MCH",B25="MDC",B25="SGT",B25="SGC",B25="SCH"),"Y","Z")) -> Z | M25: =IF(K25="OUI",L25,"") | N25: =IF(C25="R",M25,"") | O25: =IF(H25=CRQ!$A$1,L25,"") | P25: =IF(I25=CRQ!$A$1-1,L25,"")
B26: 1CL | H26: 42898 | I26: 42953 | K26: =IF(AND($K$2>=H26,$K$2<=I26),"OUI","NON") -> OUI | L26: =IF(OR(B26="CES",B26="CNE",B26="LTN",B26="SLT",B26="ASP"),"X",IF(OR(B26="ACH",B26="ADC",B26="ADJ",B26="MAJ",B26="MJR",B26="MDL",B26="MCH",B26="MDC",B26="SGT",B26="SGC",B26="SCH"),"Y","Z")) -> Z | M26: =IF(K26="OUI",L26,"") -> Z | N26: =IF(C26="R",M26,"")
B27: BCH | H27: 42893 | I27: 42925 | K27: =IF(AND($K$2>=H27,$K$2<=I27),"OUI","NON") -> OUI | L27: =IF(OR(B27="CES",B27="CNE",B27="LTN",B27="SLT",B27="ASP"),"X",IF(OR(B27="ACH",B27="ADC",B27="ADJ",B27="MAJ",B27="MJR",B27="MDL",B27="MCH",B27="MDC",B27="SGT",B27="SGC",B27="SCH"),"Y","Z")) -> Z | M27: =IF(K27="OUI",L27,"") -> Z | N27: =IF(C27="R",M27,"") | O27: =IF(H27=CRQ!$A$1,L27,"") | P27: =IF(I27=CRQ!$A$1-1,L27,"")
B28: BCH | H28: 42926 | I28: 42953 | K28: =IF(AND($K$2>=H28,$K$2<=I28),"OUI","NON") -> NON | L28: =IF(OR(B28="CES",B28="CNE",B28="LTN",B28="SLT",B28="ASP"),"X",IF(OR(B28="ACH",B28="ADC",B28="ADJ",B28="MAJ",B28="MJR",B28="MDL",B28="MCH",B28="MDC",B28="SGT",B28="SGC",B28="SCH"),"Y","Z")) -> Z | M28: =IF(K28="OUI",L28,"") | N28: =IF(C28="R",M28,"") | O28: =IF(H28=CRQ!$A$1,L28,"") | P28: =IF(I28=CRQ!$A$1-1,L28,"")
B29: BCH | H29: 42893 | I29: 42925 | K29: =IF(AND($K$2>=H29,$K$2<=I29),"OUI","NON") -> OUI | L29: =IF(OR(B29="CES",B29="CNE",B29="LTN",B29="SLT",B29="ASP"),"X",IF(OR(B29="ACH",B29="ADC",B29="ADJ",B29="MAJ",B29="MJR",B29="MDL",B29="MCH",B29="MDC",B29="SGT",B29="SGC",B29="SCH"),"Y","Z")) -> Z | M29: =IF(K29="OUI",L29,"") -> Z | N29: =IF(C29="R",M29,"") | O29: =IF(H29=CRQ!$A$1,L29,"") | P29: =IF(I29=CRQ!$A$1-1,L29,"")
B30: BCH | H30: 42926 | I30: 42953 | K30: =IF(AND($K$2>=H30,$K$2<=I30),"OUI","NON") -> NON | L30: =IF(OR(B30="CES",B30="CNE",B30="LTN",B30="SLT",B30="ASP"),"X",IF(OR(B30="ACH",B30="ADC",B30="ADJ",B30="MAJ",B30="MJR",B30="MDL",B30="MCH",B30="MDC",B30="SGT",B30="SGC",B30="SCH"),"Y","Z")) -> Z | M30: =IF(K30="OUI",L30,"") | N30: =IF(C30="R",M30,"") | O30: =IF(H30=CRQ!$A$1,L30,"") | P30: =IF(I30=CRQ!$A$1-1,L30,"")
B31: BRI | H31: 42892 | I31: 42953 | K31: =IF(AND($K$2>=H31,$K$2<=I31),"OUI","NON") -> OUI | L31: =IF(OR(B31="CES",B31="CNE",B31="LTN",B31="SLT",B31="ASP"),"X",IF(OR(B31="ACH",B31="ADC",B31="ADJ",B31="MAJ",B31="MJR",B31="MDL",B31="MCH",B31="MDC",B31="SGT",B31="SGC",B31="SCH"),"Y","Z")) -> Z | M31: =IF(K31="OUI",L31,"") -> Z | N31: =IF(C31="R",M31,"") | O31: =IF(H31=CRQ!$A$1,L31,"") | P31: =IF(I31=CRQ!$A$1-1,L31,"")
B32: 1CL | H32: 42892 | I32: 42953 | K32: =IF(AND($K$2>=H32,$K$2<=I32),"OUI","NON") -> OUI | L32: =IF(OR(B32="CES",B32="CNE",B32="LTN",B32="SLT",B32="ASP"),"X",IF(OR(B32="ACH",B32="ADC",B32="ADJ",B32="MAJ",B32="MJR",B32="MDL",B32="MCH",B32="MDC",B32="SGT",B32="SGC",B32="SCH"),"Y","Z")) -> Z | M32: =IF(K32="OUI",L32,"") -> Z | N32: =IF(C32="R",M32,"") | O32: =IF(H32=CRQ!$A$1,L32,"") | P32: =IF(I32=CRQ!$A$1-1,L32,"")
B33: BRG | H33: 42893 | I33: 42922 | K33: =IF(AND($K$2>=H33,$K$2<=I33),"OUI","NON") -> OUI | L33: =IF(OR(B33="CES",B33="CNE",B33="LTN",B33="SLT",B33="ASP"),"X",IF(OR(B33="ACH",B33="ADC",B33="ADJ",B33="MAJ",B33="MJR",B33="MDL",B33="MCH",B33="MDC",B33="SGT",B33="SGC",B33="SCH"),"Y","Z")) -> Z | M33: =IF(K33="OUI",L33,"") -> Z | N33: =IF(C33="R",M33,"") | O33: =IF(H33=CRQ!$A$1,L33,"") | P33: =IF(I33=CRQ!$A$1-1,L33,"")
B34: 1CL | H34: 42923 | I34: 42953 | K34: =IF(AND($K$2>=H34,$K$2<=I34),"OUI","NON") -> NON | L34: =IF(OR(B34="CES",B34="CNE",B34="LTN",B34="SLT",B34="ASP"),"X",IF(OR(B34="ACH",B34="ADC",B34="ADJ",B34="MAJ",B34="MJR",B34="MDL",B34="MCH",B34="MDC",B34="SGT",B34="SGC",B34="SCH"),"Y","Z")) -> Z | M34: =IF(K34="OUI",L34,"") | N34: =IF(C34="R",M34,"") | O34: =IF(H34=CRQ!$A$1,L34,"") | P34: =IF(I34=CRQ!$A$1-1,L34,"")
B35: BRG | H35: 42893 | I35: 42953 | K35: =IF(AND($K$2>=H35,$K$2<=I35),"OUI","NON") -> OUI | L35: =IF(OR(B35="CES",B35="CNE",B35="LTN",B35="SLT",B35="ASP"),"X",IF(OR(B35="ACH",B35="ADC",B35="ADJ",B35="MAJ",B35="MJR",B35="MDL",B35="MCH",B35="MDC",B35="SGT",B35="SGC",B35="SCH"),"Y","Z")) -> Z | M35: =IF(K35="OUI",L35,"") -> Z | N35: =IF(C35="R",M35,"") | O35: =IF(H35=CRQ!$A$1,L35,"") | P35: =IF(I35=CRQ!$A$1-1,L35,"")
B36: 1CL | H36: 42893 | I36: 42953 | K36: =IF(AND($K$2>=H36,$K$2<=I36),"OUI","NON") -> OUI | L36: =IF(OR(B36="CES",B36="CNE",B36="LTN",B36="SLT",B36="ASP"),"X",IF(OR(B36="ACH",B36="ADC",B36="ADJ",B36="MAJ",B36="MJR",B36="MDL",B36="MCH",B36="MDC",B36="SGT",B36="SGC",B36="SCH"),"Y","Z")) -> Z | M36: =IF(K36="OUI",L36,"") -> Z | N36: =IF(C36="R",M36,"") | O36: =IF(H36=CRQ!$A$1,L36,"") | P36: =IF(I36=CRQ!$A$1-1,L36,"")
B37: 1CL | H37: 42893 | I37: 42953 | K37: =IF(AND($K$2>=H37,$K$2<=I37),"OUI","NON") -> OUI | L37: =IF(OR(B37="CES",B37="CNE",B37="LTN",B37="SLT",B37="ASP"),"X",IF(OR(B37="ACH",B37="ADC",B37="ADJ",B37="MAJ",B37="MJR",B37="MDL",B37="MCH",B37="MDC",B37="SGT",B37="SGC",B37="SCH"),"Y","Z")) -> Z | M37: =IF(K37="OUI",L37,"") -> Z | N37: =IF(C37="R",M37,"") | O37: =IF(H37=CRQ!$A$1,L37,"") | P37: =IF(I37=CRQ!$A$1-1,L37,"")
B38: LEG | H38: 42893 | I38: 42953 | K38: =IF(AND($K$2>=H38,$K$2<=I38),"OUI","NON") -> OUI | L38: =IF(OR(B38="CES",B38="CNE",B38="LTN",B38="SLT",B38="ASP"),"X",IF(OR(B38="ACH",B38="ADC",B38="ADJ",B38="MAJ",B38="MJR",B38="MDL",B38="MCH",B38="MDC",B38="SGT",B38="SGC",B38="SCH"),"Y","Z")) -> Z | M38: =IF(K38="OUI",L38,"") -> Z | N38: =IF(C38="R",M38,"") | O38: =IF(H38=CRQ!$A$1,L38,"") | P38: =IF(I38=CRQ!$A$1-1,L38,"")
... B73: BRG | H73: 42893 | I73: 42953 | K73: =IF(AND($K$2>=H73,$K$2<=I73),"OUI","NON") -> OUI | L73: =IF(OR(B73="CES",B73="CNE",B73="LTN",B73="SLT",B73="ASP"),"X",IF(OR(B73="ACH",B73="ADC",B73="ADJ",B73="MAJ",B73="MJR",B73="MDL",B73="MCH",B73="MDC",B73="SGT",B73="SGC",B73="SCH"),"Y","Z")) -> Z | M73: =IF(K73="OUI",L73,"") -> Z | N73: =IF(C73="R",M73,"") | O73: =IF(H73=CRQ!$A$1,L73,"") | P73: =IF(I73=CRQ!$A$1-1,L73,"")
B74: 1CL | H74: 42905 | I74: 42953 | J74: FIN DE STAGE PSE1 | K74: =IF(AND($K$2>=H74,$K$2<=I74),"OUI","NON") -> OUI | L74: =IF(OR(B74="CES",B74="CNE",B74="LTN",B74="SLT",B74="ASP"),"X",IF(OR(B74="ACH",B74="ADC",B74="ADJ",B74="MAJ",B74="MJR",B74="MDL",B74="MCH",B74="MDC",B74="SGT",B74="SGC",B74="SCH"),"Y","Z")) -> Z | M74: =IF(K74="OUI",L74,"") -> Z | N74: =IF(C74="R",M74,"") | O74: =IF(H74=CRQ!$A$1,L74,"") -> Z | P74: =IF(I74=CRQ!$A$1-1,L74,"")
B75: LEG | H75: 42893 | I75: 42953 | K75: =IF(AND($K$2>=H75,$K$2<=I75),"OUI","NON") -> OUI | L75: =IF(OR(B75="CES",B75="CNE",B75="LTN",B75="SLT",B75="ASP"),"X",IF(OR(B75="ACH",B75="ADC",B75="ADJ",B75="MAJ",B75="MJR",B75="MDL",B75="MCH",B75="MDC",B75="SGT",B75="SGC",B75="SCH"),"Y","Z")) -> Z | M75: =IF(K75="OUI",L75,"") -> Z | N75: =IF(C75="R",M75,"") | O75: =IF(H75=CRQ!$A$1,L75,"") | P75: =IF(I75=CRQ!$A$1-1,L75,"")
B76: BRG | H76: 42893 | I76: 42925 | K76: =IF(AND($K$2>=H76,$K$2<=I76),"OUI","NON") -> OUI | L76: =IF(OR(B76="CES",B76="CNE",B76="LTN",B76="SLT",B76="ASP"),"X",IF(OR(B76="ACH",B76="ADC",B76="ADJ",B76="MAJ",B76="MJR",B76="MDL",B76="MCH",B76="MDC",B76="SGT",B76="SGC",B76="SCH"),"Y","Z")) -> Z | M76: =IF(K76="OUI",L76,"") -> Z | N76: =IF(C76="R",M76,"") | O76: =IF(H76=CRQ!$A$1,L76,"") | P76: =IF(I76=CRQ!$A$1-1,L76,"")
B77: BRG | H77: 42930 | I77: 42953 | K77: =IF(AND($K$2>=H77,$K$2<=I77),"OUI","NON") -> NON | L77: =IF(OR(B77="CES",B77="CNE",B77="LTN",B77="SLT",B77="ASP"),"X",IF(OR(B77="ACH",B77="ADC",B77="ADJ",B77="MAJ",B77="MJR",B77="MDL",B77="MCH",B77="MDC",B77="SGT",B77="SGC",B77="SCH"),"Y","Z")) -> Z | M77: =IF(K77="OUI",L77,"") | N77: =IF(C77="R",M77,"") | O77: =IF(H77=CRQ!$A$1,L77,"") | P77: =IF(I77=CRQ!$A$1-1,L77,"")
B78: BRG | H78: 42893 | I78: 42953 | K78: =IF(AND($K$2>=H78,$K$2<=I78),"OUI","NON") -> OUI | L78: =IF(OR(B78="CES",B78="CNE",B78="LTN",B78="SLT",B78="ASP"),"X",IF(OR(B78="ACH",B78="ADC",B78="ADJ",B78="MAJ",B78="MJR",B78="MDL",B78="MCH",B78="MDC",B78="SGT",B78="SGC",B78="SCH"),"Y","Z")) -> Z | M78: =IF(K78="OUI",L78,"") -> Z | N78: =IF(C78="R",M78,"") | O78: =IF(H78=CRQ!$A$1,L78,"") | P78: =IF(I78=CRQ!$A$1-1,L78,"")
B79: BRG | H79: 42893 | I79: 42953 | K79: =IF(AND($K$2>=H79,$K$2<=I79),"OUI","NON") -> OUI | L79: =IF(OR(B79="CES",B79="CNE",B79="LTN",B79="SLT",B79="ASP"),"X",IF(OR(B79="ACH",B79="ADC",B79="ADJ",B79="MAJ",B79="MJR",B79="MDL",B79="MCH",B79="MDC",B79="SGT",B79="SGC",B79="SCH"),"Y","Z")) -> Z | M79: =IF(K79="OUI",L79,"") -> Z | N79: =IF(C79="R",M79,"") | O79: =IF(H79=CRQ!$A$1,L79,"") | P79: =IF(I79=CRQ!$A$1-1,L79,"")
B80: 1CL | H80: 42919 | I80: 42953 | K80: =IF(AND($K$2>=H80,$K$2<=I80),"OUI","NON") -> NON | L80: =IF(OR(B80="CES",B80="CNE",B80="LTN",B80="SLT",B80="ASP"),"X",IF(OR(B80="ACH",B80="ADC",B80="ADJ",B80="MAJ",B80="MJR",B80="MDL",B80="MCH",B80="MDC",B80="SGT",B80="SGC",B80="SCH"),"Y","Z")) -> Z | M80: =IF(K80="OUI",L80,"") | N80: =IF(C80="R",M80,"") | O80: =IF(H80=CRQ!$A$1,L80,"") | P80: =IF(I80=CRQ!$A$1-1,L80,"")
B81: 1CL | H81: 42893 | I81: 42953 | K81: =IF(AND($K$2>=H81,$K$2<=I81),"OUI","NON") -> OUI | L81: =IF(OR(B81="CES",B81="CNE",B81="LTN",B81="SLT",B81="ASP"),"X",IF(OR(B81="ACH",B81="ADC",B81="ADJ",B81="MAJ",B81="MJR",B81="MDL",B81="MCH",B81="MDC",B81="SGT",B81="SGC",B81="SCH"),"Y","Z")) -> Z | M81: =IF(K81="OUI",L81,"") -> Z | N81: =IF(C81="R",M81,"") | O81: =IF(H81=CRQ!$A$1,L81,"") | P81: =IF(I81=CRQ!$A$1-1,L81,"")
...

Sheet UE132
K1: PRESENCE | S1: X | T1: Y | U1: Z | V1: T
B2: GRADE | C2: R | H2: IN | I2: OUT | J2: MOTIF | K2: =CRQ!A1 -> 42905 | L2: G | M2: P | N2: R | O2: IN | P2: OU | R2: P | S2: =COUNTIF($M:$M,S1) -> 5 | T2: =COUNTIF($M:$M,T1) -> 16 | U2: =COUNTIF($M:$M,U1) -> 67 | V2: =SUM(S2:U2) -> 88
B3: SLT | H3: 42892 | I3: 42908 | K3: =IF(AND($K$2>=H3,$K$2<=I3),"OUI","NON") -> OUI | L3: =IF(OR(B3="CES",B3="CNE",B3="LTN",B3="SLT",B3="ASP"),"X",IF(OR(B3="ACH",B3="ADC",B3="ADJ",B3="MAJ",B3="MJR",B3="MDL",B3="MCH",B3="MDC",B3="SGT",B3="SGC",B3="SCH"),"Y","Z")) -> X | M3: =IF(K3="OUI",L3,"") -> X | N3: =IF(C3="R",M3,"") | O3: =IF(H3=CRQ!$A$1,L3,"") | P3: =IF(I3=CRQ!$A$1-1,L3,"") | R3: R | S3: =COUNTIF($N:$N,S1) -> 0 | T3: =COUNTIF($N:$N,T1) -> 0 | U3: =COUNTIF($N:$N,U1) -> 0 | V3: =SUM(S3:U3) -> 0
B4: LTN | H4: 42892 | I4: 42953 | K4: =IF(AND($K$2>=H4,$K$2<=I4),"OUI","NON") -> OUI | L4: =IF(OR(B4="CES",B4="CNE",B4="LTN",B4="SLT",B4="ASP"),"X",IF(OR(B4="ACH",B4="ADC",B4="ADJ",B4="MAJ",B4="MJR",B4="MDL",B4="MCH",B4="MDC",B4="SGT",B4="SGC",B4="SCH"),"Y","Z")) -> X | M4: =IF(K4="OUI",L4,"") -> X | N4: =IF(C4="R",M4,"") | O4: =IF(H4=CRQ!$A$1,L4,"") | P4: =IF(I4=CRQ!$A$1-1,L4,"") | R4: IN | S4: =COUNTIF($O:$O,S1) -> 1 | T4: =COUNTIF($O:$O,T1) -> 0 | U4: =COUNTIF($O:$O,U1) -> 0 | V4: =SUM(S4:U4) -> 1
B5: CNE | H5: 42892 | I5: 42897 | K5: =IF(AND($K$2>=H5,$K$2<=I5),"OUI","NON") -> NON | L5: =IF(OR(B5="CES",B5="CNE",B5="LTN",B5="SLT",B5="ASP"),"X",IF(OR(B5="ACH",B5="ADC",B5="ADJ",B5="MAJ",B5="MJR",B5="MDL",B5="MCH",B5="MDC",B5="SGT",B5="SGC",B5="SCH"),"Y","Z")) -> X | M5: =IF(K5="OUI",L5,"") | N5: =IF(C5="R",M5,"") | O5: =IF(H5=CRQ!$A$1,L5,"") | P5: =IF(I5=CRQ!$A$1-1,L5,"") | R5: OUT | S5: =COUNTIF($P:$P,S1) -> 0 | T5: =COUNTIF($P:$P,T1) -> 0 | U5: =COUNTIF($P:$P,U1) -> 1 | V5: =SUM(S5:U5) -> 1
B6: MCH | H6: 42892 | I6: 42918 | K6: =IF(AND($K$2>=H6,$K$2<=I6),"OUI","NON") -> OUI | L6: =IF(OR(B6="CES",B6="CNE",B6="LTN",B6="SLT",B6="ASP"),"X",IF(OR(B6="ACH",B6="ADC",B6="ADJ",B6="MAJ",B6="MJR",B6="MDL",B6="MCH",B6="MDC",B6="SGT",B6="SGC",B6="SCH"),"Y","Z")) -> Y | M6: =IF(K6="OUI",L6,"") -> Y | N6: =IF(C6="R",M6,"") | O6: =IF(H6=CRQ!$A$1,L6,"") | P6: =IF(I6=CRQ!$A$1-1,L6,"")
B7: MCH | H7: 42892 | I7: 42938 | K7: =IF(AND($K$2>=H7,$K$2<=I7),"OUI","NON") -> OUI | L7: =IF(OR(B7="CES",B7="CNE",B7="LTN",B7="SLT",B7="ASP"),"X",IF(OR(B7="ACH",B7="ADC",B7="ADJ",B7="MAJ",B7="MJR",B7="MDL",B7="MCH",B7="MDC",B7="SGT",B7="SGC",B7="SCH"),"Y","Z")) -> Y | M7: =IF(K7="OUI",L7,"") -> Y | N7: =IF(C7="R",M7,"") | O7: =IF(H7=CRQ!$A$1,L7,"") | P7: =IF(I7=CRQ!$A$1-1,L7,"")
B8: MDL | H8: 42892 | I8: 42953 | K8: =IF(AND($K$2>=H8,$K$2<=I8),"OUI","NON") -> OUI | L8: =IF(OR(B8="CES",B8="CNE",B8="LTN",B8="SLT",B8="ASP"),"X",IF(OR(B8="ACH",B8="ADC",B8="ADJ",B8="MAJ",B8="MJR",B8="MDL",B8="MCH",B8="MDC",B8="SGT",B8="SGC",B8="SCH"),"Y","Z")) -> Y | M8: =IF(K8="OUI",L8,"") -> Y | N8: =IF(C8="R",M8,"") | O8: =IF(H8=CRQ!$A$1,L8,"") | P8: =IF(I8=CRQ!$A$1-1,L8,"")
B9: MDL | H9: 42892 | I9: 42953 | K9: =IF(AND($K$2>=H9,$K$2<=I9),"OUI","NON") -> OUI | L9: =IF(OR(B9="CES",B9="CNE",B9="LTN",B9="SLT",B9="ASP"),"X",IF(OR(B9="ACH",B9="ADC",B9="ADJ",B9="MAJ",B9="MJR",B9="MDL",B9="MCH",B9="MDC",B9="SGT",B9="SGC",B9="SCH"),"Y","Z")) -> Y | M9: =IF(K9="OUI",L9,"") -> Y | N9: =IF(C9="R",M9,"") | O9: =IF(H9=CRQ!$A$1,L9,"") | P9: =IF(I9=CRQ!$A$1-1,L9,"")
B10: MDL | H10: 42892 | I10: 42953 | K10: =IF(AND($K$2>=H10,$K$2<=I10),"OUI","NON") -> OUI | L10: =IF(OR(B10="CES",B10="CNE",B10="LTN",B10="SLT",B10="ASP"),"X",IF(OR(B10="ACH",B10="ADC",B10="ADJ",B10="MAJ",B10="MJR",B10="MDL",B10="MCH",B10="MDC",B10="SGT",B10="SGC",B10="SCH"),"Y","Z")) -> Y | M10: =IF(K10="OUI",L10,"") -> Y | N10: =IF(C10="R",M10,"") | O10: =IF(H10=CRQ!$A$1,L10,"") | P10: =IF(I10=CRQ!$A$1-1,L10,"")
B11: MDL | H11: 42892 | I11: 42953 | K11: =IF(AND($K$2>=H11,$K$2<=I11),"OUI","NON") -> OUI | L11: =IF(OR(B11="CES",B11="CNE",B11="LTN",B11="SLT",B11="ASP"),"X",IF(OR(B11="ACH",B11="ADC",B11="ADJ",B11="MAJ",B11="MJR",B11="MDL",B11="MCH",B11="MDC",B11="SGT",B11="SGC",B11="SCH"),"Y","Z")) -> Y | M11: =IF(K11="OUI",L11,"") -> Y | N11: =IF(C11="R",M11,"") | O11: =IF(H11=CRQ!$A$1,L11,"") | P11: =IF(I11=CRQ!$A$1-1,L11,"")
B12: ADJ | H12: 42892 | I12: 42953 | K12: =IF(AND($K$2>=H12,$K$2<=I12),"OUI","NON") -> OUI | L12: =IF(OR(B12="CES",B12="CNE",B12="LTN",B12="SLT",B12="ASP"),"X",IF(OR(B12="ACH",B12="ADC",B12="ADJ",B12="MAJ",B12="MJR",B12="MDL",B12="MCH",B12="MDC",B12="SGT",B12="SGC",B12="SCH"),"Y","Z")) -> Y | M12: =IF(K12="OUI",L12,"") -> Y | N12: =IF(C12="R",M12,"") | O12: =IF(H12=CRQ!$A$1,L12,"") | P12: =IF(I12=CRQ!$A$1-1,L12,"")
B13: MDL | H13: 42892 | I13: 42953 | K13: =IF(AND($K$2>=H13,$K$2<=I13),"OUI","NON") -> OUI | L13: =IF(OR(B13="CES",B13="CNE",B13="LTN",B13="SLT",B13="ASP"),"X",IF(OR(B13="ACH",B13="ADC",B13="ADJ",B13="MAJ",B13="MJR",B13="MDL",B13="MCH",B13="MDC",B13="SGT",B13="SGC",B13="SCH"),"Y","Z")) -> Y | M13: =IF(K13="OUI",L13,"") -> Y | N13: =IF(C13="R",M13,"") | O13: =IF(H13=CRQ!$A$1,L13,"") | P13: =IF(I13=CRQ!$A$1-1,L13,"")
B14: MDL | H14: 42892 | I14: 42953 | K14: =IF(AND($K$2>=H14,$K$2<=I14),"OUI","NON") -> OUI | L14: =IF(OR(B14="CES",B14="CNE",B14="LTN",B14="SLT",B14="ASP"),"X",IF(OR(B14="ACH",B14="ADC",B14="ADJ",B14="MAJ",B14="MJR",B14="MDL",B14="MCH",B14="MDC",B14="SGT",B14="SGC",B14="SCH"),"Y","Z")) -> Y | M14: =IF(K14="OUI",L14,"") -> Y | N14: =IF(C14="R",M14,"") | O14: =IF(H14=CRQ!$A$1,L14,"") | P14: =IF(I14=CRQ!$A$1-1,L14,"")
B15: LTN | H15: 42893 | I15: 42953 | K15: =IF(AND($K$2>=H15,$K$2<=I15),"OUI","NON") -> OUI | L15: =IF(OR(B15="CES",B15="CNE",B15="LTN",B15="SLT",B15="ASP"),"X",IF(OR(B15="ACH",B15="ADC",B15="ADJ",B15="MAJ",B15="MJR",B15="MDL",B15="MCH",B15="MDC",B15="SGT",B15="SGC",B15="SCH"),"Y","Z")) -> X | M15: =IF(K15="OUI",L15,"") -> X | N15: =IF(C15="R",M15,"") | O15: =IF(H15=CRQ!$A$1,L15,"") | P15: =IF(I15=CRQ!$A$1-1,L15,"")
B16: MCH | H16: 42893 | I16: 42953 | K16: =IF(AND($K$2>=H16,$K$2<=I16),"OUI","NON") -> OUI | L16: =IF(OR(B16="CES",B16="CNE",B16="LTN",B16="SLT",B16="ASP"),"X",IF(OR(B16="ACH",B16="ADC",B16="ADJ",B16="MAJ",B16="MJR",B16="MDL",B16="MCH",B16="MDC",B16="SGT",B16="SGC",B16="SCH"),"Y","Z")) -> Y | M16: =IF(K16="OUI",L16,"") -> Y | N16: =IF(C16="R",M16,"") | O16: =IF(H16=CRQ!$A$1,L16,"") | P16: =IF(I16=CRQ!$A$1-1,L16,"")
B17: MCH | H17: 42893 | I17: 42953 | K17: =IF(AND($K$2>=H17,$K$2<=I17),"OUI","NON") -> OUI | L17: =IF(OR(B17="CES",B17="CNE",B17="LTN",B17="SLT",B17="ASP"),"X",IF(OR(B17="ACH",B17="ADC",B17="ADJ",B17="MAJ",B17="MJR",B17="MDL",B17="MCH",B17="MDC",B17="SGT",B17="SGC",B17="SCH"),"Y","Z")) -> Y | M17: =IF(K17="OUI",L17,"") -> Y | N17: =IF(C17="R",M17,"") | O17: =IF(H17=CRQ!$A$1,L17,"") | P17: =IF(I17=CRQ!$A$1-1,L17,"")
... B83: 1CL | H83: 42893 | I83: 42953 | K83: =IF(AND($K$2>=H83,$K$2<=I83),"OUI","NON") -> OUI | L83: =IF(OR(B83="CES",B83="CNE",B83="LTN",B83="SLT",B83="ASP"),"X",IF(OR(B83="ACH",B83="ADC",B83="ADJ",B83="MAJ",B83="MJR",B83="MDL",B83="MCH",B83="MDC",B83="SGT",B83="SGC",B83="SCH"),"Y","Z")) -> Z | M83: =IF(K83="OUI",L83,"") -> Z | N83: =IF(C83="R",M83,"") | O83: =IF(H83=CRQ!$A$1,L83,"") | P83: =IF(I83=CRQ!$A$1-1,L83,"")
B84: 1CL | H84: 42893 | I84: 42904 | J84: HOSPITALISATION LAVERAN | K84: =IF(AND($K$2>=H84,$K$2<=I84),"OUI","NON") -> NON | L84: =IF(OR(B84="CES",B84="CNE",B84="LTN",B84="SLT",B84="ASP"),"X",IF(OR(B84="ACH",B84="ADC",B84="ADJ",B84="MAJ",B84="MJR",B84="MDL",B84="MCH",B84="MDC",B84="SGT",B84="SGC",B84="SCH"),"Y","Z")) -> Z | M84: =IF(K84="OUI",L84,"") | N84: =IF(C84="R",M84,"") | O84: =IF(H84=CRQ!$A$1,L84,"") | P84: =IF(I84=CRQ!$A$1-1,L84,"") -> Z
B85: 1CL | H85: 42893 | I85: 42909 | K85: =IF(AND($K$2>=H85,$K$2<=I85),"OUI","NON") -> OUI | L85: =IF(OR(B85="CES",B85="CNE",B85="LTN",B85="SLT",B85="ASP"),"X",IF(OR(B85="ACH",B85="ADC",B85="ADJ",B85="MAJ",B85="MJR",B85="MDL",B85="MCH",B85="MDC",B85="SGT",B85="SGC",B85="SCH"),"Y","Z")) -> Z | M85: =IF(K85="OUI",L85,"") -> Z | N85: =IF(C85="R",M85,"") | O85: =IF(H85=CRQ!$A$1,L85,"") | P85: =IF(I85=CRQ!$A$1-1,L85,"")
B86: 2CL | H86: 42893 | I86: 42894 | K86: =IF(AND($K$2>=H86,$K$2<=I86),"OUI","NON") -> NON | L86: =IF(OR(B86="CES",B86="CNE",B86="LTN",B86="SLT",B86="ASP"),"X",IF(OR(B86="ACH",B86="ADC",B86="ADJ",B86="MAJ",B86="MJR",B86="MDL",B86="MCH",B86="MDC",B86="SGT",B86="SGC",B86="SCH"),"Y","Z")) -> Z | M86: =IF(K86="OUI",L86,"") | N86: =IF(C86="R",M86,"") | O86: =IF(H86=CRQ!$A$1,L86,"") | P86: =IF(I86=CRQ!$A$1-1,L86,"")
B87: 1CL | H87: 42893 | I87: 42896 | K87: =IF(AND($K$2>=H87,$K$2<=I87),"OUI","NON") -> NON | L87: =IF(OR(B87="CES",B87="CNE",B87="LTN",B87="SLT",B87="ASP"),"X",IF(OR(B87="ACH",B87="ADC",B87="ADJ",B87="MAJ",B87="MJR",B87="MDL",B87="MCH",B87="MDC",B87="SGT",B87="SGC",B87="SCH"),"Y","Z")) -> Z | M87: =IF(K87="OUI",L87,"") | N87: =IF(C87="R",M87,"") | O87: =IF(H87=CRQ!$A$1,L87,"") | P87: =IF(I87=CRQ!$A$1-1,L87,"")
B88: MDL | H88: 42894 | I88: 42953 | K88: =IF(AND($K$2>=H88,$K$2<=I88),"OUI","NON") -> OUI | L88: =IF(OR(B88="CES",B88="CNE",B88="LTN",B88="SLT",B88="ASP"),"X",IF(OR(B88="ACH",B88="ADC",B88="ADJ",B88="MAJ",B88="MJR",B88="MDL",B88="MCH",B88="MDC",B88="SGT",B88="SGC",B88="SCH"),"Y","Z")) -> Y | M88: =IF(K88="OUI",L88,"") -> Y | N88: =IF(C88="R",M88,"") | O88: =IF(H88=CRQ!$A$1,L88,"") | P88: =IF(I88=CRQ!$A$1-1,L88,"")
B89: MDL | H89: 42894 | I89: 42953 | K89: =IF(AND($K$2>=H89,$K$2<=I89),"OUI","NON") -> OUI | L89: =IF(OR(B89="CES",B89="CNE",B89="LTN",B89="SLT",B89="ASP"),"X",IF(OR(B89="ACH",B89="ADC",B89="ADJ",B89="MAJ",B89="MJR",B89="MDL",B89="MCH",B89="MDC",B89="SGT",B89="SGC",B89="SCH"),"Y","Z")) -> Y | M89: =IF(K89="OUI",L89,"") -> Y | N89: =IF(C89="R",M89,"") | O89: =IF(H89=CRQ!$A$1,L89,"") | P89: =IF(I89=CRQ!$A$1-1,L89,"")
B90: CCH | H90: 42894 | I90: 42953 | K90: =IF(AND($K$2>=H90,$K$2<=I90),"OUI","NON") -> OUI | L90: =IF(OR(B90="CES",B90="CNE",B90="LTN",B90="SLT",B90="ASP"),"X",IF(OR(B90="ACH",B90="ADC",B90="ADJ",B90="MAJ",B90="MJR",B90="MDL",B90="MCH",B90="MDC",B90="SGT",B90="SGC",B90="SCH"),"Y","Z")) -> Z | M90: =IF(K90="OUI",L90,"") -> Z | N90: =IF(C90="R",M90,"") | O90: =IF(H90=CRQ!$A$1,L90,"") | P90: =IF(I90=CRQ!$A$1-1,L90,"")
B91: 1CL | H91: 42896 | I91: 42953 | K91: =IF(AND($K$2>=H91,$K$2<=I91),"OUI","NON") -> OUI | L91: =IF(OR(B91="CES",B91="CNE",B91="LTN",B91="SLT",B91="ASP"),"X",IF(OR(B91="ACH",B91="ADC",B91="ADJ",B91="MAJ",B91="MJR",B91="MDL",B91="MCH",B91="MDC",B91="SGT",B91="SGC",B91="SCH"),"Y","Z")) -> Z | M91: =IF(K91="OUI",L91,"") -> Z | N91: =IF(C91="R",M91,"") | O91: =IF(H91=CRQ!$A$1,L91,"") | P91: =IF(I91=CRQ!$A$1-1,L91,"")
B92: CPL | H92: 42896 | I92: 42953 | K92: =IF(AND($K$2>=H92,$K$2<=I92),"OUI","NON") -> OUI | L92: =IF(OR(B92="CES",B92="CNE",B92="LTN",B92="SLT",B92="ASP"),"X",IF(OR(B92="ACH",B92="ADC",B92="ADJ",B92="MAJ",B92="MJR",B92="MDL",B92="MCH",B92="MDC",B92="SGT",B92="SGC",B92="SCH"),"Y","Z")) -> Z | M92: =IF(K92="OUI",L92,"") -> Z | N92: =IF(C92="R",M92,"") | O92: =IF(H92=CRQ!$A$1,L92,"") | P92: =IF(I92=CRQ!$A$1-1,L92,"")
B93: CNE | H93: 42900 | I93: 42953 | K93: =IF(AND($K$2>=H93,$K$2<=I93),"OUI","NON") -> OUI | L93: =IF(OR(B93="CES",B93="CNE",B93="LTN",B93="SLT",B93="ASP"),"X",IF(OR(B93="ACH",B93="ADC",B93="ADJ",B93="MAJ",B93="MJR",B93="MDL",B93="MCH",B93="MDC",B93="SGT",B93="SGC",B93="SCH"),"Y","Z")) -> X | M93: =IF(K93="OUI",L93,"") -> X | N93: =IF(C93="R",M93,"") | O93: =IF(H93=CRQ!$A$1,L93,"") | P93: =IF(I93=CRQ!$A$1-1,L93,"")
B94: CNE | H94: 42905 | I94: 42953 | K94: =IF(AND($K$2>=H94,$K$2<=I94),"OUI","NON") -> OUI | L94: =IF(OR(B94="CES",B94="CNE",B94="LTN",B94="SLT",B94="ASP"),"X",IF(OR(B94="ACH",B94="ADC",B94="ADJ",B94="MAJ",B94="MJR",B94="MDL",B94="MCH",B94="MDC",B94="SGT",B94="SGC",B94="SCH"),"Y","Z")) -> X | M94: =IF(K94="OUI",L94,"") -> X | N94: =IF(C94="R",M94,"") | O94: =IF(H94=CRQ!$A$1,L94,"") -> X | P94: =IF(I94=CRQ!$A$1-1,L94,"")
B95: MDL | H95: 42910 | I95: 42953 | K95: =IF(AND($K$2>=H95,$K$2<=I95),"OUI","NON") -> NON | L95: =IF(OR(B95="CES",B95="CNE",B95="LTN",B95="SLT",B95="ASP"),"X",IF(OR(B95="ACH",B95="ADC",B95="ADJ",B95="MAJ",B95="MJR",B95="MDL",B95="MCH",B95="MDC",B95="SGT",B95="SGC",B95="SCH"),"Y","Z")) -> Y | M95: =IF(K95="OUI",L95,"") | N95: =IF(C95="R",M95,"") | O95: =IF(H95=CRQ!$A$1,L95,"") | P95: =IF(I95=CRQ!$A$1-1,L95,"")
B96: BCH | H96: 42910 | I96: 42953 | K96: =IF(AND($K$2>=H96,$K$2<=I96),"OUI","NON") -> NON | L96: =IF(OR(B96="CES",B96="CNE",B96="LTN",B96="SLT",B96="ASP"),"X",IF(OR(B96="ACH",B96="ADC",B96="ADJ",B96="MAJ",B96="MJR",B96="MDL",B96="MCH",B96="MDC",B96="SGT",B96="SGC",B96="SCH"),"Y","Z")) -> Z | M96: =IF(K96="OUI",L96,"") | N96: =IF(C96="R",M96,"") | O96: =IF(H96=CRQ!$A$1,L96,"") | P96: =IF(I96=CRQ!$A$1-1,L96,"")
... B99: 1CL | H99: 42915 | I99: 42953 | K99: =IF(AND($K$2>=H99,$K$2<=I99),"OUI","NON") -> NON | L99: =IF(OR(B99="CES",B99="CNE",B99="LTN",B99="SLT",B99="ASP"),"X",IF(OR(B99="ACH",B99="ADC",B99="ADJ",B99="MAJ",B99="MJR",B99="MDL",B99="MCH",B99="MDC",B99="SGT",B99="SGC",B99="SCH"),"Y","Z")) -> Z | M99: =IF(K99="OUI",L99,"") | N99: =IF(C99="R",M99,"") | O99: =IF(H99=CRQ!$A$1,L99,"") | P99: =IF(I99=CRQ!$A$1-1,L99,"")
B100: SLT | C100: R | H100: 42918 | I100: 42933 | K100: =IF(AND($K$2>=H100,$K$2<=I100),"OUI","NON") -> NON | L100: =IF(OR(B100="CES",B100="CNE",B100="LTN",B100="SLT",B100="ASP"),"X",IF(OR(B100="ACH",B100="ADC",B100="ADJ",B100="MAJ",B100="MJR",B100="MDL",B100="MCH",B100="MDC",B100="SGT",B100="SGC",B100="SCH"),"Y","Z")) -> X | M100: =IF(K100="OUI",L100,"") | N100: =IF(C100="R",M100,"") | O100: =IF(H100=CRQ!$A$1,L100,"") | P100: =IF(I100=CRQ!$A$1-1,L100,"")
B101: MDL | C101: R | H101: 42918 | I101: 42933 | K101: =IF(AND($K$2>=H101,$K$2<=I101),"OUI","NON") -> NON | L101: =IF(OR(B101="CES",B101="CNE",B101="LTN",B101="SLT",B101="ASP"),"X",IF(OR(B101="ACH",B101="ADC",B101="ADJ",B101="MAJ",B101="MJR",B101="MDL",B101="MCH",B101="MDC",B101="SGT",B101="SGC",B101="SCH"),"Y","Z")) -> Y | M101: =IF(K101="OUI",L101,"") | N101: =IF(C101="R",M101,"") | O101: =IF(H101=CRQ!$A$1,L101,"") | P101: =IF(I101=CRQ!$A$1-1,L101,"")
B102: MDL | C102: R | H102: 42918 | I102: 42933 | K102: =IF(AND($K$2>=H102,$K$2<=I102),"OUI","NON") -> NON | L102: =IF(OR(B102="CES",B102="CNE",B102="LTN",B102="SLT",B102="ASP"),"X",IF(OR(B102="ACH",B102="ADC",B102="ADJ",B102="MAJ",B102="MJR",B102="MDL",B102="MCH",B102="MDC",B102="SGT",B102="SGC",B102="SCH"),"Y","Z")) -> Y | M102: =IF(K102="OUI",L102,"") | N102: =IF(C102="R",M102,"") | O102: =IF(H102=CRQ!$A$1,L102,"") | P102: =IF(I102=CRQ!$A$1-1,L102,"")
B103: MDL | C103: R | H103: 42918 | I103: 42933 | K103: =IF(AND($K$2>=H103,$K$2<=I103),"OUI","NON") -> NON | L103: =IF(OR(B103="CES",B103="CNE",B103="LTN",B103="SLT",B103="ASP"),"X",IF(OR(B103="ACH",B103="ADC",B103="ADJ",B103="MAJ",B103="MJR",B103="MDL",B103="MCH",B103="MDC",B103="SGT",B103="SGC",B103="SCH"),"Y","Z")) -> Y | M103: =IF(K103="OUI",L103,"") | N103: =IF(C103="R",M103,"") | O103: =IF(H103=CRQ!$A$1,L103,"") | P103: =IF(I103=CRQ!$A$1-1,L103,"")
B104: BRI | C104: R | H104: 42918 | I104: 42933 | K104: =IF(AND($K$2>=H104,$K$2<=I104),"OUI","NON") -> NON | L104: =IF(OR(B104="CES",B104="CNE",B104="LTN",B104="SLT",B104="ASP"),"X",IF(OR(B104="ACH",B104="ADC",B104="ADJ",B104="MAJ",B104="MJR",B104="MDL",B104="MCH",B104="MDC",B104="SGT",B104="SGC",B104="SCH"),"Y","Z")) -> Z | M104: =IF(K104="OUI",L104,"") | N104: =IF(C104="R",M104,"") | O104: =IF(H104=CRQ!$A$1,L104,"") | P104: =IF(I104=CRQ!$A$1-1,L104,"")
B105: BRI | C105: R | H105: 42918 | I105: 42933 | K105: =IF(AND($K$2>=H105,$K$2<=I105),"OUI","NON") -> NON | L105: =IF(OR(B105="CES",B105="CNE",B105="LTN",B105="SLT",B105="ASP"),"X",IF(OR(B105="ACH",B105="ADC",B105="ADJ",B105="MAJ",B105="MJR",B105="MDL",B105="MCH",B105="MDC",B105="SGT",B105="SGC",B105="SCH"),"Y","Z")) -> Z | M105: =IF(K105="OUI",L105,"") | N105: =IF(C105="R",M105,"") | O105: =IF(H105=CRQ!$A$1,L105,"") | P105: =IF(I105=CRQ!$A$1-1,L105,"")
B106: 1CL | C106: R | H106: 42918 | I106: 42933 | K106: =IF(AND($K$2>=H106,$K$2<=I106),"OUI","NON") -> NON | L106: =IF(OR(B106="CES",B106="CNE",B106="LTN",B106="SLT",B106="ASP"),"X",IF(OR(B106="ACH",B106="ADC",B106="ADJ",B106="MAJ",B106="MJR",B106="MDL",B106="MCH",B106="MDC",B106="SGT",B106="SGC",B106="SCH"),"Y","Z")) -> Z | M106: =IF(K106="OUI",L106,"") | N106: =IF(C106="R",M106,"") | O106: =IF(H106=CRQ!$A$1,L106,"") | P106: =IF(I106=CRQ!$A$1-1,L106,"")
B107: SDT | C107: R | H107: 42918 | I107: 42933 | K107: =IF(AND($K$2>=H107,$K$2<=I107),"OUI","NON") -> NON | L107: =IF(OR(B107="CES",B107="CNE",B107="LTN",B107="SLT",B107="ASP"),"X",IF(OR(B107="ACH",B107="ADC",B107="ADJ",B107="MAJ",B107="MJR",B107="MDL",B107="MCH",B107="MDC",B107="SGT",B107="SGC",B107="SCH"),"Y","Z")) -> Z | M107: =IF(K107="OUI",L107,"") | N107: =IF(C107="R",M107,"") | O107: =IF(H107=CRQ!$A$1,L107,"") | P107: =IF(I107=CRQ!$A$1-1,L107,"")
...

Sheet UE133
K1: PRESENCE | S1: X | T1: Y | U1: Z | V1: T
B2: GRADE | C2: R | H2: IN | I2: OUT | J2: MOTIF | K2: =CRQ!A1 -> 42905 | L2: G | M2: P | N2: R | O2: IN | P2: OU | R2: P | S2: =COUNTIF($M:$M,S1) -> 4 | T2: =COUNTIF($M:$M,T1) -> 15 | U2: =COUNTIF($M:$M,U1) -> 71 | V2: =SUM(S2:U2) -> 90
B3: CNE | H3: 42894 | I3: 42899 | J3: STAGE 24H | K3: =IF(AND($K$2>=H3,$K$2<=I3),"OUI","NON") -> NON | L3: =IF(OR(B3="CES",B3="CNE",B3="LTN",B3="SLT",B3="ASP"),"X",IF(OR(B3="ACH",B3="ADC",B3="ADJ",B3="MAJ",B3="MJR",B3="MDL",B3="MCH",B3="MDC",B3="SGT",B3="SGC",B3="SCH"),"Y","Z")) -> X | M3: =IF(K3="OUI",L3,"") | N3: =IF(C3="R",M3,"") | O3: =IF(H3=CRQ!$A$1,L3,"") | P3: =IF(I3=CRQ!$A$1-1,L3,"") | R3: R | S3: =COUNTIF($N:$N,S1) -> 0 | T3: =COUNTIF($N:$N,T1) -> 0 | U3: =COUNTIF($N:$N,U1) -> 0 | V3: =SUM(S3:U3) -> 0
B4: CNE | H4: 42901 | I4: 42953 | K4: =IF(AND($K$2>=H4,$K$2<=I4),"OUI","NON") -> OUI | L4: =IF(OR(B4="CES",B4="CNE",B4="LTN",B4="SLT",B4="ASP"),"X",IF(OR(B4="ACH",B4="ADC",B4="ADJ",B4="MAJ",B4="MJR",B4="MDL",B4="MCH",B4="MDC",B4="SGT",B4="SGC",B4="SCH"),"Y","Z")) -> X | M4: =IF(K4="OUI",L4,"") -> X | N4: =IF(C4="R",M4,"") | O4: =IF(H4=CRQ!$A$1,L4,"") | P4: =IF(I4=CRQ!$A$1-1,L4,"") | R4: IN | S4: =COUNTIF($O:$O,S1) -> 0 | T4: =COUNTIF($O:$O,T1) -> 1 | U4: =COUNTIF($O:$O,U1) -> 0 | V4: =SUM(S4:U4) -> 1
B5: CNE | H5: 42898 | I5: 42953 | K5: =IF(AND($K$2>=H5,$K$2<=I5),"OUI","NON") -> OUI | L5: =IF(OR(B5="CES",B5="CNE",B5="LTN",B5="SLT",B5="ASP"),"X",IF(OR(B5="ACH",B5="ADC",B5="ADJ",B5="MAJ",B5="MJR",B5="MDL",B5="MCH",B5="MDC",B5="SGT",B5="SGC",B5="SCH"),"Y","Z")) -> X | M5: =IF(K5="OUI",L5,"") -> X | N5: =IF(C5="R",M5,"") | O5: =IF(H5=CRQ!$A$1,L5,"") | P5: =IF(I5=CRQ!$A$1-1,L5,"") | R5: OUT | S5: =COUNTIF($P:$P,S1) -> 0 | T5: =COUNTIF($P:$P,T1) -> 0 | U5: =COUNTIF($P:$P,U1) -> 1 | V5: =SUM(S5:U5) -> 1
B6: LTN | H6: 42894 | I6: 42953 | K6: =IF(AND($K$2>=H6,$K$2<=I6),"OUI","NON") -> OUI | L6: =IF(OR(B6="CES",B6="CNE",B6="LTN",B6="SLT",B6="ASP"),"X",IF(OR(B6="ACH",B6="ADC",B6="ADJ",B6="MAJ",B6="MJR",B6="MDL",B6="MCH",B6="MDC",B6="SGT",B6="SGC",B6="SCH"),"Y","Z")) -> X | M6: =IF(K6="OUI",L6,"") -> X | N6: =IF(C6="R",M6,"") | O6: =IF(H6=CRQ!$A$1,L6,"") | P6: =IF(I6=CRQ!$A$1-1,L6,"")
B7: LTN | H7: 42894 | I7: 42953 | K7: =IF(AND($K$2>=H7,$K$2<=I7),"OUI","NON") -> OUI | L7: =IF(OR(B7="CES",B7="CNE",B7="LTN",B7="SLT",B7="ASP"),"X",IF(OR(B7="ACH",B7="ADC",B7="ADJ",B7="MAJ",B7="MJR",B7="MDL",B7="MCH",B7="MDC",B7="SGT",B7="SGC",B7="SCH"),"Y","Z")) -> X | M7: =IF(K7="OUI",L7,"") -> X | N7: =IF(C7="R",M7,"") | O7: =IF(H7=CRQ!$A$1,L7,"") | P7: =IF(I7=CRQ!$A$1-1,L7,"")
B8: ADJ | H8: 42894 | I8: 42953 | K8: =IF(AND($K$2>=H8,$K$2<=I8),"OUI","NON") -> OUI | L8: =IF(OR(B8="CES",B8="CNE",B8="LTN",B8="SLT",B8="ASP"),"X",IF(OR(B8="ACH",B8="ADC",B8="ADJ",B8="MAJ",B8="MJR",B8="MDL",B8="MCH",B8="MDC",B8="SGT",B8="SGC",B8="SCH"),"Y","Z")) -> Y | M8: =IF(K8="OUI",L8,"") -> Y | N8: =IF(C8="R",M8,"") | O8: =IF(H8=CRQ!$A$1,L8,"") | P8: =IF(I8=CRQ!$A$1-1,L8,"")
B9: ADJ | H9: 42894 | I9: 42953 | K9: =IF(AND($K$2>=H9,$K$2<=I9),"OUI","NON") -> OUI | L9: =IF(OR(B9="CES",B9="CNE",B9="LTN",B9="SLT",B9="ASP"),"X",IF(OR(B9="ACH",B9="ADC",B9="ADJ",B9="MAJ",B9="MJR",B9="MDL",B9="MCH",B9="MDC",B9="SGT",B9="SGC",B9="SCH"),"Y","Z")) -> Y | M9: =IF(K9="OUI",L9,"") -> Y | N9: =IF(C9="R",M9,"") | O9: =IF(H9=CRQ!$A$1,L9,"") | P9: =IF(I9=CRQ!$A$1-1,L9,"")
B10: SCH | H10: 42894 | I10: 42953 | K10: =IF(AND($K$2>=H10,$K$2<=I10),"OUI","NON") -> OUI | L10: =IF(OR(B10="CES",B10="CNE",B10="LTN",B10="SLT",B10="ASP"),"X",IF(OR(B10="ACH",B10="ADC",B10="ADJ",B10="MAJ",B10="MJR",B10="MDL",B10="MCH",B10="MDC",B10="SGT",B10="SGC",B10="SCH"),"Y","Z")) -> Y | M10: =IF(K10="OUI",L10,"") -> Y | N10: =IF(C10="R",M10,"") | O10: =IF(H10=CRQ!$A$1,L10,"") | P10: =IF(I10=CRQ!$A$1-1,L10,"")
B11: SGT | H11: 42894 | I11: 42953 | K11: =IF(AND($K$2>=H11,$K$2<=I11),"OUI","NON") -> OUI | L11: =IF(OR(B11="CES",B11="CNE",B11="LTN",B11="SLT",B11="ASP"),"X",IF(OR(B11="ACH",B11="ADC",B11="ADJ",B11="MAJ",B11="MJR",B11="MDL",B11="MCH",B11="MDC",B11="SGT",B11="SGC",B11="SCH"),"Y","Z")) -> Y | M11: =IF(K11="OUI",L11,"") -> Y | N11: =IF(C11="R",M11,"") | O11: =IF(H11=CRQ!$A$1,L11,"") | P11: =IF(I11=CRQ!$A$1-1,L11,"")
B12: SGT | H12: 42894 | I12: 42953 | K12: =IF(AND($K$2>=H12,$K$2<=I12),"OUI","NON") -> OUI | L12: =IF(OR(B12="CES",B12="CNE",B12="LTN",B12="SLT",B12="ASP"),"X",IF(OR(B12="ACH",B12="ADC",B12="ADJ",B12="MAJ",B12="MJR",B12="MDL",B12="MCH",B12="MDC",B12="SGT",B12="SGC",B12="SCH"),"Y","Z")) -> Y | M12: =IF(K12="OUI",L12,"") -> Y | N12: =IF(C12="R",M12,"") | O12: =IF(H12=CRQ!$A$1,L12,"") | P12: =IF(I12=CRQ!$A$1-1,L12,"")
B13: SGT | H13: 42894 | I13: 42953 | K13: =IF(AND($K$2>=H13,$K$2<=I13),"OUI","NON") -> OUI | L13: =IF(OR(B13="CES",B13="CNE",B13="LTN",B13="SLT",B13="ASP"),"X",IF(OR(B13="ACH",B13="ADC",B13="ADJ",B13="MAJ",B13="MJR",B13="MDL",B13="MCH",B13="MDC",B13="SGT",B13="SGC",B13="SCH"),"Y","Z")) -> Y | M13: =IF(K13="OUI",L13,"") -> Y | N13: =IF(C13="R",M13,"") | O13: =IF(H13=CRQ!$A$1,L13,"") | P13: =IF(I13=CRQ!$A$1-1,L13,"")
B14: SCH | H14: 42894 | I14: 42899 | J14: FDM | K14: =IF(AND($K$2>=H14,$K$2<=I14),"OUI","NON") -> NON | L14: =IF(OR(B14="CES",B14="CNE",B14="LTN",B14="SLT",B14="ASP"),"X",IF(OR(B14="ACH",B14="ADC",B14="ADJ",B14="MAJ",B14="MJR",B14="MDL",B14="MCH",B14="MDC",B14="SGT",B14="SGC",B14="SCH"),"Y","Z")) -> Y | M14: =IF(K14="OUI",L14,"") | N14: =IF(C14="R",M14,"") | O14: =IF(H14=CRQ!$A$1,L14,"") | P14: =IF(I14=CRQ!$A$1-1,L14,"")
B15: SCH | H15: 42898 | I15: 42953 | K15: =IF(AND($K$2>=H15,$K$2<=I15),"OUI","NON") -> OUI | L15: =IF(OR(B15="CES",B15="CNE",B15="LTN",B15="SLT",B15="ASP"),"X",IF(OR(B15="ACH",B15="ADC",B15="ADJ",B15="MAJ",B15="MJR",B15="MDL",B15="MCH",B15="MDC",B15="SGT",B15="SGC",B15="SCH"),"Y","Z")) -> Y | M15: =IF(K15="OUI",L15,"") -> Y | N15: =IF(C15="R",M15,"") | O15: =IF(H15=CRQ!$A$1,L15,"") | P15: =IF(I15=CRQ!$A$1-1,L15,"")
B16: SGT | H16: 42894 | I16: 42953 | K16: =IF(AND($K$2>=H16,$K$2<=I16),"OUI","NON") -> OUI | L16: =IF(OR(B16="CES",B16="CNE",B16="LTN",B16="SLT",B16="ASP"),"X",IF(OR(B16="ACH",B16="ADC",B16="ADJ",B16="MAJ",B16="MJR",B16="MDL",B16="MCH",B16="MDC",B16="SGT",B16="SGC",B16="SCH"),"Y","Z")) -> Y | M16: =IF(K16="OUI",L16,"") -> Y | N16: =IF(C16="R",M16,"") | O16: =IF(H16=CRQ!$A$1,L16,"") | P16: =IF(I16=CRQ!$A$1-1,L16,"")
B17: SGT | H17: 42894 | I17: 42953 | K17: =IF(AND($K$2>=H17,$K$2<=I17),"OUI","NON") -> OUI | L17: =IF(OR(B17="CES",B17="CNE",B17="LTN",B17="SLT",B17="ASP"),"X",IF(OR(B17="ACH",B17="ADC",B17="ADJ",B17="MAJ",B17="MJR",B17="MDL",B17="MCH",B17="MDC",B17="SGT",B17="SGC",B17="SCH"),"Y","Z")) -> Y | M17: =IF(K17="OUI",L17,"") -> Y | N17: =IF(C17="R",M17,"") | O17: =IF(H17=CRQ!$A$1,L17,"") | P17: =IF(I17=CRQ!$A$1-1,L17,"")
B18: SGT | H18: 42894 | I18: 42953 | K18: =IF(AND($K$2>=H18,$K$2<=I18),"OUI","NON") -> OUI | L18: =IF(OR(B18="CES",B18="CNE",B18="LTN",B18="SLT",B18="ASP"),"X",IF(OR(B18="ACH",B18="ADC",B18="ADJ",B18="MAJ",B18="MJR",B18="MDL",B18="MCH",B18="MDC",B18="SGT",B18="SGC",B18="SCH"),"Y","Z")) -> Y | M18: =IF(K18="OUI",L18,"") -> Y | N18: =IF(C18="R",M18,"") | O18: =IF(H18=CRQ!$A$1,L18,"") | P18: =IF(I18=CRQ!$A$1-1,L18,"")
B19: ADJ | H19: 42894 | I19: 42907 | K19: =IF(AND($K$2>=H19,$K$2<=I19),"OUI","NON") -> OUI | L19: =IF(OR(B19="CES",B19="CNE",B19="LTN",B19="SLT",B19="ASP"),"X",IF(OR(B19="ACH",B19="ADC",B19="ADJ",B19="MAJ",B19="MJR",B19="MDL",B19="MCH",B19="MDC",B19="SGT",B19="SGC",B19="SCH"),"Y","Z")) -> Y | M19: =IF(K19="OUI",L19,"") -> Y | N19: =IF(C19="R",M19,"") | O19: =IF(H19=CRQ!$A$1,L19,"") | P19: =IF(I19=CRQ!$A$1-1,L19,"")
B20: SCH | H20: 42905 | I20: 42953 | K20: =IF(AND($K$2>=H20,$K$2<=I20),"OUI","NON") -> OUI | L20: =IF(OR(B20="CES",B20="CNE",B20="LTN",B20="SLT",B20="ASP"),"X",IF(OR(B20="ACH",B20="ADC",B20="ADJ",B20="MAJ",B20="MJR",B20="MDL",B20="MCH",B20="MDC",B20="SGT",B20="SGC",B20="SCH"),"Y","Z")) -> Y | M20: =IF(K20="OUI",L20,"") -> Y | N20: =IF(C20="R",M20,"") | O20: =IF(H20=CRQ!$A$1,L20,"") -> Y | P20: =IF(I20=CRQ!$A$1-1,L20,"")
B21: SGT | H21: 42894 | I21: 42953 | K21: =IF(AND($K$2>=H21,$K$2<=I21),"OUI","NON") -> OUI | L21: =IF(OR(B21="CES",B21="CNE",B21="LTN",B21="SLT",B21="ASP"),"X",IF(OR(B21="ACH",B21="ADC",B21="ADJ",B21="MAJ",B21="MJR",B21="MDL",B21="MCH",B21="MDC",B21="SGT",B21="SGC",B21="SCH"),"Y","Z")) -> Y | M21: =IF(K21="OUI",L21,"") -> Y | N21: =IF(C21="R",M21,"") | O21: =IF(H21=CRQ!$A$1,L21,"") | P21: =IF(I21=CRQ!$A$1-1,L21,"")
B22: SGT | H22: 42894 | I22: 42953 | K22: =IF(AND($K$2>=H22,$K$2<=I22),"OUI","NON") -> OUI | L22: =IF(OR(B22="CES",B22="CNE",B22="LTN",B22="SLT",B22="ASP"),"X",IF(OR(B22="ACH",B22="ADC",B22="ADJ",B22="MAJ",B22="MJR",B22="MDL",B22="MCH",B22="MDC",B22="SGT",B22="SGC",B22="SCH"),"Y","Z")) -> Y | M22: =IF(K22="OUI",L22,"") -> Y | N22: =IF(C22="R",M22,"") | O22: =IF(H22=CRQ!$A$1,L22,"") | P22: =IF(I22=CRQ!$A$1-1,L22,"")
B23: SGT | H23: 42894 | I23: 42953 | K23: =IF(AND($K$2>=H23,$K$2<=I23),"OUI","NON") -> OUI | L23: =IF(OR(B23="CES",B23="CNE",B23="LTN",B23="SLT",B23="ASP"),"X",IF(OR(B23="ACH",B23="ADC",B23="ADJ",B23="MAJ",B23="MJR",B23="MDL",B23="MCH",B23="MDC",B23="SGT",B23="SGC",B23="SCH"),"Y","Z")) -> Y | M23: =IF(K23="OUI",L23,"") -> Y | N23: =IF(C23="R",M23,"") | O23: =IF(H23=CRQ!$A$1,L23,"") | P23: =IF(I23=CRQ!$A$1-1,L23,"")
B24: CCH | H24: 42894 | I24: 42953 | K24: =IF(AND($K$2>=H24,$K$2<=I24),"OUI","NON") -> OUI | L24: =IF(OR(B24="CES",B24="CNE",B24="LTN",B24="SLT",B24="ASP"),"X",IF(OR(B24="ACH",B24="ADC",B24="ADJ",B24="MAJ",B24="MJR",B24="MDL",B24="MCH",B24="MDC",B24="SGT",B24="SGC",B24="SCH"),"Y","Z")) -> Z | M24: =IF(K24="OUI",L24,"") -> Z | N24: =IF(C24="R",M24,"") | O24: =IF(H24=CRQ!$A$1,L24,"") | P24: =IF(I24=CRQ!$A$1-1,L24,"")
B25: CCH | H25: 42894 | I25: 42953 | K25: =IF(AND($K$2>=H25,$K$2<=I25),"OUI","NON") -> OUI | L25: =IF(OR(B25="CES",B25="CNE",B25="LTN",B25="SLT",B25="ASP"),"X",IF(OR(B25="ACH",B25="ADC",B25="ADJ",B25="MAJ",B25="MJR",B25="MDL",B25="MCH",B25="MDC",B25="SGT",B25="SGC",B25="SCH"),"Y","Z")) -> Z | M25: =IF(K25="OUI",L25,"") -> Z | N25: =IF(C25="R",M25,"") | O25: =IF(H25=CRQ!$A$1,L25,"") | P25: =IF(I25=CRQ!$A$1-1,L25,"")
B26: CPL | K26: =IF(AND($K$2>=H26,$K$2<=I26),"OUI","NON") -> NON | L26: =IF(OR(B26="CES",B26="CNE",B26="LTN",B26="SLT",B26="ASP"),"X",IF(OR(B26="ACH",B26="ADC",B26="ADJ",B26="MAJ",B26="MJR",B26="MDL",B26="MCH",B26="MDC",B26="SGT",B26="SGC",B26="SCH"),"Y","Z")) -> Z | M26: =IF(K26="OUI",L26,"") | N26: =IF(C26="R",M26,"") | O26: =IF(H26=CRQ!$A$1,L26,"") | P26: =IF(I26=CRQ!$A$1-1,L26,"")
