Workbook
Name DATE: CRQ!$A$1
Name EFFT: CRQ!$O$3
Name RDATA: OFFSET(#REF!,,,,(COUNTA(#REF!)))
Name RDET: OFFSET(#REF!,,,,(COUNTA(#REF!)))
Name REMT13: OFFSET(#REF!,,,,(COUNTA(#REF!)))
Name RTOTAL: OFFSET(#REF!,,,,(COUNTA(#REF!)))
Name RUEDEUX: OFFSET(#REF!,,,,(COUNTA(#REF!)))
Name RUEQUATRE: OFFSET(#REF!,,,,(COUNTA(#REF!)))
Name RUETROIS: OFFSET(#REF!,,,,(COUNTA(#REF!)))
Name RUEUN: OFFSET(#REF!,,,,(COUNTA(#REF!)))
Name StatutVHL: [1]Données!$B$3:$B$4

Sheet EMT13
K1: PRESENCE | S1: X | T1: Y | U1: Z | V1: T
B2: GRADE | C2: R | H2: IN | I2: OUT | J2: MOTIF | K2: =CRQ!A1 -> 42905 | L2: G | M2: P | N2: R | O2: IN | P2: OU | R2: P | S2: =COUNTIF($M:$M,S1) -> 6 | T2: =COUNTIF($M:$M,T1) -> 7 | U2: =COUNTIF($M:$M,U1) -> 2 | V2: =SUM(S2:U2) -> 15
B3: LTN | C3: R | H3: 42892 | I3: 42910 | K3: =IF(AND($K$2>=H3,$K$2<=I3),"OUI","NON") -> OUI | L3: =IF(OR(B3="CES",B3="CNE",B3="LTN",B3="SLT",B3="ASP"),"X",IF(OR(B3="ACH",B3="ADC",B3="ADJ",B3="MAJ",B3="MJR",B3="MDL",B3="MCH",B3="MDC",B3="SGT",B3="SGC",B3="SCH"),"Y","Z")) -> X | M3: =IF(K3="OUI",L3,"") -> X | N3: =IF(C3="R",M3,"") -> X | O3: =IF(H3=CRQ!$A$1,L3,"") | P3: =IF(I3=CRQ!$A$1-1,L3,"") | R3: R | S3: =COUNTIF($N:$N,S1) -> 3 | T3: =COUNTIF($N:$N,T1) -> 1 | U3: =COUNTIF($N:$N,U1) -> 0 | V3: =SUM(S3:U3) -> 4
B4: ADJ | H4: 42892 | I4: 42951 | K4: =IF(AND($K$2>=H4,$K$2<=I4),"OUI","NON") -> OUI | L4: =IF(OR(B4="CES",B4="CNE",B4="LTN",B4="SLT",B4="ASP"),"X",IF(OR(B4="ACH",B4="ADC",B4="ADJ",B4="MAJ",B4="MJR",B4="MDL",B4="MCH",B4="MDC",B4="SGT",B4="SGC",B4="SCH"),"Y","Z")) -> Y | M4: =IF(K4="OUI",L4,"") -> Y | N4: =IF(C4="R",M4,"") | O4: =IF(H4=CRQ!$A$1,L4,"") | P4: =IF(I4=CRQ!$A$1-1,L4,"") | R4: IN | S4: =COUNTIF($O:$O,S1) -> 1 | T4: =COUNTIF($O:$O,T1) -> 0 | U4: =COUNTIF($O:$O,U1) -> 0 | V4: =SUM(S4:U4) -> 1
B5: CNE | C5: R | H5: 42892 | I5: 42928 | K5: =IF(AND($K$2>=H5,$K$2<=I5),"OUI","NON") -> OUI | L5: =IF(OR(B5="CES",B5="CNE",B5="LTN",B5="SLT",B5="ASP"),"X",IF(OR(B5="ACH",B5="ADC",B5="ADJ",B5="MAJ",B5="MJR",B5="MDL",B5="MCH",B5="MDC",B5="SGT",B5="SGC",B5="SCH"),"Y","Z")) -> X | M5: =IF(K5="OUI",L5,"") -> X | N5: =IF(C5="R",M5,"") -> X | O5: =IF(H5=CRQ!$A$1,L5,"") | P5: =IF(I5=CRQ!$A$1-1,L5,"") | R5: OUT | S5: =COUNTIF($P:$P,S1) -> 0 | T5: =COUNTIF($P:$P,T1) -> 0 | U5: =COUNTIF($P:$P,U1) -> 0 | V5: =SUM(S5:U5) -> 0
B6: BC1 | H6: 42884 | I6: 42915 | K6: =IF(AND($K$2>=H6,$K$2<=I6),"OUI","NON") -> OUI | L6: =IF(OR(B6="CES",B6="CNE",B6="LTN",B6="SLT",B6="ASP"),"X",IF(OR(B6="ACH",B6="ADC",B6="ADJ",B6="MAJ",B6="MJR",B6="MDL",B6="MCH",B6="MDC",B6="SGT",B6="SGC",B6="SCH"),"Y","Z")) -> Z | M6: =IF(K6="OUI",L6,"") -> Z | N6: =IF(C6="R",M6,"") | O6: =IF(H6=CRQ!$A$1,L6,"") | P6: =IF(I6=CRQ!$A$1-1,L6,"")
B7: LTN | H7: 42917 | I7: 42951 | K7: =IF(AND($K$2>=H7,$K$2<=I7),"OUI","NON") -> NON | L7: =IF(OR(B7="CES",B7="CNE",B7="LTN",B7="SLT",B7="ASP"),"X",IF(OR(B7="ACH",B7="ADC",B7="ADJ",B7="MAJ",B7="MJR",B7="MDL",B7="MCH",B7="MDC",B7="SGT",B7="SGC",B7="SCH"),"Y","Z")) -> X | M7: =IF(K7="OUI",L7,"") | N7: =IF(C7="R",M7,"") | O7: =IF(H7=CRQ!$A$1,L7,"") | P7: =IF(I7=CRQ!$A$1-1,L7,"")
B8: ADC | H8: 42892 | I8: 42921 | K8: =IF(AND($K$2>=H8,$K$2<=I8),"OUI","NON") -> OUI | L8: =IF(OR(B8="CES",B8="CNE",B8="LTN",B8="SLT",B8="ASP"),"X",IF(OR(B8="ACH",B8="ADC",B8="ADJ",B8="MAJ",B8="MJR",B8="MDL",B8="MCH",B8="MDC",B8="SGT",B8="SGC",B8="SCH"),"Y","Z")) -> Y | M8: =IF(K8="OUI",L8,"") -> Y | N8: =IF(C8="R",M8,"") | O8: =IF(H8=CRQ!$A$1,L8,"") | P8: =IF(I8=CRQ!$A$1-1,L8,"")
B9: BGR | H9: 42892 | I9: 42951 | K9: =IF(AND($K$2>=H9,$K$2<=I9),"OUI","NON") -> OUI | L9: =IF(OR(B9="CES",B9="CNE",B9="LTN",B9="SLT",B9="ASP"),"X",IF(OR(B9="ACH",B9="ADC",B9="ADJ",B9="MAJ",B9="MJR",B9="MDL",B9="MCH",B9="MDC",B9="SGT",B9="SGC",B9="SCH"),"Y","Z")) -> Z | M9: =IF(K9="OUI",L9,"") -> Z | N9: =IF(C9="R",M9,"") | O9: =IF(H9=CRQ!$A$1,L9,"") | P9: =IF(I9=CRQ!$A$1-1,L9,"")
B10: MCH | H10: 42914 | I10: 42951 | K10: =IF(AND($K$2>=H10,$K$2<=I10),"OUI","NON") -> NON | L10: =IF(OR(B10="CES",B10="CNE",B10="LTN",B10="SLT",B10="ASP"),"X",IF(OR(B10="ACH",B10="ADC",B10="ADJ",B10="MAJ",B10="MJR",B10="MDL",B10="MCH",B10="MDC",B10="SGT",B10="SGC",B10="SCH"),"Y","Z")) -> Y | M10: =IF(K10="OUI",L10,"") | N10: =IF(C10="R",M10,"") | O10: =IF(H10=CRQ!$A$1,L10,"") | P10: =IF(I10=CRQ!$A$1-1,L10,"")
B11: CNE | H11: 42892 | I11: 42921 | K11: =IF(AND($K$2>=H11,$K$2<=I11),"OUI","NON") -> OUI | L11: =IF(OR(B11="CES",B11="CNE",B11="LTN",B11="SLT",B11="ASP"),"X",IF(OR(B11="ACH",B11="ADC",B11="ADJ",B11="MAJ",B11="MJR",B11="MDL",B11="MCH",B11="MDC",B11="SGT",B11="SGC",B11="SCH"),"Y","Z")) -> X | M11: =IF(K11="OUI",L11,"") -> X | N11: =IF(C11="R",M11,"") | O11: =IF(H11=CRQ!$A$1,L11,"") | P11: =IF(I11=CRQ!$A$1-1,L11,"")
B12: MCH | H12: 42910 | I12: 42951 | K12: =IF(AND($K$2>=H12,$K$2<=I12),"OUI","NON") -> NON | L12: =IF(OR(B12="CES",B12="CNE",B12="LTN",B12="SLT",B12="ASP"),"X",IF(OR(B12="ACH",B12="ADC",B12="ADJ",B12="MAJ",B12="MJR",B12="MDL",B12="MCH",B12="MDC",B12="SGT",B12="SGC",B12="SCH"),"Y","Z")) -> Y | M12: =IF(K12="OUI",L12,"") | N12: =IF(C12="R",M12,"") | O12: =IF(H12=CRQ!$A$1,L12,"") | P12: =IF(I12=CRQ!$A$1-1,L12,"")
B13: ADC | H13: 42919 | I13: 42951 | K13: =IF(AND($K$2>=H13,$K$2<=I13),"OUI","NON") -> NON | L13: =IF(OR(B13="CES",B13="CNE",B13="LTN",B13="SLT",B13="ASP"),"X",IF(OR(B13="ACH",B13="ADC",B13="ADJ",B13="MAJ",B13="MJR",B13="MDL",B13="MCH",B13="MDC",B13="SGT",B13="SGC",B13="SCH"),"Y","Z")) -> Y | M13: =IF(K13="OUI",L13,"") | N13: =IF(C13="R",M13,"") | O13: =IF(H13=CRQ!$A$1,L13,"") | P13: =IF(I13=CRQ!$A$1-1,L13,"")
B14: SLT | C14: R | H14: 42892 | I14: 42909 | K14: =IF(AND($K$2>=H14,$K$2<=I14),"OUI","NON") -> OUI | L14: =IF(OR(B14="CES",B14="CNE",B14="LTN",B14="SLT",B14="ASP"),"X",IF(OR(B14="ACH",B14="ADC",B14="ADJ",B14="MAJ",B14="MJR",B14="MDL",B14="MCH",B14="MDC",B14="SGT",B14="SGC",B14="SCH"),"Y","Z")) -> X | M14: =IF(K14="OUI",L14,"") -> X | N14: =IF(C14="R",M14,"") -> X | O14: =IF(H14=CRQ!$A$1,L14,"") | P14: =IF(I14=CRQ!$A$1-1,L14,"")
B15: CNE | H15: 42919 | I15: 42951 | K15: =IF(AND($K$2>=H15,$K$2<=I15),"OUI","NON") -> NON | L15: =IF(OR(B15="CES",B15="CNE",B15="LTN",B15="SLT",B15="ASP"),"X",IF(OR(B15="ACH",B15="ADC",B15="ADJ",B15="MAJ",B15="MJR",B15="MDL",B15="MCH",B15="MDC",B15="SGT",B15="SGC",B15="SCH"),"Y","Z")) -> X | M15: =IF(K15="OUI",L15,"") | N15: =IF(C15="R",M15,"") | O15: =IF(H15=CRQ!$A$1,L15,"") | P15: =IF(I15=CRQ!$A$1-1,L15,"")
B16: ADJ | H16: 42892 | I16: 42951 | K16: =IF(AND($K$2>=H16,$K$2<=I16),"OUI","NON") -> OUI | L16: =IF(OR(B16="CES",B16="CNE",B16="LTN",B16="SLT",B16="ASP"),"X",IF(OR(B16="ACH",B16="ADC",B16="ADJ",B16="MAJ",B16="MJR",B16="MDL",B16="MCH",B16="MDC",B16="SGT",B16="SGC",B16="SCH"),"Y","Z")) -> Y | M16: =IF(K16="OUI",L16,"") -> Y | N16: =IF(C16="R",M16,"") | O16: =IF(H16=CRQ!$A$1,L16,"") | P16: =IF(I16=CRQ!$A$1-1,L16,"")
B17: ADC | H17: 42892 | I17: 42917 | K17: =IF(AND($K$2>=H17,$K$2<=I17),"OUI","NON") -> OUI | L17: =IF(OR(B17="CES",B17="CNE",B17="LTN",B17="SLT",B17="ASP"),"X",IF(OR(B17="ACH",B17="ADC",B17="ADJ",B17="MAJ",B17="MJR",B17="MDL",B17="MCH",B17="MDC",B17="SGT",B17="SGC",B17="SCH"),"Y","Z")) -> Y | M17: =IF(K17="OUI",L17,"") -> Y | N17: =IF(C17="R",M17,"") | O17: =IF(H17=CRQ!$A$1,L17,"") | P17: =IF(I17=CRQ!$A$1-1,L17,"")
B18: CNE | H18: 42919 | I18: 42951 | K18: =IF(AND($K$2>=H18,$K$2<=I18),"OUI","NON") -> NON | L18: =IF(OR(B18="CES",B18="CNE",B18="LTN",B18="SLT",B18="ASP"),"X",IF(OR(B18="ACH",B18="ADC",B18="ADJ",B18="MAJ",B18="MJR",B18="MDL",B18="MCH",B18="MDC",B18="SGT",B18="SGC",B18="SCH"),"Y","Z")) -> X | M18: =IF(K18="OUI",L18,"") | N18: =IF(C18="R",M18,"") | O18: =IF(H18=CRQ!$A$1,L18,"") | P18: =IF(I18=CRQ!$A$1-1,L18,"")
B19: MAJ | C19: R | H19: 42926 | I19: 42951 | K19: =IF(AND($K$2>=H19,$K$2<=I19),"OUI","NON") -> NON | L19: =IF(OR(B19="CES",B19="CNE",B19="LTN",B19="SLT",B19="ASP"),"X",IF(OR(B19="ACH",B19="ADC",B19="ADJ",B19="MAJ",B19="MJR",B19="MDL",B19="MCH",B19="MDC",B19="SGT",B19="SGC",B19="SCH"),"Y","Z")) -> Y | M19: =IF(K19="OUI",L19,"") | N19: =IF(C19="R",M19,"") | O19: =IF(H19=CRQ!$A$1,L19,"") | P19: =IF(I19=CRQ!$A$1-1,L19,"")
B20: ADJ | H20: 42920 | I20: 42951 | K20: =IF(AND($K$2>=H20,$K$2<=I20),"OUI","NON") -> NON | L20: =IF(OR(B20="CES",B20="CNE",B20="LTN",B20="SLT",B20="ASP"),"X",IF(OR(B20="ACH",B20="ADC",B20="ADJ",B20="MAJ",B20="MJR",B20="MDL",B20="MCH",B20="MDC",B20="SGT",B20="SGC",B20="SCH"),"Y","Z")) -> Y | M20: =IF(K20="OUI",L20,"") | N20: =IF(C20="R",M20,"") | O20: =IF(H20=CRQ!$A$1,L20,"") | P20: =IF(I20=CRQ!$A$1-1,L20,"")
B21: CES | H21: 42892 | I21: 42921 | K21: =IF(AND($K$2>=H21,$K$2<=I21),"OUI","NON") -> OUI | L21: =IF(OR(B21="CES",B21="CNE",B21="LTN",B21="SLT",B21="ASP"),"X",IF(OR(B21="ACH",B21="ADC",B21="ADJ",B21="MAJ",B21="MJR",B21="MDL",B21="MCH",B21="MDC",B21="SGT",B21="SGC",B21="SCH"),"Y","Z")) -> X | M21: =IF(K21="OUI",L21,"") -> X | N21: =IF(C21="R",M21,"") | O21: =IF(H21=CRQ!$A$1,L21,"") | P21: =IF(I21=CRQ!$A$1-1,L21,"")
B22: MDL | C22: R | H22: 42892 | I22: 42912 | K22: =IF(AND($K$2>=H22,$K$2<=I22),"OUI","NON") -> OUI | L22: =IF(OR(B22="CES",B22="CNE",B22="LTN",B22="SLT",B22="ASP"),"X",IF(OR(B22="ACH",B22="ADC",B22="ADJ",B22="MAJ",B22="MJR",B22="MDL",B22="MCH",B22="MDC",B22="SGT",B22="SGC",B22="SCH"),"Y","Z")) -> Y | M22: =IF(K22="OUI",L22,"") -> Y | N22: =IF(C22="R",M22,"") -> Y | O22: =IF(H22=CRQ!$A$1,L22,"") | P22: =IF(I22=CRQ!$A$1-1,L22,"")
B23: LTN | H23: 42905 | I23: 42921 | K23: =IF(AND($K$2>=H23,$K$2<=I23),"OUI","NON") -> OUI | L23: =IF(OR(B23="CES",B23="CNE",B23="LTN",B23="SLT",B23="ASP"),"X",IF(OR(B23="ACH",B23="ADC",B23="ADJ",B23="MAJ",B23="MJR",B23="MDL",B23="MCH",B23="MDC",B23="SGT",B23="SGC",B23="SCH"),"Y","Z")) -> X | M23: =IF(K23="OUI",L23,"") -> X | N23: =IF(C23="R",M23,"") | O23: =IF(H23=CRQ!$A$1,L23,"") -> X | P23: =IF(I23=CRQ!$A$1-1,L23,"")
B24: CNE | H24: 42909 | I24: 42940 | K24: =IF(AND($K$2>=H24,$K$2<=I24),"OUI","NON") -> NON | L24: =IF(OR(B24="CES",B24="CNE",B24="LTN",B24="SLT",B24="ASP"),"X",IF(OR(B24="ACH",B24="ADC",B24="ADJ",B24="MAJ",B24="MJR",B24="MDL",B24="MCH",B24="MDC",B24="SGT",B24="SGC",B24="SCH"),"Y","Z")) -> X | M24: =IF(K24="OUI",L24,"") | N24: =IF(C24="R",M24,"") | O24: =IF(H24=CRQ!$A$1,L24,"") | P24: =IF(I24=CRQ!$A$1-1,L24,"")
B25: SGT | H25: 42884 | I25: 42915 | K25: =IF(AND($K$2>=H25,$K$2<=I25),"OUI","NON") -> OUI | L25: =IF(OR(B25="CES",B25="CNE",B25="LTN",B25="SLT",B25="ASP"),"X",IF(OR(B25="ACH",B25="ADC",B25="ADJ",B25="MAJ",B25="MJR",B25="MDL",B25="MCH",B25="MDC",B25="SGT",B25="SGC",B25="SCH"),"Y","Z")) -> Y | M25: =IF(K25="OUI",L25,"") -> Y | N25: =IF(C25="R",M25,"") | O25: =IF(H25=CRQ!$A$1,L25,"") | P25: =IF(I25=CRQ!$A$1-1,L25,"")
B26: CES | H26: 42919 | I26: 42951 | K26: =IF(AND($K$2>=H26,$K$2<=I26),"OUI","NON") -> NON | L26: =IF(OR(B26="CES",B26="CNE",B26="LTN",B26="SLT",B26="ASP"),"X",IF(OR(B26="ACH",B26="ADC",B26="ADJ",B26="MAJ",B26="MJR",B26="MDL",B26="MCH",B26="MDC",B26="SGT",B26="SGC",B26="SCH"),"Y","Z")) -> X | M26: =IF(K26="OUI",L26,"") | N26: =IF(C26="R",M26,"") | O26: =IF(H26=CRQ!$A$1,L26,"") | P26: =IF(I26=CRQ!$A$1-1,L26,"")
B27: MCH | H27: 42892 | I27: 42951 | K27: =IF(AND($K$2>=H27,$K$2<=I27),"OUI","NON") -> OUI | L27: =IF(OR(B27="CES",B27="CNE",B27="LTN",B27="SLT",B27="ASP"),"X",IF(OR(B27="ACH",B27="ADC",B27="ADJ",B27="MAJ",B27="MJR",B27="MDL",B27="MCH",B27="MDC",B27="SGT",B27="SGC",B27="SCH"),"Y","Z")) -> Y | M27: =IF(K27="OUI",L27,"") -> Y | N27: =IF(C27="R",M27,"") | O27: =IF(H27=CRQ!$A$1,L27,"") | P27: =IF(I27=CRQ!$A$1-1,L27,"")
K28: =IF(AND($K$2>=H28,$K$2<=I28),"OUI","NON") -> NON | L28: =IF(OR(B28="CES",B28="CNE",B28="LTN",B28="SLT",B28="ASP"),"X",IF(OR(B28="ACH",B28="ADC",B28="ADJ",B28="MAJ",B28="MJR",B28="MDL",B28="MCH",B28="MDC",B28="SGT",B28="SGC",B28="SCH"),"Y","Z")) -> Z | M28: =IF(K28="OUI",L28,"") | N28: =IF(C28="R",M28,"") | O28: =IF(H28=CRQ!$A$1,L28,"") | P28: =IF(I28=CRQ!$A$1-1,L28,"")
K29: =IF(AND($K$2>=H29,$K$2<=I29),"OUI","NON") -> NON | L29: =IF(OR(B29="CES",B29="CNE",B29="LTN",B29="SLT",B29="ASP"),"X",IF(OR(B29="ACH",B29="ADC",B29="ADJ",B29="MAJ",B29="MJR",B29="MDL",B29="MCH",B29="MDC",B29="SGT",B29="SGC",B29="SCH"),"Y","Z")) -> Z | M29: =IF(K29="OUI",L29,"") | N29: =IF(C29="R",M29,"") | O29: =IF(H29=CRQ!$A$1,L29,"") | P29: =IF(I29=CRQ!$A$1-1,L29,"")
K30: =IF(AND($K$2>=H30,$K$2<=I30),"OUI","NON") -> NON | L30: =IF(OR(B30="CES",B30="CNE",B30="LTN",B30="SLT",B30="ASP"),"X",IF(OR(B30="ACH",B30="ADC",B30="ADJ",B30="MAJ",B30="MJR",B30="MDL",B30="MCH",B30="MDC",B30="SGT",B30="SGC",B30="SCH"),"Y","Z")) -> Z | M30: =IF(K30="OUI",L30,"") | N30: =IF(C30="R",M30,"") | O30: =IF(H30=CRQ!$A$1,L30,"") | P30: =IF(I30=CRQ!$A$1-1,L30,"")
K31: =IF(AND($K$2>=H31,$K$2<=I31),"OUI","NON") -> NON | L31: =IF(OR(B31="CES",B31="CNE",B31="LTN",B31="SLT",B31="ASP"),"X",IF(OR(B31="ACH",B31="ADC",B31="ADJ",B31="MAJ",B31="MJR",B31="MDL",B31="MCH",B31="MDC",B31="SGT",B31="SGC",B31="SCH"),"Y","Z")) -> Z | M31: =IF(K31="OUI",L31,"") | N31: =IF(C31="R",M31,"") | O31: =IF(H31=CRQ!$A$1,L31,"") | P31: =IF(I31=CRQ!$A$1-1,L31,"")
K32: =IF(AND($K$2>=H32,$K$2<=I32),"OUI","NON") -> NON | L32: =IF(OR(B32="CES",B32="CNE",B32="LTN",B32="SLT",B32="ASP"),"X",IF(OR(B32="ACH",B32="ADC",B32="ADJ",B32="MAJ",B32="MJR",B32="MDL",B32="MCH",B32="MDC",B32="SGT",B32="SGC",B32="SCH"),"Y","Z")) -> Z | M32: =IF(K32="OUI",L32,"") | N32: =IF(C32="R",M32,"") | O32: =IF(H32=CRQ!$A$1,L32,"") | P32: =IF(I32=CRQ!$A$1-1,L32,"")
K33: =IF(AND($K$2>=H33,$K$2<=I33),"OUI","NON") -> NON | L33: =IF(OR(B33="CES",B33="CNE",B33="LTN",B33="SLT",B33="ASP"),"X",IF(OR(B33="ACH",B33="ADC",B33="ADJ",B33="MAJ",B33="MJR",B33="MDL",B33="MCH",B33="MDC",B33="SGT",B33="SGC",B33="SCH"),"Y","Z")) -> Z | M33: =IF(K33="OUI",L33,"") | N33: =IF(C33="R",M33,"") | O33: =IF(H33=CRQ!$A$1,L33,"") | P33: =IF(I33=CRQ!$A$1-1,L33,"")
K34: =IF(AND($K$2>=H34,$K$2<=I34),"OUI","NON") -> NON | L34: =IF(OR(B34="CES",B34="CNE",B34="LTN",B34="SLT",B34="ASP"),"X",IF(OR(B34="ACH",B34="ADC",B34="ADJ",B34="MAJ",B34="MJR",B34="MDL",B34="MCH",B34="MDC",B34="SGT",B34="SGC",B34="SCH"),"Y","Z")) -> Z | M34: =IF(K34="OUI",L34,"") | N34: =IF(C34="R",M34,"") | O34: =IF(H34=CRQ!$A$1,L34,"") | P34: =IF(I34=CRQ!$A$1-1,L34,"")
K35: =IF(AND($K$2>=H35,$K$2<=I35),"OUI","NON") -> NON | L35: =IF(OR(B35="CES",B35="CNE",B35="LTN",B35="SLT",B35="ASP"),"X",IF(OR(B35="ACH",B35="ADC",B35="ADJ",B35="MAJ",B35="MJR",B35="MDL",B35="MCH",B35="MDC",B35="SGT",B35="SGC",B35="SCH"),"Y","Z")) -> Z | M35: =IF(K35="OUI",L35,"") | N35: =IF(C35="R",M35,"") | O35: =IF(H35=CRQ!$A$1,L35,"") | P35: =IF(I35=CRQ!$A$1-1,L35,"")
K36: =IF(AND($K$2>=H36,$K$2<=I36),"OUI","NON") -> NON | L36: =IF(OR(B36="CES",B36="CNE",B36="LTN",B36="SLT",B36="ASP"),"X",IF(OR(B36="ACH",B36="ADC",B36="ADJ",B36="MAJ",B36="MJR",B36="MDL",B36="MCH",B36="MDC",B36="SGT",B36="SGC",B36="SCH"),"Y","Z")) -> Z | M36: =IF(K36="OUI",L36,"") | N36: =IF(C36="R",M36,"") | O36: =IF(H36=CRQ!$A$1,L36,"") | P36: =IF(I36=CRQ!$A$1-1,L36,"")
K37: =IF(AND($K$2>=H37,$K$2<=I37),"OUI","NON") -> NON | L37: =IF(OR(B37="CES",B37="CNE",B37="LTN",B37="SLT",B37="ASP"),"X",IF(OR(B37="ACH",B37="ADC",B37="ADJ",B37="MAJ",B37="MJR",B37="MDL",B37="MCH",B37="MDC",B37="SGT",B37="SGC",B37="SCH"),"Y","Z")) -> Z | M37: =IF(K37="OUI",L37,"") | N37: =IF(C37="R",M37,"") | O37: =IF(H37=CRQ!$A$1,L37,"") | P37: =IF(I37=CRQ!$A$1-1,L37,"")
K38: =IF(AND($K$2>=H38,$K$2<=I38),"OUI","NON") -> NON | L38: =IF(OR(B38="CES",B38="CNE",B38="LTN",B38="SLT",B38="ASP"),"X",IF(OR(B38="ACH",B38="ADC",B38="ADJ",B38="MAJ",B38="MJR",B38="MDL",B38="MCH",B38="MDC",B38="SGT",B38="SGC",B38="SCH"),"Y","Z")) -> Z | M38: =IF(K38="OUI",L38,"") | N38: =IF(C38="R",M38,"") | O38: =IF(H38=CRQ!$A$1,L38,"") | P38: =IF(I38=CRQ!$A$1-1,L38,"")
K39: =IF(AND($K$2>=H39,$K$2<=I39),"OUI","NON") -> NON | L39: =IF(OR(B39="CES",B39="CNE",B39="LTN",B39="SLT",B39="ASP"),"X",IF(OR(B39="ACH",B39="ADC",B39="ADJ",B39="MAJ",B39="MJR",B39="MDL",B39="MCH",B39="MDC",B39="SGT",B39="SGC",B39="SCH"),"Y","Z")) -> Z | M39: =IF(K39="OUI",L39,"") | N39: =IF(C39="R",M39,"") | O39: =IF(H39=CRQ!$A$1,L39,"") | P39: =IF(I39=CRQ!$A$1-1,L39,"")
... K50: =IF(AND($K$2>=H50,$K$2<=I50),"OUI","NON") -> NON | L50: =IF(OR(B50="CES",B50="CNE",B50="LTN",B50="SLT",B50="ASP"),"X",IF(OR(B50="ACH",B50="ADC",B50="ADJ",B50="MAJ",B50="MJR",B50="MDL",B50="MCH",B50="MDC",B50="SGT",B50="SGC",B50="SCH"),"Y","Z")) -> Z | M50: =IF(K50="OUI",L50,"") | N50: =IF(C50="R",M50,"") | O50: =IF(H50=CRQ!$A$1,L50,"") | P50: =IF(I50=CRQ!$A$1-1,L50,"")

Sheet UE131
K1: PRESENCE | S1: X | T1: Y | U1: Z | V1: T
B2: GRADE | C2: R | H2: IN | I2: OUT | J2: MOTIF | K2: =CRQ!A1 -> 42905 | L2: G | M2: P | N2: R | O2: IN | P2: OU | R2: P | S2: =COUNTIF($M:$M,S1) -> 5 | T2: =COUNTIF($M:$M,T1) -> 14 | U2: =COUNTIF($M:$M,U1) -> 73 | V2: =SUM(S2:U2) -> 92
B3: CNE | H3: 42892 | I3: 42953 | K3: =IF(AND($K$2>=H3,$K$2<=I3),"OUI","NON") -> OUI | L3: =IF(OR(B3="CES",B3="CNE",B3="LTN",B3="SLT",B3="ASP"),"X",IF(OR(B3="ACH",B3="ADC",B3="ADJ",B3="MAJ",B3="MJR",B3="MDL",B3="MCH",B3="MDC",B3="SGT",B3="SGC",B3="SCH"),"Y","Z")) -> X | M3: =IF(K3="OUI",L3,"") -> X | N3: =IF(C3="R",M3,"") | O3: =IF(H3=CRQ!$A$1,L3,"") | P3: =IF(I3=CRQ!$A$1-1,L3,"") | R3: R | S3: =COUNTIF($N:$N,S1) -> 0 | T3: =COUNTIF($N:$N,T1) -> 0 | U3: =COUNTIF($N:$N,U1) -> 0 | V3: =SUM(S3:U3) -> 0
B4: CNE | H4: 42893 | I4: 42907 | K4: =IF(AND($K$2>=H4,$K$2<=I4),"OUI","NON") -> OUI | L4: =IF(OR(B4="CES",B4="CNE",B4="LTN",B4="SLT",B4="ASP"),"X",IF(OR(B4="ACH",B4="ADC",B4="ADJ",B4="MAJ",B4="MJR",B4="MDL",B4="MCH",B4="MDC",B4="SGT",B4="SGC",B4="SCH"),"Y","Z")) -> X | M4: =IF(K4="OUI",L4,"") -> X | N4: =IF(C4="R",M4,"") | O4: =IF(H4=CRQ!$A$1,L4,"") | P4: =IF(I4=CRQ!$A$1-1,L4,"") | R4: IN | S4: =COUNTIF($O:$O,S1) -> 0 | T4: =COUNTIF($O:$O,T1) -> 0 | U4: =COUNTIF($O:$O,U1) -> 7 | V4: =SUM(S4:U4) -> 7
B5: CNE | H5: 42913 | I5: 42953 | K5: =IF(AND($K$2>=H5,$K$2<=I5),"OUI","NON") -> NON | L5: =IF(OR(B5="CES",B5="CNE",B5="LTN",B5="SLT",B5="ASP"),"X",IF(OR(B5="ACH",B5="ADC",B5="ADJ",B5="MAJ",B5="MJR",B5="MDL",B5="MCH",B5="MDC",B5="SGT",B5="SGC",B5="SCH"),"Y","Z")) -> X | M5: =IF(K5="OUI",L5,"") | N5: =IF(C5="R",M5,"") | O5: =IF(H5=CRQ!$A$1,L5,"") | P5: =IF(I5=CRQ!$A$1-1,L5,"") | R5: OUT | S5: =COUNTIF($P:$P,S1) -> 0 | T5: =COUNTIF($P:$P,T1) -> 0 | U5: =COUNTIF($P:$P,U1) -> 0 | V5: =SUM(S5:U5) -> 0
B6: LTN | H6: 42892 | I6: 42953 | K6: =IF(AND($K$2>=H6,$K$2<=I6),"OUI","NON") -> OUI | L6: =IF(OR(B6="CES",B6="CNE",B6="LTN",B6="SLT",B6="ASP"),"X",IF(OR(B6="ACH",B6="ADC",B6="ADJ",B6="MAJ",B6="MJR",B6="MDL",B6="MCH",B6="MDC",B6="SGT",B6="SGC",B6="SCH"),"Y","Z")) -> X | M6: =IF(K6="OUI",L6,"") -> X | N6: =IF(C6="R",M6,"") | O6: =IF(H6=CRQ!$A$1,L6,"") | P6: =IF(I6=CRQ!$A$1-1,L6,"")
B7: LTN | H7: 42892 | I7: 42953 | K7: =IF(AND($K$2>=H7,$K$2<=I7),"OUI","NON") -> OUI | L7: =IF(OR(B7="CES",B7="CNE",B7="LTN",B7="SLT",B7="ASP"),"X",IF(OR(B7="ACH",B7="ADC",B7="ADJ",B7="MAJ",B7="MJR",B7="MDL",B7="MCH",B7="MDC",B7="SGT",B7="SGC",B7="SCH"),"Y","Z")) -> X | M7: =IF(K7="OUI",L7,"") -> X | N7: =IF(C7="R",M7,"") | O7: =IF(H7=CRQ!$A$1,L7,"") | P7: =IF(I7=CRQ!$A$1-1,L7,"")
B8: SLT | H8: 42893 | I8: 42895 | K8: =IF(AND($K$2>=H8,$K$2<=I8),"OUI","NON") -> NON | L8: =IF(OR(B8="CES",B8="CNE",B8="LTN",B8="SLT",B8="ASP"),"X",IF(OR(B8="ACH",B8="ADC",B8="ADJ",B8="MAJ",B8="MJR",B8="MDL",B8="MCH",B8="MDC",B8="SGT",B8="SGC",B8="SCH"),"Y","Z")) -> X | M8: =IF(K8="OUI",L8,"") | N8: =IF(C8="R",M8,"") | O8: =IF(H8=CRQ!$A$1,L8,"") | P8: =IF(I8=CRQ!$A$1-1,L8,"")
B9: SLT | H9: 42898 | I9: 42908 | K9: =IF(AND($K$2>=H9,$K$2<=I9),"OUI","NON") -> OUI | L9: =IF(OR(B9="CES",B9="CNE",B9="LTN",B9="SLT",B9="ASP"),"X",IF(OR(B9="ACH",B9="ADC",B9="ADJ",B9="MAJ",B9="MJR",B9="MDL",B9="MCH",B9="MDC",B9="SGT",B9="SGC",B9="SCH"),"Y","Z")) -> X | M9: =IF(K9="OUI",L9,"") -> X | N9: =IF(C9="R",M9,"") | O9: =IF(H9=CRQ!$A$1,L9,"") | P9: =IF(I9=CRQ!$A$1-1,L9,"")
B10: ADC | H10: 42892 | I10: 42953 | K10: =IF(AND($K$2>=H10,$K$2<=I10),"OUI","NON") -> OUI | L10: =IF(OR(B10="CES",B10="CNE",B10="LTN",B10="SLT",B10="ASP"),"X",IF(OR(B10="ACH",B10="ADC",B10="ADJ",B10="MAJ",B10="MJR",B10="MDL",B10="MCH",B10="MDC",B10="SGT",B10="SGC",B10="SCH"),"Y","Z")) -> Y | M10: =IF(K10="OUI",L10,"") -> Y | N10: =IF(C10="R",M10,"") | O10: =IF(H10=CRQ!$A$1,L10,"") | P10: =IF(I10=CRQ!$A$1-1,L10,"")
B11: MCH | H11: 42893 | I11: 42953 | K11: =IF(AND($K$2>=H11,$K$2<=I11),"OUI","NON") -> OUI | L11: =IF(OR(B11="CES",B11="CNE",B11="LTN",B11="SLT",B11="ASP"),"X",IF(OR(B11="ACH",B11="ADC",B11="ADJ",B11="MAJ",B11="MJR",B11="MDL",B11="MCH",B11="MDC",B11="SGT",B11="SGC",B11="SCH"),"Y","Z")) -> Y | M11: =IF(K11="OUI",L11,"") -> Y | N11: =IF(C11="R",M11,"") | O11: =IF(H11=CRQ!$A$1,L11,"") | P11: =IF(I11=CRQ!$A$1-1,L11,"")
B12: ADJ | H12: 42892 | I12: 42953 | K12: =IF(AND($K$2>=H12,$K$2<=I12),"OUI","NON") -> OUI | L12: =IF(OR(B12="CES",B12="CNE",B12="LTN",B12="SLT",B12="ASP"),"X",IF(OR(B12="ACH",B12="ADC",B12="ADJ",B12="MAJ",B12="MJR",B12="MDL",B12="MCH",B12="MDC",B12="SGT",B12="SGC",B12="SCH"),"Y","Z")) -> Y | M12: =IF(K12="OUI",L12,"") -> Y | N12: =IF(C12="R",M12,"") | O12: =IF(H12=CRQ!$A$1,L12,"") | P12: =IF(I12=CRQ!$A$1-1,L12,"")
B13: MCH | H13: 42892 | I13: 42953 | K13: =IF(AND($K$2>=H13,$K$2<=I13),"OUI","NON") -> OUI | L13: =IF(OR(B13="CES",B13="CNE",B13="LTN",B13="SLT",B13="ASP"),"X",IF(OR(B13="ACH",B13="ADC",B13="ADJ",B13="MAJ",B13="MJR",B13="MDL",B13="MCH",B13="MDC",B13="SGT",B13="SGC",B13="SCH"),"Y","Z")) -> Y | M13: =IF(K13="OUI",L13,"") -> Y | N13: =IF(C13="R",M13,"") | O13: =IF(H13=CRQ!$A$1,L13,"") | P13: =IF(I13=CRQ!$A$1-1,L13,"")
B14: MDL | H14: 42892 | I14: 42953 | K14: =IF(AND($K$2>=H14,$K$2<=I14),"OUI","NON") -> OUI | L14: =IF(OR(B14="CES",B14="CNE",B14="LTN",B14="SLT",B14="ASP"),"X",IF(OR(B14="ACH",B14="ADC",B14="ADJ",B14="MAJ",B14="MJR",B14="MDL",B14="MCH",B14="MDC",B14="SGT",B14="SGC",B14="SCH"),"Y","Z")) -> Y | M14: =IF(K14="OUI",L14,"") -> Y | N14: =IF(C14="R",M14,"") | O14: =IF(H14=CRQ!$A$1,L14,"") | P14: =IF(I14=CRQ!$A$1-1,L14,"")
B15: MCH | H15: 42893 | I15: 42953 | K15: =IF(AND($K$2>=H15,$K$2<=I15),"OUI","NON") -> OUI | L15: =IF(OR(B15="CES",B15="CNE",B15="LTN",B15="SLT",B15="ASP"),"X",IF(OR(B15="ACH",B15="ADC",B15="ADJ",B15="MAJ",B15="MJR",B15="MDL",B15="MCH",B15="MDC",B15="SGT",B15="SGC",B15="SCH"),"Y","Z")) -> Y | M15: =IF(K15="OUI",L15,"") -> Y | N15: =IF(C15="R",M15,"") | O15: =IF(H15=CRQ!$A$1,L15,"") | P15: =IF(I15=CRQ!$A$1-1,L15,"")
B16: MDL | H16: 42892 | I16: 42953 | K16: =IF(AND($K$2>=H16,$K$2<=I16),"OUI","NON") -> OUI | L16: =IF(OR(B16="CES",B16="CNE",B16="LTN",B16="SLT",B16="ASP"),"X",IF(OR(B16="ACH",B16="ADC",B16="ADJ",B16="MAJ",B16="MJR",B16="MDL",B16="MCH",B16="MDC",B16="SGT",B16="SGC",B16="SCH"),"Y","Z")) -> Y | M16: =IF(K16="OUI",L16,"") -> Y | N16: =IF(C16="R",M16,"") | O16: =IF(H16=CRQ!$A$1,L16,"") | P16: =IF(I16=CRQ!$A$1-1,L16,"")
B17: MDL | H17: 42892 | I17: 42953 | K17: =IF(AND($K$2>=H17,$K$2<=I17),"OUI","NON") -> OUI | L17: =IF(OR(B17="CES",B17="CNE",B17="LTN",B17="SLT",B17="ASP"),"X",IF(OR(B17="ACH",B17="ADC",B17="ADJ",B17="MAJ",B17="MJR",B17="MDL",B17="MCH",B17="MDC",B17="SGT",B17="SGC",B17="SCH"),"Y","Z")) -> Y | M17: =IF(K17="OUI",L17,"") -> Y | N17: =IF(C17="R",M17,"") | O17: =IF(H17=CRQ!$A$1,L17,"") | P17: =IF(I17=CRQ!$A$1-1,L17,"")
... B25: BCH | H25: 42893 | I25: 42897 | K25: =IF(AND($K$2>=H25,$K$2<=I25),"OUI","NON") -> NON | L25: =IF(OR(B25="CES",B25="CNE",B25="LTN",B25="SLT",B25="ASP"),"X",IF(OR(B25="ACH",B25="ADC",B25="ADJ",B25="MAJ",B25="MJR",B25="MDL",B25="MCH",B25="MDC",B25="SGT",B25="SGC",B25="SCH"),"Y","Z")) -> Z | M25: =IF(K25="OUI",L25,"") | N25: =IF(C25="R",M25,"") | O25: =IF(H25=CRQ!$A$1,L25,"") | P25: =IF(I25=CRQ!$A$1-1,L25,"")
B26: 1CL | H26: 42898 | I26: 42953 | K26: =IF(AND($K$2>=H26,$K$2<=I26),"OUI","NON") -> OUI | L26: =IF(OR(B26="CES",B26="CNE",B26="LTN",B26="SLT",B26="ASP"),"X",IF(OR(B26="ACH",B26="ADC",B26="ADJ",B26="MAJ",B26="MJR",B26="MDL",B26="MCH",B26="MDC",B26="SGT",B26="SGC",B26="SCH"),"Y","Z")) -> Z | M26: =IF(K26="OUI",L26,"") -> Z | N26: =IF(C26="R",M26,"")
B27: BCH | H27: 42893 | I27: 42925 | K27: =IF(AND($K$2>=H27,$K$2<=I27),"OUI","NON") -> OUI | L27: =IF(OR(B27="CES",B27="CNE",B27="LTN",B27="SLT",B27="ASP"),"X",IF(OR(B27="ACH",B27="ADC",B27="ADJ",B27="MAJ",B27="MJR",B27="MDL",B27="MCH",B27="MDC",B27="SGT",B27="SGC",B27="SCH"),"Y","Z")) -> Z | M27: =IF(K27="OUI",L27,"") -> Z | N27: =IF(C27="R",M27,"") | O27: =IF(H27=CRQ!$A$1,L27,"") | P27: =IF(I27=CRQ!$A$1-1,L27,"")
B28: BCH | H28: 42926 | I28: 42953 | K28: =IF(AND($K$2>=H28,$K$2<=I28),"OUI","NON") -> NON | L28: =IF(OR(B28="CES",B28="CNE",B28="LTN",B28="SLT",B28="ASP"),"X",IF(OR(B28="ACH",B28="ADC",B28="ADJ",B28="MAJ",B28="MJR",B28="MDL",B28="MCH",B28="MDC",B28="SGT",B28="SGC",B28="SCH"),"Y","Z")) -> Z | M28: =IF(K28="OUI",L28,"") | N28: =IF(C28="R",M28,"") | O28: =IF(H28=CRQ!$A$1,L28,"") | P28: =IF(I28=CRQ!$A$1-1,L28,"")
B29: BCH | H29: 42893 | I29: 42925 | K29: =IF(AND($K$2>=H29,$K$2<=I29),"OUI","NON") -> OUI | L29: =IF(OR(B29="CES",B29="CNE",B29="LTN",B29="SLT",B29="ASP"),"X",IF(OR(B29="ACH",B29="ADC",B29="ADJ",B29="MAJ",B29="MJR",B29="MDL",B29="MCH",B29="MDC",B29="SGT",B29="SGC",B29="SCH"),"Y","Z")) -> Z | M29: =IF(K29="OUI",L29,"") -> Z | N29: =IF(C29="R",M29,"") | O29: =IF(H29=CRQ!$A$1,L29,"") | P29: =IF(I29=CRQ!$A$1-1,L29,"")
B30: BCH | H30: 42926 | I30: 42953 | K30: =IF(AND($K$2>=H30,$K$2<=I30),"OUI","NON") -> NON | L30: =IF(OR(B30="CES",B30="CNE",B30="LTN",B30="SLT",B30="ASP"),"X",IF(OR(B30="ACH",B30="ADC",B30="ADJ",B30="MAJ",B30="MJR",B30="MDL",B30="MCH",B30="MDC",B30="SGT",B30="SGC",B30="SCH"),"Y","Z")) -> Z | M30: =IF(K30="OUI",L30,"") | N30: =IF(C30="R",M30,"") | O30: =IF(H30=CRQ!$A$1,L30,"") | P30: =IF(I30=CRQ!$A$1-1,L30,"")
B31: BRI | H31: 42892 | I31: 42953 | K31: =IF(AND($K$2>=H31,$K$2<=I31),"OUI","NON") -> OUI | L31: =IF(OR(B31="CES",B31="CNE",B31="LTN",B31="SLT",B31="ASP"),"X",IF(OR(B31="ACH",B31="ADC",B31="ADJ",B31="MAJ",B31="MJR",B31="MDL",B31="MCH",B31="MDC",B31="SGT",B31="SGC",B31="SCH"),"Y","Z")) -> Z | M31: =IF(K31="OUI",L31,"") -> Z | N31: =IF(C31="R",M31,"") | O31: =IF(H31=CRQ!$A$1,L31,"") | P31: =IF(I31=CRQ!$A$1-1,L31,"")
B32: 1CL | H32: 42892 | I32: 42953 | K32: =IF(AND($K$2>=H32,$K$2<=I32),"OUI","NON") -> OUI | L32: =IF(OR(B32="CES",B32="CNE",B32="LTN",B32="SLT",B32="ASP"),"X",IF(OR(B32="ACH",B32="ADC",B32="ADJ",B32="MAJ",B32="MJR",B32="MDL",B32="MCH",B32="MDC",B32="SGT",B32="SGC",B32="SCH"),"Y","Z")) -> Z | M32: =IF(K32="OUI",L32,"") -> Z | N32: =IF(C32="R",M32,"") | O32: =IF(H32=CRQ!$A$1,L32,"") | P32: =IF(I32=CRQ!$A$1-1,L32,"")
B33: BRG | H33: 42893 | I33: 42922 | K33: =IF(AND($K$2>=H33,$K$2<=I33),"OUI","NON") -> OUI | L33: =IF(OR(B33="CES",B33="CNE",B33="LTN",B33="SLT",B33="ASP"),"X",IF(OR(B33="ACH",B33="ADC",B33="ADJ",B33="MAJ",B33="MJR",B33="MDL",B33="MCH",B33="MDC",B33="SGT",B33="SGC",B33="SCH"),"Y","Z")) -> Z | M33: =IF(K33="OUI",L33,"") -> Z | N33: =IF(C33="R",M33,"") | O33: =IF(H33=CRQ!$A$1,L33,"") | P33: =IF(I33=CRQ!$A$1-1,L33,"")
B34: 1CL | H34: 42923 | I34: 42953 | K34: =IF(AND($K$2>=H34,$K$2<=I34),"OUI","NON") -> NON | L34: =IF(OR(B34="CES",B34="CNE",B34="LTN",B34="SLT",B34="ASP"),"X",IF(OR(B34="ACH",B34="ADC",B34="ADJ",B34="MAJ",B34="MJR",B34="MDL",B34="MCH",B34="MDC",B34="SGT",B34="SGC",B34="SCH"),"Y","Z")) -> Z | M34: =IF(K34="OUI",L34,"") | N34: =IF(C34="R",M34,"") | O34: =IF(H34=CRQ!$A$1,L34,"") | P34: =IF(I34=CRQ!$A$1-1,L34,"")
B35: BRG | H35: 42893 | I35: 42953 | K35: =IF(AND($K$2>=H35,$K$2<=I35),"OUI","NON") -> OUI | L35: =IF(OR(B35="CES",B35="CNE",B35="LTN",B35="SLT",B35="ASP"),"X",IF(OR(B35="ACH",B35="ADC",B35="ADJ",B35="MAJ",B35="MJR",B35="MDL",B35="MCH",B35="MDC",B35="SGT",B35="SGC",B35="SCH"),"Y","Z")) -> Z | M35: =IF(K35="OUI",L35,"") -> Z | N35: =IF(C35="R",M35,"") | O35: =IF(H35=CRQ!$A$1,L35,"") | P35: =IF(I35=CRQ!$A$1-1,L35,"")
B36: 1CL | H36: 42893 | I36: 42953 | K36: =IF(AND($K$2>=H36,$K$2<=I36),"OUI","NON") -> OUI | L36: =IF(OR(B36="CES",B36="CNE",B36="LTN",B36="SLT",B36="ASP"),"X",IF(OR(B36="ACH",B36="ADC",B36="ADJ",B36="MAJ",B36="MJR",B36="MDL",B36="MCH",B36="MDC",B36="SGT",B36="SGC",B36="SCH"),"Y","Z")) -> Z | M36: =IF(K36="OUI",L36,"") -> Z | N36: =IF(C36="R",M36,"") | O36: =IF(H36=CRQ!$A$1,L36,"") | P36: =IF(I36=CRQ!$A$1-1,L36,"")
B37: 1CL | H37: 42893 | I37: 42953 | K37: =IF(AND($K$2>=H37,$K$2<=I37),"OUI","NON") -> OUI | L37: =IF(OR(B37="CES",B37="CNE",B37="LTN",B37="SLT",B37="ASP"),"X",IF(OR(B37="ACH",B37="ADC",B37="ADJ",B37="MAJ",B37="MJR",B37="MDL",B37="MCH",B37="MDC",B37="SGT",B37="SGC",B37="SCH"),"Y","Z")) -> Z | M37: =IF(K37="OUI",L37,"") -> Z | N37: =IF(C37="R",M37,"") | O37: =IF(H37=CRQ!$A$1,L37,"") | P37: =IF(I37=CRQ!$A$1-1,L37,"")
B38: LEG | H38: 42893 | I38: 42953 | K38: =IF(AND($K$2>=H38,$K$2<=I38),"OUI","NON") -> OUI | L38: =IF(OR(B38="CES",B38="CNE",B38="LTN",B38="SLT",B38="ASP"),"X",IF(OR(B38="ACH",B38="ADC",B38="ADJ",B38="MAJ",B38="MJR",B38="MDL",B38="MCH",B38="MDC",B38="SGT",B38="SGC",B38="SCH"),"Y","Z")) -> Z | M38: =IF(K38="OUI",L38,"") -> Z | N38: =IF(C38="R",M38,"") | O38: =IF(H38=CRQ!$A$1,L38,"") | P38: =IF(I38=CRQ!$A$1-1,L38,"")
... B73: BRG | H73: 42893 | I73: 42953 | K73: =IF(AND($K$2>=H73,$K$2<=I73),"OUI","NON") -> OUI | L73: =IF(OR(B73="CES",B73="CNE",B73="LTN",B73="SLT",B73="ASP"),"X",IF(OR(B73="ACH",B73="ADC",B73="ADJ",B73="MAJ",B73="MJR",B73="MDL",B73="MCH",B73="MDC",B73="SGT",B73="SGC",B73="SCH"),"Y","Z")) -> Z | M73: =IF(K73="OUI",L73,"") -> Z | N73: =IF(C73="R",M73,"") | O73: =IF(H73=CRQ!$A$1,L73,"") | P73: =IF(I73=CRQ!$A$1-1,L73,"")
B74: 1CL | H74: 42905 | I74: 42953 | J74: FIN DE STAGE PSE1 | K74: =IF(AND($K$2>=H74,$K$2<=I74),"OUI","NON") -> OUI | L74: =IF(OR(B74="CES",B74="CNE",B74="LTN",B74="SLT",B74="ASP"),"X",IF(OR(B74="ACH",B74="ADC",B74="ADJ",B74="MAJ",B74="MJR",B74="MDL",B74="MCH",B74="MDC",B74="SGT",B74="SGC",B74="SCH"),"Y","Z")) -> Z | M74: =IF(K74="OUI",L74,"") -> Z | N74: =IF(C74="R",M74,"") | O74: =IF(H74=CRQ!$A$1,L74,"") -> Z | P74: =IF(I74=CRQ!$A$1-1,L74,"")
B75: LEG | H75: 42893 | I75: 42953 | K75: =IF(AND($K$2>=H75,$K$2<=I75),"OUI","NON") -> OUI | L75: =IF(OR(B75="CES",B75="CNE",B75="LTN",B75="SLT",B75="ASP"),"X",IF(OR(B75="ACH",B75="ADC",B75="ADJ",B75="MAJ",B75="MJR",B75="MDL",B75="MCH",B75="MDC",B75="SGT",B75="SGC",B75="SCH"),"Y","Z")) -> Z | M75: =IF(K75="OUI",L75,"") -> Z | N75: =IF(C75="R",M75,"") | O75: =IF(H75=CRQ!$A$1,L75,"") | P75: =IF(I75=CRQ!$A$1-1,L75,"")
B76: BRG | H76: 42893 | I76: 42925 | K76: =IF(AND($K$2>=H76,$K$2<=I76),"OUI","NON") -> OUI | L76: =IF(OR(B76="CES",B76="CNE",B76="LTN",B76="SLT",B76="ASP"),"X",IF(OR(B76="ACH",B76="ADC",B76="ADJ",B76="MAJ",B76="MJR",B76="MDL",B76="MCH",B76="MDC",B76="SGT",B76="SGC",B76="SCH"),"Y","Z")) -> Z | M76: =IF(K76="OUI",L76,"") -> Z | N76: =IF(C76="R",M76,"") | O76: =IF(H76=CRQ!$A$1,L76,"") | P76: =IF(I76=CRQ!$A$1-1,L76,"")
B77: BRG | H77: 42930 | I77: 42953 | K77: =IF(AND($K$2>=H77,$K$2<=I77),"OUI","NON") -> NON | L77: =IF(OR(B77="CES",B77="CNE",B77="LTN",B77="SLT",B77="ASP"),"X",IF(OR(B77="ACH",B77="ADC",B77="ADJ",B77="MAJ",B77="MJR",B77="MDL",B77="MCH",B77="MDC",B77="SGT",B77="SGC",B77="SCH"),"Y","Z")) -> Z | M77: =IF(K77="OUI",L77,"") | N77: =IF(C77="R",M77,"") | O77: =IF(H77=CRQ!$A$1,L77,"") | P77: =IF(I77=CRQ!$A$1-1,L77,"")
B78: BRG | H78: 42893 | I78: 42953 | K78: =IF(AND($K$2>=H78,$K$2<=I78),"OUI","NON") -> OUI | L78: =IF(OR(B78="CES",B78="CNE",B78="LTN",B78="SLT",B78="ASP"),"X",IF(OR(B78="ACH",B78="ADC",B78="ADJ",B78="MAJ",B78="MJR",B78="MDL",B78="MCH",B78="MDC",B78="SGT",B78="SGC",B78="SCH"),"Y","Z")) -> Z | M78: =IF(K78="OUI",L78,"") -> Z | N78: =IF(C78="R",M78,"") | O78: =IF(H78=CRQ!$A$1,L78,"") | P78: =IF(I78=CRQ!$A$1-1,L78,"")
B79: BRG | H79: 42893 | I79: 42953 | K79: =IF(AND($K$2>=H79,$K$2<=I79),"OUI","NON") -> OUI | L79: =IF(OR(B79="CES",B79="CNE",B79="LTN",B79="SLT",B79="ASP"),"X",IF(OR(B79="ACH",B79="ADC",B79="ADJ",B79="MAJ",B79="MJR",B79="MDL",B79="MCH",B79="MDC",B79="SGT",B79="SGC",B79="SCH"),"Y","Z")) -> Z | M79: =IF(K79="OUI",L79,"") -> Z | N79: =IF(C79="R",M79,"") | O79: =IF(H79=CRQ!$A$1,L79,"") | P79: =IF(I79=CRQ!$A$1-1,L79,"")
B80: 1CL | H80: 42919 | I80: 42953 | K80: =IF(AND($K$2>=H80,$K$2<=I80),"OUI","NON") -> NON | L80: =IF(OR(B80="CES",B80="CNE",B80="LTN",B80="SLT",B80="ASP"),"X",IF(OR(B80="ACH",B80="ADC",B80="ADJ",B80="MAJ",B80="MJR",B80="MDL",B80="MCH",B80="MDC",B80="SGT",B80="SGC",B80="SCH"),"Y","Z")) -> Z | M80: =IF(K80="OUI",L80,"") | N80: =IF(C80="R",M80,"") | O80: =IF(H80=CRQ!$A$1,L80,"") | P80: =IF(I80=CRQ!$A$1-1,L80,"")
B81: 1CL | H81: 42893 | I81: 42953 | K81: =IF(AND($K$2>=H81,$K$2<=I81),"OUI","NON") -> OUI | L81: =IF(OR(B81="CES",B81="CNE",B81="LTN",B81="SLT",B81="ASP"),"X",IF(OR(B81="ACH",B81="ADC",B81="ADJ",B81="MAJ",B81="MJR",B81="MDL",B81="MCH",B81="MDC",B81="SGT",B81="SGC",B81="SCH"),"Y","Z")) -> Z | M81: =IF(K81="OUI",L81,"") -> Z | N81: =IF(C81="R",M81,"") | O81: =IF(H81=CRQ!$A$1,L81,"") | P81: =IF(I81=CRQ!$A$1-1,L81,"")
B82: 1CL | H82: 42893 | I82: 42953 | K82: =IF(AND($K$2>=H82,$K$2<=I82),"OUI","NON") -> OUI | L82: =IF(OR(B82="CES",B82="CNE",B82="LTN",B82="SLT",B82="ASP"),"X",IF(OR(B82="ACH",B82="ADC",B82="ADJ",B82="MAJ",B82="MJR",B82="MDL",B82="MCH",B82="MDC",B82="SGT",B82="SGC",B82="SCH"),"Y","Z")) -> Z | M82: =IF(K82="OUI",L82,"") -> Z | N82: =IF(C82="R",M82,"") | O82: =IF(H82=CRQ!$A$1,L82,"") | P82: =IF(I82=CRQ!$A$1-1,L82,"")
B83: 1CL | H83: 42893 | I83: 42953 | K83: =IF(AND($K$2>=H83,$K$2<=I83),"OUI","NON") -> OUI | L83: =IF(OR(B83="CES",B83="CNE",B83="LTN",B83="SLT",B83="ASP"),"X",IF(OR(B83="ACH",B83="ADC",B83="ADJ",B83="MAJ",B83="MJR",B83="MDL",B83="MCH",B83="MDC",B83="SGT",B83="SGC",B83="SCH"),"Y","Z")) -> Z | M83: =IF(K83="OUI",L83,"") -> Z | N83: =IF(C83="R",M83,"") | O83: =IF(H83=CRQ!$A$1,L83,"") | P83: =IF(I83=CRQ!$A$1-1,L83,"")
B84: 1CL | H84: 42905 | I84: 42953 | J84: FIN DE STAGE PSE1 | K84: =IF(AND($K$2>=H84,$K$2<=I84),"OUI","NON") -> OUI | L84: =IF(OR(B84="CES",B84="CNE",B84="LTN",B84="SLT",B84="ASP"),"X",IF(OR(B84="ACH",B84="ADC",B84="ADJ",B84="MAJ",B84="MJR",B84="MDL",B84="MCH",B84="MDC",B84="SGT",B84="SGC",B84="SCH"),"Y","Z")) -> Z | M84: =IF(K84="OUI",L84,"") -> Z | N84: =IF(C84="R",M84,"") | O84: =IF(H84=CRQ!$A$1,L84,"") -> Z | P84: =IF(I84=CRQ!$A$1-1,L84,"")
B85: BRI | H85: 42893 | I85: 42953 | K85: =IF(AND($K$2>=H85,$K$2<=I85),"OUI","NON") -> OUI | L85: =IF(OR(B85="CES",B85="CNE",B85="LTN",B85="SLT",B85="ASP"),"X",IF(OR(B85="ACH",B85="ADC",B85="ADJ",B85="MAJ",B85="MJR",B85="MDL",B85="MCH",B85="MDC",B85="SGT",B85="SGC",B85="SCH"),"Y","Z")) -> Z | M85: =IF(K85="OUI",L85,"") -> Z | N85: =IF(C85="R",M85,"") | O85: =IF(H85=CRQ!$A$1,L85,"") | P85: =IF(I85=CRQ!$A$1-1,L85,"")
B86: BRI | H86: 42893 | I86: 42953 | K86: =IF(AND($K$2>=H86,$K$2<=I86),"OUI","NON") -> OUI | L86: =IF(OR(B86="CES",B86="CNE",B86="LTN",B86="SLT",B86="ASP"),"X",IF(OR(B86="ACH",B86="ADC",B86="ADJ",B86="MAJ",B86="MJR",B86="MDL",B86="MCH",B86="MDC",B86="SGT",B86="SGC",B86="SCH"),"Y","Z")) -> Z | M86: =IF(K86="OUI",L86,"") -> Z | N86: =IF(C86="R",M86,"") | O86: =IF(H86=CRQ!$A$1,L86,"") | P86: =IF(I86=CRQ!$A$1-1,L86,"")
B87: BRI | H87: 42896 | I87: 42953 | K87: =IF(AND($K$2>=H87,$K$2<=I87),"OUI","NON") -> OUI | L87: =IF(OR(B87="CES",B87="CNE",B87="LTN",B87="SLT",B87="ASP"),"X",IF(OR(B87="ACH",B87="ADC",B87="ADJ",B87="MAJ",B87="MJR",B87="MDL",B87="MCH",B87="MDC",B87="SGT",B87="SGC",B87="SCH"),"Y","Z")) -> Z | M87: =IF(K87="OUI",L87,"") -> Z | N87: =IF(C87="R",M87,"") | O87: =IF(H87=CRQ!$A$1,L87,"") | P87: =IF(I87=CRQ!$A$1-1,L87,"")
B88: 1CL | H88: 42893 | I88: 42953 | K88: =IF(AND($K$2>=H88,$K$2<=I88),"OUI","NON") -> OUI | L88: =IF(OR(B88="CES",B88="CNE",B88="LTN",B88="SLT",B88="ASP"),"X",IF(OR(B88="ACH",B88="ADC",B88="ADJ",B88="MAJ",B88="MJR",B88="MDL",B88="MCH",B88="MDC",B88="SGT",B88="SGC",B88="SCH"),"Y","Z")) -> Z | M88: =IF(K88="OUI",L88,"") -> Z | N88: =IF(C88="R",M88,"") | O88: =IF(H88=CRQ!$A$1,L88,"") | P88: =IF(I88=CRQ!$A$1-1,L88,"")
B89: 1CL | H89: 42893 | I89: 42953 | K89: =IF(AND($K$2>=H89,$K$2<=I89),"OUI","NON") -> OUI | L89: =IF(OR(B89="CES",B89="CNE",B89="LTN",B89="SLT",B89="ASP"),"X",IF(OR(B89="ACH",B89="ADC",B89="ADJ",B89="MAJ",B89="MJR",B89="MDL",B89="MCH",B89="MDC",B89="SGT",B89="SGC",B89="SCH"),"Y","Z")) -> Z | M89: =IF(K89="OUI",L89,"") -> Z | N89: =IF(C89="R",M89,"") | O89: =IF(H89=CRQ!$A$1,L89,"") | P89: =IF(I89=CRQ!$A$1-1,L89,"")
B90: LEG | H90: 42893 | I90: 42953 | K90: =IF(AND($K$2>=H90,$K$2<=I90),"OUI","NON") -> OUI | L90: =IF(OR(B90="CES",B90="CNE",B90="LTN",B90="SLT",B90="ASP"),"X",IF(OR(B90="ACH",B90="ADC",B90="ADJ",B90="MAJ",B90="MJR",B90="MDL",B90="MCH",B90="MDC",B90="SGT",B90="SGC",B90="SCH"),"Y","Z")) -> Z | M90: =IF(K90="OUI",L90,"") -> Z | N90: =IF(C90="R",M90,"") | O90: =IF(H90=CRQ!$A$1,L90,"") | P90: =IF(I90=CRQ!$A$1-1,L90,"")
B91: LEG | H91: 42893 | I91: 42953 | K91: =IF(AND($K$2>=H91,$K$2<=I91),"OUI","NON") -> OUI | L91: =IF(OR(B91="CES",B91="CNE",B91="LTN",B91="SLT",B91="ASP"),"X",IF(OR(B91="ACH",B91="ADC",B91="ADJ",B91="MAJ",B91="MJR",B91="MDL",B91="MCH",B91="MDC",B91="SGT",B91="SGC",B91="SCH"),"Y","Z")) -> Z | M91: =IF(K91="OUI",L91,"") -> Z | N91: =IF(C91="R",M91,"") | O91: =IF(H91=CRQ!$A$1,L91,"") | P91: =IF(I91=CRQ!$A$1-1,L91,"")
B92: BRI | K92: =IF(AND($K$2>=H92,$K$2<=I92),"OUI","NON") -> NON | L92: =IF(OR(B92="CES",B92="CNE",B92="LTN",B92="SLT",B92="ASP"),"X",IF(OR(B92="ACH",B92="ADC",B92="ADJ",B92="MAJ",B92="MJR",B92="MDL",B92="MCH",B92="MDC",B92="SGT",B92="SGC",B92="SCH"),"Y","Z")) -> Z | M92: =IF(K92="OUI",L92,"") | N92: =IF(C92="R",M92,"") | O92: =IF(H92=CRQ!$A$1,L92,"") | P92: =IF(I92=CRQ!$A$1-1,L92,"")
B93: BRG | H93: 42893 | I93: 42895 | K93: =IF(AND($K$2>=H93,$K$2<=I93),"OUI","NON") -> NON | L93: =IF(OR(B93="CES",B93="CNE",B93="LTN",B93="SLT",B93="ASP"),"X",IF(OR(B93="ACH",B93="ADC",B93="ADJ",B93="MAJ",B93="MJR",B93="MDL",B93="MCH",B93="MDC",B93="SGT",B93="SGC",B93="SCH"),"Y","Z")) -> Z | M93: =IF(K93="OUI",L93,"") | N93: =IF(C93="R",M93,"") | O93: =IF(H93=CRQ!$A$1,L93,"") | P93: =IF(I93=CRQ!$A$1-1,L93,"")
B94: BRG | H94: 42910 | I94: 42953 | K94: =IF(AND($K$2>=H94,$K$2<=I94),"OUI","NON") -> NON | L94: =IF(OR(B94="CES",B94="CNE",B94="LTN",B94="SLT",B94="ASP"),"X",IF(OR(B94="ACH",B94="ADC",B94="ADJ",B94="MAJ",B94="MJR",B94="MDL",B94="MCH",B94="MDC",B94="SGT",B94="SGC",B94="SCH"),"Y","Z")) -> Z | M94: =IF(K94="OUI",L94,"") | N94: =IF(C94="R",M94,"") | O94: =IF(H94=CRQ!$A$1,L94,"") | P94: =IF(I94=CRQ!$A$1-1,L94,"")
B95: BRG | H95: 42893 | I95: 42953 | K95: =IF(AND($K$2>=H95,$K$2<=I95),"OUI","NON") -> OUI | L95: =IF(OR(B95="CES",B95="CNE",B95="LTN",B95="SLT",B95="ASP"),"X",IF(OR(B95="ACH",B95="ADC",B95="ADJ",B95="MAJ",B95="MJR",B95="MDL",B95="MCH",B95="MDC",B95="SGT",B95="SGC",B95="SCH"),"Y","Z")) -> Z | M95: =IF(K95="OUI",L95,"") -> Z | N95: =IF(C95="R",M95,"") | O95: =IF(H95=CRQ!$A$1,L95,"") | P95: =IF(I95=CRQ!$A$1-1,L95,"")
B96: LEG | H96: 42893 | I96: 42953 | K96: =IF(AND($K$2>=H96,$K$2<=I96),"OUI","NON") -> OUI | L96: =IF(OR(B96="CES",B96="CNE",B96="LTN",B96="SLT",B96="ASP"),"X",IF(OR(B96="ACH",B96="ADC",B96="ADJ",B96="MAJ",B96="MJR",B96="MDL",B96="MCH",B96="MDC",B96="SGT",B96="SGC",B96="SCH"),"Y","Z")) -> Z | M96: =IF(K96="OUI",L96,"") -> Z | N96: =IF(C96="R",M96,"") | O96: =IF(H96=CRQ!$A$1,L96,"") | P96: =IF(I96=CRQ!$A$1-1,L96,"")
B97: LEG | H97: 42893 | I97: 42953 | K97: =IF(AND($K$2>=H97,$K$2<=I97),"OUI","NON") -> OUI | L97: =IF(OR(B97="CES",B97="CNE",B97="LTN",B97="SLT",B97="ASP"),"X",IF(OR(B97="ACH",B97="ADC",B97="ADJ",B97="MAJ",B97="MJR",B97="MDL",B97="MCH",B97="MDC",B97="SGT",B97="SGC",B97="SCH"),"Y","Z")) -> Z | M97: =IF(K97="OUI",L97,"") -> Z | N97: =IF(C97="R",M97,"") | O97: =IF(H97=CRQ!$A$1,L97,"") | P97: =IF(I97=CRQ!$A$1-1,L97,"")
B98: LEG | H98: 42893 | I98: 42953 | K98: =IF(AND($K$2>=H98,$K$2<=I98),"OUI","NON") -> OUI | L98: =IF(OR(B98="CES",B98="CNE",B98="LTN",B98="SLT",B98="ASP"),"X",IF(OR(B98="ACH",B98="ADC",B98="ADJ",B98="MAJ",B98="MJR",B98="MDL",B98="MCH",B98="MDC",B98="SGT",B98="SGC",B98="SCH"),"Y","Z")) -> Z | M98: =IF(K98="OUI",L98,"") -> Z | N98: =IF(C98="R",M98,"") | O98: =IF(H98=CRQ!$A$1,L98,"") | P98: =IF(I98=CRQ!$A$1-1,L98,"")
B99: LEG | H99: 42893 | I99: 42953 | K99: =IF(AND($K$2>=H99,$K$2<=I99),"OUI","NON") -> OUI | L99: =IF(OR(B99="CES",B99="CNE",B99="LTN",B99="SLT",B99="ASP"),"X",IF(OR(B99="ACH",B99="ADC",B99="ADJ",B99="MAJ",B99="MJR",B99="MDL",B99="MCH",B99="MDC",B99="SGT",B99="SGC",B99="SCH"),"Y","Z")) -> Z | M99: =IF(K99="OUI",L99,"") -> Z | N99: =IF(C99="R",M99,"") | O99: =IF(H99=CRQ!$A$1,L99,"") | P99: =IF(I99=CRQ!$A$1-1,L99,"")
B100: BCH | H100: 42893 | I100: 42953 | K100: =IF(AND($K$2>=H100,$K$2<=I100),"OUI","NON") -> OUI | L100: =IF(OR(B100="CES",B100="CNE",B100="LTN",B100="SLT",B100="ASP"),"X",IF(OR(B100="ACH",B100="ADC",B100="ADJ",B100="MAJ",B100="MJR",B100="MDL",B100="MCH",B100="MDC",B100="SGT",B100="SGC",B100="SCH"),"Y","Z")) -> Z | M100: =IF(K100="OUI",L100,"") -> Z | N100: =IF(C100="R",M100,"") | O100: =IF(H100=CRQ!$A$1,L100,"") | P100: =IF(I100=CRQ!$A$1-1,L100,"")
B101: BRG | H101: 42893 | I101: 42953 | K101: =IF(AND($K$2>=H101,$K$2<=I101),"OUI","NON") -> OUI | L101: =IF(OR(B101="CES",B101="CNE",B101="LTN",B101="SLT",B101="ASP"),"X",IF(OR(B101="ACH",B101="ADC",B101="ADJ",B101="MAJ",B101="MJR",B101="MDL",B101="MCH",B101="MDC",B101="SGT",B101="SGC",B101="SCH"),"Y","Z")) -> Z | M101: =IF(K101="OUI",L101,"") -> Z | N101: =IF(C101="R",M101,"") | O101: =IF(H101=CRQ!$A$1,L101,"") | P101: =IF(I101=CRQ!$A$1-1,L101,"")
B102: BRG | H102: 42893 | I102: 42953 | K102: =IF(AND($K$2>=H102,$K$2<=I102),"OUI","NON") -> OUI | L102: =IF(OR(B102="CES",B102="CNE",B102="LTN",B102="SLT",B102="ASP"),"X",IF(OR(B102="ACH",B102="ADC",B102="ADJ",B102="MAJ",B102="MJR",B102="MDL",B102="MCH",B102="MDC",B102="SGT",B102="SGC",B102="SCH"),"Y","Z")) -> Z | M102: =IF(K102="OUI",L102,"") -> Z | N102: =IF(C102="R",M102,"") | O102: =IF(H102=CRQ!$A$1,L102,"") | P102: =IF(I102=CRQ!$A$1-1,L102,"")
B103: 1CL | H103: 42893 | I103: 42895 | K103: =IF(AND($K$2>=H103,$K$2<=I103),"OUI","NON") -> NON | L103: =IF(OR(B103="CES",B103="CNE",B103="LTN",B103="SLT",B103="ASP"),"X",IF(OR(B103="ACH",B103="ADC",B103="ADJ",B103="MAJ",B103="MJR",B103="MDL",B103="MCH",B103="MDC",B103="SGT",B103="SGC",B103="SCH"),"Y","Z")) -> Z | M103: =IF(K103="OUI",L103,"") | N103: =IF(C103="R",M103,"") | O103: =IF(H103=CRQ!$A$1,L103,"") | P103: =IF(I103=CRQ!$A$1-1,L103,"")
B104: 1CL | H104: 42910 | I104: 42953 | K104: =IF(AND($K$2>=H104,$K$2<=I104),"OUI","NON") -> NON | L104: =IF(OR(B104="CES",B104="CNE",B104="LTN",B104="SLT",B104="ASP"),"X",IF(OR(B104="ACH",B104="ADC",B104="ADJ",B104="MAJ",B104="MJR",B104="MDL",B104="MCH",B104="MDC",B104="SGT",B104="SGC",B104="SCH"),"Y","Z")) -> Z | M104: =IF(K104="OUI",L104,"") | N104: =IF(C104="R",M104,"") | O104: =IF(H104=CRQ!$A$1,L104,"") | P104: =IF(I104=CRQ!$A$1-1,L104,"")
B105: 1CL | H105: 42893 | I105: 42953 | K105: =IF(AND($K$2>=H105,$K$2<=I105),"OUI","NON") -> OUI | L105: =IF(OR(B105="CES",B105="CNE",B105="LTN",B105="SLT",B105="ASP"),"X",IF(OR(B105="ACH",B105="ADC",B105="ADJ",B105="MAJ",B105="MJR",B105="MDL",B105="MCH",B105="MDC",B105="SGT",B105="SGC",B105="SCH"),"Y","Z")) -> Z | M105: =IF(K105="OUI",L105,"") -> Z | N105: =IF(C105="R",M105,"") | O105: =IF(H105=CRQ!$A$1,L105,"") | P105: =IF(I105=CRQ!$A$1-1,L105,"")
B106: 1CL | I106: 42953 | K106: =IF(AND($K$2>=H106,$K$2<=I106),"OUI","NON") -> OUI | L106: =IF(OR(B106="CES",B106="CNE",B106="LTN",B106="SLT",B106="ASP"),"X",IF(OR(B106="ACH",B106="ADC",B106="ADJ",B106="MAJ",B106="MJR",B106="MDL",B106="MCH",B106="MDC",B106="SGT",B106="SGC",B106="SCH"),"Y","Z")) -> Z | M106: =IF(K106="OUI",L106,"") -> Z | N106: =IF(C106="R",M106,"") | O106: =IF(H106=CRQ!$A$1,L106,"") | P106: =IF(I106=CRQ!$A$1-1,L106,"")
B107: LEG | H107: 42893 | I107: 42953 | K107: =IF(AND($K$2>=H107,$K$2<=I107),"OUI","NON") -> OUI | L107: =IF(OR(B107="CES",B107="CNE",B107="LTN",B107="SLT",B107="ASP"),"X",IF(OR(B107="ACH",B107="ADC",B107="ADJ",B107="MAJ",B107="MJR",B107="MDL",B107="MCH",B107="MDC",B107="SGT",B107="SGC",B107="SCH"),"Y","Z")) -> Z | M107: =IF(K107="OUI",L107,"") -> Z | N107: =IF(C107="R",M107,"") | O107: =IF(H107=CRQ!$A$1,L107,"") | P107: =IF(I107=CRQ!$A$1-1,L107,"")
B108: BCH | H108: 42931 | I108: 42953 | K108: =IF(AND($K$2>=H108,$K$2<=I108),"OUI","NON") -> NON | L108: =IF(OR(B108="CES",B108="CNE",B108="LTN",B108="SLT",B108="ASP"),"X",IF(OR(B108="ACH",B108="ADC",B108="ADJ",B108="MAJ",B108="MJR",B108="MDL",B108="MCH",B108="MDC",B108="SGT",B108="SGC",B108="SCH"),"Y","Z")) -> Z | M108: =IF(K108="OUI",L108,"") | N108: =IF(C108="R",M108,"") | O108: =IF(H108=CRQ!$A$1,L108,"") | P108: =IF(I108=CRQ!$A$1-1,L108,"")
B109: BRG | H109: 42905 | I109: 42953 | K109: =IF(AND($K$2>=H109,$K$2<=I109),"OUI","NON") -> OUI | L109: =IF(OR(B109="CES",B109="CNE",B109="LTN",B109="SLT",B109="ASP"),"X",IF(OR(B109="ACH",B109="ADC",B109="ADJ",B109="MAJ",B109="MJR",B109="MDL",B109="MCH",B109="MDC",B109="SGT",B109="SGC",B109="SCH"),"Y","Z")) -> Z | M109: =IF(K109="OUI",L109,"") -> Z | N109: =IF(C109="R",M109,"") | O109: =IF(H109=CRQ!$A$1,L109,"") -> Z | P109: =IF(I109=CRQ!$A$1-1,L109,"")
B110: BRG | H110: 42905 | I110: 42953 | K110: =IF(AND($K$2>=H110,$K$2<=I110),"OUI","NON") -> OUI | L110: =IF(OR(B110="CES",B110="CNE",B110="LTN",B110="SLT",B110="ASP"),"X",IF(OR(B110="ACH",B110="ADC",B110="ADJ",B110="MAJ",B110="MJR",B110="MDL",B110="MCH",B110="MDC",B110="SGT",B110="SGC",B110="SCH"),"Y","Z")) -> Z | M110: =IF(K110="OUI",L110,"") -> Z | N110: =IF(C110="R",M110,"") | O110: =IF(H110=CRQ!$A$1,L110,"") -> Z | P110: =IF(I110=CRQ!$A$1-1,L110,"")
K111: =IF(AND($K$2>=H111,$K$2<=I111),"OUI","NON") -> NON | L111: =IF(OR(B111="CES",B111="CNE",B111="LTN",B111="SLT",B111="ASP"),"X",IF(OR(B111="ACH",B111="ADC",B111="ADJ",B111="MAJ",B111="MJR",B111="MDL",B111="MCH",B111="MDC",B111="SGT",B111="SGC",B111="SCH"),"Y","Z")) -> Z | M111: =IF(K111="OUI",L111,"") | N111: =IF(C111="R",M111,"") | O111: =IF(H111=CRQ!$A$1,L111,"") | P111: =IF(I111=CRQ!$A$1-1,L111,"")
K112: =IF(AND($K$2>=H112,$K$2<=I112),"OUI","NON") -> NON | L112: =IF(OR(B112="CES",B112="CNE",B112="LTN",B112="SLT",B112="ASP"),"X",IF(OR(B112="ACH",B112="ADC",B112="ADJ",B112="MAJ",B112="MJR",B112="MDL",B112="MCH",B112="MDC",B112="SGT",B112="SGC",B112="SCH"),"Y","Z")) -> Z | M112: =IF(K112="OUI",L112,"") | N112: =IF(C112="R",M112,"") | O112: =IF(H112=CRQ!$A$1,L112,"") | P112: =IF(I112=CRQ!$A$1-1,L112,"")
K113: =IF(AND($K$2>=H113,$K$2<=I113),"OUI","NON") -> NON | L113: =IF(OR(B113="CES",B113="CNE",B113="LTN",B113="SLT",B113="ASP"),"X",IF(OR(B113="ACH",B113="ADC",B113="ADJ",B113="MAJ",B113="MJR",B113="MDL",B113="MCH",B113="MDC",B113="SGT",B113="SGC",B113="SCH"),"Y","Z")) -> Z | M113: =IF(K113="OUI",L113,"") | N113: =IF(C113="R",M113,"") | O113: =IF(H113=CRQ!$A$1,L113,"") | P113: =IF(I113=CRQ!$A$1-1,L113,"")
K114: =IF(AND($K$2>=H114,$K$2<=I114),"OUI","NON") -> NON | L114: =IF(OR(B114="CES",B114="CNE",B114="LTN",B114="SLT",B114="ASP"),"X",IF(OR(B114="ACH",B114="ADC",B114="ADJ",B114="MAJ",B114="MJR",B114="MDL",B114="MCH",B114="MDC",B114="SGT",B114="SGC",B114="SCH"),"Y","Z")) -> Z | M114: =IF(K114="OUI",L114,"") | N114: =IF(C114="R",M114,"") | O114: =IF(H114=CRQ!$A$1,L114,"") | P114: =IF(I114=CRQ!$A$1-1,L114,"")
K115: =IF(AND($K$2>=H115,$K$2<=I115),"OUI","NON") -> NON | L115: =IF(OR(B115="CES",B115="CNE",B115="LTN",B115="SLT",B115="ASP"),"X",IF(OR(B115="ACH",B115="ADC",B115="ADJ",B115="MAJ",B115="MJR",B115="MDL",B115="MCH",B115="MDC",B115="SGT",B115="SGC",B115="SCH"),"Y","Z")) -> Z | M115: =IF(K115="OUI",L115,"") | N115: =IF(C115="R",M115,"") | O115: =IF(H115=CRQ!$A$1,L115,"") | P115: =IF(I115=CRQ!$A$1-1,L115,"")
K116: =IF(AND($K$2>=H116,$K$2<=I116),"OUI","NON") -> NON | L116: =IF(OR(B116="CES",B116="CNE",B116="LTN",B116="SLT",B116="ASP"),"X",IF(OR(B116="ACH",B116="ADC",B116="ADJ",B116="MAJ",B116="MJR",B116="MDL",B116="MCH",B116="MDC",B116="SGT",B116="SGC",B116="SCH"),"Y","Z")) -> Z | M116: =IF(K116="OUI",L116,"") | N116: =IF(C116="R",M116,"") | O116: =IF(H116=CRQ!$A$1,L116,"") | P116: =IF(I116=CRQ!$A$1-1,L116,"")
K117: =IF(AND($K$2>=H117,$K$2<=I117),"OUI","NON") -> NON | L117: =IF(OR(B117="CES",B117="CNE",B117="LTN",B117="SLT",B117="ASP"),"X",IF(OR(B117="ACH",B117="ADC",B117="ADJ",B117="MAJ",B117="MJR",B117="MDL",B117="MCH",B117="MDC",B117="SGT",B117="SGC",B117="SCH"),"Y","Z")) -> Z | M117: =IF(K117="OUI",L117,"") | N117: =IF(C117="R",M117,"") | O117: =IF(H117=CRQ!$A$1,L117,"") | P117: =IF(I117=CRQ!$A$1-1,L117,"")
K118: =IF(AND($K$2>=H118,$K$2<=I118),"OUI","NON") -> NON | L118: =IF(OR(B118="CES",B118="CNE",B118="LTN",B118="SLT",B118="ASP"),"X",IF(OR(B118="ACH",B118="ADC",B118="ADJ",B118="MAJ",B118="MJR",B118="MDL",B118="MCH",B118="MDC",B118="SGT",B118="SGC",B118="SCH"),"Y","Z")) -> Z | M118: =IF(K118="OUI",L118,"") | N118: =IF(C118="R",M118,"") | O118: =IF(H118=CRQ!$A$1,L118,"") | P118: =IF(I118=CRQ!$A$1-1,L118,"")
K119: =IF(AND($K$2>=H119,$K$2<=I119),"OUI","NON") -> NON | L119: =IF(OR(B119="CES",B119="CNE",B119="LTN",B119="SLT",B119="ASP"),"X",IF(OR(B119="ACH",B119="ADC",B119="ADJ",B119="MAJ",B119="MJR",B119="MDL",B119="MCH",B119="MDC",B119="SGT",B119="SGC",B119="SCH"),"Y","Z")) -> Z | M119: =IF(K119="OUI",L119,"") | N119: =IF(C119="R",M119,"") | O119: =IF(H119=CRQ!$A$1,L119,"") | P119: =IF(I119=CRQ!$A$1-1,L119,"")
K120: =IF(AND($K$2>=H120,$K$2<=I120),"OUI","NON") -> NON | L120: =IF(OR(B120="CES",B120="CNE",B120="LTN",B120="SLT",B120="ASP"),"X",IF(OR(B120="ACH",B120="ADC",B120="ADJ",B120="MAJ",B120="MJR",B120="MDL",B120="MCH",B120="MDC",B120="SGT",B120="SGC",B120="SCH"),"Y","Z")) -> Z | M120: =IF(K120="OUI",L120,"") | N120: =IF(C120="R",M120,"") | O120: =IF(H120=CRQ!$A$1,L120,"") | P120: =IF(I120=CRQ!$A$1-1,L120,"")
K121: =IF(AND($K$2>=H121,$K$2<=I121),"OUI","NON") -> NON | L121: =IF(OR(B121="CES",B121="CNE",B121="LTN",B121="SLT",B121="ASP"),"X",IF(OR(B121="ACH",B121="ADC",B121="ADJ",B121="MAJ",B121="MJR",B121="MDL",B121="MCH",B121="MDC",B121="SGT",B121="SGC",B121="SCH"),"Y","Z")) -> Z | M121: =IF(K121="OUI",L121,"") | N121: =IF(C121="R",M121,"") | O121: =IF(H121=CRQ!$A$1,L121,"") | P121: =IF(I121=CRQ!$A$1-1,L121,"")
K122: =IF(AND($K$2>=H122,$K$2<=I122),"OUI","NON") -> NON | L122: =IF(OR(B122="CES",B122="CNE",B122="LTN",B122="SLT",B122="ASP"),"X",IF(OR(B122="ACH",B122="ADC",B122="ADJ",B122="MAJ",B122="MJR",B122="MDL",B122="MCH",B122="MDC",B122="SGT",B122="SGC",B122="SCH"),"Y","Z")) -> Z | M122: =IF(K122="OUI",L122,"") | N122: =IF(C122="R",M122,"") | O122: =IF(H122=CRQ!$A$1,L122,"") | P122: =IF(I122=CRQ!$A$1-1,L122,"")
... K150: =IF(AND($K$2>=H150,$K$2<=I150),"OUI","NON") -> NON | L150: =IF(OR(B150="CES",B150="CNE",B150="LTN",B150="SLT",B150="ASP"),"X",IF(OR(B150="ACH",B150="ADC",B150="ADJ",B150="MAJ",B150="MJR",B150="MDL",B150="MCH",B150="MDC",B150="SGT",B150="SGC",B150="SCH"),"Y","Z")) -> Z | M150: =IF(K150="OUI",L150,"") | N150: =IF(C150="R",M150,"") | O150: =IF(H150=CRQ!$A$1,L150,"") | P150: =IF(I150=CRQ!$A$1-1,L150,"")

Sheet UE132
K1: PRESENCE | S1: X | T1: Y | U1: Z | V1: T
B2: GRADE | C2: R | H2: IN | I2: OUT | J2: MOTIF | K2: =CRQ!A1 -> 42905 | L2: G | M2: P | N2: R | O2: IN | P2: OU | R2: P | S2: =COUNTIF($M:$M,S1) -> 5 | T2: =COUNTIF($M:$M,T1) -> 16 | U2: =COUNTIF($M:$M,U1) -> 67 | V2: =SUM(S2:U2) -> 88
B3: SLT | H3: 42892 | I3: 42908 | K3: =IF(AND($K$2>=H3,$K$2<=I3),"OUI","NON") -> OUI | L3: =IF(OR(B3="CES",B3="CNE",B3="LTN",B3="SLT",B3="ASP"),"X",IF(OR(B3="ACH",B3="ADC",B3="ADJ",B3="MAJ",B3="MJR",B3="MDL",B3="MCH",B3="MDC",B3="SGT",B3="SGC",B3="SCH"),"Y","Z")) -> X | M3: =IF(K3="OUI",L3,"") -> X | N3: =IF(C3="R",M3,"") | O3: =IF(H3=CRQ!$A$1,L3,"") | P3: =IF(I3=CRQ!$A$1-1,L3,"") | R3: R | S3: =COUNTIF($N:$N,S1) -> 0 | T3: =COUNTIF($N:$N,T1) -> 0 | U3: =COUNTIF($N:$N,U1) -> 0 | V3: =SUM(S3:U3) -> 0
B4: LTN | H4: 42892 | I4: 42953 | K4: =IF(AND($K$2>=H4,$K$2<=I4),"OUI","NON") -> OUI | L4: =IF(OR(B4="CES",B4="CNE",B4="LTN",B4="SLT",B4="ASP"),"X",IF(OR(B4="ACH",B4="ADC",B4="ADJ",B4="MAJ",B4="MJR",B4="MDL",B4="MCH",B4="MDC",B4="SGT",B4="SGC",B4="SCH"),"Y","Z")) -> X | M4: =IF(K4="OUI",L4,"") -> X | N4: =IF(C4="R",M4,"") | O4: =IF(H4=CRQ!$A$1,L4,"") | P4: =IF(I4=CRQ!$A$1-1,L4,"") | R4: IN | S4: =COUNTIF($O:$O,S1) -> 1 | T4: =COUNTIF($O:$O,T1) -> 0 | U4: =COUNTIF($O:$O,U1) -> 0 | V4: =SUM(S4:U4) -> 1
B5: CNE | H5: 42892 | I5: 42897 | K5: =IF(AND($K$2>=H5,$K$2<=I5),"OUI","NON") -> NON | L5: =IF(OR(B5="CES",B5="CNE",B5="LTN",B5="SLT",B5="ASP"),"X",IF(OR(B5="ACH",B5="ADC",B5="ADJ",B5="MAJ",B5="MJR",B5="MDL",B5="MCH",B5="MDC",B5="SGT",B5="SGC",B5="SCH"),"Y","Z")) -> X | M5: =IF(K5="OUI",L5,"") | N5: =IF(C5="R",M5,"") | O5: =IF(H5=CRQ!$A$1,L5,"") | P5: =IF(I5=CRQ!$A$1-1,L5,"") | R5: OUT | S5: =COUNTIF($P:$P,S1) -> 0 | T5: =COUNTIF($P:$P,T1) -> 0 | U5: =COUNTIF($P:$P,U1) -> 1 | V5: =SUM(S5:U5) -> 1
B6: MCH | H6: 42892 | I6: 42918 | K6: =IF(AND($K$2>=H6,$K$2<=I6),"OUI","NON") -> OUI | L6: =IF(OR(B6="CES",B6="CNE",B6="LTN",B6="SLT",B6="ASP"),"X",IF(OR(B6="ACH",B6="ADC",B6="ADJ",B6="MAJ",B6="MJR",B6="MDL",B6="MCH",B6="MDC",B6="SGT",B6="SGC",B6="SCH"),"Y","Z")) -> Y | M6: =IF(K6="OUI",L6,"") -> Y | N6: =IF(C6="R",M6,"") | O6: =IF(H6=CRQ!$A$1,L6,"") | P6: =IF(I6=CRQ!$A$1-1,L6,"")
B7: MCH | H7: 42892 | I7: 42938 | K7: =IF(AND($K$2>=H7,$K$2<=I7),"OUI","NON") -> OUI | L7: =IF(OR(B7="CES",B7="CNE",B7="LTN",B7="SLT",B7="ASP"),"X",IF(OR(B7="ACH",B7="ADC",B7="ADJ",B7="MAJ",B7="MJR",B7="MDL",B7="MCH",B7="MDC",B7="SGT",B7="SGC",B7="SCH"),"Y","Z")) -> Y | M7: =IF(K7="OUI",L7,"") -> Y | N7: =IF(C7="R",M7,"") | O7: =IF(H7=CRQ!$A$1,L7,"") | P7: =IF(I7=CRQ!$A$1-1,L7,"")
B8: MDL | H8: 42892 | I8: 42953 | K8: =IF(AND($K$2>=H8,$K$2<=I8),"OUI","NON") -> OUI | L8: =IF(OR(B8="CES",B8="CNE",B8="LTN",B8="SLT",B8="ASP"),"X",IF(OR(B8="ACH",B8="ADC",B8="ADJ",B8="MAJ",B8="MJR",B8="MDL",B8="MCH",B8="MDC",B8="SGT",B8="SGC",B8="SCH"),"Y","Z")) -> Y | M8: =IF(K8="OUI",L8,"") -> Y | N8: =IF(C8="R",M8,"") | O8: =IF(H8=CRQ!$A$1,L8,"") | P8: =IF(I8=CRQ!$A$1-1,L8,"")
B9: MDL | H9: 42892 | I9: 42953 | K9: =IF(AND($K$2>=H9,$K$2<=I9),"OUI","NON") -> OUI | L9: =IF(OR(B9="CES",B9="CNE",B9="LTN",B9="SLT",B9="ASP"),"X",IF(OR(B9="ACH",B9="ADC",B9="ADJ",B9="MAJ",B9="MJR",B9="MDL",B9="MCH",B9="MDC",B9="SGT",B9="SGC",B9="SCH"),"Y","Z")) -> Y | M9: =IF(K9="OUI",L9,"") -> Y | N9: =IF(C9="R",M9,"") | O9: =IF(H9=CRQ!$A$1,L9,"") | P9: =IF(I9=CRQ!$A$1-1,L9,"")
B10: MDL | H10: 42892 | I10: 42953 | K10: =IF(AND($K$2>=H10,$K$2<=I10),"OUI","NON") -> OUI | L10: =IF(OR(B10="CES",B10="CNE",B10="LTN",B10="SLT",B10="ASP"),"X",IF(OR(B10="ACH",B10="ADC",B10="ADJ",B10="MAJ",B10="MJR",B10="MDL",B10="MCH",B10="MDC",B10="SGT",B10="SGC",B10="SCH"),"Y","Z")) -> Y | M10: =IF(K10="OUI",L10,"") -> Y | N10: =IF(C10="R",M10,"") | O10: =IF(H10=CRQ!$A$1,L10,"") | P10: =IF(I10=CRQ!$A$1-1,L10,"")
B11: MDL | H11: 42892 | I11: 42953 | K11: =IF(AND($K$2>=H11,$K$2<=I11),"OUI","NON") -> OUI | L11: =IF(OR(B11="CES",B11="CNE",B11="LTN",B11="SLT",B11="ASP"),"X",IF(OR(B11="ACH",B11="ADC",B11="ADJ",B11="MAJ",B11="MJR",B11="MDL",B11="MCH",B11="MDC",B11="SGT",B11="SGC",B11="SCH"),"Y","Z")) -> Y | M11: =IF(K11="OUI",L11,"") -> Y | N11: =IF(C11="R",M11,"") | O11: =IF(H11=CRQ!$A$1,L11,"") | P11: =IF(I11=CRQ!$A$1-1,L11,"")
B12: ADJ | H12: 42892 | I12: 42953 | K12: =IF(AND($K$2>=H12,$K$2<=I12),"OUI","NON") -> OUI | L12: =IF(OR(B12="CES",B12="CNE",B12="LTN",B12="SLT",B12="ASP"),"X",IF(OR(B12="ACH",B12="ADC",B12="ADJ",B12="MAJ",B12="MJR",B12="MDL",B12="MCH",B12="MDC",B12="SGT",B12="SGC",B12="SCH"),"Y","Z")) -> Y | M12: =IF(K12="OUI",L12,"") -> Y | N12: =IF(C12="R",M12,"") | O12: =IF(H12=CRQ!$A$1,L12,"") | P12: =IF(I12=CRQ!$A$1-1,L12,"")
B13: MDL | H13: 42892 | I13: 42953 | K13: =IF(AND($K$2>=H13,$K$2<=I13),"OUI","NON") -> OUI | L13: =IF(OR(B13="CES",B13="CNE",B13="LTN",B13="SLT",B13="ASP"),"X",IF(OR(B13="ACH",B13="ADC",B13="ADJ",B13="MAJ",B13="MJR",B13="MDL",B13="MCH",B13="MDC",B13="SGT",B13="SGC",B13="SCH"),"Y","Z")) -> Y | M13: =IF(K13="OUI",L13,"") -> Y | N13: =IF(C13="R",M13,"") | O13: =IF(H13=CRQ!$A$1,L13,"") | P13: =IF(I13=CRQ!$A$1-1,L13,"")
B14: MDL | H14: 42892 | I14: 42953 | K14: =IF(AND($K$2>=H14,$K$2<=I14),"OUI","NON") -> OUI | L14: =IF(OR(B14="CES",B14="CNE",B14="LTN",B14="SLT",B14="ASP"),"X",IF(OR(B14="ACH",B14="ADC",B14="ADJ",B14="MAJ",B14="MJR",B14="MDL",B14="MCH",B14="MDC",B14="SGT",B14="SGC",B14="SCH"),"Y","Z")) -> Y | M14: =IF(K14="OUI",L14,"") -> Y | N14: =IF(C14="R",M14,"") | O14: =IF(H14=CRQ!$A$1,L14,"") | P14: =IF(I14=CRQ!$A$1-1,L14,"")
B15: LTN | H15: 42893 | I15: 42953 | K15: =IF(AND($K$2>=H15,$K$2<=I15),"OUI","NON") -> OUI | L15: =IF(OR(B15="CES",B15="CNE",B15="LTN",B15="SLT",B15="ASP"),"X",IF(OR(B15="ACH",B15="ADC",B15="ADJ",B15="MAJ",B15="MJR",B15="MDL",B15="MCH",B15="MDC",B15="SGT",B15="SGC",B15="SCH"),"Y","Z")) -> X | M15: =IF(K15="OUI",L15,"") -> X | N15: =IF(C15="R",M15,"") | O15: =IF(H15=CRQ!$A$1,L15,"") | P15: =IF(I15=CRQ!$A$1-1,L15,"")
B16: MCH | H16: 42893 | I16: 42953 | K16: =IF(AND($K$2>=H16,$K$2<=I16),"OUI","NON") -> OUI | L16: =IF(OR(B16="CES",B16="CNE",B16="LTN",B16="SLT",B16="ASP"),"X",IF(OR(B16="ACH",B16="ADC",B16="ADJ",B16="MAJ",B16="MJR",B16="MDL",B16="MCH",B16="MDC",B16="SGT",B16="SGC",B16="SCH"),"Y","Z")) -> Y | M16: =IF(K16="OUI",L16,"") -> Y | N16: =IF(C16="R",M16,"") | O16: =IF(H16=CRQ!$A$1,L16,"") | P16: =IF(I16=CRQ!$A$1-1,L16,"")
B17: MCH | H17: 42893 | I17: 42953 | K17: =IF(AND($K$2>=H17,$K$2<=I17),"OUI","NON") -> OUI | L17: =IF(OR(B17="CES",B17="CNE",B17="LTN",B17="SLT",B17="ASP"),"X",IF(OR(B17="ACH",B17="ADC",B17="ADJ",B17="MAJ",B17="MJR",B17="MDL",B17="MCH",B17="MDC",B17="SGT",B17="SGC",B17="SCH"),"Y","Z")) -> Y | M17: =IF(K17="OUI",L17,"") -> Y | N17: =IF(C17="R",M17,"") | O17: =IF(H17=CRQ!$A$1,L17,"") | P17: =IF(I17=CRQ!$A$1-1,L17,"")
... B83: 1CL | H83: 42893 | I83: 42953 | K83: =IF(AND($K$2>=H83,$K$2<=I83),"OUI","NON") -> OUI | L83: =IF(OR(B83="CES",B83="CNE",B83="LTN",B83="SLT",B83="ASP"),"X",IF(OR(B83="ACH",B83="ADC",B83="ADJ",B83="MAJ",B83="MJR",B83="MDL",B83="MCH",B83="MDC",B83="SGT",B83="SGC",B83="SCH"),"Y","Z")) -> Z | M83: =IF(K83="OUI",L83,"") -> Z | N83: =IF(C83="R",M83,"") | O83: =IF(H83=CRQ!$A$1,L83,"") | P83: =IF(I83=CRQ!$A$1-1,L83,"")
B84: 1CL | H84: 42893 | I84: 42904 | J84: HOSPITALISATION LAVERAN | K84: =IF(AND($K$2>=H84,$K$2<=I84),"OUI","NON") -> NON | L84: =IF(OR(B84="CES",B84="CNE",B84="LTN",B84="SLT",B84="ASP"),"X",IF(OR(B84="ACH",B84="ADC",B84="ADJ",B84="MAJ",B84="MJR",B84="MDL",B84="MCH",B84="MDC",B84="SGT",B84="SGC",B84="SCH"),"Y","Z")) -> Z | M84: =IF(K84="OUI",L84,"") | N84: =IF(C84="R",M84,"") | O84: =IF(H84=CRQ!$A$1,L84,"") | P84: =IF(I84=CRQ!$A$1-1,L84,"") -> Z
B85: 1CL | H85: 42893 | I85: 42909 | K85: =IF(AND($K$2>=H85,$K$2<=I85),"OUI","NON") -> OUI | L85: =IF(OR(B85="CES",B85="CNE",B85="LTN",B85="SLT",B85="ASP"),"X",IF(OR(B85="ACH",B85="ADC",B85="ADJ",B85="MAJ",B85="MJR",B85="MDL",B85="MCH",B85="MDC",B85="SGT",B85="SGC",B85="SCH"),"Y","Z")) -> Z | M85: =IF(K85="OUI",L85,"") -> Z | N85: =IF(C85="R",M85,"") | O85: =IF(H85=CRQ!$A$1,L85,"") | P85: =IF(I85=CRQ!$A$1-1,L85,"")
B86: 2CL | H86: 42893 | I86: 42894 | K86: =IF(AND($K$2>=H86,$K$2<=I86),"OUI","NON") -> NON | L86: =IF(OR(B86="CES",B86="CNE",B86="LTN",B86="SLT",B86="ASP"),"X",IF(OR(B86="ACH",B86="ADC",B86="ADJ",B86="MAJ",B86="MJR",B86="MDL",B86="MCH",B86="MDC",B86="SGT",B86="SGC",B86="SCH"),"Y","Z")) -> Z | M86: =IF(K86="OUI",L86,"") | N86: =IF(C86="R",M86,"") | O86: =IF(H86=CRQ!$A$1,L86,"") | P86: =IF(I86=CRQ!$A$1-1,L86,"")
B87: 1CL | H87: 42893 | I87: 42896 | K87: =IF(AND($K$2>=H87,$K$2<=I87),"OUI","NON") -> NON | L87: =IF(OR(B87="CES",B87="CNE",B87="LTN",B87="SLT",B87="ASP"),"X",IF(OR(B87="ACH",B87="ADC",B87="ADJ",B87="MAJ",B87="MJR",B87="MDL",B87="MCH",B87="MDC",B87="SGT",B87="SGC",B87="SCH"),"Y","Z")) -> Z | M87: =IF(K87="OUI",L87,"") | N87: =IF(C87="R",M87,"") | O87: =IF(H87=CRQ!$A$1,L87,"") | P87: =IF(I87=CRQ!$A$1-1,L87,"")
B88: MDL | H88: 42894 | I88: 42953 | K88: =IF(AND($K$2>=H88,$K$2<=I88),"OUI","NON") -> OUI | L88: =IF(OR(B88="CES",B88="CNE",B88="LTN",B88="SLT",B88="ASP"),"X",IF(OR(B88="ACH",B88="ADC",B88="ADJ",B88="MAJ",B88="MJR",B88="MDL",B88="MCH",B88="MDC",B88="SGT",B88="SGC",B88="SCH"),"Y","Z")) -> Y | M88: =IF(K88="OUI",L88,"") -> Y | N88: =IF(C88="R",M88,"") | O88: =IF(H88=CRQ!$A$1,L88,"") | P88: =IF(I88=CRQ!$A$1-1,L88,"")
B89: MDL | H89: 42894 | I89: 42953 | K89: =IF(AND($K$2>=H89,$K$2<=I89),"OUI","NON") -> OUI | L89: =IF(OR(B89="CES",B89="CNE",B89="LTN",B89="SLT",B89="ASP"),"X",IF(OR(B89="ACH",B89="ADC",B89="ADJ",B89="MAJ",B89="MJR",B89="MDL",B89="MCH",B89="MDC",B89="SGT",B89="SGC",B89="SCH"),"Y","Z")) -> Y | M89: =IF(K89="OUI",L89,"") -> Y | N89: =IF(C89="R",M89,"") | O89: =IF(H89=CRQ!$A$1,L89,"") | P89: =IF(I89=CRQ!$A$1-1,L89,"")
B90: CCH | H90: 42894 | I90: 42953 | K90: =IF(AND($K$2>=H90,$K$2<=I90),"OUI","NON") -> OUI | L90: =IF(OR(B90="CES",B90="CNE",B90="LTN",B90="SLT",B90="ASP"),"X",IF(OR(B90="ACH",B90="ADC",B90="ADJ",B90="MAJ",B90="MJR",B90="MDL",B90="MCH",B90="MDC",B90="SGT",B90="SGC",B90="SCH"),"Y","Z")) -> Z | M90: =IF(K90="OUI",L90,"") -> Z | N90: =IF(C90="R",M90,"") | O90: =IF(H90=CRQ!$A$1,L90,"") | P90: =IF(I90=CRQ!$A$1-1,L90,"")
B91: 1CL | H91: 42896 | I91: 42953 | K91: =IF(AND($K$2>=H91,$K$2<=I91),"OUI","NON") -> OUI | L91: =IF(OR(B91="CES",B91="CNE",B91="LTN",B91="SLT",B91="ASP"),"X",IF(OR(B91="ACH",B91="ADC",B91="ADJ",B91="MAJ",B91="MJR",B91="MDL",B91="MCH",B91="MDC",B91="SGT",B91="SGC",B91="SCH"),"Y","Z")) -> Z | M91: =IF(K91="OUI",L91,"") -> Z | N91: =IF(C91="R",M91,"") | O91: =IF(H91=CRQ!$A$1,L91,"") | P91: =IF(I91=CRQ!$A$1-1,L91,"")
B92: CPL | H92: 42896 | I92: 42953 | K92: =IF(AND($K$2>=H92,$K$2<=I92),"OUI","NON") -> OUI | L92: =IF(OR(B92="CES",B92="CNE",B92="LTN",B92="SLT",B92="ASP"),"X",IF(OR(B92="ACH",B92="ADC",B92="ADJ",B92="MAJ",B92="MJR",B92="MDL",B92="MCH",B92="MDC",B92="SGT",B92="SGC",B92="SCH"),"Y","Z")) -> Z | M92: =IF(K92="OUI",L92,"") -> Z | N92: =IF(C92="R",M92,"") | O92: =IF(H92=CRQ!$A$1,L92,"") | P92: =IF(I92=CRQ!$A$1-1,L92,"")
B93: CNE | H93: 42900 | I93: 42953 | K93: =IF(AND($K$2>=H93,$K$2<=I93),"OUI","NON") -> OUI | L93: =IF(OR(B93="CES",B93="CNE",B93="LTN",B93="SLT",B93="ASP"),"X",IF(OR(B93="ACH",B93="ADC",B93="ADJ",B93="MAJ",B93="MJR",B93="MDL",B93="MCH",B93="MDC",B93="SGT",B93="SGC",B93="SCH"),"Y","Z")) -> X | M93: =IF(K93="OUI",L93,"") -> X | N93: =IF(C93="R",M93,"") | O93: =IF(H93=CRQ!$A$1,L93,"") | P93: =IF(I93=CRQ!$A$1-1,L93,"")
B94: CNE | H94: 42905 | I94: 42953 | K94: =IF(AND($K$2>=H94,$K$2<=I94),"OUI","NON") -> OUI | L94: =IF(OR(B94="CES",B94="CNE",B94="LTN",B94="SLT",B94="ASP"),"X",IF(OR(B94="ACH",B94="ADC",B94="ADJ",B94="MAJ",B94="MJR",B94="MDL",B94="MCH",B94="MDC",B94="SGT",B94="SGC",B94="SCH"),"Y","Z")) -> X | M94: =IF(K94="OUI",L94,"") -> X | N94: =IF(C94="R",M94,"") | O94: =IF(H94=CRQ!$A$1,L94,"") -> X | P94: =IF(I94=CRQ!$A$1-1,L94,"")
B95: MDL | H95: 42910 | I95: 42953 | K95: =IF(AND($K$2>=H95,$K$2<=I95),"OUI","NON") -> NON | L95: =IF(OR(B95="CES",B95="CNE",B95="LTN",B95="SLT",B95="ASP"),"X",IF(OR(B95="ACH",B95="ADC",B95="ADJ",B95="MAJ",B95="MJR",B95="MDL",B95="MCH",B95="MDC",B95="SGT",B95="SGC",B95="SCH"),"Y","Z")) -> Y | M95: =IF(K95="OUI",L95,"") | N95: =IF(C95="R",M95,"") | O95: =IF(H95=CRQ!$A$1,L95,"") | P95: =IF(I95=CRQ!$A$1-1,L95,"")
B96: BCH | H96: 42910 | I96: 42953 | K96: =IF(AND($K$2>=H96,$K$2<=I96),"OUI","NON") -> NON | L96: =IF(OR(B96="CES",B96="CNE",B96="LTN",B96="SLT",B96="ASP"),"X",IF(OR(B96="ACH",B96="ADC",B96="ADJ",B96="MAJ",B96="MJR",B96="MDL",B96="MCH",B96="MDC",B96="SGT",B96="SGC",B96="SCH"),"Y","Z")) -> Z | M96: =IF(K96="OUI",L96,"") | N96: =IF(C96="R",M96,"") | O96: =IF(H96=CRQ!$A$1,L96,"") | P96: =IF(I96=CRQ!$A$1-1,L96,"")
... B99: 1CL | H99: 42915 | I99: 42953 | K99: =IF(AND($K$2>=H99,$K$2<=I99),"OUI","NON") -> NON | L99: =IF(OR(B99="CES",B99="CNE",B99="LTN",B99="SLT",B99="ASP"),"X",IF(OR(B99="ACH",B99="ADC",B99="ADJ",B99="MAJ",B99="MJR",B99="MDL",B99="MCH",B99="MDC",B99="SGT",B99="SGC",B99="SCH"),"Y","Z")) -> Z | M99: =IF(K99="OUI",L99,"") | N99: =IF(C99="R",M99,"") | O99: =IF(H99=CRQ!$A$1,L99,"") | P99: =IF(I99=CRQ!$A$1-1,L99,"")
B100: SLT | C100: R | H100: 42918 | I100: 42933 | K100: =IF(AND($K$2>=H100,$K$2<=I100),"OUI","NON") -> NON | L100: =IF(OR(B100="CES",B100="CNE",B100="LTN",B100="SLT",B100="ASP"),"X",IF(OR(B100="ACH",B100="ADC",B100="ADJ",B100="MAJ",B100="MJR",B100="MDL",B100="MCH",B100="MDC",B100="SGT",B100="SGC",B100="SCH"),"Y","Z")) -> X | M100: =IF(K100="OUI",L100,"") | N100: =IF(C100="R",M100,"") | O100: =IF(H100=CRQ!$A$1,L100,"") | P100: =IF(I100=CRQ!$A$1-1,L100,"")
B101: MDL | C101: R | H101: 42918 | I101: 42933 | K101: =IF(AND($K$2>=H101,$K$2<=I101),"OUI","NON") -> NON | L101: =IF(OR(B101="CES",B101="CNE",B101="LTN",B101="SLT",B101="ASP"),"X",IF(OR(B101="ACH",B101="ADC",B101="ADJ",B101="MAJ",B101="MJR",B101="MDL",B101="MCH",B101="MDC",B101="SGT",B101="SGC",B101="SCH"),"Y","Z")) -> Y | M101: =IF(K101="OUI",L101,"") | N101: =IF(C101="R",M101,"") | O101: =IF(H101=CRQ!$A$1,L101,"") | P101: =IF(I101=CRQ!$A$1-1,L101,"")
B102: MDL | C102: R | H102: 42918 | I102: 42933 | K102: =IF(AND($K$2>=H102,$K$2<=I102),"OUI","NON") -> NON | L102: =IF(OR(B102="CES",B102="CNE",B102="LTN",B102="SLT",B102="ASP"),"X",IF(OR(B102="ACH",B102="ADC",B102="ADJ",B102="MAJ",B102="MJR",B102="MDL",B102="MCH",B102="MDC",B102="SGT",B102="SGC",B102="SCH"),"Y","Z")) -> Y | M102: =IF(K102="OUI",L102,"") | N102: =IF(C102="R",M102,"") | O102: =IF(H102=CRQ!$A$1,L102,"") | P102: =IF(I102=CRQ!$A$1-1,L102,"")
B103: MDL | C103: R | H103: 42918 | I103: 42933 | K103: =IF(AND($K$2>=H103,$K$2<=I103),"OUI","NON") -> NON | L103: =IF(OR(B103="CES",B103="CNE",B103="LTN",B103="SLT",B103="ASP"),"X",IF(OR(B103="ACH",B103="ADC",B103="ADJ",B103="MAJ",B103="MJR",B103="MDL",B103="MCH",B103="MDC",B103="SGT",B103="SGC",B103="SCH"),"Y","Z")) -> Y | M103: =IF(K103="OUI",L103,"") | N103: =IF(C103="R",M103,"") | O103: =IF(H103=CRQ!$A$1,L103,"") | P103: =IF(I103=CRQ!$A$1-1,L103,"")
B104: BRI | C104: R | H104: 42918 | I104: 42933 | K104: =IF(AND($K$2>=H104,$K$2<=I104),"OUI","NON") -> NON | L104: =IF(OR(B104="CES",B104="CNE",B104="LTN",B104="SLT",B104="ASP"),"X",IF(OR(B104="ACH",B104="ADC",B104="ADJ",B104="MAJ",B104="MJR",B104="MDL",B104="MCH",B104="MDC",B104="SGT",B104="SGC",B104="SCH"),"Y","Z")) -> Z | M104: =IF(K104="OUI",L104,"") | N104: =IF(C104="R",M104,"") | O104: =IF(H104=CRQ!$A$1,L104,"") | P104: =IF(I104=CRQ!$A$1-1,L104,"")
B105: BRI | C105: R | H105: 42918 | I105: 42933 | K105: =IF(AND($K$2>=H105,$K$2<=I105),"OUI","NON") -> NON | L105: =IF(OR(B105="CES",B105="CNE",B105="LTN",B105="SLT",B105="ASP"),"X",IF(OR(B105="ACH",B105="ADC",B105="ADJ",B105="MAJ",B105="MJR",B105="MDL",B105="MCH",B105="MDC",B105="SGT",B105="SGC",B105="SCH"),"Y","Z")) -> Z | M105: =IF(K105="OUI",L105,"") | N105: =IF(C105="R",M105,"") | O105: =IF(H105=CRQ!$A$1,L105,"") | P105: =IF(I105=CRQ!$A$1-1,L105,"")
B106: 1CL | C106: R | H106: 42918 | I106: 42933 | K106: =IF(AND($K$2>=H106,$K$2<=I106),"OUI","NON") -> NON | L106: =IF(OR(B106="CES",B106="CNE",B106="LTN",B106="SLT",B106="ASP"),"X",IF(OR(B106="ACH",B106="ADC",B106="ADJ",B106="MAJ",B106="MJR",B106="MDL",B106="MCH",B106="MDC",B106="SGT",B106="SGC",B106="SCH"),"Y","Z")) -> Z | M106: =IF(K106="OUI",L106,"") | N106: =IF(C106="R",M106,"") | O106: =IF(H106=CRQ!$A$1,L106,"") | P106: =IF(I106=CRQ!$A$1-1,L106,"")
B107: SDT | C107: R | H107: 42918 | I107: 42933 | K107: =IF(AND($K$2>=H107,$K$2<=I107),"OUI","NON") -> NON | L107: =IF(OR(B107="CES",B107="CNE",B107="LTN",B107="SLT",B107="ASP"),"X",IF(OR(B107="ACH",B107="ADC",B107="ADJ",B107="MAJ",B107="MJR",B107="MDL",B107="MCH",B107="MDC",B107="SGT",B107="SGC",B107="SCH"),"Y","Z")) -> Z | M107: =IF(K107="OUI",L107,"") | N107: =IF(C107="R",M107,"") | O107: =IF(H107=CRQ!$A$1,L107,"") | P107: =IF(I107=CRQ!$A$1-1,L107,"")
B108: BRI | C108: R | H108: 42918 | I108: 42933 | K108: =IF(AND($K$2>=H108,$K$2<=I108),"OUI","NON") -> NON | L108: =IF(OR(B108="CES",B108="CNE",B108="LTN",B108="SLT",B108="ASP"),"X",IF(OR(B108="ACH",B108="ADC",B108="ADJ",B108="MAJ",B108="MJR",B108="MDL",B108="MCH",B108="MDC",B108="SGT",B108="SGC",B108="SCH"),"Y","Z")) -> Z | M108: =IF(K108="OUI",L108,"") | N108: =IF(C108="R",M108,"") | O108: =IF(H108=CRQ!$A$1,L108,"") | P108: =IF(I108=CRQ!$A$1-1,L108,"")
B109: BCH | C109: R | H109: 42918 | I109: 42933 | K109: =IF(AND($K$2>=H109,$K$2<=I109),"OUI","NON") -> NON | L109: =IF(OR(B109="CES",B109="CNE",B109="LTN",B109="SLT",B109="ASP"),"X",IF(OR(B109="ACH",B109="ADC",B109="ADJ",B109="MAJ",B109="MJR",B109="MDL",B109="MCH",B109="MDC",B109="SGT",B109="SGC",B109="SCH"),"Y","Z")) -> Z | M109: =IF(K109="OUI",L109,"") | N109: =IF(C109="R",M109,"") | O109: =IF(H109=CRQ!$A$1,L109,"") | P109: =IF(I109=CRQ!$A$1-1,L109,"")
B110: BCH | C110: R | H110: 42918 | I110: 42933 | K110: =IF(AND($K$2>=H110,$K$2<=I110),"OUI","NON") -> NON | L110: =IF(OR(B110="CES",B110="CNE",B110="LTN",B110="SLT",B110="ASP"),"X",IF(OR(B110="ACH",B110="ADC",B110="ADJ",B110="MAJ",B110="MJR",B110="MDL",B110="MCH",B110="MDC",B110="SGT",B110="SGC",B110="SCH"),"Y","Z")) -> Z | M110: =IF(K110="OUI",L110,"") | N110: =IF(C110="R",M110,"") | O110: =IF(H110=CRQ!$A$1,L110,"") | P110: =IF(I110=CRQ!$A$1-1,L110,"")
B111: SDT | C111: R | H111: 42918 | I111: 42933 | K111: =IF(AND($K$2>=H111,$K$2<=I111),"OUI","NON") -> NON | L111: =IF(OR(B111="CES",B111="CNE",B111="LTN",B111="SLT",B111="ASP"),"X",IF(OR(B111="ACH",B111="ADC",B111="ADJ",B111="MAJ",B111="MJR",B111="MDL",B111="MCH",B111="MDC",B111="SGT",B111="SGC",B111="SCH"),"Y","Z")) -> Z | M111: =IF(K111="OUI",L111,"") | N111: =IF(C111="R",M111,"") | O111: =IF(H111=CRQ!$A$1,L111,"") | P111: =IF(I111=CRQ!$A$1-1,L111,"")
... B126: BRI | C126: R | H126: 42918 | I126: 42933 | K126: =IF(AND($K$2>=H126,$K$2<=I126),"OUI","NON") -> NON | L126: =IF(OR(B126="CES",B126="CNE",B126="LTN",B126="SLT",B126="ASP"),"X",IF(OR(B126="ACH",B126="ADC",B126="ADJ",B126="MAJ",B126="MJR",B126="MDL",B126="MCH",B126="MDC",B126="SGT",B126="SGC",B126="SCH"),"Y","Z")) -> Z | M126: =IF(K126="OUI",L126,"") | N126: =IF(C126="R",M126,"") | O126: =IF(H126=CRQ!$A$1,L126,"") | P126: =IF(I126=CRQ!$A$1-1,L126,"")
B127: ADJ | H127: 42926 | I127: 42953 | K127: =IF(AND($K$2>=H127,$K$2<=I127),"OUI","NON") -> NON | L127: =IF(OR(B127="CES",B127="CNE",B127="LTN",B127="SLT",B127="ASP"),"X",IF(OR(B127="ACH",B127="ADC",B127="ADJ",B127="MAJ",B127="MJR",B127="MDL",B127="MCH",B127="MDC",B127="SGT",B127="SGC",B127="SCH"),"Y","Z")) -> Y | M127: =IF(K127="OUI",L127,"") | N127: =IF(C127="R",M127,"") | O127: =IF(H127=CRQ!$A$1,L127,"") | P127: =IF(I127=CRQ!$A$1-1,L127,"")
B128: CPL | H128: 42930 | I128: 42953 | K128: =IF(AND($K$2>=H128,$K$2<=I128),"OUI","NON") -> NON | L128: =IF(OR(B128="CES",B128="CNE",B128="LTN",B128="SLT",B128="ASP"),"X",IF(OR(B128="ACH",B128="ADC",B128="ADJ",B128="MAJ",B128="MJR",B128="MDL",B128="MCH",B128="MDC",B128="SGT",B128="SGC",B128="SCH"),"Y","Z")) -> Z | M128: =IF(K128="OUI",L128,"") | N128: =IF(C128="R",M128,"") | O128: =IF(H128=CRQ!$A$1,L128,"") | P128: =IF(I128=CRQ!$A$1-1,L128,"")
B129: CPL | H129: 42931 | I129: 42953 | K129: =IF(AND($K$2>=H129,$K$2<=I129),"OUI","NON") -> NON | L129: =IF(OR(B129="CES",B129="CNE",B129="LTN",B129="SLT",B129="ASP"),"X",IF(OR(B129="ACH",B129="ADC",B129="ADJ",B129="MAJ",B129="MJR",B129="MDL",B129="MCH",B129="MDC",B129="SGT",B129="SGC",B129="SCH"),"Y","Z")) -> Z | M129: =IF(K129="OUI",L129,"") | N129: =IF(C129="R",M129,"") | O129: =IF(H129=CRQ!$A$1,L129,"") | P129: =IF(I129=CRQ!$A$1-1,L129,"")
B130: 1CL | H130: 42931 | I130: 42953 | K130: =IF(AND($K$2>=H130,$K$2<=I130),"OUI","NON") -> NON | L130: =IF(OR(B130="CES",B130="CNE",B130="LTN",B130="SLT",B130="ASP"),"X",IF(OR(B130="ACH",B130="ADC",B130="ADJ",B130="MAJ",B130="MJR",B130="MDL",B130="MCH",B130="MDC",B130="SGT",B130="SGC",B130="SCH"),"Y","Z")) -> Z | M130: =IF(K130="OUI",L130,"") | N130: =IF(C130="R",M130,"") | O130: =IF(H130=CRQ!$A$1,L130,"") | P130: =IF(I130=CRQ!$A$1-1,L130,"")
B131: MDL | H131: 42938 | I131: 42953 | K131: =IF(AND($K$2>=H131,$K$2<=I131),"OUI","NON") -> NON | L131: =IF(OR(B131="CES",B131="CNE",B131="LTN",B131="SLT",B131="ASP"),"X",IF(OR(B131="ACH",B131="ADC",B131="ADJ",B131="MAJ",B131="MJR",B131="MDL",B131="MCH",B131="MDC",B131="SGT",B131="SGC",B131="SCH"),"Y","Z")) -> Y | M131: =IF(K131="OUI",L131,"") | N131: =IF(C131="R",M131,"") | O131: =IF(H131=CRQ!$A$1,L131,"") | P131: =IF(I131=CRQ!$A$1-1,L131,"")
K132: =IF(AND($K$2>=H132,$K$2<=I132),"OUI","NON") -> NON | L132: =IF(OR(B132="CES",B132="CNE",B132="LTN",B132="SLT",B132="ASP"),"X",IF(OR(B132="ACH",B132="ADC",B132="ADJ",B132="MAJ",B132="MJR",B132="MDL",B132="MCH",B132="MDC",B132="SGT",B132="SGC",B132="SCH"),"Y","Z")) -> Z | M132: =IF(K132="OUI",L132,"") | N132: =IF(C132="R",M132,"") | O132: =IF(H132=CRQ!$A$1,L132,"") | P132: =IF(I132=CRQ!$A$1-1,L132,"")
K133: =IF(AND($K$2>=H133,$K$2<=I133),"OUI","NON") -> NON | L133: =IF(OR(B133="CES",B133="CNE",B133="LTN",B133="SLT",B133="ASP"),"X",IF(OR(B133="ACH",B133="ADC",B133="ADJ",B133="MAJ",B133="MJR",B133="MDL",B133="MCH",B133="MDC",B133="SGT",B133="SGC",B133="SCH"),"Y","Z")) -> Z | M133: =IF(K133="OUI",L133,"") | N133: =IF(C133="R",M133,"") | O133: =IF(H133=CRQ!$A$1,L133,"") | P133: =IF(I133=CRQ!$A$1-1,L133,"")
K134: =IF(AND($K$2>=H134,$K$2<=I134),"OUI","NON") -> NON | L134: =IF(OR(B134="CES",B134="CNE",B134="LTN",B134="SLT",B134="ASP"),"X",IF(OR(B134="ACH",B134="ADC",B134="ADJ",B134="MAJ",B134="MJR",B134="MDL",B134="MCH",B134="MDC",B134="SGT",B134="SGC",B134="SCH"),"Y","Z")) -> Z | M134: =IF(K134="OUI",L134,"") | N134: =IF(C134="R",M134,"") | O134: =IF(H134=CRQ!$A$1,L134,"") | P134: =IF(I134=CRQ!$A$1-1,L134,"")
K135: =IF(AND($K$2>=H135,$K$2<=I135),"OUI","NON") -> NON | L135: =IF(OR(B135="CES",B135="CNE",B135="LTN",B135="SLT",B135="ASP"),"X",IF(OR(B135="ACH",B135="ADC",B135="ADJ",B135="MAJ",B135="MJR",B135="MDL",B135="MCH",B135="MDC",B135="SGT",B135="SGC",B135="SCH"),"Y","Z")) -> Z | M135: =IF(K135="OUI",L135,"") | N135: =IF(C135="R",M135,"") | O135: =IF(H135=CRQ!$A$1,L135,"") | P135: =IF(I135=CRQ!$A$1-1,L135,"")
K136: =IF(AND($K$2>=H136,$K$2<=I136),"OUI","NON") -> NON | L136: =IF(OR(B136="CES",B136="CNE",B136="LTN",B136="SLT",B136="ASP"),"X",IF(OR(B136="ACH",B136="ADC",B136="ADJ",B136="MAJ",B136="MJR",B136="MDL",B136="MCH",B136="MDC",B136="SGT",B136="SGC",B136="SCH"),"Y","Z")) -> Z | M136: =IF(K136="OUI",L136,"") | N136: =IF(C136="R",M136,"") | O136: =IF(H136=CRQ!$A$1,L136,"") | P136: =IF(I136=CRQ!$A$1-1,L136,"")
K137: =IF(AND($K$2>=H137,$K$2<=I137),"OUI","NON") -> NON | L137: =IF(OR(B137="CES",B137="CNE",B137="LTN",B137="SLT",B137="ASP"),"X",IF(OR(B137="ACH",B137="ADC",B137="ADJ",B137="MAJ",B137="MJR",B137="MDL",B137="MCH",B137="MDC",B137="SGT",B137="SGC",B137="SCH"),"Y","Z")) -> Z | M137: =IF(K137="OUI",L137,"") | N137: =IF(C137="R",M137,"") | O137: =IF(H137=CRQ!$A$1,L137,"") | P137: =IF(I137=CRQ!$A$1-1,L137,"")
K138: =IF(AND($K$2>=H138,$K$2<=I138),"OUI","NON") -> NON | L138: =IF(OR(B138="CES",B138="CNE",B138="LTN",B138="SLT",B138="ASP"),"X",IF(OR(B138="ACH",B138="ADC",B138="ADJ",B138="MAJ",B138="MJR",B138="MDL",B138="MCH",B138="MDC",B138="SGT",B138="SGC",B138="SCH"),"Y","Z")) -> Z | M138: =IF(K138="OUI",L138,"") | N138: =IF(C138="R",M138,"") | O138: =IF(H138=CRQ!$A$1,L138,"") | P138: =IF(I138=CRQ!$A$1-1,L138,"")
K139: =IF(AND($K$2>=H139,$K$2<=I139),"OUI","NON") -> NON | L139: =IF(OR(B139="CES",B139="CNE",B139="LTN",B139="SLT",B139="ASP"),"X",IF(OR(B139="ACH",B139="ADC",B139="ADJ",B139="MAJ",B139="MJR",B139="MDL",B139="MCH",B139="MDC",B139="SGT",B139="SGC",B139="SCH"),"Y","Z")) -> Z | M139: =IF(K139="OUI",L139,"") | N139: =IF(C139="R",M139,"") | O139: =IF(H139=CRQ!$A$1,L139,"") | P139: =IF(I139=CRQ!$A$1-1,L139,"")
K140: =IF(AND($K$2>=H140,$K$2<=I140),"OUI","NON") -> NON | L140: =IF(OR(B140="CES",B140="CNE",B140="LTN",B140="SLT",B140="ASP"),"X",IF(OR(B140="ACH",B140="ADC",B140="ADJ",B140="MAJ",B140="MJR",B140="MDL",B140="MCH",B140="MDC",B140="SGT",B140="SGC",B140="SCH"),"Y","Z")) -> Z | M140: =IF(K140="OUI",L140,"") | N140: =IF(C140="R",M140,"") | O140: =IF(H140=CRQ!$A$1,L140,"") | P140: =IF(I140=CRQ!$A$1-1,L140,"")
K141: =IF(AND($K$2>=H141,$K$2<=I141),"OUI","NON") -> NON | L141: =IF(OR(B141="CES",B141="CNE",B141="LTN",B141="SLT",B141="ASP"),"X",IF(OR(B141="ACH",B141="ADC",B141="ADJ",B141="MAJ",B141="MJR",B141="MDL",B141="MCH",B141="MDC",B141="SGT",B141="SGC",B141="SCH"),"Y","Z")) -> Z | M141: =IF(K141="OUI",L141,"") | N141: =IF(C141="R",M141,"") | O141: =IF(H141=CRQ!$A$1,L141,"") | P141: =IF(I141=CRQ!$A$1-1,L141,"")
K142: =IF(AND($K$2>=H142,$K$2<=I142),"OUI","NON") -> NON | L142: =IF(OR(B142="CES",B142="CNE",B142="LTN",B142="SLT",B142="ASP"),"X",IF(OR(B142="ACH",B142="ADC",B142="ADJ",B142="MAJ",B142="MJR",B142="MDL",B142="MCH",B142="MDC",B142="SGT",B142="SGC",B142="SCH"),"Y","Z")) -> Z | M142: =IF(K142="OUI",L142,"") | N142: =IF(C142="R",M142,"") | O142: =IF(H142=CRQ!$A$1,L142,"") | P142: =IF(I142=CRQ!$A$1-1,L142,"")
K143: =IF(AND($K$2>=H143,$K$2<=I143),"OUI","NON") -> NON | L143: =IF(OR(B143="CES",B143="CNE",B143="LTN",B143="SLT",B143="ASP"),"X",IF(OR(B143="ACH",B143="ADC",B143="ADJ",B143="MAJ",B143="MJR",B143="MDL",B143="MCH",B143="MDC",B143="SGT",B143="SGC",B143="SCH"),"Y","Z")) -> Z | M143: =IF(K143="OUI",L143,"") | N143: =IF(C143="R",M143,"") | O143: =IF(H143=CRQ!$A$1,L143,"") | P143: =IF(I143=CRQ!$A$1-1,L143,"")
... K150: =IF(AND($K$2>=H150,$K$2<=I150),"OUI","NON") -> NON | L150: =IF(OR(B150="CES",B150="CNE",B150="LTN",B150="SLT",B150="ASP"),"X",IF(OR(B150="ACH",B150="ADC",B150="ADJ",B150="MAJ",B150="MJR",B150="MDL",B150="MCH",B150="MDC",B150="SGT",B150="SGC",B150="SCH"),"Y","Z")) -> Z | M150: =IF(K150="OUI",L150,"") | N150: =IF(C150="R",M150,"") | O150: =IF(H150=CRQ!$A$1,L150,"") | P150: =IF(I150=CRQ!$A$1-1,L150,"")

Sheet UE133
K1: PRESENCE | S1: X | T1: Y | U1: Z | V1: T
B2: GRADE | C2: R | H2: IN | I2: OUT | J2: MOTIF | K2: =CRQ!A1 -> 42905 | L2: G | M2: P | N2: R | O2: IN | P2: OU | R2: P | S2: =COUNTIF($M:$M,S1) -> 4 | T2: =COUNTIF($M:$M,T1) -> 15 | U2: =COUNTIF($M:$M,U1) -> 71 | V2: =SUM(S2:U2) -> 90
B3: CNE | H3: 42894 | I3: 42899 | J3: STAGE 24H | K3: =IF(AND($K$2>=H3,$K$2<=I3),"OUI","NON") -> NON | L3: =IF(OR(B3="CES",B3="CNE",B3="LTN",B3="SLT",B3="ASP"),"X",IF(OR(B3="ACH",B3="ADC",B3="ADJ",B3="MAJ",B3="MJR",B3="MDL",B3="MCH",B3="MDC",B3="SGT",B3="SGC",B3="SCH"),"Y","Z")) -> X | M3: =IF(K3="OUI",L3,"") | N3: =IF(C3="R",M3,"") | O3: =IF(H3=CRQ!$A$1,L3,"") | P3: =IF(I3=CRQ!$A$1-1,L3,"") | R3: R | S3: =COUNTIF($N:$N,S1) -> 0 | T3: =COUNTIF($N:$N,T1) -> 0 | U3: =COUNTIF($N:$N,U1) -> 0 | V3: =SUM(S3:U3) -> 0
B4: CNE | H4: 42901 | I4: 42953 | K4: =IF(AND($K$2>=H4,$K$2<=I4),"OUI","NON") -> OUI | L4: =IF(OR(B4="CES",B4="CNE",B4="LTN",B4="SLT",B4="ASP"),"X",IF(OR(B4="ACH",B4="ADC",B4="ADJ",B4="MAJ",B4="MJR",B4="MDL",B4="MCH",B4="MDC",B4="SGT",B4="SGC",B4="SCH"),"Y","Z")) -> X | M4: =IF(K4="OUI",L4,"") -> X | N4: =IF(C4="R",M4,"") | O4: =IF(H4=CRQ!$A$1,L4,"") | P4: =IF(I4=CRQ!$A$1-1,L4,"") | R4: IN | S4: =COUNTIF($O:$O,S1) -> 0 | T4: =COUNTIF($O:$O,T1) -> 1 | U4: =COUNTIF($O:$O,U1) -> 0 | V4: =SUM(S4:U4) -> 1
B5: CNE | H5: 42898 | I5: 42953 | K5: =IF(AND($K$2>=H5,$K$2<=I5),"OUI","NON") -> OUI | L5: =IF(OR(B5="CES",B5="CNE",B5="LTN",B5="SLT",B5="ASP"),"X",IF(OR(B5="ACH",B5="ADC",B5="ADJ",B5="MAJ",B5="MJR",B5="MDL",B5="MCH",B5="MDC",B5="SGT",B5="SGC",B5="SCH"),"Y","Z")) -> X | M5: =IF(K5="OUI",L5,"") -> X | N5: =IF(C5="R",M5,"") | O5: =IF(H5=CRQ!$A$1,L5,"") | P5: =IF(I5=CRQ!$A$1-1,L5,"") | R5: OUT | S5: =COUNTIF($P:$P,S1) -> 0 | T5: =COUNTIF($P:$P,T1) -> 0 | U5: =COUNTIF($P:$P,U1) -> 1 | V5: =SUM(S5:U5) -> 1
B6: LTN | H6: 42894 | I6: 42953 | K6: =IF(AND($K$2>=H6,$K$2<=I6),"OUI","NON") -> OUI | L6: =IF(OR(B6="CES",B6="CNE",B6="LTN",B6="SLT",B6="ASP"),"X",IF(OR(B6="ACH",B6="ADC",B6="ADJ",B6="MAJ",B6="MJR",B6="MDL",B6="MCH",B6="MDC",B6="SGT",B6="SGC",B6="SCH"),"Y","Z")) -> X | M6: =IF(K6="OUI",L6,"") -> X | N6: =IF(C6="R",M6,"") | O6: =IF(H6=CRQ!$A$1,L6,"") | P6: =IF(I6=CRQ!$A$1-1,L6,"")
B7: LTN | H7: 42894 | I7: 42953 | K7: =IF(AND($K$2>=H7,$K$2<=I7),"OUI","NON") -> OUI | L7: =IF(OR(B7="CES",B7="CNE",B7="LTN",B7="SLT",B7="ASP"),"X",IF(OR(B7="ACH",B7="ADC",B7="ADJ",B7="MAJ",B7="MJR",B7="MDL",B7="MCH",B7="MDC",B7="SGT",B7="SGC",B7="SCH"),"Y","Z")) -> X | M7: =IF(K7="OUI",L7,"") -> X | N7: =IF(C7="R",M7,"") | O7: =IF(H7=CRQ!$A$1,L7,"") | P7: =IF(I7=CRQ!$A$1-1,L7,"")
B8: ADJ | H8: 42894 | I8: 42953 | K8: =IF(AND($K$2>=H8,$K$2<=I8),"OUI","NON") -> OUI | L8: =IF(OR(B8="CES",B8="CNE",B8="LTN",B8="SLT",B8="ASP"),"X",IF(OR(B8="ACH",B8="ADC",B8="ADJ",B8="MAJ",B8="MJR",B8="MDL",B8="MCH",B8="MDC",B8="SGT",B8="SGC",B8="SCH"),"Y","Z")) -> Y | M8: =IF(K8="OUI",L8,"") -> Y | N8: =IF(C8="R",M8,"") | O8: =IF(H8=CRQ!$A$1,L8,"") | P8: =IF(I8=CRQ!$A$1-1,L8,"")
B9: ADJ | H9: 42894 | I9: 42953 | K9: =IF(AND($K$2>=H9,$K$2<=I9),"OUI","NON") -> OUI | L9: =IF(OR(B9="CES",B9="CNE",B9="LTN",B9="SLT",B9="ASP"),"X",IF(OR(B9="ACH",B9="ADC",B9="ADJ",B9="MAJ",B9="MJR",B9="MDL",B9="MCH",B9="MDC",B9="SGT",B9="SGC",B9="SCH"),"Y","Z")) -> Y | M9: =IF(K9="OUI",L9,"") -> Y | N9: =IF(C9="R",M9,"") | O9: =IF(H9=CRQ!$A$1,L9,"") | P9: =IF(I9=CRQ!$A$1-1,L9,"")
B10: SCH | H10: 42894 | I10: 42953 | K10: =IF(AND($K$2>=H10,$K$2<=I10),"OUI","NON") -> OUI | L10: =IF(OR(B10="CES",B10="CNE",B10="LTN",B10="SLT",B10="ASP"),"X",IF(OR(B10="ACH",B10="ADC",B10="ADJ",B10="MAJ",B10="MJR",B10="MDL",B10="MCH",B10="MDC",B10="SGT",B10="SGC",B10="SCH"),"Y","Z")) -> Y | M10: =IF(K10="OUI",L10,"") -> Y | N10: =IF(C10="R",M10,"") | O10: =IF(H10=CRQ!$A$1,L10,"") | P10: =IF(I10=CRQ!$A$1-1,L10,"")
B11: SGT | H11: 42894 | I11: 42953 | K11: =IF(AND($K$2>=H11,$K$2<=I11),"OUI","NON") -> OUI | L11: =IF(OR(B11="CES",B11="CNE",B11="LTN",B11="SLT",B11="ASP"),"X",IF(OR(B11="ACH",B11="ADC",B11="ADJ",B11="MAJ",B11="MJR",B11="MDL",B11="MCH",B11="MDC",B11="SGT",B11="SGC",B11="SCH"),"Y","Z")) -> Y | M11: =IF(K11="OUI",L11,"") -> Y | N11: =IF(C11="R",M11,"") | O11: =IF(H11=CRQ!$A$1,L11,"") | P11: =IF(I11=CRQ!$A$1-1,L11,"")
B12: SGT | H12: 42894 | I12: 42953 | K12: =IF(AND($K$2>=H12,$K$2<=I12),"OUI","NON") -> OUI | L12: =IF(OR(B12="CES",B12="CNE",B12="LTN",B12="SLT",B12="ASP"),"X",IF(OR(B12="ACH",B12="ADC",B12="ADJ",B12="MAJ",B12="MJR",B12="MDL",B12="MCH",B12="MDC",B12="SGT",B12="SGC",B12="SCH"),"Y","Z")) -> Y | M12: =IF(K12="OUI",L12,"") -> Y | N12: =IF(C12="R",M12,"") | O12: =IF(H12=CRQ!$A$1,L12,"") | P12: =IF(I12=CRQ!$A$1-1,L12,"")
B13: SGT | H13: 42894 | I13: 42953 | K13: =IF(AND($K$2>=H13,$K$2<=I13),"OUI","NON") -> OUI | L13: =IF(OR(B13="CES",B13="CNE",B13="LTN",B13="SLT",B13="ASP"),"X",IF(OR(B13="ACH",B13="ADC",B13="ADJ",B13="MAJ",B13="MJR",B13="MDL",B13="MCH",B13="MDC",B13="SGT",B13="SGC",B13="SCH"),"Y","Z")) -> Y | M13: =IF(K13="OUI",L13,"") -> Y | N13: =IF(C13="R",M13,"") | O13: =IF(H13=CRQ!$A$1,L13,"") | P13: =IF(I13=CRQ!$A$1-1,L13,"")
B14: SCH | H14: 42894 | I14: 42899 | J14: FDM | K14: =IF(AND($K$2>=H14,$K$2<=I14),"OUI","NON") -> NON | L14: =IF(OR(B14="CES",B14="CNE",B14="LTN",B14="SLT",B14="ASP"),"X",IF(OR(B14="ACH",B14="ADC",B14="ADJ",B14="MAJ",B14="MJR",B14="MDL",B14="MCH",B14="MDC",B14="SGT",B14="SGC",B14="SCH"),"Y","Z")) -> Y | M14: =IF(K14="OUI",L14,"") | N14: =IF(C14="R",M14,"") | O14: =IF(H14=CRQ!$A$1,L14,"") | P14: =IF(I14=CRQ!$A$1-1,L14,"")
B15: SCH | H15: 42898 | I15: 42953 | K15: =IF(AND($K$2>=H15,$K$2<=I15),"OUI","NON") -> OUI | L15: =IF(OR(B15="CES",B15="CNE",B15="LTN",B15="SLT",B15="ASP"),"X",IF(OR(B15="ACH",B15="ADC",B15="ADJ",B15="MAJ",B15="MJR",B15="MDL",B15="MCH",B15="MDC",B15="SGT",B15="SGC",B15="SCH"),"Y","Z")) -> Y | M15: =IF(K15="OUI",L15,"") -> Y | N15: =IF(C15="R",M15,"") | O15: =IF(H15=CRQ!$A$1,L15,"") | P15: =IF(I15=CRQ!$A$1-1,L15,"")
B16: SGT | H16: 42894 | I16: 42953 | K16: =IF(AND($K$2>=H16,$K$2<=I16),"OUI","NON") -> OUI | L16: =IF(OR(B16="CES",B16="CNE",B16="LTN",B16="SLT",B16="ASP"),"X",IF(OR(B16="ACH",B16="ADC",B16="ADJ",B16="MAJ",B16="MJR",B16="MDL",B16="MCH",B16="MDC",B16="SGT",B16="SGC",B16="SCH"),"Y","Z")) -> Y | M16: =IF(K16="OUI",L16,"") -> Y | N16: =IF(C16="R",M16,"") | O16: =IF(H16=CRQ!$A$1,L16,"") | P16: =IF(I16=CRQ!$A$1-1,L16,"")
B17: SGT | H17: 42894 | I17: 42953 | K17: =IF(AND($K$2>=H17,$K$2<=I17),"OUI","NON") -> OUI | L17: =IF(OR(B17="CES",B17="CNE",B17="LTN",B17="SLT",B17="ASP"),"X",IF(OR(B17="ACH",B17="ADC",B17="ADJ",B17="MAJ",B17="MJR",B17="MDL",B17="MCH",B17="MDC",B17="SGT",B17="SGC",B17="SCH"),"Y","Z")) -> Y | M17: =IF(K17="OUI",L17,"") -> Y | N17: =IF(C17="R",M17,"") | O17: =IF(H17=CRQ!$A$1,L17,"") | P17: =IF(I17=CRQ!$A$1-1,L17,"")
B18: SGT | H18: 42894 | I18: 42953 | K18: =IF(AND($K$2>=H18,$K$2<=I18),"OUI","NON") -> OUI | L18: =IF(OR(B18="CES",B18="CNE",B18="LTN",B18="SLT",B18="ASP"),"X",IF(OR(B18="ACH",B18="ADC",B18="ADJ",B18="MAJ",B18="MJR",B18="MDL",B18="MCH",B18="MDC",B18="SGT",B18="SGC",B18="SCH"),"Y","Z")) -> Y | M18: =IF(K18="OUI",L18,"") -> Y | N18: =IF(C18="R",M18,"") | O18: =IF(H18=CRQ!$A$1,L18,"") | P18: =IF(I18=CRQ!$A$1-1,L18,"")
B19: ADJ | H19: 42894 | I19: 42907 | K19: =IF(AND($K$2>=H19,$K$2<=I19),"OUI","NON") -> OUI | L19: =IF(OR(B19="CES",B19="CNE",B19="LTN",B19="SLT",B19="ASP"),"X",IF(OR(B19="ACH",B19="ADC",B19="ADJ",B19="MAJ",B19="MJR",B19="MDL",B19="MCH",B19="MDC",B19="SGT",B19="SGC",B19="SCH"),"Y","Z")) -> Y | M19: =IF(K19="OUI",L19,"") -> Y | N19: =IF(C19="R",M19,"") | O19: =IF(H19=CRQ!$A$1,L19,"") | P19: =IF(I19=CRQ!$A$1-1,L19,"")
B20: SCH | H20: 42905 | I20: 42953 | K20: =IF(AND($K$2>=H20,$K$2<=I20),"OUI","NON") -> OUI | L20: =IF(OR(B20="CES",B20="CNE",B20="LTN",B20="SLT",B20="ASP"),"X",IF(OR(B20="ACH",B20="ADC",B20="ADJ",B20="MAJ",B20="MJR",B20="MDL",B20="MCH",B20="MDC",B20="SGT",B20="SGC",B20="SCH"),"Y","Z")) -> Y | M20: =IF(K20="OUI",L20,"") -> Y | N20: =IF(C20="R",M20,"") | O20: =IF(H20=CRQ!$A$1,L20,"") -> Y | P20: =IF(I20=CRQ!$A$1-1,L20,"")
B21: SGT | H21: 42894 | I21: 42953 | K21: =IF(AND($K$2>=H21,$K$2<=I21),"OUI","NON") -> OUI | L21: =IF(OR(B21="CES",B21="CNE",B21="LTN",B21="SLT",B21="ASP"),"X",IF(OR(B21="ACH",B21="ADC",B21="ADJ",B21="MAJ",B21="MJR",B21="MDL",B21="MCH",B21="MDC",B21="SGT",B21="SGC",B21="SCH"),"Y","Z")) -> Y | M21: =IF(K21="OUI",L21,"") -> Y | N21: =IF(C21="R",M21,"") | O21: =IF(H21=CRQ!$A$1,L21,"") | P21: =IF(I21=CRQ!$A$1-1,L21,"")
B22: SGT | H22: 42894 | I22: 42953 | K22: =IF(AND($K$2>=H22,$K$2<=I22),"OUI","NON") -> OUI | L22: =IF(OR(B22="CES",B22="CNE",B22="LTN",B22="SLT",B22="ASP"),"X",IF(OR(B22="ACH",B22="ADC",B22="ADJ",B22="MAJ",B22="MJR",B22="MDL",B22="MCH",B22="MDC",B22="SGT",B22="SGC",B22="SCH"),"Y","Z")) -> Y | M22: =IF(K22="OUI",L22,"") -> Y | N22: =IF(C22="R",M22,"") | O22: =IF(H22=CRQ!$A$1,L22,"") | P22: =IF(I22=CRQ!$A$1-1,L22,"")
B23: SGT | H23: 42894 | I23: 42953 | K23: =IF(AND($K$2>=H23,$K$2<=I23),"OUI","NON") -> OUI | L23: =IF(OR(B23="CES",B23="CNE",B23="LTN",B23="SLT",B23="ASP"),"X",IF(OR(B23="ACH",B23="ADC",B23="ADJ",B23="MAJ",B23="MJR",B23="MDL",B23="MCH",B23="MDC",B23="SGT",B23="SGC",B23="SCH"),"Y","Z")) -> Y | M23: =IF(K23="OUI",L23,"") -> Y | N23: =IF(C23="R",M23,"") | O23: =IF(H23=CRQ!$A$1,L23,"") | P23: =IF(I23=CRQ!$A$1-1,L23,"")
B24: CCH | H24: 42894 | I24: 42953 | K24: =IF(AND($K$2>=H24,$K$2<=I24),"OUI","NON") -> OUI | L24: =IF(OR(B24="CES",B24="CNE",B24="LTN",B24="SLT",B24="ASP"),"X",IF(OR(B24="ACH",B24="ADC",B24="ADJ",B24="MAJ",B24="MJR",B24="MDL",B24="MCH",B24="MDC",B24="SGT",B24="SGC",B24="SCH"),"Y","Z")) -> Z | M24: =IF(K24="OUI",L24,"") -> Z | N24: =IF(C24="R",M24,"") | O24: =IF(H24=CRQ!$A$1,L24,"") | P24: =IF(I24=CRQ!$A$1-1,L24,"")
B25: CCH | H25: 42894 | I25: 42953 | K25: =IF(AND($K$2>=H25,$K$2<=I25),"OUI","NON") -> OUI | L25: =IF(OR(B25="CES",B25="CNE",B25="LTN",B25="SLT",B25="ASP"),"X",IF(OR(B25="ACH",B25="ADC",B25="ADJ",B25="MAJ",B25="MJR",B25="MDL",B25="MCH",B25="MDC",B25="SGT",B25="SGC",B25="SCH"),"Y","Z")) -> Z | M25: =IF(K25="OUI",L25,"") -> Z | N25: =IF(C25="R",M25,"") | O25: =IF(H25=CRQ!$A$1,L25,"") | P25: =IF(I25=CRQ!$A$1-1,L25,"")
B26: CPL | K26: =IF(AND($K$2>=H26,$K$2<=I26),"OUI","NON") -> NON | L26: =IF(OR(B26="CES",B26="CNE",B26="LTN",B26="SLT",B26="ASP"),"X",IF(OR(B26="ACH",B26="ADC",B26="ADJ",B26="MAJ",B26="MJR",B26="MDL",B26="MCH",B26="MDC",B26="SGT",B26="SGC",B26="SCH"),"Y","Z")) -> Z | M26: =IF(K26="OUI",L26,"") | N26: =IF(C26="R",M26,"") | O26: =IF(H26=CRQ!$A$1,L26,"") | P26: =IF(I26=CRQ!$A$1-1,L26,"")
B27: CPL | H27: 42894 | I27: 42953 | K27: =IF(AND($K$2>=H27,$K$2<=I27),"OUI","NON") -> OUI | L27: =IF(OR(B27="CES",B27="CNE",B27="LTN",B27="SLT",B27="ASP"),"X",IF(OR(B27="ACH",B27="ADC",B27="ADJ",B27="MAJ",B27="MJR",B27="MDL",B27="MCH",B27="MDC",B27="SGT",B27="SGC",B27="SCH"),"Y","Z")) -> Z | M27: =IF(K27="OUI",L27,"") -> Z | N27: =IF(C27="R",M27,"") | O27: =IF(H27=CRQ!$A$1,L27,"") | P27: =IF(I27=CRQ!$A$1-1,L27,"")
B28: LEG | H28: 42894 | I28: 42953 | K28: =IF(AND($K$2>=H28,$K$2<=I28),"OUI","NON") -> OUI | L28: =IF(OR(B28="CES",B28="CNE",B28="LTN",B28="SLT",B28="ASP"),"X",IF(OR(B28="ACH",B28="ADC",B28="ADJ",B28="MAJ",B28="MJR",B28="MDL",B28="MCH",B28="MDC",B28="SGT",B28="SGC",B28="SCH"),"Y","Z")) -> Z | M28: =IF(K28="OUI",L28,"") -> Z | N28: =IF(C28="R",M28,"") | O28: =IF(H28=CRQ!$A$1,L28,"") | P28: =IF(I28=CRQ!$A$1-1,L28,"")
B29: CCH | H29: 42894 | I29: 42953 | K29: =IF(AND($K$2>=H29,$K$2<=I29),"OUI","NON") -> OUI | L29: =IF(OR(B29="CES",B29="CNE",B29="LTN",B29="SLT",B29="ASP"),"X",IF(OR(B29="ACH",B29="ADC",B29="ADJ",B29="MAJ",B29="MJR",B29="MDL",B29="MCH",B29="MDC",B29="SGT",B29="SGC",B29="SCH"),"Y","Z")) -> Z | M29: =IF(K29="OUI",L29,"") -> Z | N29: =IF(C29="R",M29,"") | O29: =IF(H29=CRQ!$A$1,L29,"") | P29: =IF(I29=CRQ!$A$1-1,L29,"")
B30: CPL | H30: 42894 | I30: 42953 | K30: =IF(AND($K$2>=H30,$K$2<=I30),"OUI","NON") -> OUI | L30: =IF(OR(B30="CES",B30="CNE",B30="LTN",B30="SLT",B30="ASP"),"X",IF(OR(B30="ACH",B30="ADC",B30="ADJ",B30="MAJ",B30="MJR",B30="MDL",B30="MCH",B30="MDC",B30="SGT",B30="SGC",B30="SCH"),"Y","Z")) -> Z | M30: =IF(K30="OUI",L30,"") -> Z | N30: =IF(C30="R",M30,"") | O30: =IF(H30=CRQ!$A$1,L30,"") | P30: =IF(I30=CRQ!$A$1-1,L30,"")
B31: CPL | H31: 42894 | I31: 42953 | K31: =IF(AND($K$2>=H31,$K$2<=I31),"OUI","NON") -> OUI | L31: =IF(OR(B31="CES",B31="CNE",B31="LTN",B31="SLT",B31="ASP"),"X",IF(OR(B31="ACH",B31="ADC",B31="ADJ",B31="MAJ",B31="MJR",B31="MDL",B31="MCH",B31="MDC",B31="SGT",B31="SGC",B31="SCH"),"Y","Z")) -> Z | M31: =IF(K31="OUI",L31,"") -> Z | N31: =IF(C31="R",M31,"") | O31: =IF(H31=CRQ!$A$1,L31,"") | P31: =IF(I31=CRQ!$A$1-1,L31,"")
B32: 1CL | H32: 42894 | I32: 42953 | K32: =IF(AND($K$2>=H32,$K$2<=I32),"OUI","NON") -> OUI | L32: =IF(OR(B32="CES",B32="CNE",B32="LTN",B32="SLT",B32="ASP"),"X",IF(OR(B32="ACH",B32="ADC",B32="ADJ",B32="MAJ",B32="MJR",B32="MDL",B32="MCH",B32="MDC",B32="SGT",B32="SGC",B32="SCH"),"Y","Z")) -> Z | M32: =IF(K32="OUI",L32,"") -> Z | N32: =IF(C32="R",M32,"") | O32: =IF(H32=CRQ!$A$1,L32,"") | P32: =IF(I32=CRQ!$A$1-1,L32,"")
B33: 1CL | H33: 42894 | I33: 42953 | K33: =IF(AND($K$2>=H33,$K$2<=I33),"OUI","NON") -> OUI | L33: =IF(OR(B33="CES",B33="CNE",B33="LTN",B33="SLT",B33="ASP"),"X",IF(OR(B33="ACH",B33="ADC",B33="ADJ",B33="MAJ",B33="MJR",B33="MDL",B33="MCH",B33="MDC",B33="SGT",B33="SGC",B33="SCH"),"Y","Z")) -> Z | M33: =IF(K33="OUI",L33,"") -> Z | N33: =IF(C33="R",M33,"") | O33: =IF(H33=CRQ!$A$1,L33,"") | P33: =IF(I33=CRQ!$A$1-1,L33,"")
B34: 1CL | H34: 42894 | I34: 42953 | K34: =IF(AND($K$2>=H34,$K$2<=I34),"OUI","NON") -> OUI | L34: =IF(OR(B34="CES",B34="CNE",B34="LTN",B34="SLT",B34="ASP"),"X",IF(OR(B34="ACH",B34="ADC",B34="ADJ",B34="MAJ",B34="MJR",B34="MDL",B34="MCH",B34="MDC",B34="SGT",B34="SGC",B34="SCH"),"Y","Z")) -> Z | M34: =IF(K34="OUI",L34,"") -> Z | N34: =IF(C34="R",M34,"") | O34: =IF(H34=CRQ!$A$1,L34,"") | P34: =IF(I34=CRQ!$A$1-1,L34,"")
B35: 1CL | H35: 42894 | I35: 42953 | K35: =IF(AND($K$2>=H35,$K$2<=I35),"OUI","NON") -> OUI | L35: =IF(OR(B35="CES",B35="CNE",B35="LTN",B35="SLT",B35="ASP"),"X",IF(OR(B35="ACH",B35="ADC",B35="ADJ",B35="MAJ",B35="MJR",B35="MDL",B35="MCH",B35="MDC",B35="SGT",B35="SGC",B35="SCH"),"Y","Z")) -> Z | M35: =IF(K35="OUI",L35,"") -> Z | N35: =IF(C35="R",M35,"") | O35: =IF(H35=CRQ!$A$1,L35,"") | P35: =IF(I35=CRQ!$A$1-1,L35,"")
B36: CPL | H36: 42894 | I36: 42953 | K36: =IF(AND($K$2>=H36,$K$2<=I36),"OUI","NON") -> OUI | L36: =IF(OR(B36="CES",B36="CNE",B36="LTN",B36="SLT",B36="ASP"),"X",IF(OR(B36="ACH",B36="ADC",B36="ADJ",B36="MAJ",B36="MJR",B36="MDL",B36="MCH",B36="MDC",B36="SGT",B36="SGC",B36="SCH"),"Y","Z")) -> Z | M36: =IF(K36="OUI",L36,"") -> Z | N36: =IF(C36="R",M36,"") | O36: =IF(H36=CRQ!$A$1,L36,"") | P36: =IF(I36=CRQ!$A$1-1,L36,"")
B37: CPL | H37: 42894 | I37: 42953 | K37: =IF(AND($K$2>=H37,$K$2<=I37),"OUI","NON") -> OUI | L37: =IF(OR(B37="CES",B37="CNE",B37="LTN",B37="SLT",B37="ASP"),"X",IF(OR(B37="ACH",B37="ADC",B37="ADJ",B37="MAJ",B37="MJR",B37="MDL",B37="MCH",B37="MDC",B37="SGT",B37="SGC",B37="SCH"),"Y","Z")) -> Z | M37: =IF(K37="OUI",L37,"") -> Z | N37: =IF(C37="R",M37,"") | O37: =IF(H37=CRQ!$A$1,L37,"") | P37: =IF(I37=CRQ!$A$1-1,L37,"")
B38: CPL | H38: 42894 | I38: 42953 | K38: =IF(AND($K$2>=H38,$K$2<=I38),"OUI","NON") -> OUI | L38: =IF(OR(B38="CES",B38="CNE",B38="LTN",B38="SLT",B38="ASP"),"X",IF(OR(B38="ACH",B38="ADC",B38="ADJ",B38="MAJ",B38="MJR",B38="MDL",B38="MCH",B38="MDC",B38="SGT",B38="SGC",B38="SCH"),"Y","Z")) -> Z | M38: =IF(K38="OUI",L38,"") -> Z | N38: =IF(C38="R",M38,"") | O38: =IF(H38=CRQ!$A$1,L38,"") | P38: =IF(I38=CRQ!$A$1-1,L38,"")
... B89: CPL | H89: 42894 | I89: 42953 | K89: =IF(AND($K$2>=H89,$K$2<=I89),"OUI","NON") -> OUI | L89: =IF(OR(B89="CES",B89="CNE",B89="LTN",B89="SLT",B89="ASP"),"X",IF(OR(B89="ACH",B89="ADC",B89="ADJ",B89="MAJ",B89="MJR",B89="MDL",B89="MCH",B89="MDC",B89="SGT",B89="SGC",B89="SCH"),"Y","Z")) -> Z | M89: =IF(K89="OUI",L89,"") -> Z | N89: =IF(C89="R",M89,"") | O89: =IF(H89=CRQ!$A$1,L89,"") | P89: =IF(I89=CRQ!$A$1-1,L89,"")
B90: LEG | H90: 42894 | I90: 42904 | J90: Accident corporel lors de scéance de sport | K90: =IF(AND($K$2>=H90,$K$2<=I90),"OUI","NON") -> NON | L90: =IF(OR(B90="CES",B90="CNE",B90="LTN",B90="SLT",B90="ASP"),"X",IF(OR(B90="ACH",B90="ADC",B90="ADJ",B90="MAJ",B90="MJR",B90="MDL",B90="MCH",B90="MDC",B90="SGT",B90="SGC",B90="SCH"),"Y","Z")) -> Z | M90: =IF(K90="OUI",L90,"") | N90: =IF(C90="R",M90,"") | O90: =IF(H90=CRQ!$A$1,L90,"") | P90: =IF(I90=CRQ!$A$1-1,L90,"") -> Z
B91: 1CL | H91: 42894 | I91: 42953 | K91: =IF(AND($K$2>=H91,$K$2<=I91),"OUI","NON") -> OUI | L91: =IF(OR(B91="CES",B91="CNE",B91="LTN",B91="SLT",B91="ASP"),"X",IF(OR(B91="ACH",B91="ADC",B91="ADJ",B91="MAJ",B91="MJR",B91="MDL",B91="MCH",B91="MDC",B91="SGT",B91="SGC",B91="SCH"),"Y","Z")) -> Z | M91: =IF(K91="OUI",L91,"") -> Z | N91: =IF(C91="R",M91,"") | O91: =IF(H91=CRQ!$A$1,L91,"") | P91: =IF(I91=CRQ!$A$1-1,L91,"")
B92: LEG | H92: 42894 | I92: 42953 | K92: =IF(AND($K$2>=H92,$K$2<=I92),"OUI","NON") -> OUI | L92: =IF(OR(B92="CES",B92="CNE",B92="LTN",B92="SLT",B92="ASP"),"X",IF(OR(B92="ACH",B92="ADC",B92="ADJ",B92="MAJ",B92="MJR",B92="MDL",B92="MCH",B92="MDC",B92="SGT",B92="SGC",B92="SCH"),"Y","Z")) -> Z | M92: =IF(K92="OUI",L92,"") -> Z | N92: =IF(C92="R",M92,"") | O92: =IF(H92=CRQ!$A$1,L92,"") | P92: =IF(I92=CRQ!$A$1-1,L92,"")
B93: LEG | H93: 42894 | I93: 42953 | K93: =IF(AND($K$2>=H93,$K$2<=I93),"OUI","NON") -> OUI | L93: =IF(OR(B93="CES",B93="CNE",B93="LTN",B93="SLT",B93="ASP"),"X",IF(OR(B93="ACH",B93="ADC",B93="ADJ",B93="MAJ",B93="MJR",B93="MDL",B93="MCH",B93="MDC",B93="SGT",B93="SGC",B93="SCH"),"Y","Z")) -> Z | M93: =IF(K93="OUI",L93,"") -> Z | N93: =IF(C93="R",M93,"") | O93: =IF(H93=CRQ!$A$1,L93,"") | P93: =IF(I93=CRQ!$A$1-1,L93,"")
B94: LEG | H94: 42894 | I94: 42953 | K94: =IF(AND($K$2>=H94,$K$2<=I94),"OUI","NON") -> OUI | L94: =IF(OR(B94="CES",B94="CNE",B94="LTN",B94="SLT",B94="ASP"),"X",IF(OR(B94="ACH",B94="ADC",B94="ADJ",B94="MAJ",B94="MJR",B94="MDL",B94="MCH",B94="MDC",B94="SGT",B94="SGC",B94="SCH"),"Y","Z")) -> Z | M94: =IF(K94="OUI",L94,"") -> Z | N94: =IF(C94="R",M94,"") | O94: =IF(H94=CRQ!$A$1,L94,"") | P94: =IF(I94=CRQ!$A$1-1,L94,"")
B95: CPL | H95: 42898 | I95: 42953 | K95: =IF(AND($K$2>=H95,$K$2<=I95),"OUI","NON") -> OUI | L95: =IF(OR(B95="CES",B95="CNE",B95="LTN",B95="SLT",B95="ASP"),"X",IF(OR(B95="ACH",B95="ADC",B95="ADJ",B95="MAJ",B95="MJR",B95="MDL",B95="MCH",B95="MDC",B95="SGT",B95="SGC",B95="SCH"),"Y","Z")) -> Z | M95: =IF(K95="OUI",L95,"") -> Z | N95: =IF(C95="R",M95,"") | O95: =IF(H95=CRQ!$A$1,L95,"") | P95: =IF(I95=CRQ!$A$1-1,L95,"")
B96: 1CL | H96: 42894 | I96: 42953 | K96: =IF(AND($K$2>=H96,$K$2<=I96),"OUI","NON") -> OUI | L96: =IF(OR(B96="CES",B96="CNE",B96="LTN",B96="SLT",B96="ASP"),"X",IF(OR(B96="ACH",B96="ADC",B96="ADJ",B96="MAJ",B96="MJR",B96="MDL",B96="MCH",B96="MDC",B96="SGT",B96="SGC",B96="SCH"),"Y","Z")) -> Z | M96: =IF(K96="OUI",L96,"") -> Z | N96: =IF(C96="R",M96,"") | O96: =IF(H96=CRQ!$A$1,L96,"") | P96: =IF(I96=CRQ!$A$1-1,L96,"")
K97: =IF(AND($K$2>=H97,$K$2<=I97),"OUI","NON") -> NON | L97: =IF(OR(B97="CES",B97="CNE",B97="LTN",B97="SLT",B97="ASP"),"X",IF(OR(B97="ACH",B97="ADC",B97="ADJ",B97="MAJ",B97="MJR",B97="MDL",B97="MCH",B97="MDC",B97="SGT",B97="SGC",B97="SCH"),"Y","Z")) -> Z | M97: =IF(K97="OUI",L97,"") | N97: =IF(C97="R",M97,"") | O97: =IF(H97=CRQ!$A$1,L97,"") | P97: =IF(I97=CRQ!$A$1-1,L97,"")
K98: =IF(AND($K$2>=H98,$K$2<=I98),"OUI","NON") -> NON | L98: =IF(OR(B98="CES",B98="CNE",B98="LTN",B98="SLT",B98="ASP"),"X",IF(OR(B98="ACH",B98="ADC",B98="ADJ",B98="MAJ",B98="MJR",B98="MDL",B98="MCH",B98="MDC",B98="SGT",B98="SGC",B98="SCH"),"Y","Z")) -> Z | M98: =IF(K98="OUI",L98,"") | N98: =IF(C98="R",M98,"") | O98: =IF(H98=CRQ!$A$1,L98,"") | P98: =IF(I98=CRQ!$A$1-1,L98,"")
K99: =IF(AND($K$2>=H99,$K$2<=I99),"OUI","NON") -> NON | L99: =IF(OR(B99="CES",B99="CNE",B99="LTN",B99="SLT",B99="ASP"),"X",IF(OR(B99="ACH",B99="ADC",B99="ADJ",B99="MAJ",B99="MJR",B99="MDL",B99="MCH",B99="MDC",B99="SGT",B99="SGC",B99="SCH"),"Y","Z")) -> Z | M99: =IF(K99="OUI",L99,"") | N99: =IF(C99="R",M99,"") | O99: =IF(H99=CRQ!$A$1,L99,"") | P99: =IF(I99=CRQ!$A$1-1,L99,"")
K100: =IF(AND($K$2>=H100,$K$2<=I100),"OUI","NON") -> NON | L100: =IF(OR(B100="CES",B100="CNE",B100="LTN",B100="SLT",B100="ASP"),"X",IF(OR(B100="ACH",B100="ADC",B100="ADJ",B100="MAJ",B100="MJR",B100="MDL",B100="MCH",B100="MDC",B100="SGT",B100="SGC",B100="SCH"),"Y","Z")) -> Z | M100: =IF(K100="OUI",L100,"") | N100: =IF(C100="R",M100,"") | O100: =IF(H100=CRQ!$A$1,L100,"") | P100: =IF(I100=CRQ!$A$1-1,L100,"")
K101: =IF(AND($K$2>=H101,$K$2<=I101),"OUI","NON") -> NON | L101: =IF(OR(B101="CES",B101="CNE",B101="LTN",B101="SLT",B101="ASP"),"X",IF(OR(B101="ACH",B101="ADC",B101="ADJ",B101="MAJ",B101="MJR",B101="MDL",B101="MCH",B101="MDC",B101="SGT",B101="SGC",B101="SCH"),"Y","Z")) -> Z | M101: =IF(K101="OUI",L101,"") | N101: =IF(C101="R",M101,"") | O101: =IF(H101=CRQ!$A$1,L101,"") | P101: =IF(I101=CRQ!$A$1-1,L101,"")
K102: =IF(AND($K$2>=H102,$K$2<=I102),"OUI","NON") -> NON | L102: =IF(OR(B102="CES",B102="CNE",B102="LTN",B102="SLT",B102="ASP"),"X",IF(OR(B102="ACH",B102="ADC",B102="ADJ",B102="MAJ",B102="MJR",B102="MDL",B102="MCH",B102="MDC",B102="SGT",B102="SGC",B102="SCH"),"Y","Z")) -> Z | M102: =IF(K102="OUI",L102,"") | N102: =IF(C102="R",M102,"") | O102: =IF(H102=CRQ!$A$1,L102,"") | P102: =IF(I102=CRQ!$A$1-1,L102,"")
K103: =IF(AND($K$2>=H103,$K$2<=I103),"OUI","NON") -> NON | L103: =IF(OR(B103="CES",B103="CNE",B103="LTN",B103="SLT",B103="ASP"),"X",IF(OR(B103="ACH",B103="ADC",B103="ADJ",B103="MAJ",B103="MJR",B103="MDL",B103="MCH",B103="MDC",B103="SGT",B103="SGC",B103="SCH"),"Y","Z")) -> Z | M103: =IF(K103="OUI",L103,"") | N103: =IF(C103="R",M103,"") | O103: =IF(H103=CRQ!$A$1,L103,"") | P103: =IF(I103=CRQ!$A$1-1,L103,"")
K104: =IF(AND($K$2>=H104,$K$2<=I104),"OUI","NON") -> NON | L104: =IF(OR(B104="CES",B104="CNE",B104="LTN",B104="SLT",B104="ASP"),"X",IF(OR(B104="ACH",B104="ADC",B104="ADJ",B104="MAJ",B104="MJR",B104="MDL",B104="MCH",B104="MDC",B104="SGT",B104="SGC",B104="SCH"),"Y","Z")) -> Z | M104: =IF(K104="OUI",L104,"") | N104: =IF(C104="R",M104,"") | O104: =IF(H104=CRQ!$A$1,L104,"") | P104: =IF(I104=CRQ!$A$1-1,L104,"")
K105: =IF(AND($K$2>=H105,$K$2<=I105),"OUI","NON") -> NON | L105: =IF(OR(B105="CES",B105="CNE",B105="LTN",B105="SLT",B105="ASP"),"X",IF(OR(B105="ACH",B105="ADC",B105="ADJ",B105="MAJ",B105="MJR",B105="MDL",B105="MCH",B105="MDC",B105="SGT",B105="SGC",B105="SCH"),"Y","Z")) -> Z | M105: =IF(K105="OUI",L105,"") | N105: =IF(C105="R",M105,"") | O105: =IF(H105=CRQ!$A$1,L105,"") | P105: =IF(I105=CRQ!$A$1-1,L105,"")
K106: =IF(AND($K$2>=H106,$K$2<=I106),"OUI","NON") -> NON | L106: =IF(OR(B106="CES",B106="CNE",B106="LTN",B106="SLT",B106="ASP"),"X",IF(OR(B106="ACH",B106="ADC",B106="ADJ",B106="MAJ",B106="MJR",B106="MDL",B106="MCH",B106="MDC",B106="SGT",B106="SGC",B106="SCH"),"Y","Z")) -> Z | M106: =IF(K106="OUI",L106,"") | N106: =IF(C106="R",M106,"") | O106: =IF(H106=CRQ!$A$1,L106,"") | P106: =IF(I106=CRQ!$A$1-1,L106,"")
K107: =IF(AND($K$2>=H107,$K$2<=I107),"OUI","NON") -> NON | L107: =IF(OR(B107="CES",B107="CNE",B107="LTN",B107="SLT",B107="ASP"),"X",IF(OR(B107="ACH",B107="ADC",B107="ADJ",B107="MAJ",B107="MJR",B107="MDL",B107="MCH",B107="MDC",B107="SGT",B107="SGC",B107="SCH"),"Y","Z")) -> Z | M107: =IF(K107="OUI",L107,"") | N107: =IF(C107="R",M107,"") | O107: =IF(H107=CRQ!$A$1,L107,"") | P107: =IF(I107=CRQ!$A$1-1,L107,"")
K108: =IF(AND($K$2>=H108,$K$2<=I108),"OUI","NON") -> NON | L108: =IF(OR(B108="CES",B108="CNE",B108="LTN",B108="SLT",B108="ASP"),"X",IF(OR(B108="ACH",B108="ADC",B108="ADJ",B108="MAJ",B108="MJR",B108="MDL",B108="MCH",B108="MDC",B108="SGT",B108="SGC",B108="SCH"),"Y","Z")) -> Z | M108: =IF(K108="OUI",L108,"") | N108: =IF(C108="R",M108,"") | O108: =IF(H108=CRQ!$A$1,L108,"") | P108: =IF(I108=CRQ!$A$1-1,L108,"")
... K150: =IF(AND($K$2>=H150,$K$2<=I150),"OUI","NON") -> NON | L150: =IF(OR(B150="CES",B150="CNE",B150="LTN",B150="SLT",B150="ASP"),"X",IF(OR(B150="ACH",B150="ADC",B150="ADJ",B150="MAJ",B150="MJR",B150="MDL",B150="MCH",B150="MDC",B150="SGT",B150="SGC",B150="SCH"),"Y","Z")) -> Z | M150: =IF(K150="OUI",L150,"") | N150: =IF(C150="R",M150,"") | O150: =IF(H150=CRQ!$A$1,L150,"") | P150: =IF(I150=CRQ!$A$1-1,L150,"")

Sheet UE134
K1: PRESENCE | S1: X | T1: Y | U1: Z | V1: T
B2: GRADE | C2: R | H2: IN | I2: OUT | J2: MOTIF | K2: =CRQ!A1 -> 42905 | L2: G | M2: P | N2: R | O2: IN | P2: OU | R2: P | S2: =COUNTIF($M:$M,S1) -> 4 | T2: =COUNTIF($M:$M,T1) -> 14 | U2: =COUNTIF($M:$M,U1) -> 67 | V2: =SUM(S2:U2) -> 85
B3: CNE | H3: 42892 | I3: 42953 | K3: =IF(AND($K$2>=H3,$K$2<=I3),"OUI","NON") -> OUI | L3: =IF(OR(B3="CES",B3="CNE",B3="LTN",B3="SLT",B3="ASP"),"X",IF(OR(B3="ACH",B3="ADC",B3="ADJ",B3="MAJ",B3="MJR",B3="MDL",B3="MCH",B3="MDC",B3="SGT",B3="SGC",B3="SCH"),"Y","Z")) -> X | M3: =IF(K3="OUI",L3,"") -> X | N3: =IF(C3="R",M3,"") | O3: =IF(H3=CRQ!$A$1,L3,"") | P3: =IF(I3=CRQ!$A$1-1,L3,"") | R3: R | S3: =COUNTIF($N:$N,S1) -> 0 | T3: =COUNTIF($N:$N,T1) -> 0 | U3: =COUNTIF($N:$N,U1) -> 0 | V3: =SUM(S3:U3) -> 0
B4: LTN | H4: 42892 | I4: 42953 | K4: =IF(AND($K$2>=H4,$K$2<=I4),"OUI","NON") -> OUI | L4: =IF(OR(B4="CES",B4="CNE",B4="LTN",B4="SLT",B4="ASP"),"X",IF(OR(B4="ACH",B4="ADC",B4="ADJ",B4="MAJ",B4="MJR",B4="MDL",B4="MCH",B4="MDC",B4="SGT",B4="SGC",B4="SCH"),"Y","Z")) -> X | M4: =IF(K4="OUI",L4,"") -> X | N4: =IF(C4="R",M4,"") | O4: =IF(H4=CRQ!$A$1,L4,"") | P4: =IF(I4=CRQ!$A$1-1,L4,"") | R4: IN | S4: =COUNTIF($O:$O,S1) -> 0 | T4: =COUNTIF($O:$O,T1) -> 1 | U4: =COUNTIF($O:$O,U1) -> 4 | V4: =SUM(S4:U4) -> 5
B5: LTN | H5: 42892 | I5: 42953 | K5: =IF(AND($K$2>=H5,$K$2<=I5),"OUI","NON") -> OUI | L5: =IF(OR(B5="CES",B5="CNE",B5="LTN",B5="SLT",B5="ASP"),"X",IF(OR(B5="ACH",B5="ADC",B5="ADJ",B5="MAJ",B5="MJR",B5="MDL",B5="MCH",B5="MDC",B5="SGT",B5="SGC",B5="SCH"),"Y","Z")) -> X | M5: =IF(K5="OUI",L5,"") -> X | N5: =IF(C5="R",M5,"") | O5: =IF(H5=CRQ!$A$1,L5,"") | P5: =IF(I5=CRQ!$A$1-1,L5,"") | R5: OUT | S5: =COUNTIF($P:$P,S1) -> 0 | T5: =COUNTIF($P:$P,T1) -> 0 | U5: =COUNTIF($P:$P,U1) -> 0 | V5: =SUM(S5:U5) -> 0
B6: CNE | H6: 42894 | I6: 42922 | K6: =IF(AND($K$2>=H6,$K$2<=I6),"OUI","NON") -> OUI | L6: =IF(OR(B6="CES",B6="CNE",B6="LTN",B6="SLT",B6="ASP"),"X",IF(OR(B6="ACH",B6="ADC",B6="ADJ",B6="MAJ",B6="MJR",B6="MDL",B6="MCH",B6="MDC",B6="SGT",B6="SGC",B6="SCH"),"Y","Z")) -> X | M6: =IF(K6="OUI",L6,"") -> X | N6: =IF(C6="R",M6,"") | O6: =IF(H6=CRQ!$A$1,L6,"") | P6: =IF(I6=CRQ!$A$1-1,L6,"")
B7: ADC | H7: 42892 | I7: 42900 | K7: =IF(AND($K$2>=H7,$K$2<=I7),"OUI","NON") -> NON | L7: =IF(OR(B7="CES",B7="CNE",B7="LTN",B7="SLT",B7="ASP"),"X",IF(OR(B7="ACH",B7="ADC",B7="ADJ",B7="MAJ",B7="MJR",B7="MDL",B7="MCH",B7="MDC",B7="SGT",B7="SGC",B7="SCH"),"Y","Z")) -> Y | M7: =IF(K7="OUI",L7,"") | N7: =IF(C7="R",M7,"") | O7: =IF(H7=CRQ!$A$1,L7,"") | P7: =IF(I7=CRQ!$A$1-1,L7,"")
B8: ADC | H8: 42905 | I8: 42953 | K8: =IF(AND($K$2>=H8,$K$2<=I8),"OUI","NON") -> OUI | L8: =IF(OR(B8="CES",B8="CNE",B8="LTN",B8="SLT",B8="ASP"),"X",IF(OR(B8="ACH",B8="ADC",B8="ADJ",B8="MAJ",B8="MJR",B8="MDL",B8="MCH",B8="MDC",B8="SGT",B8="SGC",B8="SCH"),"Y","Z")) -> Y | M8: =IF(K8="OUI",L8,"") -> Y | N8: =IF(C8="R",M8,"") | O8: =IF(H8=CRQ!$A$1,L8,"") -> Y | P8: =IF(I8=CRQ!$A$1-1,L8,"")
B9: MCH | H9: 42892 | I9: 42953 | K9: =IF(AND($K$2>=H9,$K$2<=I9),"OUI","NON") -> OUI | L9: =IF(OR(B9="CES",B9="CNE",B9="LTN",B9="SLT",B9="ASP"),"X",IF(OR(B9="ACH",B9="ADC",B9="ADJ",B9="MAJ",B9="MJR",B9="MDL",B9="MCH",B9="MDC",B9="SGT",B9="SGC",B9="SCH"),"Y","Z")) -> Y | M9: =IF(K9="OUI",L9,"") -> Y | N9: =IF(C9="R",M9,"") | O9: =IF(H9=CRQ!$A$1,L9,"") | P9: =IF(I9=CRQ!$A$1-1,L9,"")
B10: MCH | H10: 42892 | I10: 42953 | K10: =IF(AND($K$2>=H10,$K$2<=I10),"OUI","NON") -> OUI | L10: =IF(OR(B10="CES",B10="CNE",B10="LTN",B10="SLT",B10="ASP"),"X",IF(OR(B10="ACH",B10="ADC",B10="ADJ",B10="MAJ",B10="MJR",B10="MDL",B10="MCH",B10="MDC",B10="SGT",B10="SGC",B10="SCH"),"Y","Z")) -> Y | M10: =IF(K10="OUI",L10,"") -> Y | N10: =IF(C10="R",M10,"") | O10: =IF(H10=CRQ!$A$1,L10,"") | P10: =IF(I10=CRQ!$A$1-1,L10,"")
B11: MDL | H11: 42892 | I11: 42953 | K11: =IF(AND($K$2>=H11,$K$2<=I11),"OUI","NON") -> OUI | L11: =IF(OR(B11="CES",B11="CNE",B11="LTN",B11="SLT",B11="ASP"),"X",IF(OR(B11="ACH",B11="ADC",B11="ADJ",B11="MAJ",B11="MJR",B11="MDL",B11="MCH",B11="MDC",B11="SGT",B11="SGC",B11="SCH"),"Y","Z")) -> Y | M11: =IF(K11="OUI",L11,"") -> Y | N11: =IF(C11="R",M11,"") | O11: =IF(H11=CRQ!$A$1,L11,"") | P11: =IF(I11=CRQ!$A$1-1,L11,"")
B12: MDL | H12: 42892 | I12: 42953 | K12: =IF(AND($K$2>=H12,$K$2<=I12),"OUI","NON") -> OUI | L12: =IF(OR(B12="CES",B12="CNE",B12="LTN",B12="SLT",B12="ASP"),"X",IF(OR(B12="ACH",B12="ADC",B12="ADJ",B12="MAJ",B12="MJR",B12="MDL",B12="MCH",B12="MDC",B12="SGT",B12="SGC",B12="SCH"),"Y","Z")) -> Y | M12: =IF(K12="OUI",L12,"") -> Y | N12: =IF(C12="R",M12,"") | O12: =IF(H12=CRQ!$A$1,L12,"") | P12: =IF(I12=CRQ!$A$1-1,L12,"")
B13: MDL | H13: 42892 | I13: 42953 | K13: =IF(AND($K$2>=H13,$K$2<=I13),"OUI","NON") -> OUI | L13: =IF(OR(B13="CES",B13="CNE",B13="LTN",B13="SLT",B13="ASP"),"X",IF(OR(B13="ACH",B13="ADC",B13="ADJ",B13="MAJ",B13="MJR",B13="MDL",B13="MCH",B13="MDC",B13="SGT",B13="SGC",B13="SCH"),"Y","Z")) -> Y | M13: =IF(K13="OUI",L13,"") -> Y | N13: =IF(C13="R",M13,"") | O13: =IF(H13=CRQ!$A$1,L13,"") | P13: =IF(I13=CRQ!$A$1-1,L13,"")
B14: MDL | H14: 42892 | I14: 42953 | K14: =IF(AND($K$2>=H14,$K$2<=I14),"OUI","NON") -> OUI | L14: =IF(OR(B14="CES",B14="CNE",B14="LTN",B14="SLT",B14="ASP"),"X",IF(OR(B14="ACH",B14="ADC",B14="ADJ",B14="MAJ",B14="MJR",B14="MDL",B14="MCH",B14="MDC",B14="SGT",B14="SGC",B14="SCH"),"Y","Z")) -> Y | M14: =IF(K14="OUI",L14,"") -> Y | N14: =IF(C14="R",M14,"") | O14: =IF(H14=CRQ!$A$1,L14,"") | P14: =IF(I14=CRQ!$A$1-1,L14,"")
B15: MDL | H15: 42892 | I15: 42953 | K15: =IF(AND($K$2>=H15,$K$2<=I15),"OUI","NON") -> OUI | L15: =IF(OR(B15="CES",B15="CNE",B15="LTN",B15="SLT",B15="ASP"),"X",IF(OR(B15="ACH",B15="ADC",B15="ADJ",B15="MAJ",B15="MJR",B15="MDL",B15="MCH",B15="MDC",B15="SGT",B15="SGC",B15="SCH"),"Y","Z")) -> Y | M15: =IF(K15="OUI",L15,"") -> Y | N15: =IF(C15="R",M15,"") | O15: =IF(H15=CRQ!$A$1,L15,"") | P15: =IF(I15=CRQ!$A$1-1,L15,"")
B16: MCH | H16: 42894 | I16: 42953 | K16: =IF(AND($K$2>=H16,$K$2<=I16),"OUI","NON") -> OUI | L16: =IF(OR(B16="CES",B16="CNE",B16="LTN",B16="SLT",B16="ASP"),"X",IF(OR(B16="ACH",B16="ADC",B16="ADJ",B16="MAJ",B16="MJR",B16="MDL",B16="MCH",B16="MDC",B16="SGT",B16="SGC",B16="SCH"),"Y","Z")) -> Y | M16: =IF(K16="OUI",L16,"") -> Y | N16: =IF(C16="R",M16,"") | O16: =IF(H16=CRQ!$A$1,L16,"") | P16: =IF(I16=CRQ!$A$1-1,L16,"")
B17: MCH | H17: 42894 | I17: 42953 | K17: =IF(AND($K$2>=H17,$K$2<=I17),"OUI","NON") -> OUI | L17: =IF(OR(B17="CES",B17="CNE",B17="LTN",B17="SLT",B17="ASP"),"X",IF(OR(B17="ACH",B17="ADC",B17="ADJ",B17="MAJ",B17="MJR",B17="MDL",B17="MCH",B17="MDC",B17="SGT",B17="SGC",B17="SCH"),"Y","Z")) -> Y | M17: =IF(K17="OUI",L17,"") -> Y | N17: =IF(C17="R",M17,"") | O17: =IF(H17=CRQ!$A$1,L17,"") | P17: =IF(I17=CRQ!$A$1-1,L17,"")
... B40: BCH | H40: 42894 | I40: 42953 | K40: =IF(AND($K$2>=H40,$K$2<=I40),"OUI","NON") -> OUI | L40: =IF(OR(B40="CES",B40="CNE",B40="LTN",B40="SLT",B40="ASP"),"X",IF(OR(B40="ACH",B40="ADC",B40="ADJ",B40="MAJ",B40="MJR",B40="MDL",B40="MCH",B40="MDC",B40="SGT",B40="SGC",B40="SCH"),"Y","Z")) -> Z | M40: =IF(K40="OUI",L40,"") -> Z | N40: =IF(C40="R",M40,"") | O40: =IF(H40=CRQ!$A$1,L40,"") | P40: =IF(I40=CRQ!$A$1-1,L40,"")
B41: BCH | H41: 42894 | I41: 42899 | J41: Urgence régimentaire | K41: =IF(AND($K$2>=H41,$K$2<=I41),"OUI","NON") -> NON | L41: =IF(OR(B41="CES",B41="CNE",B41="LTN",B41="SLT",B41="ASP"),"X",IF(OR(B41="ACH",B41="ADC",B41="ADJ",B41="MAJ",B41="MJR",B41="MDL",B41="MCH",B41="MDC",B41="SGT",B41="SGC",B41="SCH"),"Y","Z")) -> Z | M41: =IF(K41="OUI",L41,"") | N41: =IF(C41="R",M41,"") | O41: =IF(H41=CRQ!$A$1,L41,"") | P41: =IF(I41=CRQ!$A$1-1,L41,"")
B42: BCH | H42: 42894 | I42: 42953 | K42: =IF(AND($K$2>=H42,$K$2<=I42),"OUI","NON") -> OUI | L42: =IF(OR(B42="CES",B42="CNE",B42="LTN",B42="SLT",B42="ASP"),"X",IF(OR(B42="ACH",B42="ADC",B42="ADJ",B42="MAJ",B42="MJR",B42="MDL",B42="MCH",B42="MDC",B42="SGT",B42="SGC",B42="SCH"),"Y","Z")) -> Z | M42: =IF(K42="OUI",L42,"") -> Z | N42: =IF(C42="R",M42,"") | O42: =IF(H42=CRQ!$A$1,L42,"") | P42: =IF(I42=CRQ!$A$1-1,L42,"")
B43: BRI | H43: 42894 | I43: 42953 | K43: =IF(AND($K$2>=H43,$K$2<=I43),"OUI","NON") -> OUI | L43: =IF(OR(B43="CES",B43="CNE",B43="LTN",B43="SLT",B43="ASP"),"X",IF(OR(B43="ACH",B43="ADC",B43="ADJ",B43="MAJ",B43="MJR",B43="MDL",B43="MCH",B43="MDC",B43="SGT",B43="SGC",B43="SCH"),"Y","Z")) -> Z | M43: =IF(K43="OUI",L43,"") -> Z | N43: =IF(C43="R",M43,"") | O43: =IF(H43=CRQ!$A$1,L43,"") | P43: =IF(I43=CRQ!$A$1-1,L43,"")
B44: BRI | H44: 42894 | I44: 42953 | K44: =IF(AND($K$2>=H44,$K$2<=I44),"OUI","NON") -> OUI | L44: =IF(OR(B44="CES",B44="CNE",B44="LTN",B44="SLT",B44="ASP"),"X",IF(OR(B44="ACH",B44="ADC",B44="ADJ",B44="MAJ",B44="MJR",B44="MDL",B44="MCH",B44="MDC",B44="SGT",B44="SGC",B44="SCH"),"Y","Z")) -> Z | M44: =IF(K44="OUI",L44,"") -> Z | N44: =IF(C44="R",M44,"") | O44: =IF(H44=CRQ!$A$1,L44,"") | P44: =IF(I44=CRQ!$A$1-1,L44,"")
B45: BRI | H45: 42894 | I45: 42953 | K45: =IF(AND($K$2>=H45,$K$2<=I45),"OUI","NON") -> OUI | L45: =IF(OR(B45="CES",B45="CNE",B45="LTN",B45="SLT",B45="ASP"),"X",IF(OR(B45="ACH",B45="ADC",B45="ADJ",B45="MAJ",B45="MJR",B45="MDL",B45="MCH",B45="MDC",B45="SGT",B45="SGC",B45="SCH"),"Y","Z")) -> Z | M45: =IF(K45="OUI",L45,"") -> Z | N45: =IF(C45="R",M45,"") | O45: =IF(H45=CRQ!$A$1,L45,"") | P45: =IF(I45=CRQ!$A$1-1,L45,"")
B46: BRI | H46: 42894 | I46: 42953 | K46: =IF(AND($K$2>=H46,$K$2<=I46),"OUI","NON") -> OUI | L46: =IF(OR(B46="CES",B46="CNE",B46="LTN",B46="SLT",B46="ASP"),"X",IF(OR(B46="ACH",B46="ADC",B46="ADJ",B46="MAJ",B46="MJR",B46="MDL",B46="MCH",B46="MDC",B46="SGT",B46="SGC",B46="SCH"),"Y","Z")) -> Z | M46: =IF(K46="OUI",L46,"") -> Z | N46: =IF(C46="R",M46,"") | O46: =IF(H46=CRQ!$A$1,L46,"") | P46: =IF(I46=CRQ!$A$1-1,L46,"")
B47: BRI | H47: 42894 | I47: 42953 | K47: =IF(AND($K$2>=H47,$K$2<=I47),"OUI","NON") -> OUI | L47: =IF(OR(B47="CES",B47="CNE",B47="LTN",B47="SLT",B47="ASP"),"X",IF(OR(B47="ACH",B47="ADC",B47="ADJ",B47="MAJ",B47="MJR",B47="MDL",B47="MCH",B47="MDC",B47="SGT",B47="SGC",B47="SCH"),"Y","Z")) -> Z | M47: =IF(K47="OUI",L47,"") -> Z | N47: =IF(C47="R",M47,"") | O47: =IF(H47=CRQ!$A$1,L47,"") | P47: =IF(I47=CRQ!$A$1-1,L47,"")
B48: BRI | H48: 42894 | I48: 42953 | K48: =IF(AND($K$2>=H48,$K$2<=I48),"OUI","NON") -> OUI | L48: =IF(OR(B48="CES",B48="CNE",B48="LTN",B48="SLT",B48="ASP"),"X",IF(OR(B48="ACH",B48="ADC",B48="ADJ",B48="MAJ",B48="MJR",B48="MDL",B48="MCH",B48="MDC",B48="SGT",B48="SGC",B48="SCH"),"Y","Z")) -> Z | M48: =IF(K48="OUI",L48,"") -> Z | N48: =IF(C48="R",M48,"") | O48: =IF(H48=CRQ!$A$1,L48,"") | P48: =IF(I48=CRQ!$A$1-1,L48,"")
B49: BRI | H49: 42894 | I49: 42953 | K49: =IF(AND($K$2>=H49,$K$2<=I49),"OUI","NON") -> OUI | L49: =IF(OR(B49="CES",B49="CNE",B49="LTN",B49="SLT",B49="ASP"),"X",IF(OR(B49="ACH",B49="ADC",B49="ADJ",B49="MAJ",B49="MJR",B49="MDL",B49="MCH",B49="MDC",B49="SGT",B49="SGC",B49="SCH"),"Y","Z")) -> Z | M49: =IF(K49="OUI",L49,"") -> Z | N49: =IF(C49="R",M49,"") | O49: =IF(H49=CRQ!$A$1,L49,"") | P49: =IF(I49=CRQ!$A$1-1,L49,"")
B50: BRI | H50: 42894 | I50: 42953 | K50: =IF(AND($K$2>=H50,$K$2<=I50),"OUI","NON") -> OUI | L50: =IF(OR(B50="CES",B50="CNE",B50="LTN",B50="SLT",B50="ASP"),"X",IF(OR(B50="ACH",B50="ADC",B50="ADJ",B50="MAJ",B50="MJR",B50="MDL",B50="MCH",B50="MDC",B50="SGT",B50="SGC",B50="SCH"),"Y","Z")) -> Z | M50: =IF(K50="OUI",L50,"") -> Z | N50: =IF(C50="R",M50,"") | O50: =IF(H50=CRQ!$A$1,L50,"") | P50: =IF(I50=CRQ!$A$1-1,L50,"")
B51: BRI | H51: 42894 | I51: 42953 | K51: =IF(AND($K$2>=H51,$K$2<=I51),"OUI","NON") -> OUI | L51: =IF(OR(B51="CES",B51="CNE",B51="LTN",B51="SLT",B51="ASP"),"X",IF(OR(B51="ACH",B51="ADC",B51="ADJ",B51="MAJ",B51="MJR",B51="MDL",B51="MCH",B51="MDC",B51="SGT",B51="SGC",B51="SCH"),"Y","Z")) -> Z | M51: =IF(K51="OUI",L51,"") -> Z | N51: =IF(C51="R",M51,"") | O51: =IF(H51=CRQ!$A$1,L51,"") | P51: =IF(I51=CRQ!$A$1-1,L51,"")
B52: BRI | H52: 42894 | I52: 42953 | K52: =IF(AND($K$2>=H52,$K$2<=I52),"OUI","NON") -> OUI | L52: =IF(OR(B52="CES",B52="CNE",B52="LTN",B52="SLT",B52="ASP"),"X",IF(OR(B52="ACH",B52="ADC",B52="ADJ",B52="MAJ",B52="MJR",B52="MDL",B52="MCH",B52="MDC",B52="SGT",B52="SGC",B52="SCH"),"Y","Z")) -> Z | M52: =IF(K52="OUI",L52,"") -> Z | N52: =IF(C52="R",M52,"") | O52: =IF(H52=CRQ!$A$1,L52,"") | P52: =IF(I52=CRQ!$A$1-1,L52,"")
B53: BRI | H53: 42894 | I53: 42953 | K53: =IF(AND($K$2>=H53,$K$2<=I53),"OUI","NON") -> OUI | L53: =IF(OR(B53="CES",B53="CNE",B53="LTN",B53="SLT",B53="ASP"),"X",IF(OR(B53="ACH",B53="ADC",B53="ADJ",B53="MAJ",B53="MJR",B53="MDL",B53="MCH",B53="MDC",B53="SGT",B53="SGC",B53="SCH"),"Y","Z")) -> Z | M53: =IF(K53="OUI",L53,"") -> Z | N53: =IF(C53="R",M53,"") | O53: =IF(H53=CRQ!$A$1,L53,"") | P53: =IF(I53=CRQ!$A$1-1,L53,"")
... B90: 1CL | H90: 42905 | I90: 42953 | K90: =IF(AND($K$2>=H90,$K$2<=I90),"OUI","NON") -> OUI | L90: =IF(OR(B90="CES",B90="CNE",B90="LTN",B90="SLT",B90="ASP"),"X",IF(OR(B90="ACH",B90="ADC",B90="ADJ",B90="MAJ",B90="MJR",B90="MDL",B90="MCH",B90="MDC",B90="SGT",B90="SGC",B90="SCH"),"Y","Z")) -> Z | M90: =IF(K90="OUI",L90,"") -> Z | N90: =IF(C90="R",M90,"") | O90: =IF(H90=CRQ!$A$1,L90,"") -> Z | P90: =IF(I90=CRQ!$A$1-1,L90,"")
K91: =IF(AND($K$2>=H91,$K$2<=I91),"OUI","NON") -> NON | L91: =IF(OR(B91="CES",B91="CNE",B91="LTN",B91="SLT",B91="ASP"),"X",IF(OR(B91="ACH",B91="ADC",B91="ADJ",B91="MAJ",B91="MJR",B91="MDL",B91="MCH",B91="MDC",B91="SGT",B91="SGC",B91="SCH"),"Y","Z")) -> Z | M91: =IF(K91="OUI",L91,"") | N91: =IF(C91="R",M91,"") | O91: =IF(H91=CRQ!$A$1,L91,"") | P91: =IF(I91=CRQ!$A$1-1,L91,"")
K92: =IF(AND($K$2>=H92,$K$2<=I92),"OUI","NON") -> NON | L92: =IF(OR(B92="CES",B92="CNE",B92="LTN",B92="SLT",B92="ASP"),"X",IF(OR(B92="ACH",B92="ADC",B92="ADJ",B92="MAJ",B92="MJR",B92="MDL",B92="MCH",B92="MDC",B92="SGT",B92="SGC",B92="SCH"),"Y","Z")) -> Z | M92: =IF(K92="OUI",L92,"") | N92: =IF(C92="R",M92,"") | O92: =IF(H92=CRQ!$A$1,L92,"") | P92: =IF(I92=CRQ!$A$1-1,L92,"")
K93: =IF(AND($K$2>=H93,$K$2<=I93),"OUI","NON") -> NON | L93: =IF(OR(B93="CES",B93="CNE",B93="LTN",B93="SLT",B93="ASP"),"X",IF(OR(B93="ACH",B93="ADC",B93="ADJ",B93="MAJ",B93="MJR",B93="MDL",B93="MCH",B93="MDC",B93="SGT",B93="SGC",B93="SCH"),"Y","Z")) -> Z | M93: =IF(K93="OUI",L93,"") | N93: =IF(C93="R",M93,"") | O93: =IF(H93=CRQ!$A$1,L93,"") | P93: =IF(I93=CRQ!$A$1-1,L93,"")
K94: =IF(AND($K$2>=H94,$K$2<=I94),"OUI","NON") -> NON | L94: =IF(OR(B94="CES",B94="CNE",B94="LTN",B94="SLT",B94="ASP"),"X",IF(OR(B94="ACH",B94="ADC",B94="ADJ",B94="MAJ",B94="MJR",B94="MDL",B94="MCH",B94="MDC",B94="SGT",B94="SGC",B94="SCH"),"Y","Z")) -> Z | M94: =IF(K94="OUI",L94,"") | N94: =IF(C94="R",M94,"") | O94: =IF(H94=CRQ!$A$1,L94,"") | P94: =IF(I94=CRQ!$A$1-1,L94,"")
K95: =IF(AND($K$2>=H95,$K$2<=I95),"OUI","NON") -> NON | L95: =IF(OR(B95="CES",B95="CNE",B95="LTN",B95="SLT",B95="ASP"),"X",IF(OR(B95="ACH",B95="ADC",B95="ADJ",B95="MAJ",B95="MJR",B95="MDL",B95="MCH",B95="MDC",B95="SGT",B95="SGC",B95="SCH"),"Y","Z")) -> Z | M95: =IF(K95="OUI",L95,"") | N95: =IF(C95="R",M95,"") | O95: =IF(H95=CRQ!$A$1,L95,"") | P95: =IF(I95=CRQ!$A$1-1,L95,"")
K96: =IF(AND($K$2>=H96,$K$2<=I96),"OUI","NON") -> NON | L96: =IF(OR(B96="CES",B96="CNE",B96="LTN",B96="SLT",B96="ASP"),"X",IF(OR(B96="ACH",B96="ADC",B96="ADJ",B96="MAJ",B96="MJR",B96="MDL",B96="MCH",B96="MDC",B96="SGT",B96="SGC",B96="SCH"),"Y","Z")) -> Z | M96: =IF(K96="OUI",L96,"") | N96: =IF(C96="R",M96,"") | O96: =IF(H96=CRQ!$A$1,L96,"") | P96: =IF(I96=CRQ!$A$1-1,L96,"")
K97: =IF(AND($K$2>=H97,$K$2<=I97),"OUI","NON") -> NON | L97: =IF(OR(B97="CES",B97="CNE",B97="LTN",B97="SLT",B97="ASP"),"X",IF(OR(B97="ACH",B97="ADC",B97="ADJ",B97="MAJ",B97="MJR",B97="MDL",B97="MCH",B97="MDC",B97="SGT",B97="SGC",B97="SCH"),"Y","Z")) -> Z | M97: =IF(K97="OUI",L97,"") | N97: =IF(C97="R",M97,"") | O97: =IF(H97=CRQ!$A$1,L97,"") | P97: =IF(I97=CRQ!$A$1-1,L97,"")
K98: =IF(AND($K$2>=H98,$K$2<=I98),"OUI","NON") -> NON | L98: =IF(OR(B98="CES",B98="CNE",B98="LTN",B98="SLT",B98="ASP"),"X",IF(OR(B98="ACH",B98="ADC",B98="ADJ",B98="MAJ",B98="MJR",B98="MDL",B98="MCH",B98="MDC",B98="SGT",B98="SGC",B98="SCH"),"Y","Z")) -> Z | M98: =IF(K98="OUI",L98,"") | N98: =IF(C98="R",M98,"") | O98: =IF(H98=CRQ!$A$1,L98,"") | P98: =IF(I98=CRQ!$A$1-1,L98,"")
K99: =IF(AND($K$2>=H99,$K$2<=I99),"OUI","NON") -> NON | L99: =IF(OR(B99="CES",B99="CNE",B99="LTN",B99="SLT",B99="ASP"),"X",IF(OR(B99="ACH",B99="ADC",B99="ADJ",B99="MAJ",B99="MJR",B99="MDL",B99="MCH",B99="MDC",B99="SGT",B99="SGC",B99="SCH"),"Y","Z")) -> Z | M99: =IF(K99="OUI",L99,"") | N99: =IF(C99="R",M99,"") | O99: =IF(H99=CRQ!$A$1,L99,"") | P99: =IF(I99=CRQ!$A$1-1,L99,"")
K100: =IF(AND($K$2>=H100,$K$2<=I100),"OUI","NON") -> NON | L100: =IF(OR(B100="CES",B100="CNE",B100="LTN",B100="SLT",B100="ASP"),"X",IF(OR(B100="ACH",B100="ADC",B100="ADJ",B100="MAJ",B100="MJR",B100="MDL",B100="MCH",B100="MDC",B100="SGT",B100="SGC",B100="SCH"),"Y","Z")) -> Z | M100: =IF(K100="OUI",L100,"") | N100: =IF(C100="R",M100,"") | O100: =IF(H100=CRQ!$A$1,L100,"") | P100: =IF(I100=CRQ!$A$1-1,L100,"")
K101: =IF(AND($K$2>=H101,$K$2<=I101),"OUI","NON") -> NON | L101: =IF(OR(B101="CES",B101="CNE",B101="LTN",B101="SLT",B101="ASP"),"X",IF(OR(B101="ACH",B101="ADC",B101="ADJ",B101="MAJ",B101="MJR",B101="MDL",B101="MCH",B101="MDC",B101="SGT",B101="SGC",B101="SCH"),"Y","Z")) -> Z | M101: =IF(K101="OUI",L101,"") | N101: =IF(C101="R",M101,"") | O101: =IF(H101=CRQ!$A$1,L101,"") | P101: =IF(I101=CRQ!$A$1-1,L101,"")
K102: =IF(AND($K$2>=H102,$K$2<=I102),"OUI","NON") -> NON | L102: =IF(OR(B102="CES",B102="CNE",B102="LTN",B102="SLT",B102="ASP"),"X",IF(OR(B102="ACH",B102="ADC",B102="ADJ",B102="MAJ",B102="MJR",B102="MDL",B102="MCH",B102="MDC",B102="SGT",B102="SGC",B102="SCH"),"Y","Z")) -> Z | M102: =IF(K102="OUI",L102,"") | N102: =IF(C102="R",M102,"") | O102: =IF(H102=CRQ!$A$1,L102,"") | P102: =IF(I102=CRQ!$A$1-1,L102,"")
... K150: =IF(AND($K$2>=H150,$K$2<=I150),"OUI","NON") -> NON | L150: =IF(OR(B150="CES",B150="CNE",B150="LTN",B150="SLT",B150="ASP"),"X",IF(OR(B150="ACH",B150="ADC",B150="ADJ",B150="MAJ",B150="MJR",B150="MDL",B150="MCH",B150="MDC",B150="SGT",B150="SGC",B150="SCH"),"Y","Z")) -> Z | M150: =IF(K150="OUI",L150,"") | N150: =IF(C150="R",M150,"") | O150: =IF(H150=CRQ!$A$1,L150,"") | P150: =IF(I150=CRQ!$A$1-1,L150,"")

Sheet DET831
K1: PRESENCE | S1: X | T1: Y | U1: Z | V1: T
B2: GRADE | C2: R | H2: IN | I2: OUT | J2: MOTIF | K2: =CRQ!A1 -> 42905 | L2: G | M2: P | N2: R | O2: IN | P2: OU | R2: P | S2: =COUNTIF($M:$M,S1) -> 0 | T2: =COUNTIF($M:$M,T1) -> 2 | U2: =COUNTIF($M:$M,U1) -> 25 | V2: =SUM(S2:U2) -> 27
B3: SCH | H3: 42892 | I3: 42953 | K3: =IF(AND($K$2>=H3,$K$2<=I3),"OUI","NON") -> OUI | L3: =IF(OR(B3="CES",B3="CNE",B3="LTN",B3="SLT",B3="ASP"),"X",IF(OR(B3="ACH",B3="ADC",B3="ADJ",B3="MAJ",B3="MJR",B3="MDL",B3="MCH",B3="MDC",B3="SGT",B3="SGC",B3="SCH"),"Y","Z")) -> Y | M3: =IF(K3="OUI",L3,"") -> Y | N3: =IF(C3="R",M3,"") | O3: =IF(H3=CRQ!$A$1,L3,"") | P3: =IF(I3=CRQ!$A$1-1,L3,"") | R3: R | S3: =COUNTIF($N:$N,S1) -> 0 | T3: =COUNTIF($N:$N,T1) -> 0 | U3: =COUNTIF($N:$N,U1) -> 0 | V3: =SUM(S3:U3) -> 0
B4: SGT | H4: 42893 | I4: 42953 | K4: =IF(AND($K$2>=H4,$K$2<=I4),"OUI","NON") -> OUI | L4: =IF(OR(B4="CES",B4="CNE",B4="LTN",B4="SLT",B4="ASP"),"X",IF(OR(B4="ACH",B4="ADC",B4="ADJ",B4="MAJ",B4="MJR",B4="MDL",B4="MCH",B4="MDC",B4="SGT",B4="SGC",B4="SCH"),"Y","Z")) -> Y | M4: =IF(K4="OUI",L4,"") -> Y | N4: =IF(C4="R",M4,"") | O4: =IF(H4=CRQ!$A$1,L4,"") | P4: =IF(I4=CRQ!$A$1-1,L4,"") | R4: IN | S4: =COUNTIF($O:$O,S1) -> 0 | T4: =COUNTIF($O:$O,T1) -> 0 | U4: =COUNTIF($O:$O,U1) -> 0 | V4: =SUM(S4:U4) -> 0
B5: CCH | H5: 42892 | I5: 42953 | K5: =IF(AND($K$2>=H5,$K$2<=I5),"OUI","NON") -> OUI | L5: =IF(OR(B5="CES",B5="CNE",B5="LTN",B5="SLT",B5="ASP"),"X",IF(OR(B5="ACH",B5="ADC",B5="ADJ",B5="MAJ",B5="MJR",B5="MDL",B5="MCH",B5="MDC",B5="SGT",B5="SGC",B5="SCH"),"Y","Z")) -> Z | M5: =IF(K5="OUI",L5,"") -> Z | N5: =IF(C5="R",M5,"") | O5: =IF(H5=CRQ!$A$1,L5,"") | P5: =IF(I5=CRQ!$A$1-1,L5,"") | R5: OUT | S5: =COUNTIF($P:$P,S1) -> 0 | T5: =COUNTIF($P:$P,T1) -> 0 | U5: =COUNTIF($P:$P,U1) -> 0 | V5: =SUM(S5:U5) -> 0
B6: CCH | H6: 42892 | I6: 42953 | K6: =IF(AND($K$2>=H6,$K$2<=I6),"OUI","NON") -> OUI | L6: =IF(OR(B6="CES",B6="CNE",B6="LTN",B6="SLT",B6="ASP"),"X",IF(OR(B6="ACH",B6="ADC",B6="ADJ",B6="MAJ",B6="MJR",B6="MDL",B6="MCH",B6="MDC",B6="SGT",B6="SGC",B6="SCH"),"Y","Z")) -> Z | M6: =IF(K6="OUI",L6,"") -> Z | N6: =IF(C6="R",M6,"") | O6: =IF(H6=CRQ!$A$1,L6,"") | P6: =IF(I6=CRQ!$A$1-1,L6,"")
B7: CPL | H7: 42892 | I7: 42953 | K7: =IF(AND($K$2>=H7,$K$2<=I7),"OUI","NON") -> OUI | L7: =IF(OR(B7="CES",B7="CNE",B7="LTN",B7="SLT",B7="ASP"),"X",IF(OR(B7="ACH",B7="ADC",B7="ADJ",B7="MAJ",B7="MJR",B7="MDL",B7="MCH",B7="MDC",B7="SGT",B7="SGC",B7="SCH"),"Y","Z")) -> Z | M7: =IF(K7="OUI",L7,"") -> Z | N7: =IF(C7="R",M7,"") | O7: =IF(H7=CRQ!$A$1,L7,"") | P7: =IF(I7=CRQ!$A$1-1,L7,"")
B8: CCH | H8: 42893 | I8: 42953 | K8: =IF(AND($K$2>=H8,$K$2<=I8),"OUI","NON") -> OUI | L8: =IF(OR(B8="CES",B8="CNE",B8="LTN",B8="SLT",B8="ASP"),"X",IF(OR(B8="ACH",B8="ADC",B8="ADJ",B8="MAJ",B8="MJR",B8="MDL",B8="MCH",B8="MDC",B8="SGT",B8="SGC",B8="SCH"),"Y","Z")) -> Z | M8: =IF(K8="OUI",L8,"") -> Z | N8: =IF(C8="R",M8,"") | O8: =IF(H8=CRQ!$A$1,L8,"") | P8: =IF(I8=CRQ!$A$1-1,L8,"")
B9: CPL | H9: 42893 | I9: 42953 | K9: =IF(AND($K$2>=H9,$K$2<=I9),"OUI","NON") -> OUI | L9: =IF(OR(B9="CES",B9="CNE",B9="LTN",B9="SLT",B9="ASP"),"X",IF(OR(B9="ACH",B9="ADC",B9="ADJ",B9="MAJ",B9="MJR",B9="MDL",B9="MCH",B9="MDC",B9="SGT",B9="SGC",B9="SCH"),"Y","Z")) -> Z | M9: =IF(K9="OUI",L9,"") -> Z | N9: =IF(C9="R",M9,"") | O9: =IF(H9=CRQ!$A$1,L9,"") | P9: =IF(I9=CRQ!$A$1-1,L9,"")
B10: CPL | H10: 42893 | I10: 42953 | K10: =IF(AND($K$2>=H10,$K$2<=I10),"OUI","NON") -> OUI | L10: =IF(OR(B10="CES",B10="CNE",B10="LTN",B10="SLT",B10="ASP"),"X",IF(OR(B10="ACH",B10="ADC",B10="ADJ",B10="MAJ",B10="MJR",B10="MDL",B10="MCH",B10="MDC",B10="SGT",B10="SGC",B10="SCH"),"Y","Z")) -> Z | M10: =IF(K10="OUI",L10,"") -> Z | N10: =IF(C10="R",M10,"") | O10: =IF(H10=CRQ!$A$1,L10,"") | P10: =IF(I10=CRQ!$A$1-1,L10,"")
B11: CPL | H11: 42893 | I11: 42953 | K11: =IF(AND($K$2>=H11,$K$2<=I11),"OUI","NON") -> OUI | L11: =IF(OR(B11="CES",B11="CNE",B11="LTN",B11="SLT",B11="ASP"),"X",IF(OR(B11="ACH",B11="ADC",B11="ADJ",B11="MAJ",B11="MJR",B11="MDL",B11="MCH",B11="MDC",B11="SGT",B11="SGC",B11="SCH"),"Y","Z")) -> Z | M11: =IF(K11="OUI",L11,"") -> Z | N11: =IF(C11="R",M11,"") | O11: =IF(H11=CRQ!$A$1,L11,"") | P11: =IF(I11=CRQ!$A$1-1,L11,"")
B12: 1CL | H12: 42893 | I12: 42953 | K12: =IF(AND($K$2>=H12,$K$2<=I12),"OUI","NON") -> OUI | L12: =IF(OR(B12="CES",B12="CNE",B12="LTN",B12="SLT",B12="ASP"),"X",IF(OR(B12="ACH",B12="ADC",B12="ADJ",B12="MAJ",B12="MJR",B12="MDL",B12="MCH",B12="MDC",B12="SGT",B12="SGC",B12="SCH"),"Y","Z")) -> Z | M12: =IF(K12="OUI",L12,"") -> Z | N12: =IF(C12="R",M12,"") | O12: =IF(H12=CRQ!$A$1,L12,"") | P12: =IF(I12=CRQ!$A$1-1,L12,"")
B13: LEG | H13: 42893 | I13: 42953 | K13: =IF(AND($K$2>=H13,$K$2<=I13),"OUI","NON") -> OUI | L13: =IF(OR(B13="CES",B13="CNE",B13="LTN",B13="SLT",B13="ASP"),"X",IF(OR(B13="ACH",B13="ADC",B13="ADJ",B13="MAJ",B13="MJR",B13="MDL",B13="MCH",B13="MDC",B13="SGT",B13="SGC",B13="SCH"),"Y","Z")) -> Z | M13: =IF(K13="OUI",L13,"") -> Z | N13: =IF(C13="R",M13,"") | O13: =IF(H13=CRQ!$A$1,L13,"") | P13: =IF(I13=CRQ!$A$1-1,L13,"")
B14: 1CL | H14: 42893 | I14: 42953 | K14: =IF(AND($K$2>=H14,$K$2<=I14),"OUI","NON") -> OUI | L14: =IF(OR(B14="CES",B14="CNE",B14="LTN",B14="SLT",B14="ASP"),"X",IF(OR(B14="ACH",B14="ADC",B14="ADJ",B14="MAJ",B14="MJR",B14="MDL",B14="MCH",B14="MDC",B14="SGT",B14="SGC",B14="SCH"),"Y","Z")) -> Z | M14: =IF(K14="OUI",L14,"") -> Z | N14: =IF(C14="R",M14,"") | O14: =IF(H14=CRQ!$A$1,L14,"") | P14: =IF(I14=CRQ!$A$1-1,L14,"")
B15: 1CL | H15: 42893 | I15: 42953 | K15: =IF(AND($K$2>=H15,$K$2<=I15),"OUI","NON") -> OUI | L15: =IF(OR(B15="CES",B15="CNE",B15="LTN",B15="SLT",B15="ASP"),"X",IF(OR(B15="ACH",B15="ADC",B15="ADJ",B15="MAJ",B15="MJR",B15="MDL",B15="MCH",B15="MDC",B15="SGT",B15="SGC",B15="SCH"),"Y","Z")) -> Z | M15: =IF(K15="OUI",L15,"") -> Z | N15: =IF(C15="R",M15,"") | O15: =IF(H15=CRQ!$A$1,L15,"") | P15: =IF(I15=CRQ!$A$1-1,L15,"")
B16: LEG | H16: 42893 | I16: 42953 | K16: =IF(AND($K$2>=H16,$K$2<=I16),"OUI","NON") -> OUI | L16: =IF(OR(B16="CES",B16="CNE",B16="LTN",B16="SLT",B16="ASP"),"X",IF(OR(B16="ACH",B16="ADC",B16="ADJ",B16="MAJ",B16="MJR",B16="MDL",B16="MCH",B16="MDC",B16="SGT",B16="SGC",B16="SCH"),"Y","Z")) -> Z | M16: =IF(K16="OUI",L16,"") -> Z | N16: =IF(C16="R",M16,"") | O16: =IF(H16=CRQ!$A$1,L16,"") | P16: =IF(I16=CRQ!$A$1-1,L16,"")
B17: 1CL | H17: 42893 | I17: 42953 | K17: =IF(AND($K$2>=H17,$K$2<=I17),"OUI","NON") -> OUI | L17: =IF(OR(B17="CES",B17="CNE",B17="LTN",B17="SLT",B17="ASP"),"X",IF(OR(B17="ACH",B17="ADC",B17="ADJ",B17="MAJ",B17="MJR",B17="MDL",B17="MCH",B17="MDC",B17="SGT",B17="SGC",B17="SCH"),"Y","Z")) -> Z | M17: =IF(K17="OUI",L17,"") -> Z | N17: =IF(C17="R",M17,"") | O17: =IF(H17=CRQ!$A$1,L17,"") | P17: =IF(I17=CRQ!$A$1-1,L17,"")
... B29: 1CL | H29: 42893 | I29: 42953 | K29: =IF(AND($K$2>=H29,$K$2<=I29),"OUI","NON") -> OUI | L29: =IF(OR(B29="CES",B29="CNE",B29="LTN",B29="SLT",B29="ASP"),"X",IF(OR(B29="ACH",B29="ADC",B29="ADJ",B29="MAJ",B29="MJR",B29="MDL",B29="MCH",B29="MDC",B29="SGT",B29="SGC",B29="SCH"),"Y","Z")) -> Z | M29: =IF(K29="OUI",L29,"") -> Z | N29: =IF(C29="R",M29,"") | O29: =IF(H29=CRQ!$A$1,L29,"") | P29: =IF(I29=CRQ!$A$1-1,L29,"")
K30: =IF(AND($K$2>=H30,$K$2<=I30),"OUI","NON") -> NON | L30: =IF(OR(B30="CES",B30="CNE",B30="LTN",B30="SLT",B30="ASP"),"X",IF(OR(B30="ACH",B30="ADC",B30="ADJ",B30="MAJ",B30="MJR",B30="MDL",B30="MCH",B30="MDC",B30="SGT",B30="SGC",B30="SCH"),"Y","Z")) -> Z | M30: =IF(K30="OUI",L30,"") | N30: =IF(C30="R",M30,"") | O30: =IF(H30=CRQ!$A$1,L30,"") | P30: =IF(I30=CRQ!$A$1-1,L30,"")
K31: =IF(AND($K$2>=H31,$K$2<=I31),"OUI","NON") -> NON | L31: =IF(OR(B31="CES",B31="CNE",B31="LTN",B31="SLT",B31="ASP"),"X",IF(OR(B31="ACH",B31="ADC",B31="ADJ",B31="MAJ",B31="MJR",B31="MDL",B31="MCH",B31="MDC",B31="SGT",B31="SGC",B31="SCH"),"Y","Z")) -> Z | M31: =IF(K31="OUI",L31,"") | N31: =IF(C31="R",M31,"") | O31: =IF(H31=CRQ!$A$1,L31,"") | P31: =IF(I31=CRQ!$A$1-1,L31,"")
K32: =IF(AND($K$2>=H32,$K$2<=I32),"OUI","NON") -> NON | L32: =IF(OR(B32="CES",B32="CNE",B32="LTN",B32="SLT",B32="ASP"),"X",IF(OR(B32="ACH",B32="ADC",B32="ADJ",B32="MAJ",B32="MJR",B32="MDL",B32="MCH",B32="MDC",B32="SGT",B32="SGC",B32="SCH"),"Y","Z")) -> Z | M32: =IF(K32="OUI",L32,"") | N32: =IF(C32="R",M32,"") | O32: =IF(H32=CRQ!$A$1,L32,"") | P32: =IF(I32=CRQ!$A$1-1,L32,"")
K33: =IF(AND($K$2>=H33,$K$2<=I33),"OUI","NON") -> NON | L33: =IF(OR(B33="CES",B33="CNE",B33="LTN",B33="SLT",B33="ASP"),"X",IF(OR(B33="ACH",B33="ADC",B33="ADJ",B33="MAJ",B33="MJR",B33="MDL",B33="MCH",B33="MDC",B33="SGT",B33="SGC",B33="SCH"),"Y","Z")) -> Z | M33: =IF(K33="OUI",L33,"") | N33: =IF(C33="R",M33,"") | O33: =IF(H33=CRQ!$A$1,L33,"") | P33: =IF(I33=CRQ!$A$1-1,L33,"")
K34: =IF(AND($K$2>=H34,$K$2<=I34),"OUI","NON") -> NON | L34: =IF(OR(B34="CES",B34="CNE",B34="LTN",B34="SLT",B34="ASP"),"X",IF(OR(B34="ACH",B34="ADC",B34="ADJ",B34="MAJ",B34="MJR",B34="MDL",B34="MCH",B34="MDC",B34="SGT",B34="SGC",B34="SCH"),"Y","Z")) -> Z | M34: =IF(K34="OUI",L34,"") | N34: =IF(C34="R",M34,"") | O34: =IF(H34=CRQ!$A$1,L34,"") | P34: =IF(I34=CRQ!$A$1-1,L34,"")
K35: =IF(AND($K$2>=H35,$K$2<=I35),"OUI","NON") -> NON | L35: =IF(OR(B35="CES",B35="CNE",B35="LTN",B35="SLT",B35="ASP"),"X",IF(OR(B35="ACH",B35="ADC",B35="ADJ",B35="MAJ",B35="MJR",B35="MDL",B35="MCH",B35="MDC",B35="SGT",B35="SGC",B35="SCH"),"Y","Z")) -> Z | M35: =IF(K35="OUI",L35,"") | N35: =IF(C35="R",M35,"") | O35: =IF(H35=CRQ!$A$1,L35,"") | P35: =IF(I35=CRQ!$A$1-1,L35,"")
K36: =IF(AND($K$2>=H36,$K$2<=I36),"OUI","NON") -> NON | L36: =IF(OR(B36="CES",B36="CNE",B36="LTN",B36="SLT",B36="ASP"),"X",IF(OR(B36="ACH",B36="ADC",B36="ADJ",B36="MAJ",B36="MJR",B36="MDL",B36="MCH",B36="MDC",B36="SGT",B36="SGC",B36="SCH"),"Y","Z")) -> Z | M36: =IF(K36="OUI",L36,"") | N36: =IF(C36="R",M36,"") | O36: =IF(H36=CRQ!$A$1,L36,"") | P36: =IF(I36=CRQ!$A$1-1,L36,"")
K37: =IF(AND($K$2>=H37,$K$2<=I37),"OUI","NON") -> NON | L37: =IF(OR(B37="CES",B37="CNE",B37="LTN",B37="SLT",B37="ASP"),"X",IF(OR(B37="ACH",B37="ADC",B37="ADJ",B37="MAJ",B37="MJR",B37="MDL",B37="MCH",B37="MDC",B37="SGT",B37="SGC",B37="SCH"),"Y","Z")) -> Z | M37: =IF(K37="OUI",L37,"") | N37: =IF(C37="R",M37,"") | O37: =IF(H37=CRQ!$A$1,L37,"") | P37: =IF(I37=CRQ!$A$1-1,L37,"")
K38: =IF(AND($K$2>=H38,$K$2<=I38),"OUI","NON") -> NON | L38: =IF(OR(B38="CES",B38="CNE",B38="LTN",B38="SLT",B38="ASP"),"X",IF(OR(B38="ACH",B38="ADC",B38="ADJ",B38="MAJ",B38="MJR",B38="MDL",B38="MCH",B38="MDC",B38="SGT",B38="SGC",B38="SCH"),"Y","Z")) -> Z | M38: =IF(K38="OUI",L38,"") | N38: =IF(C38="R",M38,"") | O38: =IF(H38=CRQ!$A$1,L38,"") | P38: =IF(I38=CRQ!$A$1-1,L38,"")
K39: =IF(AND($K$2>=H39,$K$2<=I39),"OUI","NON") -> NON | L39: =IF(OR(B39="CES",B39="CNE",B39="LTN",B39="SLT",B39="ASP"),"X",IF(OR(B39="ACH",B39="ADC",B39="ADJ",B39="MAJ",B39="MJR",B39="MDL",B39="MCH",B39="MDC",B39="SGT",B39="SGC",B39="SCH"),"Y","Z")) -> Z | M39: =IF(K39="OUI",L39,"") | N39: =IF(C39="R",M39,"") | O39: =IF(H39=CRQ!$A$1,L39,"") | P39: =IF(I39=CRQ!$A$1-1,L39,"")
K40: =IF(AND($K$2>=H40,$K$2<=I40),"OUI","NON") -> NON | L40: =IF(OR(B40="CES",B40="CNE",B40="LTN",B40="SLT",B40="ASP"),"X",IF(OR(B40="ACH",B40="ADC",B40="ADJ",B40="MAJ",B40="MJR",B40="MDL",B40="MCH",B40="MDC",B40="SGT",B40="SGC",B40="SCH"),"Y","Z")) -> Z | M40: =IF(K40="OUI",L40,"") | N40: =IF(C40="R",M40,"") | O40: =IF(H40=CRQ!$A$1,L40,"") | P40: =IF(I40=CRQ!$A$1-1,L40,"")
K41: =IF(AND($K$2>=H41,$K$2<=I41),"OUI","NON") -> NON | L41: =IF(OR(B41="CES",B41="CNE",B41="LTN",B41="SLT",B41="ASP"),"X",IF(OR(B41="ACH",B41="ADC",B41="ADJ",B41="MAJ",B41="MJR",B41="MDL",B41="MCH",B41="MDC",B41="SGT",B41="SGC",B41="SCH"),"Y","Z")) -> Z | M41: =IF(K41="OUI",L41,"") | N41: =IF(C41="R",M41,"") | O41: =IF(H41=CRQ!$A$1,L41,"") | P41: =IF(I41=CRQ!$A$1-1,L41,"")
... K50: =IF(AND($K$2>=H50,$K$2<=I50),"OUI","NON") -> NON | L50: =IF(OR(B50="CES",B50="CNE",B50="LTN",B50="SLT",B50="ASP"),"X",IF(OR(B50="ACH",B50="ADC",B50="ADJ",B50="MAJ",B50="MJR",B50="MDL",B50="MCH",B50="MDC",B50="SGT",B50="SGC",B50="SCH"),"Y","Z")) -> Z | M50: =IF(K50="OUI",L50,"") | N50: =IF(C50="R",M50,"") | O50: =IF(H50=CRQ!$A$1,L50,"") | P50: =IF(I50=CRQ!$A$1-1,L50,"")

Sheet CRQ
A1: 42905 | U1: EMT13 | V1: =DATE -> 42905 | W1: 42894 | X1: 42895 | Y1: 42896 | Z1: 42897 | AA1: 42898 | AB1: 42899 | AC1: 42900 | AD1: 42901 | AE1: 42902 | AF1: 42903 | AG1: 42904 | AH1: 42905 | AI1: 42906 | AJ1: 42907 | AK1: 42908 | AL1: 42909 | AM1: 42910 | AN1: 42911 | AO1: 42912 | AP1: 42913 | AQ1: 42914 | AR1: 42915 | AS1: 42916 | AT1: 42917 | AU1: 42918 | AV1: 42919 | AW1: 42920 | AX1: 42921 | AY1: 42922 | AZ1: 42923 | BA1: 42924 | BB1: 42925 | BC1: 42926 | BD1: 42927 | BE1: 42928 | BF1: 42929 | BG1: 42930 | BH1: 42931 | BI1: 42932 | BJ1: 42933 | BK1: 42934 | BL1: 42935 | BM1: 42936 | BN1: 42937 | BO1: 42938 | BP1: 42939 | BQ1: 42940 | BR1: 42941 | BS1: 42942 | BT1: 42943 | BU1: 42944 | BV1: 42945 | BW1: 42946 | BX1: 42947 | BY1: 42948 | BZ1: 42949 | CA1: 42950 | CB1: 42951 | CC1: 42952 | CD1: 42953 | CE1: THEORIE
C2: X | D2: Y | E2: Z | F2: T | G2: SPA | H2: CRQ | K2: =A1 -> 42905 | L2: X | M2: Y | N2: Z | O2: T | V2: =F3 -> 15 | W2: 14 | X2: 14 | Y2: 14 | Z2: 14 | AA2: 14 | AB2: 14 | AC2: 14 | AD2: 14 | AE2: 14 | AF2: 14 | AG2: 14 | AH2: 15 | AI2: 15 | AJ2: 15 | AK2: 15 | AL2: 16 | AM2: 16 | AN2: 15 | AO2: 15 | AP2: 14 | AQ2: 15 | AR2: 15 | AS2: 13 | AT2: 14 | AU2: 13 | AV2: 17 | AW2: 18 | AX2: 18 | AY2: 14 | AZ2: 14 | BA2: 14 | BB2: 14 | BC2: 15 | BD2: 15 | BE2: 15 | BF2: 14 | BG2: 14 | BH2: 14 | BI2: 14 | BJ2: 14 | BK2: 14 | BL2: 14 | BM2: 14 | BN2: 14 | BO2: 14 | BP2: 14 | BQ2: 14 | BR2: 13 | BS2: 13 | BT2: 13 | BU2: 13 | BV2: 13 | BW2: 13 | BX2: 13 | BY2: 13 | BZ2: 13 | CA2: 13 | CB2: 13 | CC2: 0 | CD2: 0 | CE2: 14
A3: EMT13 | C3: ='EMT13'!S2 -> 6 | D3: ='EMT13'!T2 -> 7 | E3: ='EMT13'!U2 -> 2 | F3: ='EMT13'!V2 -> 15 | G3: OK | H3: OK | J3: =IF(AND(G3="OK",G7="OK",G11="OK",G15="OK",G19="OK",G23="OK"),"OK","") -> OK | K3: Réalisé | L3: =C3+C7+C11+C15+C19+C23 -> 24 | M3: =D3+D7+D11+D15+D19+D23 -> 68 | N3: =E3+E7+E11+E15+E19+E23 -> 305 | O3: =F3+F7+F11+F15+F19+F23 -> 397 | V3: =V2-$CE$2 -> 1 | W3: =W2-$CE$2 -> 0 | X3: =X2-$CE$2 -> 0 | Y3: =Y2-$CE$2 -> 0 | Z3: =Z2-$CE$2 -> 0 | AA3: =AA2-$CE$2 -> 0 | AB3: =AB2-$CE$2 -> 0 | AC3: =AC2-$CE$2 -> 0 | ... CD3: =CD2-$CE$2 -> -14
C4: ='EMT13'!S3 -> 3 | D4: ='EMT13'!T3 -> 1 | E4: ='EMT13'!U3 -> 0 | F4: ='EMT13'!V3 -> 4 | K4: Théorique | L4: 22 | M4: 109 | N4: 262 | O4: 393 | U4: UE131 | V4: =DATE -> 42905 | W4: 42894 | X4: 42895 | Y4: 42896 | Z4: 42897 | AA4: 42898 | AB4: 42899 | AC4: 42900 | AD4: 42901 | AE4: 42902 | AF4: 42903 | AG4: 42904 | AH4: 42905 | AI4: 42906 | AJ4: 42907 | AK4: 42908 | AL4: 42909 | AM4: 42910 | AN4: 42911 | AO4: 42912 | AP4: 42913 | AQ4: 42914 | AR4: 42915 | AS4: 42916 | AT4: 42917 | AU4: 42918 | AV4: 42919 | AW4: 42920 | AX4: 42921 | AY4: 42922 | AZ4: 42923 | BA4: 42924 | BB4: 42925 | BC4: 42926 | BD4: 42927 | BE4: 42928 | BF4: 42929 | BG4: 42930 | BH4: 42931 | BI4: 42932 | BJ4: 42933 | BK4: 42934 | BL4: 42935 | BM4: 42936 | BN4: 42937 | BO4: 42938 | BP4: 42939 | BQ4: 42940 | BR4: 42941 | BS4: 42942 | BT4: 42943 | BU4: 42944 | BV4: 42945 | BW4: 42946 | BX4: 42947 | BY4: 42948 | BZ4: 42949 | CA4: 42950 | CB4: 42951 | CC4: 42952 | CD4: 42953 | CE4: 88
C5: ='EMT13'!S4 -> 1 | D5: ='EMT13'!T4 -> 0 | E5: ='EMT13'!U4 -> 0 | F5: ='EMT13'!V4 -> 1 | K5: IN | L5: =C5+C9+C13+C17+C21+C25 -> 2 | M5: =D5+D9+D13+D17+D21+D25 -> 2 | N5: =E5+E9+E13+E17+E21+E25 -> 11 | O5: =F5+F9+F13+F17+F21+F25 -> 15 | V5: =F7 -> 92 | W5: 85 | X5: 85 | Y5: 84 | Z5: 84 | AA5: 85 | AB5: 85 | AC5: 85 | AD5: 85 | AE5: 85 | AF5: 85 | AG5: 85 | AH5: 92 | AI5: 92 | AJ5: 93 | AK5: 92 | AL5: 91 | AM5: 93 | AN5: 93 | AO5: 93 | AP5: 94 | AQ5: 94 | AR5: 94 | AS5: 94 | AT5: 94 | AU5: 94 | AV5: 95 | AW5: 95 | AX5: 95 | AY5: 95 | AZ5: 95 | BA5: 95 | BB5: 95 | BC5: 94 | BD5: 94 | BE5: 94 | BF5: 94 | BG5: 95 | BH5: 95 | BI5: 95 | BJ5: 95 | BK5: 95 | BL5: 95 | BM5: 95 | BN5: 95 | BO5: 95 | BP5: 95 | BQ5: 95 | BR5: 95 | BS5: 95 | BT5: 95 | BU5: 95 | BV5: 95 | BW5: 95 | BX5: 94 | BY5: 94 | BZ5: 94 | CA5: 94 | CB5: 94 | CC5: 94 | CD5: 94
C6: ='EMT13'!S5 -> 0 | D6: ='EMT13'!T5 -> 0 | E6: ='EMT13'!U5 -> 0 | F6: ='EMT13'!V5 -> 0 | K6: OUT | L6: =C6+C10+C14+C18+C22+C26 -> 0 | M6: =D6+D10+D14+D18+D22+D26 -> 0 | N6: =E6+E10+E14+E18+E22+E26 -> 2 | O6: =F6+F10+F14+F18+F22+F26 -> 2 | W6: =W5-$CE$4 -> -3 | X6: =X5-$CE$4 -> -3 | Y6: =Y5-$CE$4 -> -4 | Z6: =Z5-$CE$4 -> -4 | AA6: =AA5-$CE$4 -> -3 | AB6: =AB5-$CE$4 -> -3 | AC6: =AC5-$CE$4 -> -3 | AD6: =AD5-$CE$4 -> -3 | ... CD6: =CD5-$CE$4 -> 6
A7: UE131 | C7: ='UE131'!S2 -> 5 | D7: ='UE131'!T2 -> 14 | E7: ='UE131'!U2 -> 73 | F7: ='UE131'!V2 -> 92 | G7: OK | K7: Delta | L7: =O3-O4 -> 4 | U7: UE132 | V7: =DATE -> 42905 | W7: 42894 | X7: 42895 | Y7: 42896 | Z7: 42897 | AA7: 42898 | AB7: 42899 | AC7: 42900 | AD7: 42901 | AE7: 42902 | AF7: 42903 | AG7: 42904 | AH7: 42905 | AI7: 42906 | AJ7: 42907 | AK7: 42908 | AL7: 42909 | AM7: 42910 | AN7: 42911 | AO7: 42912 | AP7: 42913 | AQ7: 42914 | AR7: 42915 | AS7: 42916 | AT7: 42917 | AU7: 42918 | AV7: 42919 | AW7: 42920 | AX7: 42921 | AY7: 42922 | AZ7: 42923 | BA7: 42924 | BB7: 42925 | BC7: 42926 | BD7: 42927 | BE7: 42928 | BF7: 42929 | BG7: 42930 | BH7: 42931 | BI7: 42932 | BJ7: 42933 | BK7: 42934 | BL7: 42935 | BM7: 42936 | BN7: 42937 | BO7: 42938 | BP7: 42939 | BQ7: 42940 | BR7: 42941 | BS7: 42942 | BT7: 42943 | BU7: 42944 | BV7: 42945 | BW7: 42946 | BX7: 42947 | BY7: 42948 | BZ7: 42949 | CA7: 42950 | CB7: 42951 | CC7: 42952 | CD7: 42953 | CE7: 88
C8: ='UE131'!S3 -> 0 | D8: ='UE131'!T3 -> 0 | E8: ='UE131'!U3 -> 0 | F8: ='UE131'!V3 -> 0 | J8: =IF(AND(G3="OK",G7="OK",G11="OK",G15="OK",G19="OK",G23="OK"),"OK","") -> OK | L8: =C4+C8+C12+C16+C20+C24 -> 3 | M8: =D4+D8+D12+D16+D20+D24 -> 1 | N8: =E4+E8+E12+E16+E20+E24 -> 0 | O8: =F4+F8+F12+F16+F20+F24 -> 4 | V8: =F11 -> 88 | W8: 88 | X8: 87 | Y8: 89 | Z8: 88 | AA8: 87 | AB8: 87 | AC8: 88 | AD8: 88 | AE8: 88 | AF8: 88 | AG8: 88 | AH8: 88 | AI8: 88 | AJ8: 88 | AK8: 88 | AL8: 87 | AM8: 89 | AN8: 89 | AO8: 90 | AP8: 90 | AQ8: 90 | AR8: 91 | AS8: 91 | AT8: 91 | AU8: 117 | AV8: 116 | AW8: 116 | AX8: 116 | AY8: 116 | AZ8: 116 | BA8: 116 | BB8: 116 | BC8: 117 | BD8: 117 | BE8: 117 | BF8: 117 | BG8: 118 | BH8: 120 | BI8: 120 | BJ8: 120 | BK8: 93 | BL8: 93 | BM8: 93 | BN8: 93 | BO8: 94 | BP8: 93 | BQ8: 93 | BR8: 93 | BS8: 93 | BT8: 93 | BU8: 93 | BV8: 93 | BW8: 93 | BX8: 93 | BY8: 93 | BZ8: 93 | CA8: 93 | CB8: 93 | CC8: 93 | CD8: 93
C9: ='UE131'!S4 -> 0 | D9: ='UE131'!T4 -> 0 | E9: ='UE131'!U4 -> 7 | F9: ='UE131'!V4 -> 7 | W9: =W8-$CE$7 -> 0 | X9: =X8-$CE$7 -> -1 | Y9: =Y8-$CE$7 -> 1 | Z9: =Z8-$CE$7 -> 0 | AA9: =AA8-$CE$7 -> -1 | AB9: =AB8-$CE$7 -> -1 | AC9: =AC8-$CE$7 -> 0 | AD9: =AD8-$CE$7 -> 0 | ... CD9: =CD8-$CE$7 -> 5
C10: ='UE131'!S5 -> 0 | D10: ='UE131'!T5 -> 0 | E10: ='UE131'!U5 -> 0 | F10: ='UE131'!V5 -> 0 | U10: UE133 | V10: =DATE -> 42905 | W10: 42894 | X10: 42895 | Y10: 42896 | Z10: 42897 | AA10: 42898 | AB10: 42899 | AC10: 42900 | AD10: 42901 | AE10: 42902 | AF10: 42903 | AG10: 42904 | AH10: 42905 | AI10: 42906 | AJ10: 42907 | AK10: 42908 | AL10: 42909 | AM10: 42910 | AN10: 42911 | AO10: 42912 | AP10: 42913 | AQ10: 42914 | AR10: 42915 | AS10: 42916 | AT10: 42917 | AU10: 42918 | AV10: 42919 | AW10: 42920 | AX10: 42921 | AY10: 42922 | AZ10: 42923 | BA10: 42924 | BB10: 42925 | BC10: 42926 | BD10: 42927 | BE10: 42928 | BF10: 42929 | BG10: 42930 | BH10: 42931 | BI10: 42932 | BJ10: 42933 | BK10: 42934 | BL10: 42935 | BM10: 42936 | BN10: 42937 | BO10: 42938 | BP10: 42939 | BQ10: 42940 | BR10: 42941 | BS10: 42942 | BT10: 42943 | BU10: 42944 | BV10: 42945 | BW10: 42946 | BX10: 42947 | BY10: 42948 | BZ10: 42949 | CA10: 42950 | CB10: 42951 | CC10: 42952 | CD10: 42953 | CE10: 88
A11: UE132 | C11: ='UE132'!S2 -> 5 | D11: ='UE132'!T2 -> 16 | E11: ='UE132'!U2 -> 67 | F11: ='UE132'!V2 -> 88 | G11: OK | V11: =F15 -> 90 | W11: 88 | X11: 88 | Y11: 88 | Z11: 88 | AA11: 91 | AB11: 91 | AC11: 89 | AD11: 90 | AE11: 90 | AF11: 90 | AG11: 90 | AH11: 90 | AI11: 90 | AJ11: 90 | AK11: 89 | AL11: 89 | AM11: 89 | AN11: 89 | AO11: 89 | AP11: 89 | AQ11: 89 | AR11: 89 | AS11: 89 | AT11: 89 | AU11: 89 | AV11: 89 | AW11: 89 | AX11: 89 | AY11: 89 | AZ11: 89 | BA11: 89 | BB11: 89 | BC11: 89 | BD11: 89 | BE11: 89 | BF11: 89 | BG11: 89 | BH11: 89 | BI11: 89 | BJ11: 89 | BK11: 89 | BL11: 89 | BM11: 89 | BN11: 89 | BO11: 89 | BP11: 89 | BQ11: 89 | BR11: 89 | BS11: 89 | BT11: 89 | BU11: 89 | BV11: 89 | BW11: 89 | BX11: 89 | BY11: 89 | BZ11: 89 | CA11: 89 | CB11: 89 | CC11: 89 | CD11: 89
C12: ='UE132'!S3 -> 0 | D12: ='UE132'!T3 -> 0 | E12: ='UE132'!U3 -> 0 | F12: ='UE132'!V3 -> 0 | W12: =W11-$CE$10 -> 0 | X12: =X11-$CE$10 -> 0 | Y12: =Y11-$CE$10 -> 0 | Z12: =Z11-$CE$10 -> 0 | AA12: =AA11-$CE$10 -> 3 | AB12: =AB11-$CE$10 -> 3 | AC12: =AC11-$CE$10 -> 1 | AD12: =AD11-$CE$10 -> 2 | ... CD12: =CD11-$CE$10 -> 1
C13: ='UE132'!S4 -> 1 | D13: ='UE132'!T4 -> 0 | E13: ='UE132'!U4 -> 0 | F13: ='UE132'!V4 -> 1 | U13: UE134 | V13: =DATE -> 42905 | W13: 42894 | X13: 42895 | Y13: 42896 | Z13: 42897 | AA13: 42898 | AB13: 42899 | AC13: 42900 | AD13: 42901 | AE13: 42902 | AF13: 42903 | AG13: 42904 | AH13: 42905 | AI13: 42906 | AJ13: 42907 | AK13: 42908 | AL13: 42909 | AM13: 42910 | AN13: 42911 | AO13: 42912 | AP13: 42913 | AQ13: 42914 | AR13: 42915 | AS13: 42916 | AT13: 42917 | AU13: 42918 | AV13: 42919 | AW13: 42920 | AX13: 42921 | AY13: 42922 | AZ13: 42923 | BA13: 42924 | BB13: 42925 | BC13: 42926 | BD13: 42927 | BE13: 42928 | BF13: 42929 | BG13: 42930 | BH13: 42931 | BI13: 42932 | BJ13: 42933 | BK13: 42934 | BL13: 42935 | BM13: 42936 | BN13: 42937 | BO13: 42938 | BP13: 42939 | BQ13: 42940 | BR13: 42941 | BS13: 42942 | BT13: 42943 | BU13: 42944 | BV13: 42945 | BW13: 42946 | BX13: 42947 | BY13: 42948 | BZ13: 42949 | CA13: 42950 | CB13: 42951 | CC13: 42952 | CD13: 42953 | CE13: 88
C14: ='UE132'!S5 -> 0 | D14: ='UE132'!T5 -> 0 | E14: ='UE132'!U5 -> 1 | F14: ='UE132'!V5 -> 1 | V14: =F19 -> 85 | W14: 80 | X14: 80 | Y14: 80 | Z14: 80 | AA14: 81 | AB14: 81 | AC14: 80 | AD14: 79 | AE14: 79 | AF14: 80 | AG14: 80 | AH14: 85 | AI14: 85 | AJ14: 85 | AK14: 85 | AL14: 85 | AM14: 86 | AN14: 86 | AO14: 86 | AP14: 86 | AQ14: 86 | AR14: 86 | AS14: 86 | AT14: 86 | AU14: 86 | AV14: 86 | AW14: 86 | AX14: 86 | AY14: 86 | AZ14: 85 | BA14: 85 | BB14: 85 | BC14: 85 | BD14: 85 | BE14: 85 | BF14: 85 | BG14: 85 | BH14: 85 | BI14: 85 | BJ14: 85 | BK14: 85 | BL14: 85 | BM14: 85 | BN14: 85 | BO14: 85 | BP14: 85 | BQ14: 85 | BR14: 85 | BS14: 85 | BT14: 85 | BU14: 85 | BV14: 85 | BW14: 85 | BX14: 85 | BY14: 85 | BZ14: 85 | CA14: 85 | CB14: 85 | CC14: 85 | CD14: 85
A15: UE133 | C15: ='UE133'!S2 -> 4 | D15: ='UE133'!T2 -> 15 | E15: ='UE133'!U2 -> 71 | F15: ='UE133'!V2 -> 90 | G15: OK | W15: =W14-$CE$13 -> -8 | X15: =X14-$CE$13 -> -8 | Y15: =Y14-$CE$13 -> -8 | Z15: =Z14-$CE$13 -> -8 | AA15: =AA14-$CE$13 -> -7 | AB15: =AB14-$CE$13 -> -7 | AC15: =AC14-$CE$13 -> -8 | AD15: =AD14-$CE$13 -> -9 | ... CD15: =CD14-$CE$13 -> -3
C16: ='UE133'!S3 -> 0 | D16: ='UE133'!T3 -> 0 | E16: ='UE133'!U3 -> 0 | F16: ='UE133'!V3 -> 0 | U16: DET341 | V16: =DATE -> 42905 | W16: 42894 | X16: 42895 | Y16: 42896 | Z16: 42897 | AA16: 42898 | AB16: 42899 | AC16: 42900 | AD16: 42901 | AE16: 42902 | AF16: 42903 | AG16: 42904 | AH16: 42905 | AI16: 42906 | AJ16: 42907 | AK16: 42908 | AL16: 42909 | AM16: 42910 | AN16: 42911 | AO16: 42912 | AP16: 42913 | AQ16: 42914 | AR16: 42915 | AS16: 42916 | AT16: 42917 | AU16: 42918 | AV16: 42919 | AW16: 42920 | AX16: 42921 | AY16: 42922 | AZ16: 42923 | BA16: 42924 | BB16: 42925 | BC16: 42926 | BD16: 42927 | BE16: 42928 | BF16: 42929 | BG16: 42930 | BH16: 42931 | BI16: 42932 | BJ16: 42933 | BK16: 42934 | BL16: 42935 | BM16: 42936 | BN16: 42937 | BO16: 42938 | BP16: 42939 | BQ16: 42940 | BR16: 42941 | BS16: 42942 | BT16: 42943 | BU16: 42944 | BV16: 42945 | BW16: 42946 | BX16: 42947 | BY16: 42948 | BZ16: 42949 | CA16: 42950 | CB16: 42951 | CC16: 42952 | CD16: 42953 | CE16: 27
C17: ='UE133'!S4 -> 0 | D17: ='UE133'!T4 -> 1 | E17: ='UE133'!U4 -> 0 | F17: ='UE133'!V4 -> 1 | V17: =F23 -> 27 | W17: 27 | X17: 27 | Y17: 27 | Z17: 27 | AA17: 27 | AB17: 27 | AC17: 27 | AD17: 27 | AE17: 27 | AF17: 27 | AG17: 27 | AH17: 27 | AI17: 27 | AJ17: 27 | AK17: 27 | AL17: 27 | AM17: 27 | AN17: 27 | AO17: 27 | AP17: 27 | AQ17: 27 | AR17: 27 | AS17: 27 | AT17: 27 | AU17: 27 | AV17: 27 | AW17: 27 | AX17: 27 | AY17: 27 | AZ17: 27 | BA17: 27 | BB17: 27 | BC17: 27 | BD17: 27 | BE17: 27 | BF17: 27 | BG17: 27 | BH17: 27 | BI17: 27 | BJ17: 27 | BK17: 27 | BL17: 27 | BM17: 27 | BN17: 27 | BO17: 27 | BP17: 27 | BQ17: 27 | BR17: 27 | BS17: 27 | BT17: 27 | BU17: 27 | BV17: 27 | BW17: 27 | BX17: 27 | BY17: 27 | BZ17: 27 | CA17: 27 | CB17: 27 | CC17: 27 | CD17: 27
C18: ='UE133'!S5 -> 0 | D18: ='UE133'!T5 -> 0 | E18: ='UE133'!U5 -> 1 | F18: ='UE133'!V5 -> 1 | W18: =W17-$CE$16 -> 0 | X18: =X17-$CE$16 -> 0 | Y18: =Y17-$CE$16 -> 0 | Z18: =Z17-$CE$16 -> 0 | AA18: =AA17-$CE$16 -> 0 | AB18: =AB17-$CE$16 -> 0 | AC18: =AC17-$CE$16 -> 0 | AD18: =AD17-$CE$16 -> 0 | ... CD18: =CD17-$CE$16 -> 0
A19: UE134 | C19: ='UE134'!S2 -> 4 | D19: ='UE134'!T2 -> 14 | E19: ='UE134'!U2 -> 67 | F19: ='UE134'!V2 -> 85 | G19: OK | U19: TOTAL | V19: =EFFT -> 397 | W19: =W2+W5+W8+W11+W14+W17 -> 382 | X19: =X2+X5+X8+X11+X14+X17 -> 381 | Y19: =Y2+Y5+Y8+Y11+Y14+Y17 -> 382 | Z19: =Z2+Z5+Z8+Z11+Z14+Z17 -> 381 | AA19: =AA2+AA5+AA8+AA11+AA14+AA17 -> 385 | AB19: =AB2+AB5+AB8+AB11+AB14+AB17 -> 385 | AC19: =AC2+AC5+AC8+AC11+AC14+AC17 -> 383 | AD19: =AD2+AD5+AD8+AD11+AD14+AD17 -> 383 | ... CD19: =CD2+CD5+CD8+CD11+CD14+CD17 -> 388 | CE19: =SUM(CE2:CE16) -> 393
C20: ='UE134'!S3 -> 0 | D20: ='UE134'!T3 -> 0 | E20: ='UE134'!U3 -> 0 | F20: ='UE134'!V3 -> 0 | W20: =W19-$CE$19 -> -11 | X20: =X19-$CE$19 -> -12 | Y20: =Y19-$CE$19 -> -11 | Z20: =Z19-$CE$19 -> -12 | AA20: =AA19-$CE$19 -> -8 | AB20: =AB19-$CE$19 -> -8 | AC20: =AC19-$CE$19 -> -10 | AD20: =AD19-$CE$19 -> -10 | ... CD20: =CD19-$CE$19 -> -5
C21: ='UE134'!S4 -> 0 | D21: ='UE134'!T4 -> 1 | E21: ='UE134'!U4 -> 4 | F21: ='UE134'!V4 -> 5 | U21: Date | V21: =DATE -> 42905 | W21: 42894 | X21: 42895 | Y21: 42896 | Z21: 42897 | AA21: 42898 | AB21: 42899 | AC21: 42900 | AD21: 42901 | AE21: 42902 | AF21: 42903 | AG21: 42904 | AH21: 42905 | AI21: 42906 | AJ21: 42907 | AK21: 42908 | AL21: 42909 | AM21: 42910 | AN21: 42911 | AO21: 42912 | AP21: 42913 | AQ21: 42914 | AR21: 42915 | AS21: 42916 | AT21: 42917 | AU21: 42918 | AV21: 42919 | AW21: 42920 | AX21: 42921 | AY21: 42922 | AZ21: 42923 | BA21: 42924 | BB21: 42925 | BC21: 42926 | BD21: 42927 | BE21: 42928 | BF21: 42929 | BG21: 42930 | BH21: 42931 | BI21: 42932 | BJ21: 42933 | BK21: 42934 | BL21: 42935 | BM21: 42936 | BN21: 42937 | BO21: 42938 | BP21: 42939 | BQ21: 42940 | BR21: 42941 | BS21: 42942 | BT21: 42943 | BU21: 42944 | BV21: 42945 | BW21: 42946 | BX21: 42947 | BY21: 42948 | BZ21: 42949 | CA21: 42950 | CB21: 42951 | CC21: 42952 | CD21: 42953
C22: ='UE134'!S5 -> 0 | D22: ='UE134'!T5 -> 0 | E22: ='UE134'!U5 -> 0 | F22: ='UE134'!V5 -> 0 | U22: R | V22: =O8 -> 4 | W22: 4 | X22: 4 | Y22: 4 | Z22: 4 | AA22: 4 | AB22: 4 | AC22: 4 | AD22: 4 | AE22: 4 | AF22: 4 | AG22: 4 | AH22: 4 | AI22: 4 | AJ22: 4 | AK22: 4 | AL22: 4 | AM22: 3 | AN22: 2 | AO22: 2 | AP22: 1 | AQ22: 1 | AR22: 1 | AS22: 1 | AT22: 1 | AU22: 28 | AV22: 28 | AW22: 28 | AX22: 28 | AY22: 28 | AZ22: 28 | BA22: 28 | BB22: 28 | BC22: 29 | BD22: 29 | BE22: 29 | BF22: 28 | BG22: 28 | BH22: 28 | BI22: 28 | BJ22: 28 | BK22: 1 | BL22: 1 | BM22: 1 | BN22: 1 | BO22: 1 | BP22: 1 | BQ22: 1 | BR22: 1 | BS22: 1 | BT22: 1 | BU22: 1 | BV22: 1 | BW22: 1 | BX22: 1 | BY22: 1 | BZ22: 1 | CA22: 1 | CB22: 1 | CC22: 0 | CD22: 0
A23: DET831 | C23: ='DET831'!S2 -> 0 | D23: ='DET831'!T2 -> 2 | E23: ='DET831'!U2 -> 25 | F23: ='DET831'!V2 -> 27 | G23: OK
C24: ='DET831'!S3 -> 0 | D24: ='DET831'!T3 -> 0 | E24: ='DET831'!U3 -> 0 | F24: ='DET831'!V3 -> 0
C25: ='DET831'!S4 -> 0 | D25: ='DET831'!T4 -> 0 | E25: ='DET831'!U4 -> 0 | F25: ='DET831'!V4 -> 0
C26: ='DET831'!S5 -> 0 | D26: ='DET831'!T5 -> 0 | E26: ='DET831'!U5 -> 0 | F26: ='DET831'!V5 -> 0
