Workbook
Name bdd: base!$A$6:$AA$30

Sheet base
A3: Relations | B3: Sauzé | D3: Saint Saviol | F3: La Pallice | H3: Narbonneau | J3: Moutardon | L3: Saint Sauvant | N3: Fleure | P3: Chapelle | R3: Verrières | T3: Paizay | V3: SPBL | X3: Continvoir | Z3: Jardres
B4: KM | C4: €/T | D4: KM | E4: €/T | F4: KM | G4: €/T | H4: KM | I4: €/T | J4: KM | K4: €/T | L4: KM | M4: €/T | N4: KM | O4: €/T | P4: KM | Q4: €/T | R4: KM | S4: €/T | T4: KM | U4: €/T | V4: KM | W4: €/T | X4: KM | Y4: €/T | Z4: KM | AA4: €/T
B5: kmsauze | C5: eurosauze | D5: kmsao | E5: eurosao
A6: Sauzé | B6: 0 | C6: 0 | D6: 10 | E6: 2.3 | F6: 125 | G6: 9.5 | H6: 38 | I6: 4.5 | J6: 23 | K6: 3.8 | L6: 32 | M6: 3.8 | N6: 65 | O6: 6 | P6: 73 | Q6: 6.9 | R6: 62 | S6: 6.2 | T6: 94 | U6: 7.1 | V6: 174 | W6: 13 | X6: 216 | Y6: 14.5 | Z6: 77 | AA6: 6.9
A7: Limort | B7: 7 | C7: 2 | D7: 17 | E7: 3 | F7: 121 | G7: 9.5 | H7: 38 | I7: 4.5 | J7: 31 | K7: 3.5 | L7: 25 | M7: 3 | N7: 67 | O7: 6.7 | P7: 75 | Q7: 6.9 | R7: 64 | S7: 6.2 | T7: 96 | U7: 7.1 | V7: 181 | W7: 13 | X7: 218 | Y7: 14.5 | Z7: 78 | AA7: 6.9
A8: Tessé | B8: 8 | C8: 2 | D8: 18 | E8: 3 | F8: 129 | G8: 9.5 | H8: 53 | I8: 5.2 | J8: 25 | K8: 10 | L8: 39 | M8: 4.5 | N8: 73 | O8: 6.9 | P8: 82 | Q8: 6.9 | R8: 67 | S8: 6.7 | T8: 103 | U8: 8 | V8: 171 | W8: 13 | X8: 205 | Y8: 14.5 | Z8: 86 | AA8: 6.9
A9: Chaunay | B9: 10 | C9: 2.3 | D9: 13 | E9: 2.5 | F9: 135 | G9: 10 | H9: 41 | I9: 4.5 | J9: 26 | K9: 3.5 | L9: 22 | M9: 3 | N9: 48 | O9: 5 | P9: 68 | Q9: 6.7 | R9: 48 | S9: 5.2 | T9: 80 | U9: 6.9 | V9: 181 | W9: 13 | X9: 203 | Y9: 14.5 | Z9: 64 | AA9: 6.2
A10: Moutardon | B10: 30 | C10: 3.8 | D10: 14 | E10: 2.5 | F10: 148 | G10: 10 | H10: 66 | I10: 6.7 | J10: 0 | K10: 0 | L10: 47 | M10: 5 | N10: 57 | O10: 4.7 | P10: 68 | Q10: 6.7 | R10: 53 | S10: 6 | T10: 81 | U10: 6.9 | V10: 165 | W10: 13 | X10: 208 | Y10: 14.5 | Z10: 90 | AA10: 6.9
A11: Genouillé | B11: 20 | C11: 3 | D11: 8.2 | E11: 2 | F11: 146 | G11: 10 | H11: 56 | I11: 5.2 | J11: 8 | K11: 2.3 | L11: 38 | M11: 4.5 | N11: 49 | O11: 5.2 | P11: 60 | Q11: 6.2 | R11: 45 | S11: 5 | T11: 73 | U11: 6.9 | V11: 180 | W11: 13 | X11: 197 | Y11: 14.5 | Z11: 62 | AA11: 6.2
A12: Melleran | B12: 11 | C12: 2.3 | D12: 21 | E12: 3 | F12: 120 | G12: 9.5 | H12: 42 | I12: 4.5 | J12: 32 | K12: 3.5 | L12: 35 | M12: 4.5 | N12: 63 | O12: 6.2 | P12: 79 | Q12: 6.9 | R12: 63 | S12: 6.2 | T12: 90 | U12: 7.1 | V12: 183 | W12: 13 | X12: 222 | Y12: 14.5 | Z12: 82 | AA12: 6.9
A13: Messé | B13: 18 | C13: 3 | D13: 19 | E13: 3 | F13: 125 | G13: 9.5 | H13: 27 | I13: 3.5 | J13: 36 | K13: 4.5 | L13: 14 | M13: 2.5 | N13: 45 | O13: 5 | P13: 62 | Q13: 6.5 | R13: 45 | S13: 5 | T13: 72 | U13: 6.9 | V13: 191 | W13: 13.5 | X13: 180 | Y13: 13 | Z13: 62 | AA13: 6.2
A14: SAO | B14: 10 | C14: 2.3 | D14: 1 | E14: 0 | F14: 132 | G14: 10 | H14: 55 | I14: 4.7 | J14: 14 | K14: 2.5 | L14: 36 | M14: 4.5 | N14: 49 | O14: 5 | P14: 65 | Q14: 6.7 | R14: 50 | S14: 5.2 | T14: 78 | U14: 6.9 | V14: 180 | W14: 13 | X14: 196 | Y14: 14 | Z14: 78 | AA14: 6.9
A15: Chauffour | B15: 13 | C15: 2.5 | D15: 13 | E15: 2.5 | F15: 135 | G15: 10 | H15: 60 | I15: 6.2 | J15: 11 | K15: 2.5 | L15: 40 | M15: 4.5 | N15: 55 | O15: 5.2 | P15: 71 | Q15: 6.9 | R15: 56 | S15: 5.2 | T15: 83 | U15: 6.9 | V15: 165 | W15: 13 | X15: 207 | Y15: 14.5 | Z15: 68 | AA15: 6.7
A16: Raix | B16: 18 | C16: 3 | D16: 23 | E16: 3 | F16: 121 | G16: 10 | H16: 68 | I16: 6.7 | J16: 19 | K16: 3 | L16: 45 | M16: 5 | N16: 72 | O16: 6.9 | P16: 83 | Q16: 6.9 | R16: 73 | S16: 6.9 | T16: 109 | U16: 8 | V16: 160 | W16: 13 | X16: 212 | Y16: 14.5 | Z16: 92 | AA16: 6.9
A17: Narbonneau | B17: 40 | C17: 4.5 | D17: 46 | E17: 4.7 | F17: 115 | G17: 8.5 | H17: 0 | I17: 0 | J17: 66 | K17: 6.7 | L17: 15 | M17: 2.5 | N17: 51 | O17: 5.5 | P17: 79 | Q17: 6.9 | R17: 54 | S17: 5.2 | T17: 75 | U17: 6.9 | V17: 216 | W17: 14.5 | X17: 196 | Y17: 14 | Z17: 57 | AA17: 5.2
... A30: Magnac | B30: 104 | C30: 8 | D30: 97 | E30: 8 | F30: 228 | G30: 13 | H30: 138 | I30: 9.5 | J30: 88 | K30: 7.1 | L30: 104 | M30: 8 | N30: 67 | O30: 6.7 | P30: 55 | Q30: 6 | R30: 56 | S30: 5.2 | T30: 60 | U30: 6.2 | V30: 240 | W30: 14.5 | X30: 236 | Y30: 14.5 | Z30: 68 | AA30: 6.7

Sheet tarif
B1: 2013 | C1: 0
B2: 2014
B3: 2015
B4: 2016
B5: 2017
B6: 2018
B7: Total | C7: =SUM(C1:C6) -> 0
A9: Relations | B9: Sauzé | D9: Saint Saviol | F9: La Pallice | H9: Narbonneau | J9: Moutardon | L9: Saint Sauvant | N9: Fleure | P9: Chapelle | R9: Verrières | T9: Paizay | V9: SPBL | X9: Continvoir | Z9: Jardres
B10: KM | C10: €/T | D10: KM | E10: €/T | F10: KM | G10: €/T | H10: KM | I10: €/T | J10: KM | K10: €/T | L10: KM | M10: €/T | N10: KM | O10: €/T | P10: KM | Q10: €/T | R10: KM | S10: €/T | T10: KM | U10: €/T | V10: KM | W10: €/T | X10: KM | Y10: €/T | Z10: KM | AA10: €/T
A11: Sauzé | B11: 0 | C11: =(base!C6*tarif!$C$7)+base!C6 -> 0 | D11: 10 | E11: =(base!E6*tarif!$C$7)+base!E6 -> 2.3 | F11: 125 | G11: =(base!G6*tarif!$C$7)+base!G6 -> 9.5 | H11: 38 | I11: =(base!I6*tarif!$C$7)+base!I6 -> 4.5 | J11: 23 | K11: =(base!K6*tarif!$C$7)+base!K6 -> 3.8 | L11: 32 | M11: =(base!M6*tarif!$C$7)+base!M6 -> 3.8 | N11: 65 | O11: =(base!O6*tarif!$C$7)+base!O6 -> 6 | P11: 73 | Q11: =(base!Q6*tarif!$C$7)+base!Q6 -> 6.9 | R11: 62 | S11: =(base!S6*tarif!$C$7)+base!S6 -> 6.2 | T11: 94 | U11: =(base!U6*tarif!$C$7)+base!U6 -> 7.1 | V11: 174 | W11: =(base!W6*tarif!$C$7)+base!W6 -> 13 | X11: 216 | Y11: =(base!Y6*tarif!$C$7)+base!Y6 -> 14.5 | Z11: 77 | AA11: =(base!AA6*tarif!$C$7)+base!AA6 -> 6.9
A12: Limort | B12: 7 | C12: =(base!C7*tarif!$C$7)+base!C7 -> 2 | D12: 17 | E12: =(base!E7*tarif!$C$7)+base!E7 -> 3 | F12: 121 | G12: =(base!G7*tarif!$C$7)+base!G7 -> 9.5 | H12: 38 | I12: =(base!I7*tarif!$C$7)+base!I7 -> 4.5 | J12: 31 | K12: =(base!K7*tarif!$C$7)+base!K7 -> 3.5 | L12: 25 | M12: =(base!M7*tarif!$C$7)+base!M7 -> 3 | N12: 67 | O12: =(base!O7*tarif!$C$7)+base!O7 -> 6.7 | P12: 75 | Q12: =(base!Q7*tarif!$C$7)+base!Q7 -> 6.9 | R12: 64 | S12: =(base!S7*tarif!$C$7)+base!S7 -> 6.2 | T12: 96 | U12: =(base!U7*tarif!$C$7)+base!U7 -> 7.1 | V12: 181 | W12: =(base!W7*tarif!$C$7)+base!W7 -> 13 | X12: 218 | Y12: =(base!Y7*tarif!$C$7)+base!Y7 -> 14.5 | Z12: 78 | AA12: =(base!AA7*tarif!$C$7)+base!AA7 -> 6.9
A13: Tessé | B13: 8 | C13: =(base!C8*tarif!$C$7)+base!C8 -> 2 | D13: 18 | E13: =(base!E8*tarif!$C$7)+base!E8 -> 3 | F13: 129 | G13: =(base!G8*tarif!$C$7)+base!G8 -> 9.5 | H13: 53 | I13: =(base!I8*tarif!$C$7)+base!I8 -> 5.2 | J13: 25 | K13: =(base!K8*tarif!$C$7)+base!K8 -> 10 | L13: 39 | M13: =(base!M8*tarif!$C$7)+base!M8 -> 4.5 | N13: 73 | O13: =(base!O8*tarif!$C$7)+base!O8 -> 6.9 | P13: 82 | Q13: =(base!Q8*tarif!$C$7)+base!Q8 -> 6.9 | R13: 67 | S13: =(base!S8*tarif!$C$7)+base!S8 -> 6.7 | T13: 103 | U13: =(base!U8*tarif!$C$7)+base!U8 -> 8 | V13: 171 | W13: =(base!W8*tarif!$C$7)+base!W8 -> 13 | X13: 205 | Y13: =(base!Y8*tarif!$C$7)+base!Y8 -> 14.5 | Z13: 86 | AA13: =(base!AA8*tarif!$C$7)+base!AA8 -> 6.9
A14: Chaunay | B14: 10 | C14: =(base!C9*tarif!$C$7)+base!C9 -> 2.3 | D14: 13 | E14: =(base!E9*tarif!$C$7)+base!E9 -> 2.5 | F14: 135 | G14: =(base!G9*tarif!$C$7)+base!G9 -> 10 | H14: 41 | I14: =(base!I9*tarif!$C$7)+base!I9 -> 4.5 | J14: 26 | K14: =(base!K9*tarif!$C$7)+base!K9 -> 3.5 | L14: 22 | M14: =(base!M9*tarif!$C$7)+base!M9 -> 3 | N14: 48 | O14: =(base!O9*tarif!$C$7)+base!O9 -> 5 | P14: 68 | Q14: =(base!Q9*tarif!$C$7)+base!Q9 -> 6.7 | R14: 48 | S14: =(base!S9*tarif!$C$7)+base!S9 -> 5.2 | T14: 80 | U14: =(base!U9*tarif!$C$7)+base!U9 -> 6.9 | V14: 181 | W14: =(base!W9*tarif!$C$7)+base!W9 -> 13 | X14: 203 | Y14: =(base!Y9*tarif!$C$7)+base!Y9 -> 14.5 | Z14: 64 | AA14: =(base!AA9*tarif!$C$7)+base!AA9 -> 6.2
A15: Moutardon | B15: 30 | C15: =(base!C10*tarif!$C$7)+base!C10 -> 3.8 | D15: 14 | E15: =(base!E10*tarif!$C$7)+base!E10 -> 2.5 | F15: 148 | G15: =(base!G10*tarif!$C$7)+base!G10 -> 10 | H15: 66 | I15: =(base!I10*tarif!$C$7)+base!I10 -> 6.7 | J15: 0 | K15: =(base!K10*tarif!$C$7)+base!K10 -> 0 | L15: 47 | M15: =(base!M10*tarif!$C$7)+base!M10 -> 5 | N15: 57 | O15: =(base!O10*tarif!$C$7)+base!O10 -> 4.7 | P15: 68 | Q15: =(base!Q10*tarif!$C$7)+base!Q10 -> 6.7 | R15: 53 | S15: =(base!S10*tarif!$C$7)+base!S10 -> 6 | T15: 81 | U15: =(base!U10*tarif!$C$7)+base!U10 -> 6.9 | V15: 165 | W15: =(base!W10*tarif!$C$7)+base!W10 -> 13 | X15: 208 | Y15: =(base!Y10*tarif!$C$7)+base!Y10 -> 14.5 | Z15: 90 | AA15: =(base!AA10*tarif!$C$7)+base!AA10 -> 6.9
A16: Genouillé | B16: 20 | C16: =(base!C11*tarif!$C$7)+base!C11 -> 3 | D16: 8.2 | E16: =(base!E11*tarif!$C$7)+base!E11 -> 2 | F16: 146 | G16: =(base!G11*tarif!$C$7)+base!G11 -> 10 | H16: 56 | I16: =(base!I11*tarif!$C$7)+base!I11 -> 5.2 | J16: 8 | K16: =(base!K11*tarif!$C$7)+base!K11 -> 2.3 | L16: 38 | M16: =(base!M11*tarif!$C$7)+base!M11 -> 4.5 | N16: 49 | O16: =(base!O11*tarif!$C$7)+base!O11 -> 5.2 | P16: 60 | Q16: =(base!Q11*tarif!$C$7)+base!Q11 -> 6.2 | R16: 45 | S16: =(base!S11*tarif!$C$7)+base!S11 -> 5 | T16: 73 | U16: =(base!U11*tarif!$C$7)+base!U11 -> 6.9 | V16: 180 | W16: =(base!W11*tarif!$C$7)+base!W11 -> 13 | X16: 197 | Y16: =(base!Y11*tarif!$C$7)+base!Y11 -> 14.5 | Z16: 62 | AA16: =(base!AA11*tarif!$C$7)+base!AA11 -> 6.2
A17: Melleran | B17: 11 | C17: =(base!C12*tarif!$C$7)+base!C12 -> 2.3 | D17: 21 | E17: =(base!E12*tarif!$C$7)+base!E12 -> 3 | F17: 120 | G17: =(base!G12*tarif!$C$7)+base!G12 -> 9.5 | H17: 42 | I17: =(base!I12*tarif!$C$7)+base!I12 -> 4.5 | J17: 32 | K17: =(base!K12*tarif!$C$7)+base!K12 -> 3.5 | L17: 35 | M17: =(base!M12*tarif!$C$7)+base!M12 -> 4.5 | N17: 63 | O17: =(base!O12*tarif!$C$7)+base!O12 -> 6.2 | P17: 79 | Q17: =(base!Q12*tarif!$C$7)+base!Q12 -> 6.9 | R17: 63 | S17: =(base!S12*tarif!$C$7)+base!S12 -> 6.2 | T17: 90 | U17: =(base!U12*tarif!$C$7)+base!U12 -> 7.1 | V17: 183 | W17: =(base!W12*tarif!$C$7)+base!W12 -> 13 | X17: 222 | Y17: =(base!Y12*tarif!$C$7)+base!Y12 -> 14.5 | Z17: 82 | AA17: =(base!AA12*tarif!$C$7)+base!AA12 -> 6.9
A18: Messé | B18: 18 | C18: =(base!C13*tarif!$C$7)+base!C13 -> 3 | D18: 19 | E18: =(base!E13*tarif!$C$7)+base!E13 -> 3 | F18: 125 | G18: =(base!G13*tarif!$C$7)+base!G13 -> 9.5 | H18: 27 | I18: =(base!I13*tarif!$C$7)+base!I13 -> 3.5 | J18: 36 | K18: =(base!K13*tarif!$C$7)+base!K13 -> 4.5 | L18: 14 | M18: =(base!M13*tarif!$C$7)+base!M13 -> 2.5 | N18: 45 | O18: =(base!O13*tarif!$C$7)+base!O13 -> 5 | P18: 62 | Q18: =(base!Q13*tarif!$C$7)+base!Q13 -> 6.5 | R18: 45 | S18: =(base!S13*tarif!$C$7)+base!S13 -> 5 | T18: 72 | U18: =(base!U13*tarif!$C$7)+base!U13 -> 6.9 | V18: 191 | W18: =(base!W13*tarif!$C$7)+base!W13 -> 13.5 | X18: 180 | Y18: =(base!Y13*tarif!$C$7)+base!Y13 -> 13 | Z18: 62 | AA18: =(base!AA13*tarif!$C$7)+base!AA13 -> 6.2
A19: SAO | B19: 10 | C19: =(base!C14*tarif!$C$7)+base!C14 -> 2.3 | D19: 1 | E19: =(base!E14*tarif!$C$7)+base!E14 -> 0 | F19: 132 | G19: =(base!G14*tarif!$C$7)+base!G14 -> 10 | H19: 55 | I19: =(base!I14*tarif!$C$7)+base!I14 -> 4.7 | J19: 14 | K19: =(base!K14*tarif!$C$7)+base!K14 -> 2.5 | L19: 36 | M19: =(base!M14*tarif!$C$7)+base!M14 -> 4.5 | N19: 49 | O19: =(base!O14*tarif!$C$7)+base!O14 -> 5 | P19: 65 | Q19: =(base!Q14*tarif!$C$7)+base!Q14 -> 6.7 | R19: 50 | S19: =(base!S14*tarif!$C$7)+base!S14 -> 5.2 | T19: 78 | U19: =(base!U14*tarif!$C$7)+base!U14 -> 6.9 | V19: 180 | W19: =(base!W14*tarif!$C$7)+base!W14 -> 13 | X19: 196 | Y19: =(base!Y14*tarif!$C$7)+base!Y14 -> 14 | Z19: 78 | AA19: =(base!AA14*tarif!$C$7)+base!AA14 -> 6.9
A20: Chauffour | B20: 13 | C20: =(base!C15*tarif!$C$7)+base!C15 -> 2.5 | D20: 13 | E20: =(base!E15*tarif!$C$7)+base!E15 -> 2.5 | F20: 135 | G20: =(base!G15*tarif!$C$7)+base!G15 -> 10 | H20: 60 | I20: =(base!I15*tarif!$C$7)+base!I15 -> 6.2 | J20: 11 | K20: =(base!K15*tarif!$C$7)+base!K15 -> 2.5 | L20: 40 | M20: =(base!M15*tarif!$C$7)+base!M15 -> 4.5 | N20: 55 | O20: =(base!O15*tarif!$C$7)+base!O15 -> 5.2 | P20: 71 | Q20: =(base!Q15*tarif!$C$7)+base!Q15 -> 6.9 | R20: 56 | S20: =(base!S15*tarif!$C$7)+base!S15 -> 5.2 | T20: 83 | U20: =(base!U15*tarif!$C$7)+base!U15 -> 6.9 | V20: 165 | W20: =(base!W15*tarif!$C$7)+base!W15 -> 13 | X20: 207 | Y20: =(base!Y15*tarif!$C$7)+base!Y15 -> 14.5 | Z20: 68 | AA20: =(base!AA15*tarif!$C$7)+base!AA15 -> 6.7
A21: Raix | B21: 18 | C21: =(base!C16*tarif!$C$7)+base!C16 -> 3 | D21: 23 | E21: =(base!E16*tarif!$C$7)+base!E16 -> 3 | F21: 121 | G21: =(base!G16*tarif!$C$7)+base!G16 -> 10 | H21: 68 | I21: =(base!I16*tarif!$C$7)+base!I16 -> 6.7 | J21: 19 | K21: =(base!K16*tarif!$C$7)+base!K16 -> 3 | L21: 45 | M21: =(base!M16*tarif!$C$7)+base!M16 -> 5 | N21: 72 | O21: =(base!O16*tarif!$C$7)+base!O16 -> 6.9 | P21: 83 | Q21: =(base!Q16*tarif!$C$7)+base!Q16 -> 6.9 | R21: 73 | S21: =(base!S16*tarif!$C$7)+base!S16 -> 6.9 | T21: 109 | U21: =(base!U16*tarif!$C$7)+base!U16 -> 8 | V21: 160 | W21: =(base!W16*tarif!$C$7)+base!W16 -> 13 | X21: 212 | Y21: =(base!Y16*tarif!$C$7)+base!Y16 -> 14.5 | Z21: 92 | AA21: =(base!AA16*tarif!$C$7)+base!AA16 -> 6.9
A22: Narbonneau | B22: 40 | C22: =(base!C17*tarif!$C$7)+base!C17 -> 4.5 | D22: 46 | E22: =(base!E17*tarif!$C$7)+base!E17 -> 4.7 | F22: 115 | G22: =(base!G17*tarif!$C$7)+base!G17 -> 8.5 | H22: 0 | I22: =(base!I17*tarif!$C$7)+base!I17 -> 0 | J22: 66 | K22: =(base!K17*tarif!$C$7)+base!K17 -> 6.7 | L22: 15 | M22: =(base!M17*tarif!$C$7)+base!M17 -> 2.5 | N22: 51 | O22: =(base!O17*tarif!$C$7)+base!O17 -> 5.5 | P22: 79 | Q22: =(base!Q17*tarif!$C$7)+base!Q17 -> 6.9 | R22: 54 | S22: =(base!S17*tarif!$C$7)+base!S17 -> 5.2 | T22: 75 | U22: =(base!U17*tarif!$C$7)+base!U17 -> 6.9 | V22: 216 | W22: =(base!W17*tarif!$C$7)+base!W17 -> 14.5 | X22: 196 | Y22: =(base!Y17*tarif!$C$7)+base!Y17 -> 14 | Z22: 57 | AA22: =(base!AA17*tarif!$C$7)+base!AA17 -> 5.2
... A35: Magnac | B35: 104 | C35: =(base!C30*tarif!$C$7)+base!C30 -> 8 | D35: 97 | E35: =(base!E30*tarif!$C$7)+base!E30 -> 8 | F35: 228 | G35: =(base!G30*tarif!$C$7)+base!G30 -> 13 | H35: 138 | I35: =(base!I30*tarif!$C$7)+base!I30 -> 9.5 | J35: 88 | K35: =(base!K30*tarif!$C$7)+base!K30 -> 7.1 | L35: 104 | M35: =(base!M30*tarif!$C$7)+base!M30 -> 8 | N35: 67 | O35: =(base!O30*tarif!$C$7)+base!O30 -> 6.7 | P35: 55 | Q35: =(base!Q30*tarif!$C$7)+base!Q30 -> 6 | R35: 56 | S35: =(base!S30*tarif!$C$7)+base!S30 -> 5.2 | T35: 60 | U35: =(base!U30*tarif!$C$7)+base!U30 -> 6.2 | V35: 240 | W35: =(base!W30*tarif!$C$7)+base!W30 -> 14.5 | X35: 236 | Y35: =(base!Y30*tarif!$C$7)+base!Y30 -> 14.5 | Z35: 68 | AA35: =(base!AA30*tarif!$C$7)+base!AA30 -> 6.7

Sheet Prévision
A2: Prévisions par sites
B4: Sauzé | C4: Limort | D4: Tessé | E4: Chaunay | F4: Moutardon | G4: Genouillé | H4: Melleran | I4: Messé | J4: SAO | K4: Chauffour | L4: Raix | M4: Narbonneau | N4: St Sauvant | O4: Anais | P4: Tuzie | Q4: Fleure | R4: Chapelle | S4: Verrières | T4: Paizay | U4: Sommières | V4: Mauprévoir | W4: Chapelle Baton | X4: Château Garnier | Y4: Asnois | Z4: Magnac | AB4: Total
A5: Blé tendre | B5: 2500 | C5: 2000 | D5: 2000 | E5: 2600 | F5: 2400 | G5: 1000 | H5: 2600 | I5: 2600 | J5: 1000 | K5: 2000 | L5: 2000 | M5: 5000 | N5: 3000 | O5: 3000 | P5: 2000 | Q5: 1500 | R5: 9000 | S5: 4000 | T5: 5000 | U5: 1500 | V5: 3000 | W5: 600 | X5: 1000 | Y5: 500 | Z5: 400 | AB5: =SUM(B5:AA5) -> 62200
A6: Blé dur | B6: 150 | D6: 55 | F6: 100 | G6: 25 | H6: 150 | I6: 100 | K6: 200 | L6: 50 | M6: 100 | N6: 100 | AB6: =SUM(B6:AA6) -> 1030
A7: Colza | B7: 700 | C7: 150 | D7: 500 | E7: 500 | F7: 800 | G7: 400 | H7: 700 | I7: 800 | J7: 400 | K7: 400 | L7: 800 | M7: 800 | N7: 1000 | O7: 500 | P7: 400 | Q7: 400 | R7: 1000 | S7: 400 | T7: 600 | U7: 150 | V7: 200 | W7: 200 | X7: 200 | Y7: 120 | Z7: 300 | AB7: =SUM(B7:AA7) -> 12420
A8: Orge Mouture | B8: 350 | C8: 100 | D8: 200 | E8: 250 | F8: 400 | G8: 100 | H8: 250 | I8: 300 | J8: 250 | K8: 300 | L8: 200 | M8: 400 | N8: 400 | O8: 800 | P8: 500 | Q8: 400 | R8: 800 | S8: 600 | T8: 400 | U8: 300 | V8: 800 | W8: 100 | X8: 100 | Y8: 100 | Z8: 60 | AB8: =SUM(B8:AA8) -> 8460
A9: Pois | B9: 300 | H9: 100 | M9: 100 | N9: 50 | AB9: =SUM(B9:AA9) -> 550
A10: Triticale | S10: 400 | Z10: 550 | AB10: =SUM(B10:AA10) -> 950
A11: Avoine | B11: 100 | M11: 50 | N11: 50 | R11: 100 | Z11: 250 | AB11: =SUM(B11:AA11) -> 550
A12: Millet | AB12: =SUM(B12:AA12) -> 0
AB14: =SUM(AB5:AB13) -> 86160
A21: Capacité de Stockage
B23: Sauzé | C23: Saint Saviol | D23: Narbonneau | E23: St Sauvant | F23: Fleure | G23: Chapelle | H23: Paizay | I23: Moutardon | J23: Verrières | K23: Chaunay | L23: Melleran | M23: Messé | P23: Total
A24: Blé tendre | B24: 3000 | C24: 40000 | D24: 3000 | E24: 4000 | F24: 1000 | G24: 3000 | H24: 1500 | I24: 1000 | J24: 2000 | K24: 1300 | L24: 1300 | M24: 1300 | P24: =SUM(B24:O24) -> 62400
A25: Blé dur | B25: 1000 | P25: =SUM(B25:O25) -> 1000
A26: Colza | B26: 2500 | C26: 9000 | E26: 600 | P26: =SUM(B26:O26) -> 12100
A27: Orge Mouture | B27: 1000 | C27: 6000 | G27: 300 | H27: 600 | I27: 300 | P27: =SUM(B27:O27) -> 8200
A28: Pois | B28: 500 | P28: =SUM(B28:O28) -> 500
A29: Triticale | G29: 1000 | P29: =SUM(B29:O29) -> 1000
A30: Avoine | G30: 300 | I30: 300 | P30: =SUM(B30:O30) -> 600
P32: =SUM(P24:P31) -> 85800

Sheet Transfble
A2: BLE TENDRE
A5: Silo Départ | B5: Silo arrivée | C5: KM | D5: Prix tonne | E5: Km | F5: Km | G5: Cout | H5: Cout | I5: Tonnage | J5: NB Chgt | K5: KM | L5: Cout
A6: Sauzé | B6: Sauzé | C6: =IF(E6="","",IF(F6="","",INDEX(tarif!$B$11:$AA$35,E6,F6))) -> 0 | D6: =IF(G6="","",IF(H6="","",INDEX(tarif!$B$11:$AA$35,G6,H6))) -> 0 | E6: =IF(A6="","",MATCH(Transfble!A6,tarif!$A$11:$A$35,0)) -> 1 | F6: =IF(B6="","",MATCH(B6,tarif!$B$9:$AA$9,0)) -> 1 | G6: =IF(A6="","",MATCH(Transfble!$A6,tarif!$A$11:$A$35,0)) -> 1 | H6: =IF(B6="","",MATCH(Transfble!$B6,tarif!$B$9:$AA$9,0)+1) -> 2 | I6: 1000 | J6: =IF(I6="","",I6/29) -> 34.482759 | K6: =IF(C6="","",IF(J6="","",J6*C6)) -> 0 | L6: =IF(D6="","",IF(I6="","",I6*D6)) -> 0
A7: Limort | B7: Sauzé | C7: =IF(E7="","",IF(F7="","",INDEX(tarif!$B$11:$AA$35,E7,F7))) -> 7 | D7: =IF(G7="","",IF(H7="","",INDEX(tarif!$B$11:$AA$35,G7,H7))) -> 2 | E7: =IF(A7="","",MATCH(Transfble!A7,tarif!$A$11:$A$35,0)) -> 2 | F7: =IF(B7="","",MATCH(B7,tarif!$B$9:$AA$9,0)) -> 1 | G7: =IF(A7="","",MATCH(Transfble!$A7,tarif!$A$11:$A$35,0)) -> 2 | H7: =IF(B7="","",MATCH(Transfble!$B7,tarif!$B$9:$AA$9,0)+1) -> 2 | J7: =IF(I7="","",I7/29) | K7: =IF(C7="","",IF(J7="","",J7*C7)) | L7: =IF(D7="","",IF(I7="","",I7*D7))
A8: Tessé | B8: Saint Saviol | C8: =IF(E8="","",IF(F8="","",INDEX(tarif!$B$11:$AA$35,E8,F8))) -> 18 | D8: =IF(G8="","",IF(H8="","",INDEX(tarif!$B$11:$AA$35,G8,H8))) -> 3 | E8: =IF(A8="","",MATCH(Transfble!A8,tarif!$A$11:$A$35,0)) -> 3 | F8: =IF(B8="","",MATCH(B8,tarif!$B$9:$AA$9,0)) -> 3 | G8: =IF(A8="","",MATCH(Transfble!$A8,tarif!$A$11:$A$35,0)) -> 3 | H8: =IF(B8="","",MATCH(Transfble!$B8,tarif!$B$9:$AA$9,0)+1) -> 4 | J8: =IF(I8="","",I8/29) | K8: =IF(C8="","",IF(J8="","",J8*C8)) | L8: =IF(D8="","",IF(I8="","",I8*D8))
A9: Chaunay | B9: Sauzé | C9: =IF(E9="","",IF(F9="","",INDEX(tarif!$B$11:$AA$35,E9,F9))) -> 10 | D9: =IF(G9="","",IF(H9="","",INDEX(tarif!$B$11:$AA$35,G9,H9))) -> 2.3 | E9: =IF(A9="","",MATCH(Transfble!A9,tarif!$A$11:$A$35,0)) -> 4 | F9: =IF(B9="","",MATCH(B9,tarif!$B$9:$AA$9,0)) -> 1 | G9: =IF(A9="","",MATCH(Transfble!$A9,tarif!$A$11:$A$35,0)) -> 4 | H9: =IF(B9="","",MATCH(Transfble!$B9,tarif!$B$9:$AA$9,0)+1) -> 2 | I9: 300 | J9: =IF(I9="","",I9/29) -> 10.344828 | K9: =IF(C9="","",IF(J9="","",J9*C9)) -> 103.44828 | L9: =IF(D9="","",IF(I9="","",I9*D9)) -> 690
A10: Moutardon | C10: =IF(E10="","",IF(F10="","",INDEX(tarif!$B$11:$AA$35,E10,F10))) | D10: =IF(G10="","",IF(H10="","",INDEX(tarif!$B$11:$AA$35,G10,H10))) | E10: =IF(A10="","",MATCH(Transfble!A10,tarif!$A$11:$A$35,0)) -> 5 | F10: =IF(B10="","",MATCH(B10,tarif!$B$9:$AA$9,0)) | G10: =IF(A10="","",MATCH(Transfble!$A10,tarif!$A$11:$A$35,0)) -> 5 | H10: =IF(B10="","",MATCH(Transfble!$B10,tarif!$B$9:$AA$9,0)+1) | J10: =IF(I10="","",I10/29) | K10: =IF(C10="","",IF(J10="","",J10*C10)) | L10: =IF(D10="","",IF(I10="","",I10*D10))
A11: Genouillé | C11: =IF(E11="","",IF(F11="","",INDEX(tarif!$B$11:$AA$35,E11,F11))) | D11: =IF(G11="","",IF(H11="","",INDEX(tarif!$B$11:$AA$35,G11,H11))) | E11: =IF(A11="","",MATCH(Transfble!A11,tarif!$A$11:$A$35,0)) -> 6 | F11: =IF(B11="","",MATCH(B11,tarif!$B$9:$AA$9,0)) | G11: =IF(A11="","",MATCH(Transfble!$A11,tarif!$A$11:$A$35,0)) -> 6 | H11: =IF(B11="","",MATCH(Transfble!$B11,tarif!$B$9:$AA$9,0)+1) | J11: =IF(I11="","",I11/29) | K11: =IF(C11="","",IF(J11="","",J11*C11)) | L11: =IF(D11="","",IF(I11="","",I11*D11))
A12: Melleran | C12: =IF(E12="","",IF(F12="","",INDEX(tarif!$B$11:$AA$35,E12,F12))) | D12: =IF(G12="","",IF(H12="","",INDEX(tarif!$B$11:$AA$35,G12,H12))) | E12: =IF(A12="","",MATCH(Transfble!A12,tarif!$A$11:$A$35,0)) -> 7 | F12: =IF(B12="","",MATCH(B12,tarif!$B$9:$AA$9,0)) | G12: =IF(A12="","",MATCH(Transfble!$A12,tarif!$A$11:$A$35,0)) -> 7 | H12: =IF(B12="","",MATCH(Transfble!$B12,tarif!$B$9:$AA$9,0)+1) | J12: =IF(I12="","",I12/29) | K12: =IF(C12="","",IF(J12="","",J12*C12)) | L12: =IF(D12="","",IF(I12="","",I12*D12))
A13: Messé | C13: =IF(E13="","",IF(F13="","",INDEX(tarif!$B$11:$AA$35,E13,F13))) | D13: =IF(G13="","",IF(H13="","",INDEX(tarif!$B$11:$AA$35,G13,H13))) | E13: =IF(A13="","",MATCH(Transfble!A13,tarif!$A$11:$A$35,0)) -> 8 | F13: =IF(B13="","",MATCH(B13,tarif!$B$9:$AA$9,0)) | G13: =IF(A13="","",MATCH(Transfble!$A13,tarif!$A$11:$A$35,0)) -> 8 | H13: =IF(B13="","",MATCH(Transfble!$B13,tarif!$B$9:$AA$9,0)+1) | J13: =IF(I13="","",I13/29) | K13: =IF(C13="","",IF(J13="","",J13*C13)) | L13: =IF(D13="","",IF(I13="","",I13*D13))
A14: SAO | C14: =IF(E14="","",IF(F14="","",INDEX(tarif!$B$11:$AA$35,E14,F14))) | D14: =IF(G14="","",IF(H14="","",INDEX(tarif!$B$11:$AA$35,G14,H14))) | E14: =IF(A14="","",MATCH(Transfble!A14,tarif!$A$11:$A$35,0)) -> 9 | F14: =IF(B14="","",MATCH(B14,tarif!$B$9:$AA$9,0)) | G14: =IF(A14="","",MATCH(Transfble!$A14,tarif!$A$11:$A$35,0)) -> 9 | H14: =IF(B14="","",MATCH(Transfble!$B14,tarif!$B$9:$AA$9,0)+1) | J14: =IF(I14="","",I14/29) | K14: =IF(C14="","",IF(J14="","",J14*C14)) | L14: =IF(D14="","",IF(I14="","",I14*D14))
A15: Chauffour | C15: =IF(E15="","",IF(F15="","",INDEX(tarif!$B$11:$AA$35,E15,F15))) | D15: =IF(G15="","",IF(H15="","",INDEX(tarif!$B$11:$AA$35,G15,H15))) | E15: =IF(A15="","",MATCH(Transfble!A15,tarif!$A$11:$A$35,0)) -> 10 | F15: =IF(B15="","",MATCH(B15,tarif!$B$9:$AA$9,0)) | G15: =IF(A15="","",MATCH(Transfble!$A15,tarif!$A$11:$A$35,0)) -> 10 | H15: =IF(B15="","",MATCH(Transfble!$B15,tarif!$B$9:$AA$9,0)+1) | J15: =IF(I15="","",I15/29) | K15: =IF(C15="","",IF(J15="","",J15*C15)) | L15: =IF(D15="","",IF(I15="","",I15*D15))
A16: Raix | C16: =IF(E16="","",IF(F16="","",INDEX(tarif!$B$11:$AA$35,E16,F16))) | D16: =IF(G16="","",IF(H16="","",INDEX(tarif!$B$11:$AA$35,G16,H16))) | E16: =IF(A16="","",MATCH(Transfble!A16,tarif!$A$11:$A$35,0)) -> 11 | F16: =IF(B16="","",MATCH(B16,tarif!$B$9:$AA$9,0)) | G16: =IF(A16="","",MATCH(Transfble!$A16,tarif!$A$11:$A$35,0)) -> 11 | H16: =IF(B16="","",MATCH(Transfble!$B16,tarif!$B$9:$AA$9,0)+1) | J16: =IF(I16="","",I16/29) | K16: =IF(C16="","",IF(J16="","",J16*C16)) | L16: =IF(D16="","",IF(I16="","",I16*D16))
A17: Narbonneau | C17: =IF(E17="","",IF(F17="","",INDEX(tarif!$B$11:$AA$35,E17,F17))) | D17: =IF(G17="","",IF(H17="","",INDEX(tarif!$B$11:$AA$35,G17,H17))) | E17: =IF(A17="","",MATCH(Transfble!A17,tarif!$A$11:$A$35,0)) -> 12 | F17: =IF(B17="","",MATCH(B17,tarif!$B$9:$AA$9,0)) | G17: =IF(A17="","",MATCH(Transfble!$A17,tarif!$A$11:$A$35,0)) -> 12 | H17: =IF(B17="","",MATCH(Transfble!$B17,tarif!$B$9:$AA$9,0)+1) | J17: =IF(I17="","",I17/29) | K17: =IF(C17="","",IF(J17="","",J17*C17)) | L17: =IF(D17="","",IF(I17="","",I17*D17))
A18: St Sauvant | C18: =IF(E18="","",IF(F18="","",INDEX(tarif!$B$11:$AA$35,E18,F18))) | D18: =IF(G18="","",IF(H18="","",INDEX(tarif!$B$11:$AA$35,G18,H18))) | E18: =IF(A18="","",MATCH(Transfble!A18,tarif!$A$11:$A$35,0)) -> 13 | F18: =IF(B18="","",MATCH(B18,tarif!$B$9:$AA$9,0)) | G18: =IF(A18="","",MATCH(Transfble!$A18,tarif!$A$11:$A$35,0)) -> 13 | H18: =IF(B18="","",MATCH(Transfble!$B18,tarif!$B$9:$AA$9,0)+1) | J18: =IF(I18="","",I18/29) | K18: =IF(C18="","",IF(J18="","",J18*C18)) | L18: =IF(D18="","",IF(I18="","",I18*D18))
A19: Anais | C19: =IF(E19="","",IF(F19="","",INDEX(tarif!$B$11:$AA$35,E19,F19))) | D19: =IF(G19="","",IF(H19="","",INDEX(tarif!$B$11:$AA$35,G19,H19))) | E19: =IF(A19="","",MATCH(Transfble!A19,tarif!$A$11:$A$35,0)) -> 14 | F19: =IF(B19="","",MATCH(B19,tarif!$B$9:$AA$9,0)) | G19: =IF(A19="","",MATCH(Transfble!$A19,tarif!$A$11:$A$35,0)) -> 14 | H19: =IF(B19="","",MATCH(Transfble!$B19,tarif!$B$9:$AA$9,0)+1) | J19: =IF(I19="","",I19/29) | K19: =IF(C19="","",IF(J19="","",J19*C19)) | L19: =IF(D19="","",IF(I19="","",I19*D19))
A20: Tuzie | C20: =IF(E20="","",IF(F20="","",INDEX(tarif!$B$11:$AA$35,E20,F20))) | D20: =IF(G20="","",IF(H20="","",INDEX(tarif!$B$11:$AA$35,G20,H20))) | E20: =IF(A20="","",MATCH(Transfble!A20,tarif!$A$11:$A$35,0)) -> 15 | F20: =IF(B20="","",MATCH(B20,tarif!$B$9:$AA$9,0)) | G20: =IF(A20="","",MATCH(Transfble!$A20,tarif!$A$11:$A$35,0)) -> 15 | H20: =IF(B20="","",MATCH(Transfble!$B20,tarif!$B$9:$AA$9,0)+1) | J20: =IF(I20="","",I20/29) | K20: =IF(C20="","",IF(J20="","",J20*C20)) | L20: =IF(D20="","",IF(I20="","",I20*D20))
A21: Fleure | C21: =IF(E21="","",IF(F21="","",INDEX(tarif!$B$11:$AA$35,E21,F21))) | D21: =IF(G21="","",IF(H21="","",INDEX(tarif!$B$11:$AA$35,G21,H21))) | E21: =IF(A21="","",MATCH(Transfble!A21,tarif!$A$11:$A$35,0)) -> 16 | F21: =IF(B21="","",MATCH(B21,tarif!$B$9:$AA$9,0)) | G21: =IF(A21="","",MATCH(Transfble!$A21,tarif!$A$11:$A$35,0)) -> 16 | H21: =IF(B21="","",MATCH(Transfble!$B21,tarif!$B$9:$AA$9,0)+1) | J21: =IF(I21="","",I21/29) | K21: =IF(C21="","",IF(J21="","",J21*C21)) | L21: =IF(D21="","",IF(I21="","",I21*D21))
... A32: Sauzé | C32: =IF(E32="","",IF(F32="","",INDEX(tarif!$B$11:$AA$35,E32,F32))) | D32: =IF(G32="","",IF(H32="","",INDEX(tarif!$B$11:$AA$35,G32,H32))) | E32: =IF(A32="","",MATCH(Transfble!A32,tarif!$A$11:$A$35,0)) -> 1 | F32: =IF(B32="","",MATCH(B32,tarif!$B$9:$AA$9,0)) | G32: =IF(A32="","",MATCH(Transfble!$A32,tarif!$A$11:$A$35,0)) -> 1 | H32: =IF(B32="","",MATCH(Transfble!$B32,tarif!$B$9:$AA$9,0)+1) | J32: =IF(I32="","",I32/29) | K32: =IF(C32="","",IF(J32="","",J32*C32)) | L32: =IF(D32="","",IF(I32="","",I32*D32))
C33: =IF(E33="","",IF(F33="","",INDEX(tarif!$B$11:$AA$35,E33,F33))) | D33: =IF(G33="","",IF(H33="","",INDEX(tarif!$B$11:$AA$35,G33,H33))) | E33: =IF(A33="","",MATCH(Transfble!A33,tarif!$A$11:$A$35,0)) | F33: =IF(B33="","",MATCH(B33,tarif!$B$9:$AA$9,0)) | G33: =IF(A33="","",MATCH(Transfble!$A33,tarif!$A$11:$A$35,0)) | H33: =IF(B33="","",MATCH(Transfble!$B33,tarif!$B$9:$AA$9,0)+1) | J33: =IF(I33="","",I33/29) | K33: =IF(C33="","",IF(J33="","",J33*C33)) | L33: =IF(D33="","",IF(I33="","",I33*D33))
C34: =IF(E34="","",IF(F34="","",INDEX(tarif!$B$11:$AA$35,E34,F34))) | D34: =IF(G34="","",IF(H34="","",INDEX(tarif!$B$11:$AA$35,G34,H34))) | E34: =IF(A34="","",MATCH(Transfble!A34,tarif!$A$11:$A$35,0)) | F34: =IF(B34="","",MATCH(B34,tarif!$B$9:$AA$9,0)) | G34: =IF(A34="","",MATCH(Transfble!$A34,tarif!$A$11:$A$35,0)) | H34: =IF(B34="","",MATCH(Transfble!$B34,tarif!$B$9:$AA$9,0)+1) | J34: =IF(I34="","",I34/29) | K34: =IF(C34="","",IF(J34="","",J34*C34)) | L34: =IF(D34="","",IF(I34="","",I34*D34))
C35: =IF(E35="","",IF(F35="","",INDEX(tarif!$B$11:$AA$35,E35,F35))) | D35: =IF(G35="","",IF(H35="","",INDEX(tarif!$B$11:$AA$35,G35,H35))) | E35: =IF(A35="","",MATCH(Transfble!A35,tarif!$A$11:$A$35,0)) | F35: =IF(B35="","",MATCH(B35,tarif!$B$9:$AA$9,0)) | G35: =IF(A35="","",MATCH(Transfble!$A35,tarif!$A$11:$A$35,0)) | H35: =IF(B35="","",MATCH(Transfble!$B35,tarif!$B$9:$AA$9,0)+1) | J35: =IF(I35="","",I35/29) | K35: =IF(C35="","",IF(J35="","",J35*C35)) | L35: =IF(D35="","",IF(I35="","",I35*D35))
C36: =IF(E36="","",IF(F36="","",INDEX(tarif!$B$11:$AA$35,E36,F36))) | D36: =IF(G36="","",IF(H36="","",INDEX(tarif!$B$11:$AA$35,G36,H36))) | E36: =IF(A36="","",MATCH(Transfble!A36,tarif!$A$11:$A$35,0)) | F36: =IF(B36="","",MATCH(B36,tarif!$B$9:$AA$9,0)) | G36: =IF(A36="","",MATCH(Transfble!$A36,tarif!$A$11:$A$35,0)) | H36: =IF(B36="","",MATCH(Transfble!$B36,tarif!$B$9:$AA$9,0)+1) | J36: =IF(I36="","",I36/29) | K36: =IF(C36="","",IF(J36="","",J36*C36)) | L36: =IF(D36="","",IF(I36="","",I36*D36))
C37: =IF(E37="","",IF(F37="","",INDEX(tarif!$B$11:$AA$35,E37,F37))) | D37: =IF(G37="","",IF(H37="","",INDEX(tarif!$B$11:$AA$35,G37,H37))) | E37: =IF(A37="","",MATCH(Transfble!A37,tarif!$A$11:$A$35,0)) | F37: =IF(B37="","",MATCH(B37,tarif!$B$9:$AA$9,0)) | G37: =IF(A37="","",MATCH(Transfble!$A37,tarif!$A$11:$A$35,0)) | H37: =IF(B37="","",MATCH(Transfble!$B37,tarif!$B$9:$AA$9,0)+1) | J37: =IF(I37="","",I37/29) | K37: =IF(C37="","",IF(J37="","",J37*C37)) | L37: =IF(D37="","",IF(I37="","",I37*D37))
C38: =IF(E38="","",IF(F38="","",INDEX(tarif!$B$11:$AA$35,E38,F38))) | D38: =IF(G38="","",IF(H38="","",INDEX(tarif!$B$11:$AA$35,G38,H38))) | E38: =IF(A38="","",MATCH(Transfble!A38,tarif!$A$11:$A$35,0)) | F38: =IF(B38="","",MATCH(B38,tarif!$B$9:$AA$9,0)) | G38: =IF(A38="","",MATCH(Transfble!$A38,tarif!$A$11:$A$35,0)) | H38: =IF(B38="","",MATCH(Transfble!$B38,tarif!$B$9:$AA$9,0)+1) | J38: =IF(I38="","",I38/29) | K38: =IF(C38="","",IF(J38="","",J38*C38)) | L38: =IF(D38="","",IF(I38="","",I38*D38))
C39: =IF(E39="","",IF(F39="","",INDEX(tarif!$B$11:$AA$35,E39,F39))) | D39: =IF(G39="","",IF(H39="","",INDEX(tarif!$B$11:$AA$35,G39,H39))) | E39: =IF(A39="","",MATCH(Transfble!A39,tarif!$A$11:$A$35,0)) | F39: =IF(B39="","",MATCH(B39,tarif!$B$9:$AA$9,0)) | G39: =IF(A39="","",MATCH(Transfble!$A39,tarif!$A$11:$A$35,0)) | H39: =IF(B39="","",MATCH(Transfble!$B39,tarif!$B$9:$AA$9,0)+1) | J39: =IF(I39="","",I39/29) | K39: =IF(C39="","",IF(J39="","",J39*C39)) | L39: =IF(D39="","",IF(I39="","",I39*D39))
C40: =IF(E40="","",IF(F40="","",INDEX(tarif!$B$11:$AA$35,E40,F40))) | D40: =IF(G40="","",IF(H40="","",INDEX(tarif!$B$11:$AA$35,G40,H40))) | E40: =IF(A40="","",MATCH(Transfble!A40,tarif!$A$11:$A$35,0)) | F40: =IF(B40="","",MATCH(B40,tarif!$B$9:$AA$9,0)) | G40: =IF(A40="","",MATCH(Transfble!$A40,tarif!$A$11:$A$35,0)) | H40: =IF(B40="","",MATCH(Transfble!$B40,tarif!$B$9:$AA$9,0)+1) | J40: =IF(I40="","",I40/29) | K40: =IF(C40="","",IF(J40="","",J40*C40)) | L40: =IF(D40="","",IF(I40="","",I40*D40))
C41: =IF(E41="","",IF(F41="","",INDEX(tarif!$B$11:$AA$35,E41,F41))) | D41: =IF(G41="","",IF(H41="","",INDEX(tarif!$B$11:$AA$35,G41,H41))) | E41: =IF(A41="","",MATCH(Transfble!A41,tarif!$A$11:$A$35,0)) | F41: =IF(B41="","",MATCH(B41,tarif!$B$9:$AA$9,0)) | G41: =IF(A41="","",MATCH(Transfble!$A41,tarif!$A$11:$A$35,0)) | H41: =IF(B41="","",MATCH(Transfble!$B41,tarif!$B$9:$AA$9,0)+1) | J41: =IF(I41="","",I41/29) | K41: =IF(C41="","",IF(J41="","",J41*C41)) | L41: =IF(D41="","",IF(I41="","",I41*D41))
C42: =IF(E42="","",IF(F42="","",INDEX(tarif!$B$11:$AA$35,E42,F42))) | D42: =IF(G42="","",IF(H42="","",INDEX(tarif!$B$11:$AA$35,G42,H42))) | E42: =IF(A42="","",MATCH(Transfble!A42,tarif!$A$11:$A$35,0)) | F42: =IF(B42="","",MATCH(B42,tarif!$B$9:$AA$9,0)) | G42: =IF(A42="","",MATCH(Transfble!$A42,tarif!$A$11:$A$35,0)) | H42: =IF(B42="","",MATCH(Transfble!$B42,tarif!$B$9:$AA$9,0)+1) | J42: =IF(I42="","",I42/29) | K42: =IF(C42="","",IF(J42="","",J42*C42)) | L42: =IF(D42="","",IF(I42="","",I42*D42))
C43: =IF(E43="","",IF(F43="","",INDEX(tarif!$B$11:$AA$35,E43,F43))) | D43: =IF(G43="","",IF(H43="","",INDEX(tarif!$B$11:$AA$35,G43,H43))) | E43: =IF(A43="","",MATCH(Transfble!A43,tarif!$A$11:$A$35,0)) | F43: =IF(B43="","",MATCH(B43,tarif!$B$9:$AA$9,0)) | G43: =IF(A43="","",MATCH(Transfble!$A43,tarif!$A$11:$A$35,0)) | H43: =IF(B43="","",MATCH(Transfble!$B43,tarif!$B$9:$AA$9,0)+1) | J43: =IF(I43="","",I43/29) | K43: =IF(C43="","",IF(J43="","",J43*C43)) | L43: =IF(D43="","",IF(I43="","",I43*D43))
C44: =IF(E44="","",IF(F44="","",INDEX(tarif!$B$11:$AA$35,E44,F44))) | D44: =IF(G44="","",IF(H44="","",INDEX(tarif!$B$11:$AA$35,G44,H44))) | E44: =IF(A44="","",MATCH(Transfble!A44,tarif!$A$11:$A$35,0)) | F44: =IF(B44="","",MATCH(B44,tarif!$B$9:$AA$9,0)) | G44: =IF(A44="","",MATCH(Transfble!$A44,tarif!$A$11:$A$35,0)) | H44: =IF(B44="","",MATCH(Transfble!$B44,tarif!$B$9:$AA$9,0)+1) | J44: =IF(I44="","",I44/29) | K44: =IF(C44="","",IF(J44="","",J44*C44)) | L44: =IF(D44="","",IF(I44="","",I44*D44))
... C49: =IF(E49="","",IF(F49="","",INDEX(tarif!$B$11:$AA$35,E49,F49))) | D49: =IF(G49="","",IF(H49="","",INDEX(tarif!$B$11:$AA$35,G49,H49))) | E49: =IF(A49="","",MATCH(Transfble!A49,tarif!$A$11:$A$35,0)) | F49: =IF(B49="","",MATCH(B49,tarif!$B$9:$AA$9,0)) | G49: =IF(A49="","",MATCH(Transfble!$A49,tarif!$A$11:$A$35,0)) | H49: =IF(B49="","",MATCH(Transfble!$B49,tarif!$B$9:$AA$9,0)+1) | J49: =IF(I49="","",I49/29) | K49: =IF(C49="","",IF(J49="","",J49*C49)) | L49: =IF(D49="","",IF(I49="","",I49*D49))
A50: Total

Sheet Feuil1
