Workbook

Sheet Export polyvalence
A1: Nom & Prénom | B1: Activité 1 | C1: Activité 2 | D1: Act 3 | E1: Act 4 | F1: Act 5 | G1: Act 6 | H1: Rien | I1: Act 7 | J1: Act 8 | K1: Rien | L1: Act 9 | M1: Act 10 | N1: Rien | O1: Act 11 | P1: % | Q1: PTS
A2: Mme X | B2: 2 | C2: 4 | D2: 4 | E2: 4 | F2: 4 | G2: 4 | H2: 4 | I2: 2 | J2: 4 | K2: 4 | L2: 4 | M2: 4 | N2: 2 | O2: 4 | P2: 89
A3: Mr E | B3: 1 | C3: 1 | D3: 1 | E3: 1 | F3: 4 | G3: 1 | H3: 1 | I3: 1 | J3: 4 | K3: 2 | L3: 2 | M3: 1 | N3: 1 | O3: 4 | P3: 45
A4: Mme d | B4: 3 | C4: 4 | D4: 4 | E4: 4 | F4: 4 | G4: 4 | H4: 3 | I4: 3 | J4: 4 | K4: 4 | L4: 3 | M4: 3 | N4: 3 | O4: 4 | P4: 89
A5: Mr s | B5: 3 | C5: 4 | D5: 4 | E5: 4 | F5: 4 | G5: 4 | H5: 4 | I5: 3 | J5: 4 | K5: 4 | L5: 3 | M5: 2 | N5: 1 | O5: 4 | P5: 86
A6: a | B6: 1 | C6: 3 | D6: 3 | E6: 3 | F6: 4 | G6: 3 | H6: 1 | I6: 1 | J6: 4 | K6: 3 | L6: 2 | M6: 2 | N6: 1 | O6: 4 | P6: 63
A7: f | B7: 4 | C7: 1 | D7: 1 | E7: 1 | F7: 1 | G7: 1 | H7: 1 | I7: 3 | J7: 1 | K7: 1 | L7: 1 | M7: 1 | N7: 1 | O7: 1 | P7: 34
A8: z
A9: r
A10: g | B10: 3 | C10: 1 | D10: 1 | E10: 1 | F10: 3 | G10: 1 | H10: 4 | I10: 3 | J10: 4 | K10: 3 | L10: 2 | M10: 1 | N10: 1 | O10: 4 | P10: 57
A11: c | B11: 3 | C11: 1 | D11: 1 | E11: 1 | F11: 3 | G11: 1 | H11: 1 | I11: 3 | J11: 3 | K11: 3 | L11: 2 | M11: 1 | N11: 1 | O11: 4 | P11: 50
A12: t | B12: 1 | C12: 1 | D12: 1 | E12: 1 | F12: 1 | G12: 1 | H12: 1 | I12: 1 | J12: 1 | K12: 1 | L12: 1 | M12: 1 | N12: 1 | O12: 1 | P12: 25
A13: y
A14: u
A15: i | B15: 1 | C15: 1 | D15: 1 | E15: 1 | F15: 1 | G15: 1 | H15: 1 | I15: 1 | J15: 1 | K15: 1 | L15: 1 | M15: 1 | N15: 1 | O15: 1 | P15: 25
A16: o | B16: 1 | C16: 4 | D16: 4 | E16: 4 | F16: 4 | G16: 4 | H16: 1 | I16: 1 | J16: 4 | K16: 3 | L16: 2 | M16: 2 | N16: 1 | O16: 4 | P16: 70
A17: p | B17: 1 | C17: 1 | D17: 1 | E17: 1 | F17: 1 | G17: 1 | H17: 1 | I17: 1 | J17: 1 | K17: 1 | L17: 1 | M17: 1 | N17: 1 | O17: 1 | P17: 25
A18: q | B18: 2 | C18: 4 | D18: 4 | E18: 4 | F18: 4 | G18: 4 | H18: 4 | I18: 4 | J18: 4 | K18: 4 | L18: 3 | M18: 4 | N18: 1 | O18: 4 | P18: 89
A19: s | B19: 3 | C19: 1 | D19: 1 | E19: 1 | F19: 1 | G19: 1 | H19: 3 | I19: 3 | J19: 3 | K19: 1 | L19: 1 | M19: 1 | N19: 1 | O19: 4 | P19: 45
A20: h | B20: 1 | C20: 1 | D20: 1 | E20: 1 | F20: 1 | G20: 1 | H20: 1 | I20: 1 | J20: 1 | K20: 1 | L20: 1 | M20: 1 | N20: 1 | O20: 1 | P20: 25
A21: j
A22: k | B22: 1 | C22: 1 | D22: 1 | E22: 1 | F22: 1 | G22: 1 | H22: 3 | I22: 1 | J22: 3 | K22: 3 | L22: 1 | M22: 1 | N22: 1 | O22: 4 | P22: 41
A23: l | B23: 1 | C23: 1 | D23: 1 | E23: 1 | F23: 1 | G23: 1 | H23: 1 | I23: 1 | J23: 1 | K23: 1 | L23: 1 | M23: 1 | N23: 1 | O23: 1 | P23: 25
A24: m | B24: 1 | C24: 1 | D24: 1 | E24: 1 | F24: 1 | G24: 1 | H24: 1 | I24: 1 | J24: 1 | K24: 1 | L24: 1 | M24: 1 | N24: 4 | O24: 1 | P24: 30
A25: w | B25: 2 | C25: 4 | D25: 4 | E25: 4 | F25: 4 | G25: 4 | H25: 4 | I25: 2 | J25: 4 | K25: 4 | L25: 2 | M25: 3 | N25: 1 | O25: 4 | P25: 82
A34: Nom & Prénom | B34: Formules | C34: Mme X | D34: Mr E | E34: Mme d | F34: Mr s | G34: a | H34: f | I34: z | J34: r | K34: g | L34: c | M34: t | N34: y | O34: u | P34: i | Q34: o | R34: p | S34: q | T34: s | U34: h | V34: j | W34: k | X34: l | Y34: m | Z34: w
A35: Act 1 | B35: =IF($B$10>2,$B$1,IF($B$10=2,$B$1&"(2)","")) -> Activité 1 | C35: =IF($B$2>2,$B$1,IF($B$2=2,$B$1&"(2)","")) -> Activité 1(2) | D35: =IF($B$3>2,$B$1,IF($B$3=2,$B$1&"(2)","")) | E35: =IF($B$4>2,$B$1,IF($B$4=2,$B$1&"(2)","")) -> Activité 1 | F35: =IF($B$5>2,$B$1,IF($B$5=2,$B$1&"(2)","")) -> Activité 1 | G35: =IF($B$6>2,$B$1,IF($B$6=2,$B$1&"(2)","")) | H35: =IF($B$7>2,$B$1,IF($B$7=2,$B$1&"(2)","")) -> Activité 1 | I35: =IF($B$8>2,$B$1,IF($B$9=2,$B$1&"(2)","")) | J35: =IF($B$9>2,$B$1,IF($B$9=2,$B$1&"(2)","")) | K35: =IF($B$10>2,$B$1,IF($B$10=2,$B$1&"(2)","")) -> Activité 1 | L35: =IF($B$11>2,$B$1,IF($B$11=2,$B$1&"(2)","")) -> Activité 1 | M35: =IF($B$12>2,$B$1,IF($B$12=2,$B$1&"(2)","")) | N35: =IF($B$13>2,$B$1,IF($B$13=2,$B$1&"(2)","")) | O35: =IF($B$14>2,$B$1,IF($B$14=2,$B$1&"(2)","")) | P35: =IF($B$15>2,$B$1,IF($B$15=2,$B$1&"(2)","")) | Q35: =IF($B$16>2,$B$1,IF($B$16=2,$B$1&"(2)","")) | R35: =IF($B$17>2,$B$1,IF($B$17=2,$B$1&"(2)","")) | S35: =IF($B$18>2,$B$1,IF($B$18=2,$B$1&"(2)","")) -> Activité 1(2) | T35: =IF($B$19>2,$B$1,IF($B$19=2,$B$1&"(2)","")) -> Activité 1 | U35: =IF($B$20>2,$B$1,IF($B$20=2,$B$1&"(2)","")) | V35: =IF($B$21>2,$B$1,IF($B$21=2,$B$1&"(2)","")) | W35: =IF($B$22>2,$B$1,IF($B$22=2,$B$1&"(2)","")) | X35: =IF($B$23>2,$B$1,IF($B$23=2,$B$1&"(2)","")) | Y35: =IF($B$24>2,$B$1,IF($B$24=2,$B$1&"(2)","")) | Z35: =IF($B$25>2,$B$1,IF($B$25=2,$B$1&"(2)","")) -> Activité 1(2)
A36: Act 2 | B36: =IF($C$2>2,$C$1,IF($C$2=2,$C$1&"(2)","")) -> Activité 2 | C36: =IF($C$2>2,$C$1,IF($C$2=2,$C$1&"(2)","")) -> Activité 2 | D36: =IF($C$3>2,$C$1,IF($C$3=2,$C$1&"(2)","")) | E36: =IF($C$4>2,$C$1,IF($C$4=2,$C$1&"(2)","")) -> Activité 2 | F36: =IF($C$5>2,$C$1,IF($C$5=2,$C$1&"(2)","")) -> Activité 2 | G36: =IF($C$6>2,$C$1,IF($C$6=2,$C$1&"(2)","")) -> Activité 2 | H36: =IF($C$7>2,$C$1,IF($C$7=2,$C$1&"(2)","")) | I36: =IF($C$8>2,$C$1,IF($C$8=2,$C$1&"(2)","")) | J36: =IF($C$9>2,$C$1,IF($C$9=2,$C$1&"(2)","")) | K36: =IF($C$10>2,$C$1,IF($C$10=2,$C$1&"(2)","")) | L36: =IF($C$11>2,$C$1,IF($C$11=2,$C$1&"(2)","")) | M36: =IF($C$12>2,$C$1,IF($C$12=2,$C$1&"(2)","")) | N36: =IF($C$13>2,$C$1,IF($C$13=2,$C$1&"(2)","")) | O36: =IF($C$14>2,$C$1,IF($C$14=2,$C$1&"(2)","")) | P36: =IF($C$15>2,$C$1,IF($C$15=2,$C$1&"(2)","")) | Q36: =IF($C$16>2,$C$1,IF($C$16=2,$C$1&"(2)","")) -> Activité 2 | R36: =IF($C$17>2,$C$1,IF($C$17,$C$1&"(2)","")) -> Activité 2(2) | S36: =IF($C$18>2,$C$1,IF($C$18=2,$C$1&"(2)","")) -> Activité 2 | T36: =IF($C$19>2,$C$1,IF($C$19=2,$C$1&"(2)","")) | U36: =IF($C$20>2,$C$1,IF($C$20=2,$C$1&"(2)","")) | V36: =IF($C$21>2,$C$1,IF($C$21=2,$C$1&"(2)","")) | W36: =IF($C$22>2,$C$1,IF($C$22=2,$C$1&"(2)","")) | X36: =IF($C$23>2,$C$1,IF($C$23=2,$C$1&"(2)","")) | Y36: =IF($C$24>2,$C$1,IF($C$24=2,$C$1&"(2)","")) | Z36: =IF($C$25>2,$C$1,IF($C$25=2,$C$1&"(2)","")) -> Activité 2
A37: Act 3 | B37: =IF($D$2>2,$D$1,IF($D$2=2,$D$1&"(2)","")) -> Act 3 | C37: =IF($D$2>2,$D$1,IF($D$2=2,$D$1&"(2)","")) -> Act 3 | D37: =IF($D$3>2,$D$1,IF($D$3=2,$D$1&"(2)","")) | E37: =IF($D$4>2,$D$1,IF($D$4=2,$D$1&"(2)","")) -> Act 3 | F37: =IF($D$5>2,$D$1,IF($D$5=2,$D$1&"(2)","")) -> Act 3 | G37: =IF($D$6>2,$D$1,IF($D$6=2,$D$1&"(2)","")) -> Act 3 | H37: =IF($D$7>2,$D$1,IF($D$7=2,$D$1&"(2)","")) | I37: =IF($D$8>2,$D$1,IF($D$8=2,$D$1&"(2)","")) | J37: =IF($D$9>2,$D$1,IF($D$9=2,$D$1&"(2)","")) | K37: =IF($D$10>2,$D$1,IF($D$10=2,$D$1&"(2)","")) | L37: =IF($D$11>2,$D$1,IF($D$11=2,$D$1&"(2)","")) | M37: =IF($D$12>2,$D$1,IF($D$12=2,$D$1&"(2)","")) | N37: =IF($D$13>2,$D$1,IF($D$13=2,$D$1&"(2)","")) | O37: =IF($D$14>2,$D$1,IF($D$14=2,$D$1&"(2)","")) | P37: =IF($D$15>2,$D$1,IF($D$15=2,$D$1&"(2)","")) | Q37: =IF($D$16>2,$D$1,IF($D$16=2,$D$1&"(2)","")) -> Act 3 | R37: =IF($D$17>2,$D$1,IF($D$17=2,$D$1&"(2)","")) | S37: =IF($D$18>2,$D$1,IF($D$18=2,$D$1&"(2)","")) -> Act 3 | T37: =IF($D$19>2,$D$1,IF($D$19=2,$D$1&"(2)","")) | U37: =IF($D$20>2,$D$1,IF($D$20=2,$D$1&"(2)","")) | V37: =IF($D$21>2,$D$1,IF($D$21=2,$D$1&"(2)","")) | W37: =IF($D$22>2,$D$1,IF($D$22=2,$D$1&"(2)","")) | X37: =IF($D$23>2,$D$1,IF($D$23=2,$D$1&"(2)","")) | Y37: =IF($D$24>2,$D$1,IF($D$24=2,$D$1&"(2)","")) | Z37: =IF($D$25>2,$D$1,IF($D$25=2,$D$1&"(2)","")) -> Act 3
A38: Act 4 | B38: =IF($E$2>2,$E$1,IF($E$2=2,$E$1&"(2)","")) -> Act 4 | C38: =IF($E$2>2,$E$1,IF($E$2=2,$E$1&"(2)","")) -> Act 4 | D38: =IF($E$3>2,$E$1,IF($E$3=2,$E$1&"(2)","")) | E38: =IF($E$4>2,$E$1,IF($E$4=2,$E$1&"(2)","")) -> Act 4 | F38: =IF($E$5>2,$E$1,IF($E$5=2,$E$1&"(2)","")) -> Act 4 | G38: =IF($E$6>2,$E$1,IF($E$6=2,$E$1&"(2)","")) -> Act 4 | H38: =IF($E$7>2,$E$1,IF($E$7=2,$E$1&"(2)","")) | I38: =IF($E$8>2,$E$1,IF($E$8=2,$E$1&"(2)","")) | J38: =IF($E$9>2,$E$1,IF($E$9=2,$E$1&"(2)","")) | K38: =IF($E$10>2,$E$1,IF($E$10=2,$E$1&"(2)","")) | L38: =IF($E$11>2,$E$1,IF($E$11=2,$E$1&"(2)","")) | M38: =IF($E$12>2,$E$1,IF($E$12=2,$E$1&"(2)","")) | N38: =IF($E$13>2,$E$1,IF($E$13=2,$E$1&"(2)","")) | O38: =IF($E$14>2,$E$1,IF($E$14=2,$E$1&"(2)","")) | P38: =IF($E$15>2,$E$1,IF($E$15=2,$E$1&"(2)","")) | Q38: =IF($E$16>2,$E$1,IF($E$16=2,$E$1&"(2)","")) -> Act 4 | R38: =IF($E$17>2,$E$1,IF($E$17=2,$E$1&"(2)","")) | S38: =IF($E$18>2,$E$1,IF($E$18=2,$E$1&"(2)","")) -> Act 4 | T38: =IF($E$19>2,$E$1,IF($E$19=2,$E$1&"(2)","")) | U38: =IF($E$20>2,$E$1,IF($E$20=2,$E$1&"(2)","")) | V38: =IF($E$21>2,$E$1,IF($E$21=2,$E$1&"(2)","")) | W38: =IF($E$22>2,$E$1,IF($E$22=2,$E$1&"(2)","")) | X38: =IF($E$23>2,$E$1,IF($E$23=2,$E$1&"(2)","")) | Y38: =IF($E$24>2,$E$1,IF($E$24=2,$E$1&"(2)","")) | Z38: =IF($E$25>2,$E$1,IF($E$25=2,$E$1&"(2)","")) -> Act 4
A39: act 5 | B39: =IF($F$2>2,$F$1,IF($F$2=2,$F$1&"(2)","")) -> Act 5 | C39: =IF($F$2>2,$F$1,IF($F$2=2,$F$1&"(2)","")) -> Act 5 | D39: =IF($F$3>2,$F$1,IF($F$3=2,$F$1&"(2)","")) -> Act 5 | E39: =IF($F$4>2,$F$1,IF($F$4=2,$F$1&"(2)","")) -> Act 5 | F39: =IF($F$5>2,$F$1,IF($F$5=2,$F$1&"(2)","")) -> Act 5 | G39: =IF($F$6>2,$F$1,IF($F$6=2,$F$1&"(2)","")) -> Act 5 | H39: =IF($F$7>2,$F$1,IF($F$7=2,$F$1&"(2)","")) | I39: =IF($F$8>2,$F$1,IF($F$8=2,$F$1&"(2)","")) | J39: =IF($F$9>2,$F$1,IF($F$9=2,$F$1&"(2)","")) | K39: =IF($F$10>2,$F$1,IF($F$10=2,$F$1&"(2)","")) -> Act 5 | L39: =IF($F$11>2,$F$1,IF($F$11=2,$F$1&"(2)","")) -> Act 5 | M39: =IF($F$12>2,$F$1,IF($F$12=2,$F$1&"(2)","")) | N39: =IF($F$13>2,$F$1,IF($F$13=2,$F$1&"(2)","")) | O39: =IF($F$14>2,$F$1,IF($F$14=2,$F$1&"(2)","")) | P39: =IF($F$15>2,$F$1,IF($F$15=2,$F$1&"(2)","")) | Q39: =IF($F$16>2,$F$1,IF($F$16=2,$F$1&"(2)","")) -> Act 5 | R39: =IF($F$17>2,$F$1,IF($F$17=2,$F$1&"(2)","")) | S39: =IF($F$18>2,$F$1,IF($F$18=2,$F$1&"(2)","")) -> Act 5 | T39: =IF($F$19>2,$F$1,IF($F$19=2,$F$1&"(2)","")) | U39: =IF($F$20>2,$F$1,IF($F$20=2,$F$1&"(2)","")) | V39: =IF($F$21>2,$F$1,IF($F$21=2,$F$1&"(2)","")) | W39: =IF($F$22>2,$F$1,IF($F$22=2,$F$1&"(2)","")) | X39: =IF($F$23>2,$F$1,IF($F$23=2,$F$1&"(2)","")) | Y39: =IF($F$24>2,$F$1,IF($F$24=2,$F$1&"(2)","")) | Z39: =IF($F$25>2,$F$1,IF($F$25=2,$F$1&"(2)","")) -> Act 5
A40: act 6 | B40: =IF($G$2>2,$G$1,IF($G$2=2,$G$1&"(2)","")) -> Act 6 | C40: =IF($G$2>2,$G$1,IF($G$2=2,$G$1&"(2)","")) -> Act 6 | D40: =IF($G$3>2,$G$1,IF($G$3=2,$G$1&"(2)","")) | E40: =IF($G$4>2,$G$1,IF($G$4=2,$G$1&"(2)","")) -> Act 6 | F40: =IF($G$5>2,$G$1,IF($G$5=2,$G$1&"(2)","")) -> Act 6 | G40: =IF($G$6>2,$G$1,IF($G$6=2,$G$1&"(2)","")) -> Act 6 | H40: =IF($G$7>2,$G$1,IF($G$7=2,$G$1&"(2)","")) | I40: =IF($G$8>2,$G$1,IF($G$8=2,$G$1&"(2)","")) | J40: =IF($G$9>2,$G$1,IF($G$9=2,$G$1&"(2)","")) | K40: =IF($G$10>2,$G$1,IF($G$10=2,$G$1&"(2)","")) | L40: =IF($G$11>2,$G$1,IF($G$11=2,$G$1&"(2)","")) | M40: =IF($G$12>2,$G$1,IF($G$12=2,$G$1&"(2)","")) | N40: =IF($G$13>2,$G$1,IF($G$13=2,$G$1&"(2)","")) | O40: =IF($G$14>2,$G$1,IF($G$14=2,$G$1&"(2)","")) | P40: =IF($G$15>2,$G$1,IF($G$15=2,$G$1&"(2)","")) | Q40: =IF($G$16>2,$G$1,IF($G$16=2,$G$1&"(2)","")) -> Act 6 | R40: =IF($G$17>2,$G$1,IF($G$17=2,$G$1&"(2)","")) | S40: =IF($G$18>2,$G$1,IF($G$18=2,$G$1&"(2)","")) -> Act 6 | T40: =IF($G$19>2,$G$1,IF($G$19=2,$G$1&"(2)","")) | U40: =IF($G$20>2,$G$1,IF($G$20=2,$G$1&"(2)","")) | V40: =IF($G$21>2,$G$1,IF($G$21=2,$G$1&"(2)","")) | W40: =IF($G$22>2,$G$1,IF($G$22=2,$G$1&"(2)","")) | X40: =IF($G$23>2,$G$1,IF($G$23=2,$G$1&"(2)","")) | Y40: =IF($G$24>2,$G$1,IF($G$24=2,$G$1&"(2)","")) | Z40: =IF($G$25>2,$G$1,IF($G$25=2,$G$1&"(2)","")) -> Act 6
A41: act 7 | B41: =IF($I$2>2,$I$1,IF($I$2=2,$I$1&"(2)","")) -> Act 7(2) | C41: =IF($I$2>2,$I$1,IF($I$2=2,$I$1&"(2)","")) -> Act 7(2) | D41: =IF($I$3>2,$I$1,IF($I$3=2,$I$1&"(2)","")) | E41: =IF($I$4>2,$I$1,IF($I$4=2,$I$1&"(2)","")) -> Act 7 | F41: =IF($I$5>2,$I$1,IF($I$5=2,$I$1&"(2)","")) -> Act 7 | G41: =IF($I$6>2,$I$1,IF($I$6=2,$I$1&"(2)","")) | H41: =IF($I$7>2,$I$1,IF($I$7=2,$I$1&"(2)","")) -> Act 7 | I41: =IF($I$8>2,$I$1,IF($I$8=2,$I$1&"(2)","")) | J41: =IF($I$9>2,$I$1,IF($I$9=2,$I$1&"(2)","")) | K41: =IF($I$10>2,$I$1,IF($I$10=2,$I$1&"(2)","")) -> Act 7 | L41: =IF($I$11>2,$I$1,IF($I$11=2,$I$1&"(2)","")) -> Act 7 | M41: =IF($I$12>2,$I$1,IF($I$12=2,$I$1&"(2)","")) | N41: =IF($I$13>2,$I$1,IF($I$13=2,$I$1&"(2)","")) | O41: =IF($I$14>2,$I$1,IF($I$14=2,$I$1&"(2)","")) | P41: =IF($I$15>2,$I$1,IF($I$15=2,$I$1&"(2)","")) | Q41: =IF($I$16>2,$I$1,IF($I$16=2,$I$1&"(2)","")) | R41: =IF($I$17>2,$I$1,IF($I$17=2,$I$1&"(2)","")) | S41: =IF($I$18>2,$I$1,IF($I$18=2,$I$1&"(2)","")) -> Act 7 | T41: =IF($I$19>2,$I$1,IF($I$19=2,$I$1&"(2)","")) -> Act 7 | U41: =IF($I$20>2,$I$1,IF($I$20=2,$I$1&"(2)","")) | V41: =IF($I$21>2,$I$1,IF($I$21=2,$I$1&"(2)","")) | W41: =IF($I$22>2,$I$1,IF($I$22=2,$I$1&"(2)","")) | X41: =IF($I$23>2,$I$1,IF($I$23=2,$I$1&"(2)","")) | Y41: =IF($I$24>2,$I$1,IF($I$24=2,$I$1&"(2)","")) | Z41: =IF($I$25>2,$I$1,IF($I$25=2,$I$1&"(2)","")) -> Act 7(2)
A42: act 8 | B42: =IF($J$2>2,$J$1,IF($J$2=2,$J$1&"(2)","")) -> Act 8 | C42: =IF($J$2>2,$J$1,IF($J$2=2,$J$1&"(2)","")) -> Act 8 | D42: =IF($J$3>2,$J$1,IF($J$3=2,$J$1&"(2)","")) -> Act 8 | E42: =IF($J$4>2,$J$1,IF($J$4=2,$J$1&"(2)","")) -> Act 8 | F42: =IF($J$5>2,$J$1,IF($J$5=2,$J$1&"(2)","")) -> Act 8 | G42: =IF($J$6>2,$J$1,IF($J$6=2,$J$1&"(2)","")) -> Act 8 | H42: =IF($J$7>2,$J$1,IF($J$7=2,$J$1&"(2)","")) | I42: =IF($J$8>2,$J$1,IF($J$8=2,$J$1&"(2)","")) | J42: =IF($J$9>2,$J$1,IF($J$9=2,$J$1&"(2)","")) | K42: =IF($J$10>2,$J$1,IF($J$10=2,$J$1&"(2)","")) -> Act 8 | L42: =IF($J$11>2,$J$1,IF($J$11=2,$J$1&"(2)","")) -> Act 8 | M42: =IF($J$12>2,$J$1,IF($J$12=2,$J$1&"(2)","")) | N42: =IF($J$13>2,$J$1,IF($J$13=2,$J$1&"(2)","")) | O42: =IF($J$14>2,$J$1,IF($J$14=2,$J$1&"(2)","")) | P42: =IF($J$15>2,$J$1,IF($J$15=2,$J$1&"(2)","")) | Q42: =IF($J$16>2,$J$1,IF($J$16=2,$J$1&"(2)","")) -> Act 8 | R42: =IF($J$17>2,$J$1,IF($J$17=2,$J$1&"(2)","")) | S42: =IF($J$18>2,$J$1,IF($J$18=2,$J$1&"(2)","")) -> Act 8 | T42: =IF($J$19>2,$J$1,IF($J$19=2,$J$1&"(2)","")) -> Act 8 | U42: =IF($J$20>2,$J$1,IF($J$20=2,$J$1&"(2)","")) | V42: =IF($J$21>2,$J$1,IF($J$21=2,$J$1&"(2)","")) | W42: =IF($J$22>2,$J$1,IF($J$22=2,$J$1&"(2)","")) -> Act 8 | X42: =IF($J$23>2,$J$1,IF($J$23=2,$J$1&"(2)","")) | Y42: =IF($J$24>2,$J$1,IF($J$24=2,$J$1&"(2)","")) | Z42: =IF($J$25>2,$J$1,IF($J$25=2,$J$1&"(2)","")) -> Act 8
A43: act 9 | B43: =IF($L$2>2,$L$1,IF($L$2=2,$L$1&"(2)","")) -> Act 9 | C43: =IF($L$2>2,$L$1,IF($L$2=2,$L$1&"(2)","")) -> Act 9 | D43: =IF($L$3>2,$L$1,IF($L$3=2,$L$1&"(2)","")) -> Act 9(2) | E43: =IF($L$4>2,$L$1,IF($L$4=2,$L$1&"(2)","")) -> Act 9 | F43: =IF($L$5>2,$L$1,IF($L$5=2,$L$1&"(2)","")) -> Act 9 | G43: =IF($L$6>2,$L$1,IF($L$6=2,$L$1&"(2)","")) -> Act 9(2) | H43: =IF($L$7>2,$L$1,IF($L$7=2,$L$1&"(2)","")) | I43: =IF($L$8>2,$L$1,IF($L$8=2,$L$1&"(2)","")) | J43: =IF($L$9>2,$L$1,IF($L$9=2,$L$1&"(2)","")) | K43: =IF($L$10>2,$L$1,IF($L$10=2,$L$1&"(2)","")) -> Act 9(2) | L43: =IF($L$11>2,$L$1,IF($L$11=2,$L$1&"(2)","")) -> Act 9(2) | M43: =IF($L$12>2,$L$1,IF($L$12=2,$L$1&"(2)","")) | N43: =IF($L$13>2,$L$1,IF($L$13=2,$L$1&"(2)","")) | O43: =IF($L$14>2,$L$1,IF($L$14=2,$L$1&"(2)","")) | P43: =IF($L$15>2,$L$1,IF($L$15=2,$L$1&"(2)","")) | Q43: =IF($L$16>2,$L$1,IF($L$16=2,$L$1&"(2)","")) -> Act 9(2) | R43: =IF($L$17>2,$L$1,IF($L$17=2,$L$1&"(2)","")) | S43: =IF($L$18>2,$L$1,IF($L$18=2,$L$1&"(2)","")) -> Act 9 | T43: =IF($L$19>2,$L$1,IF($L$19=2,$L$1&"(2)","")) | U43: =IF($L$20>2,$L$1,IF($L$20=2,$L$1&"(2)","")) | V43: =IF($L$21>2,$L$1,IF($L$21=2,$L$1&"(2)","")) | W43: =IF($L$22>2,$L$1,IF($L$22=2,$L$1&"(2)","")) | X43: =IF($L$23>2,$L$1,IF($L$23=2,$L$1&"(2)","")) | Y43: =IF($L$24>2,$L$1,IF($L$24=2,$L$1&"(2)","")) | Z43: =IF($L$25>2,$L$1,IF($L$25=2,$L$1&"(2)","")) -> Act 9(2)
A44: act 10 | B44: =IF($M$2>2,$M$1,IF($M$2=2,$M$1&"(2)","")) -> Act 10 | C44: =IF($M$2>2,$M$1,IF($M$2=2,$M$1&"(2)","")) -> Act 10 | D44: =IF($M$3>2,$M$1,IF($M$3=2,$M$1&"(2)","")) | E44: =IF($M$4>2,$M$1,IF($M$4=2,$M$1&"(2)","")) -> Act 10 | F44: =IF($M$5>2,$M$1,IF($M$5=2,$M$1&"(2)","")) -> Act 10(2) | G44: =IF($M$6>2,$M$1,IF($M$6=2,$M$1&"(2)","")) -> Act 10(2) | H44: =IF($M$7>2,$M$1,IF($M$7=2,$M$1&"(2)","")) | I44: =IF($M$8>2,$M$1,IF($M$8=2,$M$1&"(2)","")) | J44: =IF($M$9>2,$M$1,IF($M$9=2,$M$1&"(2)","")) | K44: =IF($M$10>2,$M$1,IF($M$10=2,$M$1&"(2)","")) | L44: =IF($M$11>2,$M$1,IF($M$11=2,$M$1&"(2)","")) | M44: =IF($M$12>2,$M$1,IF($M$12=2,$M$1&"(2)","")) | N44: =IF($M$13>2,$M$1,IF($M$13=2,$M$1&"(2)","")) | O44: =IF($M$14>2,$M$1,IF($M$14=2,$M$1&"(2)","")) | P44: =IF($M$15>2,$M$1,IF($M$15=2,$M$1&"(2)","")) | Q44: =IF($M$16>2,$M$1,IF($M$16=2,$M$1&"(2)","")) -> Act 10(2) | R44: =IF($M$17>2,$M$1,IF($M$17=2,$M$1&"(2)","")) | S44: =IF($M$18>2,$M$1,IF($M$18=2,$M$1&"(2)","")) -> Act 10 | T44: =IF($M$19>2,$M$1,IF($M$19=2,$M$1&"(2)","")) | U44: =IF($M$20>2,$M$1,IF($M$20=2,$M$1&"(2)","")) | V44: =IF($M$21>2,$M$1,IF($M$21=2,$M$1&"(2)","")) | W44: =IF($M$22>2,$M$1,IF($M$22=2,$M$1&"(2)","")) | X44: =IF($M$23>2,$M$1,IF($M$23=2,$M$1&"(2)","")) | Y44: =IF($M$24>2,$M$1,IF($M$24=2,$M$1&"(2)","")) | Z44: =IF($M$25>2,$M$1,IF($M$25=2,$M$1&"(2)","")) -> Act 10
A45: act 11 | B45: =IF($O$2>2,$O$1,IF($O$2=2,$O$1&"(2)","")) -> Act 11 | C45: =IF($O$2>2,$O$1,IF($O$2=2,$O$1&"(2)","")) -> Act 11 | D45: =IF($O$3>2,$O$1,IF($O$3=2,$O$1&"(2)","")) -> Act 11 | E45: =IF($O$4>2,$O$1,IF($O$4=2,$O$1&"(2)","")) -> Act 11 | F45: =IF($O$5>2,$O$1,IF($O$5=2,$O$1&"(2)","")) -> Act 11 | G45: =IF($O$6>2,$O$1,IF($O$6=2,$O$1&"(2)","")) -> Act 11 | H45: =IF($O$7>2,$O$1,IF($O$7=2,$O$1&"(2)","")) | I45: =IF($O$8>2,$O$1,IF($O$8=2,$O$1&"(2)","")) | J45: =IF($O$9>2,$O$1,IF($O$9=2,$O$1&"(2)","")) | K45: =IF($O$10>2,$O$1,IF($O$10=2,$O$1&"(2)","")) -> Act 11 | L45: =IF($O$11>2,$O$1,IF($O$11=2,$O$1&"(2)","")) -> Act 11 | M45: =IF($O$12>2,$O$1,IF($O$12=2,$O$1&"(2)","")) | N45: =IF($O$13>2,$O$1,IF($O$13=2,$O$1&"(2)","")) | O45: =IF($O$14>2,$O$1,IF($O$14=2,$O$1&"(2)","")) | P45: =IF($O$15>2,$O$1,IF($O$15=2,$O$1&"(2)","")) | Q45: =IF($O$16>2,$O$1,IF($O$16=2,$O$1&"(2)","")) -> Act 11 | R45: =IF($O$17>2,$O$1,IF($O$17=2,$O$1&"(2)","")) | S45: =IF($O$18>2,$O$1,IF($O$18=2,$O$1&"(2)","")) -> Act 11 | T45: =IF($O$19>2,$O$1,IF($O$19=2,$O$1&"(2)","")) -> Act 11 | U45: =IF($O$20>2,$O$1,IF($O$20=2,$O$1&"(2)","")) | V45: =IF($O$21>2,$O$1,IF($O$21=2,$O$1&"(2)","")) | W45: =IF($O$22>2,$O$1,IF($O$22=2,$O$1&"(2)","")) -> Act 11 | X45: =IF($O$23>2,$O$1,IF($O$23=2,$O$1&"(2)","")) | Y45: =IF($O$24>2,$O$1,IF($O$24=2,$O$1&"(2)","")) | Z45: =IF($O$25>2,$O$1,IF($O$25=2,$O$1&"(2)","")) -> Act 11

Sheet Tableau activité
A1: ='Export polyvalence'!C34 -> Mme X | C1: liste résultante | D1: sans blanc | F1: ='Export polyvalence'!D34 -> Mr E | H1: liste résultante | I1: sans blanc | K1: ='Export polyvalence'!E34 -> Mme d | M1: liste résultante | N1: sans blanc | P1: ='Export polyvalence'!F34 -> Mr s | R1: liste résultante | S1: sans blanc | U1: ='Export polyvalence'!G34 -> a | W1: liste résultante | X1: sans blanc | Z1: ='Export polyvalence'!H34 -> f | AB1: liste résultante | AC1: sans blanc | AE1: ='Export polyvalence'!I34 -> z | AG1: liste résultante | AH1: sans blanc | AJ1: ='Export polyvalence'!J34 -> r | AL1: liste résultante | AM1: sans blanc | AO1: ='Export polyvalence'!K34 -> g | AQ1: liste résultante | AR1: sans blanc | AT1: ='Export polyvalence'!L34 -> c | AV1: liste résultante | AW1: sans blanc | AY1: ='Export polyvalence'!M34 -> t | BA1: liste résultante | BB1: sans blanc | BD1: ='Export polyvalence'!N34 -> y | BF1: liste résultante | BG1: sans blanc | BI1: ='Export polyvalence'!O34 -> u | BK1: liste résultante | BL1: sans blanc | BN1: ='Export polyvalence'!P34 -> i | BP1: liste résultante | BQ1: sans blanc | BS1: ='Export polyvalence'!Q34 -> o | BU1: liste résultante | BV1: sans blanc | BX1: ='Export polyvalence'!R34 -> p | BZ1: liste résultante | CA1: sans blanc | CC1: ='Export polyvalence'!S34 -> q | CE1: liste résultante | CF1: sans blanc | CH1: ='Export polyvalence'!T34 -> s | CJ1: liste résultante | CK1: sans blanc | CM1: ='Export polyvalence'!U34 -> h | CO1: liste résultante | CP1: sans blanc | CR1: ='Export polyvalence'!V34 -> j | CT1: liste résultante | CU1: sans blanc | CW1: ='Export polyvalence'!W34 -> k | CY1: liste résultante | CZ1: sans blanc | DB1: ='Export polyvalence'!X34 -> l | DD1: liste résultante | DE1: sans blanc | DG1: ='Export polyvalence'!Y34 -> m | DI1: liste résultante | DJ1: sans blanc | DL1: ='Export polyvalence'!Z34 -> w | DN1: liste résultante | DO1: sans blanc | DQ1: ='Export polyvalence'!AA34 -> 0 | DS1: liste résultante | DT1: sans blanc | DV1: ='Export polyvalence'!AJ34 -> 0 | DX1: liste résultante | DY1: sans blanc
A2: ='Export polyvalence'!C35 -> Activité 1(2) | B2: =IF(C2<>"",MAX($B$1:B1)+1,"") -> 1 | C2: =IF(ISERROR(SEARCH($E$2,A2)),"",A2) -> Activité 1(2) | D2: =IF(ISERROR(VLOOKUP(SMALL(B:B,ROW()-1),B:C,2,0)),"",VLOOKUP(SMALL(B:B,ROW()-1),B:C,2,0)) -> Activité 1(2) | F2: ='Export polyvalence'!D35 | G2: =IF(H2<>"",MAX($B$1:G1)+1,"") | H2: =IF(ISERROR(SEARCH($E$2,F2)),"",F2) | I2: =IF(ISERROR(VLOOKUP(SMALL(G:G,ROW()-1),G:H,2,0)),"",VLOOKUP(SMALL(G:G,ROW()-1),G:H,2,0)) -> Act 5 | K2: ='Export polyvalence'!E35 -> Activité 1 | L2: =IF(M2<>"",MAX($B$1:L1)+1,"") -> 1 | M2: =IF(ISERROR(SEARCH($E$2,K2)),"",K2) -> Activité 1 | N2: =IF(ISERROR(VLOOKUP(SMALL(L:L,ROW()-1),L:M,2,0)),"",VLOOKUP(SMALL(L:L,ROW()-1),L:M,2,0)) -> Activité 1 | P2: ='Export polyvalence'!F35 -> Activité 1 | Q2: =IF(R2<>"",MAX($B$1:Q1)+1,"") -> 1 | R2: =IF(ISERROR(SEARCH($E$2,P2)),"",P2) -> Activité 1 | S2: =IF(ISERROR(VLOOKUP(SMALL(Q:Q,ROW()-1),Q:R,2,0)),"",VLOOKUP(SMALL(Q:Q,ROW()-1),Q:R,2,0)) -> Activité 1 | U2: ='Export polyvalence'!G35 | V2: =IF(W2<>"",MAX($B$1:V1)+1,"") | W2: =IF(ISERROR(SEARCH($E$2,U2)),"",U2) | X2: =IF(ISERROR(VLOOKUP(SMALL(V:V,ROW()-1),V:W,2,0)),"",VLOOKUP(SMALL(V:V,ROW()-1),V:W,2,0)) -> Activité 2 | Z2: ='Export polyvalence'!H35 -> Activité 1 | AA2: =IF(AB2<>"",MAX($B$1:AA1)+1,"") -> 1 | AB2: =IF(ISERROR(SEARCH($E$2,Z2)),"",Z2) -> Activité 1 | AC2: =IF(ISERROR(VLOOKUP(SMALL(AA:AA,ROW()-1),AA:AB,2,0)),"",VLOOKUP(SMALL(AA:AA,ROW()-1),AA:AB,2,0)) -> Activité 1 | AE2: ='Export polyvalence'!I35 | AF2: =IF(AG2<>"",MAX($B$1:AF1)+1,"") | AG2: =IF(ISERROR(SEARCH($E$2,AE2)),"",AE2) | AH2: =IF(ISERROR(VLOOKUP(SMALL(AF:AF,ROW()-1),AF:AG,2,0)),"",VLOOKUP(SMALL(AF:AF,ROW()-1),AF:AG,2,0)) | AJ2: ='Export polyvalence'!J35 | AK2: =IF(AL2<>"",MAX($B$1:AK1)+1,"") | AL2: =IF(ISERROR(SEARCH($E$2,AJ2)),"",AJ2) | AM2: =IF(ISERROR(VLOOKUP(SMALL(AK:AK,ROW()-1),AK:AL,2,0)),"",VLOOKUP(SMALL(AK:AK,ROW()-1),AK:AL,2,0)) | AO2: ='Export polyvalence'!K35 -> Activité 1 | AP2: =IF(AQ2<>"",MAX($B$1:AP1)+1,"") -> 1 | AQ2: =IF(ISERROR(SEARCH($E$2,AO2)),"",AO2) -> Activité 1 | AR2: =IF(ISERROR(VLOOKUP(SMALL(AP:AP,ROW()-1),AP:AQ,2,0)),"",VLOOKUP(SMALL(AP:AP,ROW()-1),AP:AQ,2,0)) -> Activité 1 | AT2: ='Export polyvalence'!L35 -> Activité 1 | AU2: =IF(AV2<>"",MAX($B$1:AU1)+1,"") -> 1 | AV2: =IF(ISERROR(SEARCH($E$2,AT2)),"",AT2) -> Activité 1 | AW2: =IF(ISERROR(VLOOKUP(SMALL(AU:AU,ROW()-1),AU:AV,2,0)),"",VLOOKUP(SMALL(AU:AU,ROW()-1),AU:AV,2,0)) -> Activité 1 | AY2: ='Export polyvalence'!M35 | AZ2: =IF(BA2<>"",MAX($B$1:AZ1)+1,"") | BA2: =IF(ISERROR(SEARCH($E$2,AY2)),"",AY2) | BB2: =IF(ISERROR(VLOOKUP(SMALL(AZ:AZ,ROW()-1),AZ:BA,2,0)),"",VLOOKUP(SMALL(AZ:AZ,ROW()-1),AZ:BA,2,0)) | BD2: ='Export polyvalence'!N35 | BE2: =IF(BF2<>"",MAX($B$1:BE1)+1,"") | BF2: =IF(ISERROR(SEARCH($E$2,BD2)),"",BD2) | BG2: =IF(ISERROR(VLOOKUP(SMALL(BE:BE,ROW()-1),BE:BF,2,0)),"",VLOOKUP(SMALL(BE:BE,ROW()-1),BE:BF,2,0)) | BI2: ='Export polyvalence'!O35 | BJ2: =IF(BK2<>"",MAX($B$1:BJ1)+1,"") | BK2: =IF(ISERROR(SEARCH($E$2,BI2)),"",BI2) | BL2: =IF(ISERROR(VLOOKUP(SMALL(BJ:BJ,ROW()-1),BJ:BK,2,0)),"",VLOOKUP(SMALL(BJ:BJ,ROW()-1),BJ:BK,2,0)) | BN2: ='Export polyvalence'!P35 | BO2: =IF(BP2<>"",MAX($B$1:BO1)+1,"") | BP2: =IF(ISERROR(SEARCH($E$2,BN2)),"",BN2) | BQ2: =IF(ISERROR(VLOOKUP(SMALL(BO:BO,ROW()-1),BO:BP,2,0)),"",VLOOKUP(SMALL(BO:BO,ROW()-1),BO:BP,2,0)) | BS2: ='Export polyvalence'!Q35 | BT2: =IF(BU2<>"",MAX($B$1:BT1)+1,"") | BU2: =IF(ISERROR(SEARCH($E$2,BS2)),"",BS2) | BV2: =IF(ISERROR(VLOOKUP(SMALL(BT:BT,ROW()-1),BT:BU,2,0)),"",VLOOKUP(SMALL(BT:BT,ROW()-1),BT:BU,2,0)) -> Activité 2 | BX2: ='Export polyvalence'!R35 | BY2: =IF(BZ2<>"",MAX($B$1:BY1)+1,"") | BZ2: =IF(ISERROR(SEARCH($E$2,BX2)),"",BX2) | CA2: =IF(ISERROR(VLOOKUP(SMALL(BY:BY,ROW()-1),BY:BZ,2,0)),"",VLOOKUP(SMALL(BY:BY,ROW()-1),BY:BZ,2,0)) -> Activité 2(2) | CC2: ='Export polyvalence'!S35 -> Activité 1(2) | CD2: =IF(CE2<>"",MAX($B$1:CD1)+1,"") -> 1 | CE2: =IF(ISERROR(SEARCH($E$2,CC2)),"",CC2) -> Activité 1(2) | CF2: =IF(ISERROR(VLOOKUP(SMALL(CD:CD,ROW()-1),CD:CE,2,0)),"",VLOOKUP(SMALL(CD:CD,ROW()-1),CD:CE,2,0)) -> Activité 1(2) | CH2: ='Export polyvalence'!T35 -> Activité 1 | CI2: =IF(CJ2<>"",MAX($B$1:CI1)+1,"") -> 1 | CJ2: =IF(ISERROR(SEARCH($E$2,CH2)),"",CH2) -> Activité 1 | CK2: =IF(ISERROR(VLOOKUP(SMALL(CI:CI,ROW()-1),CI:CJ,2,0)),"",VLOOKUP(SMALL(CI:CI,ROW()-1),CI:CJ,2,0)) -> Activité 1 | CM2: ='Export polyvalence'!U35 | CN2: =IF(CO2<>"",MAX($B$1:CN1)+1,"") | CO2: =IF(ISERROR(SEARCH($E$2,CM2)),"",CM2) | CP2: =IF(ISERROR(VLOOKUP(SMALL(CN:CN,ROW()-1),CN:CO,2,0)),"",VLOOKUP(SMALL(CN:CN,ROW()-1),CN:CO,2,0)) | CR2: ='Export polyvalence'!V35 | CS2: =IF(CT2<>"",MAX($B$1:CS1)+1,"") | CT2: =IF(ISERROR(SEARCH($E$2,CR2)),"",CR2) | CU2: =IF(ISERROR(VLOOKUP(SMALL(CS:CS,ROW()-1),CS:CT,2,0)),"",VLOOKUP(SMALL(CS:CS,ROW()-1),CS:CT,2,0)) | CW2: ='Export polyvalence'!W35 | CX2: =IF(CY2<>"",MAX($B$1:CX1)+1,"") | CY2: =IF(ISERROR(SEARCH($E$2,CW2)),"",CW2) | CZ2: =IF(ISERROR(VLOOKUP(SMALL(CX:CX,ROW()-1),CX:CY,2,0)),"",VLOOKUP(SMALL(CX:CX,ROW()-1),CX:CY,2,0)) -> Act 8 | DB2: ='Export polyvalence'!X35 | DC2: =IF(DD2<>"",MAX($B$1:DC1)+1,"") | DD2: =IF(ISERROR(SEARCH($E$2,DB2)),"",DB2) | DE2: =IF(ISERROR(VLOOKUP(SMALL(DC:DC,ROW()-1),DC:DD,2,0)),"",VLOOKUP(SMALL(DC:DC,ROW()-1),DC:DD,2,0)) | DG2: ='Export polyvalence'!Y35 | DH2: =IF(DI2<>"",MAX($B$1:DH1)+1,"") | DI2: =IF(ISERROR(SEARCH($E$2,DG2)),"",DG2) | DJ2: =IF(ISERROR(VLOOKUP(SMALL(DH:DH,ROW()-1),DH:DI,2,0)),"",VLOOKUP(SMALL(DH:DH,ROW()-1),DH:DI,2,0)) | DL2: ='Export polyvalence'!Z35 -> Activité 1(2) | DM2: =IF(DN2<>"",MAX($B$1:DM1)+1,"") -> 1 | DN2: =IF(ISERROR(SEARCH($E$2,DL2)),"",DL2) -> Activité 1(2) | DO2: =IF(ISERROR(VLOOKUP(SMALL(DM:DM,ROW()-1),DM:DN,2,0)),"",VLOOKUP(SMALL(DM:DM,ROW()-1),DM:DN,2,0)) -> Activité 1(2) | DQ2: ='Export polyvalence'!AA35 -> 0 | DR2: =IF(DS2<>"",MAX($B$1:DR1)+1,"") -> 1 | DS2: =IF(ISERROR(SEARCH($E$2,DQ2)),"",DQ2) -> 0 | DT2: =IF(ISERROR(VLOOKUP(SMALL(DR:DR,ROW()-1),DR:DS,2,0)),"",VLOOKUP(SMALL(DR:DR,ROW()-1),DR:DS,2,0)) -> 0 | DV2: ='Export polyvalence'!AJ35 -> 0 | DW2: =IF(DX2<>"",MAX($B$1:DW1)+1,"") -> 1 | DX2: =IF(ISERROR(SEARCH($E$2,DV2)),"",DV2) -> 0 | DY2: =IF(ISERROR(VLOOKUP(SMALL(DW:DW,ROW()-1),DW:DX,2,0)),"",VLOOKUP(SMALL(DW:DW,ROW()-1),DW:DX,2,0)) -> 0
A3: ='Export polyvalence'!C36 -> Activité 2 | B3: =IF(C3<>"",MAX($B$1:B2)+1,"") -> 2 | C3: =IF(ISERROR(SEARCH($E$2,A3)),"",A3) -> Activité 2 | D3: =IF(ISERROR(VLOOKUP(SMALL(B:B,ROW()-1),B:C,2,0)),"",VLOOKUP(SMALL(B:B,ROW()-1),B:C,2,0)) -> Activité 2 | F3: ='Export polyvalence'!D36 | G3: =IF(H3<>"",MAX($B$1:G2)+1,"") | H3: =IF(ISERROR(SEARCH($E$2,F3)),"",F3) | I3: =IF(ISERROR(VLOOKUP(SMALL(G:G,ROW()-1),G:H,2,0)),"",VLOOKUP(SMALL(G:G,ROW()-1),G:H,2,0)) -> Act 8 | K3: ='Export polyvalence'!E36 -> Activité 2 | L3: =IF(M3<>"",MAX($B$1:L2)+1,"") -> 2 | M3: =IF(ISERROR(SEARCH($E$2,K3)),"",K3) -> Activité 2 | N3: =IF(ISERROR(VLOOKUP(SMALL(L:L,ROW()-1),L:M,2,0)),"",VLOOKUP(SMALL(L:L,ROW()-1),L:M,2,0)) -> Activité 2 | P3: ='Export polyvalence'!F36 -> Activité 2 | Q3: =IF(R3<>"",MAX($B$1:Q2)+1,"") -> 2 | R3: =IF(ISERROR(SEARCH($E$2,P3)),"",P3) -> Activité 2 | S3: =IF(ISERROR(VLOOKUP(SMALL(Q:Q,ROW()-1),Q:R,2,0)),"",VLOOKUP(SMALL(Q:Q,ROW()-1),Q:R,2,0)) -> Activité 2 | U3: ='Export polyvalence'!G36 -> Activité 2 | V3: =IF(W3<>"",MAX($B$1:V2)+1,"") -> 2 | W3: =IF(ISERROR(SEARCH($E$2,U3)),"",U3) -> Activité 2 | X3: =IF(ISERROR(VLOOKUP(SMALL(V:V,ROW()-1),V:W,2,0)),"",VLOOKUP(SMALL(V:V,ROW()-1),V:W,2,0)) -> Act 3 | Z3: ='Export polyvalence'!H36 | AA3: =IF(AB3<>"",MAX($B$1:AA2)+1,"") | AB3: =IF(ISERROR(SEARCH($E$2,Z3)),"",Z3) | AC3: =IF(ISERROR(VLOOKUP(SMALL(AA:AA,ROW()-1),AA:AB,2,0)),"",VLOOKUP(SMALL(AA:AA,ROW()-1),AA:AB,2,0)) -> Act 7 | AE3: ='Export polyvalence'!I36 | AF3: =IF(AG3<>"",MAX($B$1:AF2)+1,"") | AG3: =IF(ISERROR(SEARCH($E$2,AE3)),"",AE3) | AH3: =IF(ISERROR(VLOOKUP(SMALL(AF:AF,ROW()-1),AF:AG,2,0)),"",VLOOKUP(SMALL(AF:AF,ROW()-1),AF:AG,2,0)) | AJ3: ='Export polyvalence'!J36 | AK3: =IF(AL3<>"",MAX($B$1:AK2)+1,"") | AL3: =IF(ISERROR(SEARCH($E$2,AJ3)),"",AJ3) | AM3: =IF(ISERROR(VLOOKUP(SMALL(AK:AK,ROW()-1),AK:AL,2,0)),"",VLOOKUP(SMALL(AK:AK,ROW()-1),AK:AL,2,0)) | AO3: ='Export polyvalence'!K36 | AP3: =IF(AQ3<>"",MAX($B$1:AP2)+1,"") | AQ3: =IF(ISERROR(SEARCH($E$2,AO3)),"",AO3) | AR3: =IF(ISERROR(VLOOKUP(SMALL(AP:AP,ROW()-1),AP:AQ,2,0)),"",VLOOKUP(SMALL(AP:AP,ROW()-1),AP:AQ,2,0)) -> Act 5 | AT3: ='Export polyvalence'!L36 | AU3: =IF(AV3<>"",MAX($B$1:AU2)+1,"") | AV3: =IF(ISERROR(SEARCH($E$2,AT3)),"",AT3) | AW3: =IF(ISERROR(VLOOKUP(SMALL(AU:AU,ROW()-1),AU:AV,2,0)),"",VLOOKUP(SMALL(AU:AU,ROW()-1),AU:AV,2,0)) -> Act 5 | AY3: ='Export polyvalence'!M36 | AZ3: =IF(BA3<>"",MAX($B$1:AZ2)+1,"") | BA3: =IF(ISERROR(SEARCH($E$2,AY3)),"",AY3) | BB3: =IF(ISERROR(VLOOKUP(SMALL(AZ:AZ,ROW()-1),AZ:BA,2,0)),"",VLOOKUP(SMALL(AZ:AZ,ROW()-1),AZ:BA,2,0)) | BD3: ='Export polyvalence'!N36 | BE3: =IF(BF3<>"",MAX($B$1:BE2)+1,"") | BF3: =IF(ISERROR(SEARCH($E$2,BD3)),"",BD3) | BG3: =IF(ISERROR(VLOOKUP(SMALL(BE:BE,ROW()-1),BE:BF,2,0)),"",VLOOKUP(SMALL(BE:BE,ROW()-1),BE:BF,2,0)) | BI3: ='Export polyvalence'!O36 | BJ3: =IF(BK3<>"",MAX($B$1:BJ2)+1,"") | BK3: =IF(ISERROR(SEARCH($E$2,BI3)),"",BI3) | BL3: =IF(ISERROR(VLOOKUP(SMALL(BJ:BJ,ROW()-1),BJ:BK,2,0)),"",VLOOKUP(SMALL(BJ:BJ,ROW()-1),BJ:BK,2,0)) | BN3: ='Export polyvalence'!P36 | BO3: =IF(BP3<>"",MAX($B$1:BO2)+1,"") | BP3: =IF(ISERROR(SEARCH($E$2,BN3)),"",BN3) | BQ3: =IF(ISERROR(VLOOKUP(SMALL(BO:BO,ROW()-1),BO:BP,2,0)),"",VLOOKUP(SMALL(BO:BO,ROW()-1),BO:BP,2,0)) | BS3: ='Export polyvalence'!Q36 -> Activité 2 | BT3: =IF(BU3<>"",MAX($B$1:BT2)+1,"") -> 2 | BU3: =IF(ISERROR(SEARCH($E$2,BS3)),"",BS3) -> Activité 2 | BV3: =IF(ISERROR(VLOOKUP(SMALL(BT:BT,ROW()-1),BT:BU,2,0)),"",VLOOKUP(SMALL(BT:BT,ROW()-1),BT:BU,2,0)) -> Act 3 | BX3: ='Export polyvalence'!R36 -> Activité 2(2) | BY3: =IF(BZ3<>"",MAX($B$1:BY2)+1,"") -> 2 | BZ3: =IF(ISERROR(SEARCH($E$2,BX3)),"",BX3) -> Activité 2(2) | CA3: =IF(ISERROR(VLOOKUP(SMALL(BY:BY,ROW()-1),BY:BZ,2,0)),"",VLOOKUP(SMALL(BY:BY,ROW()-1),BY:BZ,2,0)) | CC3: ='Export polyvalence'!S36 -> Activité 2 | CD3: =IF(CE3<>"",MAX($B$1:CD2)+1,"") -> 2 | CE3: =IF(ISERROR(SEARCH($E$2,CC3)),"",CC3) -> Activité 2 | CF3: =IF(ISERROR(VLOOKUP(SMALL(CD:CD,ROW()-1),CD:CE,2,0)),"",VLOOKUP(SMALL(CD:CD,ROW()-1),CD:CE,2,0)) -> Activité 2 | CH3: ='Export polyvalence'!T36 | CI3: =IF(CJ3<>"",MAX($B$1:CI2)+1,"") | CJ3: =IF(ISERROR(SEARCH($E$2,CH3)),"",CH3) | CK3: =IF(ISERROR(VLOOKUP(SMALL(CI:CI,ROW()-1),CI:CJ,2,0)),"",VLOOKUP(SMALL(CI:CI,ROW()-1),CI:CJ,2,0)) -> Act 7 | CM3: ='Export polyvalence'!U36 | CN3: =IF(CO3<>"",MAX($B$1:CN2)+1,"") | CO3: =IF(ISERROR(SEARCH($E$2,CM3)),"",CM3) | CP3: =IF(ISERROR(VLOOKUP(SMALL(CN:CN,ROW()-1),CN:CO,2,0)),"",VLOOKUP(SMALL(CN:CN,ROW()-1),CN:CO,2,0)) | CR3: ='Export polyvalence'!V36 | CS3: =IF(CT3<>"",MAX($B$1:CS2)+1,"") | CT3: =IF(ISERROR(SEARCH($E$2,CR3)),"",CR3) | CU3: =IF(ISERROR(VLOOKUP(SMALL(CS:CS,ROW()-1),CS:CT,2,0)),"",VLOOKUP(SMALL(CS:CS,ROW()-1),CS:CT,2,0)) | CW3: ='Export polyvalence'!W36 | CX3: =IF(CY3<>"",MAX($B$1:CX2)+1,"") | CY3: =IF(ISERROR(SEARCH($E$2,CW3)),"",CW3) | CZ3: =IF(ISERROR(VLOOKUP(SMALL(CX:CX,ROW()-1),CX:CY,2,0)),"",VLOOKUP(SMALL(CX:CX,ROW()-1),CX:CY,2,0)) | DB3: ='Export polyvalence'!X36 | DC3: =IF(DD3<>"",MAX($B$1:DC2)+1,"") | DD3: =IF(ISERROR(SEARCH($E$2,DB3)),"",DB3) | DE3: =IF(ISERROR(VLOOKUP(SMALL(DC:DC,ROW()-1),DC:DD,2,0)),"",VLOOKUP(SMALL(DC:DC,ROW()-1),DC:DD,2,0)) | DG3: ='Export polyvalence'!Y36 | DH3: =IF(DI3<>"",MAX($B$1:DH2)+1,"") | DI3: =IF(ISERROR(SEARCH($E$2,DG3)),"",DG3) | DJ3: =IF(ISERROR(VLOOKUP(SMALL(DH:DH,ROW()-1),DH:DI,2,0)),"",VLOOKUP(SMALL(DH:DH,ROW()-1),DH:DI,2,0)) | DL3: ='Export polyvalence'!Z36 -> Activité 2 | DM3: =IF(DN3<>"",MAX($B$1:DM2)+1,"") -> 2 | DN3: =IF(ISERROR(SEARCH($E$2,DL3)),"",DL3) -> Activité 2 | DO3: =IF(ISERROR(VLOOKUP(SMALL(DM:DM,ROW()-1),DM:DN,2,0)),"",VLOOKUP(SMALL(DM:DM,ROW()-1),DM:DN,2,0)) -> Activité 2 | DQ3: ='Export polyvalence'!AA36 -> 0 | DR3: =IF(DS3<>"",MAX($B$1:DR2)+1,"") -> 2 | DS3: =IF(ISERROR(SEARCH($E$2,DQ3)),"",DQ3) -> 0 | DT3: =IF(ISERROR(VLOOKUP(SMALL(DR:DR,ROW()-1),DR:DS,2,0)),"",VLOOKUP(SMALL(DR:DR,ROW()-1),DR:DS,2,0)) -> 0 | DV3: ='Export polyvalence'!AJ36 -> 0 | DW3: =IF(DX3<>"",MAX($B$1:DW2)+1,"") -> 2 | DX3: =IF(ISERROR(SEARCH($E$2,DV3)),"",DV3) -> 0 | DY3: =IF(ISERROR(VLOOKUP(SMALL(DW:DW,ROW()-1),DW:DX,2,0)),"",VLOOKUP(SMALL(DW:DW,ROW()-1),DW:DX,2,0)) -> 0
A4: ='Export polyvalence'!C37 -> Act 3 | B4: =IF(C4<>"",MAX($B$1:B3)+1,"") -> 3 | C4: =IF(ISERROR(SEARCH($E$2,A4)),"",A4) -> Act 3 | D4: =IF(ISERROR(VLOOKUP(SMALL(B:B,ROW()-1),B:C,2,0)),"",VLOOKUP(SMALL(B:B,ROW()-1),B:C,2,0)) -> Act 3 | F4: ='Export polyvalence'!D37 | G4: =IF(H4<>"",MAX($B$1:G3)+1,"") | H4: =IF(ISERROR(SEARCH($E$2,F4)),"",F4) | I4: =IF(ISERROR(VLOOKUP(SMALL(G:G,ROW()-1),G:H,2,0)),"",VLOOKUP(SMALL(G:G,ROW()-1),G:H,2,0)) -> Act 9(2) | K4: ='Export polyvalence'!E37 -> Act 3 | L4: =IF(M4<>"",MAX($B$1:L3)+1,"") -> 3 | M4: =IF(ISERROR(SEARCH($E$2,K4)),"",K4) -> Act 3 | N4: =IF(ISERROR(VLOOKUP(SMALL(L:L,ROW()-1),L:M,2,0)),"",VLOOKUP(SMALL(L:L,ROW()-1),L:M,2,0)) -> Act 3 | P4: ='Export polyvalence'!F37 -> Act 3 | Q4: =IF(R4<>"",MAX($B$1:Q3)+1,"") -> 3 | R4: =IF(ISERROR(SEARCH($E$2,P4)),"",P4) -> Act 3 | S4: =IF(ISERROR(VLOOKUP(SMALL(Q:Q,ROW()-1),Q:R,2,0)),"",VLOOKUP(SMALL(Q:Q,ROW()-1),Q:R,2,0)) -> Act 3 | U4: ='Export polyvalence'!G37 -> Act 3 | V4: =IF(W4<>"",MAX($B$1:V3)+1,"") -> 3 | W4: =IF(ISERROR(SEARCH($E$2,U4)),"",U4) -> Act 3 | X4: =IF(ISERROR(VLOOKUP(SMALL(V:V,ROW()-1),V:W,2,0)),"",VLOOKUP(SMALL(V:V,ROW()-1),V:W,2,0)) -> Act 4 | Z4: ='Export polyvalence'!H37 | AA4: =IF(AB4<>"",MAX($B$1:AA3)+1,"") | AB4: =IF(ISERROR(SEARCH($E$2,Z4)),"",Z4) | AC4: =IF(ISERROR(VLOOKUP(SMALL(AA:AA,ROW()-1),AA:AB,2,0)),"",VLOOKUP(SMALL(AA:AA,ROW()-1),AA:AB,2,0)) | AE4: ='Export polyvalence'!I37 | AF4: =IF(AG4<>"",MAX($B$1:AF3)+1,"") | AG4: =IF(ISERROR(SEARCH($E$2,AE4)),"",AE4) | AH4: =IF(ISERROR(VLOOKUP(SMALL(AF:AF,ROW()-1),AF:AG,2,0)),"",VLOOKUP(SMALL(AF:AF,ROW()-1),AF:AG,2,0)) | AJ4: ='Export polyvalence'!J37 | AK4: =IF(AL4<>"",MAX($B$1:AK3)+1,"") | AL4: =IF(ISERROR(SEARCH($E$2,AJ4)),"",AJ4) | AM4: =IF(ISERROR(VLOOKUP(SMALL(AK:AK,ROW()-1),AK:AL,2,0)),"",VLOOKUP(SMALL(AK:AK,ROW()-1),AK:AL,2,0)) | AO4: ='Export polyvalence'!K37 | AP4: =IF(AQ4<>"",MAX($B$1:AP3)+1,"") | AQ4: =IF(ISERROR(SEARCH($E$2,AO4)),"",AO4) | AR4: =IF(ISERROR(VLOOKUP(SMALL(AP:AP,ROW()-1),AP:AQ,2,0)),"",VLOOKUP(SMALL(AP:AP,ROW()-1),AP:AQ,2,0)) -> Act 7 | AT4: ='Export polyvalence'!L37 | AU4: =IF(AV4<>"",MAX($B$1:AU3)+1,"") | AV4: =IF(ISERROR(SEARCH($E$2,AT4)),"",AT4) | AW4: =IF(ISERROR(VLOOKUP(SMALL(AU:AU,ROW()-1),AU:AV,2,0)),"",VLOOKUP(SMALL(AU:AU,ROW()-1),AU:AV,2,0)) -> Act 7 | AY4: ='Export polyvalence'!M37 | AZ4: =IF(BA4<>"",MAX($B$1:AZ3)+1,"") | BA4: =IF(ISERROR(SEARCH($E$2,AY4)),"",AY4) | BB4: =IF(ISERROR(VLOOKUP(SMALL(AZ:AZ,ROW()-1),AZ:BA,2,0)),"",VLOOKUP(SMALL(AZ:AZ,ROW()-1),AZ:BA,2,0)) | BD4: ='Export polyvalence'!N37 | BE4: =IF(BF4<>"",MAX($B$1:BE3)+1,"") | BF4: =IF(ISERROR(SEARCH($E$2,BD4)),"",BD4) | BG4: =IF(ISERROR(VLOOKUP(SMALL(BE:BE,ROW()-1),BE:BF,2,0)),"",VLOOKUP(SMALL(BE:BE,ROW()-1),BE:BF,2,0)) | BI4: ='Export polyvalence'!O37 | BJ4: =IF(BK4<>"",MAX($B$1:BJ3)+1,"") | BK4: =IF(ISERROR(SEARCH($E$2,BI4)),"",BI4) | BL4: =IF(ISERROR(VLOOKUP(SMALL(BJ:BJ,ROW()-1),BJ:BK,2,0)),"",VLOOKUP(SMALL(BJ:BJ,ROW()-1),BJ:BK,2,0)) | BN4: ='Export polyvalence'!P37 | BO4: =IF(BP4<>"",MAX($B$1:BO3)+1,"") | BP4: =IF(ISERROR(SEARCH($E$2,BN4)),"",BN4) | BQ4: =IF(ISERROR(VLOOKUP(SMALL(BO:BO,ROW()-1),BO:BP,2,0)),"",VLOOKUP(SMALL(BO:BO,ROW()-1),BO:BP,2,0)) | BS4: ='Export polyvalence'!Q37 -> Act 3 | BT4: =IF(BU4<>"",MAX($B$1:BT3)+1,"") -> 3 | BU4: =IF(ISERROR(SEARCH($E$2,BS4)),"",BS4) -> Act 3 | BV4: =IF(ISERROR(VLOOKUP(SMALL(BT:BT,ROW()-1),BT:BU,2,0)),"",VLOOKUP(SMALL(BT:BT,ROW()-1),BT:BU,2,0)) -> Act 4 | BX4: ='Export polyvalence'!R37 | BY4: =IF(BZ4<>"",MAX($B$1:BY3)+1,"") | BZ4: =IF(ISERROR(SEARCH($E$2,BX4)),"",BX4) | CA4: =IF(ISERROR(VLOOKUP(SMALL(BY:BY,ROW()-1),BY:BZ,2,0)),"",VLOOKUP(SMALL(BY:BY,ROW()-1),BY:BZ,2,0)) | CC4: ='Export polyvalence'!S37 -> Act 3 | CD4: =IF(CE4<>"",MAX($B$1:CD3)+1,"") -> 3 | CE4: =IF(ISERROR(SEARCH($E$2,CC4)),"",CC4) -> Act 3 | CF4: =IF(ISERROR(VLOOKUP(SMALL(CD:CD,ROW()-1),CD:CE,2,0)),"",VLOOKUP(SMALL(CD:CD,ROW()-1),CD:CE,2,0)) -> Act 3 | CH4: ='Export polyvalence'!T37 | CI4: =IF(CJ4<>"",MAX($B$1:CI3)+1,"") | CJ4: =IF(ISERROR(SEARCH($E$2,CH4)),"",CH4) | CK4: =IF(ISERROR(VLOOKUP(SMALL(CI:CI,ROW()-1),CI:CJ,2,0)),"",VLOOKUP(SMALL(CI:CI,ROW()-1),CI:CJ,2,0)) -> Act 8 | CM4: ='Export polyvalence'!U37 | CN4: =IF(CO4<>"",MAX($B$1:CN3)+1,"") | CO4: =IF(ISERROR(SEARCH($E$2,CM4)),"",CM4) | CP4: =IF(ISERROR(VLOOKUP(SMALL(CN:CN,ROW()-1),CN:CO,2,0)),"",VLOOKUP(SMALL(CN:CN,ROW()-1),CN:CO,2,0)) | CR4: ='Export polyvalence'!V37 | CS4: =IF(CT4<>"",MAX($B$1:CS3)+1,"") | CT4: =IF(ISERROR(SEARCH($E$2,CR4)),"",CR4) | CU4: =IF(ISERROR(VLOOKUP(SMALL(CS:CS,ROW()-1),CS:CT,2,0)),"",VLOOKUP(SMALL(CS:CS,ROW()-1),CS:CT,2,0)) | CW4: ='Export polyvalence'!W37 | CX4: =IF(CY4<>"",MAX($B$1:CX3)+1,"") | CY4: =IF(ISERROR(SEARCH($E$2,CW4)),"",CW4) | CZ4: =IF(ISERROR(VLOOKUP(SMALL(CX:CX,ROW()-1),CX:CY,2,0)),"",VLOOKUP(SMALL(CX:CX,ROW()-1),CX:CY,2,0)) | DB4: ='Export polyvalence'!X37 | DC4: =IF(DD4<>"",MAX($B$1:DC3)+1,"") | DD4: =IF(ISERROR(SEARCH($E$2,DB4)),"",DB4) | DE4: =IF(ISERROR(VLOOKUP(SMALL(DC:DC,ROW()-1),DC:DD,2,0)),"",VLOOKUP(SMALL(DC:DC,ROW()-1),DC:DD,2,0)) | DG4: ='Export polyvalence'!Y37 | DH4: =IF(DI4<>"",MAX($B$1:DH3)+1,"") | DI4: =IF(ISERROR(SEARCH($E$2,DG4)),"",DG4) | DJ4: =IF(ISERROR(VLOOKUP(SMALL(DH:DH,ROW()-1),DH:DI,2,0)),"",VLOOKUP(SMALL(DH:DH,ROW()-1),DH:DI,2,0)) | DL4: ='Export polyvalence'!Z37 -> Act 3 | DM4: =IF(DN4<>"",MAX($B$1:DM3)+1,"") -> 3 | DN4: =IF(ISERROR(SEARCH($E$2,DL4)),"",DL4) -> Act 3 | DO4: =IF(ISERROR(VLOOKUP(SMALL(DM:DM,ROW()-1),DM:DN,2,0)),"",VLOOKUP(SMALL(DM:DM,ROW()-1),DM:DN,2,0)) -> Act 3 | DQ4: ='Export polyvalence'!AA37 -> 0 | DR4: =IF(DS4<>"",MAX($B$1:DR3)+1,"") -> 3 | DS4: =IF(ISERROR(SEARCH($E$2,DQ4)),"",DQ4) -> 0 | DT4: =IF(ISERROR(VLOOKUP(SMALL(DR:DR,ROW()-1),DR:DS,2,0)),"",VLOOKUP(SMALL(DR:DR,ROW()-1),DR:DS,2,0)) -> 0 | DV4: ='Export polyvalence'!AJ37 -> 0 | DW4: =IF(DX4<>"",MAX($B$1:DW3)+1,"") -> 3 | DX4: =IF(ISERROR(SEARCH($E$2,DV4)),"",DV4) -> 0 | DY4: =IF(ISERROR(VLOOKUP(SMALL(DW:DW,ROW()-1),DW:DX,2,0)),"",VLOOKUP(SMALL(DW:DW,ROW()-1),DW:DX,2,0)) -> 0
A5: ='Export polyvalence'!C38 -> Act 4 | B5: =IF(C5<>"",MAX($B$1:B4)+1,"") -> 4 | C5: =IF(ISERROR(SEARCH($E$2,A5)),"",A5) -> Act 4 | D5: =IF(ISERROR(VLOOKUP(SMALL(B:B,ROW()-1),B:C,2,0)),"",VLOOKUP(SMALL(B:B,ROW()-1),B:C,2,0)) -> Act 4 | F5: ='Export polyvalence'!D38 | G5: =IF(H5<>"",MAX($B$1:G4)+1,"") | H5: =IF(ISERROR(SEARCH($E$2,F5)),"",F5) | I5: =IF(ISERROR(VLOOKUP(SMALL(G:G,ROW()-1),G:H,2,0)),"",VLOOKUP(SMALL(G:G,ROW()-1),G:H,2,0)) | K5: ='Export polyvalence'!E38 -> Act 4 | L5: =IF(M5<>"",MAX($B$1:L4)+1,"") -> 4 | M5: =IF(ISERROR(SEARCH($E$2,K5)),"",K5) -> Act 4 | N5: =IF(ISERROR(VLOOKUP(SMALL(L:L,ROW()-1),L:M,2,0)),"",VLOOKUP(SMALL(L:L,ROW()-1),L:M,2,0)) -> Act 4 | P5: ='Export polyvalence'!F38 -> Act 4 | Q5: =IF(R5<>"",MAX($B$1:Q4)+1,"") -> 4 | R5: =IF(ISERROR(SEARCH($E$2,P5)),"",P5) -> Act 4 | S5: =IF(ISERROR(VLOOKUP(SMALL(Q:Q,ROW()-1),Q:R,2,0)),"",VLOOKUP(SMALL(Q:Q,ROW()-1),Q:R,2,0)) -> Act 4 | U5: ='Export polyvalence'!G38 -> Act 4 | V5: =IF(W5<>"",MAX($B$1:V4)+1,"") -> 4 | W5: =IF(ISERROR(SEARCH($E$2,U5)),"",U5) -> Act 4 | X5: =IF(ISERROR(VLOOKUP(SMALL(V:V,ROW()-1),V:W,2,0)),"",VLOOKUP(SMALL(V:V,ROW()-1),V:W,2,0)) -> Act 5 | Z5: ='Export polyvalence'!H38 | AA5: =IF(AB5<>"",MAX($B$1:AA4)+1,"") | AB5: =IF(ISERROR(SEARCH($E$2,Z5)),"",Z5) | AC5: =IF(ISERROR(VLOOKUP(SMALL(AA:AA,ROW()-1),AA:AB,2,0)),"",VLOOKUP(SMALL(AA:AA,ROW()-1),AA:AB,2,0)) | AE5: ='Export polyvalence'!I38 | AF5: =IF(AG5<>"",MAX($B$1:AF4)+1,"") | AG5: =IF(ISERROR(SEARCH($E$2,AE5)),"",AE5) | AH5: =IF(ISERROR(VLOOKUP(SMALL(AF:AF,ROW()-1),AF:AG,2,0)),"",VLOOKUP(SMALL(AF:AF,ROW()-1),AF:AG,2,0)) | AJ5: ='Export polyvalence'!J38 | AK5: =IF(AL5<>"",MAX($B$1:AK4)+1,"") | AL5: =IF(ISERROR(SEARCH($E$2,AJ5)),"",AJ5) | AM5: =IF(ISERROR(VLOOKUP(SMALL(AK:AK,ROW()-1),AK:AL,2,0)),"",VLOOKUP(SMALL(AK:AK,ROW()-1),AK:AL,2,0)) | AO5: ='Export polyvalence'!K38 | AP5: =IF(AQ5<>"",MAX($B$1:AP4)+1,"") | AQ5: =IF(ISERROR(SEARCH($E$2,AO5)),"",AO5) | AR5: =IF(ISERROR(VLOOKUP(SMALL(AP:AP,ROW()-1),AP:AQ,2,0)),"",VLOOKUP(SMALL(AP:AP,ROW()-1),AP:AQ,2,0)) -> Act 8 | AT5: ='Export polyvalence'!L38 | AU5: =IF(AV5<>"",MAX($B$1:AU4)+1,"") | AV5: =IF(ISERROR(SEARCH($E$2,AT5)),"",AT5) | AW5: =IF(ISERROR(VLOOKUP(SMALL(AU:AU,ROW()-1),AU:AV,2,0)),"",VLOOKUP(SMALL(AU:AU,ROW()-1),AU:AV,2,0)) -> Act 8 | AY5: ='Export polyvalence'!M38 | AZ5: =IF(BA5<>"",MAX($B$1:AZ4)+1,"") | BA5: =IF(ISERROR(SEARCH($E$2,AY5)),"",AY5) | BB5: =IF(ISERROR(VLOOKUP(SMALL(AZ:AZ,ROW()-1),AZ:BA,2,0)),"",VLOOKUP(SMALL(AZ:AZ,ROW()-1),AZ:BA,2,0)) | BD5: ='Export polyvalence'!N38 | BE5: =IF(BF5<>"",MAX($B$1:BE4)+1,"") | BF5: =IF(ISERROR(SEARCH($E$2,BD5)),"",BD5) | BG5: =IF(ISERROR(VLOOKUP(SMALL(BE:BE,ROW()-1),BE:BF,2,0)),"",VLOOKUP(SMALL(BE:BE,ROW()-1),BE:BF,2,0)) | BI5: ='Export polyvalence'!O38 | BJ5: =IF(BK5<>"",MAX($B$1:BJ4)+1,"") | BK5: =IF(ISERROR(SEARCH($E$2,BI5)),"",BI5) | BL5: =IF(ISERROR(VLOOKUP(SMALL(BJ:BJ,ROW()-1),BJ:BK,2,0)),"",VLOOKUP(SMALL(BJ:BJ,ROW()-1),BJ:BK,2,0)) | BN5: ='Export polyvalence'!P38 | BO5: =IF(BP5<>"",MAX($B$1:BO4)+1,"") | BP5: =IF(ISERROR(SEARCH($E$2,BN5)),"",BN5) | BQ5: =IF(ISERROR(VLOOKUP(SMALL(BO:BO,ROW()-1),BO:BP,2,0)),"",VLOOKUP(SMALL(BO:BO,ROW()-1),BO:BP,2,0)) | BS5: ='Export polyvalence'!Q38 -> Act 4 | BT5: =IF(BU5<>"",MAX($B$1:BT4)+1,"") -> 4 | BU5: =IF(ISERROR(SEARCH($E$2,BS5)),"",BS5) -> Act 4 | BV5: =IF(ISERROR(VLOOKUP(SMALL(BT:BT,ROW()-1),BT:BU,2,0)),"",VLOOKUP(SMALL(BT:BT,ROW()-1),BT:BU,2,0)) -> Act 5 | BX5: ='Export polyvalence'!R38 | BY5: =IF(BZ5<>"",MAX($B$1:BY4)+1,"") | BZ5: =IF(ISERROR(SEARCH($E$2,BX5)),"",BX5) | CA5: =IF(ISERROR(VLOOKUP(SMALL(BY:BY,ROW()-1),BY:BZ,2,0)),"",VLOOKUP(SMALL(BY:BY,ROW()-1),BY:BZ,2,0)) | CC5: ='Export polyvalence'!S38 -> Act 4 | CD5: =IF(CE5<>"",MAX($B$1:CD4)+1,"") -> 4 | CE5: =IF(ISERROR(SEARCH($E$2,CC5)),"",CC5) -> Act 4 | CF5: =IF(ISERROR(VLOOKUP(SMALL(CD:CD,ROW()-1),CD:CE,2,0)),"",VLOOKUP(SMALL(CD:CD,ROW()-1),CD:CE,2,0)) -> Act 4 | CH5: ='Export polyvalence'!T38 | CI5: =IF(CJ5<>"",MAX($B$1:CI4)+1,"") | CJ5: =IF(ISERROR(SEARCH($E$2,CH5)),"",CH5) | CK5: =IF(ISERROR(VLOOKUP(SMALL(CI:CI,ROW()-1),CI:CJ,2,0)),"",VLOOKUP(SMALL(CI:CI,ROW()-1),CI:CJ,2,0)) | CM5: ='Export polyvalence'!U38 | CN5: =IF(CO5<>"",MAX($B$1:CN4)+1,"") | CO5: =IF(ISERROR(SEARCH($E$2,CM5)),"",CM5) | CP5: =IF(ISERROR(VLOOKUP(SMALL(CN:CN,ROW()-1),CN:CO,2,0)),"",VLOOKUP(SMALL(CN:CN,ROW()-1),CN:CO,2,0)) | CR5: ='Export polyvalence'!V38 | CS5: =IF(CT5<>"",MAX($B$1:CS4)+1,"") | CT5: =IF(ISERROR(SEARCH($E$2,CR5)),"",CR5) | CU5: =IF(ISERROR(VLOOKUP(SMALL(CS:CS,ROW()-1),CS:CT,2,0)),"",VLOOKUP(SMALL(CS:CS,ROW()-1),CS:CT,2,0)) | CW5: ='Export polyvalence'!W38 | CX5: =IF(CY5<>"",MAX($B$1:CX4)+1,"") | CY5: =IF(ISERROR(SEARCH($E$2,CW5)),"",CW5) | CZ5: =IF(ISERROR(VLOOKUP(SMALL(CX:CX,ROW()-1),CX:CY,2,0)),"",VLOOKUP(SMALL(CX:CX,ROW()-1),CX:CY,2,0)) | DB5: ='Export polyvalence'!X38 | DC5: =IF(DD5<>"",MAX($B$1:DC4)+1,"") | DD5: =IF(ISERROR(SEARCH($E$2,DB5)),"",DB5) | DE5: =IF(ISERROR(VLOOKUP(SMALL(DC:DC,ROW()-1),DC:DD,2,0)),"",VLOOKUP(SMALL(DC:DC,ROW()-1),DC:DD,2,0)) | DG5: ='Export polyvalence'!Y38 | DH5: =IF(DI5<>"",MAX($B$1:DH4)+1,"") | DI5: =IF(ISERROR(SEARCH($E$2,DG5)),"",DG5) | DJ5: =IF(ISERROR(VLOOKUP(SMALL(DH:DH,ROW()-1),DH:DI,2,0)),"",VLOOKUP(SMALL(DH:DH,ROW()-1),DH:DI,2,0)) | DL5: ='Export polyvalence'!Z38 -> Act 4 | DM5: =IF(DN5<>"",MAX($B$1:DM4)+1,"") -> 4 | DN5: =IF(ISERROR(SEARCH($E$2,DL5)),"",DL5) -> Act 4 | DO5: =IF(ISERROR(VLOOKUP(SMALL(DM:DM,ROW()-1),DM:DN,2,0)),"",VLOOKUP(SMALL(DM:DM,ROW()-1),DM:DN,2,0)) -> Act 4 | DQ5: ='Export polyvalence'!AA38 -> 0 | DR5: =IF(DS5<>"",MAX($B$1:DR4)+1,"") -> 4 | DS5: =IF(ISERROR(SEARCH($E$2,DQ5)),"",DQ5) -> 0 | DT5: =IF(ISERROR(VLOOKUP(SMALL(DR:DR,ROW()-1),DR:DS,2,0)),"",VLOOKUP(SMALL(DR:DR,ROW()-1),DR:DS,2,0)) -> 0 | DV5: ='Export polyvalence'!AJ38 -> 0 | DW5: =IF(DX5<>"",MAX($B$1:DW4)+1,"") -> 4 | DX5: =IF(ISERROR(SEARCH($E$2,DV5)),"",DV5) -> 0 | DY5: =IF(ISERROR(VLOOKUP(SMALL(DW:DW,ROW()-1),DW:DX,2,0)),"",VLOOKUP(SMALL(DW:DW,ROW()-1),DW:DX,2,0)) -> 0
A6: ='Export polyvalence'!C39 -> Act 5 | B6: =IF(C6<>"",MAX($B$1:B5)+1,"") -> 5 | C6: =IF(ISERROR(SEARCH($E$2,A6)),"",A6) -> Act 5 | D6: =IF(ISERROR(VLOOKUP(SMALL(B:B,ROW()-1),B:C,2,0)),"",VLOOKUP(SMALL(B:B,ROW()-1),B:C,2,0)) -> Act 5 | F6: ='Export polyvalence'!D39 -> Act 5 | G6: =IF(H6<>"",MAX($B$1:G5)+1,"") -> 5 | H6: =IF(ISERROR(SEARCH($E$2,F6)),"",F6) -> Act 5 | I6: =IF(ISERROR(VLOOKUP(SMALL(G:G,ROW()-1),G:H,2,0)),"",VLOOKUP(SMALL(G:G,ROW()-1),G:H,2,0)) | K6: ='Export polyvalence'!E39 -> Act 5 | L6: =IF(M6<>"",MAX($B$1:L5)+1,"") -> 5 | M6: =IF(ISERROR(SEARCH($E$2,K6)),"",K6) -> Act 5 | N6: =IF(ISERROR(VLOOKUP(SMALL(L:L,ROW()-1),L:M,2,0)),"",VLOOKUP(SMALL(L:L,ROW()-1),L:M,2,0)) -> Act 5 | P6: ='Export polyvalence'!F39 -> Act 5 | Q6: =IF(R6<>"",MAX($B$1:Q5)+1,"") -> 5 | R6: =IF(ISERROR(SEARCH($E$2,P6)),"",P6) -> Act 5 | S6: =IF(ISERROR(VLOOKUP(SMALL(Q:Q,ROW()-1),Q:R,2,0)),"",VLOOKUP(SMALL(Q:Q,ROW()-1),Q:R,2,0)) -> Act 5 | U6: ='Export polyvalence'!G39 -> Act 5 | V6: =IF(W6<>"",MAX($B$1:V5)+1,"") -> 5 | W6: =IF(ISERROR(SEARCH($E$2,U6)),"",U6) -> Act 5 | X6: =IF(ISERROR(VLOOKUP(SMALL(V:V,ROW()-1),V:W,2,0)),"",VLOOKUP(SMALL(V:V,ROW()-1),V:W,2,0)) -> Act 6 | Z6: ='Export polyvalence'!H39 | AA6: =IF(AB6<>"",MAX($B$1:AA5)+1,"") | AB6: =IF(ISERROR(SEARCH($E$2,Z6)),"",Z6) | AC6: =IF(ISERROR(VLOOKUP(SMALL(AA:AA,ROW()-1),AA:AB,2,0)),"",VLOOKUP(SMALL(AA:AA,ROW()-1),AA:AB,2,0)) | AE6: ='Export polyvalence'!I39 | AF6: =IF(AG6<>"",MAX($B$1:AF5)+1,"") | AG6: =IF(ISERROR(SEARCH($E$2,AE6)),"",AE6) | AH6: =IF(ISERROR(VLOOKUP(SMALL(AF:AF,ROW()-1),AF:AG,2,0)),"",VLOOKUP(SMALL(AF:AF,ROW()-1),AF:AG,2,0)) | AJ6: ='Export polyvalence'!J39 | AK6: =IF(AL6<>"",MAX($B$1:AK5)+1,"") | AL6: =IF(ISERROR(SEARCH($E$2,AJ6)),"",AJ6) | AM6: =IF(ISERROR(VLOOKUP(SMALL(AK:AK,ROW()-1),AK:AL,2,0)),"",VLOOKUP(SMALL(AK:AK,ROW()-1),AK:AL,2,0)) | AO6: ='Export polyvalence'!K39 -> Act 5 | AP6: =IF(AQ6<>"",MAX($B$1:AP5)+1,"") -> 5 | AQ6: =IF(ISERROR(SEARCH($E$2,AO6)),"",AO6) -> Act 5 | AR6: =IF(ISERROR(VLOOKUP(SMALL(AP:AP,ROW()-1),AP:AQ,2,0)),"",VLOOKUP(SMALL(AP:AP,ROW()-1),AP:AQ,2,0)) -> Act 9(2) | AT6: ='Export polyvalence'!L39 -> Act 5 | AU6: =IF(AV6<>"",MAX($B$1:AU5)+1,"") -> 5 | AV6: =IF(ISERROR(SEARCH($E$2,AT6)),"",AT6) -> Act 5 | AW6: =IF(ISERROR(VLOOKUP(SMALL(AU:AU,ROW()-1),AU:AV,2,0)),"",VLOOKUP(SMALL(AU:AU,ROW()-1),AU:AV,2,0)) -> Act 9(2) | AY6: ='Export polyvalence'!M39 | AZ6: =IF(BA6<>"",MAX($B$1:AZ5)+1,"") | BA6: =IF(ISERROR(SEARCH($E$2,AY6)),"",AY6) | BB6: =IF(ISERROR(VLOOKUP(SMALL(AZ:AZ,ROW()-1),AZ:BA,2,0)),"",VLOOKUP(SMALL(AZ:AZ,ROW()-1),AZ:BA,2,0)) | BD6: ='Export polyvalence'!N39 | BE6: =IF(BF6<>"",MAX($B$1:BE5)+1,"") | BF6: =IF(ISERROR(SEARCH($E$2,BD6)),"",BD6) | BG6: =IF(ISERROR(VLOOKUP(SMALL(BE:BE,ROW()-1),BE:BF,2,0)),"",VLOOKUP(SMALL(BE:BE,ROW()-1),BE:BF,2,0)) | BI6: ='Export polyvalence'!O39 | BJ6: =IF(BK6<>"",MAX($B$1:BJ5)+1,"") | BK6: =IF(ISERROR(SEARCH($E$2,BI6)),"",BI6) | BL6: =IF(ISERROR(VLOOKUP(SMALL(BJ:BJ,ROW()-1),BJ:BK,2,0)),"",VLOOKUP(SMALL(BJ:BJ,ROW()-1),BJ:BK,2,0)) | BN6: ='Export polyvalence'!P39 | BO6: =IF(BP6<>"",MAX($B$1:BO5)+1,"") | BP6: =IF(ISERROR(SEARCH($E$2,BN6)),"",BN6) | BQ6: =IF(ISERROR(VLOOKUP(SMALL(BO:BO,ROW()-1),BO:BP,2,0)),"",VLOOKUP(SMALL(BO:BO,ROW()-1),BO:BP,2,0)) | BS6: ='Export polyvalence'!Q39 -> Act 5 | BT6: =IF(BU6<>"",MAX($B$1:BT5)+1,"") -> 5 | BU6: =IF(ISERROR(SEARCH($E$2,BS6)),"",BS6) -> Act 5 | BV6: =IF(ISERROR(VLOOKUP(SMALL(BT:BT,ROW()-1),BT:BU,2,0)),"",VLOOKUP(SMALL(BT:BT,ROW()-1),BT:BU,2,0)) -> Act 6 | BX6: ='Export polyvalence'!R39 | BY6: =IF(BZ6<>"",MAX($B$1:BY5)+1,"") | BZ6: =IF(ISERROR(SEARCH($E$2,BX6)),"",BX6) | CA6: =IF(ISERROR(VLOOKUP(SMALL(BY:BY,ROW()-1),BY:BZ,2,0)),"",VLOOKUP(SMALL(BY:BY,ROW()-1),BY:BZ,2,0)) | CC6: ='Export polyvalence'!S39 -> Act 5 | CD6: =IF(CE6<>"",MAX($B$1:CD5)+1,"") -> 5 | CE6: =IF(ISERROR(SEARCH($E$2,CC6)),"",CC6) -> Act 5 | CF6: =IF(ISERROR(VLOOKUP(SMALL(CD:CD,ROW()-1),CD:CE,2,0)),"",VLOOKUP(SMALL(CD:CD,ROW()-1),CD:CE,2,0)) -> Act 5 | CH6: ='Export polyvalence'!T39 | CI6: =IF(CJ6<>"",MAX($B$1:CI5)+1,"") | CJ6: =IF(ISERROR(SEARCH($E$2,CH6)),"",CH6) | CK6: =IF(ISERROR(VLOOKUP(SMALL(CI:CI,ROW()-1),CI:CJ,2,0)),"",VLOOKUP(SMALL(CI:CI,ROW()-1),CI:CJ,2,0)) | CM6: ='Export polyvalence'!U39 | CN6: =IF(CO6<>"",MAX($B$1:CN5)+1,"") | CO6: =IF(ISERROR(SEARCH($E$2,CM6)),"",CM6) | CP6: =IF(ISERROR(VLOOKUP(SMALL(CN:CN,ROW()-1),CN:CO,2,0)),"",VLOOKUP(SMALL(CN:CN,ROW()-1),CN:CO,2,0)) | CR6: ='Export polyvalence'!V39 | CS6: =IF(CT6<>"",MAX($B$1:CS5)+1,"") | CT6: =IF(ISERROR(SEARCH($E$2,CR6)),"",CR6) | CU6: =IF(ISERROR(VLOOKUP(SMALL(CS:CS,ROW()-1),CS:CT,2,0)),"",VLOOKUP(SMALL(CS:CS,ROW()-1),CS:CT,2,0)) | CW6: ='Export polyvalence'!W39 | CX6: =IF(CY6<>"",MAX($B$1:CX5)+1,"") | CY6: =IF(ISERROR(SEARCH($E$2,CW6)),"",CW6) | CZ6: =IF(ISERROR(VLOOKUP(SMALL(CX:CX,ROW()-1),CX:CY,2,0)),"",VLOOKUP(SMALL(CX:CX,ROW()-1),CX:CY,2,0)) | DB6: ='Export polyvalence'!X39 | DC6: =IF(DD6<>"",MAX($B$1:DC5)+1,"") | DD6: =IF(ISERROR(SEARCH($E$2,DB6)),"",DB6) | DE6: =IF(ISERROR(VLOOKUP(SMALL(DC:DC,ROW()-1),DC:DD,2,0)),"",VLOOKUP(SMALL(DC:DC,ROW()-1),DC:DD,2,0)) | DG6: ='Export polyvalence'!Y39 | DH6: =IF(DI6<>"",MAX($B$1:DH5)+1,"") | DI6: =IF(ISERROR(SEARCH($E$2,DG6)),"",DG6) | DJ6: =IF(ISERROR(VLOOKUP(SMALL(DH:DH,ROW()-1),DH:DI,2,0)),"",VLOOKUP(SMALL(DH:DH,ROW()-1),DH:DI,2,0)) | DL6: ='Export polyvalence'!Z39 -> Act 5 | DM6: =IF(DN6<>"",MAX($B$1:DM5)+1,"") -> 5 | DN6: =IF(ISERROR(SEARCH($E$2,DL6)),"",DL6) -> Act 5 | DO6: =IF(ISERROR(VLOOKUP(SMALL(DM:DM,ROW()-1),DM:DN,2,0)),"",VLOOKUP(SMALL(DM:DM,ROW()-1),DM:DN,2,0)) -> Act 5 | DQ6: ='Export polyvalence'!AA39 -> 0 | DR6: =IF(DS6<>"",MAX($B$1:DR5)+1,"") -> 5 | DS6: =IF(ISERROR(SEARCH($E$2,DQ6)),"",DQ6) -> 0 | DT6: =IF(ISERROR(VLOOKUP(SMALL(DR:DR,ROW()-1),DR:DS,2,0)),"",VLOOKUP(SMALL(DR:DR,ROW()-1),DR:DS,2,0)) -> 0 | DV6: ='Export polyvalence'!AJ39 -> 0 | DW6: =IF(DX6<>"",MAX($B$1:DW5)+1,"") -> 5 | DX6: =IF(ISERROR(SEARCH($E$2,DV6)),"",DV6) -> 0 | DY6: =IF(ISERROR(VLOOKUP(SMALL(DW:DW,ROW()-1),DW:DX,2,0)),"",VLOOKUP(SMALL(DW:DW,ROW()-1),DW:DX,2,0)) -> 0
A7: ='Export polyvalence'!C40 -> Act 6 | B7: =IF(C7<>"",MAX($B$1:B6)+1,"") -> 6 | C7: =IF(ISERROR(SEARCH($E$2,A7)),"",A7) -> Act 6 | D7: =IF(ISERROR(VLOOKUP(SMALL(B:B,ROW()-1),B:C,2,0)),"",VLOOKUP(SMALL(B:B,ROW()-1),B:C,2,0)) -> Act 6 | F7: ='Export polyvalence'!D40 | G7: =IF(H7<>"",MAX($B$1:G6)+1,"") | H7: =IF(ISERROR(SEARCH($E$2,F7)),"",F7) | I7: =IF(ISERROR(VLOOKUP(SMALL(G:G,ROW()-1),G:H,2,0)),"",VLOOKUP(SMALL(G:G,ROW()-1),G:H,2,0)) | K7: ='Export polyvalence'!E40 -> Act 6 | L7: =IF(M7<>"",MAX($B$1:L6)+1,"") -> 6 | M7: =IF(ISERROR(SEARCH($E$2,K7)),"",K7) -> Act 6 | N7: =IF(ISERROR(VLOOKUP(SMALL(L:L,ROW()-1),L:M,2,0)),"",VLOOKUP(SMALL(L:L,ROW()-1),L:M,2,0)) -> Act 6 | P7: ='Export polyvalence'!F40 -> Act 6 | Q7: =IF(R7<>"",MAX($B$1:Q6)+1,"") -> 6 | R7: =IF(ISERROR(SEARCH($E$2,P7)),"",P7) -> Act 6 | S7: =IF(ISERROR(VLOOKUP(SMALL(Q:Q,ROW()-1),Q:R,2,0)),"",VLOOKUP(SMALL(Q:Q,ROW()-1),Q:R,2,0)) -> Act 6 | U7: ='Export polyvalence'!G40 -> Act 6 | V7: =IF(W7<>"",MAX($B$1:V6)+1,"") -> 6 | W7: =IF(ISERROR(SEARCH($E$2,U7)),"",U7) -> Act 6 | X7: =IF(ISERROR(VLOOKUP(SMALL(V:V,ROW()-1),V:W,2,0)),"",VLOOKUP(SMALL(V:V,ROW()-1),V:W,2,0)) -> Act 8 | Z7: ='Export polyvalence'!H40 | AA7: =IF(AB7<>"",MAX($B$1:AA6)+1,"") | AB7: =IF(ISERROR(SEARCH($E$2,Z7)),"",Z7) | AC7: =IF(ISERROR(VLOOKUP(SMALL(AA:AA,ROW()-1),AA:AB,2,0)),"",VLOOKUP(SMALL(AA:AA,ROW()-1),AA:AB,2,0)) | AE7: ='Export polyvalence'!I40 | AF7: =IF(AG7<>"",MAX($B$1:AF6)+1,"") | AG7: =IF(ISERROR(SEARCH($E$2,AE7)),"",AE7) | AH7: =IF(ISERROR(VLOOKUP(SMALL(AF:AF,ROW()-1),AF:AG,2,0)),"",VLOOKUP(SMALL(AF:AF,ROW()-1),AF:AG,2,0)) | AJ7: ='Export polyvalence'!J40 | AK7: =IF(AL7<>"",MAX($B$1:AK6)+1,"") | AL7: =IF(ISERROR(SEARCH($E$2,AJ7)),"",AJ7) | AM7: =IF(ISERROR(VLOOKUP(SMALL(AK:AK,ROW()-1),AK:AL,2,0)),"",VLOOKUP(SMALL(AK:AK,ROW()-1),AK:AL,2,0)) | AO7: ='Export polyvalence'!K40 | AP7: =IF(AQ7<>"",MAX($B$1:AP6)+1,"") | AQ7: =IF(ISERROR(SEARCH($E$2,AO7)),"",AO7) | AR7: =IF(ISERROR(VLOOKUP(SMALL(AP:AP,ROW()-1),AP:AQ,2,0)),"",VLOOKUP(SMALL(AP:AP,ROW()-1),AP:AQ,2,0)) | AT7: ='Export polyvalence'!L40 | AU7: =IF(AV7<>"",MAX($B$1:AU6)+1,"") | AV7: =IF(ISERROR(SEARCH($E$2,AT7)),"",AT7) | AW7: =IF(ISERROR(VLOOKUP(SMALL(AU:AU,ROW()-1),AU:AV,2,0)),"",VLOOKUP(SMALL(AU:AU,ROW()-1),AU:AV,2,0)) | AY7: ='Export polyvalence'!M40 | AZ7: =IF(BA7<>"",MAX($B$1:AZ6)+1,"") | BA7: =IF(ISERROR(SEARCH($E$2,AY7)),"",AY7) | BB7: =IF(ISERROR(VLOOKUP(SMALL(AZ:AZ,ROW()-1),AZ:BA,2,0)),"",VLOOKUP(SMALL(AZ:AZ,ROW()-1),AZ:BA,2,0)) | BD7: ='Export polyvalence'!N40 | BE7: =IF(BF7<>"",MAX($B$1:BE6)+1,"") | BF7: =IF(ISERROR(SEARCH($E$2,BD7)),"",BD7) | BG7: =IF(ISERROR(VLOOKUP(SMALL(BE:BE,ROW()-1),BE:BF,2,0)),"",VLOOKUP(SMALL(BE:BE,ROW()-1),BE:BF,2,0)) | BI7: ='Export polyvalence'!O40 | BJ7: =IF(BK7<>"",MAX($B$1:BJ6)+1,"") | BK7: =IF(ISERROR(SEARCH($E$2,BI7)),"",BI7) | BL7: =IF(ISERROR(VLOOKUP(SMALL(BJ:BJ,ROW()-1),BJ:BK,2,0)),"",VLOOKUP(SMALL(BJ:BJ,ROW()-1),BJ:BK,2,0)) | BN7: ='Export polyvalence'!P40 | BO7: =IF(BP7<>"",MAX($B$1:BO6)+1,"") | BP7: =IF(ISERROR(SEARCH($E$2,BN7)),"",BN7) | BQ7: =IF(ISERROR(VLOOKUP(SMALL(BO:BO,ROW()-1),BO:BP,2,0)),"",VLOOKUP(SMALL(BO:BO,ROW()-1),BO:BP,2,0)) | BS7: ='Export polyvalence'!Q40 -> Act 6 | BT7: =IF(BU7<>"",MAX($B$1:BT6)+1,"") -> 6 | BU7: =IF(ISERROR(SEARCH($E$2,BS7)),"",BS7) -> Act 6 | BV7: =IF(ISERROR(VLOOKUP(SMALL(BT:BT,ROW()-1),BT:BU,2,0)),"",VLOOKUP(SMALL(BT:BT,ROW()-1),BT:BU,2,0)) -> Act 8 | BX7: ='Export polyvalence'!R40 | BY7: =IF(BZ7<>"",MAX($B$1:BY6)+1,"") | BZ7: =IF(ISERROR(SEARCH($E$2,BX7)),"",BX7) | CA7: =IF(ISERROR(VLOOKUP(SMALL(BY:BY,ROW()-1),BY:BZ,2,0)),"",VLOOKUP(SMALL(BY:BY,ROW()-1),BY:BZ,2,0)) | CC7: ='Export polyvalence'!S40 -> Act 6 | CD7: =IF(CE7<>"",MAX($B$1:CD6)+1,"") -> 6 | CE7: =IF(ISERROR(SEARCH($E$2,CC7)),"",CC7) -> Act 6 | CF7: =IF(ISERROR(VLOOKUP(SMALL(CD:CD,ROW()-1),CD:CE,2,0)),"",VLOOKUP(SMALL(CD:CD,ROW()-1),CD:CE,2,0)) -> Act 6 | CH7: ='Export polyvalence'!T40 | CI7: =IF(CJ7<>"",MAX($B$1:CI6)+1,"") | CJ7: =IF(ISERROR(SEARCH($E$2,CH7)),"",CH7) | CK7: =IF(ISERROR(VLOOKUP(SMALL(CI:CI,ROW()-1),CI:CJ,2,0)),"",VLOOKUP(SMALL(CI:CI,ROW()-1),CI:CJ,2,0)) | CM7: ='Export polyvalence'!U40 | CN7: =IF(CO7<>"",MAX($B$1:CN6)+1,"") | CO7: =IF(ISERROR(SEARCH($E$2,CM7)),"",CM7) | CP7: =IF(ISERROR(VLOOKUP(SMALL(CN:CN,ROW()-1),CN:CO,2,0)),"",VLOOKUP(SMALL(CN:CN,ROW()-1),CN:CO,2,0)) | CR7: ='Export polyvalence'!V40 | CS7: =IF(CT7<>"",MAX($B$1:CS6)+1,"") | CT7: =IF(ISERROR(SEARCH($E$2,CR7)),"",CR7) | CU7: =IF(ISERROR(VLOOKUP(SMALL(CS:CS,ROW()-1),CS:CT,2,0)),"",VLOOKUP(SMALL(CS:CS,ROW()-1),CS:CT,2,0)) | CW7: ='Export polyvalence'!W40 | CX7: =IF(CY7<>"",MAX($B$1:CX6)+1,"") | CY7: =IF(ISERROR(SEARCH($E$2,CW7)),"",CW7) | CZ7: =IF(ISERROR(VLOOKUP(SMALL(CX:CX,ROW()-1),CX:CY,2,0)),"",VLOOKUP(SMALL(CX:CX,ROW()-1),CX:CY,2,0)) | DB7: ='Export polyvalence'!X40 | DC7: =IF(DD7<>"",MAX($B$1:DC6)+1,"") | DD7: =IF(ISERROR(SEARCH($E$2,DB7)),"",DB7) | DE7: =IF(ISERROR(VLOOKUP(SMALL(DC:DC,ROW()-1),DC:DD,2,0)),"",VLOOKUP(SMALL(DC:DC,ROW()-1),DC:DD,2,0)) | DG7: ='Export polyvalence'!Y40 | DH7: =IF(DI7<>"",MAX($B$1:DH6)+1,"") | DI7: =IF(ISERROR(SEARCH($E$2,DG7)),"",DG7) | DJ7: =IF(ISERROR(VLOOKUP(SMALL(DH:DH,ROW()-1),DH:DI,2,0)),"",VLOOKUP(SMALL(DH:DH,ROW()-1),DH:DI,2,0)) | DL7: ='Export polyvalence'!Z40 -> Act 6 | DM7: =IF(DN7<>"",MAX($B$1:DM6)+1,"") -> 6 | DN7: =IF(ISERROR(SEARCH($E$2,DL7)),"",DL7) -> Act 6 | DO7: =IF(ISERROR(VLOOKUP(SMALL(DM:DM,ROW()-1),DM:DN,2,0)),"",VLOOKUP(SMALL(DM:DM,ROW()-1),DM:DN,2,0)) -> Act 6 | DQ7: ='Export polyvalence'!AA40 -> 0 | DR7: =IF(DS7<>"",MAX($B$1:DR6)+1,"") -> 6 | DS7: =IF(ISERROR(SEARCH($E$2,DQ7)),"",DQ7) -> 0 | DT7: =IF(ISERROR(VLOOKUP(SMALL(DR:DR,ROW()-1),DR:DS,2,0)),"",VLOOKUP(SMALL(DR:DR,ROW()-1),DR:DS,2,0)) -> 0 | DV7: ='Export polyvalence'!AJ40 -> 0 | DW7: =IF(DX7<>"",MAX($B$1:DW6)+1,"") -> 6 | DX7: =IF(ISERROR(SEARCH($E$2,DV7)),"",DV7) -> 0 | DY7: =IF(ISERROR(VLOOKUP(SMALL(DW:DW,ROW()-1),DW:DX,2,0)),"",VLOOKUP(SMALL(DW:DW,ROW()-1),DW:DX,2,0)) -> 0
A8: ='Export polyvalence'!C41 -> Act 7(2) | B8: =IF(C8<>"",MAX($B$1:B7)+1,"") -> 7 | C8: =IF(ISERROR(SEARCH($E$2,A8)),"",A8) -> Act 7(2) | D8: =IF(ISERROR(VLOOKUP(SMALL(B:B,ROW()-1),B:C,2,0)),"",VLOOKUP(SMALL(B:B,ROW()-1),B:C,2,0)) -> Act 7(2) | F8: ='Export polyvalence'!D41 | G8: =IF(H8<>"",MAX($B$1:G7)+1,"") | H8: =IF(ISERROR(SEARCH($E$2,F8)),"",F8) | I8: =IF(ISERROR(VLOOKUP(SMALL(G:G,ROW()-1),G:H,2,0)),"",VLOOKUP(SMALL(G:G,ROW()-1),G:H,2,0)) | K8: ='Export polyvalence'!E41 -> Act 7 | L8: =IF(M8<>"",MAX($B$1:L7)+1,"") -> 7 | M8: =IF(ISERROR(SEARCH($E$2,K8)),"",K8) -> Act 7 | N8: =IF(ISERROR(VLOOKUP(SMALL(L:L,ROW()-1),L:M,2,0)),"",VLOOKUP(SMALL(L:L,ROW()-1),L:M,2,0)) -> Act 7 | P8: ='Export polyvalence'!F41 -> Act 7 | Q8: =IF(R8<>"",MAX($B$1:Q7)+1,"") -> 7 | R8: =IF(ISERROR(SEARCH($E$2,P8)),"",P8) -> Act 7 | S8: =IF(ISERROR(VLOOKUP(SMALL(Q:Q,ROW()-1),Q:R,2,0)),"",VLOOKUP(SMALL(Q:Q,ROW()-1),Q:R,2,0)) -> Act 7 | U8: ='Export polyvalence'!G41 | V8: =IF(W8<>"",MAX($B$1:V7)+1,"") | W8: =IF(ISERROR(SEARCH($E$2,U8)),"",U8) | X8: =IF(ISERROR(VLOOKUP(SMALL(V:V,ROW()-1),V:W,2,0)),"",VLOOKUP(SMALL(V:V,ROW()-1),V:W,2,0)) -> Act 9(2) | Z8: ='Export polyvalence'!H41 -> Act 7 | AA8: =IF(AB8<>"",MAX($B$1:AA7)+1,"") -> 7 | AB8: =IF(ISERROR(SEARCH($E$2,Z8)),"",Z8) -> Act 7 | AC8: =IF(ISERROR(VLOOKUP(SMALL(AA:AA,ROW()-1),AA:AB,2,0)),"",VLOOKUP(SMALL(AA:AA,ROW()-1),AA:AB,2,0)) | AE8: ='Export polyvalence'!I41 | AF8: =IF(AG8<>"",MAX($B$1:AF7)+1,"") | AG8: =IF(ISERROR(SEARCH($E$2,AE8)),"",AE8) | AH8: =IF(ISERROR(VLOOKUP(SMALL(AF:AF,ROW()-1),AF:AG,2,0)),"",VLOOKUP(SMALL(AF:AF,ROW()-1),AF:AG,2,0)) | AJ8: ='Export polyvalence'!J41 | AK8: =IF(AL8<>"",MAX($B$1:AK7)+1,"") | AL8: =IF(ISERROR(SEARCH($E$2,AJ8)),"",AJ8) | AM8: =IF(ISERROR(VLOOKUP(SMALL(AK:AK,ROW()-1),AK:AL,2,0)),"",VLOOKUP(SMALL(AK:AK,ROW()-1),AK:AL,2,0)) | AO8: ='Export polyvalence'!K41 -> Act 7 | AP8: =IF(AQ8<>"",MAX($B$1:AP7)+1,"") -> 7 | AQ8: =IF(ISERROR(SEARCH($E$2,AO8)),"",AO8) -> Act 7 | AR8: =IF(ISERROR(VLOOKUP(SMALL(AP:AP,ROW()-1),AP:AQ,2,0)),"",VLOOKUP(SMALL(AP:AP,ROW()-1),AP:AQ,2,0)) | AT8: ='Export polyvalence'!L41 -> Act 7 | AU8: =IF(AV8<>"",MAX($B$1:AU7)+1,"") -> 7 | AV8: =IF(ISERROR(SEARCH($E$2,AT8)),"",AT8) -> Act 7 | AW8: =IF(ISERROR(VLOOKUP(SMALL(AU:AU,ROW()-1),AU:AV,2,0)),"",VLOOKUP(SMALL(AU:AU,ROW()-1),AU:AV,2,0)) | AY8: ='Export polyvalence'!M41 | AZ8: =IF(BA8<>"",MAX($B$1:AZ7)+1,"") | BA8: =IF(ISERROR(SEARCH($E$2,AY8)),"",AY8) | BB8: =IF(ISERROR(VLOOKUP(SMALL(AZ:AZ,ROW()-1),AZ:BA,2,0)),"",VLOOKUP(SMALL(AZ:AZ,ROW()-1),AZ:BA,2,0)) | BD8: ='Export polyvalence'!N41 | BE8: =IF(BF8<>"",MAX($B$1:BE7)+1,"") | BF8: =IF(ISERROR(SEARCH($E$2,BD8)),"",BD8) | BG8: =IF(ISERROR(VLOOKUP(SMALL(BE:BE,ROW()-1),BE:BF,2,0)),"",VLOOKUP(SMALL(BE:BE,ROW()-1),BE:BF,2,0)) | BI8: ='Export polyvalence'!O41 | BJ8: =IF(BK8<>"",MAX($B$1:BJ7)+1,"") | BK8: =IF(ISERROR(SEARCH($E$2,BI8)),"",BI8) | BL8: =IF(ISERROR(VLOOKUP(SMALL(BJ:BJ,ROW()-1),BJ:BK,2,0)),"",VLOOKUP(SMALL(BJ:BJ,ROW()-1),BJ:BK,2,0)) | BN8: ='Export polyvalence'!P41 | BO8: =IF(BP8<>"",MAX($B$1:BO7)+1,"") | BP8: =IF(ISERROR(SEARCH($E$2,BN8)),"",BN8) | BQ8: =IF(ISERROR(VLOOKUP(SMALL(BO:BO,ROW()-1),BO:BP,2,0)),"",VLOOKUP(SMALL(BO:BO,ROW()-1),BO:BP,2,0)) | BS8: ='Export polyvalence'!Q41 | BT8: =IF(BU8<>"",MAX($B$1:BT7)+1,"") | BU8: =IF(ISERROR(SEARCH($E$2,BS8)),"",BS8) | BV8: =IF(ISERROR(VLOOKUP(SMALL(BT:BT,ROW()-1),BT:BU,2,0)),"",VLOOKUP(SMALL(BT:BT,ROW()-1),BT:BU,2,0)) -> Act 9(2) | BX8: ='Export polyvalence'!R41 | BY8: =IF(BZ8<>"",MAX($B$1:BY7)+1,"") | BZ8: =IF(ISERROR(SEARCH($E$2,BX8)),"",BX8) | CA8: =IF(ISERROR(VLOOKUP(SMALL(BY:BY,ROW()-1),BY:BZ,2,0)),"",VLOOKUP(SMALL(BY:BY,ROW()-1),BY:BZ,2,0)) | CC8: ='Export polyvalence'!S41 -> Act 7 | CD8: =IF(CE8<>"",MAX($B$1:CD7)+1,"") -> 7 | CE8: =IF(ISERROR(SEARCH($E$2,CC8)),"",CC8) -> Act 7 | CF8: =IF(ISERROR(VLOOKUP(SMALL(CD:CD,ROW()-1),CD:CE,2,0)),"",VLOOKUP(SMALL(CD:CD,ROW()-1),CD:CE,2,0)) -> Act 7 | CH8: ='Export polyvalence'!T41 -> Act 7 | CI8: =IF(CJ8<>"",MAX($B$1:CI7)+1,"") -> 7 | CJ8: =IF(ISERROR(SEARCH($E$2,CH8)),"",CH8) -> Act 7 | CK8: =IF(ISERROR(VLOOKUP(SMALL(CI:CI,ROW()-1),CI:CJ,2,0)),"",VLOOKUP(SMALL(CI:CI,ROW()-1),CI:CJ,2,0)) | CM8: ='Export polyvalence'!U41 | CN8: =IF(CO8<>"",MAX($B$1:CN7)+1,"") | CO8: =IF(ISERROR(SEARCH($E$2,CM8)),"",CM8) | CP8: =IF(ISERROR(VLOOKUP(SMALL(CN:CN,ROW()-1),CN:CO,2,0)),"",VLOOKUP(SMALL(CN:CN,ROW()-1),CN:CO,2,0)) | CR8: ='Export polyvalence'!V41 | CS8: =IF(CT8<>"",MAX($B$1:CS7)+1,"") | CT8: =IF(ISERROR(SEARCH($E$2,CR8)),"",CR8) | CU8: =IF(ISERROR(VLOOKUP(SMALL(CS:CS,ROW()-1),CS:CT,2,0)),"",VLOOKUP(SMALL(CS:CS,ROW()-1),CS:CT,2,0)) | CW8: ='Export polyvalence'!W41 | CX8: =IF(CY8<>"",MAX($B$1:CX7)+1,"") | CY8: =IF(ISERROR(SEARCH($E$2,CW8)),"",CW8) | CZ8: =IF(ISERROR(VLOOKUP(SMALL(CX:CX,ROW()-1),CX:CY,2,0)),"",VLOOKUP(SMALL(CX:CX,ROW()-1),CX:CY,2,0)) | DB8: ='Export polyvalence'!X41 | DC8: =IF(DD8<>"",MAX($B$1:DC7)+1,"") | DD8: =IF(ISERROR(SEARCH($E$2,DB8)),"",DB8) | DE8: =IF(ISERROR(VLOOKUP(SMALL(DC:DC,ROW()-1),DC:DD,2,0)),"",VLOOKUP(SMALL(DC:DC,ROW()-1),DC:DD,2,0)) | DG8: ='Export polyvalence'!Y41 | DH8: =IF(DI8<>"",MAX($B$1:DH7)+1,"") | DI8: =IF(ISERROR(SEARCH($E$2,DG8)),"",DG8) | DJ8: =IF(ISERROR(VLOOKUP(SMALL(DH:DH,ROW()-1),DH:DI,2,0)),"",VLOOKUP(SMALL(DH:DH,ROW()-1),DH:DI,2,0)) | DL8: ='Export polyvalence'!Z41 -> Act 7(2) | DM8: =IF(DN8<>"",MAX($B$1:DM7)+1,"") -> 7 | DN8: =IF(ISERROR(SEARCH($E$2,DL8)),"",DL8) -> Act 7(2) | DO8: =IF(ISERROR(VLOOKUP(SMALL(DM:DM,ROW()-1),DM:DN,2,0)),"",VLOOKUP(SMALL(DM:DM,ROW()-1),DM:DN,2,0)) -> Act 7(2) | DQ8: ='Export polyvalence'!AA41 -> 0 | DR8: =IF(DS8<>"",MAX($B$1:DR7)+1,"") -> 7 | DS8: =IF(ISERROR(SEARCH($E$2,DQ8)),"",DQ8) -> 0 | DT8: =IF(ISERROR(VLOOKUP(SMALL(DR:DR,ROW()-1),DR:DS,2,0)),"",VLOOKUP(SMALL(DR:DR,ROW()-1),DR:DS,2,0)) -> 0 | DV8: ='Export polyvalence'!AJ41 -> 0 | DW8: =IF(DX8<>"",MAX($B$1:DW7)+1,"") -> 7 | DX8: =IF(ISERROR(SEARCH($E$2,DV8)),"",DV8) -> 0 | DY8: =IF(ISERROR(VLOOKUP(SMALL(DW:DW,ROW()-1),DW:DX,2,0)),"",VLOOKUP(SMALL(DW:DW,ROW()-1),DW:DX,2,0)) -> 0
A9: ='Export polyvalence'!C42 -> Act 8 | B9: =IF(C9<>"",MAX($B$1:B8)+1,"") -> 8 | C9: =IF(ISERROR(SEARCH($E$2,A9)),"",A9) -> Act 8 | D9: =IF(ISERROR(VLOOKUP(SMALL(B:B,ROW()-1),B:C,2,0)),"",VLOOKUP(SMALL(B:B,ROW()-1),B:C,2,0)) -> Act 8 | F9: ='Export polyvalence'!D42 -> Act 8 | G9: =IF(H9<>"",MAX($B$1:G8)+1,"") -> 8 | H9: =IF(ISERROR(SEARCH($E$2,F9)),"",F9) -> Act 8 | I9: =IF(ISERROR(VLOOKUP(SMALL(G:G,ROW()-1),G:H,2,0)),"",VLOOKUP(SMALL(G:G,ROW()-1),G:H,2,0)) | K9: ='Export polyvalence'!E42 -> Act 8 | L9: =IF(M9<>"",MAX($B$1:L8)+1,"") -> 8 | M9: =IF(ISERROR(SEARCH($E$2,K9)),"",K9) -> Act 8 | N9: =IF(ISERROR(VLOOKUP(SMALL(L:L,ROW()-1),L:M,2,0)),"",VLOOKUP(SMALL(L:L,ROW()-1),L:M,2,0)) -> Act 8 | P9: ='Export polyvalence'!F42 -> Act 8 | Q9: =IF(R9<>"",MAX($B$1:Q8)+1,"") -> 8 | R9: =IF(ISERROR(SEARCH($E$2,P9)),"",P9) -> Act 8 | S9: =IF(ISERROR(VLOOKUP(SMALL(Q:Q,ROW()-1),Q:R,2,0)),"",VLOOKUP(SMALL(Q:Q,ROW()-1),Q:R,2,0)) -> Act 8 | U9: ='Export polyvalence'!G42 -> Act 8 | V9: =IF(W9<>"",MAX($B$1:V8)+1,"") -> 8 | W9: =IF(ISERROR(SEARCH($E$2,U9)),"",U9) -> Act 8 | X9: =IF(ISERROR(VLOOKUP(SMALL(V:V,ROW()-1),V:W,2,0)),"",VLOOKUP(SMALL(V:V,ROW()-1),V:W,2,0)) -> Act 10(2) | Z9: ='Export polyvalence'!H42 | AA9: =IF(AB9<>"",MAX($B$1:AA8)+1,"") | AB9: =IF(ISERROR(SEARCH($E$2,Z9)),"",Z9) | AC9: =IF(ISERROR(VLOOKUP(SMALL(AA:AA,ROW()-1),AA:AB,2,0)),"",VLOOKUP(SMALL(AA:AA,ROW()-1),AA:AB,2,0)) | AE9: ='Export polyvalence'!I42 | AF9: =IF(AG9<>"",MAX($B$1:AF8)+1,"") | AG9: =IF(ISERROR(SEARCH($E$2,AE9)),"",AE9) | AH9: =IF(ISERROR(VLOOKUP(SMALL(AF:AF,ROW()-1),AF:AG,2,0)),"",VLOOKUP(SMALL(AF:AF,ROW()-1),AF:AG,2,0)) | AJ9: ='Export polyvalence'!J42 | AK9: =IF(AL9<>"",MAX($B$1:AK8)+1,"") | AL9: =IF(ISERROR(SEARCH($E$2,AJ9)),"",AJ9) | AM9: =IF(ISERROR(VLOOKUP(SMALL(AK:AK,ROW()-1),AK:AL,2,0)),"",VLOOKUP(SMALL(AK:AK,ROW()-1),AK:AL,2,0)) | AO9: ='Export polyvalence'!K42 -> Act 8 | AP9: =IF(AQ9<>"",MAX($B$1:AP8)+1,"") -> 8 | AQ9: =IF(ISERROR(SEARCH($E$2,AO9)),"",AO9) -> Act 8 | AR9: =IF(ISERROR(VLOOKUP(SMALL(AP:AP,ROW()-1),AP:AQ,2,0)),"",VLOOKUP(SMALL(AP:AP,ROW()-1),AP:AQ,2,0)) | AT9: ='Export polyvalence'!L42 -> Act 8 | AU9: =IF(AV9<>"",MAX($B$1:AU8)+1,"") -> 8 | AV9: =IF(ISERROR(SEARCH($E$2,AT9)),"",AT9) -> Act 8 | AW9: =IF(ISERROR(VLOOKUP(SMALL(AU:AU,ROW()-1),AU:AV,2,0)),"",VLOOKUP(SMALL(AU:AU,ROW()-1),AU:AV,2,0)) | AY9: ='Export polyvalence'!M42 | AZ9: =IF(BA9<>"",MAX($B$1:AZ8)+1,"") | BA9: =IF(ISERROR(SEARCH($E$2,AY9)),"",AY9) | BB9: =IF(ISERROR(VLOOKUP(SMALL(AZ:AZ,ROW()-1),AZ:BA,2,0)),"",VLOOKUP(SMALL(AZ:AZ,ROW()-1),AZ:BA,2,0)) | BD9: ='Export polyvalence'!N42 | BE9: =IF(BF9<>"",MAX($B$1:BE8)+1,"") | BF9: =IF(ISERROR(SEARCH($E$2,BD9)),"",BD9) | BG9: =IF(ISERROR(VLOOKUP(SMALL(BE:BE,ROW()-1),BE:BF,2,0)),"",VLOOKUP(SMALL(BE:BE,ROW()-1),BE:BF,2,0)) | BI9: ='Export polyvalence'!O42 | BJ9: =IF(BK9<>"",MAX($B$1:BJ8)+1,"") | BK9: =IF(ISERROR(SEARCH($E$2,BI9)),"",BI9) | BL9: =IF(ISERROR(VLOOKUP(SMALL(BJ:BJ,ROW()-1),BJ:BK,2,0)),"",VLOOKUP(SMALL(BJ:BJ,ROW()-1),BJ:BK,2,0)) | BN9: ='Export polyvalence'!P42 | BO9: =IF(BP9<>"",MAX($B$1:BO8)+1,"") | BP9: =IF(ISERROR(SEARCH($E$2,BN9)),"",BN9) | BQ9: =IF(ISERROR(VLOOKUP(SMALL(BO:BO,ROW()-1),BO:BP,2,0)),"",VLOOKUP(SMALL(BO:BO,ROW()-1),BO:BP,2,0)) | BS9: ='Export polyvalence'!Q42 -> Act 8 | BT9: =IF(BU9<>"",MAX($B$1:BT8)+1,"") -> 8 | BU9: =IF(ISERROR(SEARCH($E$2,BS9)),"",BS9) -> Act 8 | BV9: =IF(ISERROR(VLOOKUP(SMALL(BT:BT,ROW()-1),BT:BU,2,0)),"",VLOOKUP(SMALL(BT:BT,ROW()-1),BT:BU,2,0)) -> Act 10(2) | BX9: ='Export polyvalence'!R42 | BY9: =IF(BZ9<>"",MAX($B$1:BY8)+1,"") | BZ9: =IF(ISERROR(SEARCH($E$2,BX9)),"",BX9) | CA9: =IF(ISERROR(VLOOKUP(SMALL(BY:BY,ROW()-1),BY:BZ,2,0)),"",VLOOKUP(SMALL(BY:BY,ROW()-1),BY:BZ,2,0)) | CC9: ='Export polyvalence'!S42 -> Act 8 | CD9: =IF(CE9<>"",MAX($B$1:CD8)+1,"") -> 8 | CE9: =IF(ISERROR(SEARCH($E$2,CC9)),"",CC9) -> Act 8 | CF9: =IF(ISERROR(VLOOKUP(SMALL(CD:CD,ROW()-1),CD:CE,2,0)),"",VLOOKUP(SMALL(CD:CD,ROW()-1),CD:CE,2,0)) -> Act 8 | CH9: ='Export polyvalence'!T42 -> Act 8 | CI9: =IF(CJ9<>"",MAX($B$1:CI8)+1,"") -> 8 | CJ9: =IF(ISERROR(SEARCH($E$2,CH9)),"",CH9) -> Act 8 | CK9: =IF(ISERROR(VLOOKUP(SMALL(CI:CI,ROW()-1),CI:CJ,2,0)),"",VLOOKUP(SMALL(CI:CI,ROW()-1),CI:CJ,2,0)) | CM9: ='Export polyvalence'!U42 | CN9: =IF(CO9<>"",MAX($B$1:CN8)+1,"") | CO9: =IF(ISERROR(SEARCH($E$2,CM9)),"",CM9) | CP9: =IF(ISERROR(VLOOKUP(SMALL(CN:CN,ROW()-1),CN:CO,2,0)),"",VLOOKUP(SMALL(CN:CN,ROW()-1),CN:CO,2,0)) | CR9: ='Export polyvalence'!V42 | CS9: =IF(CT9<>"",MAX($B$1:CS8)+1,"") | CT9: =IF(ISERROR(SEARCH($E$2,CR9)),"",CR9) | CU9: =IF(ISERROR(VLOOKUP(SMALL(CS:CS,ROW()-1),CS:CT,2,0)),"",VLOOKUP(SMALL(CS:CS,ROW()-1),CS:CT,2,0)) | CW9: ='Export polyvalence'!W42 -> Act 8 | CX9: =IF(CY9<>"",MAX($B$1:CX8)+1,"") -> 8 | CY9: =IF(ISERROR(SEARCH($E$2,CW9)),"",CW9) -> Act 8 | CZ9: =IF(ISERROR(VLOOKUP(SMALL(CX:CX,ROW()-1),CX:CY,2,0)),"",VLOOKUP(SMALL(CX:CX,ROW()-1),CX:CY,2,0)) | DB9: ='Export polyvalence'!X42 | DC9: =IF(DD9<>"",MAX($B$1:DC8)+1,"") | DD9: =IF(ISERROR(SEARCH($E$2,DB9)),"",DB9) | DE9: =IF(ISERROR(VLOOKUP(SMALL(DC:DC,ROW()-1),DC:DD,2,0)),"",VLOOKUP(SMALL(DC:DC,ROW()-1),DC:DD,2,0)) | DG9: ='Export polyvalence'!Y42 | DH9: =IF(DI9<>"",MAX($B$1:DH8)+1,"") | DI9: =IF(ISERROR(SEARCH($E$2,DG9)),"",DG9) | DJ9: =IF(ISERROR(VLOOKUP(SMALL(DH:DH,ROW()-1),DH:DI,2,0)),"",VLOOKUP(SMALL(DH:DH,ROW()-1),DH:DI,2,0)) | DL9: ='Export polyvalence'!Z42 -> Act 8 | DM9: =IF(DN9<>"",MAX($B$1:DM8)+1,"") -> 8 | DN9: =IF(ISERROR(SEARCH($E$2,DL9)),"",DL9) -> Act 8 | DO9: =IF(ISERROR(VLOOKUP(SMALL(DM:DM,ROW()-1),DM:DN,2,0)),"",VLOOKUP(SMALL(DM:DM,ROW()-1),DM:DN,2,0)) -> Act 8 | DQ9: ='Export polyvalence'!AA42 -> 0 | DR9: =IF(DS9<>"",MAX($B$1:DR8)+1,"") -> 8 | DS9: =IF(ISERROR(SEARCH($E$2,DQ9)),"",DQ9) -> 0 | DT9: =IF(ISERROR(VLOOKUP(SMALL(DR:DR,ROW()-1),DR:DS,2,0)),"",VLOOKUP(SMALL(DR:DR,ROW()-1),DR:DS,2,0)) -> 0 | DV9: ='Export polyvalence'!AJ42 -> 0 | DW9: =IF(DX9<>"",MAX($B$1:DW8)+1,"") -> 8 | DX9: =IF(ISERROR(SEARCH($E$2,DV9)),"",DV9) -> 0 | DY9: =IF(ISERROR(VLOOKUP(SMALL(DW:DW,ROW()-1),DW:DX,2,0)),"",VLOOKUP(SMALL(DW:DW,ROW()-1),DW:DX,2,0)) -> 0
A10: ='Export polyvalence'!C43 -> Act 9 | B10: =IF(C10<>"",MAX($B$1:B9)+1,"") -> 9 | C10: =IF(ISERROR(SEARCH($E$2,A10)),"",A10) -> Act 9 | D10: =IF(ISERROR(VLOOKUP(SMALL(B:B,ROW()-1),B:C,2,0)),"",VLOOKUP(SMALL(B:B,ROW()-1),B:C,2,0)) -> Act 9 | F10: ='Export polyvalence'!D43 -> Act 9(2) | G10: =IF(H10<>"",MAX($B$1:G9)+1,"") -> 9 | H10: =IF(ISERROR(SEARCH($E$2,F10)),"",F10) -> Act 9(2) | I10: =IF(ISERROR(VLOOKUP(SMALL(G:G,ROW()-1),G:H,2,0)),"",VLOOKUP(SMALL(G:G,ROW()-1),G:H,2,0)) | K10: ='Export polyvalence'!E43 -> Act 9 | L10: =IF(M10<>"",MAX($B$1:L9)+1,"") -> 9 | M10: =IF(ISERROR(SEARCH($E$2,K10)),"",K10) -> Act 9 | N10: =IF(ISERROR(VLOOKUP(SMALL(L:L,ROW()-1),L:M,2,0)),"",VLOOKUP(SMALL(L:L,ROW()-1),L:M,2,0)) -> Act 9 | P10: ='Export polyvalence'!F43 -> Act 9 | Q10: =IF(R10<>"",MAX($B$1:Q9)+1,"") -> 9 | R10: =IF(ISERROR(SEARCH($E$2,P10)),"",P10) -> Act 9 | S10: =IF(ISERROR(VLOOKUP(SMALL(Q:Q,ROW()-1),Q:R,2,0)),"",VLOOKUP(SMALL(Q:Q,ROW()-1),Q:R,2,0)) -> Act 9 | U10: ='Export polyvalence'!G43 -> Act 9(2) | V10: =IF(W10<>"",MAX($B$1:V9)+1,"") -> 9 | W10: =IF(ISERROR(SEARCH($E$2,U10)),"",U10) -> Act 9(2) | X10: =IF(ISERROR(VLOOKUP(SMALL(V:V,ROW()-1),V:W,2,0)),"",VLOOKUP(SMALL(V:V,ROW()-1),V:W,2,0)) | Z10: ='Export polyvalence'!H43 | AA10: =IF(AB10<>"",MAX($B$1:AA9)+1,"") | AB10: =IF(ISERROR(SEARCH($E$2,Z10)),"",Z10) | AC10: =IF(ISERROR(VLOOKUP(SMALL(AA:AA,ROW()-1),AA:AB,2,0)),"",VLOOKUP(SMALL(AA:AA,ROW()-1),AA:AB,2,0)) | AE10: ='Export polyvalence'!I43 | AF10: =IF(AG10<>"",MAX($B$1:AF9)+1,"") | AG10: =IF(ISERROR(SEARCH($E$2,AE10)),"",AE10) | AH10: =IF(ISERROR(VLOOKUP(SMALL(AF:AF,ROW()-1),AF:AG,2,0)),"",VLOOKUP(SMALL(AF:AF,ROW()-1),AF:AG,2,0)) | AJ10: ='Export polyvalence'!J43 | AK10: =IF(AL10<>"",MAX($B$1:AK9)+1,"") | AL10: =IF(ISERROR(SEARCH($E$2,AJ10)),"",AJ10) | AM10: =IF(ISERROR(VLOOKUP(SMALL(AK:AK,ROW()-1),AK:AL,2,0)),"",VLOOKUP(SMALL(AK:AK,ROW()-1),AK:AL,2,0)) | AO10: ='Export polyvalence'!K43 -> Act 9(2) | AP10: =IF(AQ10<>"",MAX($B$1:AP9)+1,"") -> 9 | AQ10: =IF(ISERROR(SEARCH($E$2,AO10)),"",AO10) -> Act 9(2) | AR10: =IF(ISERROR(VLOOKUP(SMALL(AP:AP,ROW()-1),AP:AQ,2,0)),"",VLOOKUP(SMALL(AP:AP,ROW()-1),AP:AQ,2,0)) | AT10: ='Export polyvalence'!L43 -> Act 9(2) | AU10: =IF(AV10<>"",MAX($B$1:AU9)+1,"") -> 9 | AV10: =IF(ISERROR(SEARCH($E$2,AT10)),"",AT10) -> Act 9(2) | AW10: =IF(ISERROR(VLOOKUP(SMALL(AU:AU,ROW()-1),AU:AV,2,0)),"",VLOOKUP(SMALL(AU:AU,ROW()-1),AU:AV,2,0)) | AY10: ='Export polyvalence'!M43 | AZ10: =IF(BA10<>"",MAX($B$1:AZ9)+1,"") | BA10: =IF(ISERROR(SEARCH($E$2,AY10)),"",AY10) | BB10: =IF(ISERROR(VLOOKUP(SMALL(AZ:AZ,ROW()-1),AZ:BA,2,0)),"",VLOOKUP(SMALL(AZ:AZ,ROW()-1),AZ:BA,2,0)) | BD10: ='Export polyvalence'!N43 | BE10: =IF(BF10<>"",MAX($B$1:BE9)+1,"") | BF10: =IF(ISERROR(SEARCH($E$2,BD10)),"",BD10) | BG10: =IF(ISERROR(VLOOKUP(SMALL(BE:BE,ROW()-1),BE:BF,2,0)),"",VLOOKUP(SMALL(BE:BE,ROW()-1),BE:BF,2,0)) | BI10: ='Export polyvalence'!O43 | BJ10: =IF(BK10<>"",MAX($B$1:BJ9)+1,"") | BK10: =IF(ISERROR(SEARCH($E$2,BI10)),"",BI10) | BL10: =IF(ISERROR(VLOOKUP(SMALL(BJ:BJ,ROW()-1),BJ:BK,2,0)),"",VLOOKUP(SMALL(BJ:BJ,ROW()-1),BJ:BK,2,0)) | BN10: ='Export polyvalence'!P43 | BO10: =IF(BP10<>"",MAX($B$1:BO9)+1,"") | BP10: =IF(ISERROR(SEARCH($E$2,BN10)),"",BN10) | BQ10: =IF(ISERROR(VLOOKUP(SMALL(BO:BO,ROW()-1),BO:BP,2,0)),"",VLOOKUP(SMALL(BO:BO,ROW()-1),BO:BP,2,0)) | BS10: ='Export polyvalence'!Q43 -> Act 9(2) | BT10: =IF(BU10<>"",MAX($B$1:BT9)+1,"") -> 9 | BU10: =IF(ISERROR(SEARCH($E$2,BS10)),"",BS10) -> Act 9(2) | BV10: =IF(ISERROR(VLOOKUP(SMALL(BT:BT,ROW()-1),BT:BU,2,0)),"",VLOOKUP(SMALL(BT:BT,ROW()-1),BT:BU,2,0)) | BX10: ='Export polyvalence'!R43 | BY10: =IF(BZ10<>"",MAX($B$1:BY9)+1,"") | BZ10: =IF(ISERROR(SEARCH($E$2,BX10)),"",BX10) | CA10: =IF(ISERROR(VLOOKUP(SMALL(BY:BY,ROW()-1),BY:BZ,2,0)),"",VLOOKUP(SMALL(BY:BY,ROW()-1),BY:BZ,2,0)) | CC10: ='Export polyvalence'!S43 -> Act 9 | CD10: =IF(CE10<>"",MAX($B$1:CD9)+1,"") -> 9 | CE10: =IF(ISERROR(SEARCH($E$2,CC10)),"",CC10) -> Act 9 | CF10: =IF(ISERROR(VLOOKUP(SMALL(CD:CD,ROW()-1),CD:CE,2,0)),"",VLOOKUP(SMALL(CD:CD,ROW()-1),CD:CE,2,0)) -> Act 9 | CH10: ='Export polyvalence'!T43 | CI10: =IF(CJ10<>"",MAX($B$1:CI9)+1,"") | CJ10: =IF(ISERROR(SEARCH($E$2,CH10)),"",CH10) | CK10: =IF(ISERROR(VLOOKUP(SMALL(CI:CI,ROW()-1),CI:CJ,2,0)),"",VLOOKUP(SMALL(CI:CI,ROW()-1),CI:CJ,2,0)) | CM10: ='Export polyvalence'!U43 | CN10: =IF(CO10<>"",MAX($B$1:CN9)+1,"") | CO10: =IF(ISERROR(SEARCH($E$2,CM10)),"",CM10) | CP10: =IF(ISERROR(VLOOKUP(SMALL(CN:CN,ROW()-1),CN:CO,2,0)),"",VLOOKUP(SMALL(CN:CN,ROW()-1),CN:CO,2,0)) | CR10: ='Export polyvalence'!V43 | CS10: =IF(CT10<>"",MAX($B$1:CS9)+1,"") | CT10: =IF(ISERROR(SEARCH($E$2,CR10)),"",CR10) | CU10: =IF(ISERROR(VLOOKUP(SMALL(CS:CS,ROW()-1),CS:CT,2,0)),"",VLOOKUP(SMALL(CS:CS,ROW()-1),CS:CT,2,0)) | CW10: ='Export polyvalence'!W43 | CX10: =IF(CY10<>"",MAX($B$1:CX9)+1,"") | CY10: =IF(ISERROR(SEARCH($E$2,CW10)),"",CW10) | CZ10: =IF(ISERROR(VLOOKUP(SMALL(CX:CX,ROW()-1),CX:CY,2,0)),"",VLOOKUP(SMALL(CX:CX,ROW()-1),CX:CY,2,0)) | DB10: ='Export polyvalence'!X43 | DC10: =IF(DD10<>"",MAX($B$1:DC9)+1,"") | DD10: =IF(ISERROR(SEARCH($E$2,DB10)),"",DB10) | DE10: =IF(ISERROR(VLOOKUP(SMALL(DC:DC,ROW()-1),DC:DD,2,0)),"",VLOOKUP(SMALL(DC:DC,ROW()-1),DC:DD,2,0)) | DG10: ='Export polyvalence'!Y43 | DH10: =IF(DI10<>"",MAX($B$1:DH9)+1,"") | DI10: =IF(ISERROR(SEARCH($E$2,DG10)),"",DG10) | DJ10: =IF(ISERROR(VLOOKUP(SMALL(DH:DH,ROW()-1),DH:DI,2,0)),"",VLOOKUP(SMALL(DH:DH,ROW()-1),DH:DI,2,0)) | DL10: ='Export polyvalence'!Z43 -> Act 9(2) | DM10: =IF(DN10<>"",MAX($B$1:DM9)+1,"") -> 9 | DN10: =IF(ISERROR(SEARCH($E$2,DL10)),"",DL10) -> Act 9(2) | DO10: =IF(ISERROR(VLOOKUP(SMALL(DM:DM,ROW()-1),DM:DN,2,0)),"",VLOOKUP(SMALL(DM:DM,ROW()-1),DM:DN,2,0)) -> Act 9(2) | DQ10: ='Export polyvalence'!AA43 -> 0 | DR10: =IF(DS10<>"",MAX($B$1:DR9)+1,"") -> 9 | DS10: =IF(ISERROR(SEARCH($E$2,DQ10)),"",DQ10) -> 0 | DT10: =IF(ISERROR(VLOOKUP(SMALL(DR:DR,ROW()-1),DR:DS,2,0)),"",VLOOKUP(SMALL(DR:DR,ROW()-1),DR:DS,2,0)) -> 0 | DV10: ='Export polyvalence'!AJ43 -> 0 | DW10: =IF(DX10<>"",MAX($B$1:DW9)+1,"") -> 9 | DX10: =IF(ISERROR(SEARCH($E$2,DV10)),"",DV10) -> 0 | DY10: =IF(ISERROR(VLOOKUP(SMALL(DW:DW,ROW()-1),DW:DX,2,0)),"",VLOOKUP(SMALL(DW:DW,ROW()-1),DW:DX,2,0)) -> 0
A11: ='Export polyvalence'!C44 -> Act 10 | B11: =IF(C11<>"",MAX($B$1:B10)+1,"") -> 10 | C11: =IF(ISERROR(SEARCH($E$2,A11)),"",A11) -> Act 10 | D11: =IF(ISERROR(VLOOKUP(SMALL(B:B,ROW()-1),B:C,2,0)),"",VLOOKUP(SMALL(B:B,ROW()-1),B:C,2,0)) -> Act 10 | F11: ='Export polyvalence'!D44 | G11: =IF(H11<>"",MAX($B$1:G10)+1,"") | H11: =IF(ISERROR(SEARCH($E$2,F11)),"",F11) | I11: =IF(ISERROR(VLOOKUP(SMALL(G:G,ROW()-1),G:H,2,0)),"",VLOOKUP(SMALL(G:G,ROW()-1),G:H,2,0)) | K11: ='Export polyvalence'!E44 -> Act 10 | L11: =IF(M11<>"",MAX($B$1:L10)+1,"") -> 10 | M11: =IF(ISERROR(SEARCH($E$2,K11)),"",K11) -> Act 10 | N11: =IF(ISERROR(VLOOKUP(SMALL(L:L,ROW()-1),L:M,2,0)),"",VLOOKUP(SMALL(L:L,ROW()-1),L:M,2,0)) -> Act 10 | P11: ='Export polyvalence'!F44 -> Act 10(2) | Q11: =IF(R11<>"",MAX($B$1:Q10)+1,"") -> 10 | R11: =IF(ISERROR(SEARCH($E$2,P11)),"",P11) -> Act 10(2) | S11: =IF(ISERROR(VLOOKUP(SMALL(Q:Q,ROW()-1),Q:R,2,0)),"",VLOOKUP(SMALL(Q:Q,ROW()-1),Q:R,2,0)) -> Act 10(2) | U11: ='Export polyvalence'!G44 -> Act 10(2) | V11: =IF(W11<>"",MAX($B$1:V10)+1,"") -> 10 | W11: =IF(ISERROR(SEARCH($E$2,U11)),"",U11) -> Act 10(2) | X11: =IF(ISERROR(VLOOKUP(SMALL(V:V,ROW()-1),V:W,2,0)),"",VLOOKUP(SMALL(V:V,ROW()-1),V:W,2,0)) | Z11: ='Export polyvalence'!H44 | AA11: =IF(AB11<>"",MAX($B$1:AA10)+1,"") | AB11: =IF(ISERROR(SEARCH($E$2,Z11)),"",Z11) | AC11: =IF(ISERROR(VLOOKUP(SMALL(AA:AA,ROW()-1),AA:AB,2,0)),"",VLOOKUP(SMALL(AA:AA,ROW()-1),AA:AB,2,0)) | AE11: ='Export polyvalence'!I44 | AF11: =IF(AG11<>"",MAX($B$1:AF10)+1,"") | AG11: =IF(ISERROR(SEARCH($E$2,AE11)),"",AE11) | AH11: =IF(ISERROR(VLOOKUP(SMALL(AF:AF,ROW()-1),AF:AG,2,0)),"",VLOOKUP(SMALL(AF:AF,ROW()-1),AF:AG,2,0)) | AJ11: ='Export polyvalence'!J44 | AK11: =IF(AL11<>"",MAX($B$1:AK10)+1,"") | AL11: =IF(ISERROR(SEARCH($E$2,AJ11)),"",AJ11) | AM11: =IF(ISERROR(VLOOKUP(SMALL(AK:AK,ROW()-1),AK:AL,2,0)),"",VLOOKUP(SMALL(AK:AK,ROW()-1),AK:AL,2,0)) | AO11: ='Export polyvalence'!K44 | AP11: =IF(AQ11<>"",MAX($B$1:AP10)+1,"") | AQ11: =IF(ISERROR(SEARCH($E$2,AO11)),"",AO11) | AR11: =IF(ISERROR(VLOOKUP(SMALL(AP:AP,ROW()-1),AP:AQ,2,0)),"",VLOOKUP(SMALL(AP:AP,ROW()-1),AP:AQ,2,0)) | AT11: ='Export polyvalence'!L44 | AU11: =IF(AV11<>"",MAX($B$1:AU10)+1,"") | AV11: =IF(ISERROR(SEARCH($E$2,AT11)),"",AT11) | AW11: =IF(ISERROR(VLOOKUP(SMALL(AU:AU,ROW()-1),AU:AV,2,0)),"",VLOOKUP(SMALL(AU:AU,ROW()-1),AU:AV,2,0)) | AY11: ='Export polyvalence'!M44 | AZ11: =IF(BA11<>"",MAX($B$1:AZ10)+1,"") | BA11: =IF(ISERROR(SEARCH($E$2,AY11)),"",AY11) | BB11: =IF(ISERROR(VLOOKUP(SMALL(AZ:AZ,ROW()-1),AZ:BA,2,0)),"",VLOOKUP(SMALL(AZ:AZ,ROW()-1),AZ:BA,2,0)) | BD11: ='Export polyvalence'!N44 | BE11: =IF(BF11<>"",MAX($B$1:BE10)+1,"") | BF11: =IF(ISERROR(SEARCH($E$2,BD11)),"",BD11) | BG11: =IF(ISERROR(VLOOKUP(SMALL(BE:BE,ROW()-1),BE:BF,2,0)),"",VLOOKUP(SMALL(BE:BE,ROW()-1),BE:BF,2,0)) | BI11: ='Export polyvalence'!O44 | BJ11: =IF(BK11<>"",MAX($B$1:BJ10)+1,"") | BK11: =IF(ISERROR(SEARCH($E$2,BI11)),"",BI11) | BL11: =IF(ISERROR(VLOOKUP(SMALL(BJ:BJ,ROW()-1),BJ:BK,2,0)),"",VLOOKUP(SMALL(BJ:BJ,ROW()-1),BJ:BK,2,0)) | BN11: ='Export polyvalence'!P44 | BO11: =IF(BP11<>"",MAX($B$1:BO10)+1,"") | BP11: =IF(ISERROR(SEARCH($E$2,BN11)),"",BN11) | BQ11: =IF(ISERROR(VLOOKUP(SMALL(BO:BO,ROW()-1),BO:BP,2,0)),"",VLOOKUP(SMALL(BO:BO,ROW()-1),BO:BP,2,0)) | BS11: ='Export polyvalence'!Q44 -> Act 10(2) | BT11: =IF(BU11<>"",MAX($B$1:BT10)+1,"") -> 10 | BU11: =IF(ISERROR(SEARCH($E$2,BS11)),"",BS11) -> Act 10(2) | BV11: =IF(ISERROR(VLOOKUP(SMALL(BT:BT,ROW()-1),BT:BU,2,0)),"",VLOOKUP(SMALL(BT:BT,ROW()-1),BT:BU,2,0)) | BX11: ='Export polyvalence'!R44 | BY11: =IF(BZ11<>"",MAX($B$1:BY10)+1,"") | BZ11: =IF(ISERROR(SEARCH($E$2,BX11)),"",BX11) | CA11: =IF(ISERROR(VLOOKUP(SMALL(BY:BY,ROW()-1),BY:BZ,2,0)),"",VLOOKUP(SMALL(BY:BY,ROW()-1),BY:BZ,2,0)) | CC11: ='Export polyvalence'!S44 -> Act 10 | CD11: =IF(CE11<>"",MAX($B$1:CD10)+1,"") -> 10 | CE11: =IF(ISERROR(SEARCH($E$2,CC11)),"",CC11) -> Act 10 | CF11: =IF(ISERROR(VLOOKUP(SMALL(CD:CD,ROW()-1),CD:CE,2,0)),"",VLOOKUP(SMALL(CD:CD,ROW()-1),CD:CE,2,0)) -> Act 10 | CH11: ='Export polyvalence'!T44 | CI11: =IF(CJ11<>"",MAX($B$1:CI10)+1,"") | CJ11: =IF(ISERROR(SEARCH($E$2,CH11)),"",CH11) | CK11: =IF(ISERROR(VLOOKUP(SMALL(CI:CI,ROW()-1),CI:CJ,2,0)),"",VLOOKUP(SMALL(CI:CI,ROW()-1),CI:CJ,2,0)) | CM11: ='Export polyvalence'!U44 | CN11: =IF(CO11<>"",MAX($B$1:CN10)+1,"") | CO11: =IF(ISERROR(SEARCH($E$2,CM11)),"",CM11) | CP11: =IF(ISERROR(VLOOKUP(SMALL(CN:CN,ROW()-1),CN:CO,2,0)),"",VLOOKUP(SMALL(CN:CN,ROW()-1),CN:CO,2,0)) | CR11: ='Export polyvalence'!V44 | CS11: =IF(CT11<>"",MAX($B$1:CS10)+1,"") | CT11: =IF(ISERROR(SEARCH($E$2,CR11)),"",CR11) | CU11: =IF(ISERROR(VLOOKUP(SMALL(CS:CS,ROW()-1),CS:CT,2,0)),"",VLOOKUP(SMALL(CS:CS,ROW()-1),CS:CT,2,0)) | CW11: ='Export polyvalence'!W44 | CX11: =IF(CY11<>"",MAX($B$1:CX10)+1,"") | CY11: =IF(ISERROR(SEARCH($E$2,CW11)),"",CW11) | CZ11: =IF(ISERROR(VLOOKUP(SMALL(CX:CX,ROW()-1),CX:CY,2,0)),"",VLOOKUP(SMALL(CX:CX,ROW()-1),CX:CY,2,0)) | DB11: ='Export polyvalence'!X44 | DC11: =IF(DD11<>"",MAX($B$1:DC10)+1,"") | DD11: =IF(ISERROR(SEARCH($E$2,DB11)),"",DB11) | DE11: =IF(ISERROR(VLOOKUP(SMALL(DC:DC,ROW()-1),DC:DD,2,0)),"",VLOOKUP(SMALL(DC:DC,ROW()-1),DC:DD,2,0)) | DG11: ='Export polyvalence'!Y44 | DH11: =IF(DI11<>"",MAX($B$1:DH10)+1,"") | DI11: =IF(ISERROR(SEARCH($E$2,DG11)),"",DG11) | DJ11: =IF(ISERROR(VLOOKUP(SMALL(DH:DH,ROW()-1),DH:DI,2,0)),"",VLOOKUP(SMALL(DH:DH,ROW()-1),DH:DI,2,0)) | DL11: ='Export polyvalence'!Z44 -> Act 10 | DM11: =IF(DN11<>"",MAX($B$1:DM10)+1,"") -> 10 | DN11: =IF(ISERROR(SEARCH($E$2,DL11)),"",DL11) -> Act 10 | DO11: =IF(ISERROR(VLOOKUP(SMALL(DM:DM,ROW()-1),DM:DN,2,0)),"",VLOOKUP(SMALL(DM:DM,ROW()-1),DM:DN,2,0)) -> Act 10 | DQ11: ='Export polyvalence'!AA44 -> 0 | DR11: =IF(DS11<>"",MAX($B$1:DR10)+1,"") -> 10 | DS11: =IF(ISERROR(SEARCH($E$2,DQ11)),"",DQ11) -> 0 | DT11: =IF(ISERROR(VLOOKUP(SMALL(DR:DR,ROW()-1),DR:DS,2,0)),"",VLOOKUP(SMALL(DR:DR,ROW()-1),DR:DS,2,0)) -> 0 | DV11: ='Export polyvalence'!AJ44 -> 0 | DW11: =IF(DX11<>"",MAX($B$1:DW10)+1,"") -> 10 | DX11: =IF(ISERROR(SEARCH($E$2,DV11)),"",DV11) -> 0 | DY11: =IF(ISERROR(VLOOKUP(SMALL(DW:DW,ROW()-1),DW:DX,2,0)),"",VLOOKUP(SMALL(DW:DW,ROW()-1),DW:DX,2,0)) -> 0
A12: ='Export polyvalence'!C45 -> Act 11 | D12: =IF(ISERROR(VLOOKUP(SMALL(B:B,ROW()-1),B:C,2,0)),"",VLOOKUP(SMALL(B:B,ROW()-1),B:C,2,0)) | F12: ='Export polyvalence'!D45 -> Act 11 | I12: =IF(ISERROR(VLOOKUP(SMALL(G:G,ROW()-1),G:H,2,0)),"",VLOOKUP(SMALL(G:G,ROW()-1),G:H,2,0)) | K12: ='Export polyvalence'!E45 -> Act 11 | N12: =IF(ISERROR(VLOOKUP(SMALL(L:L,ROW()-1),L:M,2,0)),"",VLOOKUP(SMALL(L:L,ROW()-1),L:M,2,0)) | P12: ='Export polyvalence'!F45 -> Act 11 | S12: =IF(ISERROR(VLOOKUP(SMALL(Q:Q,ROW()-1),Q:R,2,0)),"",VLOOKUP(SMALL(Q:Q,ROW()-1),Q:R,2,0)) | U12: ='Export polyvalence'!G45 -> Act 11 | X12: =IF(ISERROR(VLOOKUP(SMALL(V:V,ROW()-1),V:W,2,0)),"",VLOOKUP(SMALL(V:V,ROW()-1),V:W,2,0)) | Z12: ='Export polyvalence'!H45 | AC12: =IF(ISERROR(VLOOKUP(SMALL(AA:AA,ROW()-1),AA:AB,2,0)),"",VLOOKUP(SMALL(AA:AA,ROW()-1),AA:AB,2,0)) | AE12: ='Export polyvalence'!I45 | AH12: =IF(ISERROR(VLOOKUP(SMALL(AF:AF,ROW()-1),AF:AG,2,0)),"",VLOOKUP(SMALL(AF:AF,ROW()-1),AF:AG,2,0)) | AJ12: ='Export polyvalence'!J45 | AM12: =IF(ISERROR(VLOOKUP(SMALL(AK:AK,ROW()-1),AK:AL,2,0)),"",VLOOKUP(SMALL(AK:AK,ROW()-1),AK:AL,2,0)) | AO12: ='Export polyvalence'!K45 -> Act 11 | AR12: =IF(ISERROR(VLOOKUP(SMALL(AP:AP,ROW()-1),AP:AQ,2,0)),"",VLOOKUP(SMALL(AP:AP,ROW()-1),AP:AQ,2,0)) | AT12: ='Export polyvalence'!L45 -> Act 11 | AW12: =IF(ISERROR(VLOOKUP(SMALL(AU:AU,ROW()-1),AU:AV,2,0)),"",VLOOKUP(SMALL(AU:AU,ROW()-1),AU:AV,2,0)) | AY12: ='Export polyvalence'!M45 | BB12: =IF(ISERROR(VLOOKUP(SMALL(AZ:AZ,ROW()-1),AZ:BA,2,0)),"",VLOOKUP(SMALL(AZ:AZ,ROW()-1),AZ:BA,2,0)) | BD12: ='Export polyvalence'!N45 | BG12: =IF(ISERROR(VLOOKUP(SMALL(BE:BE,ROW()-1),BE:BF,2,0)),"",VLOOKUP(SMALL(BE:BE,ROW()-1),BE:BF,2,0)) | BI12: ='Export polyvalence'!O45 | BL12: =IF(ISERROR(VLOOKUP(SMALL(BJ:BJ,ROW()-1),BJ:BK,2,0)),"",VLOOKUP(SMALL(BJ:BJ,ROW()-1),BJ:BK,2,0)) | BN12: ='Export polyvalence'!P45 | BQ12: =IF(ISERROR(VLOOKUP(SMALL(BO:BO,ROW()-1),BO:BP,2,0)),"",VLOOKUP(SMALL(BO:BO,ROW()-1),BO:BP,2,0)) | BS12: ='Export polyvalence'!Q45 -> Act 11 | BV12: =IF(ISERROR(VLOOKUP(SMALL(BT:BT,ROW()-1),BT:BU,2,0)),"",VLOOKUP(SMALL(BT:BT,ROW()-1),BT:BU,2,0)) | BX12: ='Export polyvalence'!R45 | CA12: =IF(ISERROR(VLOOKUP(SMALL(BY:BY,ROW()-1),BY:BZ,2,0)),"",VLOOKUP(SMALL(BY:BY,ROW()-1),BY:BZ,2,0)) | CC12: ='Export polyvalence'!S45 -> Act 11 | CF12: =IF(ISERROR(VLOOKUP(SMALL(CD:CD,ROW()-1),CD:CE,2,0)),"",VLOOKUP(SMALL(CD:CD,ROW()-1),CD:CE,2,0)) | CH12: ='Export polyvalence'!T45 -> Act 11 | CK12: =IF(ISERROR(VLOOKUP(SMALL(CI:CI,ROW()-1),CI:CJ,2,0)),"",VLOOKUP(SMALL(CI:CI,ROW()-1),CI:CJ,2,0)) | CM12: ='Export polyvalence'!U45 | CP12: =IF(ISERROR(VLOOKUP(SMALL(CN:CN,ROW()-1),CN:CO,2,0)),"",VLOOKUP(SMALL(CN:CN,ROW()-1),CN:CO,2,0)) | CR12: ='Export polyvalence'!V45 | CU12: =IF(ISERROR(VLOOKUP(SMALL(CS:CS,ROW()-1),CS:CT,2,0)),"",VLOOKUP(SMALL(CS:CS,ROW()-1),CS:CT,2,0)) | CW12: ='Export polyvalence'!W45 -> Act 11 | CZ12: =IF(ISERROR(VLOOKUP(SMALL(CX:CX,ROW()-1),CX:CY,2,0)),"",VLOOKUP(SMALL(CX:CX,ROW()-1),CX:CY,2,0)) | DB12: ='Export polyvalence'!X45 | DE12: =IF(ISERROR(VLOOKUP(SMALL(DC:DC,ROW()-1),DC:DD,2,0)),"",VLOOKUP(SMALL(DC:DC,ROW()-1),DC:DD,2,0)) | DG12: ='Export polyvalence'!Y45 | DJ12: =IF(ISERROR(VLOOKUP(SMALL(DH:DH,ROW()-1),DH:DI,2,0)),"",VLOOKUP(SMALL(DH:DH,ROW()-1),DH:DI,2,0)) | DL12: ='Export polyvalence'!Z45 -> Act 11 | DO12: =IF(ISERROR(VLOOKUP(SMALL(DM:DM,ROW()-1),DM:DN,2,0)),"",VLOOKUP(SMALL(DM:DM,ROW()-1),DM:DN,2,0)) | DQ12: ='Export polyvalence'!AA45 -> 0 | DT12: =IF(ISERROR(VLOOKUP(SMALL(DR:DR,ROW()-1),DR:DS,2,0)),"",VLOOKUP(SMALL(DR:DR,ROW()-1),DR:DS,2,0)) -> 0 | DV12: ='Export polyvalence'!AJ45 -> 0 | DY12: =IF(ISERROR(VLOOKUP(SMALL(DW:DW,ROW()-1),DW:DX,2,0)),"",VLOOKUP(SMALL(DW:DW,ROW()-1),DW:DX,2,0))
B13: =IF(C13<>"",MAX($B$1:B12)+1,"") | C13: =IF(ISERROR(SEARCH($E$2,A13)),"",A13) | D13: =IF(ISERROR(VLOOKUP(SMALL(B:B,ROW()-1),B:C,2,0)),"",VLOOKUP(SMALL(B:B,ROW()-1),B:C,2,0)) | G13: =IF(H13<>"",MAX($B$1:G12)+1,"") | H13: =IF(ISERROR(SEARCH($E$2,F13)),"",F13) | I13: =IF(ISERROR(VLOOKUP(SMALL(G:G,ROW()-1),G:H,2,0)),"",VLOOKUP(SMALL(G:G,ROW()-1),G:H,2,0)) | L13: =IF(M13<>"",MAX($B$1:L12)+1,"") | M13: =IF(ISERROR(SEARCH($E$2,K13)),"",K13) | N13: =IF(ISERROR(VLOOKUP(SMALL(L:L,ROW()-1),L:M,2,0)),"",VLOOKUP(SMALL(L:L,ROW()-1),L:M,2,0)) | Q13: =IF(R13<>"",MAX($B$1:Q12)+1,"") | R13: =IF(ISERROR(SEARCH($E$2,P13)),"",P13) | S13: =IF(ISERROR(VLOOKUP(SMALL(Q:Q,ROW()-1),Q:R,2,0)),"",VLOOKUP(SMALL(Q:Q,ROW()-1),Q:R,2,0)) | V13: =IF(W13<>"",MAX($B$1:V12)+1,"") | W13: =IF(ISERROR(SEARCH($E$2,U13)),"",U13) | X13: =IF(ISERROR(VLOOKUP(SMALL(V:V,ROW()-1),V:W,2,0)),"",VLOOKUP(SMALL(V:V,ROW()-1),V:W,2,0)) | AA13: =IF(AB13<>"",MAX($B$1:AA12)+1,"") | AB13: =IF(ISERROR(SEARCH($E$2,Z13)),"",Z13) | AC13: =IF(ISERROR(VLOOKUP(SMALL(AA:AA,ROW()-1),AA:AB,2,0)),"",VLOOKUP(SMALL(AA:AA,ROW()-1),AA:AB,2,0)) | AF13: =IF(AG13<>"",MAX($B$1:AF12)+1,"") | AG13: =IF(ISERROR(SEARCH($E$2,AE13)),"",AE13) | AH13: =IF(ISERROR(VLOOKUP(SMALL(AF:AF,ROW()-1),AF:AG,2,0)),"",VLOOKUP(SMALL(AF:AF,ROW()-1),AF:AG,2,0)) | AK13: =IF(AL13<>"",MAX($B$1:AK12)+1,"") | AL13: =IF(ISERROR(SEARCH($E$2,AJ13)),"",AJ13) | AM13: =IF(ISERROR(VLOOKUP(SMALL(AK:AK,ROW()-1),AK:AL,2,0)),"",VLOOKUP(SMALL(AK:AK,ROW()-1),AK:AL,2,0)) | AP13: =IF(AQ13<>"",MAX($B$1:AP12)+1,"") | AQ13: =IF(ISERROR(SEARCH($E$2,AO13)),"",AO13) | AR13: =IF(ISERROR(VLOOKUP(SMALL(AP:AP,ROW()-1),AP:AQ,2,0)),"",VLOOKUP(SMALL(AP:AP,ROW()-1),AP:AQ,2,0)) | AU13: =IF(AV13<>"",MAX($B$1:AU12)+1,"") | AV13: =IF(ISERROR(SEARCH($E$2,AT13)),"",AT13) | AW13: =IF(ISERROR(VLOOKUP(SMALL(AU:AU,ROW()-1),AU:AV,2,0)),"",VLOOKUP(SMALL(AU:AU,ROW()-1),AU:AV,2,0)) | AZ13: =IF(BA13<>"",MAX($B$1:AZ12)+1,"") | BA13: =IF(ISERROR(SEARCH($E$2,AY13)),"",AY13) | BB13: =IF(ISERROR(VLOOKUP(SMALL(AZ:AZ,ROW()-1),AZ:BA,2,0)),"",VLOOKUP(SMALL(AZ:AZ,ROW()-1),AZ:BA,2,0)) | BE13: =IF(BF13<>"",MAX($B$1:BE12)+1,"") | BF13: =IF(ISERROR(SEARCH($E$2,BD13)),"",BD13) | BG13: =IF(ISERROR(VLOOKUP(SMALL(BE:BE,ROW()-1),BE:BF,2,0)),"",VLOOKUP(SMALL(BE:BE,ROW()-1),BE:BF,2,0)) | BJ13: =IF(BK13<>"",MAX($B$1:BJ12)+1,"") | BK13: =IF(ISERROR(SEARCH($E$2,BI13)),"",BI13) | BL13: =IF(ISERROR(VLOOKUP(SMALL(BJ:BJ,ROW()-1),BJ:BK,2,0)),"",VLOOKUP(SMALL(BJ:BJ,ROW()-1),BJ:BK,2,0)) | BO13: =IF(BP13<>"",MAX($B$1:BO12)+1,"") | BP13: =IF(ISERROR(SEARCH($E$2,BN13)),"",BN13) | BQ13: =IF(ISERROR(VLOOKUP(SMALL(BO:BO,ROW()-1),BO:BP,2,0)),"",VLOOKUP(SMALL(BO:BO,ROW()-1),BO:BP,2,0)) | BT13: =IF(BU13<>"",MAX($B$1:BT12)+1,"") | BU13: =IF(ISERROR(SEARCH($E$2,BS13)),"",BS13) | BV13: =IF(ISERROR(VLOOKUP(SMALL(BT:BT,ROW()-1),BT:BU,2,0)),"",VLOOKUP(SMALL(BT:BT,ROW()-1),BT:BU,2,0)) | BY13: =IF(BZ13<>"",MAX($B$1:BY12)+1,"") | BZ13: =IF(ISERROR(SEARCH($E$2,BX13)),"",BX13) | CA13: =IF(ISERROR(VLOOKUP(SMALL(BY:BY,ROW()-1),BY:BZ,2,0)),"",VLOOKUP(SMALL(BY:BY,ROW()-1),BY:BZ,2,0)) | CD13: =IF(CE13<>"",MAX($B$1:CD12)+1,"") | CE13: =IF(ISERROR(SEARCH($E$2,CC13)),"",CC13) | CF13: =IF(ISERROR(VLOOKUP(SMALL(CD:CD,ROW()-1),CD:CE,2,0)),"",VLOOKUP(SMALL(CD:CD,ROW()-1),CD:CE,2,0)) | CI13: =IF(CJ13<>"",MAX($B$1:CI12)+1,"") | CJ13: =IF(ISERROR(SEARCH($E$2,CH13)),"",CH13) | CK13: =IF(ISERROR(VLOOKUP(SMALL(CI:CI,ROW()-1),CI:CJ,2,0)),"",VLOOKUP(SMALL(CI:CI,ROW()-1),CI:CJ,2,0)) | CN13: =IF(CO13<>"",MAX($B$1:CN12)+1,"") | CO13: =IF(ISERROR(SEARCH($E$2,CM13)),"",CM13) | CP13: =IF(ISERROR(VLOOKUP(SMALL(CN:CN,ROW()-1),CN:CO,2,0)),"",VLOOKUP(SMALL(CN:CN,ROW()-1),CN:CO,2,0)) | CS13: =IF(CT13<>"",MAX($B$1:CS12)+1,"") | CT13: =IF(ISERROR(SEARCH($E$2,CR13)),"",CR13) | CU13: =IF(ISERROR(VLOOKUP(SMALL(CS:CS,ROW()-1),CS:CT,2,0)),"",VLOOKUP(SMALL(CS:CS,ROW()-1),CS:CT,2,0)) | CX13: =IF(CY13<>"",MAX($B$1:CX12)+1,"") | CY13: =IF(ISERROR(SEARCH($E$2,CW13)),"",CW13) | CZ13: =IF(ISERROR(VLOOKUP(SMALL(CX:CX,ROW()-1),CX:CY,2,0)),"",VLOOKUP(SMALL(CX:CX,ROW()-1),CX:CY,2,0)) | DC13: =IF(DD13<>"",MAX($B$1:DC12)+1,"") | DD13: =IF(ISERROR(SEARCH($E$2,DB13)),"",DB13) | DE13: =IF(ISERROR(VLOOKUP(SMALL(DC:DC,ROW()-1),DC:DD,2,0)),"",VLOOKUP(SMALL(DC:DC,ROW()-1),DC:DD,2,0)) | DH13: =IF(DI13<>"",MAX($B$1:DH12)+1,"") | DI13: =IF(ISERROR(SEARCH($E$2,DG13)),"",DG13) | DJ13: =IF(ISERROR(VLOOKUP(SMALL(DH:DH,ROW()-1),DH:DI,2,0)),"",VLOOKUP(SMALL(DH:DH,ROW()-1),DH:DI,2,0)) | DM13: =IF(DN13<>"",MAX($B$1:DM12)+1,"") | DN13: =IF(ISERROR(SEARCH($E$2,DL13)),"",DL13) | DO13: =IF(ISERROR(VLOOKUP(SMALL(DM:DM,ROW()-1),DM:DN,2,0)),"",VLOOKUP(SMALL(DM:DM,ROW()-1),DM:DN,2,0)) | DQ13: ='Export polyvalence'!AA46 -> 0 | DR13: =IF(DS13<>"",MAX($B$1:DR12)+1,"") -> 11 | DS13: =IF(ISERROR(SEARCH($E$2,DQ13)),"",DQ13) -> 0 | DT13: =IF(ISERROR(VLOOKUP(SMALL(DR:DR,ROW()-1),DR:DS,2,0)),"",VLOOKUP(SMALL(DR:DR,ROW()-1),DR:DS,2,0)) -> 0 | DW13: =IF(DX13<>"",MAX($B$1:DW12)+1,"") | DX13: =IF(ISERROR(SEARCH($E$2,DV13)),"",DV13) | DY13: =IF(ISERROR(VLOOKUP(SMALL(DW:DW,ROW()-1),DW:DX,2,0)),"",VLOOKUP(SMALL(DW:DW,ROW()-1),DW:DX,2,0))
DQ14: ='Export polyvalence'!AA47 -> 0
B15: =IF(C15<>"",MAX($B$1:B13)+1,"") | C15: =IF(ISERROR(SEARCH($E$2,A15)),"",A15) | D15: =IF(ISERROR(VLOOKUP(SMALL(B:B,ROW()-1),B:C,2,0)),"",VLOOKUP(SMALL(B:B,ROW()-1),B:C,2,0)) | G15: =IF(H15<>"",MAX($B$1:G13)+1,"") | H15: =IF(ISERROR(SEARCH($E$2,F15)),"",F15) | I15: =IF(ISERROR(VLOOKUP(SMALL(G:G,ROW()-1),G:H,2,0)),"",VLOOKUP(SMALL(G:G,ROW()-1),G:H,2,0)) | L15: =IF(M15<>"",MAX($B$1:L13)+1,"") | M15: =IF(ISERROR(SEARCH($E$2,K15)),"",K15) | N15: =IF(ISERROR(VLOOKUP(SMALL(L:L,ROW()-1),L:M,2,0)),"",VLOOKUP(SMALL(L:L,ROW()-1),L:M,2,0)) | Q15: =IF(R15<>"",MAX($B$1:Q13)+1,"") | R15: =IF(ISERROR(SEARCH($E$2,P15)),"",P15) | S15: =IF(ISERROR(VLOOKUP(SMALL(Q:Q,ROW()-1),Q:R,2,0)),"",VLOOKUP(SMALL(Q:Q,ROW()-1),Q:R,2,0)) | V15: =IF(W15<>"",MAX($B$1:V13)+1,"") | W15: =IF(ISERROR(SEARCH($E$2,U15)),"",U15) | X15: =IF(ISERROR(VLOOKUP(SMALL(V:V,ROW()-1),V:W,2,0)),"",VLOOKUP(SMALL(V:V,ROW()-1),V:W,2,0)) | AA15: =IF(AB15<>"",MAX($B$1:AA13)+1,"") | AB15: =IF(ISERROR(SEARCH($E$2,Z15)),"",Z15) | AC15: =IF(ISERROR(VLOOKUP(SMALL(AA:AA,ROW()-1),AA:AB,2,0)),"",VLOOKUP(SMALL(AA:AA,ROW()-1),AA:AB,2,0)) | AF15: =IF(AG15<>"",MAX($B$1:AF13)+1,"") | AG15: =IF(ISERROR(SEARCH($E$2,AE15)),"",AE15) | AH15: =IF(ISERROR(VLOOKUP(SMALL(AF:AF,ROW()-1),AF:AG,2,0)),"",VLOOKUP(SMALL(AF:AF,ROW()-1),AF:AG,2,0)) | AK15: =IF(AL15<>"",MAX($B$1:AK13)+1,"") | AL15: =IF(ISERROR(SEARCH($E$2,AJ15)),"",AJ15) | AM15: =IF(ISERROR(VLOOKUP(SMALL(AK:AK,ROW()-1),AK:AL,2,0)),"",VLOOKUP(SMALL(AK:AK,ROW()-1),AK:AL,2,0)) | AP15: =IF(AQ15<>"",MAX($B$1:AP13)+1,"") | AQ15: =IF(ISERROR(SEARCH($E$2,AO15)),"",AO15) | AR15: =IF(ISERROR(VLOOKUP(SMALL(AP:AP,ROW()-1),AP:AQ,2,0)),"",VLOOKUP(SMALL(AP:AP,ROW()-1),AP:AQ,2,0)) | AU15: =IF(AV15<>"",MAX($B$1:AU13)+1,"") | AV15: =IF(ISERROR(SEARCH($E$2,AT15)),"",AT15) | AW15: =IF(ISERROR(VLOOKUP(SMALL(AU:AU,ROW()-1),AU:AV,2,0)),"",VLOOKUP(SMALL(AU:AU,ROW()-1),AU:AV,2,0)) | AZ15: =IF(BA15<>"",MAX($B$1:AZ13)+1,"") | BA15: =IF(ISERROR(SEARCH($E$2,AY15)),"",AY15) | BB15: =IF(ISERROR(VLOOKUP(SMALL(AZ:AZ,ROW()-1),AZ:BA,2,0)),"",VLOOKUP(SMALL(AZ:AZ,ROW()-1),AZ:BA,2,0)) | BE15: =IF(BF15<>"",MAX($B$1:BE13)+1,"") | BF15: =IF(ISERROR(SEARCH($E$2,BD15)),"",BD15) | BG15: =IF(ISERROR(VLOOKUP(SMALL(BE:BE,ROW()-1),BE:BF,2,0)),"",VLOOKUP(SMALL(BE:BE,ROW()-1),BE:BF,2,0)) | BJ15: =IF(BK15<>"",MAX($B$1:BJ13)+1,"") | BK15: =IF(ISERROR(SEARCH($E$2,BI15)),"",BI15) | BL15: =IF(ISERROR(VLOOKUP(SMALL(BJ:BJ,ROW()-1),BJ:BK,2,0)),"",VLOOKUP(SMALL(BJ:BJ,ROW()-1),BJ:BK,2,0)) | BO15: =IF(BP15<>"",MAX($B$1:BO13)+1,"") | BP15: =IF(ISERROR(SEARCH($E$2,BN15)),"",BN15) | BQ15: =IF(ISERROR(VLOOKUP(SMALL(BO:BO,ROW()-1),BO:BP,2,0)),"",VLOOKUP(SMALL(BO:BO,ROW()-1),BO:BP,2,0)) | BT15: =IF(BU15<>"",MAX($B$1:BT13)+1,"") | BU15: =IF(ISERROR(SEARCH($E$2,BS15)),"",BS15) | BV15: =IF(ISERROR(VLOOKUP(SMALL(BT:BT,ROW()-1),BT:BU,2,0)),"",VLOOKUP(SMALL(BT:BT,ROW()-1),BT:BU,2,0)) | BY15: =IF(BZ15<>"",MAX($B$1:BY13)+1,"") | BZ15: =IF(ISERROR(SEARCH($E$2,BX15)),"",BX15) | CA15: =IF(ISERROR(VLOOKUP(SMALL(BY:BY,ROW()-1),BY:BZ,2,0)),"",VLOOKUP(SMALL(BY:BY,ROW()-1),BY:BZ,2,0)) | CD15: =IF(CE15<>"",MAX($B$1:CD13)+1,"") | CE15: =IF(ISERROR(SEARCH($E$2,CC15)),"",CC15) | CF15: =IF(ISERROR(VLOOKUP(SMALL(CD:CD,ROW()-1),CD:CE,2,0)),"",VLOOKUP(SMALL(CD:CD,ROW()-1),CD:CE,2,0)) | CI15: =IF(CJ15<>"",MAX($B$1:CI13)+1,"") | CJ15: =IF(ISERROR(SEARCH($E$2,CH15)),"",CH15) | CK15: =IF(ISERROR(VLOOKUP(SMALL(CI:CI,ROW()-1),CI:CJ,2,0)),"",VLOOKUP(SMALL(CI:CI,ROW()-1),CI:CJ,2,0)) | CN15: =IF(CO15<>"",MAX($B$1:CN13)+1,"") | CO15: =IF(ISERROR(SEARCH($E$2,CM15)),"",CM15) | CP15: =IF(ISERROR(VLOOKUP(SMALL(CN:CN,ROW()-1),CN:CO,2,0)),"",VLOOKUP(SMALL(CN:CN,ROW()-1),CN:CO,2,0)) | CS15: =IF(CT15<>"",MAX($B$1:CS13)+1,"") | CT15: =IF(ISERROR(SEARCH($E$2,CR15)),"",CR15) | CU15: =IF(ISERROR(VLOOKUP(SMALL(CS:CS,ROW()-1),CS:CT,2,0)),"",VLOOKUP(SMALL(CS:CS,ROW()-1),CS:CT,2,0)) | CX15: =IF(CY15<>"",MAX($B$1:CX13)+1,"") | CY15: =IF(ISERROR(SEARCH($E$2,CW15)),"",CW15) | CZ15: =IF(ISERROR(VLOOKUP(SMALL(CX:CX,ROW()-1),CX:CY,2,0)),"",VLOOKUP(SMALL(CX:CX,ROW()-1),CX:CY,2,0)) | DC15: =IF(DD15<>"",MAX($B$1:DC13)+1,"") | DD15: =IF(ISERROR(SEARCH($E$2,DB15)),"",DB15) | DE15: =IF(ISERROR(VLOOKUP(SMALL(DC:DC,ROW()-1),DC:DD,2,0)),"",VLOOKUP(SMALL(DC:DC,ROW()-1),DC:DD,2,0)) | DH15: =IF(DI15<>"",MAX($B$1:DH13)+1,"") | DI15: =IF(ISERROR(SEARCH($E$2,DG15)),"",DG15) | DJ15: =IF(ISERROR(VLOOKUP(SMALL(DH:DH,ROW()-1),DH:DI,2,0)),"",VLOOKUP(SMALL(DH:DH,ROW()-1),DH:DI,2,0)) | DM15: =IF(DN15<>"",MAX($B$1:DM13)+1,"") | DN15: =IF(ISERROR(SEARCH($E$2,DL15)),"",DL15) | DO15: =IF(ISERROR(VLOOKUP(SMALL(DM:DM,ROW()-1),DM:DN,2,0)),"",VLOOKUP(SMALL(DM:DM,ROW()-1),DM:DN,2,0)) | DQ15: ='Export polyvalence'!AA48 -> 0 | DR15: =IF(DS15<>"",MAX($B$1:DR13)+1,"") -> 12 | DS15: =IF(ISERROR(SEARCH($E$2,DQ15)),"",DQ15) -> 0 | DT15: =IF(ISERROR(VLOOKUP(SMALL(DR:DR,ROW()-1),DR:DS,2,0)),"",VLOOKUP(SMALL(DR:DR,ROW()-1),DR:DS,2,0)) | DW15: =IF(DX15<>"",MAX($B$1:DW13)+1,"") | DX15: =IF(ISERROR(SEARCH($E$2,DV15)),"",DV15) | DY15: =IF(ISERROR(VLOOKUP(SMALL(DW:DW,ROW()-1),DW:DX,2,0)),"",VLOOKUP(SMALL(DW:DW,ROW()-1),DW:DX,2,0))
B16: =IF(C16<>"",MAX($B$1:B15)+1,"") | C16: =IF(ISERROR(SEARCH($E$2,A16)),"",A16) | D16: =IF(ISERROR(VLOOKUP(SMALL(B:B,ROW()-1),B:C,2,0)),"",VLOOKUP(SMALL(B:B,ROW()-1),B:C,2,0)) | G16: =IF(H16<>"",MAX($B$1:G15)+1,"") | H16: =IF(ISERROR(SEARCH($E$2,F16)),"",F16) | I16: =IF(ISERROR(VLOOKUP(SMALL(G:G,ROW()-1),G:H,2,0)),"",VLOOKUP(SMALL(G:G,ROW()-1),G:H,2,0)) | L16: =IF(M16<>"",MAX($B$1:L15)+1,"") | M16: =IF(ISERROR(SEARCH($E$2,K16)),"",K16) | N16: =IF(ISERROR(VLOOKUP(SMALL(L:L,ROW()-1),L:M,2,0)),"",VLOOKUP(SMALL(L:L,ROW()-1),L:M,2,0)) | Q16: =IF(R16<>"",MAX($B$1:Q15)+1,"") | R16: =IF(ISERROR(SEARCH($E$2,P16)),"",P16) | S16: =IF(ISERROR(VLOOKUP(SMALL(Q:Q,ROW()-1),Q:R,2,0)),"",VLOOKUP(SMALL(Q:Q,ROW()-1),Q:R,2,0)) | V16: =IF(W16<>"",MAX($B$1:V15)+1,"") | W16: =IF(ISERROR(SEARCH($E$2,U16)),"",U16) | X16: =IF(ISERROR(VLOOKUP(SMALL(V:V,ROW()-1),V:W,2,0)),"",VLOOKUP(SMALL(V:V,ROW()-1),V:W,2,0)) | AA16: =IF(AB16<>"",MAX($B$1:AA15)+1,"") | AB16: =IF(ISERROR(SEARCH($E$2,Z16)),"",Z16) | AC16: =IF(ISERROR(VLOOKUP(SMALL(AA:AA,ROW()-1),AA:AB,2,0)),"",VLOOKUP(SMALL(AA:AA,ROW()-1),AA:AB,2,0)) | AF16: =IF(AG16<>"",MAX($B$1:AF15)+1,"") | AG16: =IF(ISERROR(SEARCH($E$2,AE16)),"",AE16) | AH16: =IF(ISERROR(VLOOKUP(SMALL(AF:AF,ROW()-1),AF:AG,2,0)),"",VLOOKUP(SMALL(AF:AF,ROW()-1),AF:AG,2,0)) | AK16: =IF(AL16<>"",MAX($B$1:AK15)+1,"") | AL16: =IF(ISERROR(SEARCH($E$2,AJ16)),"",AJ16) | AM16: =IF(ISERROR(VLOOKUP(SMALL(AK:AK,ROW()-1),AK:AL,2,0)),"",VLOOKUP(SMALL(AK:AK,ROW()-1),AK:AL,2,0)) | AP16: =IF(AQ16<>"",MAX($B$1:AP15)+1,"") | AQ16: =IF(ISERROR(SEARCH($E$2,AO16)),"",AO16) | AR16: =IF(ISERROR(VLOOKUP(SMALL(AP:AP,ROW()-1),AP:AQ,2,0)),"",VLOOKUP(SMALL(AP:AP,ROW()-1),AP:AQ,2,0)) | AU16: =IF(AV16<>"",MAX($B$1:AU15)+1,"") | AV16: =IF(ISERROR(SEARCH($E$2,AT16)),"",AT16) | AW16: =IF(ISERROR(VLOOKUP(SMALL(AU:AU,ROW()-1),AU:AV,2,0)),"",VLOOKUP(SMALL(AU:AU,ROW()-1),AU:AV,2,0)) | AZ16: =IF(BA16<>"",MAX($B$1:AZ15)+1,"") | BA16: =IF(ISERROR(SEARCH($E$2,AY16)),"",AY16) | BB16: =IF(ISERROR(VLOOKUP(SMALL(AZ:AZ,ROW()-1),AZ:BA,2,0)),"",VLOOKUP(SMALL(AZ:AZ,ROW()-1),AZ:BA,2,0)) | BE16: =IF(BF16<>"",MAX($B$1:BE15)+1,"") | BF16: =IF(ISERROR(SEARCH($E$2,BD16)),"",BD16) | BG16: =IF(ISERROR(VLOOKUP(SMALL(BE:BE,ROW()-1),BE:BF,2,0)),"",VLOOKUP(SMALL(BE:BE,ROW()-1),BE:BF,2,0)) | BJ16: =IF(BK16<>"",MAX($B$1:BJ15)+1,"") | BK16: =IF(ISERROR(SEARCH($E$2,BI16)),"",BI16) | BL16: =IF(ISERROR(VLOOKUP(SMALL(BJ:BJ,ROW()-1),BJ:BK,2,0)),"",VLOOKUP(SMALL(BJ:BJ,ROW()-1),BJ:BK,2,0)) | BO16: =IF(BP16<>"",MAX($B$1:BO15)+1,"") | BP16: =IF(ISERROR(SEARCH($E$2,BN16)),"",BN16) | BQ16: =IF(ISERROR(VLOOKUP(SMALL(BO:BO,ROW()-1),BO:BP,2,0)),"",VLOOKUP(SMALL(BO:BO,ROW()-1),BO:BP,2,0)) | BT16: =IF(BU16<>"",MAX($B$1:BT15)+1,"") | BU16: =IF(ISERROR(SEARCH($E$2,BS16)),"",BS16) | BV16: =IF(ISERROR(VLOOKUP(SMALL(BT:BT,ROW()-1),BT:BU,2,0)),"",VLOOKUP(SMALL(BT:BT,ROW()-1),BT:BU,2,0)) | BY16: =IF(BZ16<>"",MAX($B$1:BY15)+1,"") | BZ16: =IF(ISERROR(SEARCH($E$2,BX16)),"",BX16) | CA16: =IF(ISERROR(VLOOKUP(SMALL(BY:BY,ROW()-1),BY:BZ,2,0)),"",VLOOKUP(SMALL(BY:BY,ROW()-1),BY:BZ,2,0)) | CD16: =IF(CE16<>"",MAX($B$1:CD15)+1,"") | CE16: =IF(ISERROR(SEARCH($E$2,CC16)),"",CC16) | CF16: =IF(ISERROR(VLOOKUP(SMALL(CD:CD,ROW()-1),CD:CE,2,0)),"",VLOOKUP(SMALL(CD:CD,ROW()-1),CD:CE,2,0)) | CI16: =IF(CJ16<>"",MAX($B$1:CI15)+1,"") | CJ16: =IF(ISERROR(SEARCH($E$2,CH16)),"",CH16) | CK16: =IF(ISERROR(VLOOKUP(SMALL(CI:CI,ROW()-1),CI:CJ,2,0)),"",VLOOKUP(SMALL(CI:CI,ROW()-1),CI:CJ,2,0)) | CN16: =IF(CO16<>"",MAX($B$1:CN15)+1,"") | CO16: =IF(ISERROR(SEARCH($E$2,CM16)),"",CM16) | CP16: =IF(ISERROR(VLOOKUP(SMALL(CN:CN,ROW()-1),CN:CO,2,0)),"",VLOOKUP(SMALL(CN:CN,ROW()-1),CN:CO,2,0)) | CS16: =IF(CT16<>"",MAX($B$1:CS15)+1,"") | CT16: =IF(ISERROR(SEARCH($E$2,CR16)),"",CR16) | CU16: =IF(ISERROR(VLOOKUP(SMALL(CS:CS,ROW()-1),CS:CT,2,0)),"",VLOOKUP(SMALL(CS:CS,ROW()-1),CS:CT,2,0)) | CX16: =IF(CY16<>"",MAX($B$1:CX15)+1,"") | CY16: =IF(ISERROR(SEARCH($E$2,CW16)),"",CW16) | CZ16: =IF(ISERROR(VLOOKUP(SMALL(CX:CX,ROW()-1),CX:CY,2,0)),"",VLOOKUP(SMALL(CX:CX,ROW()-1),CX:CY,2,0)) | DC16: =IF(DD16<>"",MAX($B$1:DC15)+1,"") | DD16: =IF(ISERROR(SEARCH($E$2,DB16)),"",DB16) | DE16: =IF(ISERROR(VLOOKUP(SMALL(DC:DC,ROW()-1),DC:DD,2,0)),"",VLOOKUP(SMALL(DC:DC,ROW()-1),DC:DD,2,0)) | DH16: =IF(DI16<>"",MAX($B$1:DH15)+1,"") | DI16: =IF(ISERROR(SEARCH($E$2,DG16)),"",DG16) | DJ16: =IF(ISERROR(VLOOKUP(SMALL(DH:DH,ROW()-1),DH:DI,2,0)),"",VLOOKUP(SMALL(DH:DH,ROW()-1),DH:DI,2,0)) | DM16: =IF(DN16<>"",MAX($B$1:DM15)+1,"") | DN16: =IF(ISERROR(SEARCH($E$2,DL16)),"",DL16) | DO16: =IF(ISERROR(VLOOKUP(SMALL(DM:DM,ROW()-1),DM:DN,2,0)),"",VLOOKUP(SMALL(DM:DM,ROW()-1),DM:DN,2,0)) | DQ16: ='Export polyvalence'!AA49 -> 0 | DR16: =IF(DS16<>"",MAX($B$1:DR15)+1,"") -> 13 | DS16: =IF(ISERROR(SEARCH($E$2,DQ16)),"",DQ16) -> 0 | DT16: =IF(ISERROR(VLOOKUP(SMALL(DR:DR,ROW()-1),DR:DS,2,0)),"",VLOOKUP(SMALL(DR:DR,ROW()-1),DR:DS,2,0)) | DW16: =IF(DX16<>"",MAX($B$1:DW15)+1,"") | DX16: =IF(ISERROR(SEARCH($E$2,DV16)),"",DV16) | DY16: =IF(ISERROR(VLOOKUP(SMALL(DW:DW,ROW()-1),DW:DX,2,0)),"",VLOOKUP(SMALL(DW:DW,ROW()-1),DW:DX,2,0))

Sheet Menu déroulant 
A1: Noms | B1: Activité 1 | C1: Activité 2 | D1: Activité 3 | E1: Activité 4 | F1: Activité 5 | G1: RECAPITULATIF
A2: Chef | G2: =(B2&" "&C2&" "&D2&" "&E2&" "&F2)
G3: =(B3&" "&C3&" "&D3&" "&E3&" "&F3)
A4: Mme X | G4: =(B4&" "&C4&" "&D4&" "&E4&" "&F4)
A5: Mr E | B5: Act 9(2) | C5: Act 8 | D5: Act 5 | G5: =(B5&" "&C5&" "&D5&" "&E5&" "&F5) -> Act 9(2) Act 8 Act 5
A6: Mme d | G6: =(B6&" "&C6&" "&D6&" "&E6&" "&F6)
A7: Mr s | G7: =(B7&" "&C7&" "&D7&" "&E7&" "&F7)
A8: a | D8: Act 4 | E8: Act 10(2) | G8: =(B8&" "&C8&" "&D8&" "&E8&" "&F8) -> Act 4 Act 10(2)
A9: f | G9: =(B9&" "&C9&" "&D9&" "&E9&" "&F9)
A10: z | G10: =(B10&" "&C10&" "&D10&" "&E10&" "&F10)
A11: r | G11: =(B11&" "&C11&" "&D11&" "&E11&" "&F11)
A12: g | B12: Act 7 | G12: =(B12&" "&C12&" "&D12&" "&E12&" "&F12) -> Act 7
A13: c | G13: =(B13&" "&C13&" "&D13&" "&E13&" "&F13)
A14: t | G14: =(B14&" "&C14&" "&D14&" "&E14&" "&F14)
A15: y | D15: Act 4 | G15: =(B15&" "&C15&" "&D15&" "&E15&" "&F15) -> Act 4
A16: u | G16: =(B16&" "&C16&" "&D16&" "&E16&" "&F16)
A17: i | G17: =(B17&" "&C17&" "&D17&" "&E17&" "&F17)
A18: o | G18: =(B18&" "&C18&" "&D18&" "&E18&" "&F18)
A19: p | G19: =(B19&" "&C19&" "&D19&" "&E19&" "&F19)
A20: q | G20: =(B20&" "&C20&" "&D20&" "&E20&" "&F20)
A21: s | G21: =(B21&" "&C21&" "&D21&" "&E21&" "&F21)
A22: h | C22: Act 10 | G22: =(B22&" "&C22&" "&D22&" "&E22&" "&F22) -> Act 10
A23: j | G23: =(B23&" "&C23&" "&D23&" "&E23&" "&F23)
A24: k | G24: =(B24&" "&C24&" "&D24&" "&E24&" "&F24)
A25: l | G25: =(B25&" "&C25&" "&D25&" "&E25&" "&F25)
A26: m | G26: =(B26&" "&C26&" "&D26&" "&E26&" "&F26)
A27: w | G27: =(B27&" "&C27&" "&D27&" "&E27&" "&F27)
G28: =(B28&" "&C28&" "&D28&" "&E28&" "&F28)

Sheet Export congé
A1: UID collaborateur | B1: Nom collaborateur | C1: Prénom collaborateur | D1: Affectation collaborateur | E1: Poste type collaborateur | F1: UID signataire | G1: Nom signataire | H1: Prénom signataire | I1: Date demande | J1: Date début de période | K1: Date fin de période | L1: Témoin matin | M1: Témoin aprés-midi | N1: Code Motif | O1: Motif | P1: Nombre de droits consommés | Q1: Statut | R1: UID Gestionnaire | S1: Nom Gestionnaire | T1: Prénom Gestionnaire
A2: 0 | B2: Chef | C2: Chef | H2: p | J2: 42892 | K2: 42895 | L2: non | M2: non | O2: CONGES PAYES STAND | P2: 4 | Q2: Validé
A3: 0 | B3: z | C3: Mr | H3: D | J3: 42894 | K3: 42895 | L3: non | M3: non | O3: CONGES PAYES STAND | P3: 2 | Q3: Validé
A4: 0 | B4: e | C4: Mme | H4: D | J4: 42892 | K4: 42892 | L4: non | M4: non | O4: CONGES PAYES STAND | P4: 1 | Q4: Validé
A5: 0 | B5: d | C5: Mme | H5: D | J5: 42736 | K5: 43100 | L5: non | M5: non | O5: MALADIE
A6: 0 | B6: h | H6: D | J6: 42893 | K6: 42951 | L6: non | M6: non | O6: CG COMP 50% AV CP
A7: 0 | B7: h | J7: 42891 | K7: 42891

Sheet Macro congé
B1: UID collaborateur | C1: Nom collaborateur | D1: Prénom collaborateur | E1: Affectation collaborateur | F1: Poste type collaborateur | G1: UID signataire | H1: Nom signataire | I1: Prénom signataire | J1: Date demande | K1: Date début de période | L1: Date fin de période | M1: Témoin matin | N1: Témoin aprés-midi | O1: Code Motif | P1: Motif | Q1: Nombre de droits consommés | R1: Statut | S1: UID Gestionnaire | T1: Nom Gestionnaire | U1: Prénom Gestionnaire
A2: =D2&" "&C2 -> Chef Chef | B2: 0 | C2: Chef | D2: Chef | I2: p | K2: 42892 | L2: 42895 | M2: non | N2: non | P2: CONGES PAYES STAND | Q2: 4 | R2: Validé
A3: =D3&" "&C3 -> Mr z | B3: 0 | C3: z | D3: Mr | I3: D | K3: 42894 | L3: 42895 | M3: non | N3: non | P3: CONGES PAYES STAND | Q3: 2 | R3: Validé
A4: =D4&" "&C4 -> Mme e | B4: 0 | C4: e | D4: Mme | I4: D | K4: 42892 | L4: 42892 | M4: non | N4: non | P4: CONGES PAYES STAND | Q4: 1 | R4: Validé
A5: =D5&" "&C5 -> Mme d | B5: 0 | C5: d | D5: Mme | I5: D | K5: 42736 | L5: 43100 | M5: non | N5: non | P5: MALADIE
A6: =D6&" "&C6 -> h | B6: 0 | C6: h | I6: D | K6: 42893 | L6: 42951 | M6: non | N6: non | P6: MALADIE
A7: =D7&" "&C7 -> h | B7: 0 | C7: h | I7: D | K7: 42891 | L7: 42891 | P7: Le
A8: =D8&" "&C8
A9: =D9&" "&C9
A10: =D10&" "&C10
A11: =D11&" "&C11
A12: =D12&" "&C12
A13: =D13&" "&C13
A14: =D14&" "&C14
A15: =D15&" "&C15
A16: =D16&" "&C16

Sheet Résultat
B1: Planning du | F1: 42891 | H1: 42860
B2: Noms | C2: Lundi | E2: Mardi | G2: Mercredi | I2: Jeudi | K2: Vendredi
C3: =$F$1 -> 42891 | E3: =$F$1+1 -> 42892 | G3: =$F$1+2 -> 42893 | I3: =$F$1+3 -> 42894 | K3: =$F$1+4 -> 42895
B4: Chef | C4: =IFERROR(IF(AND(VLOOKUP($B$4,'Macro congé'!$1:$1048576,11,FALSE)<=C3,VLOOKUP($B$4,'Macro congé'!$1:$1048576,12,FALSE)>=C3),"CA",'Menu déroulant '!$G$2),'Menu déroulant '!$G$2) | E4: =IFERROR(IF(AND(VLOOKUP($B$4,'Macro congé'!$1:$1048576,11,FALSE)<=E3,VLOOKUP($B$4,'Macro congé'!$1:$1048576,12,FALSE)>=E3),"CA",""),'Menu déroulant '!$G$2) | G4: =IFERROR(IF(AND(VLOOKUP($B$4,'Macro congé'!$1:$1048576,11,FALSE)<=G3,VLOOKUP($B$4,'Macro congé'!$1:$1048576,12,FALSE)>=G3),"CA",""),'Menu déroulant '!$G$2) | I4: =IFERROR(IF(AND(VLOOKUP($B$4,'Macro congé'!$1:$1048576,11,FALSE)<=I3,VLOOKUP($B$4,'Macro congé'!$1:$1048576,12,FALSE)>=I3),"CA",""),'Menu déroulant '!$G$2) | K4: =IFERROR(IF(AND(VLOOKUP($B$4,'Macro congé'!$1:$1048576,11,FALSE)<=K3,VLOOKUP($B$4,'Macro congé'!$1:$1048576,12,FALSE)>=K3),"CA",""),'Menu déroulant '!$G$2)
B5: Mme X | C5: =IFERROR(IF(AND(VLOOKUP($B$5,'Macro congé'!$1:$1048576,11,FALSE)<=C3,VLOOKUP($B$5,'Macro congé'!$1:$1048576,12,FALSE)>=C3),"CA",'Menu déroulant '!$G$3),'Menu déroulant '!$G$3) | E5: =IFERROR(IF(AND(VLOOKUP($B$5,'Macro congé'!$1:$1048576,11,FALSE)<=E3,VLOOKUP($B$5,'Macro congé'!$1:$1048576,12,FALSE)>=E3),"CA",'Menu déroulant '!$G$3),'Menu déroulant '!$G$3) | G5: =IFERROR(IF(AND(VLOOKUP($B$5,'Macro congé'!$1:$1048576,11,FALSE)<=G3,VLOOKUP($B$5,'Macro congé'!$1:$1048576,12,FALSE)>=G3),"CA",'Menu déroulant '!$G$3),'Menu déroulant '!$G$3) | I5: =IFERROR(IF(AND(VLOOKUP($B$5,'Macro congé'!$1:$1048576,11,FALSE)<=I3,VLOOKUP($B$5,'Macro congé'!$1:$1048576,12,FALSE)>=I3),"CA",'Menu déroulant '!$G$3),'Menu déroulant '!$G$3) | K5: =IFERROR(IF(AND(VLOOKUP($B$5,'Macro congé'!$1:$1048576,11,FALSE)<=K3,VLOOKUP($B$5,'Macro congé'!$1:$1048576,12,FALSE)>=K3),"CA",'Menu déroulant '!$G$3),'Menu déroulant '!$G$3)
B6: Mr E | C6: =IFERROR(IF(AND(VLOOKUP($B$6,'Macro congé'!$1:$1048576,11,FALSE)<=C3,VLOOKUP($B$6,'Macro congé'!$1:$1048576,12,FALSE)>=C3),"CA",'Menu déroulant '!$G$4),'Menu déroulant '!$G$4) | E6: =IFERROR(IF(AND(VLOOKUP($B$6,'Macro congé'!$1:$1048576,11,FALSE)<=E3,VLOOKUP($B$6,'Macro congé'!$1:$1048576,12,FALSE)>=E3),"CA",'Menu déroulant '!$G$4),'Menu déroulant '!$G$4) | G6: =IFERROR(IF(AND(VLOOKUP($B$6,'Macro congé'!$1:$1048576,11,FALSE)<=G3,VLOOKUP($B$6,'Macro congé'!$1:$1048576,12,FALSE)>=G3),"CA",'Menu déroulant '!$G$4),'Menu déroulant '!$G$4) | I6: =IFERROR(IF(AND(VLOOKUP($B$6,'Macro congé'!$1:$1048576,11,FALSE)<=I3,VLOOKUP($B$6,'Macro congé'!$1:$1048576,12,FALSE)>=I3),"CA",'Menu déroulant '!$G$4),'Menu déroulant '!$G$4) | K6: =IFERROR(IF(AND(VLOOKUP($B$6,'Macro congé'!$1:$1048576,11,FALSE)<=K3,VLOOKUP($B$6,'Macro congé'!$1:$1048576,12,FALSE)>=K3),"CA",'Menu déroulant '!$G$4),'Menu déroulant '!$G$4)
B7: Mme d | C7: =IFERROR(IF(AND(VLOOKUP($B$7,'Macro congé'!$1:$1048576,11,FALSE)<=C3,VLOOKUP($B$7,'Macro congé'!$1:$1048576,12,FALSE)>=C3),"CA",'Menu déroulant '!$G$5),'Menu déroulant '!$G$5) -> CA | E7: =IFERROR(IF(AND(VLOOKUP($B$7,'Macro congé'!$1:$1048576,11,FALSE)<=E3,VLOOKUP($B$7,'Macro congé'!$1:$1048576,12,FALSE)>=E3),"CA",'Menu déroulant '!$G$5),'Menu déroulant '!$G$5) -> CA | G7: =IFERROR(IF(AND(VLOOKUP($B$7,'Macro congé'!$1:$1048576,11,FALSE)<=G3,VLOOKUP($B$7,'Macro congé'!$1:$1048576,12,FALSE)>=G3),"CA",'Menu déroulant '!$G$5),'Menu déroulant '!$G$5) -> CA | I7: =IFERROR(IF(AND(VLOOKUP($B$7,'Macro congé'!$1:$1048576,11,FALSE)<=I3,VLOOKUP($B$7,'Macro congé'!$1:$1048576,12,FALSE)>=I3),"CA",'Menu déroulant '!$G$5),'Menu déroulant '!$G$5) -> CA | K7: =IFERROR(IF(AND(VLOOKUP($B$7,'Macro congé'!$1:$1048576,11,FALSE)<=K3,VLOOKUP($B$7,'Macro congé'!$1:$1048576,12,FALSE)>=K3),"CA",'Menu déroulant '!$G$5),'Menu déroulant '!$G$5) -> CA
B8: Mr s | C8: =IFERROR(IF(AND(VLOOKUP($B$8,'Macro congé'!$1:$1048576,11,FALSE)<=C3,VLOOKUP($B$8,'Macro congé'!$1:$1048576,12,FALSE)>=C3),"CA",'Menu déroulant '!$G$6),'Menu déroulant '!$G$6) | E8: =IFERROR(IF(AND(VLOOKUP($B$8,'Macro congé'!$1:$1048576,11,FALSE)<=E3,VLOOKUP($B$8,'Macro congé'!$1:$1048576,12,FALSE)>=E3),"CA",'Menu déroulant '!$G$6),'Menu déroulant '!$G$6) | G8: =IFERROR(IF(AND(VLOOKUP($B$8,'Macro congé'!$1:$1048576,11,FALSE)<=G3,VLOOKUP($B$8,'Macro congé'!$1:$1048576,12,FALSE)>=G3),"CA",'Menu déroulant '!$G$6),'Menu déroulant '!$G$6) | I8: =IFERROR(IF(AND(VLOOKUP($B$8,'Macro congé'!$1:$1048576,11,FALSE)<=I3,VLOOKUP($B$8,'Macro congé'!$1:$1048576,12,FALSE)>=I3),"CA",'Menu déroulant '!$G$6),'Menu déroulant '!$G$6) | K8: =IFERROR(IF(AND(VLOOKUP($B$8,'Macro congé'!$1:$1048576,11,FALSE)<=K3,VLOOKUP($B$8,'Macro congé'!$1:$1048576,12,FALSE)>=K3),"CA",'Menu déroulant '!$G$6),'Menu déroulant '!$G$6)
B9: a | C9: =IFERROR(IF(AND(VLOOKUP($B$9,'Macro congé'!$1:$1048576,11,FALSE)<=C3,VLOOKUP($B$9,'Macro congé'!$1:$1048576,12,FALSE)>=C3),"CA",'Menu déroulant '!$G$7),'Menu déroulant '!$G$7) | E9: =IFERROR(IF(AND(VLOOKUP($B$9,'Macro congé'!$1:$1048576,11,FALSE)<=E3,VLOOKUP($B$9,'Macro congé'!$1:$1048576,12,FALSE)>=E3),"CA",'Menu déroulant '!$G$7),'Menu déroulant '!$G$7) | G9: =IFERROR(IF(AND(VLOOKUP($B$9,'Macro congé'!$1:$1048576,11,FALSE)<=G3,VLOOKUP($B$9,'Macro congé'!$1:$1048576,12,FALSE)>=G3),"CA",'Menu déroulant '!$G$7),'Menu déroulant '!$G$7) | I9: =IFERROR(IF(AND(VLOOKUP($B$9,'Macro congé'!$1:$1048576,11,FALSE)<=I3,VLOOKUP($B$9,'Macro congé'!$1:$1048576,12,FALSE)>=I3),"CA",'Menu déroulant '!$G$7),'Menu déroulant '!$G$7) | K9: =IFERROR(IF(AND(VLOOKUP($B$9,'Macro congé'!$1:$1048576,11,FALSE)<=K3,VLOOKUP($B$9,'Macro congé'!$1:$1048576,12,FALSE)>=K3),"CA",'Menu déroulant '!$G$7),'Menu déroulant '!$G$7)
B10: f | C10: =IFERROR(IF(AND(VLOOKUP($B$10,'Macro congé'!$1:$1048576,11,FALSE)<=C3,VLOOKUP($B$10,'Macro congé'!$1:$1048576,12,FALSE)>=C3),"CA",'Menu déroulant '!$G$8),'Menu déroulant '!$G$8) -> Act 4 Act 10(2) | E10: =IFERROR(IF(AND(VLOOKUP($B$10,'Macro congé'!$1:$1048576,11,FALSE)<=E3,VLOOKUP($B$10,'Macro congé'!$1:$1048576,12,FALSE)>=E3),"CA",'Menu déroulant '!$G$8),'Menu déroulant '!$G$8) -> Act 4 Act 10(2) | G10: =IFERROR(IF(AND(VLOOKUP($B$10,'Macro congé'!$1:$1048576,11,FALSE)<=G3,VLOOKUP($B$10,'Macro congé'!$1:$1048576,12,FALSE)>=G3),"CA",'Menu déroulant '!$G$8),'Menu déroulant '!$G$8) -> Act 4 Act 10(2) | I10: =IFERROR(IF(AND(VLOOKUP($B$10,'Macro congé'!$1:$1048576,11,FALSE)<=I3,VLOOKUP($B$10,'Macro congé'!$1:$1048576,12,FALSE)>=I3),"CA",'Menu déroulant '!$G$8),'Menu déroulant '!$G$8) -> Act 4 Act 10(2) | K10: =IFERROR(IF(AND(VLOOKUP($B$10,'Macro congé'!$1:$1048576,11,FALSE)<=K3,VLOOKUP($B$10,'Macro congé'!$1:$1048576,12,FALSE)>=K3),"CA",'Menu déroulant '!$G$8),'Menu déroulant '!$G$8) -> Act 4 Act 10(2)
B11: z | C11: =IFERROR(IF(AND(VLOOKUP($B$11,'Macro congé'!$1:$1048576,11,FALSE)<=C3,VLOOKUP($B$11,'Macro congé'!$1:$1048576,12,FALSE)>=C3),"CA",'Menu déroulant '!$G$9),'Menu déroulant '!$G$9) | E11: =IFERROR(IF(AND(VLOOKUP($B$11,'Macro congé'!$1:$1048576,11,FALSE)<=E3,VLOOKUP($B$11,'Macro congé'!$1:$1048576,12,FALSE)>=E3),"CA",'Menu déroulant '!$G$9),'Menu déroulant '!$G$9) | G11: =IFERROR(IF(AND(VLOOKUP($B$11,'Macro congé'!$1:$1048576,11,FALSE)<=G3,VLOOKUP($B$11,'Macro congé'!$1:$1048576,12,FALSE)>=G3),"CA",'Menu déroulant '!$G$9),'Menu déroulant '!$G$9) | I11: =IFERROR(IF(AND(VLOOKUP($B$11,'Macro congé'!$1:$1048576,11,FALSE)<=I3,VLOOKUP($B$11,'Macro congé'!$1:$1048576,12,FALSE)>=I3),"CA",'Menu déroulant '!$G$9),'Menu déroulant '!$G$9) | K11: =IFERROR(IF(AND(VLOOKUP($B$11,'Macro congé'!$1:$1048576,11,FALSE)<=K3,VLOOKUP($B$11,'Macro congé'!$1:$1048576,12,FALSE)>=K3),"CA",'Menu déroulant '!$G$9),'Menu déroulant '!$G$9)
B12: r | C12: =IFERROR(IF(AND(VLOOKUP($B$12,'Macro congé'!$1:$1048576,11,FALSE)<=C3,VLOOKUP($B$12,'Macro congé'!$1:$1048576,12,FALSE)>=C3),"CA",'Menu déroulant '!$G$10),'Menu déroulant '!$G$10) | E12: =IFERROR(IF(AND(VLOOKUP($B$12,'Macro congé'!$1:$1048576,11,FALSE)<=E3,VLOOKUP($B$12,'Macro congé'!$1:$1048576,12,FALSE)>=E3),"CA",'Menu déroulant '!$G$10),'Menu déroulant '!$G$10) | G12: =IFERROR(IF(AND(VLOOKUP($B$12,'Macro congé'!$1:$1048576,11,FALSE)<=G3,VLOOKUP($B$12,'Macro congé'!$1:$1048576,12,FALSE)>=G3),"CA",'Menu déroulant '!$G$10),'Menu déroulant '!$G$10) | I12: =IFERROR(IF(AND(VLOOKUP($B$12,'Macro congé'!$1:$1048576,11,FALSE)<=I3,VLOOKUP($B$12,'Macro congé'!$1:$1048576,12,FALSE)>=I3),"CA",'Menu déroulant '!$G$10),'Menu déroulant '!$G$10) | K12: =IFERROR(IF(AND(VLOOKUP($B$12,'Macro congé'!$1:$1048576,11,FALSE)<=K3,VLOOKUP($B$12,'Macro congé'!$1:$1048576,12,FALSE)>=K3),"CA",'Menu déroulant '!$G$10),'Menu déroulant '!$G$10)
B13: g | C13: =IFERROR(IF(AND(VLOOKUP($B$13,'Macro congé'!$1:$1048576,11,FALSE)<=C3,VLOOKUP($B$13,'Macro congé'!$1:$1048576,12,FALSE)>=C3),"CA",'Menu déroulant '!$G$11),'Menu déroulant '!$G$11) | E13: =IFERROR(IF(AND(VLOOKUP($B$13,'Macro congé'!$1:$1048576,11,FALSE)<=E3,VLOOKUP($B$13,'Macro congé'!$1:$1048576,12,FALSE)>=E3),"CA",'Menu déroulant '!$G$11),'Menu déroulant '!$G$11) | G13: =IFERROR(IF(AND(VLOOKUP($B$13,'Macro congé'!$1:$1048576,11,FALSE)<=G3,VLOOKUP($B$13,'Macro congé'!$1:$1048576,12,FALSE)>=G3),"CA",'Menu déroulant '!$G$11),'Menu déroulant '!$G$11) | I13: =IFERROR(IF(AND(VLOOKUP($B$13,'Macro congé'!$1:$1048576,11,FALSE)<=I3,VLOOKUP($B$13,'Macro congé'!$1:$1048576,12,FALSE)>=I3),"CA",'Menu déroulant '!$G$11),'Menu déroulant '!$G$11) | K13: =IFERROR(IF(AND(VLOOKUP($B$13,'Macro congé'!$1:$1048576,11,FALSE)<=K3,VLOOKUP($B$13,'Macro congé'!$1:$1048576,12,FALSE)>=K3),"CA",'Menu déroulant '!$G$11),'Menu déroulant '!$G$11)
B14: c | C14: =IFERROR(IF(AND(VLOOKUP($B$14,'Macro congé'!$1:$1048576,11,FALSE)<=C3,VLOOKUP($B$14,'Macro congé'!$1:$1048576,12,FALSE)>=C3),"CA",'Menu déroulant '!$G$12),'Menu déroulant '!$G$12) -> Act 7 | E14: =IFERROR(IF(AND(VLOOKUP($B$14,'Macro congé'!$1:$1048576,11,FALSE)<=E3,VLOOKUP($B$14,'Macro congé'!$1:$1048576,12,FALSE)>=E3),"CA",'Menu déroulant '!$G$12),'Menu déroulant '!$G$12) -> Act 7 | G14: =IFERROR(IF(AND(VLOOKUP($B$14,'Macro congé'!$1:$1048576,11,FALSE)<=G3,VLOOKUP($B$14,'Macro congé'!$1:$1048576,12,FALSE)>=G3),"CA",'Menu déroulant '!$G$12),'Menu déroulant '!$G$12) -> Act 7 | I14: =IFERROR(IF(AND(VLOOKUP($B$14,'Macro congé'!$1:$1048576,11,FALSE)<=I3,VLOOKUP($B$14,'Macro congé'!$1:$1048576,12,FALSE)>=I3),"CA",'Menu déroulant '!$G$12),'Menu déroulant '!$G$12) -> Act 7 | K14: =IFERROR(IF(AND(VLOOKUP($B$14,'Macro congé'!$1:$1048576,11,FALSE)<=K3,VLOOKUP($B$14,'Macro congé'!$1:$1048576,12,FALSE)>=K3),"CA",'Menu déroulant '!$G$12),'Menu déroulant '!$G$12) -> Act 7
B15: t | C15: =IFERROR(IF(AND(VLOOKUP($B$15,'Macro congé'!$1:$1048576,11,FALSE)<=C3,VLOOKUP($B$15,'Macro congé'!$1:$1048576,12,FALSE)>=C3),"CA",'Menu déroulant '!$G$13),'Menu déroulant '!$G$13) | E15: =IFERROR(IF(AND(VLOOKUP($B$15,'Macro congé'!$1:$1048576,11,FALSE)<=E3,VLOOKUP($B$15,'Macro congé'!$1:$1048576,12,FALSE)>=E3),"CA",'Menu déroulant '!$G$13),'Menu déroulant '!$G$13) | G15: =IFERROR(IF(AND(VLOOKUP($B$15,'Macro congé'!$1:$1048576,11,FALSE)<=G3,VLOOKUP($B$15,'Macro congé'!$1:$1048576,12,FALSE)>=G3),"CA",'Menu déroulant '!$G$13),'Menu déroulant '!$G$13) | I15: =IFERROR(IF(AND(VLOOKUP($B$15,'Macro congé'!$1:$1048576,11,FALSE)<=I3,VLOOKUP($B$15,'Macro congé'!$1:$1048576,12,FALSE)>=I3),"CA",'Menu déroulant '!$G$13),'Menu déroulant '!$G$13) | K15: =IFERROR(IF(AND(VLOOKUP($B$15,'Macro congé'!$1:$1048576,11,FALSE)<=K3,VLOOKUP($B$15,'Macro congé'!$1:$1048576,12,FALSE)>=K3),"CA",'Menu déroulant '!$G$13),'Menu déroulant '!$G$13)
B16: y | C16: =IFERROR(IF(AND(VLOOKUP($B$16,'Macro congé'!$1:$1048576,11,FALSE)<=C3,VLOOKUP($B$16,'Macro congé'!$1:$1048576,12,FALSE)>=C3),"CA",'Menu déroulant '!$G$14),'Menu déroulant '!$G$14) | E16: =IFERROR(IF(AND(VLOOKUP($B$16,'Macro congé'!$1:$1048576,11,FALSE)<=E3,VLOOKUP($B$16,'Macro congé'!$1:$1048576,12,FALSE)>=E3),"CA",'Menu déroulant '!$G$14),'Menu déroulant '!$G$14) | G16: =IFERROR(IF(AND(VLOOKUP($B$16,'Macro congé'!$1:$1048576,11,FALSE)<=G3,VLOOKUP($B$16,'Macro congé'!$1:$1048576,12,FALSE)>=G3),"CA",'Menu déroulant '!$G$14),'Menu déroulant '!$G$14) | I16: =IFERROR(IF(AND(VLOOKUP($B$16,'Macro congé'!$1:$1048576,11,FALSE)<=I3,VLOOKUP($B$16,'Macro congé'!$1:$1048576,12,FALSE)>=I3),"CA",'Menu déroulant '!$G$14),'Menu déroulant '!$G$14) | K16: =IFERROR(IF(AND(VLOOKUP($B$16,'Macro congé'!$1:$1048576,11,FALSE)<=K3,VLOOKUP($B$16,'Macro congé'!$1:$1048576,12,FALSE)>=K3),"CA",'Menu déroulant '!$G$14),'Menu déroulant '!$G$14)
B17: u | C17: =IFERROR(IF(AND(VLOOKUP($B$17,'Macro congé'!$1:$1048576,11,FALSE)<=C3,VLOOKUP($B$17,'Macro congé'!$1:$1048576,12,FALSE)>=C3),"CA",'Menu déroulant '!$G$15),'Menu déroulant '!$G$15) -> Act 4 | E17: =IFERROR(IF(AND(VLOOKUP($B$17,'Macro congé'!$1:$1048576,11,FALSE)<=E3,VLOOKUP($B$17,'Macro congé'!$1:$1048576,12,FALSE)>=E3),"CA",'Menu déroulant '!$G$15),'Menu déroulant '!$G$15) -> Act 4 | G17: =IFERROR(IF(AND(VLOOKUP($B$17,'Macro congé'!$1:$1048576,11,FALSE)<=G3,VLOOKUP($B$17,'Macro congé'!$1:$1048576,12,FALSE)>=G3),"CA",'Menu déroulant '!$G$15),'Menu déroulant '!$G$15) -> Act 4 | I17: =IFERROR(IF(AND(VLOOKUP($B$17,'Macro congé'!$1:$1048576,11,FALSE)<=I3,VLOOKUP($B$17,'Macro congé'!$1:$1048576,12,FALSE)>=I3),"CA",'Menu déroulant '!$G$15),'Menu déroulant '!$G$15) -> Act 4 | K17: =IFERROR(IF(AND(VLOOKUP($B$17,'Macro congé'!$1:$1048576,11,FALSE)<=K3,VLOOKUP($B$17,'Macro congé'!$1:$1048576,12,FALSE)>=K3),"CA",'Menu déroulant '!$G$15),'Menu déroulant '!$G$15) -> Act 4
B18: i | C18: =IFERROR(IF(AND(VLOOKUP($B$18,'Macro congé'!$1:$1048576,11,FALSE)<=C3,VLOOKUP($B$18,'Macro congé'!$1:$1048576,12,FALSE)>=C3),"CA",'Menu déroulant '!$G$16),'Menu déroulant '!$G$16) | E18: =IFERROR(IF(AND(VLOOKUP($B$18,'Macro congé'!$1:$1048576,11,FALSE)<=E3,VLOOKUP($B$18,'Macro congé'!$1:$1048576,12,FALSE)>=E3),"CA",'Menu déroulant '!$G$16),'Menu déroulant '!$G$16) | G18: =IFERROR(IF(AND(VLOOKUP($B$18,'Macro congé'!$1:$1048576,11,FALSE)<=G3,VLOOKUP($B$18,'Macro congé'!$1:$1048576,12,FALSE)>=G3),"CA",'Menu déroulant '!$G$16),'Menu déroulant '!$G$16) | I18: =IFERROR(IF(AND(VLOOKUP($B$18,'Macro congé'!$1:$1048576,11,FALSE)<=I3,VLOOKUP($B$18,'Macro congé'!$1:$1048576,12,FALSE)>=I3),"CA",'Menu déroulant '!$G$16),'Menu déroulant '!$G$16) | K18: =IFERROR(IF(AND(VLOOKUP($B$18,'Macro congé'!$1:$1048576,11,FALSE)<=K3,VLOOKUP($B$18,'Macro congé'!$1:$1048576,12,FALSE)>=K3),"CA",'Menu déroulant '!$G$16),'Menu déroulant '!$G$16)
B19: o | C19: =IFERROR(IF(AND(VLOOKUP($B$19,'Macro congé'!$1:$1048576,11,FALSE)<=C3,VLOOKUP($B$19,'Macro congé'!$1:$1048576,12,FALSE)>=C3),"CA",'Menu déroulant '!$G$17),'Menu déroulant '!$G$17) | E19: =IFERROR(IF(AND(VLOOKUP($B$19,'Macro congé'!$1:$1048576,11,FALSE)<=E3,VLOOKUP($B$19,'Macro congé'!$1:$1048576,12,FALSE)>=E3),"CA",'Menu déroulant '!$G$17),'Menu déroulant '!$G$17) | G19: =IFERROR(IF(AND(VLOOKUP($B$19,'Macro congé'!$1:$1048576,11,FALSE)<=G3,VLOOKUP($B$19,'Macro congé'!$1:$1048576,12,FALSE)>=G3),"CA",'Menu déroulant '!$G$17),'Menu déroulant '!$G$17) | I19: =IFERROR(IF(AND(VLOOKUP($B$19,'Macro congé'!$1:$1048576,11,FALSE)<=I3,VLOOKUP($B$19,'Macro congé'!$1:$1048576,12,FALSE)>=I3),"CA",'Menu déroulant '!$G$17),'Menu déroulant '!$G$17) | K19: =IFERROR(IF(AND(VLOOKUP($B$19,'Macro congé'!$1:$1048576,11,FALSE)<=K3,VLOOKUP($B$19,'Macro congé'!$1:$1048576,12,FALSE)>=K3),"CA",'Menu déroulant '!$G$17),'Menu déroulant '!$G$17)
B20: p | C20: =IFERROR(IF(AND(VLOOKUP($B$20,'Macro congé'!$1:$1048576,11,FALSE)<=C3,VLOOKUP($B$20,'Macro congé'!$1:$1048576,12,FALSE)>=C3),"CA",'Menu déroulant '!$G$18),'Menu déroulant '!$G$18) | E20: =IFERROR(IF(AND(VLOOKUP($B$20,'Macro congé'!$1:$1048576,11,FALSE)<=E3,VLOOKUP($B$20,'Macro congé'!$1:$1048576,12,FALSE)>=E3),"CA",'Menu déroulant '!$G$18),'Menu déroulant '!$G$18) | G20: =IFERROR(IF(AND(VLOOKUP($B$20,'Macro congé'!$1:$1048576,11,FALSE)<=G3,VLOOKUP($B$20,'Macro congé'!$1:$1048576,12,FALSE)>=G3),"CA",'Menu déroulant '!$G$18),'Menu déroulant '!$G$18) | I20: =IFERROR(IF(AND(VLOOKUP($B$20,'Macro congé'!$1:$1048576,11,FALSE)<=I3,VLOOKUP($B$20,'Macro congé'!$1:$1048576,12,FALSE)>=I3),"CA",'Menu déroulant '!$G$18),'Menu déroulant '!$G$18) | K20: =IFERROR(IF(AND(VLOOKUP($B$20,'Macro congé'!$1:$1048576,11,FALSE)<=K3,VLOOKUP($B$20,'Macro congé'!$1:$1048576,12,FALSE)>=K3),"CA",'Menu déroulant '!$G$18),'Menu déroulant '!$G$18)
B21: q | C21: =IFERROR(IF(AND(VLOOKUP($B$21,'Macro congé'!$1:$1048576,11,FALSE)<=C3,VLOOKUP($B$21,'Macro congé'!$1:$1048576,12,FALSE)>=C3),"CA",'Menu déroulant '!$G$19),'Menu déroulant '!$G$19) | E21: =IFERROR(IF(AND(VLOOKUP($B$21,'Macro congé'!$1:$1048576,11,FALSE)<=E3,VLOOKUP($B$21,'Macro congé'!$1:$1048576,12,FALSE)>=E3),"CA",'Menu déroulant '!$G$19),'Menu déroulant '!$G$19) | G21: =IFERROR(IF(AND(VLOOKUP($B$21,'Macro congé'!$1:$1048576,11,FALSE)<=G3,VLOOKUP($B$21,'Macro congé'!$1:$1048576,12,FALSE)>=G3),"CA",'Menu déroulant '!$G$19),'Menu déroulant '!$G$19) | I21: =IFERROR(IF(AND(VLOOKUP($B$21,'Macro congé'!$1:$1048576,11,FALSE)<=I3,VLOOKUP($B$21,'Macro congé'!$1:$1048576,12,FALSE)>=I3),"CA",'Menu déroulant '!$G$19),'Menu déroulant '!$G$19) | K21: =IFERROR(IF(AND(VLOOKUP($B$21,'Macro congé'!$1:$1048576,11,FALSE)<=K3,VLOOKUP($B$21,'Macro congé'!$1:$1048576,12,FALSE)>=K3),"CA",'Menu déroulant '!$G$19),'Menu déroulant '!$G$19)
B22: s | C22: =IFERROR(IF(AND(VLOOKUP($B$22,'Macro congé'!$1:$1048576,11,FALSE)<=C3,VLOOKUP($B$22,'Macro congé'!$1:$1048576,12,FALSE)>=C3),"CA",'Menu déroulant '!$G$20),'Menu déroulant '!$G$20) | E22: =IFERROR(IF(AND(VLOOKUP($B$22,'Macro congé'!$1:$1048576,11,FALSE)<=E3,VLOOKUP($B$22,'Macro congé'!$1:$1048576,12,FALSE)>=E3),"CA",'Menu déroulant '!$G$20),'Menu déroulant '!$G$20) | G22: =IFERROR(IF(AND(VLOOKUP($B$22,'Macro congé'!$1:$1048576,11,FALSE)<=G3,VLOOKUP($B$22,'Macro congé'!$1:$1048576,12,FALSE)>=G3),"CA",'Menu déroulant '!$G$20),'Menu déroulant '!$G$20) | I22: =IFERROR(IF(AND(VLOOKUP($B$22,'Macro congé'!$1:$1048576,11,FALSE)<=I3,VLOOKUP($B$22,'Macro congé'!$1:$1048576,12,FALSE)>=I3),"CA",'Menu déroulant '!$G$20),'Menu déroulant '!$G$20) | K22: =IFERROR(IF(AND(VLOOKUP($B$22,'Macro congé'!$1:$1048576,11,FALSE)<=K3,VLOOKUP($B$22,'Macro congé'!$1:$1048576,12,FALSE)>=K3),"CA",'Menu déroulant '!$G$20),'Menu déroulant '!$G$20)
B23: h | C23: =IFERROR(IF(AND(RechTous($B$23,'Macro congé'!$1:$1048576,11,FALSE)<=C3,RechTous($B$23,'Macro congé'!$1:$1048576,12,FALSE)>=C3),"CA",'Menu déroulant '!$G$18),'Menu déroulant '!$G$18) | E23: =IFERROR(IF(AND(RechTous($B$23,'Macro congé'!$1:$1048576,11,FALSE)<=E3,RechTous($B$23,'Macro congé'!$1:$1048576,12,FALSE)>=E3),"CA",'Menu déroulant '!$G$18),'Menu déroulant '!$G$18) | G23: =IFERROR(IF(AND(RechTous($B$23,'Macro congé'!$1:$1048576,11,FALSE)<=G3,RechTous($B$23,'Macro congé'!$1:$1048576,12,FALSE)>=G3),"CA",'Menu déroulant '!$G$18),'Menu déroulant '!$G$18) | I23: =IFERROR(IF(AND(RechTous($B$23,'Macro congé'!$1:$1048576,11,FALSE)<=I3,RechTous($B$23,'Macro congé'!$1:$1048576,12,FALSE)>=I3),"CA",'Menu déroulant '!$G$18),'Menu déroulant '!$G$18) | K23: =IFERROR(IF(AND(RechTous($B$23,'Macro congé'!$1:$1048576,11,FALSE)<=K3,RechTous($B$23,'Macro congé'!$1:$1048576,12,FALSE)>=K3),"CA",'Menu déroulant '!$G$18),'Menu déroulant '!$G$18)
B24: j | C24: =IFERROR(IF(AND(VLOOKUP($B$24,'Macro congé'!$1:$1048576,11,FALSE)<=C3,VLOOKUP($B$24,'Macro congé'!$1:$1048576,12,FALSE)>=C3),"CA",'Menu déroulant '!$G$22),'Menu déroulant '!$G$22) -> Act 10 | E24: =IFERROR(IF(AND(VLOOKUP($B$24,'Macro congé'!$1:$1048576,11,FALSE)<=E3,VLOOKUP($B$24,'Macro congé'!$1:$1048576,12,FALSE)>=E3),"CA",'Menu déroulant '!$G$22),'Menu déroulant '!$G$22) -> Act 10 | G24: =IFERROR(IF(AND(VLOOKUP($B$24,'Macro congé'!$1:$1048576,11,FALSE)<=G3,VLOOKUP($B$24,'Macro congé'!$1:$1048576,12,FALSE)>=G3),"CA",'Menu déroulant '!$G$22),'Menu déroulant '!$G$22) -> Act 10 | I24: =IFERROR(IF(AND(VLOOKUP($B$24,'Macro congé'!$1:$1048576,11,FALSE)<=I3,VLOOKUP($B$24,'Macro congé'!$1:$1048576,12,FALSE)>=I3),"CA",'Menu déroulant '!$G$22),'Menu déroulant '!$G$22) -> Act 10 | K24: =IFERROR(IF(AND(VLOOKUP($B$24,'Macro congé'!$1:$1048576,11,FALSE)<=K3,VLOOKUP($B$24,'Macro congé'!$1:$1048576,12,FALSE)>=K3),"CA",'Menu déroulant '!$G$22),'Menu déroulant '!$G$22) -> Act 10
B25: k | C25: =IFERROR(IF(AND(VLOOKUP($B$25,'Macro congé'!$1:$1048576,11,FALSE)<=C3,VLOOKUP($B$25,'Macro congé'!$1:$1048576,12,FALSE)>=C3),"CA",'Menu déroulant '!$G$23),'Menu déroulant '!$G$23) | E25: =IFERROR(IF(AND(VLOOKUP($B$25,'Macro congé'!$1:$1048576,11,FALSE)<=E3,VLOOKUP($B$25,'Macro congé'!$1:$1048576,12,FALSE)>=E3),"CA",'Menu déroulant '!$G$23),'Menu déroulant '!$G$23) | G25: =IFERROR(IF(AND(VLOOKUP($B$25,'Macro congé'!$1:$1048576,11,FALSE)<=G3,VLOOKUP($B$25,'Macro congé'!$1:$1048576,12,FALSE)>=G3),"CA",'Menu déroulant '!$G$23),'Menu déroulant '!$G$23) | I25: =IFERROR(IF(AND(VLOOKUP($B$25,'Macro congé'!$1:$1048576,11,FALSE)<=I3,VLOOKUP($B$25,'Macro congé'!$1:$1048576,12,FALSE)>=I3),"CA",'Menu déroulant '!$G$23),'Menu déroulant '!$G$23) | K25: =IFERROR(IF(AND(VLOOKUP($B$25,'Macro congé'!$1:$1048576,11,FALSE)<=K3,VLOOKUP($B$25,'Macro congé'!$1:$1048576,12,FALSE)>=K3),"CA",'Menu déroulant '!$G$23),'Menu déroulant '!$G$23)
B26: l | C26: =IFERROR(IF(AND(VLOOKUP($B$26,'Macro congé'!$1:$1048576,11,FALSE)<=C3,VLOOKUP($B$26,'Macro congé'!$1:$1048576,12,FALSE)>=C3),"CA",'Menu déroulant '!$G$24),'Menu déroulant '!$G$24) | E26: =IFERROR(IF(AND(VLOOKUP($B$26,'Macro congé'!$1:$1048576,11,FALSE)<=E3,VLOOKUP($B$26,'Macro congé'!$1:$1048576,12,FALSE)>=E3),"CA",'Menu déroulant '!$G$24),'Menu déroulant '!$G$24) | G26: =IFERROR(IF(AND(VLOOKUP($B$26,'Macro congé'!$1:$1048576,11,FALSE)<=G3,VLOOKUP($B$26,'Macro congé'!$1:$1048576,12,FALSE)>=G3),"CA",'Menu déroulant '!$G$24),'Menu déroulant '!$G$24) | I26: =IFERROR(IF(AND(VLOOKUP($B$26,'Macro congé'!$1:$1048576,11,FALSE)<=I3,VLOOKUP($B$26,'Macro congé'!$1:$1048576,12,FALSE)>=I3),"CA",'Menu déroulant '!$G$24),'Menu déroulant '!$G$24) | K26: =IFERROR(IF(AND(VLOOKUP($B$26,'Macro congé'!$1:$1048576,11,FALSE)<=K3,VLOOKUP($B$26,'Macro congé'!$1:$1048576,12,FALSE)>=K3),"CA",'Menu déroulant '!$G$24),'Menu déroulant '!$G$24)
B27: m | C27: =IFERROR(IF(AND(VLOOKUP($B$27,'Macro congé'!$1:$1048576,11,FALSE)<=C3,VLOOKUP($B$27,'Macro congé'!$1:$1048576,12,FALSE)>=C3),"CA",'Menu déroulant '!$G$25),'Menu déroulant '!$G$25) | E27: =IFERROR(IF(AND(VLOOKUP($B$27,'Macro congé'!$1:$1048576,11,FALSE)<=E3,VLOOKUP($B$27,'Macro congé'!$1:$1048576,12,FALSE)>=E3),"CA",'Menu déroulant '!$G$25),'Menu déroulant '!$G$25) | G27: =IFERROR(IF(AND(VLOOKUP($B$27,'Macro congé'!$1:$1048576,11,FALSE)<=G3,VLOOKUP($B$27,'Macro congé'!$1:$1048576,12,FALSE)>=G3),"CA",'Menu déroulant '!$G$25),'Menu déroulant '!$G$25) | I27: =IFERROR(IF(AND(VLOOKUP($B$27,'Macro congé'!$1:$1048576,11,FALSE)<=I3,VLOOKUP($B$27,'Macro congé'!$1:$1048576,12,FALSE)>=I3),"CA",'Menu déroulant '!$G$25),'Menu déroulant '!$G$25) | K27: =IFERROR(IF(AND(VLOOKUP($B$27,'Macro congé'!$1:$1048576,11,FALSE)<=K3,VLOOKUP($B$27,'Macro congé'!$1:$1048576,12,FALSE)>=K3),"CA",'Menu déroulant '!$G$25),'Menu déroulant '!$G$25)
B28: w | C28: =IFERROR(IF(AND(VLOOKUP($B$28,'Macro congé'!$1:$1048576,11,FALSE)<=C3,VLOOKUP($B$28,'Macro congé'!$1:$1048576,12,FALSE)>=C3),"CA",'Menu déroulant '!$G$26),'Menu déroulant '!$G$26) | E28: =IFERROR(IF(AND(VLOOKUP($B$28,'Macro congé'!$1:$1048576,11,FALSE)<=E3,VLOOKUP($B$28,'Macro congé'!$1:$1048576,12,FALSE)>=E3),"CA",'Menu déroulant '!$G$26),'Menu déroulant '!$G$26) | G28: =IFERROR(IF(AND(VLOOKUP($B$28,'Macro congé'!$1:$1048576,11,FALSE)<=G3,VLOOKUP($B$28,'Macro congé'!$1:$1048576,12,FALSE)>=G3),"CA",'Menu déroulant '!$G$26),'Menu déroulant '!$G$26) | I28: =IFERROR(IF(AND(VLOOKUP($B$28,'Macro congé'!$1:$1048576,11,FALSE)<=I3,VLOOKUP($B$28,'Macro congé'!$1:$1048576,12,FALSE)>=I3),"CA",'Menu déroulant '!$G$26),'Menu déroulant '!$G$26) | K28: =IFERROR(IF(AND(VLOOKUP($B$28,'Macro congé'!$1:$1048576,11,FALSE)<=K3,VLOOKUP($B$28,'Macro congé'!$1:$1048576,12,FALSE)>=K3),"CA",'Menu déroulant '!$G$26),'Menu déroulant '!$G$26)
C29: =IFERROR(IF(AND(VLOOKUP($B$29,'Macro congé'!$1:$1048576,11,FALSE)<=C3,VLOOKUP($B$29,'Macro congé'!$1:$1048576,12,FALSE)>=C3),"CA",'Menu déroulant '!$G$27),'Menu déroulant '!$G$27) | E29: =IFERROR(IF(AND(VLOOKUP($B$29,'Macro congé'!$1:$1048576,11,FALSE)<=E3,VLOOKUP($B$29,'Macro congé'!$1:$1048576,12,FALSE)>=E3),"CA",'Menu déroulant '!$G$27),'Menu déroulant '!$G$27) | G29: =IFERROR(IF(AND(VLOOKUP($B$29,'Macro congé'!$1:$1048576,11,FALSE)<=G3,VLOOKUP($B$29,'Macro congé'!$1:$1048576,12,FALSE)>=G3),"CA",'Menu déroulant '!$G$27),'Menu déroulant '!$G$27) | I29: =IFERROR(IF(AND(VLOOKUP($B$29,'Macro congé'!$1:$1048576,11,FALSE)<=I3,VLOOKUP($B$29,'Macro congé'!$1:$1048576,12,FALSE)>=I3),"CA",'Menu déroulant '!$G$27),'Menu déroulant '!$G$27) | K29: =IFERROR(IF(AND(VLOOKUP($B$29,'Macro congé'!$1:$1048576,11,FALSE)<=K3,VLOOKUP($B$29,'Macro congé'!$1:$1048576,12,FALSE)>=K3),"CA",'Menu déroulant '!$G$27),'Menu déroulant '!$G$27)
C30: =IFERROR(IF(AND(VLOOKUP($B$30,'Macro congé'!$1:$1048576,11,FALSE)<=C3,VLOOKUP($B$30,'Macro congé'!$1:$1048576,12,FALSE)>=C3),"CA",'Menu déroulant '!$G$28),'Menu déroulant '!$G$28) | E30: =IFERROR(IF(AND(VLOOKUP($B$30,'Macro congé'!$1:$1048576,11,FALSE)<=E3,VLOOKUP($B$30,'Macro congé'!$1:$1048576,12,FALSE)>=E3),"CA",'Menu déroulant '!$G$28),'Menu déroulant '!$G$28) | G30: =IFERROR(IF(AND(VLOOKUP($B$30,'Macro congé'!$1:$1048576,11,FALSE)<=G3,VLOOKUP($B$30,'Macro congé'!$1:$1048576,12,FALSE)>=G3),"CA",'Menu déroulant '!$G$28),'Menu déroulant '!$G$28) | I30: =IFERROR(IF(AND(VLOOKUP($B$30,'Macro congé'!$1:$1048576,11,FALSE)<=I3,VLOOKUP($B$30,'Macro congé'!$1:$1048576,12,FALSE)>=I3),"CA",'Menu déroulant '!$G$28),'Menu déroulant '!$G$28) | K30: =IFERROR(IF(AND(VLOOKUP($B$30,'Macro congé'!$1:$1048576,11,FALSE)<=K3,VLOOKUP($B$30,'Macro congé'!$1:$1048576,12,FALSE)>=K3),"CA",'Menu déroulant '!$G$28),'Menu déroulant '!$G$28)

Sheet Pas à pas
