Workbook

Sheet GERAL_MAIO
A1: MOBS | B1: NOMES | C1: AGENCIA | D1: VALOR VENDIDO | E1: PERCENTAGEM | F1: COMISSÃO | G1: VALOR EM DÍVIDA | H1: DESCONTO | I1: IRT | J1: IMPOSTO | K1: A PAGAR | L1: ASSINATURA
A2: MOB 07 | B2: Lady | C2: PALANCA | D2: 264250 | E2: 0.08 | F2: =D2*E2 -> 21140 | G2: 0 | H2: 0 | I2: 0 | J2: =F2*I2 -> 0 | K2: =ROUNDUP((F2-J2+H2),-2) -> 21200
A3: MOB 08 | B3: Rodrigo | D3: 168000 | E3: 0.08 | F3: =D3*E3 -> 13440 | G3: 0 | H3: -3500 | I3: 0 | J3: =F3*I3 -> 0 | K3: =ROUNDUP((F3-J3+H3),-2) -> 10000
A4: MOB 09 | B4: Gisa | D4: 281650 | E4: 0.08 | F4: =D4*E4 -> 22532 | G4: 0 | H4: 0 | I4: 0 | J4: =F4*I4 -> 0 | K4: =ROUNDUP((F4-J4+H4),-2) -> 22600
A5: MOB 10 | B5: Jeremia | D5: 581000 | E5: 0.08 | F5: =D5*E5 -> 46480 | G5: 0 | H5: 0 | I5: 0.105 | J5: =F5*I5 -> 4880.4 | K5: =ROUNDUP((F5-J5+H5),-2) -> 41600
A6: MOB 11 | B6: Guelord | D6: 197100 | E6: 0.08 | F6: =D6*E6 -> 15768 | G6: 0 | H6: 0 | I6: 0 | J6: =F6*I6 -> 0 | K6: =ROUNDUP((F6-J6+H6),-2) -> 15800
A7: MOB 12 | B7: Alvarito | D7: 361650 | E7: 0.08 | F7: =D7*E7 -> 28932 | G7: 0 | H7: 0 | I7: 0.105 | J7: =F7*I7 -> 3037.86 | K7: =ROUNDUP((F7-J7+H7),-2) -> 25900
A8: MOB 13 | B8: Jerry | D8: 979500 | E8: 0.08 | F8: =D8*E8 -> 78360 | G8: 0 | H8: 0 | I8: 0.105 | J8: =F8*I8 -> 8227.8 | K8: =ROUNDUP((F8-J8+H8),-2) -> 70200
A9: MOB 14 | B9: Roger Domingos | D9: 141100 | E9: 0.08 | F9: =D9*E9 -> 11288 | G9: 0 | H9: 0 | I9: 0 | J9: =F9*I9 -> 0 | K9: =ROUNDUP((F9-J9+H9),-2) -> 11300
A10: MOB 15 | B10: Davina | D10: 460000 | E10: 0.08 | F10: =D10*E10 -> 36800 | G10: 62500 | H10: -12500 | I10: 0.105 | J10: =F10*I10 -> 3864 | K10: =ROUNDUP((F10-J10+H10),-2) -> 20500 | M10: 62500
A11: MOB 16 | B11: Afonso da Costa | D11: 269050 | E11: 0.08 | F11: =D11*E11 -> 21524 | G11: 62500 | H11: -14500 | I11: 0 | J11: =F11*I11 -> 0 | K11: =ROUNDUP((F11-J11+H11),-2) -> 7100 | M11: 62500
A12: MOB 17 | B12: pascoal | D12: 423250 | E12: 0.08 | F12: =D12*E12 -> 33860 | G12: 0 | H12: 0 | I12: 0.105 | J12: =F12*I12 -> 3555.3 | K12: =ROUNDUP((F12-J12+H12),-2) -> 30400
A13: MOB 18 | B13: Lopes Benga | D13: 444150 | E13: 0.08 | F13: =D13*E13 -> 35532 | G13: 0 | H13: -15000 | I13: 0.105 | J13: =F13*I13 -> 3730.86 | K13: =ROUNDUP((F13-J13+H13),-2) -> 16900
A14: MOB 19 | B14: Prince Bosako | D14: 891000 | E14: 0.08 | F14: =D14*E14 -> 71280 | G14: 0 | H14: 0 | I14: 0.105 | J14: =F14*I14 -> 7484.4 | K14: =ROUNDUP((F14-J14+H14),-2) -> 63800
A15: MOB 20 | B15: Madraul Dayo | D15: 699200 | E15: 0.08 | F15: =D15*E15 -> 55936 | G15: 0 | H15: 0 | I15: 0.105 | J15: =F15*I15 -> 5873.28 | K15: =ROUNDUP((F15-J15+H15),-2) -> 50100
A16: MOB 21 | B16: Basilio | D16: 222900 | E16: 0.08 | F16: =D16*E16 -> 17832 | G16: 0 | H16: 0 | I16: 0 | J16: =F16*I16 -> 0 | K16: =ROUNDUP((F16-J16+H16),-2) -> 17900
A17: MOB 22 | B17: Margarida | D17: 190450 | E17: 0.08 | F17: =D17*E17 -> 15236 | G17: 0 | H17: 0 | I17: 0 | J17: =F17*I17 -> 0 | K17: =ROUNDUP((F17-J17+H17),-2) -> 15300
A18: MOB 23 | B18: Noe de Jesus | D18: 86200 | E18: 0.08 | F18: =D18*E18 -> 6896 | G18: 0 | H18: 0 | I18: 0 | J18: =F18*I18 -> 0 | K18: =ROUNDUP((F18-J18+H18),-2) -> 6900
A19: MOB 24 | D19: 0 | E19: 0.08 | F19: =D19*E19 -> 0 | G19: 0 | H19: 0 | I19: 0 | J19: =F19*I19 -> 0 | K19: =ROUNDUP((F19-J19+H19),-2) -> 0
A20: MOB 25 | D20: 0 | E20: 0.08 | F20: =D20*E20 -> 0 | G20: 0 | H20: 0 | I20: 0 | J20: =F20*I20 -> 0 | K20: =ROUNDUP((F20-J20+H20),-2) -> 0
A21: MOB 26 | D21: 0 | E21: 0.08 | F21: =D21*E21 -> 0 | G21: 0 | H21: 0 | I21: 0 | J21: =F21*I21 -> 0 | K21: =ROUNDUP((F21-J21+H21),-2) -> 0
A22: MOB 27 | B22: Justine Tomena | D22: 168200 | E22: 0.08 | F22: =D22*E22 -> 13456 | G22: 0 | H22: 0 | I22: 0 | J22: =F22*I22 -> 0 | K22: =ROUNDUP((F22-J22+H22),-2) -> 13500
A23: MOB 28 | B23: Maravilha | D23: 323100 | E23: 0.08 | F23: =D23*E23 -> 25848 | G23: 0 | H23: 0 | I23: 0.105 | J23: =F23*I23 -> 2714.04 | K23: =ROUNDUP((F23-J23+H23),-2) -> 23200
A24: MOB 29 | D24: 0 | E24: 0.08 | F24: =D24*E24 -> 0 | G24: 0 | H24: 0 | I24: 0 | J24: =F24*I24 -> 0 | K24: =ROUNDUP((F24-J24+H24),-2) -> 0
A25: MOB 30 | B25: João Feliz | D25: 360000 | E25: 0.08 | F25: =D25*E25 -> 28800 | G25: 0 | H25: -5172 | I25: 0.105 | J25: =F25*I25 -> 3024 | K25: =ROUNDUP((F25-J25+H25),-2) -> 20700
A26: MOB 31 | B26: Alfredo Zinga | D26: 548050 | E26: 0.08 | F26: =D26*E26 -> 43844 | G26: 36000 | H26: -39200 | I26: 0.105 | J26: =F26*I26 -> 4603.62 | K26: =ROUNDUP((F26-J26+H26),-2) -> 100 | M26: 36000
A27: MOB 32 | B27: Joel Eduardo | D27: 385200 | E27: 0.08 | F27: =D27*E27 -> 30816 | G27: 0 | H27: 0 | I27: 0.105 | J27: =F27*I27 -> 3235.68 | K27: =ROUNDUP((F27-J27+H27),-2) -> 27600
A28: MOB 33 | B28: Leticia Samba | D28: 505600 | E28: 0.08 | F28: =D28*E28 -> 40448 | G28: 0 | H28: 0 | I28: 0.105 | J28: =F28*I28 -> 4247.04 | K28: =ROUNDUP((F28-J28+H28),-2) -> 36300
A29: MOB 34 | B29: Fabri Fimbu | D29: 362800 | E29: 0.08 | F29: =D29*E29 -> 29024 | G29: 0 | H29: 0 | I29: 0.105 | J29: =F29*I29 -> 3047.52 | K29: =ROUNDUP((F29-J29+H29),-2) -> 26000
A30: MOB 35 | B30: Lukombo Sita Bila | D30: 395450 | E30: 0.08 | F30: =D30*E30 -> 31636 | G30: 0 | H30: -2169 | I30: 0.105 | J30: =F30*I30 -> 3321.78 | K30: =ROUNDUP((F30-J30+H30),-2) -> 26200
A31: MOB 36 | B31: Lurdivina Mata | D31: 566200 | E31: 0.08 | F31: =D31*E31 -> 45296 | G31: 0 | H31: 0 | I31: 0.105 | J31: =F31*I31 -> 4756.08 | K31: =ROUNDUP((F31-J31+H31),-2) -> 40600
A32: MOB 37 | B32: efrahim cardoso | D32: 314750 | E32: 0.08 | F32: =D32*E32 -> 25180 | G32: 0 | H32: -1950 | I32: 0.105 | J32: =F32*I32 -> 2643.9 | K32: =ROUNDUP((F32-J32+H32),-2) -> 20600
A33: MOB 38 | B33: Joel Mafuta | D33: 384050 | E33: 0.08 | F33: =D33*E33 -> 30724 | G33: 0 | H33: 0 | I33: 0.105 | J33: =F33*I33 -> 3226.02 | K33: =ROUNDUP((F33-J33+H33),-2) -> 27500
A34: MOB 39 | B34: André Luzolo Victor | D34: 447650 | E34: 0.08 | F34: =D34*E34 -> 35812 | G34: 0 | H34: 0 | I34: 0.105 | J34: =F34*I34 -> 3760.26 | K34: =ROUNDUP((F34-J34+H34),-2) -> 32100
A35: MOB 40 | B35: Kinanga Pedro | D35: 342050 | E35: 0.08 | F35: =D35*E35 -> 27364 | G35: 0 | H35: -3673 | I35: 0.105 | J35: =F35*I35 -> 2873.22 | K35: =ROUNDUP((F35-J35+H35),-2) -> 20900
A36: MOB 41 | B36: Tresor Francisco | D36: 156550 | E36: 0.08 | F36: =D36*E36 -> 12524 | G36: 0 | H36: 0 | I36: 0 | J36: =F36*I36 -> 0 | K36: =ROUNDUP((F36-J36+H36),-2) -> 12600
A37: MOB 42 | B37: Silva Kitenge | D37: 271100 | E37: 0.08 | F37: =D37*E37 -> 21688 | G37: 0 | H37: -3841 | I37: 0 | J37: =F37*I37 -> 0 | K37: =ROUNDUP((F37-J37+H37),-2) -> 17900
A38: MOB 43 | B38: Afonso Mbuiti | D38: 209450 | E38: 0.08 | F38: =D38*E38 -> 16756 | G38: 0 | H38: 0 | I38: 0 | J38: =F38*I38 -> 0 | K38: =ROUNDUP((F38-J38+H38),-2) -> 16800
... A48: MOB 53 | B48: Anna Panzu | D48: 192150 | E48: 0.08 | F48: =D48*E48 -> 15372 | G48: 0 | H48: 0 | I48: 0 | J48: =F48*I48 -> 0 | K48: =ROUNDUP((F48-J48+H48),-2) -> 15400
A49: MOB 54 | D49: 384350 | E49: 0.08 | F49: =D49*E49 -> 30748 | G49: 0 | H49: 0 | I49: 0.105 | J49: =F49*I49 -> 3228.54 | K49: =ROUNDUP((F49-J49+H49),-2) -> 27600
...

Sheet RECIBOS_MAIO
C2: MOTA TAVARES & BARROS SA | K2: MOTA TAVARES & BARROS SA
D4: RECIBO DE PAGAMENTO | L4: RECIBO DE PAGAMENTO
B5: Nome | C5: =GERAL_MAIO!B2 -> Lady | J5: Nome | K5: =GERAL_MAIO!B2 -> Lady
B7: Agencia | C7: =GERAL_MAIO!C2 -> PALANCA | F7: Zona | J7: Agencia | K7: =GERAL_MAIO!C2 -> PALANCA | N7: Zona
B9: Mob | C9: =(GERAL_MAIO!A2) -> MOB 07 | J9: Mob | K9: =GERAL_MAIO!A2 -> MOB 07
B13: Venda Mensal | D13: =GERAL_MAIO!D2 -> 264250 | H13: =D13 -> 264250 | J13: Venda Mensal | L13: =(D13) -> 264250 | P13: =(H13) -> 264250
B15: Comissão Bruta | D15: 0.08 | H15: =(GERAL_MAIO!F2) -> 21140 | J15: Comissão Bruta | L15: 0.08 | P15: =(H15) -> 21140
B17: I. R. T | D17: 0.105 | H17: =(GERAL_MAIO!J2) -> 0 | J17: I. R. T | L17: 0.105 | P17: =(H17) -> 0
B19: Valor em dívida | H19: =GERAL_MAIO!G2 -> 0 | J19: Valor em dívida | P19: =GERAL_MAIO!G2 -> 0
B21: Descontos | H21: =GERAL_MAIO!H2 -> 0 | J21: Descontos | P21: =GERAL_MAIO!H2 -> 0
B23: Total descontado | H23: =(H17+H21) -> 0 | J23: Total descontado | P23: =P21-P17 -> 0
B25: Total a receber: | H25: =GERAL_MAIO!K2 -> 21200 | J25: Total a receber: | P25: =GERAL_MAIO!K2 -> 21200
B28: Assinatura: | J28: Assinatura:
C31: MOTA TAVARES & BARROS SA | K31: MOTA TAVARES & BARROS SA
D33: RECIBO DE PAGAMENTO | L33: RECIBO DE PAGAMENTO
B34: Nome | C34: =GERAL_MAIO!B31 -> Lurdivina Mata | J34: Nome | K34: =GERAL_MAIO!B31 -> Lurdivina Mata
B36: Agencia | C36: =GERAL_MAIO!C31 -> 0 | F36: Zona | J36: Agencia | K36: =GERAL_MAIO!C31 -> 0 | N36: Zona
B38: Mob | C38: =(GERAL_MAIO!A31) -> MOB 36 | J38: Mob | K38: =GERAL_MAIO!A31 -> MOB 36
B42: Venda Mensal | D42: =GERAL_MAIO!#REF! -> #REF! | H42: =D42 -> #REF! | J42: Venda Mensal | L42: =GERAL_MAIO!D31 -> 566200 | P42: =L42 -> 566200
B44: Comissão Bruta | D44: =GERAL_MAIO!#REF! -> #REF! | H44: =H42*D44 -> #REF! | J44: Comissão Bruta | L44: 1.08 | P44: =P42*L44 -> 611496
B46: I. R. T | D46: =GERAL_MAIO!#REF! -> #REF! | H46: =H44*D46 -> #REF! | J46: I. R. T | L46: =GERAL_MAIO!I31 -> 0.105 | P46: =P44*L46 -> 64207.08
B48: Valor em dívida | H48: =GERAL_MAIO!#REF! -> #REF! | J48: Valor em dívida | P48: =GERAL_MAIO!G31 -> 0
B50: Descontos | H50: =GERAL_MAIO!#REF! -> #REF! | J50: Descontos | P50: =GERAL_MAIO!H31 -> 0
B52: Total descontado | H52: =H50-H46 -> #REF! | J52: Total descontado | P52: =P50-P46 -> -64207.08
B54: Total a receber: | H54: =GERAL_MAIO!#REF! -> #REF! | J54: Total a receber: | P54: =GERAL_MAIO!K31 -> 40600
B57: Assinatura: | J57: Assinatura:
