Workbook

Sheet Ventes journalières
A1: Ventes journalières
B4: Mois | C4: Janvier | F4: Jour | G4: 15 | I4: Jour non travaillé | L4: 0
C6: Vendeur 1 | E6: Vendeur 2 | G6: Vendeur 3 | I6: Vendeur 4 | K6: Vendeur 5
B7: 35 | D7: =C7*B7 -> 0 | E7: 1 | F7: =E7*B7 -> 35 | H7: =G7*B7 -> 0 | J7: =I7*B7 -> 0 | L7: =K7*B7 -> 0
B8: 40 | D8: =C8*B8 -> 0 | F8: =E8*B8 -> 0 | H8: =G8*B8 -> 0 | J8: =I8*B8 -> 0 | L8: =K8*B8 -> 0
B9: 45 | D9: =C9*B9 -> 0 | F9: =E9*B9 -> 0 | G9: 1 | H9: =G9*B9 -> 45 | J9: =I9*B9 -> 0 | L9: =K9*B9 -> 0
B10: 50 | D10: =C10*B10 -> 0 | F10: =E10*B10 -> 0 | H10: =G10*B10 -> 0 | I10: 1 | J10: =I10*B10 -> 50 | L10: =K10*B10 -> 0
B11: 55 | D11: =C11*B11 -> 0 | F11: =E11*B11 -> 0 | H11: =G11*B11 -> 0 | J11: =I11*B11 -> 0 | K11: 1 | L11: =K11*B11 -> 55
B12: 60 | D12: =C12*B12 -> 0 | F12: =E12*B12 -> 0 | H12: =G12*B12 -> 0 | J12: =I12*B12 -> 0 | L12: =K12*B12 -> 0
B13: 65 | D13: =C13*B13 -> 0 | F13: =E13*B13 -> 0 | H13: =G13*B13 -> 0 | J13: =I13*B13 -> 0 | L13: =K13*B13 -> 0
B14: 70 | D14: =C14*B14 -> 0 | F14: =E14*B14 -> 0 | H14: =G14*B14 -> 0 | J14: =I14*B14 -> 0 | L14: =K14*B14 -> 0
B15: 75 | D15: =C15*B15 -> 0 | F15: =E15*B15 -> 0 | H15: =G15*B15 -> 0 | J15: =I15*B15 -> 0 | L15: =K15*B15 -> 0
B16: 80 | D16: =C16*B16 -> 0 | F16: =E16*B16 -> 0 | H16: =G16*B16 -> 0 | J16: =I16*B16 -> 0 | L16: =K16*B16 -> 0
B17: 85 | D17: =C17*B17 -> 0 | F17: =E17*B17 -> 0 | H17: =G17*B17 -> 0 | J17: =I17*B17 -> 0 | L17: =K17*B17 -> 0
B18: 90 | D18: =C18*B18 -> 0 | F18: =E18*B18 -> 0 | H18: =G18*B18 -> 0 | J18: =I18*B18 -> 0 | L18: =K18*B18 -> 0
B19: 95 | D19: =C19*B19 -> 0 | F19: =E19*B19 -> 0 | H19: =G19*B19 -> 0 | J19: =I19*B19 -> 0 | L19: =K19*B19 -> 0
B20: 100 | D20: =C20*B20 -> 0 | F20: =E20*B20 -> 0 | H20: =G20*B20 -> 0 | J20: =I20*B20 -> 0 | L20: =K20*B20 -> 0
B21: 105 | D21: =C21*B21 -> 0 | F21: =E21*B21 -> 0 | H21: =G21*B21 -> 0 | J21: =I21*B21 -> 0 | L21: =K21*B21 -> 0
A22: Total ventes jour (€) | C22: =SUM(D7:D21) -> 0 | E22: =SUM(F7:F21) -> 35 | G22: =SUM(H7:H21) -> 45 | I22: =SUM(J7:J21) -> 50 | K22: =SUM(L7:L21) -> 55

Sheet V. Janvier
A1: Ventes Janvier
B4: Vendeur 1 | C4: Vendeur 2 | D4: Vendeur 3 | E4: Vendeur 4 | F4: Vendeur 5
A5: 1 | B5: =IF('Ventes journalières'!$G$4='V. Janvier'!A5,'Ventes journalières'!$C$22,'Ventes journalières'!$L$4) -> 0 | C5: =IF('Ventes journalières'!$G$4='V. Janvier'!A5,'Ventes journalières'!$E$22,'Ventes journalières'!$L$4) -> 0 | D5: =IF('Ventes journalières'!$G$4='V. Janvier'!A5,'Ventes journalières'!$G$22,'Ventes journalières'!$L$4) -> 0 | E5: =IF('Ventes journalières'!$G$4='V. Janvier'!A5,'Ventes journalières'!$I$22,'Ventes journalières'!$L$4) -> 0 | F5: =IF('Ventes journalières'!$G$4='V. Janvier'!A5,'Ventes journalières'!$K$22,'Ventes journalières'!$L$4) -> 0
A6: 2 | B6: =IF('Ventes journalières'!$G$4='V. Janvier'!A6,'Ventes journalières'!$C$22,'Ventes journalières'!$L$4) -> 0 | C6: =IF('Ventes journalières'!$G$4='V. Janvier'!A6,'Ventes journalières'!$E$22,'Ventes journalières'!$L$4) -> 0 | D6: =IF('Ventes journalières'!$G$4='V. Janvier'!A6,'Ventes journalières'!$G$22,'Ventes journalières'!$L$4) -> 0 | E6: =IF('Ventes journalières'!$G$4='V. Janvier'!A6,'Ventes journalières'!$I$22,'Ventes journalières'!$L$4) -> 0 | F6: =IF('Ventes journalières'!$G$4='V. Janvier'!A6,'Ventes journalières'!$K$22,'Ventes journalières'!$L$4) -> 0
A7: 3 | B7: =IF('Ventes journalières'!$G$4='V. Janvier'!A7,'Ventes journalières'!$C$22,'Ventes journalières'!$L$4) -> 0 | C7: =IF('Ventes journalières'!$G$4='V. Janvier'!A7,'Ventes journalières'!$E$22,'Ventes journalières'!$L$4) -> 0 | D7: =IF('Ventes journalières'!$G$4='V. Janvier'!A7,'Ventes journalières'!$G$22,'Ventes journalières'!$L$4) -> 0 | E7: =IF('Ventes journalières'!$G$4='V. Janvier'!A7,'Ventes journalières'!$I$22,'Ventes journalières'!$L$4) -> 0 | F7: =IF('Ventes journalières'!$G$4='V. Janvier'!A7,'Ventes journalières'!$K$22,'Ventes journalières'!$L$4) -> 0
A8: 4 | B8: =IF('Ventes journalières'!$G$4='V. Janvier'!A8,'Ventes journalières'!$C$22,'Ventes journalières'!$L$4) -> 0 | C8: =IF('Ventes journalières'!$G$4='V. Janvier'!A8,'Ventes journalières'!$E$22,'Ventes journalières'!$L$4) -> 0 | D8: =IF('Ventes journalières'!$G$4='V. Janvier'!A8,'Ventes journalières'!$G$22,'Ventes journalières'!$L$4) -> 0 | E8: =IF('Ventes journalières'!$G$4='V. Janvier'!A8,'Ventes journalières'!$I$22,'Ventes journalières'!$L$4) -> 0 | F8: =IF('Ventes journalières'!$G$4='V. Janvier'!A8,'Ventes journalières'!$K$22,'Ventes journalières'!$L$4) -> 0
A9: 5 | B9: =IF('Ventes journalières'!$G$4='V. Janvier'!A9,'Ventes journalières'!$C$22,'Ventes journalières'!$L$4) -> 0 | C9: =IF('Ventes journalières'!$G$4='V. Janvier'!A9,'Ventes journalières'!$E$22,'Ventes journalières'!$L$4) -> 0 | D9: =IF('Ventes journalières'!$G$4='V. Janvier'!A9,'Ventes journalières'!$G$22,'Ventes journalières'!$L$4) -> 0 | E9: =IF('Ventes journalières'!$G$4='V. Janvier'!A9,'Ventes journalières'!$I$22,'Ventes journalières'!$L$4) -> 0 | F9: =IF('Ventes journalières'!$G$4='V. Janvier'!A9,'Ventes journalières'!$K$22,'Ventes journalières'!$L$4) -> 0
A10: 6 | B10: =IF('Ventes journalières'!$G$4='V. Janvier'!A10,'Ventes journalières'!$C$22,'Ventes journalières'!$L$4) -> 0 | C10: =IF('Ventes journalières'!$G$4='V. Janvier'!A10,'Ventes journalières'!$E$22,'Ventes journalières'!$L$4) -> 0 | D10: =IF('Ventes journalières'!$G$4='V. Janvier'!A10,'Ventes journalières'!$G$22,'Ventes journalières'!$L$4) -> 0 | E10: =IF('Ventes journalières'!$G$4='V. Janvier'!A10,'Ventes journalières'!$I$22,'Ventes journalières'!$L$4) -> 0 | F10: =IF('Ventes journalières'!$G$4='V. Janvier'!A10,'Ventes journalières'!$K$22,'Ventes journalières'!$L$4) -> 0
A11: 7 | B11: =IF('Ventes journalières'!$G$4='V. Janvier'!A11,'Ventes journalières'!$C$22,'Ventes journalières'!$L$4) -> 0 | C11: =IF('Ventes journalières'!$G$4='V. Janvier'!A11,'Ventes journalières'!$E$22,'Ventes journalières'!$L$4) -> 0 | D11: =IF('Ventes journalières'!$G$4='V. Janvier'!A11,'Ventes journalières'!$G$22,'Ventes journalières'!$L$4) -> 0 | E11: =IF('Ventes journalières'!$G$4='V. Janvier'!A11,'Ventes journalières'!$I$22,'Ventes journalières'!$L$4) -> 0 | F11: =IF('Ventes journalières'!$G$4='V. Janvier'!A11,'Ventes journalières'!$K$22,'Ventes journalières'!$L$4) -> 0
A12: 8 | B12: =IF('Ventes journalières'!$G$4='V. Janvier'!A12,'Ventes journalières'!$C$22,'Ventes journalières'!$L$4) -> 0 | C12: =IF('Ventes journalières'!$G$4='V. Janvier'!A12,'Ventes journalières'!$E$22,'Ventes journalières'!$L$4) -> 0 | D12: =IF('Ventes journalières'!$G$4='V. Janvier'!A12,'Ventes journalières'!$G$22,'Ventes journalières'!$L$4) -> 0 | E12: =IF('Ventes journalières'!$G$4='V. Janvier'!A12,'Ventes journalières'!$I$22,'Ventes journalières'!$L$4) -> 0 | F12: =IF('Ventes journalières'!$G$4='V. Janvier'!A12,'Ventes journalières'!$K$22,'Ventes journalières'!$L$4) -> 0
A13: 9 | B13: =IF('Ventes journalières'!$G$4='V. Janvier'!A13,'Ventes journalières'!$C$22,'Ventes journalières'!$L$4) -> 0 | C13: =IF('Ventes journalières'!$G$4='V. Janvier'!A13,'Ventes journalières'!$E$22,'Ventes journalières'!$L$4) -> 0 | D13: =IF('Ventes journalières'!$G$4='V. Janvier'!A13,'Ventes journalières'!$G$22,'Ventes journalières'!$L$4) -> 0 | E13: =IF('Ventes journalières'!$G$4='V. Janvier'!A13,'Ventes journalières'!$I$22,'Ventes journalières'!$L$4) -> 0 | F13: =IF('Ventes journalières'!$G$4='V. Janvier'!A13,'Ventes journalières'!$K$22,'Ventes journalières'!$L$4) -> 0
A14: 10 | B14: =IF('Ventes journalières'!$G$4='V. Janvier'!A14,'Ventes journalières'!$C$22,'Ventes journalières'!$L$4) -> 0 | C14: =IF('Ventes journalières'!$G$4='V. Janvier'!A14,'Ventes journalières'!$E$22,'Ventes journalières'!$L$4) -> 0 | D14: =IF('Ventes journalières'!$G$4='V. Janvier'!A14,'Ventes journalières'!$G$22,'Ventes journalières'!$L$4) -> 0 | E14: =IF('Ventes journalières'!$G$4='V. Janvier'!A14,'Ventes journalières'!$I$22,'Ventes journalières'!$L$4) -> 0 | F14: =IF('Ventes journalières'!$G$4='V. Janvier'!A14,'Ventes journalières'!$K$22,'Ventes journalières'!$L$4) -> 0
A15: 11 | B15: =IF('Ventes journalières'!$G$4='V. Janvier'!A15,'Ventes journalières'!$C$22,'Ventes journalières'!$L$4) -> 0 | C15: =IF('Ventes journalières'!$G$4='V. Janvier'!A15,'Ventes journalières'!$E$22,'Ventes journalières'!$L$4) -> 0 | D15: =IF('Ventes journalières'!$G$4='V. Janvier'!A15,'Ventes journalières'!$G$22,'Ventes journalières'!$L$4) -> 0 | E15: =IF('Ventes journalières'!$G$4='V. Janvier'!A15,'Ventes journalières'!$I$22,'Ventes journalières'!$L$4) -> 0 | F15: =IF('Ventes journalières'!$G$4='V. Janvier'!A15,'Ventes journalières'!$K$22,'Ventes journalières'!$L$4) -> 0
A16: 12 | B16: =IF('Ventes journalières'!$G$4='V. Janvier'!A16,'Ventes journalières'!$C$22,'Ventes journalières'!$L$4) -> 0 | C16: =IF('Ventes journalières'!$G$4='V. Janvier'!A16,'Ventes journalières'!$E$22,'Ventes journalières'!$L$4) -> 0 | D16: =IF('Ventes journalières'!$G$4='V. Janvier'!A16,'Ventes journalières'!$G$22,'Ventes journalières'!$L$4) -> 0 | E16: =IF('Ventes journalières'!$G$4='V. Janvier'!A16,'Ventes journalières'!$I$22,'Ventes journalières'!$L$4) -> 0 | F16: =IF('Ventes journalières'!$G$4='V. Janvier'!A16,'Ventes journalières'!$K$22,'Ventes journalières'!$L$4) -> 0
... A35: 31 | B35: =IF('Ventes journalières'!$G$4='V. Janvier'!A35,'Ventes journalières'!$C$22,'Ventes journalières'!$L$4) -> 0 | C35: =IF('Ventes journalières'!$G$4='V. Janvier'!A35,'Ventes journalières'!$E$22,'Ventes journalières'!$L$4) -> 0 | D35: =IF('Ventes journalières'!$G$4='V. Janvier'!A35,'Ventes journalières'!$G$22,'Ventes journalières'!$L$4) -> 0 | E35: =IF('Ventes journalières'!$G$4='V. Janvier'!A35,'Ventes journalières'!$I$22,'Ventes journalières'!$L$4) -> 0 | F35: =IF('Ventes journalières'!$G$4='V. Janvier'!A35,'Ventes journalières'!$K$22,'Ventes journalières'!$L$4) -> 0
A36: TOTAL | B36: =SUM(B5:B35) -> 0 | C36: =SUM(C5:C35) -> 35 | D36: =SUM(D5:D35) -> 45 | E36: =SUM(E5:E35) -> 50 | F36: =SUM(F5:F35) -> 55

Sheet V. Février
A1: Ventes Février
B4: Vendeur 1 | C4: Vendeur 2 | D4: Vendeur 3 | E4: Vendeur 4 | F4: Vendeur 5
A5: 1 | B5: =IF('Ventes journalières'!$G$4='V. Février'!A5,'Ventes journalières'!$C$22,'Ventes journalières'!$L$4) -> 0 | C5: =IF('Ventes journalières'!$G$4='V. Février'!A5,'Ventes journalières'!$E$22,'Ventes journalières'!$L$4) -> 0 | D5: =IF('Ventes journalières'!$G$4='V. Février'!A5,'Ventes journalières'!$G$22,'Ventes journalières'!$L$4) -> 0 | E5: =IF('Ventes journalières'!$G$4='V. Février'!A5,'Ventes journalières'!$I$22,'Ventes journalières'!$L$4) -> 0 | F5: =IF('Ventes journalières'!$G$4='V. Février'!A5,'Ventes journalières'!$K$22,'Ventes journalières'!$L$4) -> 0
A6: 2 | B6: =IF('Ventes journalières'!$G$4='V. Février'!A6,'Ventes journalières'!$C$22,'Ventes journalières'!$L$4) -> 0 | C6: =IF('Ventes journalières'!$G$4='V. Février'!A6,'Ventes journalières'!$E$22,'Ventes journalières'!$L$4) -> 0 | D6: =IF('Ventes journalières'!$G$4='V. Février'!A6,'Ventes journalières'!$G$22,'Ventes journalières'!$L$4) -> 0 | E6: =IF('Ventes journalières'!$G$4='V. Février'!A6,'Ventes journalières'!$I$22,'Ventes journalières'!$L$4) -> 0 | F6: =IF('Ventes journalières'!$G$4='V. Février'!A6,'Ventes journalières'!$K$22,'Ventes journalières'!$L$4) -> 0
A7: 3 | B7: =IF('Ventes journalières'!$G$4='V. Février'!A7,'Ventes journalières'!$C$22,'Ventes journalières'!$L$4) -> 0 | C7: =IF('Ventes journalières'!$G$4='V. Février'!A7,'Ventes journalières'!$E$22,'Ventes journalières'!$L$4) -> 0 | D7: =IF('Ventes journalières'!$G$4='V. Février'!A7,'Ventes journalières'!$G$22,'Ventes journalières'!$L$4) -> 0 | E7: =IF('Ventes journalières'!$G$4='V. Février'!A7,'Ventes journalières'!$I$22,'Ventes journalières'!$L$4) -> 0 | F7: =IF('Ventes journalières'!$G$4='V. Février'!A7,'Ventes journalières'!$K$22,'Ventes journalières'!$L$4) -> 0
A8: 4 | B8: =IF('Ventes journalières'!$G$4='V. Février'!A8,'Ventes journalières'!$C$22,'Ventes journalières'!$L$4) -> 0 | C8: =IF('Ventes journalières'!$G$4='V. Février'!A8,'Ventes journalières'!$E$22,'Ventes journalières'!$L$4) -> 0 | D8: =IF('Ventes journalières'!$G$4='V. Février'!A8,'Ventes journalières'!$G$22,'Ventes journalières'!$L$4) -> 0 | E8: =IF('Ventes journalières'!$G$4='V. Février'!A8,'Ventes journalières'!$I$22,'Ventes journalières'!$L$4) -> 0 | F8: =IF('Ventes journalières'!$G$4='V. Février'!A8,'Ventes journalières'!$K$22,'Ventes journalières'!$L$4) -> 0
A9: 5 | B9: =IF('Ventes journalières'!$G$4='V. Février'!A9,'Ventes journalières'!$C$22,'Ventes journalières'!$L$4) -> 0 | C9: =IF('Ventes journalières'!$G$4='V. Février'!A9,'Ventes journalières'!$E$22,'Ventes journalières'!$L$4) -> 0 | D9: =IF('Ventes journalières'!$G$4='V. Février'!A9,'Ventes journalières'!$G$22,'Ventes journalières'!$L$4) -> 0 | E9: =IF('Ventes journalières'!$G$4='V. Février'!A9,'Ventes journalières'!$I$22,'Ventes journalières'!$L$4) -> 0 | F9: =IF('Ventes journalières'!$G$4='V. Février'!A9,'Ventes journalières'!$K$22,'Ventes journalières'!$L$4) -> 0
A10: 6 | B10: =IF('Ventes journalières'!$G$4='V. Février'!A10,'Ventes journalières'!$C$22,'Ventes journalières'!$L$4) -> 0 | C10: =IF('Ventes journalières'!$G$4='V. Février'!A10,'Ventes journalières'!$E$22,'Ventes journalières'!$L$4) -> 0 | D10: =IF('Ventes journalières'!$G$4='V. Février'!A10,'Ventes journalières'!$G$22,'Ventes journalières'!$L$4) -> 0 | E10: =IF('Ventes journalières'!$G$4='V. Février'!A10,'Ventes journalières'!$I$22,'Ventes journalières'!$L$4) -> 0 | F10: =IF('Ventes journalières'!$G$4='V. Février'!A10,'Ventes journalières'!$K$22,'Ventes journalières'!$L$4) -> 0
A11: 7 | B11: =IF('Ventes journalières'!$G$4='V. Février'!A11,'Ventes journalières'!$C$22,'Ventes journalières'!$L$4) -> 0 | C11: =IF('Ventes journalières'!$G$4='V. Février'!A11,'Ventes journalières'!$E$22,'Ventes journalières'!$L$4) -> 0 | D11: =IF('Ventes journalières'!$G$4='V. Février'!A11,'Ventes journalières'!$G$22,'Ventes journalières'!$L$4) -> 0 | E11: =IF('Ventes journalières'!$G$4='V. Février'!A11,'Ventes journalières'!$I$22,'Ventes journalières'!$L$4) -> 0 | F11: =IF('Ventes journalières'!$G$4='V. Février'!A11,'Ventes journalières'!$K$22,'Ventes journalières'!$L$4) -> 0
A12: 8 | B12: =IF('Ventes journalières'!$G$4='V. Février'!A12,'Ventes journalières'!$C$22,'Ventes journalières'!$L$4) -> 0 | C12: =IF('Ventes journalières'!$G$4='V. Février'!A12,'Ventes journalières'!$E$22,'Ventes journalières'!$L$4) -> 0 | D12: =IF('Ventes journalières'!$G$4='V. Février'!A12,'Ventes journalières'!$G$22,'Ventes journalières'!$L$4) -> 0 | E12: =IF('Ventes journalières'!$G$4='V. Février'!A12,'Ventes journalières'!$I$22,'Ventes journalières'!$L$4) -> 0 | F12: =IF('Ventes journalières'!$G$4='V. Février'!A12,'Ventes journalières'!$K$22,'Ventes journalières'!$L$4) -> 0
A13: 9 | B13: =IF('Ventes journalières'!$G$4='V. Février'!A13,'Ventes journalières'!$C$22,'Ventes journalières'!$L$4) -> 0 | C13: =IF('Ventes journalières'!$G$4='V. Février'!A13,'Ventes journalières'!$E$22,'Ventes journalières'!$L$4) -> 0 | D13: =IF('Ventes journalières'!$G$4='V. Février'!A13,'Ventes journalières'!$G$22,'Ventes journalières'!$L$4) -> 0 | E13: =IF('Ventes journalières'!$G$4='V. Février'!A13,'Ventes journalières'!$I$22,'Ventes journalières'!$L$4) -> 0 | F13: =IF('Ventes journalières'!$G$4='V. Février'!A13,'Ventes journalières'!$K$22,'Ventes journalières'!$L$4) -> 0
A14: 10 | B14: =IF('Ventes journalières'!$G$4='V. Février'!A14,'Ventes journalières'!$C$22,'Ventes journalières'!$L$4) -> 0 | C14: =IF('Ventes journalières'!$G$4='V. Février'!A14,'Ventes journalières'!$E$22,'Ventes journalières'!$L$4) -> 0 | D14: =IF('Ventes journalières'!$G$4='V. Février'!A14,'Ventes journalières'!$G$22,'Ventes journalières'!$L$4) -> 0 | E14: =IF('Ventes journalières'!$G$4='V. Février'!A14,'Ventes journalières'!$I$22,'Ventes journalières'!$L$4) -> 0 | F14: =IF('Ventes journalières'!$G$4='V. Février'!A14,'Ventes journalières'!$K$22,'Ventes journalières'!$L$4) -> 0
A15: 11 | B15: =IF('Ventes journalières'!$G$4='V. Février'!A15,'Ventes journalières'!$C$22,'Ventes journalières'!$L$4) -> 0 | C15: =IF('Ventes journalières'!$G$4='V. Février'!A15,'Ventes journalières'!$E$22,'Ventes journalières'!$L$4) -> 0 | D15: =IF('Ventes journalières'!$G$4='V. Février'!A15,'Ventes journalières'!$G$22,'Ventes journalières'!$L$4) -> 0 | E15: =IF('Ventes journalières'!$G$4='V. Février'!A15,'Ventes journalières'!$I$22,'Ventes journalières'!$L$4) -> 0 | F15: =IF('Ventes journalières'!$G$4='V. Février'!A15,'Ventes journalières'!$K$22,'Ventes journalières'!$L$4) -> 0
A16: 12 | B16: =IF('Ventes journalières'!$G$4='V. Février'!A16,'Ventes journalières'!$C$22,'Ventes journalières'!$L$4) -> 0 | C16: =IF('Ventes journalières'!$G$4='V. Février'!A16,'Ventes journalières'!$E$22,'Ventes journalières'!$L$4) -> 0 | D16: =IF('Ventes journalières'!$G$4='V. Février'!A16,'Ventes journalières'!$G$22,'Ventes journalières'!$L$4) -> 0 | E16: =IF('Ventes journalières'!$G$4='V. Février'!A16,'Ventes journalières'!$I$22,'Ventes journalières'!$L$4) -> 0 | F16: =IF('Ventes journalières'!$G$4='V. Février'!A16,'Ventes journalières'!$K$22,'Ventes journalières'!$L$4) -> 0
... A35: 31 | B35: =IF('Ventes journalières'!$G$4='V. Février'!A35,'Ventes journalières'!$C$22,'Ventes journalières'!$L$4) -> 0 | C35: =IF('Ventes journalières'!$G$4='V. Février'!A35,'Ventes journalières'!$E$22,'Ventes journalières'!$L$4) -> 0 | D35: =IF('Ventes journalières'!$G$4='V. Février'!A35,'Ventes journalières'!$G$22,'Ventes journalières'!$L$4) -> 0 | E35: =IF('Ventes journalières'!$G$4='V. Février'!A35,'Ventes journalières'!$I$22,'Ventes journalières'!$L$4) -> 0 | F35: =IF('Ventes journalières'!$G$4='V. Février'!A35,'Ventes journalières'!$K$22,'Ventes journalières'!$L$4) -> 0
A36: TOTAL | B36: =SUM(B5:B35) -> 0 | C36: =SUM(C5:C35) -> 35 | D36: =SUM(D5:D35) -> 45 | E36: =SUM(E5:E35) -> 50 | F36: =SUM(F5:F35) -> 55

Sheet V. Mars
A1: Ventes Mars
B4: Vendeur 1 | C4: Vendeur 2 | D4: Vendeur 3 | E4: Vendeur 4 | F4: Vendeur 5
A5: 1 | B5: =IF('Ventes journalières'!$G$4='V. Mars'!A5,'Ventes journalières'!$C$22,'Ventes journalières'!$L$4) -> 0 | C5: =IF('Ventes journalières'!$G$4='V. Mars'!A5,'Ventes journalières'!$E$22,'Ventes journalières'!$L$4) -> 0 | D5: =IF('Ventes journalières'!$G$4='V. Mars'!A5,'Ventes journalières'!$G$22,'Ventes journalières'!$L$4) -> 0 | E5: =IF('Ventes journalières'!$G$4='V. Mars'!A5,'Ventes journalières'!$I$22,'Ventes journalières'!$L$4) -> 0 | F5: =IF('Ventes journalières'!$G$4='V. Mars'!A5,'Ventes journalières'!$K$22,'Ventes journalières'!$L$4) -> 0
A6: 2 | B6: =IF('Ventes journalières'!$G$4='V. Mars'!A6,'Ventes journalières'!$C$22,'Ventes journalières'!$L$4) -> 0 | C6: =IF('Ventes journalières'!$G$4='V. Mars'!A6,'Ventes journalières'!$E$22,'Ventes journalières'!$L$4) -> 0 | D6: =IF('Ventes journalières'!$G$4='V. Mars'!A6,'Ventes journalières'!$G$22,'Ventes journalières'!$L$4) -> 0 | E6: =IF('Ventes journalières'!$G$4='V. Mars'!A6,'Ventes journalières'!$I$22,'Ventes journalières'!$L$4) -> 0 | F6: =IF('Ventes journalières'!$G$4='V. Mars'!A6,'Ventes journalières'!$K$22,'Ventes journalières'!$L$4) -> 0
A7: 3 | B7: =IF('Ventes journalières'!$G$4='V. Mars'!A7,'Ventes journalières'!$C$22,'Ventes journalières'!$L$4) -> 0 | C7: =IF('Ventes journalières'!$G$4='V. Mars'!A7,'Ventes journalières'!$E$22,'Ventes journalières'!$L$4) -> 0 | D7: =IF('Ventes journalières'!$G$4='V. Mars'!A7,'Ventes journalières'!$G$22,'Ventes journalières'!$L$4) -> 0 | E7: =IF('Ventes journalières'!$G$4='V. Mars'!A7,'Ventes journalières'!$I$22,'Ventes journalières'!$L$4) -> 0 | F7: =IF('Ventes journalières'!$G$4='V. Mars'!A7,'Ventes journalières'!$K$22,'Ventes journalières'!$L$4) -> 0
A8: 4 | B8: =IF('Ventes journalières'!$G$4='V. Mars'!A8,'Ventes journalières'!$C$22,'Ventes journalières'!$L$4) -> 0 | C8: =IF('Ventes journalières'!$G$4='V. Mars'!A8,'Ventes journalières'!$E$22,'Ventes journalières'!$L$4) -> 0 | D8: =IF('Ventes journalières'!$G$4='V. Mars'!A8,'Ventes journalières'!$G$22,'Ventes journalières'!$L$4) -> 0 | E8: =IF('Ventes journalières'!$G$4='V. Mars'!A8,'Ventes journalières'!$I$22,'Ventes journalières'!$L$4) -> 0 | F8: =IF('Ventes journalières'!$G$4='V. Mars'!A8,'Ventes journalières'!$K$22,'Ventes journalières'!$L$4) -> 0
A9: 5 | B9: =IF('Ventes journalières'!$G$4='V. Mars'!A9,'Ventes journalières'!$C$22,'Ventes journalières'!$L$4) -> 0 | C9: =IF('Ventes journalières'!$G$4='V. Mars'!A9,'Ventes journalières'!$E$22,'Ventes journalières'!$L$4) -> 0 | D9: =IF('Ventes journalières'!$G$4='V. Mars'!A9,'Ventes journalières'!$G$22,'Ventes journalières'!$L$4) -> 0 | E9: =IF('Ventes journalières'!$G$4='V. Mars'!A9,'Ventes journalières'!$I$22,'Ventes journalières'!$L$4) -> 0 | F9: =IF('Ventes journalières'!$G$4='V. Mars'!A9,'Ventes journalières'!$K$22,'Ventes journalières'!$L$4) -> 0
A10: 6 | B10: =IF('Ventes journalières'!$G$4='V. Mars'!A10,'Ventes journalières'!$C$22,'Ventes journalières'!$L$4) -> 0 | C10: =IF('Ventes journalières'!$G$4='V. Mars'!A10,'Ventes journalières'!$E$22,'Ventes journalières'!$L$4) -> 0 | D10: =IF('Ventes journalières'!$G$4='V. Mars'!A10,'Ventes journalières'!$G$22,'Ventes journalières'!$L$4) -> 0 | E10: =IF('Ventes journalières'!$G$4='V. Mars'!A10,'Ventes journalières'!$I$22,'Ventes journalières'!$L$4) -> 0 | F10: =IF('Ventes journalières'!$G$4='V. Mars'!A10,'Ventes journalières'!$K$22,'Ventes journalières'!$L$4) -> 0
A11: 7 | B11: =IF('Ventes journalières'!$G$4='V. Mars'!A11,'Ventes journalières'!$C$22,'Ventes journalières'!$L$4) -> 0 | C11: =IF('Ventes journalières'!$G$4='V. Mars'!A11,'Ventes journalières'!$E$22,'Ventes journalières'!$L$4) -> 0 | D11: =IF('Ventes journalières'!$G$4='V. Mars'!A11,'Ventes journalières'!$G$22,'Ventes journalières'!$L$4) -> 0 | E11: =IF('Ventes journalières'!$G$4='V. Mars'!A11,'Ventes journalières'!$I$22,'Ventes journalières'!$L$4) -> 0 | F11: =IF('Ventes journalières'!$G$4='V. Mars'!A11,'Ventes journalières'!$K$22,'Ventes journalières'!$L$4) -> 0
A12: 8 | B12: =IF('Ventes journalières'!$G$4='V. Mars'!A12,'Ventes journalières'!$C$22,'Ventes journalières'!$L$4) -> 0 | C12: =IF('Ventes journalières'!$G$4='V. Mars'!A12,'Ventes journalières'!$E$22,'Ventes journalières'!$L$4) -> 0 | D12: =IF('Ventes journalières'!$G$4='V. Mars'!A12,'Ventes journalières'!$G$22,'Ventes journalières'!$L$4) -> 0 | E12: =IF('Ventes journalières'!$G$4='V. Mars'!A12,'Ventes journalières'!$I$22,'Ventes journalières'!$L$4) -> 0 | F12: =IF('Ventes journalières'!$G$4='V. Mars'!A12,'Ventes journalières'!$K$22,'Ventes journalières'!$L$4) -> 0
A13: 9 | B13: =IF('Ventes journalières'!$G$4='V. Mars'!A13,'Ventes journalières'!$C$22,'Ventes journalières'!$L$4) -> 0 | C13: =IF('Ventes journalières'!$G$4='V. Mars'!A13,'Ventes journalières'!$E$22,'Ventes journalières'!$L$4) -> 0 | D13: =IF('Ventes journalières'!$G$4='V. Mars'!A13,'Ventes journalières'!$G$22,'Ventes journalières'!$L$4) -> 0 | E13: =IF('Ventes journalières'!$G$4='V. Mars'!A13,'Ventes journalières'!$I$22,'Ventes journalières'!$L$4) -> 0 | F13: =IF('Ventes journalières'!$G$4='V. Mars'!A13,'Ventes journalières'!$K$22,'Ventes journalières'!$L$4) -> 0
A14: 10 | B14: =IF('Ventes journalières'!$G$4='V. Mars'!A14,'Ventes journalières'!$C$22,'Ventes journalières'!$L$4) -> 0 | C14: =IF('Ventes journalières'!$G$4='V. Mars'!A14,'Ventes journalières'!$E$22,'Ventes journalières'!$L$4) -> 0 | D14: =IF('Ventes journalières'!$G$4='V. Mars'!A14,'Ventes journalières'!$G$22,'Ventes journalières'!$L$4) -> 0 | E14: =IF('Ventes journalières'!$G$4='V. Mars'!A14,'Ventes journalières'!$I$22,'Ventes journalières'!$L$4) -> 0 | F14: =IF('Ventes journalières'!$G$4='V. Mars'!A14,'Ventes journalières'!$K$22,'Ventes journalières'!$L$4) -> 0
A15: 11 | B15: =IF('Ventes journalières'!$G$4='V. Mars'!A15,'Ventes journalières'!$C$22,'Ventes journalières'!$L$4) -> 0 | C15: =IF('Ventes journalières'!$G$4='V. Mars'!A15,'Ventes journalières'!$E$22,'Ventes journalières'!$L$4) -> 0 | D15: =IF('Ventes journalières'!$G$4='V. Mars'!A15,'Ventes journalières'!$G$22,'Ventes journalières'!$L$4) -> 0 | E15: =IF('Ventes journalières'!$G$4='V. Mars'!A15,'Ventes journalières'!$I$22,'Ventes journalières'!$L$4) -> 0 | F15: =IF('Ventes journalières'!$G$4='V. Mars'!A15,'Ventes journalières'!$K$22,'Ventes journalières'!$L$4) -> 0
A16: 12 | B16: =IF('Ventes journalières'!$G$4='V. Mars'!A16,'Ventes journalières'!$C$22,'Ventes journalières'!$L$4) -> 0 | C16: =IF('Ventes journalières'!$G$4='V. Mars'!A16,'Ventes journalières'!$E$22,'Ventes journalières'!$L$4) -> 0 | D16: =IF('Ventes journalières'!$G$4='V. Mars'!A16,'Ventes journalières'!$G$22,'Ventes journalières'!$L$4) -> 0 | E16: =IF('Ventes journalières'!$G$4='V. Mars'!A16,'Ventes journalières'!$I$22,'Ventes journalières'!$L$4) -> 0 | F16: =IF('Ventes journalières'!$G$4='V. Mars'!A16,'Ventes journalières'!$K$22,'Ventes journalières'!$L$4) -> 0
... A35: 31 | B35: =IF('Ventes journalières'!$G$4='V. Mars'!A35,'Ventes journalières'!$C$22,'Ventes journalières'!$L$4) -> 0 | C35: =IF('Ventes journalières'!$G$4='V. Mars'!A35,'Ventes journalières'!$E$22,'Ventes journalières'!$L$4) -> 0 | D35: =IF('Ventes journalières'!$G$4='V. Mars'!A35,'Ventes journalières'!$G$22,'Ventes journalières'!$L$4) -> 0 | E35: =IF('Ventes journalières'!$G$4='V. Mars'!A35,'Ventes journalières'!$I$22,'Ventes journalières'!$L$4) -> 0 | F35: =IF('Ventes journalières'!$G$4='V. Mars'!A35,'Ventes journalières'!$K$22,'Ventes journalières'!$L$4) -> 0
A36: TOTAL | B36: =SUM(B5:B35) -> 0 | C36: =SUM(C5:C35) -> 35 | D36: =SUM(D5:D35) -> 45 | E36: =SUM(E5:E35) -> 50 | F36: =SUM(F5:F35) -> 55

Sheet V. Avril 
A1: Ventes Avril
B4: Vendeur 1 | C4: Vendeur 2 | D4: Vendeur 3 | E4: Vendeur 4 | F4: Vendeur 5
A5: 1 | B5: =IF('Ventes journalières'!$G$4='V. Avril '!A5,'Ventes journalières'!$C$22,'Ventes journalières'!$L$4) -> 0 | C5: =IF('Ventes journalières'!$G$4='V. Avril '!A5,'Ventes journalières'!$E$22,'Ventes journalières'!$L$4) -> 0 | D5: =IF('Ventes journalières'!$G$4='V. Avril '!A5,'Ventes journalières'!$G$22,'Ventes journalières'!$L$4) -> 0 | E5: =IF('Ventes journalières'!$G$4='V. Avril '!A5,'Ventes journalières'!$I$22,'Ventes journalières'!$L$4) -> 0 | F5: =IF('Ventes journalières'!$G$4='V. Avril '!A5,'Ventes journalières'!$K$22,'Ventes journalières'!$L$4) -> 0
A6: 2 | B6: =IF('Ventes journalières'!$G$4='V. Avril '!A6,'Ventes journalières'!$C$22,'Ventes journalières'!$L$4) -> 0 | C6: =IF('Ventes journalières'!$G$4='V. Avril '!A6,'Ventes journalières'!$E$22,'Ventes journalières'!$L$4) -> 0 | D6: =IF('Ventes journalières'!$G$4='V. Avril '!A6,'Ventes journalières'!$G$22,'Ventes journalières'!$L$4) -> 0 | E6: =IF('Ventes journalières'!$G$4='V. Avril '!A6,'Ventes journalières'!$I$22,'Ventes journalières'!$L$4) -> 0 | F6: =IF('Ventes journalières'!$G$4='V. Avril '!A6,'Ventes journalières'!$K$22,'Ventes journalières'!$L$4) -> 0
A7: 3 | B7: =IF('Ventes journalières'!$G$4='V. Avril '!A7,'Ventes journalières'!$C$22,'Ventes journalières'!$L$4) -> 0 | C7: =IF('Ventes journalières'!$G$4='V. Avril '!A7,'Ventes journalières'!$E$22,'Ventes journalières'!$L$4) -> 0 | D7: =IF('Ventes journalières'!$G$4='V. Avril '!A7,'Ventes journalières'!$G$22,'Ventes journalières'!$L$4) -> 0 | E7: =IF('Ventes journalières'!$G$4='V. Avril '!A7,'Ventes journalières'!$I$22,'Ventes journalières'!$L$4) -> 0 | F7: =IF('Ventes journalières'!$G$4='V. Avril '!A7,'Ventes journalières'!$K$22,'Ventes journalières'!$L$4) -> 0
A8: 4 | B8: =IF('Ventes journalières'!$G$4='V. Avril '!A8,'Ventes journalières'!$C$22,'Ventes journalières'!$L$4) -> 0 | C8: =IF('Ventes journalières'!$G$4='V. Avril '!A8,'Ventes journalières'!$E$22,'Ventes journalières'!$L$4) -> 0 | D8: =IF('Ventes journalières'!$G$4='V. Avril '!A8,'Ventes journalières'!$G$22,'Ventes journalières'!$L$4) -> 0 | E8: =IF('Ventes journalières'!$G$4='V. Avril '!A8,'Ventes journalières'!$I$22,'Ventes journalières'!$L$4) -> 0 | F8: =IF('Ventes journalières'!$G$4='V. Avril '!A8,'Ventes journalières'!$K$22,'Ventes journalières'!$L$4) -> 0
A9: 5 | B9: =IF('Ventes journalières'!$G$4='V. Avril '!A9,'Ventes journalières'!$C$22,'Ventes journalières'!$L$4) -> 0 | C9: =IF('Ventes journalières'!$G$4='V. Avril '!A9,'Ventes journalières'!$E$22,'Ventes journalières'!$L$4) -> 0 | D9: =IF('Ventes journalières'!$G$4='V. Avril '!A9,'Ventes journalières'!$G$22,'Ventes journalières'!$L$4) -> 0 | E9: =IF('Ventes journalières'!$G$4='V. Avril '!A9,'Ventes journalières'!$I$22,'Ventes journalières'!$L$4) -> 0 | F9: =IF('Ventes journalières'!$G$4='V. Avril '!A9,'Ventes journalières'!$K$22,'Ventes journalières'!$L$4) -> 0
A10: 6 | B10: =IF('Ventes journalières'!$G$4='V. Avril '!A10,'Ventes journalières'!$C$22,'Ventes journalières'!$L$4) -> 0 | C10: =IF('Ventes journalières'!$G$4='V. Avril '!A10,'Ventes journalières'!$E$22,'Ventes journalières'!$L$4) -> 0 | D10: =IF('Ventes journalières'!$G$4='V. Avril '!A10,'Ventes journalières'!$G$22,'Ventes journalières'!$L$4) -> 0 | E10: =IF('Ventes journalières'!$G$4='V. Avril '!A10,'Ventes journalières'!$I$22,'Ventes journalières'!$L$4) -> 0 | F10: =IF('Ventes journalières'!$G$4='V. Avril '!A10,'Ventes journalières'!$K$22,'Ventes journalières'!$L$4) -> 0
A11: 7 | B11: =IF('Ventes journalières'!$G$4='V. Avril '!A11,'Ventes journalières'!$C$22,'Ventes journalières'!$L$4) -> 0 | C11: =IF('Ventes journalières'!$G$4='V. Avril '!A11,'Ventes journalières'!$E$22,'Ventes journalières'!$L$4) -> 0 | D11: =IF('Ventes journalières'!$G$4='V. Avril '!A11,'Ventes journalières'!$G$22,'Ventes journalières'!$L$4) -> 0 | E11: =IF('Ventes journalières'!$G$4='V. Avril '!A11,'Ventes journalières'!$I$22,'Ventes journalières'!$L$4) -> 0 | F11: =IF('Ventes journalières'!$G$4='V. Avril '!A11,'Ventes journalières'!$K$22,'Ventes journalières'!$L$4) -> 0
A12: 8 | B12: =IF('Ventes journalières'!$G$4='V. Avril '!A12,'Ventes journalières'!$C$22,'Ventes journalières'!$L$4) -> 0 | C12: =IF('Ventes journalières'!$G$4='V. Avril '!A12,'Ventes journalières'!$E$22,'Ventes journalières'!$L$4) -> 0 | D12: =IF('Ventes journalières'!$G$4='V. Avril '!A12,'Ventes journalières'!$G$22,'Ventes journalières'!$L$4) -> 0 | E12: =IF('Ventes journalières'!$G$4='V. Avril '!A12,'Ventes journalières'!$I$22,'Ventes journalières'!$L$4) -> 0 | F12: =IF('Ventes journalières'!$G$4='V. Avril '!A12,'Ventes journalières'!$K$22,'Ventes journalières'!$L$4) -> 0
A13: 9 | B13: =IF('Ventes journalières'!$G$4='V. Avril '!A13,'Ventes journalières'!$C$22,'Ventes journalières'!$L$4) -> 0 | C13: =IF('Ventes journalières'!$G$4='V. Avril '!A13,'Ventes journalières'!$E$22,'Ventes journalières'!$L$4) -> 0 | D13: =IF('Ventes journalières'!$G$4='V. Avril '!A13,'Ventes journalières'!$G$22,'Ventes journalières'!$L$4) -> 0 | E13: =IF('Ventes journalières'!$G$4='V. Avril '!A13,'Ventes journalières'!$I$22,'Ventes journalières'!$L$4) -> 0 | F13: =IF('Ventes journalières'!$G$4='V. Avril '!A13,'Ventes journalières'!$K$22,'Ventes journalières'!$L$4) -> 0
A14: 10 | B14: =IF('Ventes journalières'!$G$4='V. Avril '!A14,'Ventes journalières'!$C$22,'Ventes journalières'!$L$4) -> 0 | C14: =IF('Ventes journalières'!$G$4='V. Avril '!A14,'Ventes journalières'!$E$22,'Ventes journalières'!$L$4) -> 0 | D14: =IF('Ventes journalières'!$G$4='V. Avril '!A14,'Ventes journalières'!$G$22,'Ventes journalières'!$L$4) -> 0 | E14: =IF('Ventes journalières'!$G$4='V. Avril '!A14,'Ventes journalières'!$I$22,'Ventes journalières'!$L$4) -> 0 | F14: =IF('Ventes journalières'!$G$4='V. Avril '!A14,'Ventes journalières'!$K$22,'Ventes journalières'!$L$4) -> 0
A15: 11 | B15: =IF('Ventes journalières'!$G$4='V. Avril '!A15,'Ventes journalières'!$C$22,'Ventes journalières'!$L$4) -> 0 | C15: =IF('Ventes journalières'!$G$4='V. Avril '!A15,'Ventes journalières'!$E$22,'Ventes journalières'!$L$4) -> 0 | D15: =IF('Ventes journalières'!$G$4='V. Avril '!A15,'Ventes journalières'!$G$22,'Ventes journalières'!$L$4) -> 0 | E15: =IF('Ventes journalières'!$G$4='V. Avril '!A15,'Ventes journalières'!$I$22,'Ventes journalières'!$L$4) -> 0 | F15: =IF('Ventes journalières'!$G$4='V. Avril '!A15,'Ventes journalières'!$K$22,'Ventes journalières'!$L$4) -> 0
A16: 12 | B16: =IF('Ventes journalières'!$G$4='V. Avril '!A16,'Ventes journalières'!$C$22,'Ventes journalières'!$L$4) -> 0 | C16: =IF('Ventes journalières'!$G$4='V. Avril '!A16,'Ventes journalières'!$E$22,'Ventes journalières'!$L$4) -> 0 | D16: =IF('Ventes journalières'!$G$4='V. Avril '!A16,'Ventes journalières'!$G$22,'Ventes journalières'!$L$4) -> 0 | E16: =IF('Ventes journalières'!$G$4='V. Avril '!A16,'Ventes journalières'!$I$22,'Ventes journalières'!$L$4) -> 0 | F16: =IF('Ventes journalières'!$G$4='V. Avril '!A16,'Ventes journalières'!$K$22,'Ventes journalières'!$L$4) -> 0
... A35: 31 | B35: =IF('Ventes journalières'!$G$4='V. Avril '!A35,'Ventes journalières'!$C$22,'Ventes journalières'!$L$4) -> 0 | C35: =IF('Ventes journalières'!$G$4='V. Avril '!A35,'Ventes journalières'!$E$22,'Ventes journalières'!$L$4) -> 0 | D35: =IF('Ventes journalières'!$G$4='V. Avril '!A35,'Ventes journalières'!$G$22,'Ventes journalières'!$L$4) -> 0 | E35: =IF('Ventes journalières'!$G$4='V. Avril '!A35,'Ventes journalières'!$I$22,'Ventes journalières'!$L$4) -> 0 | F35: =IF('Ventes journalières'!$G$4='V. Avril '!A35,'Ventes journalières'!$K$22,'Ventes journalières'!$L$4) -> 0
A36: TOTAL | B36: =SUM(B5:B35) -> 0 | C36: =SUM(C5:C35) -> 35 | D36: =SUM(D5:D35) -> 45 | E36: =SUM(E5:E35) -> 50 | F36: =SUM(F5:F35) -> 55

Sheet V. Mai
A1: Ventes Mai
B4: Vendeur 1 | C4: Vendeur 2 | D4: Vendeur 3 | E4: Vendeur 4 | F4: Vendeur 5
A5: 1 | B5: =IF('Ventes journalières'!$G$4='V. Mai'!A5,'Ventes journalières'!$C$22,'Ventes journalières'!$L$4) -> 0 | C5: =IF('Ventes journalières'!$G$4='V. Mai'!A5,'Ventes journalières'!$E$22,'Ventes journalières'!$L$4) -> 0 | D5: =IF('Ventes journalières'!$G$4='V. Mai'!A5,'Ventes journalières'!$G$22,'Ventes journalières'!$L$4) -> 0 | E5: =IF('Ventes journalières'!$G$4='V. Mai'!A5,'Ventes journalières'!$I$22,'Ventes journalières'!$L$4) -> 0 | F5: =IF('Ventes journalières'!$G$4='V. Mai'!A5,'Ventes journalières'!$K$22,'Ventes journalières'!$L$4) -> 0
A6: 2 | B6: =IF('Ventes journalières'!$G$4='V. Mai'!A6,'Ventes journalières'!$C$22,'Ventes journalières'!$L$4) -> 0 | C6: =IF('Ventes journalières'!$G$4='V. Mai'!A6,'Ventes journalières'!$E$22,'Ventes journalières'!$L$4) -> 0 | D6: =IF('Ventes journalières'!$G$4='V. Mai'!A6,'Ventes journalières'!$G$22,'Ventes journalières'!$L$4) -> 0 | E6: =IF('Ventes journalières'!$G$4='V. Mai'!A6,'Ventes journalières'!$I$22,'Ventes journalières'!$L$4) -> 0 | F6: =IF('Ventes journalières'!$G$4='V. Mai'!A6,'Ventes journalières'!$K$22,'Ventes journalières'!$L$4) -> 0
A7: 3 | B7: =IF('Ventes journalières'!$G$4='V. Mai'!A7,'Ventes journalières'!$C$22,'Ventes journalières'!$L$4) -> 0 | C7: =IF('Ventes journalières'!$G$4='V. Mai'!A7,'Ventes journalières'!$E$22,'Ventes journalières'!$L$4) -> 0 | D7: =IF('Ventes journalières'!$G$4='V. Mai'!A7,'Ventes journalières'!$G$22,'Ventes journalières'!$L$4) -> 0 | E7: =IF('Ventes journalières'!$G$4='V. Mai'!A7,'Ventes journalières'!$I$22,'Ventes journalières'!$L$4) -> 0 | F7: =IF('Ventes journalières'!$G$4='V. Mai'!A7,'Ventes journalières'!$K$22,'Ventes journalières'!$L$4) -> 0
A8: 4 | B8: =IF('Ventes journalières'!$G$4='V. Mai'!A8,'Ventes journalières'!$C$22,'Ventes journalières'!$L$4) -> 0 | C8: =IF('Ventes journalières'!$G$4='V. Mai'!A8,'Ventes journalières'!$E$22,'Ventes journalières'!$L$4) -> 0 | D8: =IF('Ventes journalières'!$G$4='V. Mai'!A8,'Ventes journalières'!$G$22,'Ventes journalières'!$L$4) -> 0 | E8: =IF('Ventes journalières'!$G$4='V. Mai'!A8,'Ventes journalières'!$I$22,'Ventes journalières'!$L$4) -> 0 | F8: =IF('Ventes journalières'!$G$4='V. Mai'!A8,'Ventes journalières'!$K$22,'Ventes journalières'!$L$4) -> 0
A9: 5 | B9: =IF('Ventes journalières'!$G$4='V. Mai'!A9,'Ventes journalières'!$C$22,'Ventes journalières'!$L$4) -> 0 | C9: =IF('Ventes journalières'!$G$4='V. Mai'!A9,'Ventes journalières'!$E$22,'Ventes journalières'!$L$4) -> 0 | D9: =IF('Ventes journalières'!$G$4='V. Mai'!A9,'Ventes journalières'!$G$22,'Ventes journalières'!$L$4) -> 0 | E9: =IF('Ventes journalières'!$G$4='V. Mai'!A9,'Ventes journalières'!$I$22,'Ventes journalières'!$L$4) -> 0 | F9: =IF('Ventes journalières'!$G$4='V. Mai'!A9,'Ventes journalières'!$K$22,'Ventes journalières'!$L$4) -> 0
A10: 6 | B10: =IF('Ventes journalières'!$G$4='V. Mai'!A10,'Ventes journalières'!$C$22,'Ventes journalières'!$L$4) -> 0 | C10: =IF('Ventes journalières'!$G$4='V. Mai'!A10,'Ventes journalières'!$E$22,'Ventes journalières'!$L$4) -> 0 | D10: =IF('Ventes journalières'!$G$4='V. Mai'!A10,'Ventes journalières'!$G$22,'Ventes journalières'!$L$4) -> 0 | E10: =IF('Ventes journalières'!$G$4='V. Mai'!A10,'Ventes journalières'!$I$22,'Ventes journalières'!$L$4) -> 0 | F10: =IF('Ventes journalières'!$G$4='V. Mai'!A10,'Ventes journalières'!$K$22,'Ventes journalières'!$L$4) -> 0
A11: 7 | B11: =IF('Ventes journalières'!$G$4='V. Mai'!A11,'Ventes journalières'!$C$22,'Ventes journalières'!$L$4) -> 0 | C11: =IF('Ventes journalières'!$G$4='V. Mai'!A11,'Ventes journalières'!$E$22,'Ventes journalières'!$L$4) -> 0 | D11: =IF('Ventes journalières'!$G$4='V. Mai'!A11,'Ventes journalières'!$G$22,'Ventes journalières'!$L$4) -> 0 | E11: =IF('Ventes journalières'!$G$4='V. Mai'!A11,'Ventes journalières'!$I$22,'Ventes journalières'!$L$4) -> 0 | F11: =IF('Ventes journalières'!$G$4='V. Mai'!A11,'Ventes journalières'!$K$22,'Ventes journalières'!$L$4) -> 0
A12: 8 | B12: =IF('Ventes journalières'!$G$4='V. Mai'!A12,'Ventes journalières'!$C$22,'Ventes journalières'!$L$4) -> 0 | C12: =IF('Ventes journalières'!$G$4='V. Mai'!A12,'Ventes journalières'!$E$22,'Ventes journalières'!$L$4) -> 0 | D12: =IF('Ventes journalières'!$G$4='V. Mai'!A12,'Ventes journalières'!$G$22,'Ventes journalières'!$L$4) -> 0 | E12: =IF('Ventes journalières'!$G$4='V. Mai'!A12,'Ventes journalières'!$I$22,'Ventes journalières'!$L$4) -> 0 | F12: =IF('Ventes journalières'!$G$4='V. Mai'!A12,'Ventes journalières'!$K$22,'Ventes journalières'!$L$4) -> 0
A13: 9 | B13: =IF('Ventes journalières'!$G$4='V. Mai'!A13,'Ventes journalières'!$C$22,'Ventes journalières'!$L$4) -> 0 | C13: =IF('Ventes journalières'!$G$4='V. Mai'!A13,'Ventes journalières'!$E$22,'Ventes journalières'!$L$4) -> 0 | D13: =IF('Ventes journalières'!$G$4='V. Mai'!A13,'Ventes journalières'!$G$22,'Ventes journalières'!$L$4) -> 0 | E13: =IF('Ventes journalières'!$G$4='V. Mai'!A13,'Ventes journalières'!$I$22,'Ventes journalières'!$L$4) -> 0 | F13: =IF('Ventes journalières'!$G$4='V. Mai'!A13,'Ventes journalières'!$K$22,'Ventes journalières'!$L$4) -> 0
A14: 10 | B14: =IF('Ventes journalières'!$G$4='V. Mai'!A14,'Ventes journalières'!$C$22,'Ventes journalières'!$L$4) -> 0 | C14: =IF('Ventes journalières'!$G$4='V. Mai'!A14,'Ventes journalières'!$E$22,'Ventes journalières'!$L$4) -> 0 | D14: =IF('Ventes journalières'!$G$4='V. Mai'!A14,'Ventes journalières'!$G$22,'Ventes journalières'!$L$4) -> 0 | E14: =IF('Ventes journalières'!$G$4='V. Mai'!A14,'Ventes journalières'!$I$22,'Ventes journalières'!$L$4) -> 0 | F14: =IF('Ventes journalières'!$G$4='V. Mai'!A14,'Ventes journalières'!$K$22,'Ventes journalières'!$L$4) -> 0
A15: 11 | B15: =IF('Ventes journalières'!$G$4='V. Mai'!A15,'Ventes journalières'!$C$22,'Ventes journalières'!$L$4) -> 0 | C15: =IF('Ventes journalières'!$G$4='V. Mai'!A15,'Ventes journalières'!$E$22,'Ventes journalières'!$L$4) -> 0 | D15: =IF('Ventes journalières'!$G$4='V. Mai'!A15,'Ventes journalières'!$G$22,'Ventes journalières'!$L$4) -> 0 | E15: =IF('Ventes journalières'!$G$4='V. Mai'!A15,'Ventes journalières'!$I$22,'Ventes journalières'!$L$4) -> 0 | F15: =IF('Ventes journalières'!$G$4='V. Mai'!A15,'Ventes journalières'!$K$22,'Ventes journalières'!$L$4) -> 0
A16: 12 | B16: =IF('Ventes journalières'!$G$4='V. Mai'!A16,'Ventes journalières'!$C$22,'Ventes journalières'!$L$4) -> 0 | C16: =IF('Ventes journalières'!$G$4='V. Mai'!A16,'Ventes journalières'!$E$22,'Ventes journalières'!$L$4) -> 0 | D16: =IF('Ventes journalières'!$G$4='V. Mai'!A16,'Ventes journalières'!$G$22,'Ventes journalières'!$L$4) -> 0 | E16: =IF('Ventes journalières'!$G$4='V. Mai'!A16,'Ventes journalières'!$I$22,'Ventes journalières'!$L$4) -> 0 | F16: =IF('Ventes journalières'!$G$4='V. Mai'!A16,'Ventes journalières'!$K$22,'Ventes journalières'!$L$4) -> 0
... A35: 31 | B35: =IF('Ventes journalières'!$G$4='V. Mai'!A35,'Ventes journalières'!$C$22,'Ventes journalières'!$L$4) -> 0 | C35: =IF('Ventes journalières'!$G$4='V. Mai'!A35,'Ventes journalières'!$E$22,'Ventes journalières'!$L$4) -> 0 | D35: =IF('Ventes journalières'!$G$4='V. Mai'!A35,'Ventes journalières'!$G$22,'Ventes journalières'!$L$4) -> 0 | E35: =IF('Ventes journalières'!$G$4='V. Mai'!A35,'Ventes journalières'!$I$22,'Ventes journalières'!$L$4) -> 0 | F35: =IF('Ventes journalières'!$G$4='V. Mai'!A35,'Ventes journalières'!$K$22,'Ventes journalières'!$L$4) -> 0
A36: TOTAL | B36: =SUM(B5:B35) -> 0 | C36: =SUM(C5:C35) -> 35 | D36: =SUM(D5:D35) -> 45 | E36: =SUM(E5:E35) -> 50 | F36: =SUM(F5:F35) -> 55

Sheet V. Juin
A1: Ventes Juin
B4: Vendeur 1 | C4: Vendeur 2 | D4: Vendeur 3 | E4: Vendeur 4 | F4: Vendeur 5
A5: 1 | B5: =IF('Ventes journalières'!$G$4='V. Juin'!A5,'Ventes journalières'!$C$22,'Ventes journalières'!$L$4) -> 0 | C5: =IF('Ventes journalières'!$G$4='V. Juin'!A5,'Ventes journalières'!$E$22,'Ventes journalières'!$L$4) -> 0 | D5: =IF('Ventes journalières'!$G$4='V. Juin'!A5,'Ventes journalières'!$G$22,'Ventes journalières'!$L$4) -> 0 | E5: =IF('Ventes journalières'!$G$4='V. Juin'!A5,'Ventes journalières'!$I$22,'Ventes journalières'!$L$4) -> 0 | F5: =IF('Ventes journalières'!$G$4='V. Juin'!A5,'Ventes journalières'!$K$22,'Ventes journalières'!$L$4) -> 0
A6: 2 | B6: =IF('Ventes journalières'!$G$4='V. Juin'!A6,'Ventes journalières'!$C$22,'Ventes journalières'!$L$4) -> 0 | C6: =IF('Ventes journalières'!$G$4='V. Juin'!A6,'Ventes journalières'!$E$22,'Ventes journalières'!$L$4) -> 0 | D6: =IF('Ventes journalières'!$G$4='V. Juin'!A6,'Ventes journalières'!$G$22,'Ventes journalières'!$L$4) -> 0 | E6: =IF('Ventes journalières'!$G$4='V. Juin'!A6,'Ventes journalières'!$I$22,'Ventes journalières'!$L$4) -> 0 | F6: =IF('Ventes journalières'!$G$4='V. Juin'!A6,'Ventes journalières'!$K$22,'Ventes journalières'!$L$4) -> 0
A7: 3 | B7: =IF('Ventes journalières'!$G$4='V. Juin'!A7,'Ventes journalières'!$C$22,'Ventes journalières'!$L$4) -> 0 | C7: =IF('Ventes journalières'!$G$4='V. Juin'!A7,'Ventes journalières'!$E$22,'Ventes journalières'!$L$4) -> 0 | D7: =IF('Ventes journalières'!$G$4='V. Juin'!A7,'Ventes journalières'!$G$22,'Ventes journalières'!$L$4) -> 0 | E7: =IF('Ventes journalières'!$G$4='V. Juin'!A7,'Ventes journalières'!$I$22,'Ventes journalières'!$L$4) -> 0 | F7: =IF('Ventes journalières'!$G$4='V. Juin'!A7,'Ventes journalières'!$K$22,'Ventes journalières'!$L$4) -> 0
A8: 4 | B8: =IF('Ventes journalières'!$G$4='V. Juin'!A8,'Ventes journalières'!$C$22,'Ventes journalières'!$L$4) -> 0 | C8: =IF('Ventes journalières'!$G$4='V. Juin'!A8,'Ventes journalières'!$E$22,'Ventes journalières'!$L$4) -> 0 | D8: =IF('Ventes journalières'!$G$4='V. Juin'!A8,'Ventes journalières'!$G$22,'Ventes journalières'!$L$4) -> 0 | E8: =IF('Ventes journalières'!$G$4='V. Juin'!A8,'Ventes journalières'!$I$22,'Ventes journalières'!$L$4) -> 0 | F8: =IF('Ventes journalières'!$G$4='V. Juin'!A8,'Ventes journalières'!$K$22,'Ventes journalières'!$L$4) -> 0
A9: 5 | B9: =IF('Ventes journalières'!$G$4='V. Juin'!A9,'Ventes journalières'!$C$22,'Ventes journalières'!$L$4) -> 0 | C9: =IF('Ventes journalières'!$G$4='V. Juin'!A9,'Ventes journalières'!$E$22,'Ventes journalières'!$L$4) -> 0 | D9: =IF('Ventes journalières'!$G$4='V. Juin'!A9,'Ventes journalières'!$G$22,'Ventes journalières'!$L$4) -> 0 | E9: =IF('Ventes journalières'!$G$4='V. Juin'!A9,'Ventes journalières'!$I$22,'Ventes journalières'!$L$4) -> 0 | F9: =IF('Ventes journalières'!$G$4='V. Juin'!A9,'Ventes journalières'!$K$22,'Ventes journalières'!$L$4) -> 0
A10: 6 | B10: =IF('Ventes journalières'!$G$4='V. Juin'!A10,'Ventes journalières'!$C$22,'Ventes journalières'!$L$4) -> 0 | C10: =IF('Ventes journalières'!$G$4='V. Juin'!A10,'Ventes journalières'!$E$22,'Ventes journalières'!$L$4) -> 0 | D10: =IF('Ventes journalières'!$G$4='V. Juin'!A10,'Ventes journalières'!$G$22,'Ventes journalières'!$L$4) -> 0 | E10: =IF('Ventes journalières'!$G$4='V. Juin'!A10,'Ventes journalières'!$I$22,'Ventes journalières'!$L$4) -> 0 | F10: =IF('Ventes journalières'!$G$4='V. Juin'!A10,'Ventes journalières'!$K$22,'Ventes journalières'!$L$4) -> 0
A11: 7 | B11: =IF('Ventes journalières'!$G$4='V. Juin'!A11,'Ventes journalières'!$C$22,'Ventes journalières'!$L$4) -> 0 | C11: =IF('Ventes journalières'!$G$4='V. Juin'!A11,'Ventes journalières'!$E$22,'Ventes journalières'!$L$4) -> 0 | D11: =IF('Ventes journalières'!$G$4='V. Juin'!A11,'Ventes journalières'!$G$22,'Ventes journalières'!$L$4) -> 0 | E11: =IF('Ventes journalières'!$G$4='V. Juin'!A11,'Ventes journalières'!$I$22,'Ventes journalières'!$L$4) -> 0 | F11: =IF('Ventes journalières'!$G$4='V. Juin'!A11,'Ventes journalières'!$K$22,'Ventes journalières'!$L$4) -> 0
A12: 8 | B12: =IF('Ventes journalières'!$G$4='V. Juin'!A12,'Ventes journalières'!$C$22,'Ventes journalières'!$L$4) -> 0 | C12: =IF('Ventes journalières'!$G$4='V. Juin'!A12,'Ventes journalières'!$E$22,'Ventes journalières'!$L$4) -> 0 | D12: =IF('Ventes journalières'!$G$4='V. Juin'!A12,'Ventes journalières'!$G$22,'Ventes journalières'!$L$4) -> 0 | E12: =IF('Ventes journalières'!$G$4='V. Juin'!A12,'Ventes journalières'!$I$22,'Ventes journalières'!$L$4) -> 0 | F12: =IF('Ventes journalières'!$G$4='V. Juin'!A12,'Ventes journalières'!$K$22,'Ventes journalières'!$L$4) -> 0
A13: 9 | B13: =IF('Ventes journalières'!$G$4='V. Juin'!A13,'Ventes journalières'!$C$22,'Ventes journalières'!$L$4) -> 0 | C13: =IF('Ventes journalières'!$G$4='V. Juin'!A13,'Ventes journalières'!$E$22,'Ventes journalières'!$L$4) -> 0 | D13: =IF('Ventes journalières'!$G$4='V. Juin'!A13,'Ventes journalières'!$G$22,'Ventes journalières'!$L$4) -> 0 | E13: =IF('Ventes journalières'!$G$4='V. Juin'!A13,'Ventes journalières'!$I$22,'Ventes journalières'!$L$4) -> 0 | F13: =IF('Ventes journalières'!$G$4='V. Juin'!A13,'Ventes journalières'!$K$22,'Ventes journalières'!$L$4) -> 0
A14: 10 | B14: =IF('Ventes journalières'!$G$4='V. Juin'!A14,'Ventes journalières'!$C$22,'Ventes journalières'!$L$4) -> 0 | C14: =IF('Ventes journalières'!$G$4='V. Juin'!A14,'Ventes journalières'!$E$22,'Ventes journalières'!$L$4) -> 0 | D14: =IF('Ventes journalières'!$G$4='V. Juin'!A14,'Ventes journalières'!$G$22,'Ventes journalières'!$L$4) -> 0 | E14: =IF('Ventes journalières'!$G$4='V. Juin'!A14,'Ventes journalières'!$I$22,'Ventes journalières'!$L$4) -> 0 | F14: =IF('Ventes journalières'!$G$4='V. Juin'!A14,'Ventes journalières'!$K$22,'Ventes journalières'!$L$4) -> 0
A15: 11 | B15: =IF('Ventes journalières'!$G$4='V. Juin'!A15,'Ventes journalières'!$C$22,'Ventes journalières'!$L$4) -> 0 | C15: =IF('Ventes journalières'!$G$4='V. Juin'!A15,'Ventes journalières'!$E$22,'Ventes journalières'!$L$4) -> 0 | D15: =IF('Ventes journalières'!$G$4='V. Juin'!A15,'Ventes journalières'!$G$22,'Ventes journalières'!$L$4) -> 0 | E15: =IF('Ventes journalières'!$G$4='V. Juin'!A15,'Ventes journalières'!$I$22,'Ventes journalières'!$L$4) -> 0 | F15: =IF('Ventes journalières'!$G$4='V. Juin'!A15,'Ventes journalières'!$K$22,'Ventes journalières'!$L$4) -> 0
A16: 12 | B16: =IF('Ventes journalières'!$G$4='V. Juin'!A16,'Ventes journalières'!$C$22,'Ventes journalières'!$L$4) -> 0 | C16: =IF('Ventes journalières'!$G$4='V. Juin'!A16,'Ventes journalières'!$E$22,'Ventes journalières'!$L$4) -> 0 | D16: =IF('Ventes journalières'!$G$4='V. Juin'!A16,'Ventes journalières'!$G$22,'Ventes journalières'!$L$4) -> 0 | E16: =IF('Ventes journalières'!$G$4='V. Juin'!A16,'Ventes journalières'!$I$22,'Ventes journalières'!$L$4) -> 0 | F16: =IF('Ventes journalières'!$G$4='V. Juin'!A16,'Ventes journalières'!$K$22,'Ventes journalières'!$L$4) -> 0
... A35: 31 | B35: =IF('Ventes journalières'!$G$4='V. Juin'!A35,'Ventes journalières'!$C$22,'Ventes journalières'!$L$4) -> 0 | C35: =IF('Ventes journalières'!$G$4='V. Juin'!A35,'Ventes journalières'!$E$22,'Ventes journalières'!$L$4) -> 0 | D35: =IF('Ventes journalières'!$G$4='V. Juin'!A35,'Ventes journalières'!$G$22,'Ventes journalières'!$L$4) -> 0 | E35: =IF('Ventes journalières'!$G$4='V. Juin'!A35,'Ventes journalières'!$I$22,'Ventes journalières'!$L$4) -> 0 | F35: =IF('Ventes journalières'!$G$4='V. Juin'!A35,'Ventes journalières'!$K$22,'Ventes journalières'!$L$4) -> 0
A36: TOTAL | B36: =SUM(B5:B35) -> 0 | C36: =SUM(C5:C35) -> 35 | D36: =SUM(D5:D35) -> 45 | E36: =SUM(E5:E35) -> 50 | F36: =SUM(F5:F35) -> 55

Sheet V. Juillet
A1: Ventes Juillet
B4: Vendeur 1 | C4: Vendeur 2 | D4: Vendeur 3 | E4: Vendeur 4 | F4: Vendeur 5
A5: 1 | B5: =IF('Ventes journalières'!$G$4='V. Juillet'!A5,'Ventes journalières'!$C$22,'Ventes journalières'!$L$4) -> 0 | C5: =IF('Ventes journalières'!$G$4='V. Juillet'!A5,'Ventes journalières'!$E$22,'Ventes journalières'!$L$4) -> 0 | D5: =IF('Ventes journalières'!$G$4='V. Juillet'!A5,'Ventes journalières'!$G$22,'Ventes journalières'!$L$4) -> 0 | E5: =IF('Ventes journalières'!$G$4='V. Juillet'!A5,'Ventes journalières'!$I$22,'Ventes journalières'!$L$4) -> 0 | F5: =IF('Ventes journalières'!$G$4='V. Juillet'!A5,'Ventes journalières'!$K$22,'Ventes journalières'!$L$4) -> 0
A6: 2 | B6: =IF('Ventes journalières'!$G$4='V. Juillet'!A6,'Ventes journalières'!$C$22,'Ventes journalières'!$L$4) -> 0 | C6: =IF('Ventes journalières'!$G$4='V. Juillet'!A6,'Ventes journalières'!$E$22,'Ventes journalières'!$L$4) -> 0 | D6: =IF('Ventes journalières'!$G$4='V. Juillet'!A6,'Ventes journalières'!$G$22,'Ventes journalières'!$L$4) -> 0 | E6: =IF('Ventes journalières'!$G$4='V. Juillet'!A6,'Ventes journalières'!$I$22,'Ventes journalières'!$L$4) -> 0 | F6: =IF('Ventes journalières'!$G$4='V. Juillet'!A6,'Ventes journalières'!$K$22,'Ventes journalières'!$L$4) -> 0
A7: 3 | B7: =IF('Ventes journalières'!$G$4='V. Juillet'!A7,'Ventes journalières'!$C$22,'Ventes journalières'!$L$4) -> 0 | C7: =IF('Ventes journalières'!$G$4='V. Juillet'!A7,'Ventes journalières'!$E$22,'Ventes journalières'!$L$4) -> 0 | D7: =IF('Ventes journalières'!$G$4='V. Juillet'!A7,'Ventes journalières'!$G$22,'Ventes journalières'!$L$4) -> 0 | E7: =IF('Ventes journalières'!$G$4='V. Juillet'!A7,'Ventes journalières'!$I$22,'Ventes journalières'!$L$4) -> 0 | F7: =IF('Ventes journalières'!$G$4='V. Juillet'!A7,'Ventes journalières'!$K$22,'Ventes journalières'!$L$4) -> 0
A8: 4 | B8: =IF('Ventes journalières'!$G$4='V. Juillet'!A8,'Ventes journalières'!$C$22,'Ventes journalières'!$L$4) -> 0 | C8: =IF('Ventes journalières'!$G$4='V. Juillet'!A8,'Ventes journalières'!$E$22,'Ventes journalières'!$L$4) -> 0 | D8: =IF('Ventes journalières'!$G$4='V. Juillet'!A8,'Ventes journalières'!$G$22,'Ventes journalières'!$L$4) -> 0 | E8: =IF('Ventes journalières'!$G$4='V. Juillet'!A8,'Ventes journalières'!$I$22,'Ventes journalières'!$L$4) -> 0 | F8: =IF('Ventes journalières'!$G$4='V. Juillet'!A8,'Ventes journalières'!$K$22,'Ventes journalières'!$L$4) -> 0
A9: 5 | B9: =IF('Ventes journalières'!$G$4='V. Juillet'!A9,'Ventes journalières'!$C$22,'Ventes journalières'!$L$4) -> 0 | C9: =IF('Ventes journalières'!$G$4='V. Juillet'!A9,'Ventes journalières'!$E$22,'Ventes journalières'!$L$4) -> 0 | D9: =IF('Ventes journalières'!$G$4='V. Juillet'!A9,'Ventes journalières'!$G$22,'Ventes journalières'!$L$4) -> 0 | E9: =IF('Ventes journalières'!$G$4='V. Juillet'!A9,'Ventes journalières'!$I$22,'Ventes journalières'!$L$4) -> 0 | F9: =IF('Ventes journalières'!$G$4='V. Juillet'!A9,'Ventes journalières'!$K$22,'Ventes journalières'!$L$4) -> 0
A10: 6 | B10: =IF('Ventes journalières'!$G$4='V. Juillet'!A10,'Ventes journalières'!$C$22,'Ventes journalières'!$L$4) -> 0 | C10: =IF('Ventes journalières'!$G$4='V. Juillet'!A10,'Ventes journalières'!$E$22,'Ventes journalières'!$L$4) -> 0 | D10: =IF('Ventes journalières'!$G$4='V. Juillet'!A10,'Ventes journalières'!$G$22,'Ventes journalières'!$L$4) -> 0 | E10: =IF('Ventes journalières'!$G$4='V. Juillet'!A10,'Ventes journalières'!$I$22,'Ventes journalières'!$L$4) -> 0 | F10: =IF('Ventes journalières'!$G$4='V. Juillet'!A10,'Ventes journalières'!$K$22,'Ventes journalières'!$L$4) -> 0
A11: 7 | B11: =IF('Ventes journalières'!$G$4='V. Juillet'!A11,'Ventes journalières'!$C$22,'Ventes journalières'!$L$4) -> 0 | C11: =IF('Ventes journalières'!$G$4='V. Juillet'!A11,'Ventes journalières'!$E$22,'Ventes journalières'!$L$4) -> 0 | D11: =IF('Ventes journalières'!$G$4='V. Juillet'!A11,'Ventes journalières'!$G$22,'Ventes journalières'!$L$4) -> 0 | E11: =IF('Ventes journalières'!$G$4='V. Juillet'!A11,'Ventes journalières'!$I$22,'Ventes journalières'!$L$4) -> 0 | F11: =IF('Ventes journalières'!$G$4='V. Juillet'!A11,'Ventes journalières'!$K$22,'Ventes journalières'!$L$4) -> 0
A12: 8 | B12: =IF('Ventes journalières'!$G$4='V. Juillet'!A12,'Ventes journalières'!$C$22,'Ventes journalières'!$L$4) -> 0 | C12: =IF('Ventes journalières'!$G$4='V. Juillet'!A12,'Ventes journalières'!$E$22,'Ventes journalières'!$L$4) -> 0 | D12: =IF('Ventes journalières'!$G$4='V. Juillet'!A12,'Ventes journalières'!$G$22,'Ventes journalières'!$L$4) -> 0 | E12: =IF('Ventes journalières'!$G$4='V. Juillet'!A12,'Ventes journalières'!$I$22,'Ventes journalières'!$L$4) -> 0 | F12: =IF('Ventes journalières'!$G$4='V. Juillet'!A12,'Ventes journalières'!$K$22,'Ventes journalières'!$L$4) -> 0
A13: 9 | B13: =IF('Ventes journalières'!$G$4='V. Juillet'!A13,'Ventes journalières'!$C$22,'Ventes journalières'!$L$4) -> 0 | C13: =IF('Ventes journalières'!$G$4='V. Juillet'!A13,'Ventes journalières'!$E$22,'Ventes journalières'!$L$4) -> 0 | D13: =IF('Ventes journalières'!$G$4='V. Juillet'!A13,'Ventes journalières'!$G$22,'Ventes journalières'!$L$4) -> 0 | E13: =IF('Ventes journalières'!$G$4='V. Juillet'!A13,'Ventes journalières'!$I$22,'Ventes journalières'!$L$4) -> 0 | F13: =IF('Ventes journalières'!$G$4='V. Juillet'!A13,'Ventes journalières'!$K$22,'Ventes journalières'!$L$4) -> 0
A14: 10 | B14: =IF('Ventes journalières'!$G$4='V. Juillet'!A14,'Ventes journalières'!$C$22,'Ventes journalières'!$L$4) -> 0 | C14: =IF('Ventes journalières'!$G$4='V. Juillet'!A14,'Ventes journalières'!$E$22,'Ventes journalières'!$L$4) -> 0 | D14: =IF('Ventes journalières'!$G$4='V. Juillet'!A14,'Ventes journalières'!$G$22,'Ventes journalières'!$L$4) -> 0 | E14: =IF('Ventes journalières'!$G$4='V. Juillet'!A14,'Ventes journalières'!$I$22,'Ventes journalières'!$L$4) -> 0 | F14: =IF('Ventes journalières'!$G$4='V. Juillet'!A14,'Ventes journalières'!$K$22,'Ventes journalières'!$L$4) -> 0
A15: 11 | B15: =IF('Ventes journalières'!$G$4='V. Juillet'!A15,'Ventes journalières'!$C$22,'Ventes journalières'!$L$4) -> 0 | C15: =IF('Ventes journalières'!$G$4='V. Juillet'!A15,'Ventes journalières'!$E$22,'Ventes journalières'!$L$4) -> 0 | D15: =IF('Ventes journalières'!$G$4='V. Juillet'!A15,'Ventes journalières'!$G$22,'Ventes journalières'!$L$4) -> 0 | E15: =IF('Ventes journalières'!$G$4='V. Juillet'!A15,'Ventes journalières'!$I$22,'Ventes journalières'!$L$4) -> 0 | F15: =IF('Ventes journalières'!$G$4='V. Juillet'!A15,'Ventes journalières'!$K$22,'Ventes journalières'!$L$4) -> 0
A16: 12 | B16: =IF('Ventes journalières'!$G$4='V. Juillet'!A16,'Ventes journalières'!$C$22,'Ventes journalières'!$L$4) -> 0 | C16: =IF('Ventes journalières'!$G$4='V. Juillet'!A16,'Ventes journalières'!$E$22,'Ventes journalières'!$L$4) -> 0 | D16: =IF('Ventes journalières'!$G$4='V. Juillet'!A16,'Ventes journalières'!$G$22,'Ventes journalières'!$L$4) -> 0 | E16: =IF('Ventes journalières'!$G$4='V. Juillet'!A16,'Ventes journalières'!$I$22,'Ventes journalières'!$L$4) -> 0 | F16: =IF('Ventes journalières'!$G$4='V. Juillet'!A16,'Ventes journalières'!$K$22,'Ventes journalières'!$L$4) -> 0
... A35: 31 | B35: =IF('Ventes journalières'!$G$4='V. Juillet'!A35,'Ventes journalières'!$C$22,'Ventes journalières'!$L$4) -> 0 | C35: =IF('Ventes journalières'!$G$4='V. Juillet'!A35,'Ventes journalières'!$E$22,'Ventes journalières'!$L$4) -> 0 | D35: =IF('Ventes journalières'!$G$4='V. Juillet'!A35,'Ventes journalières'!$G$22,'Ventes journalières'!$L$4) -> 0 | E35: =IF('Ventes journalières'!$G$4='V. Juillet'!A35,'Ventes journalières'!$I$22,'Ventes journalières'!$L$4) -> 0 | F35: =IF('Ventes journalières'!$G$4='V. Juillet'!A35,'Ventes journalières'!$K$22,'Ventes journalières'!$L$4) -> 0
A36: TOTAL | B36: =SUM(B5:B35) -> 0 | C36: =SUM(C5:C35) -> 35 | D36: =SUM(D5:D35) -> 45 | E36: =SUM(E5:E35) -> 50 | F36: =SUM(F5:F35) -> 55

Sheet V. Août
A1: Ventes Août
B4: Vendeur 1 | C4: Vendeur 2 | D4: Vendeur 3 | E4: Vendeur 4 | F4: Vendeur 5
A5: 1 | B5: =IF('Ventes journalières'!$G$4='V. Août'!A5,'Ventes journalières'!$C$22,'Ventes journalières'!$L$4) -> 0 | C5: =IF('Ventes journalières'!$G$4='V. Août'!A5,'Ventes journalières'!$E$22,'Ventes journalières'!$L$4) -> 0 | D5: =IF('Ventes journalières'!$G$4='V. Août'!A5,'Ventes journalières'!$G$22,'Ventes journalières'!$L$4) -> 0 | E5: =IF('Ventes journalières'!$G$4='V. Août'!A5,'Ventes journalières'!$I$22,'Ventes journalières'!$L$4) -> 0 | F5: =IF('Ventes journalières'!$G$4='V. Août'!A5,'Ventes journalières'!$K$22,'Ventes journalières'!$L$4) -> 0
A6: 2 | B6: =IF('Ventes journalières'!$G$4='V. Août'!A6,'Ventes journalières'!$C$22,'Ventes journalières'!$L$4) -> 0 | C6: =IF('Ventes journalières'!$G$4='V. Août'!A6,'Ventes journalières'!$E$22,'Ventes journalières'!$L$4) -> 0 | D6: =IF('Ventes journalières'!$G$4='V. Août'!A6,'Ventes journalières'!$G$22,'Ventes journalières'!$L$4) -> 0 | E6: =IF('Ventes journalières'!$G$4='V. Août'!A6,'Ventes journalières'!$I$22,'Ventes journalières'!$L$4) -> 0 | F6: =IF('Ventes journalières'!$G$4='V. Août'!A6,'Ventes journalières'!$K$22,'Ventes journalières'!$L$4) -> 0
A7: 3 | B7: =IF('Ventes journalières'!$G$4='V. Août'!A7,'Ventes journalières'!$C$22,'Ventes journalières'!$L$4) -> 0 | C7: =IF('Ventes journalières'!$G$4='V. Août'!A7,'Ventes journalières'!$E$22,'Ventes journalières'!$L$4) -> 0 | D7: =IF('Ventes journalières'!$G$4='V. Août'!A7,'Ventes journalières'!$G$22,'Ventes journalières'!$L$4) -> 0 | E7: =IF('Ventes journalières'!$G$4='V. Août'!A7,'Ventes journalières'!$I$22,'Ventes journalières'!$L$4) -> 0 | F7: =IF('Ventes journalières'!$G$4='V. Août'!A7,'Ventes journalières'!$K$22,'Ventes journalières'!$L$4) -> 0
A8: 4 | B8: =IF('Ventes journalières'!$G$4='V. Août'!A8,'Ventes journalières'!$C$22,'Ventes journalières'!$L$4) -> 0 | C8: =IF('Ventes journalières'!$G$4='V. Août'!A8,'Ventes journalières'!$E$22,'Ventes journalières'!$L$4) -> 0 | D8: =IF('Ventes journalières'!$G$4='V. Août'!A8,'Ventes journalières'!$G$22,'Ventes journalières'!$L$4) -> 0 | E8: =IF('Ventes journalières'!$G$4='V. Août'!A8,'Ventes journalières'!$I$22,'Ventes journalières'!$L$4) -> 0 | F8: =IF('Ventes journalières'!$G$4='V. Août'!A8,'Ventes journalières'!$K$22,'Ventes journalières'!$L$4) -> 0
A9: 5 | B9: =IF('Ventes journalières'!$G$4='V. Août'!A9,'Ventes journalières'!$C$22,'Ventes journalières'!$L$4) -> 0 | C9: =IF('Ventes journalières'!$G$4='V. Août'!A9,'Ventes journalières'!$E$22,'Ventes journalières'!$L$4) -> 0 | D9: =IF('Ventes journalières'!$G$4='V. Août'!A9,'Ventes journalières'!$G$22,'Ventes journalières'!$L$4) -> 0 | E9: =IF('Ventes journalières'!$G$4='V. Août'!A9,'Ventes journalières'!$I$22,'Ventes journalières'!$L$4) -> 0 | F9: =IF('Ventes journalières'!$G$4='V. Août'!A9,'Ventes journalières'!$K$22,'Ventes journalières'!$L$4) -> 0
A10: 6 | B10: =IF('Ventes journalières'!$G$4='V. Août'!A10,'Ventes journalières'!$C$22,'Ventes journalières'!$L$4) -> 0 | C10: =IF('Ventes journalières'!$G$4='V. Août'!A10,'Ventes journalières'!$E$22,'Ventes journalières'!$L$4) -> 0 | D10: =IF('Ventes journalières'!$G$4='V. Août'!A10,'Ventes journalières'!$G$22,'Ventes journalières'!$L$4) -> 0 | E10: =IF('Ventes journalières'!$G$4='V. Août'!A10,'Ventes journalières'!$I$22,'Ventes journalières'!$L$4) -> 0 | F10: =IF('Ventes journalières'!$G$4='V. Août'!A10,'Ventes journalières'!$K$22,'Ventes journalières'!$L$4) -> 0
