Workbook

Sheet Heures de vol
A1: ANNEE 2019
A3: 43678 | D3: Page n° | E3: 1 | F3: REPORT : | H3: 343.14653 | I3: 264.97708 | J3: 0 | K3: 78.169444 | L3: 188.15139 | M3: 2.6159722 | N3: 0.045833333 | O3: 6.1 | P3: 1.2472222 | Q3: 51.175 | R3: 34.745833 | S3: 58.970833 | T3: 69.478472 | U3: 51.507639 | V3: 5.95 | W3: 0 | X3: 0.091666667 | Y3: 52.104167 | Z3: 287.43194 | AA3: 52.788194 | AB3: 31.961111 | AC3: 422 | AD3: 4785 | AE3: 444 | AF3: 2051 | AG3: 2458 | AH3: 690 | AI3: 601 | AJ3: 8229 | AK3: 23.452778 | AL3: Observations | AM3: Visas FI ou FE
A4: Nom du Cdt de bord | B4: Date du vol | C4: Aéronef | E4: Heure départ (UTC) | F4: Lieu de départ | G4: Lieu d'arrivée | H4: Heure arrivée (UTC) | I4: Cdt de bod | J4: Copilte | K4: D/C | L4: FI / TRI | M4: FE /TRE | N4: SE | T4: ME | Z4: Conditions opérationnelles | AF4: Expériences diverses | AM4: ou
N5: Cabri | O5: EC 120 | P5: Ecureuil BA + H 125 | Q5: SA 341 Gazelle | R5: SE 3130 Alouette II | S5: SA319 Alouette III | T5: Dauphin | V5: EC 135 | W5: H 145 | X5: Ecureuil SA 355 N | Y5: WG 13 Lynx | Z5: Jour | AA5: Nuit | AB5: IFR | AC5: Procédures IFR | AD5: Atterrissage | AF5: Auto | AG5: Appontages | AI5: Elingue | AJ5: Treuil | AK5: Simulation | AM5: Elève en solo (SPIC)
C6: Type | D6: Immat. | T6: AS365 N3 / N3+/565MB | U6: AS 365 N/N1/N2/F | AD6: Jour | AE6: Nuit | AG6: Jour | AH6: Nuit | AM6: ou PICUS
B7: 43690 | E7: 0.33333333 | H7: 0.41666667 | AK7: 0.083333333 | AP7: =IF(OR(AQ7="",AQ7=0),"",B7) -> 43690 | AQ7: =IF(ISNUMBER(MATCH(B7,B$6:B6,0)),"",SUMIF(B$7:B$24,B7,I$7:I$24)+SUMIF(B$7:B$24,B7,J$7:J$24)+SUMIF(B$7:B$24,B7,K$7:K$24)+SUMIF(B$7:B$24,B7,AK$7:AK$24)) -> 0.083333333
B8: 43691 | E8: 0.29166667 | H8: 0.375 | AK8: 0.083333333 | AP8: =IF(OR(AQ8="",AQ8=0),"",B8) -> 43691 | AQ8: =IF(ISNUMBER(MATCH(B8,B$6:B7,0)),"",SUMIF(B$7:B$24,B8,I$7:I$24)+SUMIF(B$7:B$24,B8,J$7:J$24)+SUMIF(B$7:B$24,B8,K$7:K$24)+SUMIF(B$7:B$24,B8,AK$7:AK$24)) -> 0.083333333
B9: 43692 | E9: 0.29166667 | H9: 0.375 | AB9: 0.083333333 | AC9: 2 | AK9: 0.083333333 | AP9: =IF(OR(AQ9="",AQ9=0),"",B9) -> 43692 | AQ9: =IF(ISNUMBER(MATCH(B9,B$6:B8,0)),"",SUMIF(B$7:B$24,B9,I$7:I$24)+SUMIF(B$7:B$24,B9,J$7:J$24)+SUMIF(B$7:B$24,B9,K$7:K$24)+SUMIF(B$7:B$24,B9,AK$7:AK$24)) -> 0.125
B10: 43692 | E10: 0.4375 | H10: 0.47916667 | AB10: 0.041666667 | AC10: 1 | AK10: 0.041666667 | AP10: =IF(OR(AQ10="",AQ10=0),"",B10) | AQ10: =IF(ISNUMBER(MATCH(B10,B$6:B9,0)),"",SUMIF(B$7:B$24,B10,I$7:I$24)+SUMIF(B$7:B$24,B10,J$7:J$24)+SUMIF(B$7:B$24,B10,K$7:K$24)+SUMIF(B$7:B$24,B10,AK$7:AK$24))
B11: 43696 | E11: 0.62083333 | H11: 0.67430556 | K11: 0.053472222 | W11: 0.053472222 | Z11: 0.053472222 | AD11: 4 | AP11: =IF(OR(AQ11="",AQ11=0),"",B11) -> 43696 | AQ11: =IF(ISNUMBER(MATCH(B11,B$6:B10,0)),"",SUMIF(B$7:B$24,B11,I$7:I$24)+SUMIF(B$7:B$24,B11,J$7:J$24)+SUMIF(B$7:B$24,B11,K$7:K$24)+SUMIF(B$7:B$24,B11,AK$7:AK$24)) -> 0.053472222
B12: 43697 | E12: 0.42152778 | H12: 0.475 | K12: 0.053472222 | W12: 0.053472222 | Z12: 0.053472222 | AD12: 10 | AP12: =IF(OR(AQ12="",AQ12=0),"",B12) -> 43697 | AQ12: =IF(ISNUMBER(MATCH(B12,B$6:B11,0)),"",SUMIF(B$7:B$24,B12,I$7:I$24)+SUMIF(B$7:B$24,B12,J$7:J$24)+SUMIF(B$7:B$24,B12,K$7:K$24)+SUMIF(B$7:B$24,B12,AK$7:AK$24)) -> 0.11041667
B13: 43697 | E13: 0.66666667 | H13: 0.725 | K13: 0.056944444 | W13: 0.056944444 | Z13: 0.056944444 | AD13: 7 | AP13: =IF(OR(AQ13="",AQ13=0),"",B13) | AQ13: =IF(ISNUMBER(MATCH(B13,B$6:B12,0)),"",SUMIF(B$7:B$24,B13,I$7:I$24)+SUMIF(B$7:B$24,B13,J$7:J$24)+SUMIF(B$7:B$24,B13,K$7:K$24)+SUMIF(B$7:B$24,B13,AK$7:AK$24))
B14: 43698 | E14: 0.57291667 | H14: 0.65 | K14: 0.077083333 | W14: 0.077083333 | Z14: 0.077083333 | AB14: 0.072916667 | AC14: 3 | AD14: 2 | AP14: =IF(OR(AQ14="",AQ14=0),"",B14) -> 43698 | AQ14: =IF(ISNUMBER(MATCH(B14,B$6:B13,0)),"",SUMIF(B$7:B$24,B14,I$7:I$24)+SUMIF(B$7:B$24,B14,J$7:J$24)+SUMIF(B$7:B$24,B14,K$7:K$24)+SUMIF(B$7:B$24,B14,AK$7:AK$24)) -> 0.077083333
B15: 43699 | E15: 0.41666667 | H15: 0.43333333 | K15: 0.016666667 | W15: 0.016666667 | Z15: 0.016666667 | AB15: 0.010416667 | AD15: 1 | AP15: =IF(OR(AQ15="",AQ15=0),"",B15) -> 43699 | AQ15: =IF(ISNUMBER(MATCH(B15,B$6:B14,0)),"",SUMIF(B$7:B$24,B15,I$7:I$24)+SUMIF(B$7:B$24,B15,J$7:J$24)+SUMIF(B$7:B$24,B15,K$7:K$24)+SUMIF(B$7:B$24,B15,AK$7:AK$24)) -> 0.093055556
B16: 43699 | E16: 0.45833333 | H16: 0.53472222 | I16: 0.076388889 | W16: 0.076388889 | Z16: 0.076388889 | AB16: 0.034722222 | AC16: 3 | AD16: 2 | AP16: =IF(OR(AQ16="",AQ16=0),"",B16) | AQ16: =IF(ISNUMBER(MATCH(B16,B$6:B15,0)),"",SUMIF(B$7:B$24,B16,I$7:I$24)+SUMIF(B$7:B$24,B16,J$7:J$24)+SUMIF(B$7:B$24,B16,K$7:K$24)+SUMIF(B$7:B$24,B16,AK$7:AK$24))
AP17: =IF(OR(AQ17="",AQ17=0),"",B17) | AQ17: =IF(ISNUMBER(MATCH(B17,B$6:B16,0)),"",SUMIF(B$7:B$24,B17,I$7:I$24)+SUMIF(B$7:B$24,B17,J$7:J$24)+SUMIF(B$7:B$24,B17,K$7:K$24)+SUMIF(B$7:B$24,B17,AK$7:AK$24)) -> 0
AP18: =IF(OR(AQ18="",AQ18=0),"",B18) | AQ18: =IF(ISNUMBER(MATCH(B18,B$6:B17,0)),"",SUMIF(B$7:B$24,B18,I$7:I$24)+SUMIF(B$7:B$24,B18,J$7:J$24)+SUMIF(B$7:B$24,B18,K$7:K$24)+SUMIF(B$7:B$24,B18,AK$7:AK$24)) -> 0
AP19: =IF(OR(AQ19="",AQ19=0),"",B19) | AQ19: =IF(ISNUMBER(MATCH(B19,B$6:B18,0)),"",SUMIF(B$7:B$24,B19,I$7:I$24)+SUMIF(B$7:B$24,B19,J$7:J$24)+SUMIF(B$7:B$24,B19,K$7:K$24)+SUMIF(B$7:B$24,B19,AK$7:AK$24)) -> 0
AP20: =IF(OR(AQ20="",AQ20=0),"",B20) | AQ20: =IF(ISNUMBER(MATCH(B20,B$6:B19,0)),"",SUMIF(B$7:B$24,B20,I$7:I$24)+SUMIF(B$7:B$24,B20,J$7:J$24)+SUMIF(B$7:B$24,B20,K$7:K$24)+SUMIF(B$7:B$24,B20,AK$7:AK$24)) -> 0
AP21: =IF(OR(AQ21="",AQ21=0),"",B21) | AQ21: =IF(ISNUMBER(MATCH(B21,B$6:B20,0)),"",SUMIF(B$7:B$24,B21,I$7:I$24)+SUMIF(B$7:B$24,B21,J$7:J$24)+SUMIF(B$7:B$24,B21,K$7:K$24)+SUMIF(B$7:B$24,B21,AK$7:AK$24)) -> 0
AP22: =IF(OR(AQ22="",AQ22=0),"",B22) | AQ22: =IF(ISNUMBER(MATCH(B22,B$6:B21,0)),"",SUMIF(B$7:B$24,B22,I$7:I$24)+SUMIF(B$7:B$24,B22,J$7:J$24)+SUMIF(B$7:B$24,B22,K$7:K$24)+SUMIF(B$7:B$24,B22,AK$7:AK$24)) -> 0
AP23: =IF(OR(AQ23="",AQ23=0),"",B23) | AQ23: =IF(ISNUMBER(MATCH(B23,B$6:B22,0)),"",SUMIF(B$7:B$24,B23,I$7:I$24)+SUMIF(B$7:B$24,B23,J$7:J$24)+SUMIF(B$7:B$24,B23,K$7:K$24)+SUMIF(B$7:B$24,B23,AK$7:AK$24)) -> 0
AP24: =IF(OR(AQ24="",AQ24=0),"",B24) | AQ24: =IF(ISNUMBER(MATCH(B24,B$6:B23,0)),"",SUMIF(B$7:B$24,B24,I$7:I$24)+SUMIF(B$7:B$24,B24,J$7:J$24)+SUMIF(B$7:B$24,B24,K$7:K$24)+SUMIF(B$7:B$24,B24,AK$7:AK$24)) -> 0
A25: Total général des heures de vol de la page : | G25: =SUM(I25:K25) -> 0.33402778 | I25: =SUM(I7:I24) -> 0.076388889 | J25: =SUM(J7:J24) -> 0 | K25: =SUM(K7:K24) -> 0.25763889 | L25: =SUM(L7:L24) -> 0 | M25: =SUM(M7:M24) -> 0 | N25: =SUM(N7:N24) -> 0 | O25: =SUM(O7:O24) -> 0 | P25: =SUM(P7:P24) -> 0 | ... AK25: =SUM(AK7:AK24) -> 0.29166667 | AL25: CERTIFIE EXACT
A26: Total général des heures de vol comme pilote: | G26: =SUM(I26:K26) -> 343.48056 | I26: =I3+I25 -> 265.05347 | J26: =J3+J25 -> 0 | K26: =K3+K25 -> 78.427083 | L26: =L3+L25 -> 188.15139 | M26: =M3+M25 -> 2.6159722 | N26: =N3+N25 -> 0.045833333 | O26: =O3+O25 -> 6.1 | P26: =P3+P25 -> 1.2472222 | ... AK26: =AK3+AK25 -> 23.744444
A28: 43709 | D28: Page n° | E28: =SUM(E3+1) -> 2 | F28: REPORT : | H28: =G26 -> 343.48056 | I28: =I26 -> 265.05347 | J28: =J26 -> 0 | K28: =K26 -> 78.427083 | L28: =L26 -> 188.15139 | M28: =M26 -> 2.6159722 | N28: =N26 -> 0.045833333 | O28: =O26 -> 6.1 | P28: =P26 -> 1.2472222 | ... AK28: =AK26 -> 23.744444 | AL28: Observations | AM28: Visas FI ou FE
A29: Nom du Cdt de bord | B29: Date du vol | C29: Aéronef | E29: Heure départ (UTC) | F29: Lieu de départ | G29: Lieu d'arrivée | H29: Heure arrivée (UTC) | I29: Cdt de bod | J29: Copilte | K29: D/C | L29: FI / TRI | M29: FE /TRE | N29: SE | T29: ME | Z29: Conditions opérationnelles | AF29: Expériences diverses | AM29: ou
N30: Cabri | O30: EC 120 | P30: Ecureuil BA + H 125 | Q30: SA 341 Gazelle | R30: SE 3130 Alouette II | S30: SA319 Alouette III | T30: Dauphin | V30: EC 135 | W30: H 145 | X30: Ecureuil SA 355 N | Y30: WG 13 Lynx | Z30: Jour | AA30: Nuit | AB30: IFR | AC30: Procédures IFR | AD30: Atterrissage | AF30: Auto | AG30: Appontages | AI30: Elingue | AJ30: Treuil | AK30: Simulation | AM30: Elève en solo (SPIC)
C31: Type | D31: Immat. | T31: AS365 N3 / N3+/565MB | U31: AS 365 N/N1/N2/F | AD31: Jour | AE31: Nuit | AG31: Jour | AH31: Nuit | AM31: ou PICUS
B32: 43710 | E32: 0.45833333 | H32: 0.50555556 | K32: 0.047222222 | W32: 0.047222222 | Z32: 0.047222222 | AD32: 6
B33: 43710 | E33: 0.625 | H33: 0.66527778 | K33: 0.040277778 | W33: 0.040277778 | Z33: 0.040277778 | AD33: 6
B34: 43711 | E34: 0.45833333 | H34: 0.49861111 | K34: 0.040277778 | W34: 0.040277778 | Z34: 0.040277778 | AD34: 4
B35: 43711 | E35: 0.58333333 | H35: 0.62708333 | K35: 0.04375 | W35: 0.04375 | Z35: 0.04375 | AD35: 9
B36: 43712 | E36: 0.41666667 | H36: 0.45486111 | K36: 0.038194444 | W36: 0.038194444 | Z36: 0.038194444 | AD36: 7
B37: 43712 | E37: 0.625 | H37: 0.68680556 | K37: 0.061805556 | W37: 0.061805556 | Z37: 0.061805556 | AD37: 3
B38: 43713 | E38: 0.4375 | H38: 0.45763889 | K38: 0.020138889 | W38: 0.020138889 | Z38: 0.020138889 | AD38: 2
B39: 43714 | E39: 0.49652778 | H39: 0.54027778 | I39: 0.041666667 | W39: 0.041666667 | Z39: 0.041666667 | AD39: 7
B40: 43721 | E40: 0.39236111 | H40: 0.45833333 | I40: 0.065972222 | M40: 0.065972222 | T40: 0.065972222 | Z40: 0.065972222 | AB40: 0.048611111 | AC40: 3 | AD40: 4
B41: 43721 | E41: 0.49652778 | H41: 0.5625 | I41: 0.065972222 | M41: 0.065972222 | T41: 0.065972222 | Z41: 0.065972222 | AB41: 0.052083333 | AC41: 3 | AD41: 7
B42: 43724 | E42: 0.40625 | H42: 4.6354167 | I42: 0.0625 | M42: 0.0625 | T42: 0.0625 | Z42: 0.0625 | AB42: 0.052083333 | AC42: 3 | AD42: 4
A50: Total général des heures de vol de la page : | G50: =SUM(I50:K50) -> 0.52777778 | I50: =SUM(I32:I49) -> 0.23611111 | J50: =SUM(J32:J49) -> 0 | K50: =SUM(K32:K49) -> 0.29166667 | L50: =SUM(L32:L49) -> 0 | M50: =SUM(M32:M49) -> 0.19444444 | N50: =SUM(N32:N49) -> 0 | O50: =SUM(O32:O49) -> 0 | P50: =SUM(P32:P49) -> 0 | ... AK50: =SUM(AK32:AK49) -> 0 | AL50: CERTIFIE EXACT
A51: Total général des heures de vol comme pilote: | G51: =SUM(I51:K51) -> 344.00833 | I51: =I28+I50 -> 265.28958 | J51: =J28+J50 -> 0 | K51: =K28+K50 -> 78.71875 | L51: =L28+L50 -> 188.15139 | M51: =M28+M50 -> 2.8104167 | N51: =N28+N50 -> 0.045833333 | O51: =O28+O50 -> 6.1 | P51: =P28+P50 -> 1.2472222 | ... AK51: =AK28+AK50 -> 23.744444
A53: 43739 | D53: Page n° | E53: =SUM(E28+1) -> 3 | F53: REPORT : | H53: =G51 -> 344.00833 | I53: =I51 -> 265.28958 | J53: =J51 -> 0 | K53: =K51 -> 78.71875 | L53: =L51 -> 188.15139 | M53: =M51 -> 2.8104167 | N53: =N51 -> 0.045833333 | O53: =O51 -> 6.1 | P53: =P51 -> 1.2472222 | ... AK53: =AK51 -> 23.744444 | AL53: Observations | AM53: Visas FI ou FE
A54: Nom du Cdt de bord | B54: Date du vol | C54: Aéronef | E54: Heure départ (UTC) | F54: Lieu de départ | G54: Lieu d'arrivée | H54: Heure arrivée (UTC) | I54: Cdt de bod | J54: Copilte | K54: D/C | L54: FI / TRI | M54: FE /TRE | N54: SE | T54: ME | Z54: Conditions opérationnelles | AF54: Expériences diverses | AM54: ou
N55: Cabri | O55: EC 120 | P55: Ecureuil BA + H 125 | Q55: SA 341 Gazelle | R55: SE 3130 Alouette II | S55: SA319 Alouette III | T55: Dauphin | V55: EC 135 | W55: H 145 | X55: Ecureuil SA 355 N | Y55: WG 13 Lynx | Z55: Jour | AA55: Nuit | AB55: IFR | AC55: Procédures IFR | AD55: Atterrissage | AF55: Auto | AG55: Appontages | AI55: Elingue | AJ55: Treuil | AK55: Simulation | AM55: Elève en solo (SPIC)
C56: Type | D56: Immat. | T56: AS365 N3 / N3+/565MB | U56: AS 365 N/N1/N2/F | AD56: Jour | AE56: Nuit | AG56: Jour | AH56: Nuit | AM56: ou PICUS
B57: 43759 | E57: 0.45 | H57: 0.47361111 | K57: 0.023611111 | W57: 0.023611111 | Z57: 0.023611111 | AD57: 1
B58: 43759 | E58: 0.54652778 | H58: 0.60069444 | K58: 0.054166667 | W58: 0.054166667 | Z58: 0.054166667 | AD58: 2
B59: 43760 | E59: 0.44722222 | H59: 0.47083333 | K59: 0.023611111 | W59: 0.023611111 | Z59: 0.023611111 | AD59: 2
B60: 43760 | E60: 0.5375 | H60: 0.55625 | K60: 0.01875 | W60: 0.01875 | Z60: 0.01875 | AD60: 1
B61: 43762 | E61: 0.67083333 | H61: 0.71527778 | K61: 0.044444444 | W61: 0.044444444 | Z61: 0.044444444 | AD61: 3
B62: 43763 | E62: 0.56319444 | H62: 0.60208333 | K62: 0.038888889 | W62: 0.038888889 | Z62: 0.038888889 | AD62: 2
B63: 43766 | E63: 0.69791667 | H63: 0.73263889 | K63: 0.034722222 | W63: 0.034722222 | Z63: 0.034722222 | AD63: 2
B64: 43767 | E64: 0.42013889 | H64: 0.45069444 | K64: 0.030555556 | W64: 0.030555556 | Z64: 0.030555556 | AD64: 1
B65: 43768 | E65: 0.49305556 | H65: 0.53055556 | K65: 0.0375 | W65: 0.0375 | Z65: 0.0375 | AD65: 1
B66: 43768 | E66: 0.62291667 | H66: 0.65277778 | K66: 0.029861111 | W66: 0.029861111 | Z66: 0.029861111 | AD66: 1
B67: 43769 | E67: 0.40347222 | H67: 0.46111111 | K67: 0.057638889 | W67: 0.057638889 | Z67: 0.057638889 | AD67: 2
B68: 43769 | E68: 0.65277778 | H68: 0.66666667 | K68: 0.013888889 | W68: 0.013888889 | Z68: 0.013888889 | AD68: 2
A75: Total général des heures de vol de la page : | G75: =SUM(I75:K75) -> 0.40763889 | I75: =SUM(I57:I74) -> 0 | J75: =SUM(J57:J74) -> 0 | K75: =SUM(K57:K74) -> 0.40763889 | L75: =SUM(L57:L74) -> 0 | M75: =SUM(M57:M74) -> 0 | N75: =SUM(N57:N74) -> 0 | O75: =SUM(O57:O74) -> 0 | P75: =SUM(P57:P74) -> 0 | ... AK75: =SUM(AK57:AK74) -> 0 | AL75: CERTIFIE EXACT
A76: Total général des heures de vol comme pilote: | G76: =SUM(I76:K76) -> 344.41597 | I76: =I53+I75 -> 265.28958 | J76: =J53+J75 -> 0 | K76: =K53+K75 -> 79.126389 | L76: =L53+L75 -> 188.15139 | M76: =M53+M75 -> 2.8104167 | N76: =N53+N75 -> 0.045833333 | O76: =O53+O75 -> 6.1 | P76: =P53+P75 -> 1.2472222 | ... AK76: =AK53+AK75 -> 23.744444

Sheet Totaux journaliers
C2: 43466 | D2: 43497 | E2: 43525 | F2: 43556 | G2: 43586 | H2: 43617 | I2: 43647 | J2: 43678 | K2: 43709 | L2: 43739 | M2: 43770 | N2: 43800
B3: 1 | J3: =IF(ISERROR(MATCH(DATE(YEAR(J$2),MONTH(J$2),$B3),'Heures de vol'!$AP$7:$AP$24,0)+6),"",SUM(INDIRECT(CONCATENATE("Heures de vol.AQ",MATCH(DATE(YEAR(J$2),MONTH(J$2),$B3),'Heures de vol'!$AP$7:$AP$24,0)+6,":","AQ",MATCH(DATE(YEAR(J$2),MONTH(J$2),$B3),'Heures de vol'!$AP$7:$AP$24,0)+6),1)))
B4: 2 | J4: =IF(ISERROR(MATCH(DATE(YEAR(J$2),MONTH(J$2),$B4),'Heures de vol'!$AP$7:$AP$24,0)+6),"",SUM(INDIRECT(CONCATENATE("Heures de vol.AQ",MATCH(DATE(YEAR(J$2),MONTH(J$2),$B4),'Heures de vol'!$AP$7:$AP$24,0)+6,":","AQ",MATCH(DATE(YEAR(J$2),MONTH(J$2),$B4),'Heures de vol'!$AP$7:$AP$24,0)+6),1)))
B5: 3 | J5: =IF(ISERROR(MATCH(DATE(YEAR(J$2),MONTH(J$2),$B5),'Heures de vol'!$AP$7:$AP$24,0)+6),"",SUM(INDIRECT(CONCATENATE("Heures de vol.AQ",MATCH(DATE(YEAR(J$2),MONTH(J$2),$B5),'Heures de vol'!$AP$7:$AP$24,0)+6,":","AQ",MATCH(DATE(YEAR(J$2),MONTH(J$2),$B5),'Heures de vol'!$AP$7:$AP$24,0)+6),1)))
B6: 4 | J6: =IF(ISERROR(MATCH(DATE(YEAR(J$2),MONTH(J$2),$B6),'Heures de vol'!$AP$7:$AP$24,0)+6),"",SUM(INDIRECT(CONCATENATE("Heures de vol.AQ",MATCH(DATE(YEAR(J$2),MONTH(J$2),$B6),'Heures de vol'!$AP$7:$AP$24,0)+6,":","AQ",MATCH(DATE(YEAR(J$2),MONTH(J$2),$B6),'Heures de vol'!$AP$7:$AP$24,0)+6),1)))
B7: 5 | J7: =IF(ISERROR(MATCH(DATE(YEAR(J$2),MONTH(J$2),$B7),'Heures de vol'!$AP$7:$AP$24,0)+6),"",SUM(INDIRECT(CONCATENATE("Heures de vol.AQ",MATCH(DATE(YEAR(J$2),MONTH(J$2),$B7),'Heures de vol'!$AP$7:$AP$24,0)+6,":","AQ",MATCH(DATE(YEAR(J$2),MONTH(J$2),$B7),'Heures de vol'!$AP$7:$AP$24,0)+6),1)))
B8: 6 | J8: =IF(ISERROR(MATCH(DATE(YEAR(J$2),MONTH(J$2),$B8),'Heures de vol'!$AP$7:$AP$24,0)+6),"",SUM(INDIRECT(CONCATENATE("Heures de vol.AQ",MATCH(DATE(YEAR(J$2),MONTH(J$2),$B8),'Heures de vol'!$AP$7:$AP$24,0)+6,":","AQ",MATCH(DATE(YEAR(J$2),MONTH(J$2),$B8),'Heures de vol'!$AP$7:$AP$24,0)+6),1)))
B9: 7 | J9: =IF(ISERROR(MATCH(DATE(YEAR(J$2),MONTH(J$2),$B9),'Heures de vol'!$AP$7:$AP$24,0)+6),"",SUM(INDIRECT(CONCATENATE("Heures de vol.AQ",MATCH(DATE(YEAR(J$2),MONTH(J$2),$B9),'Heures de vol'!$AP$7:$AP$24,0)+6,":","AQ",MATCH(DATE(YEAR(J$2),MONTH(J$2),$B9),'Heures de vol'!$AP$7:$AP$24,0)+6),1)))
B10: 8 | J10: =IF(ISERROR(MATCH(DATE(YEAR(J$2),MONTH(J$2),$B10),'Heures de vol'!$AP$7:$AP$24,0)+6),"",SUM(INDIRECT(CONCATENATE("Heures de vol.AQ",MATCH(DATE(YEAR(J$2),MONTH(J$2),$B10),'Heures de vol'!$AP$7:$AP$24,0)+6,":","AQ",MATCH(DATE(YEAR(J$2),MONTH(J$2),$B10),'Heures de vol'!$AP$7:$AP$24,0)+6),1)))
B11: 9 | J11: =IF(ISERROR(MATCH(DATE(YEAR(J$2),MONTH(J$2),$B11),'Heures de vol'!$AP$7:$AP$24,0)+6),"",SUM(INDIRECT(CONCATENATE("Heures de vol.AQ",MATCH(DATE(YEAR(J$2),MONTH(J$2),$B11),'Heures de vol'!$AP$7:$AP$24,0)+6,":","AQ",MATCH(DATE(YEAR(J$2),MONTH(J$2),$B11),'Heures de vol'!$AP$7:$AP$24,0)+6),1)))
B12: 10 | J12: =IF(ISERROR(MATCH(DATE(YEAR(J$2),MONTH(J$2),$B12),'Heures de vol'!$AP$7:$AP$24,0)+6),"",SUM(INDIRECT(CONCATENATE("Heures de vol.AQ",MATCH(DATE(YEAR(J$2),MONTH(J$2),$B12),'Heures de vol'!$AP$7:$AP$24,0)+6,":","AQ",MATCH(DATE(YEAR(J$2),MONTH(J$2),$B12),'Heures de vol'!$AP$7:$AP$24,0)+6),1)))
B13: 11 | J13: =IF(ISERROR(MATCH(DATE(YEAR(J$2),MONTH(J$2),$B13),'Heures de vol'!$AP$7:$AP$24,0)+6),"",SUM(INDIRECT(CONCATENATE("Heures de vol.AQ",MATCH(DATE(YEAR(J$2),MONTH(J$2),$B13),'Heures de vol'!$AP$7:$AP$24,0)+6,":","AQ",MATCH(DATE(YEAR(J$2),MONTH(J$2),$B13),'Heures de vol'!$AP$7:$AP$24,0)+6),1)))
B14: 12 | J14: =IF(ISERROR(MATCH(DATE(YEAR(J$2),MONTH(J$2),$B14),'Heures de vol'!$AP$7:$AP$24,0)+6),"",SUM(INDIRECT(CONCATENATE("Heures de vol.AQ",MATCH(DATE(YEAR(J$2),MONTH(J$2),$B14),'Heures de vol'!$AP$7:$AP$24,0)+6,":","AQ",MATCH(DATE(YEAR(J$2),MONTH(J$2),$B14),'Heures de vol'!$AP$7:$AP$24,0)+6),1)))
... B33: 31 | J33: =IF(ISERROR(MATCH(DATE(YEAR(J$2),MONTH(J$2),$B33),'Heures de vol'!$AP$7:$AP$24,0)+6),"",SUM(INDIRECT(CONCATENATE("Heures de vol.AQ",MATCH(DATE(YEAR(J$2),MONTH(J$2),$B33),'Heures de vol'!$AP$7:$AP$24,0)+6,":","AQ",MATCH(DATE(YEAR(J$2),MONTH(J$2),$B33),'Heures de vol'!$AP$7:$AP$24,0)+6),1)))
B34: TOTAL | J34: =SUM(J3:J33) -> 0.62569444
