Workbook

Sheet consignes
A1: 1) | B1: feuille F2, en cliquant en C1, vous sélectionnez toute la zone des présences, afin de pouvoir l’effacer pour le mois suivant
A2: 2) | B2: choisir le mois en feuille F2, en cliquant dans la liste déroulante en E1,
A3: 3) | B3: servir la zone des présences, si vide, travaille tout le mois excepté samedi(jour7) et dimanche(jour1)

Sheet F2
C1: =HYPERLINK("#C3:D46","Présence"&CHAR(10)&"du / au"&CHAR(10)&"raz mois") -> Présence du / au raz mois | E1: 43282
B2: =EOMONTH(E1,0) -> 43312 | C2: Début | D2: Fin | E2: =IF(DAY(COLUMN()-3)>DAY($B2),"",DATE(YEAR($E1),MONTH($E1),DAY(COLUMN()-3))) -> 43282 | F2: =IF(DAY(COLUMN()-3)>DAY($B2),"",DATE(YEAR($E1),MONTH($E1),DAY(COLUMN()-3))) -> 43283 | G2: =IF(DAY(COLUMN()-3)>DAY($B2),"",DATE(YEAR($E1),MONTH($E1),DAY(COLUMN()-3))) -> 43284 | H2: =IF(DAY(COLUMN()-3)>DAY($B2),"",DATE(YEAR($E1),MONTH($E1),DAY(COLUMN()-3))) -> 43285 | I2: =IF(DAY(COLUMN()-3)>DAY($B2),"",DATE(YEAR($E1),MONTH($E1),DAY(COLUMN()-3))) -> 43286 | J2: =IF(DAY(COLUMN()-3)>DAY($B2),"",DATE(YEAR($E1),MONTH($E1),DAY(COLUMN()-3))) -> 43287 | K2: =IF(DAY(COLUMN()-3)>DAY($B2),"",DATE(YEAR($E1),MONTH($E1),DAY(COLUMN()-3))) -> 43288 | L2: =IF(DAY(COLUMN()-3)>DAY($B2),"",DATE(YEAR($E1),MONTH($E1),DAY(COLUMN()-3))) -> 43289 | ... AI2: =IF(DAY(COLUMN()-3)>DAY($B2),"",DATE(YEAR($E1),MONTH($E1),DAY(COLUMN()-3))) -> 43312 | AJ2: Jours travaillés dans le mois
A3: SAISONNIER | B3: 1 | C3: 9 | D3: 10 | E3: =IF(OR($B3="",E$2=""),"",IF(OR(WEEKDAY(E$2)=7,WEEKDAY(E$2)=1),"",IF(AND($C3="",$D3=""),1,IF(AND($C3<=DAY(E$2),$D3=""),1,IF(AND($C3<=DAY(E$2),$D3>=DAY(E$2)),1,IF(AND($C3="",$D3>=DAY(E$2)),1,"")))))) | F3: =IF(OR($B3="",F$2=""),"",IF(OR(WEEKDAY(F$2)=7,WEEKDAY(F$2)=1),"",IF(AND($C3="",$D3=""),1,IF(AND($C3<=DAY(F$2),$D3=""),1,IF(AND($C3<=DAY(F$2),$D3>=DAY(F$2)),1,IF(AND($C3="",$D3>=DAY(F$2)),1,"")))))) | G3: =IF(OR($B3="",G$2=""),"",IF(OR(WEEKDAY(G$2)=7,WEEKDAY(G$2)=1),"",IF(AND($C3="",$D3=""),1,IF(AND($C3<=DAY(G$2),$D3=""),1,IF(AND($C3<=DAY(G$2),$D3>=DAY(G$2)),1,IF(AND($C3="",$D3>=DAY(G$2)),1,"")))))) | H3: =IF(OR($B3="",H$2=""),"",IF(OR(WEEKDAY(H$2)=7,WEEKDAY(H$2)=1),"",IF(AND($C3="",$D3=""),1,IF(AND($C3<=DAY(H$2),$D3=""),1,IF(AND($C3<=DAY(H$2),$D3>=DAY(H$2)),1,IF(AND($C3="",$D3>=DAY(H$2)),1,"")))))) | I3: =IF(OR($B3="",I$2=""),"",IF(OR(WEEKDAY(I$2)=7,WEEKDAY(I$2)=1),"",IF(AND($C3="",$D3=""),1,IF(AND($C3<=DAY(I$2),$D3=""),1,IF(AND($C3<=DAY(I$2),$D3>=DAY(I$2)),1,IF(AND($C3="",$D3>=DAY(I$2)),1,"")))))) | J3: =IF(OR($B3="",J$2=""),"",IF(OR(WEEKDAY(J$2)=7,WEEKDAY(J$2)=1),"",IF(AND($C3="",$D3=""),1,IF(AND($C3<=DAY(J$2),$D3=""),1,IF(AND($C3<=DAY(J$2),$D3>=DAY(J$2)),1,IF(AND($C3="",$D3>=DAY(J$2)),1,"")))))) | K3: =IF(OR($B3="",K$2=""),"",IF(OR(WEEKDAY(K$2)=7,WEEKDAY(K$2)=1),"",IF(AND($C3="",$D3=""),1,IF(AND($C3<=DAY(K$2),$D3=""),1,IF(AND($C3<=DAY(K$2),$D3>=DAY(K$2)),1,IF(AND($C3="",$D3>=DAY(K$2)),1,"")))))) | L3: =IF(OR($B3="",L$2=""),"",IF(OR(WEEKDAY(L$2)=7,WEEKDAY(L$2)=1),"",IF(AND($C3="",$D3=""),1,IF(AND($C3<=DAY(L$2),$D3=""),1,IF(AND($C3<=DAY(L$2),$D3>=DAY(L$2)),1,IF(AND($C3="",$D3>=DAY(L$2)),1,"")))))) | ... AI3: =IF(OR($B3="",AI$2=""),"",IF(OR(WEEKDAY(AI$2)=7,WEEKDAY(AI$2)=1),"",IF(AND($C3="",$D3=""),1,IF(AND($C3<=DAY(AI$2),$D3=""),1,IF(AND($C3<=DAY(AI$2),$D3>=DAY(AI$2)),1,IF(AND($C3="",$D3>=DAY(AI$2)),1,"")))))) | AJ3: =IF($B3="","",SUM(E3:AI3)) -> 2
A4: SAISONNIER | B4: 2 | D4: 15 | E4: =IF(OR($B4="",E$2=""),"",IF(OR(WEEKDAY(E$2)=7,WEEKDAY(E$2)=1),"",IF(AND($C4="",$D4=""),1,IF(AND($C4<=DAY(E$2),$D4=""),1,IF(AND($C4<=DAY(E$2),$D4>=DAY(E$2)),1,IF(AND($C4="",$D4>=DAY(E$2)),1,"")))))) | F4: =IF(OR($B4="",F$2=""),"",IF(OR(WEEKDAY(F$2)=7,WEEKDAY(F$2)=1),"",IF(AND($C4="",$D4=""),1,IF(AND($C4<=DAY(F$2),$D4=""),1,IF(AND($C4<=DAY(F$2),$D4>=DAY(F$2)),1,IF(AND($C4="",$D4>=DAY(F$2)),1,"")))))) -> 1 | G4: =IF(OR($B4="",G$2=""),"",IF(OR(WEEKDAY(G$2)=7,WEEKDAY(G$2)=1),"",IF(AND($C4="",$D4=""),1,IF(AND($C4<=DAY(G$2),$D4=""),1,IF(AND($C4<=DAY(G$2),$D4>=DAY(G$2)),1,IF(AND($C4="",$D4>=DAY(G$2)),1,"")))))) -> 1 | H4: =IF(OR($B4="",H$2=""),"",IF(OR(WEEKDAY(H$2)=7,WEEKDAY(H$2)=1),"",IF(AND($C4="",$D4=""),1,IF(AND($C4<=DAY(H$2),$D4=""),1,IF(AND($C4<=DAY(H$2),$D4>=DAY(H$2)),1,IF(AND($C4="",$D4>=DAY(H$2)),1,"")))))) -> 1 | I4: =IF(OR($B4="",I$2=""),"",IF(OR(WEEKDAY(I$2)=7,WEEKDAY(I$2)=1),"",IF(AND($C4="",$D4=""),1,IF(AND($C4<=DAY(I$2),$D4=""),1,IF(AND($C4<=DAY(I$2),$D4>=DAY(I$2)),1,IF(AND($C4="",$D4>=DAY(I$2)),1,"")))))) -> 1 | J4: =IF(OR($B4="",J$2=""),"",IF(OR(WEEKDAY(J$2)=7,WEEKDAY(J$2)=1),"",IF(AND($C4="",$D4=""),1,IF(AND($C4<=DAY(J$2),$D4=""),1,IF(AND($C4<=DAY(J$2),$D4>=DAY(J$2)),1,IF(AND($C4="",$D4>=DAY(J$2)),1,"")))))) -> 1 | K4: =IF(OR($B4="",K$2=""),"",IF(OR(WEEKDAY(K$2)=7,WEEKDAY(K$2)=1),"",IF(AND($C4="",$D4=""),1,IF(AND($C4<=DAY(K$2),$D4=""),1,IF(AND($C4<=DAY(K$2),$D4>=DAY(K$2)),1,IF(AND($C4="",$D4>=DAY(K$2)),1,"")))))) | L4: =IF(OR($B4="",L$2=""),"",IF(OR(WEEKDAY(L$2)=7,WEEKDAY(L$2)=1),"",IF(AND($C4="",$D4=""),1,IF(AND($C4<=DAY(L$2),$D4=""),1,IF(AND($C4<=DAY(L$2),$D4>=DAY(L$2)),1,IF(AND($C4="",$D4>=DAY(L$2)),1,"")))))) | ... AI4: =IF(OR($B4="",AI$2=""),"",IF(OR(WEEKDAY(AI$2)=7,WEEKDAY(AI$2)=1),"",IF(AND($C4="",$D4=""),1,IF(AND($C4<=DAY(AI$2),$D4=""),1,IF(AND($C4<=DAY(AI$2),$D4>=DAY(AI$2)),1,IF(AND($C4="",$D4>=DAY(AI$2)),1,"")))))) | AJ4: =IF($B4="","",SUM(E4:AI4)) -> 10
A5: SAISONNIER | B5: 3 | C5: 12 | E5: =IF(OR($B5="",E$2=""),"",IF(OR(WEEKDAY(E$2)=7,WEEKDAY(E$2)=1),"",IF(AND($C5="",$D5=""),1,IF(AND($C5<=DAY(E$2),$D5=""),1,IF(AND($C5<=DAY(E$2),$D5>=DAY(E$2)),1,IF(AND($C5="",$D5>=DAY(E$2)),1,"")))))) | F5: =IF(OR($B5="",F$2=""),"",IF(OR(WEEKDAY(F$2)=7,WEEKDAY(F$2)=1),"",IF(AND($C5="",$D5=""),1,IF(AND($C5<=DAY(F$2),$D5=""),1,IF(AND($C5<=DAY(F$2),$D5>=DAY(F$2)),1,IF(AND($C5="",$D5>=DAY(F$2)),1,"")))))) | G5: =IF(OR($B5="",G$2=""),"",IF(OR(WEEKDAY(G$2)=7,WEEKDAY(G$2)=1),"",IF(AND($C5="",$D5=""),1,IF(AND($C5<=DAY(G$2),$D5=""),1,IF(AND($C5<=DAY(G$2),$D5>=DAY(G$2)),1,IF(AND($C5="",$D5>=DAY(G$2)),1,"")))))) | H5: =IF(OR($B5="",H$2=""),"",IF(OR(WEEKDAY(H$2)=7,WEEKDAY(H$2)=1),"",IF(AND($C5="",$D5=""),1,IF(AND($C5<=DAY(H$2),$D5=""),1,IF(AND($C5<=DAY(H$2),$D5>=DAY(H$2)),1,IF(AND($C5="",$D5>=DAY(H$2)),1,"")))))) | I5: =IF(OR($B5="",I$2=""),"",IF(OR(WEEKDAY(I$2)=7,WEEKDAY(I$2)=1),"",IF(AND($C5="",$D5=""),1,IF(AND($C5<=DAY(I$2),$D5=""),1,IF(AND($C5<=DAY(I$2),$D5>=DAY(I$2)),1,IF(AND($C5="",$D5>=DAY(I$2)),1,"")))))) | J5: =IF(OR($B5="",J$2=""),"",IF(OR(WEEKDAY(J$2)=7,WEEKDAY(J$2)=1),"",IF(AND($C5="",$D5=""),1,IF(AND($C5<=DAY(J$2),$D5=""),1,IF(AND($C5<=DAY(J$2),$D5>=DAY(J$2)),1,IF(AND($C5="",$D5>=DAY(J$2)),1,"")))))) | K5: =IF(OR($B5="",K$2=""),"",IF(OR(WEEKDAY(K$2)=7,WEEKDAY(K$2)=1),"",IF(AND($C5="",$D5=""),1,IF(AND($C5<=DAY(K$2),$D5=""),1,IF(AND($C5<=DAY(K$2),$D5>=DAY(K$2)),1,IF(AND($C5="",$D5>=DAY(K$2)),1,"")))))) | L5: =IF(OR($B5="",L$2=""),"",IF(OR(WEEKDAY(L$2)=7,WEEKDAY(L$2)=1),"",IF(AND($C5="",$D5=""),1,IF(AND($C5<=DAY(L$2),$D5=""),1,IF(AND($C5<=DAY(L$2),$D5>=DAY(L$2)),1,IF(AND($C5="",$D5>=DAY(L$2)),1,"")))))) | ... AI5: =IF(OR($B5="",AI$2=""),"",IF(OR(WEEKDAY(AI$2)=7,WEEKDAY(AI$2)=1),"",IF(AND($C5="",$D5=""),1,IF(AND($C5<=DAY(AI$2),$D5=""),1,IF(AND($C5<=DAY(AI$2),$D5>=DAY(AI$2)),1,IF(AND($C5="",$D5>=DAY(AI$2)),1,"")))))) -> 1 | AJ5: =IF($B5="","",SUM(E5:AI5)) -> 14
A6: SAISONNIER | B6: 4 | C6: 7 | D6: 19 | E6: =IF(OR($B6="",E$2=""),"",IF(OR(WEEKDAY(E$2)=7,WEEKDAY(E$2)=1),"",IF(AND($C6="",$D6=""),1,IF(AND($C6<=DAY(E$2),$D6=""),1,IF(AND($C6<=DAY(E$2),$D6>=DAY(E$2)),1,IF(AND($C6="",$D6>=DAY(E$2)),1,"")))))) | F6: =IF(OR($B6="",F$2=""),"",IF(OR(WEEKDAY(F$2)=7,WEEKDAY(F$2)=1),"",IF(AND($C6="",$D6=""),1,IF(AND($C6<=DAY(F$2),$D6=""),1,IF(AND($C6<=DAY(F$2),$D6>=DAY(F$2)),1,IF(AND($C6="",$D6>=DAY(F$2)),1,"")))))) | G6: =IF(OR($B6="",G$2=""),"",IF(OR(WEEKDAY(G$2)=7,WEEKDAY(G$2)=1),"",IF(AND($C6="",$D6=""),1,IF(AND($C6<=DAY(G$2),$D6=""),1,IF(AND($C6<=DAY(G$2),$D6>=DAY(G$2)),1,IF(AND($C6="",$D6>=DAY(G$2)),1,"")))))) | H6: =IF(OR($B6="",H$2=""),"",IF(OR(WEEKDAY(H$2)=7,WEEKDAY(H$2)=1),"",IF(AND($C6="",$D6=""),1,IF(AND($C6<=DAY(H$2),$D6=""),1,IF(AND($C6<=DAY(H$2),$D6>=DAY(H$2)),1,IF(AND($C6="",$D6>=DAY(H$2)),1,"")))))) | I6: =IF(OR($B6="",I$2=""),"",IF(OR(WEEKDAY(I$2)=7,WEEKDAY(I$2)=1),"",IF(AND($C6="",$D6=""),1,IF(AND($C6<=DAY(I$2),$D6=""),1,IF(AND($C6<=DAY(I$2),$D6>=DAY(I$2)),1,IF(AND($C6="",$D6>=DAY(I$2)),1,"")))))) | J6: =IF(OR($B6="",J$2=""),"",IF(OR(WEEKDAY(J$2)=7,WEEKDAY(J$2)=1),"",IF(AND($C6="",$D6=""),1,IF(AND($C6<=DAY(J$2),$D6=""),1,IF(AND($C6<=DAY(J$2),$D6>=DAY(J$2)),1,IF(AND($C6="",$D6>=DAY(J$2)),1,"")))))) | K6: =IF(OR($B6="",K$2=""),"",IF(OR(WEEKDAY(K$2)=7,WEEKDAY(K$2)=1),"",IF(AND($C6="",$D6=""),1,IF(AND($C6<=DAY(K$2),$D6=""),1,IF(AND($C6<=DAY(K$2),$D6>=DAY(K$2)),1,IF(AND($C6="",$D6>=DAY(K$2)),1,"")))))) | L6: =IF(OR($B6="",L$2=""),"",IF(OR(WEEKDAY(L$2)=7,WEEKDAY(L$2)=1),"",IF(AND($C6="",$D6=""),1,IF(AND($C6<=DAY(L$2),$D6=""),1,IF(AND($C6<=DAY(L$2),$D6>=DAY(L$2)),1,IF(AND($C6="",$D6>=DAY(L$2)),1,"")))))) | ... AI6: =IF(OR($B6="",AI$2=""),"",IF(OR(WEEKDAY(AI$2)=7,WEEKDAY(AI$2)=1),"",IF(AND($C6="",$D6=""),1,IF(AND($C6<=DAY(AI$2),$D6=""),1,IF(AND($C6<=DAY(AI$2),$D6>=DAY(AI$2)),1,IF(AND($C6="",$D6>=DAY(AI$2)),1,"")))))) | AJ6: =IF($B6="","",SUM(E6:AI6)) -> 9
A7: SAISONNIER | B7: 5 | E7: =IF(OR($B7="",E$2=""),"",IF(OR(WEEKDAY(E$2)=7,WEEKDAY(E$2)=1),"",IF(AND($C7="",$D7=""),1,IF(AND($C7<=DAY(E$2),$D7=""),1,IF(AND($C7<=DAY(E$2),$D7>=DAY(E$2)),1,IF(AND($C7="",$D7>=DAY(E$2)),1,"")))))) | F7: =IF(OR($B7="",F$2=""),"",IF(OR(WEEKDAY(F$2)=7,WEEKDAY(F$2)=1),"",IF(AND($C7="",$D7=""),1,IF(AND($C7<=DAY(F$2),$D7=""),1,IF(AND($C7<=DAY(F$2),$D7>=DAY(F$2)),1,IF(AND($C7="",$D7>=DAY(F$2)),1,"")))))) -> 1 | G7: =IF(OR($B7="",G$2=""),"",IF(OR(WEEKDAY(G$2)=7,WEEKDAY(G$2)=1),"",IF(AND($C7="",$D7=""),1,IF(AND($C7<=DAY(G$2),$D7=""),1,IF(AND($C7<=DAY(G$2),$D7>=DAY(G$2)),1,IF(AND($C7="",$D7>=DAY(G$2)),1,"")))))) -> 1 | H7: =IF(OR($B7="",H$2=""),"",IF(OR(WEEKDAY(H$2)=7,WEEKDAY(H$2)=1),"",IF(AND($C7="",$D7=""),1,IF(AND($C7<=DAY(H$2),$D7=""),1,IF(AND($C7<=DAY(H$2),$D7>=DAY(H$2)),1,IF(AND($C7="",$D7>=DAY(H$2)),1,"")))))) -> 1 | I7: =IF(OR($B7="",I$2=""),"",IF(OR(WEEKDAY(I$2)=7,WEEKDAY(I$2)=1),"",IF(AND($C7="",$D7=""),1,IF(AND($C7<=DAY(I$2),$D7=""),1,IF(AND($C7<=DAY(I$2),$D7>=DAY(I$2)),1,IF(AND($C7="",$D7>=DAY(I$2)),1,"")))))) -> 1 | J7: =IF(OR($B7="",J$2=""),"",IF(OR(WEEKDAY(J$2)=7,WEEKDAY(J$2)=1),"",IF(AND($C7="",$D7=""),1,IF(AND($C7<=DAY(J$2),$D7=""),1,IF(AND($C7<=DAY(J$2),$D7>=DAY(J$2)),1,IF(AND($C7="",$D7>=DAY(J$2)),1,"")))))) -> 1 | K7: =IF(OR($B7="",K$2=""),"",IF(OR(WEEKDAY(K$2)=7,WEEKDAY(K$2)=1),"",IF(AND($C7="",$D7=""),1,IF(AND($C7<=DAY(K$2),$D7=""),1,IF(AND($C7<=DAY(K$2),$D7>=DAY(K$2)),1,IF(AND($C7="",$D7>=DAY(K$2)),1,"")))))) | L7: =IF(OR($B7="",L$2=""),"",IF(OR(WEEKDAY(L$2)=7,WEEKDAY(L$2)=1),"",IF(AND($C7="",$D7=""),1,IF(AND($C7<=DAY(L$2),$D7=""),1,IF(AND($C7<=DAY(L$2),$D7>=DAY(L$2)),1,IF(AND($C7="",$D7>=DAY(L$2)),1,"")))))) | ... AI7: =IF(OR($B7="",AI$2=""),"",IF(OR(WEEKDAY(AI$2)=7,WEEKDAY(AI$2)=1),"",IF(AND($C7="",$D7=""),1,IF(AND($C7<=DAY(AI$2),$D7=""),1,IF(AND($C7<=DAY(AI$2),$D7>=DAY(AI$2)),1,IF(AND($C7="",$D7>=DAY(AI$2)),1,"")))))) -> 1 | AJ7: =IF($B7="","",SUM(E7:AI7)) -> 22
A8: SAISONNIER | B8: 6 | E8: =IF(OR($B8="",E$2=""),"",IF(OR(WEEKDAY(E$2)=7,WEEKDAY(E$2)=1),"",IF(AND($C8="",$D8=""),1,IF(AND($C8<=DAY(E$2),$D8=""),1,IF(AND($C8<=DAY(E$2),$D8>=DAY(E$2)),1,IF(AND($C8="",$D8>=DAY(E$2)),1,"")))))) | F8: =IF(OR($B8="",F$2=""),"",IF(OR(WEEKDAY(F$2)=7,WEEKDAY(F$2)=1),"",IF(AND($C8="",$D8=""),1,IF(AND($C8<=DAY(F$2),$D8=""),1,IF(AND($C8<=DAY(F$2),$D8>=DAY(F$2)),1,IF(AND($C8="",$D8>=DAY(F$2)),1,"")))))) -> 1 | G8: =IF(OR($B8="",G$2=""),"",IF(OR(WEEKDAY(G$2)=7,WEEKDAY(G$2)=1),"",IF(AND($C8="",$D8=""),1,IF(AND($C8<=DAY(G$2),$D8=""),1,IF(AND($C8<=DAY(G$2),$D8>=DAY(G$2)),1,IF(AND($C8="",$D8>=DAY(G$2)),1,"")))))) -> 1 | H8: =IF(OR($B8="",H$2=""),"",IF(OR(WEEKDAY(H$2)=7,WEEKDAY(H$2)=1),"",IF(AND($C8="",$D8=""),1,IF(AND($C8<=DAY(H$2),$D8=""),1,IF(AND($C8<=DAY(H$2),$D8>=DAY(H$2)),1,IF(AND($C8="",$D8>=DAY(H$2)),1,"")))))) -> 1 | I8: =IF(OR($B8="",I$2=""),"",IF(OR(WEEKDAY(I$2)=7,WEEKDAY(I$2)=1),"",IF(AND($C8="",$D8=""),1,IF(AND($C8<=DAY(I$2),$D8=""),1,IF(AND($C8<=DAY(I$2),$D8>=DAY(I$2)),1,IF(AND($C8="",$D8>=DAY(I$2)),1,"")))))) -> 1 | J8: =IF(OR($B8="",J$2=""),"",IF(OR(WEEKDAY(J$2)=7,WEEKDAY(J$2)=1),"",IF(AND($C8="",$D8=""),1,IF(AND($C8<=DAY(J$2),$D8=""),1,IF(AND($C8<=DAY(J$2),$D8>=DAY(J$2)),1,IF(AND($C8="",$D8>=DAY(J$2)),1,"")))))) -> 1 | K8: =IF(OR($B8="",K$2=""),"",IF(OR(WEEKDAY(K$2)=7,WEEKDAY(K$2)=1),"",IF(AND($C8="",$D8=""),1,IF(AND($C8<=DAY(K$2),$D8=""),1,IF(AND($C8<=DAY(K$2),$D8>=DAY(K$2)),1,IF(AND($C8="",$D8>=DAY(K$2)),1,"")))))) | L8: =IF(OR($B8="",L$2=""),"",IF(OR(WEEKDAY(L$2)=7,WEEKDAY(L$2)=1),"",IF(AND($C8="",$D8=""),1,IF(AND($C8<=DAY(L$2),$D8=""),1,IF(AND($C8<=DAY(L$2),$D8>=DAY(L$2)),1,IF(AND($C8="",$D8>=DAY(L$2)),1,"")))))) | ... AI8: =IF(OR($B8="",AI$2=""),"",IF(OR(WEEKDAY(AI$2)=7,WEEKDAY(AI$2)=1),"",IF(AND($C8="",$D8=""),1,IF(AND($C8<=DAY(AI$2),$D8=""),1,IF(AND($C8<=DAY(AI$2),$D8>=DAY(AI$2)),1,IF(AND($C8="",$D8>=DAY(AI$2)),1,"")))))) -> 1 | AJ8: =IF($B8="","",SUM(E8:AI8)) -> 22
A9: SAISONNIER | B9: 7 | E9: =IF(OR($B9="",E$2=""),"",IF(OR(WEEKDAY(E$2)=7,WEEKDAY(E$2)=1),"",IF(AND($C9="",$D9=""),1,IF(AND($C9<=DAY(E$2),$D9=""),1,IF(AND($C9<=DAY(E$2),$D9>=DAY(E$2)),1,IF(AND($C9="",$D9>=DAY(E$2)),1,"")))))) | F9: =IF(OR($B9="",F$2=""),"",IF(OR(WEEKDAY(F$2)=7,WEEKDAY(F$2)=1),"",IF(AND($C9="",$D9=""),1,IF(AND($C9<=DAY(F$2),$D9=""),1,IF(AND($C9<=DAY(F$2),$D9>=DAY(F$2)),1,IF(AND($C9="",$D9>=DAY(F$2)),1,"")))))) -> 1 | G9: =IF(OR($B9="",G$2=""),"",IF(OR(WEEKDAY(G$2)=7,WEEKDAY(G$2)=1),"",IF(AND($C9="",$D9=""),1,IF(AND($C9<=DAY(G$2),$D9=""),1,IF(AND($C9<=DAY(G$2),$D9>=DAY(G$2)),1,IF(AND($C9="",$D9>=DAY(G$2)),1,"")))))) -> 1 | H9: =IF(OR($B9="",H$2=""),"",IF(OR(WEEKDAY(H$2)=7,WEEKDAY(H$2)=1),"",IF(AND($C9="",$D9=""),1,IF(AND($C9<=DAY(H$2),$D9=""),1,IF(AND($C9<=DAY(H$2),$D9>=DAY(H$2)),1,IF(AND($C9="",$D9>=DAY(H$2)),1,"")))))) -> 1 | I9: =IF(OR($B9="",I$2=""),"",IF(OR(WEEKDAY(I$2)=7,WEEKDAY(I$2)=1),"",IF(AND($C9="",$D9=""),1,IF(AND($C9<=DAY(I$2),$D9=""),1,IF(AND($C9<=DAY(I$2),$D9>=DAY(I$2)),1,IF(AND($C9="",$D9>=DAY(I$2)),1,"")))))) -> 1 | J9: =IF(OR($B9="",J$2=""),"",IF(OR(WEEKDAY(J$2)=7,WEEKDAY(J$2)=1),"",IF(AND($C9="",$D9=""),1,IF(AND($C9<=DAY(J$2),$D9=""),1,IF(AND($C9<=DAY(J$2),$D9>=DAY(J$2)),1,IF(AND($C9="",$D9>=DAY(J$2)),1,"")))))) -> 1 | K9: =IF(OR($B9="",K$2=""),"",IF(OR(WEEKDAY(K$2)=7,WEEKDAY(K$2)=1),"",IF(AND($C9="",$D9=""),1,IF(AND($C9<=DAY(K$2),$D9=""),1,IF(AND($C9<=DAY(K$2),$D9>=DAY(K$2)),1,IF(AND($C9="",$D9>=DAY(K$2)),1,"")))))) | L9: =IF(OR($B9="",L$2=""),"",IF(OR(WEEKDAY(L$2)=7,WEEKDAY(L$2)=1),"",IF(AND($C9="",$D9=""),1,IF(AND($C9<=DAY(L$2),$D9=""),1,IF(AND($C9<=DAY(L$2),$D9>=DAY(L$2)),1,IF(AND($C9="",$D9>=DAY(L$2)),1,"")))))) | ... AI9: =IF(OR($B9="",AI$2=""),"",IF(OR(WEEKDAY(AI$2)=7,WEEKDAY(AI$2)=1),"",IF(AND($C9="",$D9=""),1,IF(AND($C9<=DAY(AI$2),$D9=""),1,IF(AND($C9<=DAY(AI$2),$D9>=DAY(AI$2)),1,IF(AND($C9="",$D9>=DAY(AI$2)),1,"")))))) -> 1 | AJ9: =IF($B9="","",SUM(E9:AI9)) -> 22
A10: SAISONNIER | B10: 8 | E10: =IF(OR($B10="",E$2=""),"",IF(OR(WEEKDAY(E$2)=7,WEEKDAY(E$2)=1),"",IF(AND($C10="",$D10=""),1,IF(AND($C10<=DAY(E$2),$D10=""),1,IF(AND($C10<=DAY(E$2),$D10>=DAY(E$2)),1,IF(AND($C10="",$D10>=DAY(E$2)),1,"")))))) | F10: =IF(OR($B10="",F$2=""),"",IF(OR(WEEKDAY(F$2)=7,WEEKDAY(F$2)=1),"",IF(AND($C10="",$D10=""),1,IF(AND($C10<=DAY(F$2),$D10=""),1,IF(AND($C10<=DAY(F$2),$D10>=DAY(F$2)),1,IF(AND($C10="",$D10>=DAY(F$2)),1,"")))))) -> 1 | G10: =IF(OR($B10="",G$2=""),"",IF(OR(WEEKDAY(G$2)=7,WEEKDAY(G$2)=1),"",IF(AND($C10="",$D10=""),1,IF(AND($C10<=DAY(G$2),$D10=""),1,IF(AND($C10<=DAY(G$2),$D10>=DAY(G$2)),1,IF(AND($C10="",$D10>=DAY(G$2)),1,"")))))) -> 1 | H10: =IF(OR($B10="",H$2=""),"",IF(OR(WEEKDAY(H$2)=7,WEEKDAY(H$2)=1),"",IF(AND($C10="",$D10=""),1,IF(AND($C10<=DAY(H$2),$D10=""),1,IF(AND($C10<=DAY(H$2),$D10>=DAY(H$2)),1,IF(AND($C10="",$D10>=DAY(H$2)),1,"")))))) -> 1 | I10: =IF(OR($B10="",I$2=""),"",IF(OR(WEEKDAY(I$2)=7,WEEKDAY(I$2)=1),"",IF(AND($C10="",$D10=""),1,IF(AND($C10<=DAY(I$2),$D10=""),1,IF(AND($C10<=DAY(I$2),$D10>=DAY(I$2)),1,IF(AND($C10="",$D10>=DAY(I$2)),1,"")))))) -> 1 | J10: =IF(OR($B10="",J$2=""),"",IF(OR(WEEKDAY(J$2)=7,WEEKDAY(J$2)=1),"",IF(AND($C10="",$D10=""),1,IF(AND($C10<=DAY(J$2),$D10=""),1,IF(AND($C10<=DAY(J$2),$D10>=DAY(J$2)),1,IF(AND($C10="",$D10>=DAY(J$2)),1,"")))))) -> 1 | K10: =IF(OR($B10="",K$2=""),"",IF(OR(WEEKDAY(K$2)=7,WEEKDAY(K$2)=1),"",IF(AND($C10="",$D10=""),1,IF(AND($C10<=DAY(K$2),$D10=""),1,IF(AND($C10<=DAY(K$2),$D10>=DAY(K$2)),1,IF(AND($C10="",$D10>=DAY(K$2)),1,"")))))) | L10: =IF(OR($B10="",L$2=""),"",IF(OR(WEEKDAY(L$2)=7,WEEKDAY(L$2)=1),"",IF(AND($C10="",$D10=""),1,IF(AND($C10<=DAY(L$2),$D10=""),1,IF(AND($C10<=DAY(L$2),$D10>=DAY(L$2)),1,IF(AND($C10="",$D10>=DAY(L$2)),1,"")))))) | ... AI10: =IF(OR($B10="",AI$2=""),"",IF(OR(WEEKDAY(AI$2)=7,WEEKDAY(AI$2)=1),"",IF(AND($C10="",$D10=""),1,IF(AND($C10<=DAY(AI$2),$D10=""),1,IF(AND($C10<=DAY(AI$2),$D10>=DAY(AI$2)),1,IF(AND($C10="",$D10>=DAY(AI$2)),1,"")))))) -> 1 | AJ10: =IF($B10="","",SUM(E10:AI10)) -> 22
E11: =IF(OR($B11="",E$2=""),"",IF(OR(WEEKDAY(E$2)=7,WEEKDAY(E$2)=1),"",IF(AND($C11="",$D11=""),1,IF(AND($C11<=DAY(E$2),$D11=""),1,IF(AND($C11<=DAY(E$2),$D11>=DAY(E$2)),1,IF(AND($C11="",$D11>=DAY(E$2)),1,"")))))) | F11: =IF(OR($B11="",F$2=""),"",IF(OR(WEEKDAY(F$2)=7,WEEKDAY(F$2)=1),"",IF(AND($C11="",$D11=""),1,IF(AND($C11<=DAY(F$2),$D11=""),1,IF(AND($C11<=DAY(F$2),$D11>=DAY(F$2)),1,IF(AND($C11="",$D11>=DAY(F$2)),1,"")))))) | G11: =IF(OR($B11="",G$2=""),"",IF(OR(WEEKDAY(G$2)=7,WEEKDAY(G$2)=1),"",IF(AND($C11="",$D11=""),1,IF(AND($C11<=DAY(G$2),$D11=""),1,IF(AND($C11<=DAY(G$2),$D11>=DAY(G$2)),1,IF(AND($C11="",$D11>=DAY(G$2)),1,"")))))) | H11: =IF(OR($B11="",H$2=""),"",IF(OR(WEEKDAY(H$2)=7,WEEKDAY(H$2)=1),"",IF(AND($C11="",$D11=""),1,IF(AND($C11<=DAY(H$2),$D11=""),1,IF(AND($C11<=DAY(H$2),$D11>=DAY(H$2)),1,IF(AND($C11="",$D11>=DAY(H$2)),1,"")))))) | I11: =IF(OR($B11="",I$2=""),"",IF(OR(WEEKDAY(I$2)=7,WEEKDAY(I$2)=1),"",IF(AND($C11="",$D11=""),1,IF(AND($C11<=DAY(I$2),$D11=""),1,IF(AND($C11<=DAY(I$2),$D11>=DAY(I$2)),1,IF(AND($C11="",$D11>=DAY(I$2)),1,"")))))) | J11: =IF(OR($B11="",J$2=""),"",IF(OR(WEEKDAY(J$2)=7,WEEKDAY(J$2)=1),"",IF(AND($C11="",$D11=""),1,IF(AND($C11<=DAY(J$2),$D11=""),1,IF(AND($C11<=DAY(J$2),$D11>=DAY(J$2)),1,IF(AND($C11="",$D11>=DAY(J$2)),1,"")))))) | K11: =IF(OR($B11="",K$2=""),"",IF(OR(WEEKDAY(K$2)=7,WEEKDAY(K$2)=1),"",IF(AND($C11="",$D11=""),1,IF(AND($C11<=DAY(K$2),$D11=""),1,IF(AND($C11<=DAY(K$2),$D11>=DAY(K$2)),1,IF(AND($C11="",$D11>=DAY(K$2)),1,"")))))) | L11: =IF(OR($B11="",L$2=""),"",IF(OR(WEEKDAY(L$2)=7,WEEKDAY(L$2)=1),"",IF(AND($C11="",$D11=""),1,IF(AND($C11<=DAY(L$2),$D11=""),1,IF(AND($C11<=DAY(L$2),$D11>=DAY(L$2)),1,IF(AND($C11="",$D11>=DAY(L$2)),1,"")))))) | ... AI11: =IF(OR($B11="",AI$2=""),"",IF(OR(WEEKDAY(AI$2)=7,WEEKDAY(AI$2)=1),"",IF(AND($C11="",$D11=""),1,IF(AND($C11<=DAY(AI$2),$D11=""),1,IF(AND($C11<=DAY(AI$2),$D11>=DAY(AI$2)),1,IF(AND($C11="",$D11>=DAY(AI$2)),1,"")))))) | AJ11: =IF($B11="","",SUM(E11:AI11))
E12: =IF(OR($B12="",E$2=""),"",IF(OR(WEEKDAY(E$2)=7,WEEKDAY(E$2)=1),"",IF(AND($C12="",$D12=""),1,IF(AND($C12<=DAY(E$2),$D12=""),1,IF(AND($C12<=DAY(E$2),$D12>=DAY(E$2)),1,IF(AND($C12="",$D12>=DAY(E$2)),1,"")))))) | F12: =IF(OR($B12="",F$2=""),"",IF(OR(WEEKDAY(F$2)=7,WEEKDAY(F$2)=1),"",IF(AND($C12="",$D12=""),1,IF(AND($C12<=DAY(F$2),$D12=""),1,IF(AND($C12<=DAY(F$2),$D12>=DAY(F$2)),1,IF(AND($C12="",$D12>=DAY(F$2)),1,"")))))) | G12: =IF(OR($B12="",G$2=""),"",IF(OR(WEEKDAY(G$2)=7,WEEKDAY(G$2)=1),"",IF(AND($C12="",$D12=""),1,IF(AND($C12<=DAY(G$2),$D12=""),1,IF(AND($C12<=DAY(G$2),$D12>=DAY(G$2)),1,IF(AND($C12="",$D12>=DAY(G$2)),1,"")))))) | H12: =IF(OR($B12="",H$2=""),"",IF(OR(WEEKDAY(H$2)=7,WEEKDAY(H$2)=1),"",IF(AND($C12="",$D12=""),1,IF(AND($C12<=DAY(H$2),$D12=""),1,IF(AND($C12<=DAY(H$2),$D12>=DAY(H$2)),1,IF(AND($C12="",$D12>=DAY(H$2)),1,"")))))) | I12: =IF(OR($B12="",I$2=""),"",IF(OR(WEEKDAY(I$2)=7,WEEKDAY(I$2)=1),"",IF(AND($C12="",$D12=""),1,IF(AND($C12<=DAY(I$2),$D12=""),1,IF(AND($C12<=DAY(I$2),$D12>=DAY(I$2)),1,IF(AND($C12="",$D12>=DAY(I$2)),1,"")))))) | J12: =IF(OR($B12="",J$2=""),"",IF(OR(WEEKDAY(J$2)=7,WEEKDAY(J$2)=1),"",IF(AND($C12="",$D12=""),1,IF(AND($C12<=DAY(J$2),$D12=""),1,IF(AND($C12<=DAY(J$2),$D12>=DAY(J$2)),1,IF(AND($C12="",$D12>=DAY(J$2)),1,"")))))) | K12: =IF(OR($B12="",K$2=""),"",IF(OR(WEEKDAY(K$2)=7,WEEKDAY(K$2)=1),"",IF(AND($C12="",$D12=""),1,IF(AND($C12<=DAY(K$2),$D12=""),1,IF(AND($C12<=DAY(K$2),$D12>=DAY(K$2)),1,IF(AND($C12="",$D12>=DAY(K$2)),1,"")))))) | L12: =IF(OR($B12="",L$2=""),"",IF(OR(WEEKDAY(L$2)=7,WEEKDAY(L$2)=1),"",IF(AND($C12="",$D12=""),1,IF(AND($C12<=DAY(L$2),$D12=""),1,IF(AND($C12<=DAY(L$2),$D12>=DAY(L$2)),1,IF(AND($C12="",$D12>=DAY(L$2)),1,"")))))) | ... AI12: =IF(OR($B12="",AI$2=""),"",IF(OR(WEEKDAY(AI$2)=7,WEEKDAY(AI$2)=1),"",IF(AND($C12="",$D12=""),1,IF(AND($C12<=DAY(AI$2),$D12=""),1,IF(AND($C12<=DAY(AI$2),$D12>=DAY(AI$2)),1,IF(AND($C12="",$D12>=DAY(AI$2)),1,"")))))) | AJ12: =IF($B12="","",SUM(E12:AI12))
A13: STAGIAIRE | B13: 1 | E13: =IF(OR($B13="",E$2=""),"",IF(OR(WEEKDAY(E$2)=7,WEEKDAY(E$2)=1),"",IF(AND($C13="",$D13=""),1,IF(AND($C13<=DAY(E$2),$D13=""),1,IF(AND($C13<=DAY(E$2),$D13>=DAY(E$2)),1,IF(AND($C13="",$D13>=DAY(E$2)),1,"")))))) | F13: =IF(OR($B13="",F$2=""),"",IF(OR(WEEKDAY(F$2)=7,WEEKDAY(F$2)=1),"",IF(AND($C13="",$D13=""),1,IF(AND($C13<=DAY(F$2),$D13=""),1,IF(AND($C13<=DAY(F$2),$D13>=DAY(F$2)),1,IF(AND($C13="",$D13>=DAY(F$2)),1,"")))))) -> 1 | G13: =IF(OR($B13="",G$2=""),"",IF(OR(WEEKDAY(G$2)=7,WEEKDAY(G$2)=1),"",IF(AND($C13="",$D13=""),1,IF(AND($C13<=DAY(G$2),$D13=""),1,IF(AND($C13<=DAY(G$2),$D13>=DAY(G$2)),1,IF(AND($C13="",$D13>=DAY(G$2)),1,"")))))) -> 1 | H13: =IF(OR($B13="",H$2=""),"",IF(OR(WEEKDAY(H$2)=7,WEEKDAY(H$2)=1),"",IF(AND($C13="",$D13=""),1,IF(AND($C13<=DAY(H$2),$D13=""),1,IF(AND($C13<=DAY(H$2),$D13>=DAY(H$2)),1,IF(AND($C13="",$D13>=DAY(H$2)),1,"")))))) -> 1 | I13: =IF(OR($B13="",I$2=""),"",IF(OR(WEEKDAY(I$2)=7,WEEKDAY(I$2)=1),"",IF(AND($C13="",$D13=""),1,IF(AND($C13<=DAY(I$2),$D13=""),1,IF(AND($C13<=DAY(I$2),$D13>=DAY(I$2)),1,IF(AND($C13="",$D13>=DAY(I$2)),1,"")))))) -> 1 | J13: =IF(OR($B13="",J$2=""),"",IF(OR(WEEKDAY(J$2)=7,WEEKDAY(J$2)=1),"",IF(AND($C13="",$D13=""),1,IF(AND($C13<=DAY(J$2),$D13=""),1,IF(AND($C13<=DAY(J$2),$D13>=DAY(J$2)),1,IF(AND($C13="",$D13>=DAY(J$2)),1,"")))))) -> 1 | K13: =IF(OR($B13="",K$2=""),"",IF(OR(WEEKDAY(K$2)=7,WEEKDAY(K$2)=1),"",IF(AND($C13="",$D13=""),1,IF(AND($C13<=DAY(K$2),$D13=""),1,IF(AND($C13<=DAY(K$2),$D13>=DAY(K$2)),1,IF(AND($C13="",$D13>=DAY(K$2)),1,"")))))) | L13: =IF(OR($B13="",L$2=""),"",IF(OR(WEEKDAY(L$2)=7,WEEKDAY(L$2)=1),"",IF(AND($C13="",$D13=""),1,IF(AND($C13<=DAY(L$2),$D13=""),1,IF(AND($C13<=DAY(L$2),$D13>=DAY(L$2)),1,IF(AND($C13="",$D13>=DAY(L$2)),1,"")))))) | ... AI13: =IF(OR($B13="",AI$2=""),"",IF(OR(WEEKDAY(AI$2)=7,WEEKDAY(AI$2)=1),"",IF(AND($C13="",$D13=""),1,IF(AND($C13<=DAY(AI$2),$D13=""),1,IF(AND($C13<=DAY(AI$2),$D13>=DAY(AI$2)),1,IF(AND($C13="",$D13>=DAY(AI$2)),1,"")))))) -> 1 | AJ13: =IF($B13="","",SUM(E13:AI13)) -> 22
A14: STAGIAIRE | B14: 2 | E14: =IF(OR($B14="",E$2=""),"",IF(OR(WEEKDAY(E$2)=7,WEEKDAY(E$2)=1),"",IF(AND($C14="",$D14=""),1,IF(AND($C14<=DAY(E$2),$D14=""),1,IF(AND($C14<=DAY(E$2),$D14>=DAY(E$2)),1,IF(AND($C14="",$D14>=DAY(E$2)),1,"")))))) | F14: =IF(OR($B14="",F$2=""),"",IF(OR(WEEKDAY(F$2)=7,WEEKDAY(F$2)=1),"",IF(AND($C14="",$D14=""),1,IF(AND($C14<=DAY(F$2),$D14=""),1,IF(AND($C14<=DAY(F$2),$D14>=DAY(F$2)),1,IF(AND($C14="",$D14>=DAY(F$2)),1,"")))))) -> 1 | G14: =IF(OR($B14="",G$2=""),"",IF(OR(WEEKDAY(G$2)=7,WEEKDAY(G$2)=1),"",IF(AND($C14="",$D14=""),1,IF(AND($C14<=DAY(G$2),$D14=""),1,IF(AND($C14<=DAY(G$2),$D14>=DAY(G$2)),1,IF(AND($C14="",$D14>=DAY(G$2)),1,"")))))) -> 1 | H14: =IF(OR($B14="",H$2=""),"",IF(OR(WEEKDAY(H$2)=7,WEEKDAY(H$2)=1),"",IF(AND($C14="",$D14=""),1,IF(AND($C14<=DAY(H$2),$D14=""),1,IF(AND($C14<=DAY(H$2),$D14>=DAY(H$2)),1,IF(AND($C14="",$D14>=DAY(H$2)),1,"")))))) -> 1 | I14: =IF(OR($B14="",I$2=""),"",IF(OR(WEEKDAY(I$2)=7,WEEKDAY(I$2)=1),"",IF(AND($C14="",$D14=""),1,IF(AND($C14<=DAY(I$2),$D14=""),1,IF(AND($C14<=DAY(I$2),$D14>=DAY(I$2)),1,IF(AND($C14="",$D14>=DAY(I$2)),1,"")))))) -> 1 | J14: =IF(OR($B14="",J$2=""),"",IF(OR(WEEKDAY(J$2)=7,WEEKDAY(J$2)=1),"",IF(AND($C14="",$D14=""),1,IF(AND($C14<=DAY(J$2),$D14=""),1,IF(AND($C14<=DAY(J$2),$D14>=DAY(J$2)),1,IF(AND($C14="",$D14>=DAY(J$2)),1,"")))))) -> 1 | K14: =IF(OR($B14="",K$2=""),"",IF(OR(WEEKDAY(K$2)=7,WEEKDAY(K$2)=1),"",IF(AND($C14="",$D14=""),1,IF(AND($C14<=DAY(K$2),$D14=""),1,IF(AND($C14<=DAY(K$2),$D14>=DAY(K$2)),1,IF(AND($C14="",$D14>=DAY(K$2)),1,"")))))) | L14: =IF(OR($B14="",L$2=""),"",IF(OR(WEEKDAY(L$2)=7,WEEKDAY(L$2)=1),"",IF(AND($C14="",$D14=""),1,IF(AND($C14<=DAY(L$2),$D14=""),1,IF(AND($C14<=DAY(L$2),$D14>=DAY(L$2)),1,IF(AND($C14="",$D14>=DAY(L$2)),1,"")))))) | ... AI14: =IF(OR($B14="",AI$2=""),"",IF(OR(WEEKDAY(AI$2)=7,WEEKDAY(AI$2)=1),"",IF(AND($C14="",$D14=""),1,IF(AND($C14<=DAY(AI$2),$D14=""),1,IF(AND($C14<=DAY(AI$2),$D14>=DAY(AI$2)),1,IF(AND($C14="",$D14>=DAY(AI$2)),1,"")))))) -> 1 | AJ14: =IF($B14="","",SUM(E14:AI14)) -> 22
A15: STAGIAIRE | B15: 3 | E15: =IF(OR($B15="",E$2=""),"",IF(OR(WEEKDAY(E$2)=7,WEEKDAY(E$2)=1),"",IF(AND($C15="",$D15=""),1,IF(AND($C15<=DAY(E$2),$D15=""),1,IF(AND($C15<=DAY(E$2),$D15>=DAY(E$2)),1,IF(AND($C15="",$D15>=DAY(E$2)),1,"")))))) | F15: =IF(OR($B15="",F$2=""),"",IF(OR(WEEKDAY(F$2)=7,WEEKDAY(F$2)=1),"",IF(AND($C15="",$D15=""),1,IF(AND($C15<=DAY(F$2),$D15=""),1,IF(AND($C15<=DAY(F$2),$D15>=DAY(F$2)),1,IF(AND($C15="",$D15>=DAY(F$2)),1,"")))))) -> 1 | G15: =IF(OR($B15="",G$2=""),"",IF(OR(WEEKDAY(G$2)=7,WEEKDAY(G$2)=1),"",IF(AND($C15="",$D15=""),1,IF(AND($C15<=DAY(G$2),$D15=""),1,IF(AND($C15<=DAY(G$2),$D15>=DAY(G$2)),1,IF(AND($C15="",$D15>=DAY(G$2)),1,"")))))) -> 1 | H15: =IF(OR($B15="",H$2=""),"",IF(OR(WEEKDAY(H$2)=7,WEEKDAY(H$2)=1),"",IF(AND($C15="",$D15=""),1,IF(AND($C15<=DAY(H$2),$D15=""),1,IF(AND($C15<=DAY(H$2),$D15>=DAY(H$2)),1,IF(AND($C15="",$D15>=DAY(H$2)),1,"")))))) -> 1 | I15: =IF(OR($B15="",I$2=""),"",IF(OR(WEEKDAY(I$2)=7,WEEKDAY(I$2)=1),"",IF(AND($C15="",$D15=""),1,IF(AND($C15<=DAY(I$2),$D15=""),1,IF(AND($C15<=DAY(I$2),$D15>=DAY(I$2)),1,IF(AND($C15="",$D15>=DAY(I$2)),1,"")))))) -> 1 | J15: =IF(OR($B15="",J$2=""),"",IF(OR(WEEKDAY(J$2)=7,WEEKDAY(J$2)=1),"",IF(AND($C15="",$D15=""),1,IF(AND($C15<=DAY(J$2),$D15=""),1,IF(AND($C15<=DAY(J$2),$D15>=DAY(J$2)),1,IF(AND($C15="",$D15>=DAY(J$2)),1,"")))))) -> 1 | K15: =IF(OR($B15="",K$2=""),"",IF(OR(WEEKDAY(K$2)=7,WEEKDAY(K$2)=1),"",IF(AND($C15="",$D15=""),1,IF(AND($C15<=DAY(K$2),$D15=""),1,IF(AND($C15<=DAY(K$2),$D15>=DAY(K$2)),1,IF(AND($C15="",$D15>=DAY(K$2)),1,"")))))) | L15: =IF(OR($B15="",L$2=""),"",IF(OR(WEEKDAY(L$2)=7,WEEKDAY(L$2)=1),"",IF(AND($C15="",$D15=""),1,IF(AND($C15<=DAY(L$2),$D15=""),1,IF(AND($C15<=DAY(L$2),$D15>=DAY(L$2)),1,IF(AND($C15="",$D15>=DAY(L$2)),1,"")))))) | ... AI15: =IF(OR($B15="",AI$2=""),"",IF(OR(WEEKDAY(AI$2)=7,WEEKDAY(AI$2)=1),"",IF(AND($C15="",$D15=""),1,IF(AND($C15<=DAY(AI$2),$D15=""),1,IF(AND($C15<=DAY(AI$2),$D15>=DAY(AI$2)),1,IF(AND($C15="",$D15>=DAY(AI$2)),1,"")))))) -> 1 | AJ15: =IF($B15="","",SUM(E15:AI15)) -> 22
A16: STAGIAIRE | B16: 4 | C16: 6 | D16: 25 | E16: =IF(OR($B16="",E$2=""),"",IF(OR(WEEKDAY(E$2)=7,WEEKDAY(E$2)=1),"",IF(AND($C16="",$D16=""),1,IF(AND($C16<=DAY(E$2),$D16=""),1,IF(AND($C16<=DAY(E$2),$D16>=DAY(E$2)),1,IF(AND($C16="",$D16>=DAY(E$2)),1,"")))))) | F16: =IF(OR($B16="",F$2=""),"",IF(OR(WEEKDAY(F$2)=7,WEEKDAY(F$2)=1),"",IF(AND($C16="",$D16=""),1,IF(AND($C16<=DAY(F$2),$D16=""),1,IF(AND($C16<=DAY(F$2),$D16>=DAY(F$2)),1,IF(AND($C16="",$D16>=DAY(F$2)),1,"")))))) | G16: =IF(OR($B16="",G$2=""),"",IF(OR(WEEKDAY(G$2)=7,WEEKDAY(G$2)=1),"",IF(AND($C16="",$D16=""),1,IF(AND($C16<=DAY(G$2),$D16=""),1,IF(AND($C16<=DAY(G$2),$D16>=DAY(G$2)),1,IF(AND($C16="",$D16>=DAY(G$2)),1,"")))))) | H16: =IF(OR($B16="",H$2=""),"",IF(OR(WEEKDAY(H$2)=7,WEEKDAY(H$2)=1),"",IF(AND($C16="",$D16=""),1,IF(AND($C16<=DAY(H$2),$D16=""),1,IF(AND($C16<=DAY(H$2),$D16>=DAY(H$2)),1,IF(AND($C16="",$D16>=DAY(H$2)),1,"")))))) | I16: =IF(OR($B16="",I$2=""),"",IF(OR(WEEKDAY(I$2)=7,WEEKDAY(I$2)=1),"",IF(AND($C16="",$D16=""),1,IF(AND($C16<=DAY(I$2),$D16=""),1,IF(AND($C16<=DAY(I$2),$D16>=DAY(I$2)),1,IF(AND($C16="",$D16>=DAY(I$2)),1,"")))))) | J16: =IF(OR($B16="",J$2=""),"",IF(OR(WEEKDAY(J$2)=7,WEEKDAY(J$2)=1),"",IF(AND($C16="",$D16=""),1,IF(AND($C16<=DAY(J$2),$D16=""),1,IF(AND($C16<=DAY(J$2),$D16>=DAY(J$2)),1,IF(AND($C16="",$D16>=DAY(J$2)),1,"")))))) -> 1 | K16: =IF(OR($B16="",K$2=""),"",IF(OR(WEEKDAY(K$2)=7,WEEKDAY(K$2)=1),"",IF(AND($C16="",$D16=""),1,IF(AND($C16<=DAY(K$2),$D16=""),1,IF(AND($C16<=DAY(K$2),$D16>=DAY(K$2)),1,IF(AND($C16="",$D16>=DAY(K$2)),1,"")))))) | L16: =IF(OR($B16="",L$2=""),"",IF(OR(WEEKDAY(L$2)=7,WEEKDAY(L$2)=1),"",IF(AND($C16="",$D16=""),1,IF(AND($C16<=DAY(L$2),$D16=""),1,IF(AND($C16<=DAY(L$2),$D16>=DAY(L$2)),1,IF(AND($C16="",$D16>=DAY(L$2)),1,"")))))) | ... AI16: =IF(OR($B16="",AI$2=""),"",IF(OR(WEEKDAY(AI$2)=7,WEEKDAY(AI$2)=1),"",IF(AND($C16="",$D16=""),1,IF(AND($C16<=DAY(AI$2),$D16=""),1,IF(AND($C16<=DAY(AI$2),$D16>=DAY(AI$2)),1,IF(AND($C16="",$D16>=DAY(AI$2)),1,"")))))) | AJ16: =IF($B16="","",SUM(E16:AI16)) -> 14
A17: STAGIAIRE | B17: 5 | E17: =IF(OR($B17="",E$2=""),"",IF(OR(WEEKDAY(E$2)=7,WEEKDAY(E$2)=1),"",IF(AND($C17="",$D17=""),1,IF(AND($C17<=DAY(E$2),$D17=""),1,IF(AND($C17<=DAY(E$2),$D17>=DAY(E$2)),1,IF(AND($C17="",$D17>=DAY(E$2)),1,"")))))) | F17: =IF(OR($B17="",F$2=""),"",IF(OR(WEEKDAY(F$2)=7,WEEKDAY(F$2)=1),"",IF(AND($C17="",$D17=""),1,IF(AND($C17<=DAY(F$2),$D17=""),1,IF(AND($C17<=DAY(F$2),$D17>=DAY(F$2)),1,IF(AND($C17="",$D17>=DAY(F$2)),1,"")))))) -> 1 | G17: =IF(OR($B17="",G$2=""),"",IF(OR(WEEKDAY(G$2)=7,WEEKDAY(G$2)=1),"",IF(AND($C17="",$D17=""),1,IF(AND($C17<=DAY(G$2),$D17=""),1,IF(AND($C17<=DAY(G$2),$D17>=DAY(G$2)),1,IF(AND($C17="",$D17>=DAY(G$2)),1,"")))))) -> 1 | H17: =IF(OR($B17="",H$2=""),"",IF(OR(WEEKDAY(H$2)=7,WEEKDAY(H$2)=1),"",IF(AND($C17="",$D17=""),1,IF(AND($C17<=DAY(H$2),$D17=""),1,IF(AND($C17<=DAY(H$2),$D17>=DAY(H$2)),1,IF(AND($C17="",$D17>=DAY(H$2)),1,"")))))) -> 1 | I17: =IF(OR($B17="",I$2=""),"",IF(OR(WEEKDAY(I$2)=7,WEEKDAY(I$2)=1),"",IF(AND($C17="",$D17=""),1,IF(AND($C17<=DAY(I$2),$D17=""),1,IF(AND($C17<=DAY(I$2),$D17>=DAY(I$2)),1,IF(AND($C17="",$D17>=DAY(I$2)),1,"")))))) -> 1 | J17: =IF(OR($B17="",J$2=""),"",IF(OR(WEEKDAY(J$2)=7,WEEKDAY(J$2)=1),"",IF(AND($C17="",$D17=""),1,IF(AND($C17<=DAY(J$2),$D17=""),1,IF(AND($C17<=DAY(J$2),$D17>=DAY(J$2)),1,IF(AND($C17="",$D17>=DAY(J$2)),1,"")))))) -> 1 | K17: =IF(OR($B17="",K$2=""),"",IF(OR(WEEKDAY(K$2)=7,WEEKDAY(K$2)=1),"",IF(AND($C17="",$D17=""),1,IF(AND($C17<=DAY(K$2),$D17=""),1,IF(AND($C17<=DAY(K$2),$D17>=DAY(K$2)),1,IF(AND($C17="",$D17>=DAY(K$2)),1,"")))))) | L17: =IF(OR($B17="",L$2=""),"",IF(OR(WEEKDAY(L$2)=7,WEEKDAY(L$2)=1),"",IF(AND($C17="",$D17=""),1,IF(AND($C17<=DAY(L$2),$D17=""),1,IF(AND($C17<=DAY(L$2),$D17>=DAY(L$2)),1,IF(AND($C17="",$D17>=DAY(L$2)),1,"")))))) | ... AI17: =IF(OR($B17="",AI$2=""),"",IF(OR(WEEKDAY(AI$2)=7,WEEKDAY(AI$2)=1),"",IF(AND($C17="",$D17=""),1,IF(AND($C17<=DAY(AI$2),$D17=""),1,IF(AND($C17<=DAY(AI$2),$D17>=DAY(AI$2)),1,IF(AND($C17="",$D17>=DAY(AI$2)),1,"")))))) -> 1 | AJ17: =IF($B17="","",SUM(E17:AI17)) -> 22
A18: STAGIAIRE | B18: 6 | E18: =IF(OR($B18="",E$2=""),"",IF(OR(WEEKDAY(E$2)=7,WEEKDAY(E$2)=1),"",IF(AND($C18="",$D18=""),1,IF(AND($C18<=DAY(E$2),$D18=""),1,IF(AND($C18<=DAY(E$2),$D18>=DAY(E$2)),1,IF(AND($C18="",$D18>=DAY(E$2)),1,"")))))) | F18: =IF(OR($B18="",F$2=""),"",IF(OR(WEEKDAY(F$2)=7,WEEKDAY(F$2)=1),"",IF(AND($C18="",$D18=""),1,IF(AND($C18<=DAY(F$2),$D18=""),1,IF(AND($C18<=DAY(F$2),$D18>=DAY(F$2)),1,IF(AND($C18="",$D18>=DAY(F$2)),1,"")))))) -> 1 | G18: =IF(OR($B18="",G$2=""),"",IF(OR(WEEKDAY(G$2)=7,WEEKDAY(G$2)=1),"",IF(AND($C18="",$D18=""),1,IF(AND($C18<=DAY(G$2),$D18=""),1,IF(AND($C18<=DAY(G$2),$D18>=DAY(G$2)),1,IF(AND($C18="",$D18>=DAY(G$2)),1,"")))))) -> 1 | H18: =IF(OR($B18="",H$2=""),"",IF(OR(WEEKDAY(H$2)=7,WEEKDAY(H$2)=1),"",IF(AND($C18="",$D18=""),1,IF(AND($C18<=DAY(H$2),$D18=""),1,IF(AND($C18<=DAY(H$2),$D18>=DAY(H$2)),1,IF(AND($C18="",$D18>=DAY(H$2)),1,"")))))) -> 1 | I18: =IF(OR($B18="",I$2=""),"",IF(OR(WEEKDAY(I$2)=7,WEEKDAY(I$2)=1),"",IF(AND($C18="",$D18=""),1,IF(AND($C18<=DAY(I$2),$D18=""),1,IF(AND($C18<=DAY(I$2),$D18>=DAY(I$2)),1,IF(AND($C18="",$D18>=DAY(I$2)),1,"")))))) -> 1 | J18: =IF(OR($B18="",J$2=""),"",IF(OR(WEEKDAY(J$2)=7,WEEKDAY(J$2)=1),"",IF(AND($C18="",$D18=""),1,IF(AND($C18<=DAY(J$2),$D18=""),1,IF(AND($C18<=DAY(J$2),$D18>=DAY(J$2)),1,IF(AND($C18="",$D18>=DAY(J$2)),1,"")))))) -> 1 | K18: =IF(OR($B18="",K$2=""),"",IF(OR(WEEKDAY(K$2)=7,WEEKDAY(K$2)=1),"",IF(AND($C18="",$D18=""),1,IF(AND($C18<=DAY(K$2),$D18=""),1,IF(AND($C18<=DAY(K$2),$D18>=DAY(K$2)),1,IF(AND($C18="",$D18>=DAY(K$2)),1,"")))))) | L18: =IF(OR($B18="",L$2=""),"",IF(OR(WEEKDAY(L$2)=7,WEEKDAY(L$2)=1),"",IF(AND($C18="",$D18=""),1,IF(AND($C18<=DAY(L$2),$D18=""),1,IF(AND($C18<=DAY(L$2),$D18>=DAY(L$2)),1,IF(AND($C18="",$D18>=DAY(L$2)),1,"")))))) | ... AI18: =IF(OR($B18="",AI$2=""),"",IF(OR(WEEKDAY(AI$2)=7,WEEKDAY(AI$2)=1),"",IF(AND($C18="",$D18=""),1,IF(AND($C18<=DAY(AI$2),$D18=""),1,IF(AND($C18<=DAY(AI$2),$D18>=DAY(AI$2)),1,IF(AND($C18="",$D18>=DAY(AI$2)),1,"")))))) -> 1 | AJ18: =IF($B18="","",SUM(E18:AI18)) -> 22
A19: STAGIAIRE | B19: 7 | E19: =IF(OR($B19="",E$2=""),"",IF(OR(WEEKDAY(E$2)=7,WEEKDAY(E$2)=1),"",IF(AND($C19="",$D19=""),1,IF(AND($C19<=DAY(E$2),$D19=""),1,IF(AND($C19<=DAY(E$2),$D19>=DAY(E$2)),1,IF(AND($C19="",$D19>=DAY(E$2)),1,"")))))) | F19: =IF(OR($B19="",F$2=""),"",IF(OR(WEEKDAY(F$2)=7,WEEKDAY(F$2)=1),"",IF(AND($C19="",$D19=""),1,IF(AND($C19<=DAY(F$2),$D19=""),1,IF(AND($C19<=DAY(F$2),$D19>=DAY(F$2)),1,IF(AND($C19="",$D19>=DAY(F$2)),1,"")))))) -> 1 | G19: =IF(OR($B19="",G$2=""),"",IF(OR(WEEKDAY(G$2)=7,WEEKDAY(G$2)=1),"",IF(AND($C19="",$D19=""),1,IF(AND($C19<=DAY(G$2),$D19=""),1,IF(AND($C19<=DAY(G$2),$D19>=DAY(G$2)),1,IF(AND($C19="",$D19>=DAY(G$2)),1,"")))))) -> 1 | H19: =IF(OR($B19="",H$2=""),"",IF(OR(WEEKDAY(H$2)=7,WEEKDAY(H$2)=1),"",IF(AND($C19="",$D19=""),1,IF(AND($C19<=DAY(H$2),$D19=""),1,IF(AND($C19<=DAY(H$2),$D19>=DAY(H$2)),1,IF(AND($C19="",$D19>=DAY(H$2)),1,"")))))) -> 1 | I19: =IF(OR($B19="",I$2=""),"",IF(OR(WEEKDAY(I$2)=7,WEEKDAY(I$2)=1),"",IF(AND($C19="",$D19=""),1,IF(AND($C19<=DAY(I$2),$D19=""),1,IF(AND($C19<=DAY(I$2),$D19>=DAY(I$2)),1,IF(AND($C19="",$D19>=DAY(I$2)),1,"")))))) -> 1 | J19: =IF(OR($B19="",J$2=""),"",IF(OR(WEEKDAY(J$2)=7,WEEKDAY(J$2)=1),"",IF(AND($C19="",$D19=""),1,IF(AND($C19<=DAY(J$2),$D19=""),1,IF(AND($C19<=DAY(J$2),$D19>=DAY(J$2)),1,IF(AND($C19="",$D19>=DAY(J$2)),1,"")))))) -> 1 | K19: =IF(OR($B19="",K$2=""),"",IF(OR(WEEKDAY(K$2)=7,WEEKDAY(K$2)=1),"",IF(AND($C19="",$D19=""),1,IF(AND($C19<=DAY(K$2),$D19=""),1,IF(AND($C19<=DAY(K$2),$D19>=DAY(K$2)),1,IF(AND($C19="",$D19>=DAY(K$2)),1,"")))))) | L19: =IF(OR($B19="",L$2=""),"",IF(OR(WEEKDAY(L$2)=7,WEEKDAY(L$2)=1),"",IF(AND($C19="",$D19=""),1,IF(AND($C19<=DAY(L$2),$D19=""),1,IF(AND($C19<=DAY(L$2),$D19>=DAY(L$2)),1,IF(AND($C19="",$D19>=DAY(L$2)),1,"")))))) | ... AI19: =IF(OR($B19="",AI$2=""),"",IF(OR(WEEKDAY(AI$2)=7,WEEKDAY(AI$2)=1),"",IF(AND($C19="",$D19=""),1,IF(AND($C19<=DAY(AI$2),$D19=""),1,IF(AND($C19<=DAY(AI$2),$D19>=DAY(AI$2)),1,IF(AND($C19="",$D19>=DAY(AI$2)),1,"")))))) -> 1 | AJ19: =IF($B19="","",SUM(E19:AI19)) -> 22
A20: STAGIAIRE | B20: 8 | E20: =IF(OR($B20="",E$2=""),"",IF(OR(WEEKDAY(E$2)=7,WEEKDAY(E$2)=1),"",IF(AND($C20="",$D20=""),1,IF(AND($C20<=DAY(E$2),$D20=""),1,IF(AND($C20<=DAY(E$2),$D20>=DAY(E$2)),1,IF(AND($C20="",$D20>=DAY(E$2)),1,"")))))) | F20: =IF(OR($B20="",F$2=""),"",IF(OR(WEEKDAY(F$2)=7,WEEKDAY(F$2)=1),"",IF(AND($C20="",$D20=""),1,IF(AND($C20<=DAY(F$2),$D20=""),1,IF(AND($C20<=DAY(F$2),$D20>=DAY(F$2)),1,IF(AND($C20="",$D20>=DAY(F$2)),1,"")))))) -> 1 | G20: =IF(OR($B20="",G$2=""),"",IF(OR(WEEKDAY(G$2)=7,WEEKDAY(G$2)=1),"",IF(AND($C20="",$D20=""),1,IF(AND($C20<=DAY(G$2),$D20=""),1,IF(AND($C20<=DAY(G$2),$D20>=DAY(G$2)),1,IF(AND($C20="",$D20>=DAY(G$2)),1,"")))))) -> 1 | H20: =IF(OR($B20="",H$2=""),"",IF(OR(WEEKDAY(H$2)=7,WEEKDAY(H$2)=1),"",IF(AND($C20="",$D20=""),1,IF(AND($C20<=DAY(H$2),$D20=""),1,IF(AND($C20<=DAY(H$2),$D20>=DAY(H$2)),1,IF(AND($C20="",$D20>=DAY(H$2)),1,"")))))) -> 1 | I20: =IF(OR($B20="",I$2=""),"",IF(OR(WEEKDAY(I$2)=7,WEEKDAY(I$2)=1),"",IF(AND($C20="",$D20=""),1,IF(AND($C20<=DAY(I$2),$D20=""),1,IF(AND($C20<=DAY(I$2),$D20>=DAY(I$2)),1,IF(AND($C20="",$D20>=DAY(I$2)),1,"")))))) -> 1 | J20: =IF(OR($B20="",J$2=""),"",IF(OR(WEEKDAY(J$2)=7,WEEKDAY(J$2)=1),"",IF(AND($C20="",$D20=""),1,IF(AND($C20<=DAY(J$2),$D20=""),1,IF(AND($C20<=DAY(J$2),$D20>=DAY(J$2)),1,IF(AND($C20="",$D20>=DAY(J$2)),1,"")))))) -> 1 | K20: =IF(OR($B20="",K$2=""),"",IF(OR(WEEKDAY(K$2)=7,WEEKDAY(K$2)=1),"",IF(AND($C20="",$D20=""),1,IF(AND($C20<=DAY(K$2),$D20=""),1,IF(AND($C20<=DAY(K$2),$D20>=DAY(K$2)),1,IF(AND($C20="",$D20>=DAY(K$2)),1,"")))))) | L20: =IF(OR($B20="",L$2=""),"",IF(OR(WEEKDAY(L$2)=7,WEEKDAY(L$2)=1),"",IF(AND($C20="",$D20=""),1,IF(AND($C20<=DAY(L$2),$D20=""),1,IF(AND($C20<=DAY(L$2),$D20>=DAY(L$2)),1,IF(AND($C20="",$D20>=DAY(L$2)),1,"")))))) | ... AI20: =IF(OR($B20="",AI$2=""),"",IF(OR(WEEKDAY(AI$2)=7,WEEKDAY(AI$2)=1),"",IF(AND($C20="",$D20=""),1,IF(AND($C20<=DAY(AI$2),$D20=""),1,IF(AND($C20<=DAY(AI$2),$D20>=DAY(AI$2)),1,IF(AND($C20="",$D20>=DAY(AI$2)),1,"")))))) -> 1 | AJ20: =IF($B20="","",SUM(E20:AI20)) -> 22
E21: =IF(OR($B21="",E$2=""),"",IF(OR(WEEKDAY(E$2)=7,WEEKDAY(E$2)=1),"",IF(AND($C21="",$D21=""),1,IF(AND($C21<=DAY(E$2),$D21=""),1,IF(AND($C21<=DAY(E$2),$D21>=DAY(E$2)),1,IF(AND($C21="",$D21>=DAY(E$2)),1,"")))))) | F21: =IF(OR($B21="",F$2=""),"",IF(OR(WEEKDAY(F$2)=7,WEEKDAY(F$2)=1),"",IF(AND($C21="",$D21=""),1,IF(AND($C21<=DAY(F$2),$D21=""),1,IF(AND($C21<=DAY(F$2),$D21>=DAY(F$2)),1,IF(AND($C21="",$D21>=DAY(F$2)),1,"")))))) | G21: =IF(OR($B21="",G$2=""),"",IF(OR(WEEKDAY(G$2)=7,WEEKDAY(G$2)=1),"",IF(AND($C21="",$D21=""),1,IF(AND($C21<=DAY(G$2),$D21=""),1,IF(AND($C21<=DAY(G$2),$D21>=DAY(G$2)),1,IF(AND($C21="",$D21>=DAY(G$2)),1,"")))))) | H21: =IF(OR($B21="",H$2=""),"",IF(OR(WEEKDAY(H$2)=7,WEEKDAY(H$2)=1),"",IF(AND($C21="",$D21=""),1,IF(AND($C21<=DAY(H$2),$D21=""),1,IF(AND($C21<=DAY(H$2),$D21>=DAY(H$2)),1,IF(AND($C21="",$D21>=DAY(H$2)),1,"")))))) | I21: =IF(OR($B21="",I$2=""),"",IF(OR(WEEKDAY(I$2)=7,WEEKDAY(I$2)=1),"",IF(AND($C21="",$D21=""),1,IF(AND($C21<=DAY(I$2),$D21=""),1,IF(AND($C21<=DAY(I$2),$D21>=DAY(I$2)),1,IF(AND($C21="",$D21>=DAY(I$2)),1,"")))))) | J21: =IF(OR($B21="",J$2=""),"",IF(OR(WEEKDAY(J$2)=7,WEEKDAY(J$2)=1),"",IF(AND($C21="",$D21=""),1,IF(AND($C21<=DAY(J$2),$D21=""),1,IF(AND($C21<=DAY(J$2),$D21>=DAY(J$2)),1,IF(AND($C21="",$D21>=DAY(J$2)),1,"")))))) | K21: =IF(OR($B21="",K$2=""),"",IF(OR(WEEKDAY(K$2)=7,WEEKDAY(K$2)=1),"",IF(AND($C21="",$D21=""),1,IF(AND($C21<=DAY(K$2),$D21=""),1,IF(AND($C21<=DAY(K$2),$D21>=DAY(K$2)),1,IF(AND($C21="",$D21>=DAY(K$2)),1,"")))))) | L21: =IF(OR($B21="",L$2=""),"",IF(OR(WEEKDAY(L$2)=7,WEEKDAY(L$2)=1),"",IF(AND($C21="",$D21=""),1,IF(AND($C21<=DAY(L$2),$D21=""),1,IF(AND($C21<=DAY(L$2),$D21>=DAY(L$2)),1,IF(AND($C21="",$D21>=DAY(L$2)),1,"")))))) | ... AI21: =IF(OR($B21="",AI$2=""),"",IF(OR(WEEKDAY(AI$2)=7,WEEKDAY(AI$2)=1),"",IF(AND($C21="",$D21=""),1,IF(AND($C21<=DAY(AI$2),$D21=""),1,IF(AND($C21<=DAY(AI$2),$D21>=DAY(AI$2)),1,IF(AND($C21="",$D21>=DAY(AI$2)),1,"")))))) | AJ21: =IF($B21="","",SUM(E21:AI21))
E22: =IF(OR($B22="",E$2=""),"",IF(OR(WEEKDAY(E$2)=7,WEEKDAY(E$2)=1),"",IF(AND($C22="",$D22=""),1,IF(AND($C22<=DAY(E$2),$D22=""),1,IF(AND($C22<=DAY(E$2),$D22>=DAY(E$2)),1,IF(AND($C22="",$D22>=DAY(E$2)),1,"")))))) | F22: =IF(OR($B22="",F$2=""),"",IF(OR(WEEKDAY(F$2)=7,WEEKDAY(F$2)=1),"",IF(AND($C22="",$D22=""),1,IF(AND($C22<=DAY(F$2),$D22=""),1,IF(AND($C22<=DAY(F$2),$D22>=DAY(F$2)),1,IF(AND($C22="",$D22>=DAY(F$2)),1,"")))))) | G22: =IF(OR($B22="",G$2=""),"",IF(OR(WEEKDAY(G$2)=7,WEEKDAY(G$2)=1),"",IF(AND($C22="",$D22=""),1,IF(AND($C22<=DAY(G$2),$D22=""),1,IF(AND($C22<=DAY(G$2),$D22>=DAY(G$2)),1,IF(AND($C22="",$D22>=DAY(G$2)),1,"")))))) | H22: =IF(OR($B22="",H$2=""),"",IF(OR(WEEKDAY(H$2)=7,WEEKDAY(H$2)=1),"",IF(AND($C22="",$D22=""),1,IF(AND($C22<=DAY(H$2),$D22=""),1,IF(AND($C22<=DAY(H$2),$D22>=DAY(H$2)),1,IF(AND($C22="",$D22>=DAY(H$2)),1,"")))))) | I22: =IF(OR($B22="",I$2=""),"",IF(OR(WEEKDAY(I$2)=7,WEEKDAY(I$2)=1),"",IF(AND($C22="",$D22=""),1,IF(AND($C22<=DAY(I$2),$D22=""),1,IF(AND($C22<=DAY(I$2),$D22>=DAY(I$2)),1,IF(AND($C22="",$D22>=DAY(I$2)),1,"")))))) | J22: =IF(OR($B22="",J$2=""),"",IF(OR(WEEKDAY(J$2)=7,WEEKDAY(J$2)=1),"",IF(AND($C22="",$D22=""),1,IF(AND($C22<=DAY(J$2),$D22=""),1,IF(AND($C22<=DAY(J$2),$D22>=DAY(J$2)),1,IF(AND($C22="",$D22>=DAY(J$2)),1,"")))))) | K22: =IF(OR($B22="",K$2=""),"",IF(OR(WEEKDAY(K$2)=7,WEEKDAY(K$2)=1),"",IF(AND($C22="",$D22=""),1,IF(AND($C22<=DAY(K$2),$D22=""),1,IF(AND($C22<=DAY(K$2),$D22>=DAY(K$2)),1,IF(AND($C22="",$D22>=DAY(K$2)),1,"")))))) | L22: =IF(OR($B22="",L$2=""),"",IF(OR(WEEKDAY(L$2)=7,WEEKDAY(L$2)=1),"",IF(AND($C22="",$D22=""),1,IF(AND($C22<=DAY(L$2),$D22=""),1,IF(AND($C22<=DAY(L$2),$D22>=DAY(L$2)),1,IF(AND($C22="",$D22>=DAY(L$2)),1,"")))))) | ... AI22: =IF(OR($B22="",AI$2=""),"",IF(OR(WEEKDAY(AI$2)=7,WEEKDAY(AI$2)=1),"",IF(AND($C22="",$D22=""),1,IF(AND($C22<=DAY(AI$2),$D22=""),1,IF(AND($C22<=DAY(AI$2),$D22>=DAY(AI$2)),1,IF(AND($C22="",$D22>=DAY(AI$2)),1,"")))))) | AJ22: =IF($B22="","",SUM(E22:AI22))
A23: AGENT | B23: 1 | E23: =IF(OR($B23="",E$2=""),"",IF(OR(WEEKDAY(E$2)=7,WEEKDAY(E$2)=1),"",IF(AND($C23="",$D23=""),1,IF(AND($C23<=DAY(E$2),$D23=""),1,IF(AND($C23<=DAY(E$2),$D23>=DAY(E$2)),1,IF(AND($C23="",$D23>=DAY(E$2)),1,"")))))) | F23: =IF(OR($B23="",F$2=""),"",IF(OR(WEEKDAY(F$2)=7,WEEKDAY(F$2)=1),"",IF(AND($C23="",$D23=""),1,IF(AND($C23<=DAY(F$2),$D23=""),1,IF(AND($C23<=DAY(F$2),$D23>=DAY(F$2)),1,IF(AND($C23="",$D23>=DAY(F$2)),1,"")))))) -> 1 | G23: =IF(OR($B23="",G$2=""),"",IF(OR(WEEKDAY(G$2)=7,WEEKDAY(G$2)=1),"",IF(AND($C23="",$D23=""),1,IF(AND($C23<=DAY(G$2),$D23=""),1,IF(AND($C23<=DAY(G$2),$D23>=DAY(G$2)),1,IF(AND($C23="",$D23>=DAY(G$2)),1,"")))))) -> 1 | H23: =IF(OR($B23="",H$2=""),"",IF(OR(WEEKDAY(H$2)=7,WEEKDAY(H$2)=1),"",IF(AND($C23="",$D23=""),1,IF(AND($C23<=DAY(H$2),$D23=""),1,IF(AND($C23<=DAY(H$2),$D23>=DAY(H$2)),1,IF(AND($C23="",$D23>=DAY(H$2)),1,"")))))) -> 1 | I23: =IF(OR($B23="",I$2=""),"",IF(OR(WEEKDAY(I$2)=7,WEEKDAY(I$2)=1),"",IF(AND($C23="",$D23=""),1,IF(AND($C23<=DAY(I$2),$D23=""),1,IF(AND($C23<=DAY(I$2),$D23>=DAY(I$2)),1,IF(AND($C23="",$D23>=DAY(I$2)),1,"")))))) -> 1 | J23: =IF(OR($B23="",J$2=""),"",IF(OR(WEEKDAY(J$2)=7,WEEKDAY(J$2)=1),"",IF(AND($C23="",$D23=""),1,IF(AND($C23<=DAY(J$2),$D23=""),1,IF(AND($C23<=DAY(J$2),$D23>=DAY(J$2)),1,IF(AND($C23="",$D23>=DAY(J$2)),1,"")))))) -> 1 | K23: =IF(OR($B23="",K$2=""),"",IF(OR(WEEKDAY(K$2)=7,WEEKDAY(K$2)=1),"",IF(AND($C23="",$D23=""),1,IF(AND($C23<=DAY(K$2),$D23=""),1,IF(AND($C23<=DAY(K$2),$D23>=DAY(K$2)),1,IF(AND($C23="",$D23>=DAY(K$2)),1,"")))))) | L23: =IF(OR($B23="",L$2=""),"",IF(OR(WEEKDAY(L$2)=7,WEEKDAY(L$2)=1),"",IF(AND($C23="",$D23=""),1,IF(AND($C23<=DAY(L$2),$D23=""),1,IF(AND($C23<=DAY(L$2),$D23>=DAY(L$2)),1,IF(AND($C23="",$D23>=DAY(L$2)),1,"")))))) | ... AI23: =IF(OR($B23="",AI$2=""),"",IF(OR(WEEKDAY(AI$2)=7,WEEKDAY(AI$2)=1),"",IF(AND($C23="",$D23=""),1,IF(AND($C23<=DAY(AI$2),$D23=""),1,IF(AND($C23<=DAY(AI$2),$D23>=DAY(AI$2)),1,IF(AND($C23="",$D23>=DAY(AI$2)),1,"")))))) -> 1 | AJ23: =IF($B23="","",SUM(E23:AI23)) -> 22
A24: AGENT | B24: 2 | E24: =IF(OR($B24="",E$2=""),"",IF(OR(WEEKDAY(E$2)=7,WEEKDAY(E$2)=1),"",IF(AND($C24="",$D24=""),1,IF(AND($C24<=DAY(E$2),$D24=""),1,IF(AND($C24<=DAY(E$2),$D24>=DAY(E$2)),1,IF(AND($C24="",$D24>=DAY(E$2)),1,"")))))) | F24: =IF(OR($B24="",F$2=""),"",IF(OR(WEEKDAY(F$2)=7,WEEKDAY(F$2)=1),"",IF(AND($C24="",$D24=""),1,IF(AND($C24<=DAY(F$2),$D24=""),1,IF(AND($C24<=DAY(F$2),$D24>=DAY(F$2)),1,IF(AND($C24="",$D24>=DAY(F$2)),1,"")))))) -> 1 | G24: =IF(OR($B24="",G$2=""),"",IF(OR(WEEKDAY(G$2)=7,WEEKDAY(G$2)=1),"",IF(AND($C24="",$D24=""),1,IF(AND($C24<=DAY(G$2),$D24=""),1,IF(AND($C24<=DAY(G$2),$D24>=DAY(G$2)),1,IF(AND($C24="",$D24>=DAY(G$2)),1,"")))))) -> 1 | H24: =IF(OR($B24="",H$2=""),"",IF(OR(WEEKDAY(H$2)=7,WEEKDAY(H$2)=1),"",IF(AND($C24="",$D24=""),1,IF(AND($C24<=DAY(H$2),$D24=""),1,IF(AND($C24<=DAY(H$2),$D24>=DAY(H$2)),1,IF(AND($C24="",$D24>=DAY(H$2)),1,"")))))) -> 1 | I24: =IF(OR($B24="",I$2=""),"",IF(OR(WEEKDAY(I$2)=7,WEEKDAY(I$2)=1),"",IF(AND($C24="",$D24=""),1,IF(AND($C24<=DAY(I$2),$D24=""),1,IF(AND($C24<=DAY(I$2),$D24>=DAY(I$2)),1,IF(AND($C24="",$D24>=DAY(I$2)),1,"")))))) -> 1 | J24: =IF(OR($B24="",J$2=""),"",IF(OR(WEEKDAY(J$2)=7,WEEKDAY(J$2)=1),"",IF(AND($C24="",$D24=""),1,IF(AND($C24<=DAY(J$2),$D24=""),1,IF(AND($C24<=DAY(J$2),$D24>=DAY(J$2)),1,IF(AND($C24="",$D24>=DAY(J$2)),1,"")))))) -> 1 | K24: =IF(OR($B24="",K$2=""),"",IF(OR(WEEKDAY(K$2)=7,WEEKDAY(K$2)=1),"",IF(AND($C24="",$D24=""),1,IF(AND($C24<=DAY(K$2),$D24=""),1,IF(AND($C24<=DAY(K$2),$D24>=DAY(K$2)),1,IF(AND($C24="",$D24>=DAY(K$2)),1,"")))))) | L24: =IF(OR($B24="",L$2=""),"",IF(OR(WEEKDAY(L$2)=7,WEEKDAY(L$2)=1),"",IF(AND($C24="",$D24=""),1,IF(AND($C24<=DAY(L$2),$D24=""),1,IF(AND($C24<=DAY(L$2),$D24>=DAY(L$2)),1,IF(AND($C24="",$D24>=DAY(L$2)),1,"")))))) | ... AI24: =IF(OR($B24="",AI$2=""),"",IF(OR(WEEKDAY(AI$2)=7,WEEKDAY(AI$2)=1),"",IF(AND($C24="",$D24=""),1,IF(AND($C24<=DAY(AI$2),$D24=""),1,IF(AND($C24<=DAY(AI$2),$D24>=DAY(AI$2)),1,IF(AND($C24="",$D24>=DAY(AI$2)),1,"")))))) -> 1 | AJ24: =IF($B24="","",SUM(E24:AI24)) -> 22
A25: AGENT | B25: 3 | E25: =IF(OR($B25="",E$2=""),"",IF(OR(WEEKDAY(E$2)=7,WEEKDAY(E$2)=1),"",IF(AND($C25="",$D25=""),1,IF(AND($C25<=DAY(E$2),$D25=""),1,IF(AND($C25<=DAY(E$2),$D25>=DAY(E$2)),1,IF(AND($C25="",$D25>=DAY(E$2)),1,"")))))) | F25: =IF(OR($B25="",F$2=""),"",IF(OR(WEEKDAY(F$2)=7,WEEKDAY(F$2)=1),"",IF(AND($C25="",$D25=""),1,IF(AND($C25<=DAY(F$2),$D25=""),1,IF(AND($C25<=DAY(F$2),$D25>=DAY(F$2)),1,IF(AND($C25="",$D25>=DAY(F$2)),1,"")))))) -> 1 | G25: =IF(OR($B25="",G$2=""),"",IF(OR(WEEKDAY(G$2)=7,WEEKDAY(G$2)=1),"",IF(AND($C25="",$D25=""),1,IF(AND($C25<=DAY(G$2),$D25=""),1,IF(AND($C25<=DAY(G$2),$D25>=DAY(G$2)),1,IF(AND($C25="",$D25>=DAY(G$2)),1,"")))))) -> 1 | H25: =IF(OR($B25="",H$2=""),"",IF(OR(WEEKDAY(H$2)=7,WEEKDAY(H$2)=1),"",IF(AND($C25="",$D25=""),1,IF(AND($C25<=DAY(H$2),$D25=""),1,IF(AND($C25<=DAY(H$2),$D25>=DAY(H$2)),1,IF(AND($C25="",$D25>=DAY(H$2)),1,"")))))) -> 1 | I25: =IF(OR($B25="",I$2=""),"",IF(OR(WEEKDAY(I$2)=7,WEEKDAY(I$2)=1),"",IF(AND($C25="",$D25=""),1,IF(AND($C25<=DAY(I$2),$D25=""),1,IF(AND($C25<=DAY(I$2),$D25>=DAY(I$2)),1,IF(AND($C25="",$D25>=DAY(I$2)),1,"")))))) -> 1 | J25: =IF(OR($B25="",J$2=""),"",IF(OR(WEEKDAY(J$2)=7,WEEKDAY(J$2)=1),"",IF(AND($C25="",$D25=""),1,IF(AND($C25<=DAY(J$2),$D25=""),1,IF(AND($C25<=DAY(J$2),$D25>=DAY(J$2)),1,IF(AND($C25="",$D25>=DAY(J$2)),1,"")))))) -> 1 | K25: =IF(OR($B25="",K$2=""),"",IF(OR(WEEKDAY(K$2)=7,WEEKDAY(K$2)=1),"",IF(AND($C25="",$D25=""),1,IF(AND($C25<=DAY(K$2),$D25=""),1,IF(AND($C25<=DAY(K$2),$D25>=DAY(K$2)),1,IF(AND($C25="",$D25>=DAY(K$2)),1,"")))))) | L25: =IF(OR($B25="",L$2=""),"",IF(OR(WEEKDAY(L$2)=7,WEEKDAY(L$2)=1),"",IF(AND($C25="",$D25=""),1,IF(AND($C25<=DAY(L$2),$D25=""),1,IF(AND($C25<=DAY(L$2),$D25>=DAY(L$2)),1,IF(AND($C25="",$D25>=DAY(L$2)),1,"")))))) | ... AI25: =IF(OR($B25="",AI$2=""),"",IF(OR(WEEKDAY(AI$2)=7,WEEKDAY(AI$2)=1),"",IF(AND($C25="",$D25=""),1,IF(AND($C25<=DAY(AI$2),$D25=""),1,IF(AND($C25<=DAY(AI$2),$D25>=DAY(AI$2)),1,IF(AND($C25="",$D25>=DAY(AI$2)),1,"")))))) -> 1 | AJ25: =IF($B25="","",SUM(E25:AI25)) -> 22
A26: AGENT | B26: 4 | E26: =IF(OR($B26="",E$2=""),"",IF(OR(WEEKDAY(E$2)=7,WEEKDAY(E$2)=1),"",IF(AND($C26="",$D26=""),1,IF(AND($C26<=DAY(E$2),$D26=""),1,IF(AND($C26<=DAY(E$2),$D26>=DAY(E$2)),1,IF(AND($C26="",$D26>=DAY(E$2)),1,"")))))) | F26: =IF(OR($B26="",F$2=""),"",IF(OR(WEEKDAY(F$2)=7,WEEKDAY(F$2)=1),"",IF(AND($C26="",$D26=""),1,IF(AND($C26<=DAY(F$2),$D26=""),1,IF(AND($C26<=DAY(F$2),$D26>=DAY(F$2)),1,IF(AND($C26="",$D26>=DAY(F$2)),1,"")))))) -> 1 | G26: =IF(OR($B26="",G$2=""),"",IF(OR(WEEKDAY(G$2)=7,WEEKDAY(G$2)=1),"",IF(AND($C26="",$D26=""),1,IF(AND($C26<=DAY(G$2),$D26=""),1,IF(AND($C26<=DAY(G$2),$D26>=DAY(G$2)),1,IF(AND($C26="",$D26>=DAY(G$2)),1,"")))))) -> 1 | H26: =IF(OR($B26="",H$2=""),"",IF(OR(WEEKDAY(H$2)=7,WEEKDAY(H$2)=1),"",IF(AND($C26="",$D26=""),1,IF(AND($C26<=DAY(H$2),$D26=""),1,IF(AND($C26<=DAY(H$2),$D26>=DAY(H$2)),1,IF(AND($C26="",$D26>=DAY(H$2)),1,"")))))) -> 1 | I26: =IF(OR($B26="",I$2=""),"",IF(OR(WEEKDAY(I$2)=7,WEEKDAY(I$2)=1),"",IF(AND($C26="",$D26=""),1,IF(AND($C26<=DAY(I$2),$D26=""),1,IF(AND($C26<=DAY(I$2),$D26>=DAY(I$2)),1,IF(AND($C26="",$D26>=DAY(I$2)),1,"")))))) -> 1 | J26: =IF(OR($B26="",J$2=""),"",IF(OR(WEEKDAY(J$2)=7,WEEKDAY(J$2)=1),"",IF(AND($C26="",$D26=""),1,IF(AND($C26<=DAY(J$2),$D26=""),1,IF(AND($C26<=DAY(J$2),$D26>=DAY(J$2)),1,IF(AND($C26="",$D26>=DAY(J$2)),1,"")))))) -> 1 | K26: =IF(OR($B26="",K$2=""),"",IF(OR(WEEKDAY(K$2)=7,WEEKDAY(K$2)=1),"",IF(AND($C26="",$D26=""),1,IF(AND($C26<=DAY(K$2),$D26=""),1,IF(AND($C26<=DAY(K$2),$D26>=DAY(K$2)),1,IF(AND($C26="",$D26>=DAY(K$2)),1,"")))))) | L26: =IF(OR($B26="",L$2=""),"",IF(OR(WEEKDAY(L$2)=7,WEEKDAY(L$2)=1),"",IF(AND($C26="",$D26=""),1,IF(AND($C26<=DAY(L$2),$D26=""),1,IF(AND($C26<=DAY(L$2),$D26>=DAY(L$2)),1,IF(AND($C26="",$D26>=DAY(L$2)),1,"")))))) | ... AI26: =IF(OR($B26="",AI$2=""),"",IF(OR(WEEKDAY(AI$2)=7,WEEKDAY(AI$2)=1),"",IF(AND($C26="",$D26=""),1,IF(AND($C26<=DAY(AI$2),$D26=""),1,IF(AND($C26<=DAY(AI$2),$D26>=DAY(AI$2)),1,IF(AND($C26="",$D26>=DAY(AI$2)),1,"")))))) -> 1 | AJ26: =IF($B26="","",SUM(E26:AI26)) -> 22
A27: AGENT | B27: 5 | C27: 27 | D27: 27 | E27: =IF(OR($B27="",E$2=""),"",IF(OR(WEEKDAY(E$2)=7,WEEKDAY(E$2)=1),"",IF(AND($C27="",$D27=""),1,IF(AND($C27<=DAY(E$2),$D27=""),1,IF(AND($C27<=DAY(E$2),$D27>=DAY(E$2)),1,IF(AND($C27="",$D27>=DAY(E$2)),1,"")))))) | F27: =IF(OR($B27="",F$2=""),"",IF(OR(WEEKDAY(F$2)=7,WEEKDAY(F$2)=1),"",IF(AND($C27="",$D27=""),1,IF(AND($C27<=DAY(F$2),$D27=""),1,IF(AND($C27<=DAY(F$2),$D27>=DAY(F$2)),1,IF(AND($C27="",$D27>=DAY(F$2)),1,"")))))) | G27: =IF(OR($B27="",G$2=""),"",IF(OR(WEEKDAY(G$2)=7,WEEKDAY(G$2)=1),"",IF(AND($C27="",$D27=""),1,IF(AND($C27<=DAY(G$2),$D27=""),1,IF(AND($C27<=DAY(G$2),$D27>=DAY(G$2)),1,IF(AND($C27="",$D27>=DAY(G$2)),1,"")))))) | H27: =IF(OR($B27="",H$2=""),"",IF(OR(WEEKDAY(H$2)=7,WEEKDAY(H$2)=1),"",IF(AND($C27="",$D27=""),1,IF(AND($C27<=DAY(H$2),$D27=""),1,IF(AND($C27<=DAY(H$2),$D27>=DAY(H$2)),1,IF(AND($C27="",$D27>=DAY(H$2)),1,"")))))) | I27: =IF(OR($B27="",I$2=""),"",IF(OR(WEEKDAY(I$2)=7,WEEKDAY(I$2)=1),"",IF(AND($C27="",$D27=""),1,IF(AND($C27<=DAY(I$2),$D27=""),1,IF(AND($C27<=DAY(I$2),$D27>=DAY(I$2)),1,IF(AND($C27="",$D27>=DAY(I$2)),1,"")))))) | J27: =IF(OR($B27="",J$2=""),"",IF(OR(WEEKDAY(J$2)=7,WEEKDAY(J$2)=1),"",IF(AND($C27="",$D27=""),1,IF(AND($C27<=DAY(J$2),$D27=""),1,IF(AND($C27<=DAY(J$2),$D27>=DAY(J$2)),1,IF(AND($C27="",$D27>=DAY(J$2)),1,"")))))) | K27: =IF(OR($B27="",K$2=""),"",IF(OR(WEEKDAY(K$2)=7,WEEKDAY(K$2)=1),"",IF(AND($C27="",$D27=""),1,IF(AND($C27<=DAY(K$2),$D27=""),1,IF(AND($C27<=DAY(K$2),$D27>=DAY(K$2)),1,IF(AND($C27="",$D27>=DAY(K$2)),1,"")))))) | L27: =IF(OR($B27="",L$2=""),"",IF(OR(WEEKDAY(L$2)=7,WEEKDAY(L$2)=1),"",IF(AND($C27="",$D27=""),1,IF(AND($C27<=DAY(L$2),$D27=""),1,IF(AND($C27<=DAY(L$2),$D27>=DAY(L$2)),1,IF(AND($C27="",$D27>=DAY(L$2)),1,"")))))) | ... AI27: =IF(OR($B27="",AI$2=""),"",IF(OR(WEEKDAY(AI$2)=7,WEEKDAY(AI$2)=1),"",IF(AND($C27="",$D27=""),1,IF(AND($C27<=DAY(AI$2),$D27=""),1,IF(AND($C27<=DAY(AI$2),$D27>=DAY(AI$2)),1,IF(AND($C27="",$D27>=DAY(AI$2)),1,"")))))) | AJ27: =IF($B27="","",SUM(E27:AI27)) -> 1
A28: AGENT | B28: 6 | C28: 10 | D28: 13 | E28: =IF(OR($B28="",E$2=""),"",IF(OR(WEEKDAY(E$2)=7,WEEKDAY(E$2)=1),"",IF(AND($C28="",$D28=""),1,IF(AND($C28<=DAY(E$2),$D28=""),1,IF(AND($C28<=DAY(E$2),$D28>=DAY(E$2)),1,IF(AND($C28="",$D28>=DAY(E$2)),1,"")))))) | F28: =IF(OR($B28="",F$2=""),"",IF(OR(WEEKDAY(F$2)=7,WEEKDAY(F$2)=1),"",IF(AND($C28="",$D28=""),1,IF(AND($C28<=DAY(F$2),$D28=""),1,IF(AND($C28<=DAY(F$2),$D28>=DAY(F$2)),1,IF(AND($C28="",$D28>=DAY(F$2)),1,"")))))) | G28: =IF(OR($B28="",G$2=""),"",IF(OR(WEEKDAY(G$2)=7,WEEKDAY(G$2)=1),"",IF(AND($C28="",$D28=""),1,IF(AND($C28<=DAY(G$2),$D28=""),1,IF(AND($C28<=DAY(G$2),$D28>=DAY(G$2)),1,IF(AND($C28="",$D28>=DAY(G$2)),1,"")))))) | H28: =IF(OR($B28="",H$2=""),"",IF(OR(WEEKDAY(H$2)=7,WEEKDAY(H$2)=1),"",IF(AND($C28="",$D28=""),1,IF(AND($C28<=DAY(H$2),$D28=""),1,IF(AND($C28<=DAY(H$2),$D28>=DAY(H$2)),1,IF(AND($C28="",$D28>=DAY(H$2)),1,"")))))) | I28: =IF(OR($B28="",I$2=""),"",IF(OR(WEEKDAY(I$2)=7,WEEKDAY(I$2)=1),"",IF(AND($C28="",$D28=""),1,IF(AND($C28<=DAY(I$2),$D28=""),1,IF(AND($C28<=DAY(I$2),$D28>=DAY(I$2)),1,IF(AND($C28="",$D28>=DAY(I$2)),1,"")))))) | J28: =IF(OR($B28="",J$2=""),"",IF(OR(WEEKDAY(J$2)=7,WEEKDAY(J$2)=1),"",IF(AND($C28="",$D28=""),1,IF(AND($C28<=DAY(J$2),$D28=""),1,IF(AND($C28<=DAY(J$2),$D28>=DAY(J$2)),1,IF(AND($C28="",$D28>=DAY(J$2)),1,"")))))) | K28: =IF(OR($B28="",K$2=""),"",IF(OR(WEEKDAY(K$2)=7,WEEKDAY(K$2)=1),"",IF(AND($C28="",$D28=""),1,IF(AND($C28<=DAY(K$2),$D28=""),1,IF(AND($C28<=DAY(K$2),$D28>=DAY(K$2)),1,IF(AND($C28="",$D28>=DAY(K$2)),1,"")))))) | L28: =IF(OR($B28="",L$2=""),"",IF(OR(WEEKDAY(L$2)=7,WEEKDAY(L$2)=1),"",IF(AND($C28="",$D28=""),1,IF(AND($C28<=DAY(L$2),$D28=""),1,IF(AND($C28<=DAY(L$2),$D28>=DAY(L$2)),1,IF(AND($C28="",$D28>=DAY(L$2)),1,"")))))) | ... AI28: =IF(OR($B28="",AI$2=""),"",IF(OR(WEEKDAY(AI$2)=7,WEEKDAY(AI$2)=1),"",IF(AND($C28="",$D28=""),1,IF(AND($C28<=DAY(AI$2),$D28=""),1,IF(AND($C28<=DAY(AI$2),$D28>=DAY(AI$2)),1,IF(AND($C28="",$D28>=DAY(AI$2)),1,"")))))) | AJ28: =IF($B28="","",SUM(E28:AI28)) -> 4
A29: AGENT | B29: 7 | E29: =IF(OR($B29="",E$2=""),"",IF(OR(WEEKDAY(E$2)=7,WEEKDAY(E$2)=1),"",IF(AND($C29="",$D29=""),1,IF(AND($C29<=DAY(E$2),$D29=""),1,IF(AND($C29<=DAY(E$2),$D29>=DAY(E$2)),1,IF(AND($C29="",$D29>=DAY(E$2)),1,"")))))) | F29: =IF(OR($B29="",F$2=""),"",IF(OR(WEEKDAY(F$2)=7,WEEKDAY(F$2)=1),"",IF(AND($C29="",$D29=""),1,IF(AND($C29<=DAY(F$2),$D29=""),1,IF(AND($C29<=DAY(F$2),$D29>=DAY(F$2)),1,IF(AND($C29="",$D29>=DAY(F$2)),1,"")))))) -> 1 | G29: =IF(OR($B29="",G$2=""),"",IF(OR(WEEKDAY(G$2)=7,WEEKDAY(G$2)=1),"",IF(AND($C29="",$D29=""),1,IF(AND($C29<=DAY(G$2),$D29=""),1,IF(AND($C29<=DAY(G$2),$D29>=DAY(G$2)),1,IF(AND($C29="",$D29>=DAY(G$2)),1,"")))))) -> 1 | H29: =IF(OR($B29="",H$2=""),"",IF(OR(WEEKDAY(H$2)=7,WEEKDAY(H$2)=1),"",IF(AND($C29="",$D29=""),1,IF(AND($C29<=DAY(H$2),$D29=""),1,IF(AND($C29<=DAY(H$2),$D29>=DAY(H$2)),1,IF(AND($C29="",$D29>=DAY(H$2)),1,"")))))) -> 1 | I29: =IF(OR($B29="",I$2=""),"",IF(OR(WEEKDAY(I$2)=7,WEEKDAY(I$2)=1),"",IF(AND($C29="",$D29=""),1,IF(AND($C29<=DAY(I$2),$D29=""),1,IF(AND($C29<=DAY(I$2),$D29>=DAY(I$2)),1,IF(AND($C29="",$D29>=DAY(I$2)),1,"")))))) -> 1 | J29: =IF(OR($B29="",J$2=""),"",IF(OR(WEEKDAY(J$2)=7,WEEKDAY(J$2)=1),"",IF(AND($C29="",$D29=""),1,IF(AND($C29<=DAY(J$2),$D29=""),1,IF(AND($C29<=DAY(J$2),$D29>=DAY(J$2)),1,IF(AND($C29="",$D29>=DAY(J$2)),1,"")))))) -> 1 | K29: =IF(OR($B29="",K$2=""),"",IF(OR(WEEKDAY(K$2)=7,WEEKDAY(K$2)=1),"",IF(AND($C29="",$D29=""),1,IF(AND($C29<=DAY(K$2),$D29=""),1,IF(AND($C29<=DAY(K$2),$D29>=DAY(K$2)),1,IF(AND($C29="",$D29>=DAY(K$2)),1,"")))))) | L29: =IF(OR($B29="",L$2=""),"",IF(OR(WEEKDAY(L$2)=7,WEEKDAY(L$2)=1),"",IF(AND($C29="",$D29=""),1,IF(AND($C29<=DAY(L$2),$D29=""),1,IF(AND($C29<=DAY(L$2),$D29>=DAY(L$2)),1,IF(AND($C29="",$D29>=DAY(L$2)),1,"")))))) | ... AI29: =IF(OR($B29="",AI$2=""),"",IF(OR(WEEKDAY(AI$2)=7,WEEKDAY(AI$2)=1),"",IF(AND($C29="",$D29=""),1,IF(AND($C29<=DAY(AI$2),$D29=""),1,IF(AND($C29<=DAY(AI$2),$D29>=DAY(AI$2)),1,IF(AND($C29="",$D29>=DAY(AI$2)),1,"")))))) -> 1 | AJ29: =IF($B29="","",SUM(E29:AI29)) -> 22
A30: AGENT | B30: 8 | E30: =IF(OR($B30="",E$2=""),"",IF(OR(WEEKDAY(E$2)=7,WEEKDAY(E$2)=1),"",IF(AND($C30="",$D30=""),1,IF(AND($C30<=DAY(E$2),$D30=""),1,IF(AND($C30<=DAY(E$2),$D30>=DAY(E$2)),1,IF(AND($C30="",$D30>=DAY(E$2)),1,"")))))) | F30: =IF(OR($B30="",F$2=""),"",IF(OR(WEEKDAY(F$2)=7,WEEKDAY(F$2)=1),"",IF(AND($C30="",$D30=""),1,IF(AND($C30<=DAY(F$2),$D30=""),1,IF(AND($C30<=DAY(F$2),$D30>=DAY(F$2)),1,IF(AND($C30="",$D30>=DAY(F$2)),1,"")))))) -> 1 | G30: =IF(OR($B30="",G$2=""),"",IF(OR(WEEKDAY(G$2)=7,WEEKDAY(G$2)=1),"",IF(AND($C30="",$D30=""),1,IF(AND($C30<=DAY(G$2),$D30=""),1,IF(AND($C30<=DAY(G$2),$D30>=DAY(G$2)),1,IF(AND($C30="",$D30>=DAY(G$2)),1,"")))))) -> 1 | H30: =IF(OR($B30="",H$2=""),"",IF(OR(WEEKDAY(H$2)=7,WEEKDAY(H$2)=1),"",IF(AND($C30="",$D30=""),1,IF(AND($C30<=DAY(H$2),$D30=""),1,IF(AND($C30<=DAY(H$2),$D30>=DAY(H$2)),1,IF(AND($C30="",$D30>=DAY(H$2)),1,"")))))) -> 1 | I30: =IF(OR($B30="",I$2=""),"",IF(OR(WEEKDAY(I$2)=7,WEEKDAY(I$2)=1),"",IF(AND($C30="",$D30=""),1,IF(AND($C30<=DAY(I$2),$D30=""),1,IF(AND($C30<=DAY(I$2),$D30>=DAY(I$2)),1,IF(AND($C30="",$D30>=DAY(I$2)),1,"")))))) -> 1 | J30: =IF(OR($B30="",J$2=""),"",IF(OR(WEEKDAY(J$2)=7,WEEKDAY(J$2)=1),"",IF(AND($C30="",$D30=""),1,IF(AND($C30<=DAY(J$2),$D30=""),1,IF(AND($C30<=DAY(J$2),$D30>=DAY(J$2)),1,IF(AND($C30="",$D30>=DAY(J$2)),1,"")))))) -> 1 | K30: =IF(OR($B30="",K$2=""),"",IF(OR(WEEKDAY(K$2)=7,WEEKDAY(K$2)=1),"",IF(AND($C30="",$D30=""),1,IF(AND($C30<=DAY(K$2),$D30=""),1,IF(AND($C30<=DAY(K$2),$D30>=DAY(K$2)),1,IF(AND($C30="",$D30>=DAY(K$2)),1,"")))))) | L30: =IF(OR($B30="",L$2=""),"",IF(OR(WEEKDAY(L$2)=7,WEEKDAY(L$2)=1),"",IF(AND($C30="",$D30=""),1,IF(AND($C30<=DAY(L$2),$D30=""),1,IF(AND($C30<=DAY(L$2),$D30>=DAY(L$2)),1,IF(AND($C30="",$D30>=DAY(L$2)),1,"")))))) | ... AI30: =IF(OR($B30="",AI$2=""),"",IF(OR(WEEKDAY(AI$2)=7,WEEKDAY(AI$2)=1),"",IF(AND($C30="",$D30=""),1,IF(AND($C30<=DAY(AI$2),$D30=""),1,IF(AND($C30<=DAY(AI$2),$D30>=DAY(AI$2)),1,IF(AND($C30="",$D30>=DAY(AI$2)),1,"")))))) -> 1 | AJ30: =IF($B30="","",SUM(E30:AI30)) -> 22
A31: AGENT | B31: 9 | E31: =IF(OR($B31="",E$2=""),"",IF(OR(WEEKDAY(E$2)=7,WEEKDAY(E$2)=1),"",IF(AND($C31="",$D31=""),1,IF(AND($C31<=DAY(E$2),$D31=""),1,IF(AND($C31<=DAY(E$2),$D31>=DAY(E$2)),1,IF(AND($C31="",$D31>=DAY(E$2)),1,"")))))) | F31: =IF(OR($B31="",F$2=""),"",IF(OR(WEEKDAY(F$2)=7,WEEKDAY(F$2)=1),"",IF(AND($C31="",$D31=""),1,IF(AND($C31<=DAY(F$2),$D31=""),1,IF(AND($C31<=DAY(F$2),$D31>=DAY(F$2)),1,IF(AND($C31="",$D31>=DAY(F$2)),1,"")))))) -> 1 | G31: =IF(OR($B31="",G$2=""),"",IF(OR(WEEKDAY(G$2)=7,WEEKDAY(G$2)=1),"",IF(AND($C31="",$D31=""),1,IF(AND($C31<=DAY(G$2),$D31=""),1,IF(AND($C31<=DAY(G$2),$D31>=DAY(G$2)),1,IF(AND($C31="",$D31>=DAY(G$2)),1,"")))))) -> 1 | H31: =IF(OR($B31="",H$2=""),"",IF(OR(WEEKDAY(H$2)=7,WEEKDAY(H$2)=1),"",IF(AND($C31="",$D31=""),1,IF(AND($C31<=DAY(H$2),$D31=""),1,IF(AND($C31<=DAY(H$2),$D31>=DAY(H$2)),1,IF(AND($C31="",$D31>=DAY(H$2)),1,"")))))) -> 1 | I31: =IF(OR($B31="",I$2=""),"",IF(OR(WEEKDAY(I$2)=7,WEEKDAY(I$2)=1),"",IF(AND($C31="",$D31=""),1,IF(AND($C31<=DAY(I$2),$D31=""),1,IF(AND($C31<=DAY(I$2),$D31>=DAY(I$2)),1,IF(AND($C31="",$D31>=DAY(I$2)),1,"")))))) -> 1 | J31: =IF(OR($B31="",J$2=""),"",IF(OR(WEEKDAY(J$2)=7,WEEKDAY(J$2)=1),"",IF(AND($C31="",$D31=""),1,IF(AND($C31<=DAY(J$2),$D31=""),1,IF(AND($C31<=DAY(J$2),$D31>=DAY(J$2)),1,IF(AND($C31="",$D31>=DAY(J$2)),1,"")))))) -> 1 | K31: =IF(OR($B31="",K$2=""),"",IF(OR(WEEKDAY(K$2)=7,WEEKDAY(K$2)=1),"",IF(AND($C31="",$D31=""),1,IF(AND($C31<=DAY(K$2),$D31=""),1,IF(AND($C31<=DAY(K$2),$D31>=DAY(K$2)),1,IF(AND($C31="",$D31>=DAY(K$2)),1,"")))))) | L31: =IF(OR($B31="",L$2=""),"",IF(OR(WEEKDAY(L$2)=7,WEEKDAY(L$2)=1),"",IF(AND($C31="",$D31=""),1,IF(AND($C31<=DAY(L$2),$D31=""),1,IF(AND($C31<=DAY(L$2),$D31>=DAY(L$2)),1,IF(AND($C31="",$D31>=DAY(L$2)),1,"")))))) | ... AI31: =IF(OR($B31="",AI$2=""),"",IF(OR(WEEKDAY(AI$2)=7,WEEKDAY(AI$2)=1),"",IF(AND($C31="",$D31=""),1,IF(AND($C31<=DAY(AI$2),$D31=""),1,IF(AND($C31<=DAY(AI$2),$D31>=DAY(AI$2)),1,IF(AND($C31="",$D31>=DAY(AI$2)),1,"")))))) -> 1 | AJ31: =IF($B31="","",SUM(E31:AI31)) -> 22
A32: AGENT | B32: 10 | E32: =IF(OR($B32="",E$2=""),"",IF(OR(WEEKDAY(E$2)=7,WEEKDAY(E$2)=1),"",IF(AND($C32="",$D32=""),1,IF(AND($C32<=DAY(E$2),$D32=""),1,IF(AND($C32<=DAY(E$2),$D32>=DAY(E$2)),1,IF(AND($C32="",$D32>=DAY(E$2)),1,"")))))) | F32: =IF(OR($B32="",F$2=""),"",IF(OR(WEEKDAY(F$2)=7,WEEKDAY(F$2)=1),"",IF(AND($C32="",$D32=""),1,IF(AND($C32<=DAY(F$2),$D32=""),1,IF(AND($C32<=DAY(F$2),$D32>=DAY(F$2)),1,IF(AND($C32="",$D32>=DAY(F$2)),1,"")))))) -> 1 | G32: =IF(OR($B32="",G$2=""),"",IF(OR(WEEKDAY(G$2)=7,WEEKDAY(G$2)=1),"",IF(AND($C32="",$D32=""),1,IF(AND($C32<=DAY(G$2),$D32=""),1,IF(AND($C32<=DAY(G$2),$D32>=DAY(G$2)),1,IF(AND($C32="",$D32>=DAY(G$2)),1,"")))))) -> 1 | H32: =IF(OR($B32="",H$2=""),"",IF(OR(WEEKDAY(H$2)=7,WEEKDAY(H$2)=1),"",IF(AND($C32="",$D32=""),1,IF(AND($C32<=DAY(H$2),$D32=""),1,IF(AND($C32<=DAY(H$2),$D32>=DAY(H$2)),1,IF(AND($C32="",$D32>=DAY(H$2)),1,"")))))) -> 1 | I32: =IF(OR($B32="",I$2=""),"",IF(OR(WEEKDAY(I$2)=7,WEEKDAY(I$2)=1),"",IF(AND($C32="",$D32=""),1,IF(AND($C32<=DAY(I$2),$D32=""),1,IF(AND($C32<=DAY(I$2),$D32>=DAY(I$2)),1,IF(AND($C32="",$D32>=DAY(I$2)),1,"")))))) -> 1 | J32: =IF(OR($B32="",J$2=""),"",IF(OR(WEEKDAY(J$2)=7,WEEKDAY(J$2)=1),"",IF(AND($C32="",$D32=""),1,IF(AND($C32<=DAY(J$2),$D32=""),1,IF(AND($C32<=DAY(J$2),$D32>=DAY(J$2)),1,IF(AND($C32="",$D32>=DAY(J$2)),1,"")))))) -> 1 | K32: =IF(OR($B32="",K$2=""),"",IF(OR(WEEKDAY(K$2)=7,WEEKDAY(K$2)=1),"",IF(AND($C32="",$D32=""),1,IF(AND($C32<=DAY(K$2),$D32=""),1,IF(AND($C32<=DAY(K$2),$D32>=DAY(K$2)),1,IF(AND($C32="",$D32>=DAY(K$2)),1,"")))))) | L32: =IF(OR($B32="",L$2=""),"",IF(OR(WEEKDAY(L$2)=7,WEEKDAY(L$2)=1),"",IF(AND($C32="",$D32=""),1,IF(AND($C32<=DAY(L$2),$D32=""),1,IF(AND($C32<=DAY(L$2),$D32>=DAY(L$2)),1,IF(AND($C32="",$D32>=DAY(L$2)),1,"")))))) | ... AI32: =IF(OR($B32="",AI$2=""),"",IF(OR(WEEKDAY(AI$2)=7,WEEKDAY(AI$2)=1),"",IF(AND($C32="",$D32=""),1,IF(AND($C32<=DAY(AI$2),$D32=""),1,IF(AND($C32<=DAY(AI$2),$D32>=DAY(AI$2)),1,IF(AND($C32="",$D32>=DAY(AI$2)),1,"")))))) -> 1 | AJ32: =IF($B32="","",SUM(E32:AI32)) -> 22
A33: AGENT | B33: 11 | E33: =IF(OR($B33="",E$2=""),"",IF(OR(WEEKDAY(E$2)=7,WEEKDAY(E$2)=1),"",IF(AND($C33="",$D33=""),1,IF(AND($C33<=DAY(E$2),$D33=""),1,IF(AND($C33<=DAY(E$2),$D33>=DAY(E$2)),1,IF(AND($C33="",$D33>=DAY(E$2)),1,"")))))) | F33: =IF(OR($B33="",F$2=""),"",IF(OR(WEEKDAY(F$2)=7,WEEKDAY(F$2)=1),"",IF(AND($C33="",$D33=""),1,IF(AND($C33<=DAY(F$2),$D33=""),1,IF(AND($C33<=DAY(F$2),$D33>=DAY(F$2)),1,IF(AND($C33="",$D33>=DAY(F$2)),1,"")))))) -> 1 | G33: =IF(OR($B33="",G$2=""),"",IF(OR(WEEKDAY(G$2)=7,WEEKDAY(G$2)=1),"",IF(AND($C33="",$D33=""),1,IF(AND($C33<=DAY(G$2),$D33=""),1,IF(AND($C33<=DAY(G$2),$D33>=DAY(G$2)),1,IF(AND($C33="",$D33>=DAY(G$2)),1,"")))))) -> 1 | H33: =IF(OR($B33="",H$2=""),"",IF(OR(WEEKDAY(H$2)=7,WEEKDAY(H$2)=1),"",IF(AND($C33="",$D33=""),1,IF(AND($C33<=DAY(H$2),$D33=""),1,IF(AND($C33<=DAY(H$2),$D33>=DAY(H$2)),1,IF(AND($C33="",$D33>=DAY(H$2)),1,"")))))) -> 1 | I33: =IF(OR($B33="",I$2=""),"",IF(OR(WEEKDAY(I$2)=7,WEEKDAY(I$2)=1),"",IF(AND($C33="",$D33=""),1,IF(AND($C33<=DAY(I$2),$D33=""),1,IF(AND($C33<=DAY(I$2),$D33>=DAY(I$2)),1,IF(AND($C33="",$D33>=DAY(I$2)),1,"")))))) -> 1 | J33: =IF(OR($B33="",J$2=""),"",IF(OR(WEEKDAY(J$2)=7,WEEKDAY(J$2)=1),"",IF(AND($C33="",$D33=""),1,IF(AND($C33<=DAY(J$2),$D33=""),1,IF(AND($C33<=DAY(J$2),$D33>=DAY(J$2)),1,IF(AND($C33="",$D33>=DAY(J$2)),1,"")))))) -> 1 | K33: =IF(OR($B33="",K$2=""),"",IF(OR(WEEKDAY(K$2)=7,WEEKDAY(K$2)=1),"",IF(AND($C33="",$D33=""),1,IF(AND($C33<=DAY(K$2),$D33=""),1,IF(AND($C33<=DAY(K$2),$D33>=DAY(K$2)),1,IF(AND($C33="",$D33>=DAY(K$2)),1,"")))))) | L33: =IF(OR($B33="",L$2=""),"",IF(OR(WEEKDAY(L$2)=7,WEEKDAY(L$2)=1),"",IF(AND($C33="",$D33=""),1,IF(AND($C33<=DAY(L$2),$D33=""),1,IF(AND($C33<=DAY(L$2),$D33>=DAY(L$2)),1,IF(AND($C33="",$D33>=DAY(L$2)),1,"")))))) | ... AI33: =IF(OR($B33="",AI$2=""),"",IF(OR(WEEKDAY(AI$2)=7,WEEKDAY(AI$2)=1),"",IF(AND($C33="",$D33=""),1,IF(AND($C33<=DAY(AI$2),$D33=""),1,IF(AND($C33<=DAY(AI$2),$D33>=DAY(AI$2)),1,IF(AND($C33="",$D33>=DAY(AI$2)),1,"")))))) -> 1 | AJ33: =IF($B33="","",SUM(E33:AI33)) -> 22
A34: AGENT | B34: 12 | E34: =IF(OR($B34="",E$2=""),"",IF(OR(WEEKDAY(E$2)=7,WEEKDAY(E$2)=1),"",IF(AND($C34="",$D34=""),1,IF(AND($C34<=DAY(E$2),$D34=""),1,IF(AND($C34<=DAY(E$2),$D34>=DAY(E$2)),1,IF(AND($C34="",$D34>=DAY(E$2)),1,"")))))) | F34: =IF(OR($B34="",F$2=""),"",IF(OR(WEEKDAY(F$2)=7,WEEKDAY(F$2)=1),"",IF(AND($C34="",$D34=""),1,IF(AND($C34<=DAY(F$2),$D34=""),1,IF(AND($C34<=DAY(F$2),$D34>=DAY(F$2)),1,IF(AND($C34="",$D34>=DAY(F$2)),1,"")))))) -> 1 | G34: =IF(OR($B34="",G$2=""),"",IF(OR(WEEKDAY(G$2)=7,WEEKDAY(G$2)=1),"",IF(AND($C34="",$D34=""),1,IF(AND($C34<=DAY(G$2),$D34=""),1,IF(AND($C34<=DAY(G$2),$D34>=DAY(G$2)),1,IF(AND($C34="",$D34>=DAY(G$2)),1,"")))))) -> 1 | H34: =IF(OR($B34="",H$2=""),"",IF(OR(WEEKDAY(H$2)=7,WEEKDAY(H$2)=1),"",IF(AND($C34="",$D34=""),1,IF(AND($C34<=DAY(H$2),$D34=""),1,IF(AND($C34<=DAY(H$2),$D34>=DAY(H$2)),1,IF(AND($C34="",$D34>=DAY(H$2)),1,"")))))) -> 1 | I34: =IF(OR($B34="",I$2=""),"",IF(OR(WEEKDAY(I$2)=7,WEEKDAY(I$2)=1),"",IF(AND($C34="",$D34=""),1,IF(AND($C34<=DAY(I$2),$D34=""),1,IF(AND($C34<=DAY(I$2),$D34>=DAY(I$2)),1,IF(AND($C34="",$D34>=DAY(I$2)),1,"")))))) -> 1 | J34: =IF(OR($B34="",J$2=""),"",IF(OR(WEEKDAY(J$2)=7,WEEKDAY(J$2)=1),"",IF(AND($C34="",$D34=""),1,IF(AND($C34<=DAY(J$2),$D34=""),1,IF(AND($C34<=DAY(J$2),$D34>=DAY(J$2)),1,IF(AND($C34="",$D34>=DAY(J$2)),1,"")))))) -> 1 | K34: =IF(OR($B34="",K$2=""),"",IF(OR(WEEKDAY(K$2)=7,WEEKDAY(K$2)=1),"",IF(AND($C34="",$D34=""),1,IF(AND($C34<=DAY(K$2),$D34=""),1,IF(AND($C34<=DAY(K$2),$D34>=DAY(K$2)),1,IF(AND($C34="",$D34>=DAY(K$2)),1,"")))))) | L34: =IF(OR($B34="",L$2=""),"",IF(OR(WEEKDAY(L$2)=7,WEEKDAY(L$2)=1),"",IF(AND($C34="",$D34=""),1,IF(AND($C34<=DAY(L$2),$D34=""),1,IF(AND($C34<=DAY(L$2),$D34>=DAY(L$2)),1,IF(AND($C34="",$D34>=DAY(L$2)),1,"")))))) | ... AI34: =IF(OR($B34="",AI$2=""),"",IF(OR(WEEKDAY(AI$2)=7,WEEKDAY(AI$2)=1),"",IF(AND($C34="",$D34=""),1,IF(AND($C34<=DAY(AI$2),$D34=""),1,IF(AND($C34<=DAY(AI$2),$D34>=DAY(AI$2)),1,IF(AND($C34="",$D34>=DAY(AI$2)),1,"")))))) -> 1 | AJ34: =IF($B34="","",SUM(E34:AI34)) -> 22
A35: AGENT | B35: 13 | E35: =IF(OR($B35="",E$2=""),"",IF(OR(WEEKDAY(E$2)=7,WEEKDAY(E$2)=1),"",IF(AND($C35="",$D35=""),1,IF(AND($C35<=DAY(E$2),$D35=""),1,IF(AND($C35<=DAY(E$2),$D35>=DAY(E$2)),1,IF(AND($C35="",$D35>=DAY(E$2)),1,"")))))) | F35: =IF(OR($B35="",F$2=""),"",IF(OR(WEEKDAY(F$2)=7,WEEKDAY(F$2)=1),"",IF(AND($C35="",$D35=""),1,IF(AND($C35<=DAY(F$2),$D35=""),1,IF(AND($C35<=DAY(F$2),$D35>=DAY(F$2)),1,IF(AND($C35="",$D35>=DAY(F$2)),1,"")))))) -> 1 | G35: =IF(OR($B35="",G$2=""),"",IF(OR(WEEKDAY(G$2)=7,WEEKDAY(G$2)=1),"",IF(AND($C35="",$D35=""),1,IF(AND($C35<=DAY(G$2),$D35=""),1,IF(AND($C35<=DAY(G$2),$D35>=DAY(G$2)),1,IF(AND($C35="",$D35>=DAY(G$2)),1,"")))))) -> 1 | H35: =IF(OR($B35="",H$2=""),"",IF(OR(WEEKDAY(H$2)=7,WEEKDAY(H$2)=1),"",IF(AND($C35="",$D35=""),1,IF(AND($C35<=DAY(H$2),$D35=""),1,IF(AND($C35<=DAY(H$2),$D35>=DAY(H$2)),1,IF(AND($C35="",$D35>=DAY(H$2)),1,"")))))) -> 1 | I35: =IF(OR($B35="",I$2=""),"",IF(OR(WEEKDAY(I$2)=7,WEEKDAY(I$2)=1),"",IF(AND($C35="",$D35=""),1,IF(AND($C35<=DAY(I$2),$D35=""),1,IF(AND($C35<=DAY(I$2),$D35>=DAY(I$2)),1,IF(AND($C35="",$D35>=DAY(I$2)),1,"")))))) -> 1 | J35: =IF(OR($B35="",J$2=""),"",IF(OR(WEEKDAY(J$2)=7,WEEKDAY(J$2)=1),"",IF(AND($C35="",$D35=""),1,IF(AND($C35<=DAY(J$2),$D35=""),1,IF(AND($C35<=DAY(J$2),$D35>=DAY(J$2)),1,IF(AND($C35="",$D35>=DAY(J$2)),1,"")))))) -> 1 | K35: =IF(OR($B35="",K$2=""),"",IF(OR(WEEKDAY(K$2)=7,WEEKDAY(K$2)=1),"",IF(AND($C35="",$D35=""),1,IF(AND($C35<=DAY(K$2),$D35=""),1,IF(AND($C35<=DAY(K$2),$D35>=DAY(K$2)),1,IF(AND($C35="",$D35>=DAY(K$2)),1,"")))))) | L35: =IF(OR($B35="",L$2=""),"",IF(OR(WEEKDAY(L$2)=7,WEEKDAY(L$2)=1),"",IF(AND($C35="",$D35=""),1,IF(AND($C35<=DAY(L$2),$D35=""),1,IF(AND($C35<=DAY(L$2),$D35>=DAY(L$2)),1,IF(AND($C35="",$D35>=DAY(L$2)),1,"")))))) | ... AI35: =IF(OR($B35="",AI$2=""),"",IF(OR(WEEKDAY(AI$2)=7,WEEKDAY(AI$2)=1),"",IF(AND($C35="",$D35=""),1,IF(AND($C35<=DAY(AI$2),$D35=""),1,IF(AND($C35<=DAY(AI$2),$D35>=DAY(AI$2)),1,IF(AND($C35="",$D35>=DAY(AI$2)),1,"")))))) -> 1 | AJ35: =IF($B35="","",SUM(E35:AI35)) -> 22
A36: AGENT | B36: 14 | E36: =IF(OR($B36="",E$2=""),"",IF(OR(WEEKDAY(E$2)=7,WEEKDAY(E$2)=1),"",IF(AND($C36="",$D36=""),1,IF(AND($C36<=DAY(E$2),$D36=""),1,IF(AND($C36<=DAY(E$2),$D36>=DAY(E$2)),1,IF(AND($C36="",$D36>=DAY(E$2)),1,"")))))) | F36: =IF(OR($B36="",F$2=""),"",IF(OR(WEEKDAY(F$2)=7,WEEKDAY(F$2)=1),"",IF(AND($C36="",$D36=""),1,IF(AND($C36<=DAY(F$2),$D36=""),1,IF(AND($C36<=DAY(F$2),$D36>=DAY(F$2)),1,IF(AND($C36="",$D36>=DAY(F$2)),1,"")))))) -> 1 | G36: =IF(OR($B36="",G$2=""),"",IF(OR(WEEKDAY(G$2)=7,WEEKDAY(G$2)=1),"",IF(AND($C36="",$D36=""),1,IF(AND($C36<=DAY(G$2),$D36=""),1,IF(AND($C36<=DAY(G$2),$D36>=DAY(G$2)),1,IF(AND($C36="",$D36>=DAY(G$2)),1,"")))))) -> 1 | H36: =IF(OR($B36="",H$2=""),"",IF(OR(WEEKDAY(H$2)=7,WEEKDAY(H$2)=1),"",IF(AND($C36="",$D36=""),1,IF(AND($C36<=DAY(H$2),$D36=""),1,IF(AND($C36<=DAY(H$2),$D36>=DAY(H$2)),1,IF(AND($C36="",$D36>=DAY(H$2)),1,"")))))) -> 1 | I36: =IF(OR($B36="",I$2=""),"",IF(OR(WEEKDAY(I$2)=7,WEEKDAY(I$2)=1),"",IF(AND($C36="",$D36=""),1,IF(AND($C36<=DAY(I$2),$D36=""),1,IF(AND($C36<=DAY(I$2),$D36>=DAY(I$2)),1,IF(AND($C36="",$D36>=DAY(I$2)),1,"")))))) -> 1 | J36: =IF(OR($B36="",J$2=""),"",IF(OR(WEEKDAY(J$2)=7,WEEKDAY(J$2)=1),"",IF(AND($C36="",$D36=""),1,IF(AND($C36<=DAY(J$2),$D36=""),1,IF(AND($C36<=DAY(J$2),$D36>=DAY(J$2)),1,IF(AND($C36="",$D36>=DAY(J$2)),1,"")))))) -> 1 | K36: =IF(OR($B36="",K$2=""),"",IF(OR(WEEKDAY(K$2)=7,WEEKDAY(K$2)=1),"",IF(AND($C36="",$D36=""),1,IF(AND($C36<=DAY(K$2),$D36=""),1,IF(AND($C36<=DAY(K$2),$D36>=DAY(K$2)),1,IF(AND($C36="",$D36>=DAY(K$2)),1,"")))))) | L36: =IF(OR($B36="",L$2=""),"",IF(OR(WEEKDAY(L$2)=7,WEEKDAY(L$2)=1),"",IF(AND($C36="",$D36=""),1,IF(AND($C36<=DAY(L$2),$D36=""),1,IF(AND($C36<=DAY(L$2),$D36>=DAY(L$2)),1,IF(AND($C36="",$D36>=DAY(L$2)),1,"")))))) | ... AI36: =IF(OR($B36="",AI$2=""),"",IF(OR(WEEKDAY(AI$2)=7,WEEKDAY(AI$2)=1),"",IF(AND($C36="",$D36=""),1,IF(AND($C36<=DAY(AI$2),$D36=""),1,IF(AND($C36<=DAY(AI$2),$D36>=DAY(AI$2)),1,IF(AND($C36="",$D36>=DAY(AI$2)),1,"")))))) -> 1 | AJ36: =IF($B36="","",SUM(E36:AI36)) -> 22
A37: AGENT | B37: 15 | E37: =IF(OR($B37="",E$2=""),"",IF(OR(WEEKDAY(E$2)=7,WEEKDAY(E$2)=1),"",IF(AND($C37="",$D37=""),1,IF(AND($C37<=DAY(E$2),$D37=""),1,IF(AND($C37<=DAY(E$2),$D37>=DAY(E$2)),1,IF(AND($C37="",$D37>=DAY(E$2)),1,"")))))) | F37: =IF(OR($B37="",F$2=""),"",IF(OR(WEEKDAY(F$2)=7,WEEKDAY(F$2)=1),"",IF(AND($C37="",$D37=""),1,IF(AND($C37<=DAY(F$2),$D37=""),1,IF(AND($C37<=DAY(F$2),$D37>=DAY(F$2)),1,IF(AND($C37="",$D37>=DAY(F$2)),1,"")))))) -> 1 | G37: =IF(OR($B37="",G$2=""),"",IF(OR(WEEKDAY(G$2)=7,WEEKDAY(G$2)=1),"",IF(AND($C37="",$D37=""),1,IF(AND($C37<=DAY(G$2),$D37=""),1,IF(AND($C37<=DAY(G$2),$D37>=DAY(G$2)),1,IF(AND($C37="",$D37>=DAY(G$2)),1,"")))))) -> 1 | H37: =IF(OR($B37="",H$2=""),"",IF(OR(WEEKDAY(H$2)=7,WEEKDAY(H$2)=1),"",IF(AND($C37="",$D37=""),1,IF(AND($C37<=DAY(H$2),$D37=""),1,IF(AND($C37<=DAY(H$2),$D37>=DAY(H$2)),1,IF(AND($C37="",$D37>=DAY(H$2)),1,"")))))) -> 1 | I37: =IF(OR($B37="",I$2=""),"",IF(OR(WEEKDAY(I$2)=7,WEEKDAY(I$2)=1),"",IF(AND($C37="",$D37=""),1,IF(AND($C37<=DAY(I$2),$D37=""),1,IF(AND($C37<=DAY(I$2),$D37>=DAY(I$2)),1,IF(AND($C37="",$D37>=DAY(I$2)),1,"")))))) -> 1 | J37: =IF(OR($B37="",J$2=""),"",IF(OR(WEEKDAY(J$2)=7,WEEKDAY(J$2)=1),"",IF(AND($C37="",$D37=""),1,IF(AND($C37<=DAY(J$2),$D37=""),1,IF(AND($C37<=DAY(J$2),$D37>=DAY(J$2)),1,IF(AND($C37="",$D37>=DAY(J$2)),1,"")))))) -> 1 | K37: =IF(OR($B37="",K$2=""),"",IF(OR(WEEKDAY(K$2)=7,WEEKDAY(K$2)=1),"",IF(AND($C37="",$D37=""),1,IF(AND($C37<=DAY(K$2),$D37=""),1,IF(AND($C37<=DAY(K$2),$D37>=DAY(K$2)),1,IF(AND($C37="",$D37>=DAY(K$2)),1,"")))))) | L37: =IF(OR($B37="",L$2=""),"",IF(OR(WEEKDAY(L$2)=7,WEEKDAY(L$2)=1),"",IF(AND($C37="",$D37=""),1,IF(AND($C37<=DAY(L$2),$D37=""),1,IF(AND($C37<=DAY(L$2),$D37>=DAY(L$2)),1,IF(AND($C37="",$D37>=DAY(L$2)),1,"")))))) | ... AI37: =IF(OR($B37="",AI$2=""),"",IF(OR(WEEKDAY(AI$2)=7,WEEKDAY(AI$2)=1),"",IF(AND($C37="",$D37=""),1,IF(AND($C37<=DAY(AI$2),$D37=""),1,IF(AND($C37<=DAY(AI$2),$D37>=DAY(AI$2)),1,IF(AND($C37="",$D37>=DAY(AI$2)),1,"")))))) -> 1 | AJ37: =IF($B37="","",SUM(E37:AI37)) -> 22
A38: AGENT | B38: 16 | E38: =IF(OR($B38="",E$2=""),"",IF(OR(WEEKDAY(E$2)=7,WEEKDAY(E$2)=1),"",IF(AND($C38="",$D38=""),1,IF(AND($C38<=DAY(E$2),$D38=""),1,IF(AND($C38<=DAY(E$2),$D38>=DAY(E$2)),1,IF(AND($C38="",$D38>=DAY(E$2)),1,"")))))) | F38: =IF(OR($B38="",F$2=""),"",IF(OR(WEEKDAY(F$2)=7,WEEKDAY(F$2)=1),"",IF(AND($C38="",$D38=""),1,IF(AND($C38<=DAY(F$2),$D38=""),1,IF(AND($C38<=DAY(F$2),$D38>=DAY(F$2)),1,IF(AND($C38="",$D38>=DAY(F$2)),1,"")))))) -> 1 | G38: =IF(OR($B38="",G$2=""),"",IF(OR(WEEKDAY(G$2)=7,WEEKDAY(G$2)=1),"",IF(AND($C38="",$D38=""),1,IF(AND($C38<=DAY(G$2),$D38=""),1,IF(AND($C38<=DAY(G$2),$D38>=DAY(G$2)),1,IF(AND($C38="",$D38>=DAY(G$2)),1,"")))))) -> 1 | H38: =IF(OR($B38="",H$2=""),"",IF(OR(WEEKDAY(H$2)=7,WEEKDAY(H$2)=1),"",IF(AND($C38="",$D38=""),1,IF(AND($C38<=DAY(H$2),$D38=""),1,IF(AND($C38<=DAY(H$2),$D38>=DAY(H$2)),1,IF(AND($C38="",$D38>=DAY(H$2)),1,"")))))) -> 1 | I38: =IF(OR($B38="",I$2=""),"",IF(OR(WEEKDAY(I$2)=7,WEEKDAY(I$2)=1),"",IF(AND($C38="",$D38=""),1,IF(AND($C38<=DAY(I$2),$D38=""),1,IF(AND($C38<=DAY(I$2),$D38>=DAY(I$2)),1,IF(AND($C38="",$D38>=DAY(I$2)),1,"")))))) -> 1 | J38: =IF(OR($B38="",J$2=""),"",IF(OR(WEEKDAY(J$2)=7,WEEKDAY(J$2)=1),"",IF(AND($C38="",$D38=""),1,IF(AND($C38<=DAY(J$2),$D38=""),1,IF(AND($C38<=DAY(J$2),$D38>=DAY(J$2)),1,IF(AND($C38="",$D38>=DAY(J$2)),1,"")))))) -> 1 | K38: =IF(OR($B38="",K$2=""),"",IF(OR(WEEKDAY(K$2)=7,WEEKDAY(K$2)=1),"",IF(AND($C38="",$D38=""),1,IF(AND($C38<=DAY(K$2),$D38=""),1,IF(AND($C38<=DAY(K$2),$D38>=DAY(K$2)),1,IF(AND($C38="",$D38>=DAY(K$2)),1,"")))))) | L38: =IF(OR($B38="",L$2=""),"",IF(OR(WEEKDAY(L$2)=7,WEEKDAY(L$2)=1),"",IF(AND($C38="",$D38=""),1,IF(AND($C38<=DAY(L$2),$D38=""),1,IF(AND($C38<=DAY(L$2),$D38>=DAY(L$2)),1,IF(AND($C38="",$D38>=DAY(L$2)),1,"")))))) | ... AI38: =IF(OR($B38="",AI$2=""),"",IF(OR(WEEKDAY(AI$2)=7,WEEKDAY(AI$2)=1),"",IF(AND($C38="",$D38=""),1,IF(AND($C38<=DAY(AI$2),$D38=""),1,IF(AND($C38<=DAY(AI$2),$D38>=DAY(AI$2)),1,IF(AND($C38="",$D38>=DAY(AI$2)),1,"")))))) -> 1 | AJ38: =IF($B38="","",SUM(E38:AI38)) -> 22
A39: AGENT | B39: 17 | E39: =IF(OR($B39="",E$2=""),"",IF(OR(WEEKDAY(E$2)=7,WEEKDAY(E$2)=1),"",IF(AND($C39="",$D39=""),1,IF(AND($C39<=DAY(E$2),$D39=""),1,IF(AND($C39<=DAY(E$2),$D39>=DAY(E$2)),1,IF(AND($C39="",$D39>=DAY(E$2)),1,"")))))) | F39: =IF(OR($B39="",F$2=""),"",IF(OR(WEEKDAY(F$2)=7,WEEKDAY(F$2)=1),"",IF(AND($C39="",$D39=""),1,IF(AND($C39<=DAY(F$2),$D39=""),1,IF(AND($C39<=DAY(F$2),$D39>=DAY(F$2)),1,IF(AND($C39="",$D39>=DAY(F$2)),1,"")))))) -> 1 | G39: =IF(OR($B39="",G$2=""),"",IF(OR(WEEKDAY(G$2)=7,WEEKDAY(G$2)=1),"",IF(AND($C39="",$D39=""),1,IF(AND($C39<=DAY(G$2),$D39=""),1,IF(AND($C39<=DAY(G$2),$D39>=DAY(G$2)),1,IF(AND($C39="",$D39>=DAY(G$2)),1,"")))))) -> 1 | H39: =IF(OR($B39="",H$2=""),"",IF(OR(WEEKDAY(H$2)=7,WEEKDAY(H$2)=1),"",IF(AND($C39="",$D39=""),1,IF(AND($C39<=DAY(H$2),$D39=""),1,IF(AND($C39<=DAY(H$2),$D39>=DAY(H$2)),1,IF(AND($C39="",$D39>=DAY(H$2)),1,"")))))) -> 1 | I39: =IF(OR($B39="",I$2=""),"",IF(OR(WEEKDAY(I$2)=7,WEEKDAY(I$2)=1),"",IF(AND($C39="",$D39=""),1,IF(AND($C39<=DAY(I$2),$D39=""),1,IF(AND($C39<=DAY(I$2),$D39>=DAY(I$2)),1,IF(AND($C39="",$D39>=DAY(I$2)),1,"")))))) -> 1 | J39: =IF(OR($B39="",J$2=""),"",IF(OR(WEEKDAY(J$2)=7,WEEKDAY(J$2)=1),"",IF(AND($C39="",$D39=""),1,IF(AND($C39<=DAY(J$2),$D39=""),1,IF(AND($C39<=DAY(J$2),$D39>=DAY(J$2)),1,IF(AND($C39="",$D39>=DAY(J$2)),1,"")))))) -> 1 | K39: =IF(OR($B39="",K$2=""),"",IF(OR(WEEKDAY(K$2)=7,WEEKDAY(K$2)=1),"",IF(AND($C39="",$D39=""),1,IF(AND($C39<=DAY(K$2),$D39=""),1,IF(AND($C39<=DAY(K$2),$D39>=DAY(K$2)),1,IF(AND($C39="",$D39>=DAY(K$2)),1,"")))))) | L39: =IF(OR($B39="",L$2=""),"",IF(OR(WEEKDAY(L$2)=7,WEEKDAY(L$2)=1),"",IF(AND($C39="",$D39=""),1,IF(AND($C39<=DAY(L$2),$D39=""),1,IF(AND($C39<=DAY(L$2),$D39>=DAY(L$2)),1,IF(AND($C39="",$D39>=DAY(L$2)),1,"")))))) | ... AI39: =IF(OR($B39="",AI$2=""),"",IF(OR(WEEKDAY(AI$2)=7,WEEKDAY(AI$2)=1),"",IF(AND($C39="",$D39=""),1,IF(AND($C39<=DAY(AI$2),$D39=""),1,IF(AND($C39<=DAY(AI$2),$D39>=DAY(AI$2)),1,IF(AND($C39="",$D39>=DAY(AI$2)),1,"")))))) -> 1 | AJ39: =IF($B39="","",SUM(E39:AI39)) -> 22
A40: AGENT | B40: 18 | E40: =IF(OR($B40="",E$2=""),"",IF(OR(WEEKDAY(E$2)=7,WEEKDAY(E$2)=1),"",IF(AND($C40="",$D40=""),1,IF(AND($C40<=DAY(E$2),$D40=""),1,IF(AND($C40<=DAY(E$2),$D40>=DAY(E$2)),1,IF(AND($C40="",$D40>=DAY(E$2)),1,"")))))) | F40: =IF(OR($B40="",F$2=""),"",IF(OR(WEEKDAY(F$2)=7,WEEKDAY(F$2)=1),"",IF(AND($C40="",$D40=""),1,IF(AND($C40<=DAY(F$2),$D40=""),1,IF(AND($C40<=DAY(F$2),$D40>=DAY(F$2)),1,IF(AND($C40="",$D40>=DAY(F$2)),1,"")))))) -> 1 | G40: =IF(OR($B40="",G$2=""),"",IF(OR(WEEKDAY(G$2)=7,WEEKDAY(G$2)=1),"",IF(AND($C40="",$D40=""),1,IF(AND($C40<=DAY(G$2),$D40=""),1,IF(AND($C40<=DAY(G$2),$D40>=DAY(G$2)),1,IF(AND($C40="",$D40>=DAY(G$2)),1,"")))))) -> 1 | H40: =IF(OR($B40="",H$2=""),"",IF(OR(WEEKDAY(H$2)=7,WEEKDAY(H$2)=1),"",IF(AND($C40="",$D40=""),1,IF(AND($C40<=DAY(H$2),$D40=""),1,IF(AND($C40<=DAY(H$2),$D40>=DAY(H$2)),1,IF(AND($C40="",$D40>=DAY(H$2)),1,"")))))) -> 1 | I40: =IF(OR($B40="",I$2=""),"",IF(OR(WEEKDAY(I$2)=7,WEEKDAY(I$2)=1),"",IF(AND($C40="",$D40=""),1,IF(AND($C40<=DAY(I$2),$D40=""),1,IF(AND($C40<=DAY(I$2),$D40>=DAY(I$2)),1,IF(AND($C40="",$D40>=DAY(I$2)),1,"")))))) -> 1 | J40: =IF(OR($B40="",J$2=""),"",IF(OR(WEEKDAY(J$2)=7,WEEKDAY(J$2)=1),"",IF(AND($C40="",$D40=""),1,IF(AND($C40<=DAY(J$2),$D40=""),1,IF(AND($C40<=DAY(J$2),$D40>=DAY(J$2)),1,IF(AND($C40="",$D40>=DAY(J$2)),1,"")))))) -> 1 | K40: =IF(OR($B40="",K$2=""),"",IF(OR(WEEKDAY(K$2)=7,WEEKDAY(K$2)=1),"",IF(AND($C40="",$D40=""),1,IF(AND($C40<=DAY(K$2),$D40=""),1,IF(AND($C40<=DAY(K$2),$D40>=DAY(K$2)),1,IF(AND($C40="",$D40>=DAY(K$2)),1,"")))))) | L40: =IF(OR($B40="",L$2=""),"",IF(OR(WEEKDAY(L$2)=7,WEEKDAY(L$2)=1),"",IF(AND($C40="",$D40=""),1,IF(AND($C40<=DAY(L$2),$D40=""),1,IF(AND($C40<=DAY(L$2),$D40>=DAY(L$2)),1,IF(AND($C40="",$D40>=DAY(L$2)),1,"")))))) | ... AI40: =IF(OR($B40="",AI$2=""),"",IF(OR(WEEKDAY(AI$2)=7,WEEKDAY(AI$2)=1),"",IF(AND($C40="",$D40=""),1,IF(AND($C40<=DAY(AI$2),$D40=""),1,IF(AND($C40<=DAY(AI$2),$D40>=DAY(AI$2)),1,IF(AND($C40="",$D40>=DAY(AI$2)),1,"")))))) -> 1 | AJ40: =IF($B40="","",SUM(E40:AI40)) -> 22
A41: AGENT | B41: 19 | E41: =IF(OR($B41="",E$2=""),"",IF(OR(WEEKDAY(E$2)=7,WEEKDAY(E$2)=1),"",IF(AND($C41="",$D41=""),1,IF(AND($C41<=DAY(E$2),$D41=""),1,IF(AND($C41<=DAY(E$2),$D41>=DAY(E$2)),1,IF(AND($C41="",$D41>=DAY(E$2)),1,"")))))) | F41: =IF(OR($B41="",F$2=""),"",IF(OR(WEEKDAY(F$2)=7,WEEKDAY(F$2)=1),"",IF(AND($C41="",$D41=""),1,IF(AND($C41<=DAY(F$2),$D41=""),1,IF(AND($C41<=DAY(F$2),$D41>=DAY(F$2)),1,IF(AND($C41="",$D41>=DAY(F$2)),1,"")))))) -> 1 | G41: =IF(OR($B41="",G$2=""),"",IF(OR(WEEKDAY(G$2)=7,WEEKDAY(G$2)=1),"",IF(AND($C41="",$D41=""),1,IF(AND($C41<=DAY(G$2),$D41=""),1,IF(AND($C41<=DAY(G$2),$D41>=DAY(G$2)),1,IF(AND($C41="",$D41>=DAY(G$2)),1,"")))))) -> 1 | H41: =IF(OR($B41="",H$2=""),"",IF(OR(WEEKDAY(H$2)=7,WEEKDAY(H$2)=1),"",IF(AND($C41="",$D41=""),1,IF(AND($C41<=DAY(H$2),$D41=""),1,IF(AND($C41<=DAY(H$2),$D41>=DAY(H$2)),1,IF(AND($C41="",$D41>=DAY(H$2)),1,"")))))) -> 1 | I41: =IF(OR($B41="",I$2=""),"",IF(OR(WEEKDAY(I$2)=7,WEEKDAY(I$2)=1),"",IF(AND($C41="",$D41=""),1,IF(AND($C41<=DAY(I$2),$D41=""),1,IF(AND($C41<=DAY(I$2),$D41>=DAY(I$2)),1,IF(AND($C41="",$D41>=DAY(I$2)),1,"")))))) -> 1 | J41: =IF(OR($B41="",J$2=""),"",IF(OR(WEEKDAY(J$2)=7,WEEKDAY(J$2)=1),"",IF(AND($C41="",$D41=""),1,IF(AND($C41<=DAY(J$2),$D41=""),1,IF(AND($C41<=DAY(J$2),$D41>=DAY(J$2)),1,IF(AND($C41="",$D41>=DAY(J$2)),1,"")))))) -> 1 | K41: =IF(OR($B41="",K$2=""),"",IF(OR(WEEKDAY(K$2)=7,WEEKDAY(K$2)=1),"",IF(AND($C41="",$D41=""),1,IF(AND($C41<=DAY(K$2),$D41=""),1,IF(AND($C41<=DAY(K$2),$D41>=DAY(K$2)),1,IF(AND($C41="",$D41>=DAY(K$2)),1,"")))))) | L41: =IF(OR($B41="",L$2=""),"",IF(OR(WEEKDAY(L$2)=7,WEEKDAY(L$2)=1),"",IF(AND($C41="",$D41=""),1,IF(AND($C41<=DAY(L$2),$D41=""),1,IF(AND($C41<=DAY(L$2),$D41>=DAY(L$2)),1,IF(AND($C41="",$D41>=DAY(L$2)),1,"")))))) | ... AI41: =IF(OR($B41="",AI$2=""),"",IF(OR(WEEKDAY(AI$2)=7,WEEKDAY(AI$2)=1),"",IF(AND($C41="",$D41=""),1,IF(AND($C41<=DAY(AI$2),$D41=""),1,IF(AND($C41<=DAY(AI$2),$D41>=DAY(AI$2)),1,IF(AND($C41="",$D41>=DAY(AI$2)),1,"")))))) -> 1 | AJ41: =IF($B41="","",SUM(E41:AI41)) -> 22
A42: AGENT | B42: 20 | D42: 24 | E42: =IF(OR($B42="",E$2=""),"",IF(OR(WEEKDAY(E$2)=7,WEEKDAY(E$2)=1),"",IF(AND($C42="",$D42=""),1,IF(AND($C42<=DAY(E$2),$D42=""),1,IF(AND($C42<=DAY(E$2),$D42>=DAY(E$2)),1,IF(AND($C42="",$D42>=DAY(E$2)),1,"")))))) | F42: =IF(OR($B42="",F$2=""),"",IF(OR(WEEKDAY(F$2)=7,WEEKDAY(F$2)=1),"",IF(AND($C42="",$D42=""),1,IF(AND($C42<=DAY(F$2),$D42=""),1,IF(AND($C42<=DAY(F$2),$D42>=DAY(F$2)),1,IF(AND($C42="",$D42>=DAY(F$2)),1,"")))))) -> 1 | G42: =IF(OR($B42="",G$2=""),"",IF(OR(WEEKDAY(G$2)=7,WEEKDAY(G$2)=1),"",IF(AND($C42="",$D42=""),1,IF(AND($C42<=DAY(G$2),$D42=""),1,IF(AND($C42<=DAY(G$2),$D42>=DAY(G$2)),1,IF(AND($C42="",$D42>=DAY(G$2)),1,"")))))) -> 1 | H42: =IF(OR($B42="",H$2=""),"",IF(OR(WEEKDAY(H$2)=7,WEEKDAY(H$2)=1),"",IF(AND($C42="",$D42=""),1,IF(AND($C42<=DAY(H$2),$D42=""),1,IF(AND($C42<=DAY(H$2),$D42>=DAY(H$2)),1,IF(AND($C42="",$D42>=DAY(H$2)),1,"")))))) -> 1 | I42: =IF(OR($B42="",I$2=""),"",IF(OR(WEEKDAY(I$2)=7,WEEKDAY(I$2)=1),"",IF(AND($C42="",$D42=""),1,IF(AND($C42<=DAY(I$2),$D42=""),1,IF(AND($C42<=DAY(I$2),$D42>=DAY(I$2)),1,IF(AND($C42="",$D42>=DAY(I$2)),1,"")))))) -> 1 | J42: =IF(OR($B42="",J$2=""),"",IF(OR(WEEKDAY(J$2)=7,WEEKDAY(J$2)=1),"",IF(AND($C42="",$D42=""),1,IF(AND($C42<=DAY(J$2),$D42=""),1,IF(AND($C42<=DAY(J$2),$D42>=DAY(J$2)),1,IF(AND($C42="",$D42>=DAY(J$2)),1,"")))))) -> 1 | K42: =IF(OR($B42="",K$2=""),"",IF(OR(WEEKDAY(K$2)=7,WEEKDAY(K$2)=1),"",IF(AND($C42="",$D42=""),1,IF(AND($C42<=DAY(K$2),$D42=""),1,IF(AND($C42<=DAY(K$2),$D42>=DAY(K$2)),1,IF(AND($C42="",$D42>=DAY(K$2)),1,"")))))) | L42: =IF(OR($B42="",L$2=""),"",IF(OR(WEEKDAY(L$2)=7,WEEKDAY(L$2)=1),"",IF(AND($C42="",$D42=""),1,IF(AND($C42<=DAY(L$2),$D42=""),1,IF(AND($C42<=DAY(L$2),$D42>=DAY(L$2)),1,IF(AND($C42="",$D42>=DAY(L$2)),1,"")))))) | ... AI42: =IF(OR($B42="",AI$2=""),"",IF(OR(WEEKDAY(AI$2)=7,WEEKDAY(AI$2)=1),"",IF(AND($C42="",$D42=""),1,IF(AND($C42<=DAY(AI$2),$D42=""),1,IF(AND($C42<=DAY(AI$2),$D42>=DAY(AI$2)),1,IF(AND($C42="",$D42>=DAY(AI$2)),1,"")))))) | AJ42: =IF($B42="","",SUM(E42:AI42)) -> 17
A43: AGENT | B43: 21 | E43: =IF(OR($B43="",E$2=""),"",IF(OR(WEEKDAY(E$2)=7,WEEKDAY(E$2)=1),"",IF(AND($C43="",$D43=""),1,IF(AND($C43<=DAY(E$2),$D43=""),1,IF(AND($C43<=DAY(E$2),$D43>=DAY(E$2)),1,IF(AND($C43="",$D43>=DAY(E$2)),1,"")))))) | F43: =IF(OR($B43="",F$2=""),"",IF(OR(WEEKDAY(F$2)=7,WEEKDAY(F$2)=1),"",IF(AND($C43="",$D43=""),1,IF(AND($C43<=DAY(F$2),$D43=""),1,IF(AND($C43<=DAY(F$2),$D43>=DAY(F$2)),1,IF(AND($C43="",$D43>=DAY(F$2)),1,"")))))) -> 1 | G43: =IF(OR($B43="",G$2=""),"",IF(OR(WEEKDAY(G$2)=7,WEEKDAY(G$2)=1),"",IF(AND($C43="",$D43=""),1,IF(AND($C43<=DAY(G$2),$D43=""),1,IF(AND($C43<=DAY(G$2),$D43>=DAY(G$2)),1,IF(AND($C43="",$D43>=DAY(G$2)),1,"")))))) -> 1 | H43: =IF(OR($B43="",H$2=""),"",IF(OR(WEEKDAY(H$2)=7,WEEKDAY(H$2)=1),"",IF(AND($C43="",$D43=""),1,IF(AND($C43<=DAY(H$2),$D43=""),1,IF(AND($C43<=DAY(H$2),$D43>=DAY(H$2)),1,IF(AND($C43="",$D43>=DAY(H$2)),1,"")))))) -> 1 | I43: =IF(OR($B43="",I$2=""),"",IF(OR(WEEKDAY(I$2)=7,WEEKDAY(I$2)=1),"",IF(AND($C43="",$D43=""),1,IF(AND($C43<=DAY(I$2),$D43=""),1,IF(AND($C43<=DAY(I$2),$D43>=DAY(I$2)),1,IF(AND($C43="",$D43>=DAY(I$2)),1,"")))))) -> 1 | J43: =IF(OR($B43="",J$2=""),"",IF(OR(WEEKDAY(J$2)=7,WEEKDAY(J$2)=1),"",IF(AND($C43="",$D43=""),1,IF(AND($C43<=DAY(J$2),$D43=""),1,IF(AND($C43<=DAY(J$2),$D43>=DAY(J$2)),1,IF(AND($C43="",$D43>=DAY(J$2)),1,"")))))) -> 1 | K43: =IF(OR($B43="",K$2=""),"",IF(OR(WEEKDAY(K$2)=7,WEEKDAY(K$2)=1),"",IF(AND($C43="",$D43=""),1,IF(AND($C43<=DAY(K$2),$D43=""),1,IF(AND($C43<=DAY(K$2),$D43>=DAY(K$2)),1,IF(AND($C43="",$D43>=DAY(K$2)),1,"")))))) | L43: =IF(OR($B43="",L$2=""),"",IF(OR(WEEKDAY(L$2)=7,WEEKDAY(L$2)=1),"",IF(AND($C43="",$D43=""),1,IF(AND($C43<=DAY(L$2),$D43=""),1,IF(AND($C43<=DAY(L$2),$D43>=DAY(L$2)),1,IF(AND($C43="",$D43>=DAY(L$2)),1,"")))))) | ... AI43: =IF(OR($B43="",AI$2=""),"",IF(OR(WEEKDAY(AI$2)=7,WEEKDAY(AI$2)=1),"",IF(AND($C43="",$D43=""),1,IF(AND($C43<=DAY(AI$2),$D43=""),1,IF(AND($C43<=DAY(AI$2),$D43>=DAY(AI$2)),1,IF(AND($C43="",$D43>=DAY(AI$2)),1,"")))))) -> 1 | AJ43: =IF($B43="","",SUM(E43:AI43)) -> 22
A44: AGENT | B44: 22 | C44: 20 | E44: =IF(OR($B44="",E$2=""),"",IF(OR(WEEKDAY(E$2)=7,WEEKDAY(E$2)=1),"",IF(AND($C44="",$D44=""),1,IF(AND($C44<=DAY(E$2),$D44=""),1,IF(AND($C44<=DAY(E$2),$D44>=DAY(E$2)),1,IF(AND($C44="",$D44>=DAY(E$2)),1,"")))))) | F44: =IF(OR($B44="",F$2=""),"",IF(OR(WEEKDAY(F$2)=7,WEEKDAY(F$2)=1),"",IF(AND($C44="",$D44=""),1,IF(AND($C44<=DAY(F$2),$D44=""),1,IF(AND($C44<=DAY(F$2),$D44>=DAY(F$2)),1,IF(AND($C44="",$D44>=DAY(F$2)),1,"")))))) | G44: =IF(OR($B44="",G$2=""),"",IF(OR(WEEKDAY(G$2)=7,WEEKDAY(G$2)=1),"",IF(AND($C44="",$D44=""),1,IF(AND($C44<=DAY(G$2),$D44=""),1,IF(AND($C44<=DAY(G$2),$D44>=DAY(G$2)),1,IF(AND($C44="",$D44>=DAY(G$2)),1,"")))))) | H44: =IF(OR($B44="",H$2=""),"",IF(OR(WEEKDAY(H$2)=7,WEEKDAY(H$2)=1),"",IF(AND($C44="",$D44=""),1,IF(AND($C44<=DAY(H$2),$D44=""),1,IF(AND($C44<=DAY(H$2),$D44>=DAY(H$2)),1,IF(AND($C44="",$D44>=DAY(H$2)),1,"")))))) | I44: =IF(OR($B44="",I$2=""),"",IF(OR(WEEKDAY(I$2)=7,WEEKDAY(I$2)=1),"",IF(AND($C44="",$D44=""),1,IF(AND($C44<=DAY(I$2),$D44=""),1,IF(AND($C44<=DAY(I$2),$D44>=DAY(I$2)),1,IF(AND($C44="",$D44>=DAY(I$2)),1,"")))))) | J44: =IF(OR($B44="",J$2=""),"",IF(OR(WEEKDAY(J$2)=7,WEEKDAY(J$2)=1),"",IF(AND($C44="",$D44=""),1,IF(AND($C44<=DAY(J$2),$D44=""),1,IF(AND($C44<=DAY(J$2),$D44>=DAY(J$2)),1,IF(AND($C44="",$D44>=DAY(J$2)),1,"")))))) | K44: =IF(OR($B44="",K$2=""),"",IF(OR(WEEKDAY(K$2)=7,WEEKDAY(K$2)=1),"",IF(AND($C44="",$D44=""),1,IF(AND($C44<=DAY(K$2),$D44=""),1,IF(AND($C44<=DAY(K$2),$D44>=DAY(K$2)),1,IF(AND($C44="",$D44>=DAY(K$2)),1,"")))))) | L44: =IF(OR($B44="",L$2=""),"",IF(OR(WEEKDAY(L$2)=7,WEEKDAY(L$2)=1),"",IF(AND($C44="",$D44=""),1,IF(AND($C44<=DAY(L$2),$D44=""),1,IF(AND($C44<=DAY(L$2),$D44>=DAY(L$2)),1,IF(AND($C44="",$D44>=DAY(L$2)),1,"")))))) | ... AI44: =IF(OR($B44="",AI$2=""),"",IF(OR(WEEKDAY(AI$2)=7,WEEKDAY(AI$2)=1),"",IF(AND($C44="",$D44=""),1,IF(AND($C44<=DAY(AI$2),$D44=""),1,IF(AND($C44<=DAY(AI$2),$D44>=DAY(AI$2)),1,IF(AND($C44="",$D44>=DAY(AI$2)),1,"")))))) -> 1 | AJ44: =IF($B44="","",SUM(E44:AI44)) -> 8
A45: AGENT | B45: 23 | E45: =IF(OR($B45="",E$2=""),"",IF(OR(WEEKDAY(E$2)=7,WEEKDAY(E$2)=1),"",IF(AND($C45="",$D45=""),1,IF(AND($C45<=DAY(E$2),$D45=""),1,IF(AND($C45<=DAY(E$2),$D45>=DAY(E$2)),1,IF(AND($C45="",$D45>=DAY(E$2)),1,"")))))) | F45: =IF(OR($B45="",F$2=""),"",IF(OR(WEEKDAY(F$2)=7,WEEKDAY(F$2)=1),"",IF(AND($C45="",$D45=""),1,IF(AND($C45<=DAY(F$2),$D45=""),1,IF(AND($C45<=DAY(F$2),$D45>=DAY(F$2)),1,IF(AND($C45="",$D45>=DAY(F$2)),1,"")))))) -> 1 | G45: =IF(OR($B45="",G$2=""),"",IF(OR(WEEKDAY(G$2)=7,WEEKDAY(G$2)=1),"",IF(AND($C45="",$D45=""),1,IF(AND($C45<=DAY(G$2),$D45=""),1,IF(AND($C45<=DAY(G$2),$D45>=DAY(G$2)),1,IF(AND($C45="",$D45>=DAY(G$2)),1,"")))))) -> 1 | H45: =IF(OR($B45="",H$2=""),"",IF(OR(WEEKDAY(H$2)=7,WEEKDAY(H$2)=1),"",IF(AND($C45="",$D45=""),1,IF(AND($C45<=DAY(H$2),$D45=""),1,IF(AND($C45<=DAY(H$2),$D45>=DAY(H$2)),1,IF(AND($C45="",$D45>=DAY(H$2)),1,"")))))) -> 1 | I45: =IF(OR($B45="",I$2=""),"",IF(OR(WEEKDAY(I$2)=7,WEEKDAY(I$2)=1),"",IF(AND($C45="",$D45=""),1,IF(AND($C45<=DAY(I$2),$D45=""),1,IF(AND($C45<=DAY(I$2),$D45>=DAY(I$2)),1,IF(AND($C45="",$D45>=DAY(I$2)),1,"")))))) -> 1 | J45: =IF(OR($B45="",J$2=""),"",IF(OR(WEEKDAY(J$2)=7,WEEKDAY(J$2)=1),"",IF(AND($C45="",$D45=""),1,IF(AND($C45<=DAY(J$2),$D45=""),1,IF(AND($C45<=DAY(J$2),$D45>=DAY(J$2)),1,IF(AND($C45="",$D45>=DAY(J$2)),1,"")))))) -> 1 | K45: =IF(OR($B45="",K$2=""),"",IF(OR(WEEKDAY(K$2)=7,WEEKDAY(K$2)=1),"",IF(AND($C45="",$D45=""),1,IF(AND($C45<=DAY(K$2),$D45=""),1,IF(AND($C45<=DAY(K$2),$D45>=DAY(K$2)),1,IF(AND($C45="",$D45>=DAY(K$2)),1,"")))))) | L45: =IF(OR($B45="",L$2=""),"",IF(OR(WEEKDAY(L$2)=7,WEEKDAY(L$2)=1),"",IF(AND($C45="",$D45=""),1,IF(AND($C45<=DAY(L$2),$D45=""),1,IF(AND($C45<=DAY(L$2),$D45>=DAY(L$2)),1,IF(AND($C45="",$D45>=DAY(L$2)),1,"")))))) | ... AI45: =IF(OR($B45="",AI$2=""),"",IF(OR(WEEKDAY(AI$2)=7,WEEKDAY(AI$2)=1),"",IF(AND($C45="",$D45=""),1,IF(AND($C45<=DAY(AI$2),$D45=""),1,IF(AND($C45<=DAY(AI$2),$D45>=DAY(AI$2)),1,IF(AND($C45="",$D45>=DAY(AI$2)),1,"")))))) -> 1 | AJ45: =IF($B45="","",SUM(E45:AI45)) -> 22
A46: AGENT | B46: 24 | E46: =IF(OR($B46="",E$2=""),"",IF(OR(WEEKDAY(E$2)=7,WEEKDAY(E$2)=1),"",IF(AND($C46="",$D46=""),1,IF(AND($C46<=DAY(E$2),$D46=""),1,IF(AND($C46<=DAY(E$2),$D46>=DAY(E$2)),1,IF(AND($C46="",$D46>=DAY(E$2)),1,"")))))) | F46: =IF(OR($B46="",F$2=""),"",IF(OR(WEEKDAY(F$2)=7,WEEKDAY(F$2)=1),"",IF(AND($C46="",$D46=""),1,IF(AND($C46<=DAY(F$2),$D46=""),1,IF(AND($C46<=DAY(F$2),$D46>=DAY(F$2)),1,IF(AND($C46="",$D46>=DAY(F$2)),1,"")))))) -> 1 | G46: =IF(OR($B46="",G$2=""),"",IF(OR(WEEKDAY(G$2)=7,WEEKDAY(G$2)=1),"",IF(AND($C46="",$D46=""),1,IF(AND($C46<=DAY(G$2),$D46=""),1,IF(AND($C46<=DAY(G$2),$D46>=DAY(G$2)),1,IF(AND($C46="",$D46>=DAY(G$2)),1,"")))))) -> 1 | H46: =IF(OR($B46="",H$2=""),"",IF(OR(WEEKDAY(H$2)=7,WEEKDAY(H$2)=1),"",IF(AND($C46="",$D46=""),1,IF(AND($C46<=DAY(H$2),$D46=""),1,IF(AND($C46<=DAY(H$2),$D46>=DAY(H$2)),1,IF(AND($C46="",$D46>=DAY(H$2)),1,"")))))) -> 1 | I46: =IF(OR($B46="",I$2=""),"",IF(OR(WEEKDAY(I$2)=7,WEEKDAY(I$2)=1),"",IF(AND($C46="",$D46=""),1,IF(AND($C46<=DAY(I$2),$D46=""),1,IF(AND($C46<=DAY(I$2),$D46>=DAY(I$2)),1,IF(AND($C46="",$D46>=DAY(I$2)),1,"")))))) -> 1 | J46: =IF(OR($B46="",J$2=""),"",IF(OR(WEEKDAY(J$2)=7,WEEKDAY(J$2)=1),"",IF(AND($C46="",$D46=""),1,IF(AND($C46<=DAY(J$2),$D46=""),1,IF(AND($C46<=DAY(J$2),$D46>=DAY(J$2)),1,IF(AND($C46="",$D46>=DAY(J$2)),1,"")))))) -> 1 | K46: =IF(OR($B46="",K$2=""),"",IF(OR(WEEKDAY(K$2)=7,WEEKDAY(K$2)=1),"",IF(AND($C46="",$D46=""),1,IF(AND($C46<=DAY(K$2),$D46=""),1,IF(AND($C46<=DAY(K$2),$D46>=DAY(K$2)),1,IF(AND($C46="",$D46>=DAY(K$2)),1,"")))))) | L46: =IF(OR($B46="",L$2=""),"",IF(OR(WEEKDAY(L$2)=7,WEEKDAY(L$2)=1),"",IF(AND($C46="",$D46=""),1,IF(AND($C46<=DAY(L$2),$D46=""),1,IF(AND($C46<=DAY(L$2),$D46>=DAY(L$2)),1,IF(AND($C46="",$D46>=DAY(L$2)),1,"")))))) | ... AI46: =IF(OR($B46="",AI$2=""),"",IF(OR(WEEKDAY(AI$2)=7,WEEKDAY(AI$2)=1),"",IF(AND($C46="",$D46=""),1,IF(AND($C46<=DAY(AI$2),$D46=""),1,IF(AND($C46<=DAY(AI$2),$D46>=DAY(AI$2)),1,IF(AND($C46="",$D46>=DAY(AI$2)),1,"")))))) -> 1 | AJ46: =IF($B46="","",SUM(E46:AI46)) -> 22

Sheet 01
A1: ="EMARGEMENT CONTRACTUELS "&UPPER(TEXT(F2!E1,"mmm aaaa")) -> EMARGEMENT CONTRACTUELS JUIL. 2018
A2: =F2!E1 -> 43282
A3: CONTRACTUELS | B3: HEURE | C3: SIGNATURE | E3: CONTRACTUELS | F3: HEURE | G3: SIGNATURE
A4: 1 | E4: 2
A5: =IF(INDIRECT(ADDRESS(ROW()+18,SUM(RIGHT(CELL("filename",E1),2)*1,4),4,1,"F2"),1)="","",CONCATENATE(F2!$A23," ",F2!$B23)) | E5: =IF(INDIRECT(ADDRESS(ROW()+30,SUM(RIGHT(CELL("filename",E1),2)*1,4),4,1,"F2"),1)="","",CONCATENATE(F2!$A35," ",F2!$B35))
A6: =IF(INDIRECT(ADDRESS(ROW()+18,SUM(RIGHT(CELL("filename",E2),2)*1,4),4,1,"F2"),1)="","",CONCATENATE(F2!$A24," ",F2!$B24)) | E6: =IF(INDIRECT(ADDRESS(ROW()+30,SUM(RIGHT(CELL("filename",E2),2)*1,4),4,1,"F2"),1)="","",CONCATENATE(F2!$A36," ",F2!$B36))
A7: =IF(INDIRECT(ADDRESS(ROW()+18,SUM(RIGHT(CELL("filename",E3),2)*1,4),4,1,"F2"),1)="","",CONCATENATE(F2!$A25," ",F2!$B25)) | E7: =IF(INDIRECT(ADDRESS(ROW()+30,SUM(RIGHT(CELL("filename",E3),2)*1,4),4,1,"F2"),1)="","",CONCATENATE(F2!$A37," ",F2!$B37))
A8: =IF(INDIRECT(ADDRESS(ROW()+18,SUM(RIGHT(CELL("filename",E4),2)*1,4),4,1,"F2"),1)="","",CONCATENATE(F2!$A26," ",F2!$B26)) | E8: =IF(INDIRECT(ADDRESS(ROW()+30,SUM(RIGHT(CELL("filename",E4),2)*1,4),4,1,"F2"),1)="","",CONCATENATE(F2!$A38," ",F2!$B38))
A9: =IF(INDIRECT(ADDRESS(ROW()+18,SUM(RIGHT(CELL("filename",E5),2)*1,4),4,1,"F2"),1)="","",CONCATENATE(F2!$A27," ",F2!$B27)) | E9: =IF(INDIRECT(ADDRESS(ROW()+30,SUM(RIGHT(CELL("filename",E5),2)*1,4),4,1,"F2"),1)="","",CONCATENATE(F2!$A39," ",F2!$B39))
A10: =IF(INDIRECT(ADDRESS(ROW()+18,SUM(RIGHT(CELL("filename",E6),2)*1,4),4,1,"F2"),1)="","",CONCATENATE(F2!$A28," ",F2!$B28)) | E10: =IF(INDIRECT(ADDRESS(ROW()+30,SUM(RIGHT(CELL("filename",E6),2)*1,4),4,1,"F2"),1)="","",CONCATENATE(F2!$A40," ",F2!$B40))
A11: =IF(INDIRECT(ADDRESS(ROW()+18,SUM(RIGHT(CELL("filename",E7),2)*1,4),4,1,"F2"),1)="","",CONCATENATE(F2!$A29," ",F2!$B29)) | E11: =IF(INDIRECT(ADDRESS(ROW()+30,SUM(RIGHT(CELL("filename",E7),2)*1,4),4,1,"F2"),1)="","",CONCATENATE(F2!$A41," ",F2!$B41))
A12: =IF(INDIRECT(ADDRESS(ROW()+18,SUM(RIGHT(CELL("filename",E8),2)*1,4),4,1,"F2"),1)="","",CONCATENATE(F2!$A30," ",F2!$B30)) | E12: =IF(INDIRECT(ADDRESS(ROW()+30,SUM(RIGHT(CELL("filename",E8),2)*1,4),4,1,"F2"),1)="","",CONCATENATE(F2!$A42," ",F2!$B42))
A13: =IF(INDIRECT(ADDRESS(ROW()+18,SUM(RIGHT(CELL("filename",E9),2)*1,4),4,1,"F2"),1)="","",CONCATENATE(F2!$A31," ",F2!$B31)) | E13: =IF(INDIRECT(ADDRESS(ROW()+30,SUM(RIGHT(CELL("filename",E9),2)*1,4),4,1,"F2"),1)="","",CONCATENATE(F2!$A43," ",F2!$B43))
A14: =IF(INDIRECT(ADDRESS(ROW()+18,SUM(RIGHT(CELL("filename",E10),2)*1,4),4,1,"F2"),1)="","",CONCATENATE(F2!$A32," ",F2!$B32)) | E14: =IF(INDIRECT(ADDRESS(ROW()+30,SUM(RIGHT(CELL("filename",E10),2)*1,4),4,1,"F2"),1)="","",CONCATENATE(F2!$A44," ",F2!$B44))
A15: =IF(INDIRECT(ADDRESS(ROW()+18,SUM(RIGHT(CELL("filename",E11),2)*1,4),4,1,"F2"),1)="","",CONCATENATE(F2!$A33," ",F2!$B33)) | E15: =IF(INDIRECT(ADDRESS(ROW()+30,SUM(RIGHT(CELL("filename",E11),2)*1,4),4,1,"F2"),1)="","",CONCATENATE(F2!$A45," ",F2!$B45))
A16: =IF(INDIRECT(ADDRESS(ROW()+18,SUM(RIGHT(CELL("filename",E12),2)*1,4),4,1,"F2"),1)="","",CONCATENATE(F2!$A34," ",F2!$B34)) | E16: =IF(INDIRECT(ADDRESS(ROW()+30,SUM(RIGHT(CELL("filename",E12),2)*1,4),4,1,"F2"),1)="","",CONCATENATE(F2!$A46," ",F2!$B46))
A18: SAISONNIERS | B18: HEURE | C18: SIGNATURE | E18: STAGIAIRES | F18: HEURE | G18: SIGNATURE
A19: 3 | E19: 4
A20: =IF(INDIRECT(ADDRESS(ROW()-17,SUM(RIGHT(CELL("filename",E1),2)*1,4),4,1,"F2"),1)="","",CONCATENATE(F2!$A3," ",F2!$B3)) | E20: =IF(INDIRECT(ADDRESS(ROW()-7,SUM(RIGHT(CELL("filename",E1),2)*1,4),4,1,"F2"),1)="","",CONCATENATE(F2!$A13," ",F2!$B13))
A21: =IF(INDIRECT(ADDRESS(ROW()-17,SUM(RIGHT(CELL("filename",E2),2)*1,4),4,1,"F2"),1)="","",CONCATENATE(F2!$A4," ",F2!$B4)) | E21: =IF(INDIRECT(ADDRESS(ROW()-7,SUM(RIGHT(CELL("filename",E2),2)*1,4),4,1,"F2"),1)="","",CONCATENATE(F2!$A14," ",F2!$B14))
A22: =IF(INDIRECT(ADDRESS(ROW()-17,SUM(RIGHT(CELL("filename",E3),2)*1,4),4,1,"F2"),1)="","",CONCATENATE(F2!$A5," ",F2!$B5)) | E22: =IF(INDIRECT(ADDRESS(ROW()-7,SUM(RIGHT(CELL("filename",E3),2)*1,4),4,1,"F2"),1)="","",CONCATENATE(F2!$A15," ",F2!$B15))
A23: =IF(INDIRECT(ADDRESS(ROW()-17,SUM(RIGHT(CELL("filename",E4),2)*1,4),4,1,"F2"),1)="","",CONCATENATE(F2!$A6," ",F2!$B6)) | E23: =IF(INDIRECT(ADDRESS(ROW()-7,SUM(RIGHT(CELL("filename",E4),2)*1,4),4,1,"F2"),1)="","",CONCATENATE(F2!$A16," ",F2!$B16))
A24: =IF(INDIRECT(ADDRESS(ROW()-17,SUM(RIGHT(CELL("filename",E5),2)*1,4),4,1,"F2"),1)="","",CONCATENATE(F2!$A7," ",F2!$B7)) | E24: =IF(INDIRECT(ADDRESS(ROW()-7,SUM(RIGHT(CELL("filename",E5),2)*1,4),4,1,"F2"),1)="","",CONCATENATE(F2!$A17," ",F2!$B17))
A25: =IF(INDIRECT(ADDRESS(ROW()-17,SUM(RIGHT(CELL("filename",E6),2)*1,4),4,1,"F2"),1)="","",CONCATENATE(F2!$A8," ",F2!$B8)) | E25: =IF(INDIRECT(ADDRESS(ROW()-7,SUM(RIGHT(CELL("filename",E6),2)*1,4),4,1,"F2"),1)="","",CONCATENATE(F2!$A18," ",F2!$B18))
A26: =IF(INDIRECT(ADDRESS(ROW()-17,SUM(RIGHT(CELL("filename",E7),2)*1,4),4,1,"F2"),1)="","",CONCATENATE(F2!$A9," ",F2!$B9)) | E26: =IF(INDIRECT(ADDRESS(ROW()-7,SUM(RIGHT(CELL("filename",E7),2)*1,4),4,1,"F2"),1)="","",CONCATENATE(F2!$A19," ",F2!$B19))
A27: =IF(INDIRECT(ADDRESS(ROW()-17,SUM(RIGHT(CELL("filename",E8),2)*1,4),4,1,"F2"),1)="","",CONCATENATE(F2!$A10," ",F2!$B10)) | E27: =IF(INDIRECT(ADDRESS(ROW()-7,SUM(RIGHT(CELL("filename",E8),2)*1,4),4,1,"F2"),1)="","",CONCATENATE(F2!$A20," ",F2!$B20))
A28: =IF(INDIRECT(ADDRESS(ROW()-17,SUM(RIGHT(CELL("filename",E9),2)*1,4),4,1,"F2"),1)="","",CONCATENATE(F2!$A11," ",F2!$B11)) | E28: =IF(INDIRECT(ADDRESS(ROW()-7,SUM(RIGHT(CELL("filename",E9),2)*1,4),4,1,"F2"),1)="","",CONCATENATE(F2!$A21," ",F2!$B21))
A29: =IF(INDIRECT(ADDRESS(ROW()-17,SUM(RIGHT(CELL("filename",E10),2)*1,4),4,1,"F2"),1)="","",CONCATENATE(F2!$A12," ",F2!$B12)) | E29: =IF(INDIRECT(ADDRESS(ROW()-7,SUM(RIGHT(CELL("filename",E10),2)*1,4),4,1,"F2"),1)="","",CONCATENATE(F2!$A22," ",F2!$B22))

Sheet 02
A1: ="EMARGEMENT CONTRACTUELS "&UPPER(TEXT(F2!E1,"mmm aaaa")) -> EMARGEMENT CONTRACTUELS JUIL. 2018
A2: =DATE(YEAR(F2!E1),MONTH(F2!E1),DAY(SUM(RIGHT(CELL("filename",E1),2)*1,1))) -> 43283
A3: CONTRACTUELS | B3: HEURE | C3: SIGNATURE | E3: CONTRACTUELS | F3: HEURE | G3: SIGNATURE
A4: 1 | E4: 2
A5: =IF(INDIRECT(ADDRESS(ROW()+18,SUM(RIGHT(CELL("filename",E1),2)*1,4),4,1,"F2"),1)="","",CONCATENATE(F2!$A23," ",F2!$B23)) -> AGENT 1 | E5: =IF(INDIRECT(ADDRESS(ROW()+30,SUM(RIGHT(CELL("filename",E1),2)*1,4),4,1,"F2"),1)="","",CONCATENATE(F2!$A35," ",F2!$B35)) -> AGENT 13
A6: =IF(INDIRECT(ADDRESS(ROW()+18,SUM(RIGHT(CELL("filename",E2),2)*1,4),4,1,"F2"),1)="","",CONCATENATE(F2!$A24," ",F2!$B24)) -> AGENT 2 | E6: =IF(INDIRECT(ADDRESS(ROW()+30,SUM(RIGHT(CELL("filename",E2),2)*1,4),4,1,"F2"),1)="","",CONCATENATE(F2!$A36," ",F2!$B36)) -> AGENT 14
A7: =IF(INDIRECT(ADDRESS(ROW()+18,SUM(RIGHT(CELL("filename",E3),2)*1,4),4,1,"F2"),1)="","",CONCATENATE(F2!$A25," ",F2!$B25)) -> AGENT 3 | E7: =IF(INDIRECT(ADDRESS(ROW()+30,SUM(RIGHT(CELL("filename",E3),2)*1,4),4,1,"F2"),1)="","",CONCATENATE(F2!$A37," ",F2!$B37)) -> AGENT 15
A8: =IF(INDIRECT(ADDRESS(ROW()+18,SUM(RIGHT(CELL("filename",E4),2)*1,4),4,1,"F2"),1)="","",CONCATENATE(F2!$A26," ",F2!$B26)) -> AGENT 4 | E8: =IF(INDIRECT(ADDRESS(ROW()+30,SUM(RIGHT(CELL("filename",E4),2)*1,4),4,1,"F2"),1)="","",CONCATENATE(F2!$A38," ",F2!$B38)) -> AGENT 16
A9: =IF(INDIRECT(ADDRESS(ROW()+18,SUM(RIGHT(CELL("filename",E5),2)*1,4),4,1,"F2"),1)="","",CONCATENATE(F2!$A27," ",F2!$B27)) | E9: =IF(INDIRECT(ADDRESS(ROW()+30,SUM(RIGHT(CELL("filename",E5),2)*1,4),4,1,"F2"),1)="","",CONCATENATE(F2!$A39," ",F2!$B39)) -> AGENT 17
A10: =IF(INDIRECT(ADDRESS(ROW()+18,SUM(RIGHT(CELL("filename",E6),2)*1,4),4,1,"F2"),1)="","",CONCATENATE(F2!$A28," ",F2!$B28)) | E10: =IF(INDIRECT(ADDRESS(ROW()+30,SUM(RIGHT(CELL("filename",E6),2)*1,4),4,1,"F2"),1)="","",CONCATENATE(F2!$A40," ",F2!$B40)) -> AGENT 18
A11: =IF(INDIRECT(ADDRESS(ROW()+18,SUM(RIGHT(CELL("filename",E7),2)*1,4),4,1,"F2"),1)="","",CONCATENATE(F2!$A29," ",F2!$B29)) -> AGENT 7 | E11: =IF(INDIRECT(ADDRESS(ROW()+30,SUM(RIGHT(CELL("filename",E7),2)*1,4),4,1,"F2"),1)="","",CONCATENATE(F2!$A41," ",F2!$B41)) -> AGENT 19
A12: =IF(INDIRECT(ADDRESS(ROW()+18,SUM(RIGHT(CELL("filename",E8),2)*1,4),4,1,"F2"),1)="","",CONCATENATE(F2!$A30," ",F2!$B30)) -> AGENT 8 | E12: =IF(INDIRECT(ADDRESS(ROW()+30,SUM(RIGHT(CELL("filename",E8),2)*1,4),4,1,"F2"),1)="","",CONCATENATE(F2!$A42," ",F2!$B42)) -> AGENT 20
A13: =IF(INDIRECT(ADDRESS(ROW()+18,SUM(RIGHT(CELL("filename",E9),2)*1,4),4,1,"F2"),1)="","",CONCATENATE(F2!$A31," ",F2!$B31)) -> AGENT 9 | E13: =IF(INDIRECT(ADDRESS(ROW()+30,SUM(RIGHT(CELL("filename",E9),2)*1,4),4,1,"F2"),1)="","",CONCATENATE(F2!$A43," ",F2!$B43)) -> AGENT 21
A14: =IF(INDIRECT(ADDRESS(ROW()+18,SUM(RIGHT(CELL("filename",E10),2)*1,4),4,1,"F2"),1)="","",CONCATENATE(F2!$A32," ",F2!$B32)) -> AGENT 10 | E14: =IF(INDIRECT(ADDRESS(ROW()+30,SUM(RIGHT(CELL("filename",E10),2)*1,4),4,1,"F2"),1)="","",CONCATENATE(F2!$A44," ",F2!$B44))
A15: =IF(INDIRECT(ADDRESS(ROW()+18,SUM(RIGHT(CELL("filename",E11),2)*1,4),4,1,"F2"),1)="","",CONCATENATE(F2!$A33," ",F2!$B33)) -> AGENT 11 | E15: =IF(INDIRECT(ADDRESS(ROW()+30,SUM(RIGHT(CELL("filename",E11),2)*1,4),4,1,"F2"),1)="","",CONCATENATE(F2!$A45," ",F2!$B45)) -> AGENT 23
A16: =IF(INDIRECT(ADDRESS(ROW()+18,SUM(RIGHT(CELL("filename",E12),2)*1,4),4,1,"F2"),1)="","",CONCATENATE(F2!$A34," ",F2!$B34)) -> AGENT 12 | E16: =IF(INDIRECT(ADDRESS(ROW()+30,SUM(RIGHT(CELL("filename",E12),2)*1,4),4,1,"F2"),1)="","",CONCATENATE(F2!$A46," ",F2!$B46)) -> AGENT 24
A18: SAISONNIERS | B18: HEURE | C18: SIGNATURE | E18: STAGIAIRES | F18: HEURE | G18: SIGNATURE
A19: 3 | E19: 4
A20: =IF(INDIRECT(ADDRESS(ROW()-17,SUM(RIGHT(CELL("filename",E1),2)*1,4),4,1,"F2"),1)="","",CONCATENATE(F2!$A3," ",F2!$B3)) | E20: =IF(INDIRECT(ADDRESS(ROW()-7,SUM(RIGHT(CELL("filename",E1),2)*1,4),4,1,"F2"),1)="","",CONCATENATE(F2!$A13," ",F2!$B13)) -> STAGIAIRE 1
A21: =IF(INDIRECT(ADDRESS(ROW()-17,SUM(RIGHT(CELL("filename",E2),2)*1,4),4,1,"F2"),1)="","",CONCATENATE(F2!$A4," ",F2!$B4)) -> SAISONNIER 2 | E21: =IF(INDIRECT(ADDRESS(ROW()-7,SUM(RIGHT(CELL("filename",E2),2)*1,4),4,1,"F2"),1)="","",CONCATENATE(F2!$A14," ",F2!$B14)) -> STAGIAIRE 2
A22: =IF(INDIRECT(ADDRESS(ROW()-17,SUM(RIGHT(CELL("filename",E3),2)*1,4),4,1,"F2"),1)="","",CONCATENATE(F2!$A5," ",F2!$B5)) | E22: =IF(INDIRECT(ADDRESS(ROW()-7,SUM(RIGHT(CELL("filename",E3),2)*1,4),4,1,"F2"),1)="","",CONCATENATE(F2!$A15," ",F2!$B15)) -> STAGIAIRE 3
A23: =IF(INDIRECT(ADDRESS(ROW()-17,SUM(RIGHT(CELL("filename",E4),2)*1,4),4,1,"F2"),1)="","",CONCATENATE(F2!$A6," ",F2!$B6)) | E23: =IF(INDIRECT(ADDRESS(ROW()-7,SUM(RIGHT(CELL("filename",E4),2)*1,4),4,1,"F2"),1)="","",CONCATENATE(F2!$A16," ",F2!$B16))
A24: =IF(INDIRECT(ADDRESS(ROW()-17,SUM(RIGHT(CELL("filename",E5),2)*1,4),4,1,"F2"),1)="","",CONCATENATE(F2!$A7," ",F2!$B7)) -> SAISONNIER 5 | E24: =IF(INDIRECT(ADDRESS(ROW()-7,SUM(RIGHT(CELL("filename",E5),2)*1,4),4,1,"F2"),1)="","",CONCATENATE(F2!$A17," ",F2!$B17)) -> STAGIAIRE 5
A25: =IF(INDIRECT(ADDRESS(ROW()-17,SUM(RIGHT(CELL("filename",E6),2)*1,4),4,1,"F2"),1)="","",CONCATENATE(F2!$A8," ",F2!$B8)) -> SAISONNIER 6 | E25: =IF(INDIRECT(ADDRESS(ROW()-7,SUM(RIGHT(CELL("filename",E6),2)*1,4),4,1,"F2"),1)="","",CONCATENATE(F2!$A18," ",F2!$B18)) -> STAGIAIRE 6
A26: =IF(INDIRECT(ADDRESS(ROW()-17,SUM(RIGHT(CELL("filename",E7),2)*1,4),4,1,"F2"),1)="","",CONCATENATE(F2!$A9," ",F2!$B9)) -> SAISONNIER 7 | E26: =IF(INDIRECT(ADDRESS(ROW()-7,SUM(RIGHT(CELL("filename",E7),2)*1,4),4,1,"F2"),1)="","",CONCATENATE(F2!$A19," ",F2!$B19)) -> STAGIAIRE 7
A27: =IF(INDIRECT(ADDRESS(ROW()-17,SUM(RIGHT(CELL("filename",E8),2)*1,4),4,1,"F2"),1)="","",CONCATENATE(F2!$A10," ",F2!$B10)) -> SAISONNIER 8 | E27: =IF(INDIRECT(ADDRESS(ROW()-7,SUM(RIGHT(CELL("filename",E8),2)*1,4),4,1,"F2"),1)="","",CONCATENATE(F2!$A20," ",F2!$B20)) -> STAGIAIRE 8
A28: =IF(INDIRECT(ADDRESS(ROW()-17,SUM(RIGHT(CELL("filename",E9),2)*1,4),4,1,"F2"),1)="","",CONCATENATE(F2!$A11," ",F2!$B11)) | E28: =IF(INDIRECT(ADDRESS(ROW()-7,SUM(RIGHT(CELL("filename",E9),2)*1,4),4,1,"F2"),1)="","",CONCATENATE(F2!$A21," ",F2!$B21))
A29: =IF(INDIRECT(ADDRESS(ROW()-17,SUM(RIGHT(CELL("filename",E10),2)*1,4),4,1,"F2"),1)="","",CONCATENATE(F2!$A12," ",F2!$B12)) | E29: =IF(INDIRECT(ADDRESS(ROW()-7,SUM(RIGHT(CELL("filename",E10),2)*1,4),4,1,"F2"),1)="","",CONCATENATE(F2!$A22," ",F2!$B22))

Sheet 03
A1: ="EMARGEMENT CONTRACTUELS "&UPPER(TEXT(F2!E1,"mmm aaaa")) -> EMARGEMENT CONTRACTUELS JUIL. 2018
A2: =DATE(YEAR(F2!E1),MONTH(F2!E1),DAY(SUM(RIGHT(CELL("filename",E1),2)*1,1))) -> 43284
A3: CONTRACTUELS | B3: HEURE | C3: SIGNATURE | E3: CONTRACTUELS | F3: HEURE | G3: SIGNATURE
A4: 1 | E4: 2
A5: =IF(INDIRECT(ADDRESS(ROW()+18,SUM(RIGHT(CELL("filename",E1),2)*1,4),4,1,"F2"),1)="","",CONCATENATE(F2!$A23," ",F2!$B23)) -> AGENT 1 | E5: =IF(INDIRECT(ADDRESS(ROW()+30,SUM(RIGHT(CELL("filename",E1),2)*1,4),4,1,"F2"),1)="","",CONCATENATE(F2!$A35," ",F2!$B35)) -> AGENT 13
A6: =IF(INDIRECT(ADDRESS(ROW()+18,SUM(RIGHT(CELL("filename",E2),2)*1,4),4,1,"F2"),1)="","",CONCATENATE(F2!$A24," ",F2!$B24)) -> AGENT 2 | E6: =IF(INDIRECT(ADDRESS(ROW()+30,SUM(RIGHT(CELL("filename",E2),2)*1,4),4,1,"F2"),1)="","",CONCATENATE(F2!$A36," ",F2!$B36)) -> AGENT 14
A7: =IF(INDIRECT(ADDRESS(ROW()+18,SUM(RIGHT(CELL("filename",E3),2)*1,4),4,1,"F2"),1)="","",CONCATENATE(F2!$A25," ",F2!$B25)) -> AGENT 3 | E7: =IF(INDIRECT(ADDRESS(ROW()+30,SUM(RIGHT(CELL("filename",E3),2)*1,4),4,1,"F2"),1)="","",CONCATENATE(F2!$A37," ",F2!$B37)) -> AGENT 15
A8: =IF(INDIRECT(ADDRESS(ROW()+18,SUM(RIGHT(CELL("filename",E4),2)*1,4),4,1,"F2"),1)="","",CONCATENATE(F2!$A26," ",F2!$B26)) -> AGENT 4 | E8: =IF(INDIRECT(ADDRESS(ROW()+30,SUM(RIGHT(CELL("filename",E4),2)*1,4),4,1,"F2"),1)="","",CONCATENATE(F2!$A38," ",F2!$B38)) -> AGENT 16
A9: =IF(INDIRECT(ADDRESS(ROW()+18,SUM(RIGHT(CELL("filename",E5),2)*1,4),4,1,"F2"),1)="","",CONCATENATE(F2!$A27," ",F2!$B27)) | E9: =IF(INDIRECT(ADDRESS(ROW()+30,SUM(RIGHT(CELL("filename",E5),2)*1,4),4,1,"F2"),1)="","",CONCATENATE(F2!$A39," ",F2!$B39)) -> AGENT 17
A10: =IF(INDIRECT(ADDRESS(ROW()+18,SUM(RIGHT(CELL("filename",E6),2)*1,4),4,1,"F2"),1)="","",CONCATENATE(F2!$A28," ",F2!$B28)) | E10: =IF(INDIRECT(ADDRESS(ROW()+30,SUM(RIGHT(CELL("filename",E6),2)*1,4),4,1,"F2"),1)="","",CONCATENATE(F2!$A40," ",F2!$B40)) -> AGENT 18
A11: =IF(INDIRECT(ADDRESS(ROW()+18,SUM(RIGHT(CELL("filename",E7),2)*1,4),4,1,"F2"),1)="","",CONCATENATE(F2!$A29," ",F2!$B29)) -> AGENT 7 | E11: =IF(INDIRECT(ADDRESS(ROW()+30,SUM(RIGHT(CELL("filename",E7),2)*1,4),4,1,"F2"),1)="","",CONCATENATE(F2!$A41," ",F2!$B41)) -> AGENT 19
A12: =IF(INDIRECT(ADDRESS(ROW()+18,SUM(RIGHT(CELL("filename",E8),2)*1,4),4,1,"F2"),1)="","",CONCATENATE(F2!$A30," ",F2!$B30)) -> AGENT 8 | E12: =IF(INDIRECT(ADDRESS(ROW()+30,SUM(RIGHT(CELL("filename",E8),2)*1,4),4,1,"F2"),1)="","",CONCATENATE(F2!$A42," ",F2!$B42)) -> AGENT 20
A13: =IF(INDIRECT(ADDRESS(ROW()+18,SUM(RIGHT(CELL("filename",E9),2)*1,4),4,1,"F2"),1)="","",CONCATENATE(F2!$A31," ",F2!$B31)) -> AGENT 9 | E13: =IF(INDIRECT(ADDRESS(ROW()+30,SUM(RIGHT(CELL("filename",E9),2)*1,4),4,1,"F2"),1)="","",CONCATENATE(F2!$A43," ",F2!$B43)) -> AGENT 21
A14: =IF(INDIRECT(ADDRESS(ROW()+18,SUM(RIGHT(CELL("filename",E10),2)*1,4),4,1,"F2"),1)="","",CONCATENATE(F2!$A32," ",F2!$B32)) -> AGENT 10 | E14: =IF(INDIRECT(ADDRESS(ROW()+30,SUM(RIGHT(CELL("filename",E10),2)*1,4),4,1,"F2"),1)="","",CONCATENATE(F2!$A44," ",F2!$B44))
A15: =IF(INDIRECT(ADDRESS(ROW()+18,SUM(RIGHT(CELL("filename",E11),2)*1,4),4,1,"F2"),1)="","",CONCATENATE(F2!$A33," ",F2!$B33)) -> AGENT 11 | E15: =IF(INDIRECT(ADDRESS(ROW()+30,SUM(RIGHT(CELL("filename",E11),2)*1,4),4,1,"F2"),1)="","",CONCATENATE(F2!$A45," ",F2!$B45)) -> AGENT 23
A16: =IF(INDIRECT(ADDRESS(ROW()+18,SUM(RIGHT(CELL("filename",E12),2)*1,4),4,1,"F2"),1)="","",CONCATENATE(F2!$A34," ",F2!$B34)) -> AGENT 12 | E16: =IF(INDIRECT(ADDRESS(ROW()+30,SUM(RIGHT(CELL("filename",E12),2)*1,4),4,1,"F2"),1)="","",CONCATENATE(F2!$A46," ",F2!$B46)) -> AGENT 24
A18: SAISONNIERS | B18: HEURE | C18: SIGNATURE | E18: STAGIAIRES | F18: HEURE | G18: SIGNATURE
A19: 3 | E19: 4
A20: =IF(INDIRECT(ADDRESS(ROW()-17,SUM(RIGHT(CELL("filename",E1),2)*1,4),4,1,"F2"),1)="","",CONCATENATE(F2!$A3," ",F2!$B3)) | E20: =IF(INDIRECT(ADDRESS(ROW()-7,SUM(RIGHT(CELL("filename",E1),2)*1,4),4,1,"F2"),1)="","",CONCATENATE(F2!$A13," ",F2!$B13)) -> STAGIAIRE 1
A21: =IF(INDIRECT(ADDRESS(ROW()-17,SUM(RIGHT(CELL("filename",E2),2)*1,4),4,1,"F2"),1)="","",CONCATENATE(F2!$A4," ",F2!$B4)) -> SAISONNIER 2 | E21: =IF(INDIRECT(ADDRESS(ROW()-7,SUM(RIGHT(CELL("filename",E2),2)*1,4),4,1,"F2"),1)="","",CONCATENATE(F2!$A14," ",F2!$B14)) -> STAGIAIRE 2
A22: =IF(INDIRECT(ADDRESS(ROW()-17,SUM(RIGHT(CELL("filename",E3),2)*1,4),4,1,"F2"),1)="","",CONCATENATE(F2!$A5," ",F2!$B5)) | E22: =IF(INDIRECT(ADDRESS(ROW()-7,SUM(RIGHT(CELL("filename",E3),2)*1,4),4,1,"F2"),1)="","",CONCATENATE(F2!$A15," ",F2!$B15)) -> STAGIAIRE 3
A23: =IF(INDIRECT(ADDRESS(ROW()-17,SUM(RIGHT(CELL("filename",E4),2)*1,4),4,1,"F2"),1)="","",CONCATENATE(F2!$A6," ",F2!$B6)) | E23: =IF(INDIRECT(ADDRESS(ROW()-7,SUM(RIGHT(CELL("filename",E4),2)*1,4),4,1,"F2"),1)="","",CONCATENATE(F2!$A16," ",F2!$B16))
A24: =IF(INDIRECT(ADDRESS(ROW()-17,SUM(RIGHT(CELL("filename",E5),2)*1,4),4,1,"F2"),1)="","",CONCATENATE(F2!$A7," ",F2!$B7)) -> SAISONNIER 5 | E24: =IF(INDIRECT(ADDRESS(ROW()-7,SUM(RIGHT(CELL("filename",E5),2)*1,4),4,1,"F2"),1)="","",CONCATENATE(F2!$A17," ",F2!$B17)) -> STAGIAIRE 5
A25: =IF(INDIRECT(ADDRESS(ROW()-17,SUM(RIGHT(CELL("filename",E6),2)*1,4),4,1,"F2"),1)="","",CONCATENATE(F2!$A8," ",F2!$B8)) -> SAISONNIER 6 | E25: =IF(INDIRECT(ADDRESS(ROW()-7,SUM(RIGHT(CELL("filename",E6),2)*1,4),4,1,"F2"),1)="","",CONCATENATE(F2!$A18," ",F2!$B18)) -> STAGIAIRE 6
A26: =IF(INDIRECT(ADDRESS(ROW()-17,SUM(RIGHT(CELL("filename",E7),2)*1,4),4,1,"F2"),1)="","",CONCATENATE(F2!$A9," ",F2!$B9)) -> SAISONNIER 7 | E26: =IF(INDIRECT(ADDRESS(ROW()-7,SUM(RIGHT(CELL("filename",E7),2)*1,4),4,1,"F2"),1)="","",CONCATENATE(F2!$A19," ",F2!$B19)) -> STAGIAIRE 7
A27: =IF(INDIRECT(ADDRESS(ROW()-17,SUM(RIGHT(CELL("filename",E8),2)*1,4),4,1,"F2"),1)="","",CONCATENATE(F2!$A10," ",F2!$B10)) -> SAISONNIER 8 | E27: =IF(INDIRECT(ADDRESS(ROW()-7,SUM(RIGHT(CELL("filename",E8),2)*1,4),4,1,"F2"),1)="","",CONCATENATE(F2!$A20," ",F2!$B20)) -> STAGIAIRE 8
A28: =IF(INDIRECT(ADDRESS(ROW()-17,SUM(RIGHT(CELL("filename",E9),2)*1,4),4,1,"F2"),1)="","",CONCATENATE(F2!$A11," ",F2!$B11)) | E28: =IF(INDIRECT(ADDRESS(ROW()-7,SUM(RIGHT(CELL("filename",E9),2)*1,4),4,1,"F2"),1)="","",CONCATENATE(F2!$A21," ",F2!$B21))
A29: =IF(INDIRECT(ADDRESS(ROW()-17,SUM(RIGHT(CELL("filename",E10),2)*1,4),4,1,"F2"),1)="","",CONCATENATE(F2!$A12," ",F2!$B12)) | E29: =IF(INDIRECT(ADDRESS(ROW()-7,SUM(RIGHT(CELL("filename",E10),2)*1,4),4,1,"F2"),1)="","",CONCATENATE(F2!$A22," ",F2!$B22))

Sheet 04
A1: ="EMARGEMENT CONTRACTUELS "&UPPER(TEXT(F2!E1,"mmm aaaa")) -> EMARGEMENT CONTRACTUELS JUIL. 2018
A2: =DATE(YEAR(F2!E1),MONTH(F2!E1),DAY(SUM(RIGHT(CELL("filename",E1),2)*1,1))) -> 43285
A3: CONTRACTUELS | B3: HEURE | C3: SIGNATURE | E3: CONTRACTUELS | F3: HEURE | G3: SIGNATURE
A4: 1 | E4: 2
A5: =IF(INDIRECT(ADDRESS(ROW()+18,SUM(RIGHT(CELL("filename",E1),2)*1,4),4,1,"F2"),1)="","",CONCATENATE(F2!$A23," ",F2!$B23)) -> AGENT 1 | E5: =IF(INDIRECT(ADDRESS(ROW()+30,SUM(RIGHT(CELL("filename",E1),2)*1,4),4,1,"F2"),1)="","",CONCATENATE(F2!$A35," ",F2!$B35)) -> AGENT 13
A6: =IF(INDIRECT(ADDRESS(ROW()+18,SUM(RIGHT(CELL("filename",E2),2)*1,4),4,1,"F2"),1)="","",CONCATENATE(F2!$A24," ",F2!$B24)) -> AGENT 2 | E6: =IF(INDIRECT(ADDRESS(ROW()+30,SUM(RIGHT(CELL("filename",E2),2)*1,4),4,1,"F2"),1)="","",CONCATENATE(F2!$A36," ",F2!$B36)) -> AGENT 14
A7: =IF(INDIRECT(ADDRESS(ROW()+18,SUM(RIGHT(CELL("filename",E3),2)*1,4),4,1,"F2"),1)="","",CONCATENATE(F2!$A25," ",F2!$B25)) -> AGENT 3 | E7: =IF(INDIRECT(ADDRESS(ROW()+30,SUM(RIGHT(CELL("filename",E3),2)*1,4),4,1,"F2"),1)="","",CONCATENATE(F2!$A37," ",F2!$B37)) -> AGENT 15
A8: =IF(INDIRECT(ADDRESS(ROW()+18,SUM(RIGHT(CELL("filename",E4),2)*1,4),4,1,"F2"),1)="","",CONCATENATE(F2!$A26," ",F2!$B26)) -> AGENT 4 | E8: =IF(INDIRECT(ADDRESS(ROW()+30,SUM(RIGHT(CELL("filename",E4),2)*1,4),4,1,"F2"),1)="","",CONCATENATE(F2!$A38," ",F2!$B38)) -> AGENT 16
A9: =IF(INDIRECT(ADDRESS(ROW()+18,SUM(RIGHT(CELL("filename",E5),2)*1,4),4,1,"F2"),1)="","",CONCATENATE(F2!$A27," ",F2!$B27)) | E9: =IF(INDIRECT(ADDRESS(ROW()+30,SUM(RIGHT(CELL("filename",E5),2)*1,4),4,1,"F2"),1)="","",CONCATENATE(F2!$A39," ",F2!$B39)) -> AGENT 17
A10: =IF(INDIRECT(ADDRESS(ROW()+18,SUM(RIGHT(CELL("filename",E6),2)*1,4),4,1,"F2"),1)="","",CONCATENATE(F2!$A28," ",F2!$B28)) | E10: =IF(INDIRECT(ADDRESS(ROW()+30,SUM(RIGHT(CELL("filename",E6),2)*1,4),4,1,"F2"),1)="","",CONCATENATE(F2!$A40," ",F2!$B40)) -> AGENT 18
A11: =IF(INDIRECT(ADDRESS(ROW()+18,SUM(RIGHT(CELL("filename",E7),2)*1,4),4,1,"F2"),1)="","",CONCATENATE(F2!$A29," ",F2!$B29)) -> AGENT 7 | E11: =IF(INDIRECT(ADDRESS(ROW()+30,SUM(RIGHT(CELL("filename",E7),2)*1,4),4,1,"F2"),1)="","",CONCATENATE(F2!$A41," ",F2!$B41)) -> AGENT 19
A12: =IF(INDIRECT(ADDRESS(ROW()+18,SUM(RIGHT(CELL("filename",E8),2)*1,4),4,1,"F2"),1)="","",CONCATENATE(F2!$A30," ",F2!$B30)) -> AGENT 8 | E12: =IF(INDIRECT(ADDRESS(ROW()+30,SUM(RIGHT(CELL("filename",E8),2)*1,4),4,1,"F2"),1)="","",CONCATENATE(F2!$A42," ",F2!$B42)) -> AGENT 20
A13: =IF(INDIRECT(ADDRESS(ROW()+18,SUM(RIGHT(CELL("filename",E9),2)*1,4),4,1,"F2"),1)="","",CONCATENATE(F2!$A31," ",F2!$B31)) -> AGENT 9 | E13: =IF(INDIRECT(ADDRESS(ROW()+30,SUM(RIGHT(CELL("filename",E9),2)*1,4),4,1,"F2"),1)="","",CONCATENATE(F2!$A43," ",F2!$B43)) -> AGENT 21
A14: =IF(INDIRECT(ADDRESS(ROW()+18,SUM(RIGHT(CELL("filename",E10),2)*1,4),4,1,"F2"),1)="","",CONCATENATE(F2!$A32," ",F2!$B32)) -> AGENT 10 | E14: =IF(INDIRECT(ADDRESS(ROW()+30,SUM(RIGHT(CELL("filename",E10),2)*1,4),4,1,"F2"),1)="","",CONCATENATE(F2!$A44," ",F2!$B44))
A15: =IF(INDIRECT(ADDRESS(ROW()+18,SUM(RIGHT(CELL("filename",E11),2)*1,4),4,1,"F2"),1)="","",CONCATENATE(F2!$A33," ",F2!$B33)) -> AGENT 11 | E15: =IF(INDIRECT(ADDRESS(ROW()+30,SUM(RIGHT(CELL("filename",E11),2)*1,4),4,1,"F2"),1)="","",CONCATENATE(F2!$A45," ",F2!$B45)) -> AGENT 23
A16: =IF(INDIRECT(ADDRESS(ROW()+18,SUM(RIGHT(CELL("filename",E12),2)*1,4),4,1,"F2"),1)="","",CONCATENATE(F2!$A34," ",F2!$B34)) -> AGENT 12 | E16: =IF(INDIRECT(ADDRESS(ROW()+30,SUM(RIGHT(CELL("filename",E12),2)*1,4),4,1,"F2"),1)="","",CONCATENATE(F2!$A46," ",F2!$B46)) -> AGENT 24
A18: SAISONNIERS | B18: HEURE | C18: SIGNATURE | E18: STAGIAIRES | F18: HEURE | G18: SIGNATURE
A19: 3 | E19: 4
A20: =IF(INDIRECT(ADDRESS(ROW()-17,SUM(RIGHT(CELL("filename",E1),2)*1,4),4,1,"F2"),1)="","",CONCATENATE(F2!$A3," ",F2!$B3)) | E20: =IF(INDIRECT(ADDRESS(ROW()-7,SUM(RIGHT(CELL("filename",E1),2)*1,4),4,1,"F2"),1)="","",CONCATENATE(F2!$A13," ",F2!$B13)) -> STAGIAIRE 1
A21: =IF(INDIRECT(ADDRESS(ROW()-17,SUM(RIGHT(CELL("filename",E2),2)*1,4),4,1,"F2"),1)="","",CONCATENATE(F2!$A4," ",F2!$B4)) -> SAISONNIER 2 | E21: =IF(INDIRECT(ADDRESS(ROW()-7,SUM(RIGHT(CELL("filename",E2),2)*1,4),4,1,"F2"),1)="","",CONCATENATE(F2!$A14," ",F2!$B14)) -> STAGIAIRE 2
A22: =IF(INDIRECT(ADDRESS(ROW()-17,SUM(RIGHT(CELL("filename",E3),2)*1,4),4,1,"F2"),1)="","",CONCATENATE(F2!$A5," ",F2!$B5)) | E22: =IF(INDIRECT(ADDRESS(ROW()-7,SUM(RIGHT(CELL("filename",E3),2)*1,4),4,1,"F2"),1)="","",CONCATENATE(F2!$A15," ",F2!$B15)) -> STAGIAIRE 3
A23: =IF(INDIRECT(ADDRESS(ROW()-17,SUM(RIGHT(CELL("filename",E4),2)*1,4),4,1,"F2"),1)="","",CONCATENATE(F2!$A6," ",F2!$B6)) | E23: =IF(INDIRECT(ADDRESS(ROW()-7,SUM(RIGHT(CELL("filename",E4),2)*1,4),4,1,"F2"),1)="","",CONCATENATE(F2!$A16," ",F2!$B16))
A24: =IF(INDIRECT(ADDRESS(ROW()-17,SUM(RIGHT(CELL("filename",E5),2)*1,4),4,1,"F2"),1)="","",CONCATENATE(F2!$A7," ",F2!$B7)) -> SAISONNIER 5 | E24: =IF(INDIRECT(ADDRESS(ROW()-7,SUM(RIGHT(CELL("filename",E5),2)*1,4),4,1,"F2"),1)="","",CONCATENATE(F2!$A17," ",F2!$B17)) -> STAGIAIRE 5
A25: =IF(INDIRECT(ADDRESS(ROW()-17,SUM(RIGHT(CELL("filename",E6),2)*1,4),4,1,"F2"),1)="","",CONCATENATE(F2!$A8," ",F2!$B8)) -> SAISONNIER 6 | E25: =IF(INDIRECT(ADDRESS(ROW()-7,SUM(RIGHT(CELL("filename",E6),2)*1,4),4,1,"F2"),1)="","",CONCATENATE(F2!$A18," ",F2!$B18)) -> STAGIAIRE 6
A26: =IF(INDIRECT(ADDRESS(ROW()-17,SUM(RIGHT(CELL("filename",E7),2)*1,4),4,1,"F2"),1)="","",CONCATENATE(F2!$A9," ",F2!$B9)) -> SAISONNIER 7 | E26: =IF(INDIRECT(ADDRESS(ROW()-7,SUM(RIGHT(CELL("filename",E7),2)*1,4),4,1,"F2"),1)="","",CONCATENATE(F2!$A19," ",F2!$B19)) -> STAGIAIRE 7
A27: =IF(INDIRECT(ADDRESS(ROW()-17,SUM(RIGHT(CELL("filename",E8),2)*1,4),4,1,"F2"),1)="","",CONCATENATE(F2!$A10," ",F2!$B10)) -> SAISONNIER 8 | E27: =IF(INDIRECT(ADDRESS(ROW()-7,SUM(RIGHT(CELL("filename",E8),2)*1,4),4,1,"F2"),1)="","",CONCATENATE(F2!$A20," ",F2!$B20)) -> STAGIAIRE 8
A28: =IF(INDIRECT(ADDRESS(ROW()-17,SUM(RIGHT(CELL("filename",E9),2)*1,4),4,1,"F2"),1)="","",CONCATENATE(F2!$A11," ",F2!$B11)) | E28: =IF(INDIRECT(ADDRESS(ROW()-7,SUM(RIGHT(CELL("filename",E9),2)*1,4),4,1,"F2"),1)="","",CONCATENATE(F2!$A21," ",F2!$B21))
A29: =IF(INDIRECT(ADDRESS(ROW()-17,SUM(RIGHT(CELL("filename",E10),2)*1,4),4,1,"F2"),1)="","",CONCATENATE(F2!$A12," ",F2!$B12)) | E29: =IF(INDIRECT(ADDRESS(ROW()-7,SUM(RIGHT(CELL("filename",E10),2)*1,4),4,1,"F2"),1)="","",CONCATENATE(F2!$A22," ",F2!$B22))

Sheet 05
A1: ="EMARGEMENT CONTRACTUELS "&UPPER(TEXT(F2!E1,"mmm aaaa")) -> EMARGEMENT CONTRACTUELS JUIL. 2018
A2: =DATE(YEAR(F2!E1),MONTH(F2!E1),DAY(SUM(RIGHT(CELL("filename",E1),2)*1,1))) -> 43286
A3: CONTRACTUELS | B3: HEURE | C3: SIGNATURE | E3: CONTRACTUELS | F3: HEURE | G3: SIGNATURE
A4: 1 | E4: 2
A5: =IF(INDIRECT(ADDRESS(ROW()+18,SUM(RIGHT(CELL("filename",E1),2)*1,4),4,1,"F2"),1)="","",CONCATENATE(F2!$A23," ",F2!$B23)) -> AGENT 1 | E5: =IF(INDIRECT(ADDRESS(ROW()+30,SUM(RIGHT(CELL("filename",E1),2)*1,4),4,1,"F2"),1)="","",CONCATENATE(F2!$A35," ",F2!$B35)) -> AGENT 13
A6: =IF(INDIRECT(ADDRESS(ROW()+18,SUM(RIGHT(CELL("filename",E2),2)*1,4),4,1,"F2"),1)="","",CONCATENATE(F2!$A24," ",F2!$B24)) -> AGENT 2 | E6: =IF(INDIRECT(ADDRESS(ROW()+30,SUM(RIGHT(CELL("filename",E2),2)*1,4),4,1,"F2"),1)="","",CONCATENATE(F2!$A36," ",F2!$B36)) -> AGENT 14
A7: =IF(INDIRECT(ADDRESS(ROW()+18,SUM(RIGHT(CELL("filename",E3),2)*1,4),4,1,"F2"),1)="","",CONCATENATE(F2!$A25," ",F2!$B25)) -> AGENT 3 | E7: =IF(INDIRECT(ADDRESS(ROW()+30,SUM(RIGHT(CELL("filename",E3),2)*1,4),4,1,"F2"),1)="","",CONCATENATE(F2!$A37," ",F2!$B37)) -> AGENT 15
A8: =IF(INDIRECT(ADDRESS(ROW()+18,SUM(RIGHT(CELL("filename",E4),2)*1,4),4,1,"F2"),1)="","",CONCATENATE(F2!$A26," ",F2!$B26)) -> AGENT 4 | E8: =IF(INDIRECT(ADDRESS(ROW()+30,SUM(RIGHT(CELL("filename",E4),2)*1,4),4,1,"F2"),1)="","",CONCATENATE(F2!$A38," ",F2!$B38)) -> AGENT 16
A9: =IF(INDIRECT(ADDRESS(ROW()+18,SUM(RIGHT(CELL("filename",E5),2)*1,4),4,1,"F2"),1)="","",CONCATENATE(F2!$A27," ",F2!$B27)) | E9: =IF(INDIRECT(ADDRESS(ROW()+30,SUM(RIGHT(CELL("filename",E5),2)*1,4),4,1,"F2"),1)="","",CONCATENATE(F2!$A39," ",F2!$B39)) -> AGENT 17
A10: =IF(INDIRECT(ADDRESS(ROW()+18,SUM(RIGHT(CELL("filename",E6),2)*1,4),4,1,"F2"),1)="","",CONCATENATE(F2!$A28," ",F2!$B28)) | E10: =IF(INDIRECT(ADDRESS(ROW()+30,SUM(RIGHT(CELL("filename",E6),2)*1,4),4,1,"F2"),1)="","",CONCATENATE(F2!$A40," ",F2!$B40)) -> AGENT 18
A11: =IF(INDIRECT(ADDRESS(ROW()+18,SUM(RIGHT(CELL("filename",E7),2)*1,4),4,1,"F2"),1)="","",CONCATENATE(F2!$A29," ",F2!$B29)) -> AGENT 7 | E11: =IF(INDIRECT(ADDRESS(ROW()+30,SUM(RIGHT(CELL("filename",E7),2)*1,4),4,1,"F2"),1)="","",CONCATENATE(F2!$A41," ",F2!$B41)) -> AGENT 19
A12: =IF(INDIRECT(ADDRESS(ROW()+18,SUM(RIGHT(CELL("filename",E8),2)*1,4),4,1,"F2"),1)="","",CONCATENATE(F2!$A30," ",F2!$B30)) -> AGENT 8 | E12: =IF(INDIRECT(ADDRESS(ROW()+30,SUM(RIGHT(CELL("filename",E8),2)*1,4),4,1,"F2"),1)="","",CONCATENATE(F2!$A42," ",F2!$B42)) -> AGENT 20
A13: =IF(INDIRECT(ADDRESS(ROW()+18,SUM(RIGHT(CELL("filename",E9),2)*1,4),4,1,"F2"),1)="","",CONCATENATE(F2!$A31," ",F2!$B31)) -> AGENT 9 | E13: =IF(INDIRECT(ADDRESS(ROW()+30,SUM(RIGHT(CELL("filename",E9),2)*1,4),4,1,"F2"),1)="","",CONCATENATE(F2!$A43," ",F2!$B43)) -> AGENT 21
A14: =IF(INDIRECT(ADDRESS(ROW()+18,SUM(RIGHT(CELL("filename",E10),2)*1,4),4,1,"F2"),1)="","",CONCATENATE(F2!$A32," ",F2!$B32)) -> AGENT 10 | E14: =IF(INDIRECT(ADDRESS(ROW()+30,SUM(RIGHT(CELL("filename",E10),2)*1,4),4,1,"F2"),1)="","",CONCATENATE(F2!$A44," ",F2!$B44))
A15: =IF(INDIRECT(ADDRESS(ROW()+18,SUM(RIGHT(CELL("filename",E11),2)*1,4),4,1,"F2"),1)="","",CONCATENATE(F2!$A33," ",F2!$B33)) -> AGENT 11 | E15: =IF(INDIRECT(ADDRESS(ROW()+30,SUM(RIGHT(CELL("filename",E11),2)*1,4),4,1,"F2"),1)="","",CONCATENATE(F2!$A45," ",F2!$B45)) -> AGENT 23
A16: =IF(INDIRECT(ADDRESS(ROW()+18,SUM(RIGHT(CELL("filename",E12),2)*1,4),4,1,"F2"),1)="","",CONCATENATE(F2!$A34," ",F2!$B34)) -> AGENT 12 | E16: =IF(INDIRECT(ADDRESS(ROW()+30,SUM(RIGHT(CELL("filename",E12),2)*1,4),4,1,"F2"),1)="","",CONCATENATE(F2!$A46," ",F2!$B46)) -> AGENT 24
A18: SAISONNIERS | B18: HEURE | C18: SIGNATURE | E18: STAGIAIRES | F18: HEURE | G18: SIGNATURE
A19: 3 | E19: 4
A20: =IF(INDIRECT(ADDRESS(ROW()-17,SUM(RIGHT(CELL("filename",E1),2)*1,4),4,1,"F2"),1)="","",CONCATENATE(F2!$A3," ",F2!$B3)) | E20: =IF(INDIRECT(ADDRESS(ROW()-7,SUM(RIGHT(CELL("filename",E1),2)*1,4),4,1,"F2"),1)="","",CONCATENATE(F2!$A13," ",F2!$B13)) -> STAGIAIRE 1
A21: =IF(INDIRECT(ADDRESS(ROW()-17,SUM(RIGHT(CELL("filename",E2),2)*1,4),4,1,"F2"),1)="","",CONCATENATE(F2!$A4," ",F2!$B4)) -> SAISONNIER 2 | E21: =IF(INDIRECT(ADDRESS(ROW()-7,SUM(RIGHT(CELL("filename",E2),2)*1,4),4,1,"F2"),1)="","",CONCATENATE(F2!$A14," ",F2!$B14)) -> STAGIAIRE 2
A22: =IF(INDIRECT(ADDRESS(ROW()-17,SUM(RIGHT(CELL("filename",E3),2)*1,4),4,1,"F2"),1)="","",CONCATENATE(F2!$A5," ",F2!$B5)) | E22: =IF(INDIRECT(ADDRESS(ROW()-7,SUM(RIGHT(CELL("filename",E3),2)*1,4),4,1,"F2"),1)="","",CONCATENATE(F2!$A15," ",F2!$B15)) -> STAGIAIRE 3
A23: =IF(INDIRECT(ADDRESS(ROW()-17,SUM(RIGHT(CELL("filename",E4),2)*1,4),4,1,"F2"),1)="","",CONCATENATE(F2!$A6," ",F2!$B6)) | E23: =IF(INDIRECT(ADDRESS(ROW()-7,SUM(RIGHT(CELL("filename",E4),2)*1,4),4,1,"F2"),1)="","",CONCATENATE(F2!$A16," ",F2!$B16))
A24: =IF(INDIRECT(ADDRESS(ROW()-17,SUM(RIGHT(CELL("filename",E5),2)*1,4),4,1,"F2"),1)="","",CONCATENATE(F2!$A7," ",F2!$B7)) -> SAISONNIER 5 | E24: =IF(INDIRECT(ADDRESS(ROW()-7,SUM(RIGHT(CELL("filename",E5),2)*1,4),4,1,"F2"),1)="","",CONCATENATE(F2!$A17," ",F2!$B17)) -> STAGIAIRE 5
A25: =IF(INDIRECT(ADDRESS(ROW()-17,SUM(RIGHT(CELL("filename",E6),2)*1,4),4,1,"F2"),1)="","",CONCATENATE(F2!$A8," ",F2!$B8)) -> SAISONNIER 6 | E25: =IF(INDIRECT(ADDRESS(ROW()-7,SUM(RIGHT(CELL("filename",E6),2)*1,4),4,1,"F2"),1)="","",CONCATENATE(F2!$A18," ",F2!$B18)) -> STAGIAIRE 6
A26: =IF(INDIRECT(ADDRESS(ROW()-17,SUM(RIGHT(CELL("filename",E7),2)*1,4),4,1,"F2"),1)="","",CONCATENATE(F2!$A9," ",F2!$B9)) -> SAISONNIER 7 | E26: =IF(INDIRECT(ADDRESS(ROW()-7,SUM(RIGHT(CELL("filename",E7),2)*1,4),4,1,"F2"),1)="","",CONCATENATE(F2!$A19," ",F2!$B19)) -> STAGIAIRE 7
A27: =IF(INDIRECT(ADDRESS(ROW()-17,SUM(RIGHT(CELL("filename",E8),2)*1,4),4,1,"F2"),1)="","",CONCATENATE(F2!$A10," ",F2!$B10)) -> SAISONNIER 8 | E27: =IF(INDIRECT(ADDRESS(ROW()-7,SUM(RIGHT(CELL("filename",E8),2)*1,4),4,1,"F2"),1)="","",CONCATENATE(F2!$A20," ",F2!$B20)) -> STAGIAIRE 8
A28: =IF(INDIRECT(ADDRESS(ROW()-17,SUM(RIGHT(CELL("filename",E9),2)*1,4),4,1,"F2"),1)="","",CONCATENATE(F2!$A11," ",F2!$B11)) | E28: =IF(INDIRECT(ADDRESS(ROW()-7,SUM(RIGHT(CELL("filename",E9),2)*1,4),4,1,"F2"),1)="","",CONCATENATE(F2!$A21," ",F2!$B21))
A29: =IF(INDIRECT(ADDRESS(ROW()-17,SUM(RIGHT(CELL("filename",E10),2)*1,4),4,1,"F2"),1)="","",CONCATENATE(F2!$A12," ",F2!$B12)) | E29: =IF(INDIRECT(ADDRESS(ROW()-7,SUM(RIGHT(CELL("filename",E10),2)*1,4),4,1,"F2"),1)="","",CONCATENATE(F2!$A22," ",F2!$B22))

Sheet 06
A1: ="EMARGEMENT CONTRACTUELS "&UPPER(TEXT(F2!E1,"mmm aaaa")) -> EMARGEMENT CONTRACTUELS JUIL. 2018
A2: =DATE(YEAR(F2!E1),MONTH(F2!E1),DAY(SUM(RIGHT(CELL("filename",E1),2)*1,1))) -> 43287
A3: CONTRACTUELS | B3: HEURE | C3: SIGNATURE | E3: CONTRACTUELS | F3: HEURE | G3: SIGNATURE
A4: 1 | E4: 2
A5: =IF(INDIRECT(ADDRESS(ROW()+18,SUM(RIGHT(CELL("filename",E1),2)*1,4),4,1,"F2"),1)="","",CONCATENATE(F2!$A23," ",F2!$B23)) -> AGENT 1 | E5: =IF(INDIRECT(ADDRESS(ROW()+30,SUM(RIGHT(CELL("filename",E1),2)*1,4),4,1,"F2"),1)="","",CONCATENATE(F2!$A35," ",F2!$B35)) -> AGENT 13
A6: =IF(INDIRECT(ADDRESS(ROW()+18,SUM(RIGHT(CELL("filename",E2),2)*1,4),4,1,"F2"),1)="","",CONCATENATE(F2!$A24," ",F2!$B24)) -> AGENT 2 | E6: =IF(INDIRECT(ADDRESS(ROW()+30,SUM(RIGHT(CELL("filename",E2),2)*1,4),4,1,"F2"),1)="","",CONCATENATE(F2!$A36," ",F2!$B36)) -> AGENT 14
A7: =IF(INDIRECT(ADDRESS(ROW()+18,SUM(RIGHT(CELL("filename",E3),2)*1,4),4,1,"F2"),1)="","",CONCATENATE(F2!$A25," ",F2!$B25)) -> AGENT 3 | E7: =IF(INDIRECT(ADDRESS(ROW()+30,SUM(RIGHT(CELL("filename",E3),2)*1,4),4,1,"F2"),1)="","",CONCATENATE(F2!$A37," ",F2!$B37)) -> AGENT 15
A8: =IF(INDIRECT(ADDRESS(ROW()+18,SUM(RIGHT(CELL("filename",E4),2)*1,4),4,1,"F2"),1)="","",CONCATENATE(F2!$A26," ",F2!$B26)) -> AGENT 4 | E8: =IF(INDIRECT(ADDRESS(ROW()+30,SUM(RIGHT(CELL("filename",E4),2)*1,4),4,1,"F2"),1)="","",CONCATENATE(F2!$A38," ",F2!$B38)) -> AGENT 16
A9: =IF(INDIRECT(ADDRESS(ROW()+18,SUM(RIGHT(CELL("filename",E5),2)*1,4),4,1,"F2"),1)="","",CONCATENATE(F2!$A27," ",F2!$B27)) | E9: =IF(INDIRECT(ADDRESS(ROW()+30,SUM(RIGHT(CELL("filename",E5),2)*1,4),4,1,"F2"),1)="","",CONCATENATE(F2!$A39," ",F2!$B39)) -> AGENT 17
A10: =IF(INDIRECT(ADDRESS(ROW()+18,SUM(RIGHT(CELL("filename",E6),2)*1,4),4,1,"F2"),1)="","",CONCATENATE(F2!$A28," ",F2!$B28)) | E10: =IF(INDIRECT(ADDRESS(ROW()+30,SUM(RIGHT(CELL("filename",E6),2)*1,4),4,1,"F2"),1)="","",CONCATENATE(F2!$A40," ",F2!$B40)) -> AGENT 18
A11: =IF(INDIRECT(ADDRESS(ROW()+18,SUM(RIGHT(CELL("filename",E7),2)*1,4),4,1,"F2"),1)="","",CONCATENATE(F2!$A29," ",F2!$B29)) -> AGENT 7 | E11: =IF(INDIRECT(ADDRESS(ROW()+30,SUM(RIGHT(CELL("filename",E7),2)*1,4),4,1,"F2"),1)="","",CONCATENATE(F2!$A41," ",F2!$B41)) -> AGENT 19
A12: =IF(INDIRECT(ADDRESS(ROW()+18,SUM(RIGHT(CELL("filename",E8),2)*1,4),4,1,"F2"),1)="","",CONCATENATE(F2!$A30," ",F2!$B30)) -> AGENT 8 | E12: =IF(INDIRECT(ADDRESS(ROW()+30,SUM(RIGHT(CELL("filename",E8),2)*1,4),4,1,"F2"),1)="","",CONCATENATE(F2!$A42," ",F2!$B42)) -> AGENT 20
A13: =IF(INDIRECT(ADDRESS(ROW()+18,SUM(RIGHT(CELL("filename",E9),2)*1,4),4,1,"F2"),1)="","",CONCATENATE(F2!$A31," ",F2!$B31)) -> AGENT 9 | E13: =IF(INDIRECT(ADDRESS(ROW()+30,SUM(RIGHT(CELL("filename",E9),2)*1,4),4,1,"F2"),1)="","",CONCATENATE(F2!$A43," ",F2!$B43)) -> AGENT 21
A14: =IF(INDIRECT(ADDRESS(ROW()+18,SUM(RIGHT(CELL("filename",E10),2)*1,4),4,1,"F2"),1)="","",CONCATENATE(F2!$A32," ",F2!$B32)) -> AGENT 10 | E14: =IF(INDIRECT(ADDRESS(ROW()+30,SUM(RIGHT(CELL("filename",E10),2)*1,4),4,1,"F2"),1)="","",CONCATENATE(F2!$A44," ",F2!$B44))
A15: =IF(INDIRECT(ADDRESS(ROW()+18,SUM(RIGHT(CELL("filename",E11),2)*1,4),4,1,"F2"),1)="","",CONCATENATE(F2!$A33," ",F2!$B33)) -> AGENT 11 | E15: =IF(INDIRECT(ADDRESS(ROW()+30,SUM(RIGHT(CELL("filename",E11),2)*1,4),4,1,"F2"),1)="","",CONCATENATE(F2!$A45," ",F2!$B45)) -> AGENT 23
A16: =IF(INDIRECT(ADDRESS(ROW()+18,SUM(RIGHT(CELL("filename",E12),2)*1,4),4,1,"F2"),1)="","",CONCATENATE(F2!$A34," ",F2!$B34)) -> AGENT 12 | E16: =IF(INDIRECT(ADDRESS(ROW()+30,SUM(RIGHT(CELL("filename",E12),2)*1,4),4,1,"F2"),1)="","",CONCATENATE(F2!$A46," ",F2!$B46)) -> AGENT 24
A18: SAISONNIERS | B18: HEURE | C18: SIGNATURE | E18: STAGIAIRES | F18: HEURE | G18: SIGNATURE
A19: 3 | E19: 4
A20: =IF(INDIRECT(ADDRESS(ROW()-17,SUM(RIGHT(CELL("filename",E1),2)*1,4),4,1,"F2"),1)="","",CONCATENATE(F2!$A3," ",F2!$B3)) | E20: =IF(INDIRECT(ADDRESS(ROW()-7,SUM(RIGHT(CELL("filename",E1),2)*1,4),4,1,"F2"),1)="","",CONCATENATE(F2!$A13," ",F2!$B13)) -> STAGIAIRE 1
A21: =IF(INDIRECT(ADDRESS(ROW()-17,SUM(RIGHT(CELL("filename",E2),2)*1,4),4,1,"F2"),1)="","",CONCATENATE(F2!$A4," ",F2!$B4)) -> SAISONNIER 2 | E21: =IF(INDIRECT(ADDRESS(ROW()-7,SUM(RIGHT(CELL("filename",E2),2)*1,4),4,1,"F2"),1)="","",CONCATENATE(F2!$A14," ",F2!$B14)) -> STAGIAIRE 2
A22: =IF(INDIRECT(ADDRESS(ROW()-17,SUM(RIGHT(CELL("filename",E3),2)*1,4),4,1,"F2"),1)="","",CONCATENATE(F2!$A5," ",F2!$B5)) | E22: =IF(INDIRECT(ADDRESS(ROW()-7,SUM(RIGHT(CELL("filename",E3),2)*1,4),4,1,"F2"),1)="","",CONCATENATE(F2!$A15," ",F2!$B15)) -> STAGIAIRE 3
A23: =IF(INDIRECT(ADDRESS(ROW()-17,SUM(RIGHT(CELL("filename",E4),2)*1,4),4,1,"F2"),1)="","",CONCATENATE(F2!$A6," ",F2!$B6)) | E23: =IF(INDIRECT(ADDRESS(ROW()-7,SUM(RIGHT(CELL("filename",E4),2)*1,4),4,1,"F2"),1)="","",CONCATENATE(F2!$A16," ",F2!$B16)) -> STAGIAIRE 4
A24: =IF(INDIRECT(ADDRESS(ROW()-17,SUM(RIGHT(CELL("filename",E5),2)*1,4),4,1,"F2"),1)="","",CONCATENATE(F2!$A7," ",F2!$B7)) -> SAISONNIER 5 | E24: =IF(INDIRECT(ADDRESS(ROW()-7,SUM(RIGHT(CELL("filename",E5),2)*1,4),4,1,"F2"),1)="","",CONCATENATE(F2!$A17," ",F2!$B17)) -> STAGIAIRE 5
A25: =IF(INDIRECT(ADDRESS(ROW()-17,SUM(RIGHT(CELL("filename",E6),2)*1,4),4,1,"F2"),1)="","",CONCATENATE(F2!$A8," ",F2!$B8)) -> SAISONNIER 6 | E25: =IF(INDIRECT(ADDRESS(ROW()-7,SUM(RIGHT(CELL("filename",E6),2)*1,4),4,1,"F2"),1)="","",CONCATENATE(F2!$A18," ",F2!$B18)) -> STAGIAIRE 6
A26: =IF(INDIRECT(ADDRESS(ROW()-17,SUM(RIGHT(CELL("filename",E7),2)*1,4),4,1,"F2"),1)="","",CONCATENATE(F2!$A9," ",F2!$B9)) -> SAISONNIER 7 | E26: =IF(INDIRECT(ADDRESS(ROW()-7,SUM(RIGHT(CELL("filename",E7),2)*1,4),4,1,"F2"),1)="","",CONCATENATE(F2!$A19," ",F2!$B19)) -> STAGIAIRE 7
A27: =IF(INDIRECT(ADDRESS(ROW()-17,SUM(RIGHT(CELL("filename",E8),2)*1,4),4,1,"F2"),1)="","",CONCATENATE(F2!$A10," ",F2!$B10)) -> SAISONNIER 8 | E27: =IF(INDIRECT(ADDRESS(ROW()-7,SUM(RIGHT(CELL("filename",E8),2)*1,4),4,1,"F2"),1)="","",CONCATENATE(F2!$A20," ",F2!$B20)) -> STAGIAIRE 8
A28: =IF(INDIRECT(ADDRESS(ROW()-17,SUM(RIGHT(CELL("filename",E9),2)*1,4),4,1,"F2"),1)="","",CONCATENATE(F2!$A11," ",F2!$B11)) | E28: =IF(INDIRECT(ADDRESS(ROW()-7,SUM(RIGHT(CELL("filename",E9),2)*1,4),4,1,"F2"),1)="","",CONCATENATE(F2!$A21," ",F2!$B21))
A29: =IF(INDIRECT(ADDRESS(ROW()-17,SUM(RIGHT(CELL("filename",E10),2)*1,4),4,1,"F2"),1)="","",CONCATENATE(F2!$A12," ",F2!$B12)) | E29: =IF(INDIRECT(ADDRESS(ROW()-7,SUM(RIGHT(CELL("filename",E10),2)*1,4),4,1,"F2"),1)="","",CONCATENATE(F2!$A22," ",F2!$B22))

Sheet 07
A1: ="EMARGEMENT CONTRACTUELS "&UPPER(TEXT(F2!E1,"mmm aaaa")) -> EMARGEMENT CONTRACTUELS JUIL. 2018
A2: =DATE(YEAR(F2!E1),MONTH(F2!E1),DAY(SUM(RIGHT(CELL("filename",E1),2)*1,1))) -> 43288
A3: CONTRACTUELS | B3: HEURE | C3: SIGNATURE | E3: CONTRACTUELS | F3: HEURE | G3: SIGNATURE
A4: 1 | E4: 2
A5: =IF(INDIRECT(ADDRESS(ROW()+18,SUM(RIGHT(CELL("filename",E1),2)*1,4),4,1,"F2"),1)="","",CONCATENATE(F2!$A23," ",F2!$B23)) | E5: =IF(INDIRECT(ADDRESS(ROW()+30,SUM(RIGHT(CELL("filename",E1),2)*1,4),4,1,"F2"),1)="","",CONCATENATE(F2!$A35," ",F2!$B35))
A6: =IF(INDIRECT(ADDRESS(ROW()+18,SUM(RIGHT(CELL("filename",E2),2)*1,4),4,1,"F2"),1)="","",CONCATENATE(F2!$A24," ",F2!$B24)) | E6: =IF(INDIRECT(ADDRESS(ROW()+30,SUM(RIGHT(CELL("filename",E2),2)*1,4),4,1,"F2"),1)="","",CONCATENATE(F2!$A36," ",F2!$B36))
A7: =IF(INDIRECT(ADDRESS(ROW()+18,SUM(RIGHT(CELL("filename",E3),2)*1,4),4,1,"F2"),1)="","",CONCATENATE(F2!$A25," ",F2!$B25)) | E7: =IF(INDIRECT(ADDRESS(ROW()+30,SUM(RIGHT(CELL("filename",E3),2)*1,4),4,1,"F2"),1)="","",CONCATENATE(F2!$A37," ",F2!$B37))
A8: =IF(INDIRECT(ADDRESS(ROW()+18,SUM(RIGHT(CELL("filename",E4),2)*1,4),4,1,"F2"),1)="","",CONCATENATE(F2!$A26," ",F2!$B26)) | E8: =IF(INDIRECT(ADDRESS(ROW()+30,SUM(RIGHT(CELL("filename",E4),2)*1,4),4,1,"F2"),1)="","",CONCATENATE(F2!$A38," ",F2!$B38))
A9: =IF(INDIRECT(ADDRESS(ROW()+18,SUM(RIGHT(CELL("filename",E5),2)*1,4),4,1,"F2"),1)="","",CONCATENATE(F2!$A27," ",F2!$B27)) | E9: =IF(INDIRECT(ADDRESS(ROW()+30,SUM(RIGHT(CELL("filename",E5),2)*1,4),4,1,"F2"),1)="","",CONCATENATE(F2!$A39," ",F2!$B39))
A10: =IF(INDIRECT(ADDRESS(ROW()+18,SUM(RIGHT(CELL("filename",E6),2)*1,4),4,1,"F2"),1)="","",CONCATENATE(F2!$A28," ",F2!$B28)) | E10: =IF(INDIRECT(ADDRESS(ROW()+30,SUM(RIGHT(CELL("filename",E6),2)*1,4),4,1,"F2"),1)="","",CONCATENATE(F2!$A40," ",F2!$B40))
A11: =IF(INDIRECT(ADDRESS(ROW()+18,SUM(RIGHT(CELL("filename",E7),2)*1,4),4,1,"F2"),1)="","",CONCATENATE(F2!$A29," ",F2!$B29)) | E11: =IF(INDIRECT(ADDRESS(ROW()+30,SUM(RIGHT(CELL("filename",E7),2)*1,4),4,1,"F2"),1)="","",CONCATENATE(F2!$A41," ",F2!$B41))
A12: =IF(INDIRECT(ADDRESS(ROW()+18,SUM(RIGHT(CELL("filename",E8),2)*1,4),4,1,"F2"),1)="","",CONCATENATE(F2!$A30," ",F2!$B30)) | E12: =IF(INDIRECT(ADDRESS(ROW()+30,SUM(RIGHT(CELL("filename",E8),2)*1,4),4,1,"F2"),1)="","",CONCATENATE(F2!$A42," ",F2!$B42))
A13: =IF(INDIRECT(ADDRESS(ROW()+18,SUM(RIGHT(CELL("filename",E9),2)*1,4),4,1,"F2"),1)="","",CONCATENATE(F2!$A31," ",F2!$B31)) | E13: =IF(INDIRECT(ADDRESS(ROW()+30,SUM(RIGHT(CELL("filename",E9),2)*1,4),4,1,"F2"),1)="","",CONCATENATE(F2!$A43," ",F2!$B43))
A14: =IF(INDIRECT(ADDRESS(ROW()+18,SUM(RIGHT(CELL("filename",E10),2)*1,4),4,1,"F2"),1)="","",CONCATENATE(F2!$A32," ",F2!$B32)) | E14: =IF(INDIRECT(ADDRESS(ROW()+30,SUM(RIGHT(CELL("filename",E10),2)*1,4),4,1,"F2"),1)="","",CONCATENATE(F2!$A44," ",F2!$B44))
A15: =IF(INDIRECT(ADDRESS(ROW()+18,SUM(RIGHT(CELL("filename",E11),2)*1,4),4,1,"F2"),1)="","",CONCATENATE(F2!$A33," ",F2!$B33)) | E15: =IF(INDIRECT(ADDRESS(ROW()+30,SUM(RIGHT(CELL("filename",E11),2)*1,4),4,1,"F2"),1)="","",CONCATENATE(F2!$A45," ",F2!$B45))
A16: =IF(INDIRECT(ADDRESS(ROW()+18,SUM(RIGHT(CELL("filename",E12),2)*1,4),4,1,"F2"),1)="","",CONCATENATE(F2!$A34," ",F2!$B34)) | E16: =IF(INDIRECT(ADDRESS(ROW()+30,SUM(RIGHT(CELL("filename",E12),2)*1,4),4,1,"F2"),1)="","",CONCATENATE(F2!$A46," ",F2!$B46))
A18: SAISONNIERS | B18: HEURE | C18: SIGNATURE | E18: STAGIAIRES | F18: HEURE | G18: SIGNATURE
A19: 3 | E19: 4
A20: =IF(INDIRECT(ADDRESS(ROW()-17,SUM(RIGHT(CELL("filename",E1),2)*1,4),4,1,"F2"),1)="","",CONCATENATE(F2!$A3," ",F2!$B3)) | E20: =IF(INDIRECT(ADDRESS(ROW()-7,SUM(RIGHT(CELL("filename",E1),2)*1,4),4,1,"F2"),1)="","",CONCATENATE(F2!$A13," ",F2!$B13))
A21: =IF(INDIRECT(ADDRESS(ROW()-17,SUM(RIGHT(CELL("filename",E2),2)*1,4),4,1,"F2"),1)="","",CONCATENATE(F2!$A4," ",F2!$B4)) | E21: =IF(INDIRECT(ADDRESS(ROW()-7,SUM(RIGHT(CELL("filename",E2),2)*1,4),4,1,"F2"),1)="","",CONCATENATE(F2!$A14," ",F2!$B14))
A22: =IF(INDIRECT(ADDRESS(ROW()-17,SUM(RIGHT(CELL("filename",E3),2)*1,4),4,1,"F2"),1)="","",CONCATENATE(F2!$A5," ",F2!$B5)) | E22: =IF(INDIRECT(ADDRESS(ROW()-7,SUM(RIGHT(CELL("filename",E3),2)*1,4),4,1,"F2"),1)="","",CONCATENATE(F2!$A15," ",F2!$B15))
A23: =IF(INDIRECT(ADDRESS(ROW()-17,SUM(RIGHT(CELL("filename",E4),2)*1,4),4,1,"F2"),1)="","",CONCATENATE(F2!$A6," ",F2!$B6)) | E23: =IF(INDIRECT(ADDRESS(ROW()-7,SUM(RIGHT(CELL("filename",E4),2)*1,4),4,1,"F2"),1)="","",CONCATENATE(F2!$A16," ",F2!$B16))
A24: =IF(INDIRECT(ADDRESS(ROW()-17,SUM(RIGHT(CELL("filename",E5),2)*1,4),4,1,"F2"),1)="","",CONCATENATE(F2!$A7," ",F2!$B7)) | E24: =IF(INDIRECT(ADDRESS(ROW()-7,SUM(RIGHT(CELL("filename",E5),2)*1,4),4,1,"F2"),1)="","",CONCATENATE(F2!$A17," ",F2!$B17))
A25: =IF(INDIRECT(ADDRESS(ROW()-17,SUM(RIGHT(CELL("filename",E6),2)*1,4),4,1,"F2"),1)="","",CONCATENATE(F2!$A8," ",F2!$B8)) | E25: =IF(INDIRECT(ADDRESS(ROW()-7,SUM(RIGHT(CELL("filename",E6),2)*1,4),4,1,"F2"),1)="","",CONCATENATE(F2!$A18," ",F2!$B18))
A26: =IF(INDIRECT(ADDRESS(ROW()-17,SUM(RIGHT(CELL("filename",E7),2)*1,4),4,1,"F2"),1)="","",CONCATENATE(F2!$A9," ",F2!$B9)) | E26: =IF(INDIRECT(ADDRESS(ROW()-7,SUM(RIGHT(CELL("filename",E7),2)*1,4),4,1,"F2"),1)="","",CONCATENATE(F2!$A19," ",F2!$B19))
A27: =IF(INDIRECT(ADDRESS(ROW()-17,SUM(RIGHT(CELL("filename",E8),2)*1,4),4,1,"F2"),1)="","",CONCATENATE(F2!$A10," ",F2!$B10)) | E27: =IF(INDIRECT(ADDRESS(ROW()-7,SUM(RIGHT(CELL("filename",E8),2)*1,4),4,1,"F2"),1)="","",CONCATENATE(F2!$A20," ",F2!$B20))
A28: =IF(INDIRECT(ADDRESS(ROW()-17,SUM(RIGHT(CELL("filename",E9),2)*1,4),4,1,"F2"),1)="","",CONCATENATE(F2!$A11," ",F2!$B11)) | E28: =IF(INDIRECT(ADDRESS(ROW()-7,SUM(RIGHT(CELL("filename",E9),2)*1,4),4,1,"F2"),1)="","",CONCATENATE(F2!$A21," ",F2!$B21))
A29: =IF(INDIRECT(ADDRESS(ROW()-17,SUM(RIGHT(CELL("filename",E10),2)*1,4),4,1,"F2"),1)="","",CONCATENATE(F2!$A12," ",F2!$B12)) | E29: =IF(INDIRECT(ADDRESS(ROW()-7,SUM(RIGHT(CELL("filename",E10),2)*1,4),4,1,"F2"),1)="","",CONCATENATE(F2!$A22," ",F2!$B22))

Sheet 08
A1: ="EMARGEMENT CONTRACTUELS "&UPPER(TEXT(F2!E1,"mmm aaaa")) -> EMARGEMENT CONTRACTUELS JUIL. 2018
A2: =DATE(YEAR(F2!E1),MONTH(F2!E1),DAY(SUM(RIGHT(CELL("filename",E1),2)*1,1))) -> 43289
A3: CONTRACTUELS | B3: HEURE | C3: SIGNATURE | E3: CONTRACTUELS | F3: HEURE | G3: SIGNATURE
A4: 1 | E4: 2
A5: =IF(INDIRECT(ADDRESS(ROW()+18,SUM(RIGHT(CELL("filename",E1),2)*1,4),4,1,"F2"),1)="","",CONCATENATE(F2!$A23," ",F2!$B23)) | E5: =IF(INDIRECT(ADDRESS(ROW()+30,SUM(RIGHT(CELL("filename",E1),2)*1,4),4,1,"F2"),1)="","",CONCATENATE(F2!$A35," ",F2!$B35))
A6: =IF(INDIRECT(ADDRESS(ROW()+18,SUM(RIGHT(CELL("filename",E2),2)*1,4),4,1,"F2"),1)="","",CONCATENATE(F2!$A24," ",F2!$B24)) | E6: =IF(INDIRECT(ADDRESS(ROW()+30,SUM(RIGHT(CELL("filename",E2),2)*1,4),4,1,"F2"),1)="","",CONCATENATE(F2!$A36," ",F2!$B36))
A7: =IF(INDIRECT(ADDRESS(ROW()+18,SUM(RIGHT(CELL("filename",E3),2)*1,4),4,1,"F2"),1)="","",CONCATENATE(F2!$A25," ",F2!$B25)) | E7: =IF(INDIRECT(ADDRESS(ROW()+30,SUM(RIGHT(CELL("filename",E3),2)*1,4),4,1,"F2"),1)="","",CONCATENATE(F2!$A37," ",F2!$B37))
A8: =IF(INDIRECT(ADDRESS(ROW()+18,SUM(RIGHT(CELL("filename",E4),2)*1,4),4,1,"F2"),1)="","",CONCATENATE(F2!$A26," ",F2!$B26)) | E8: =IF(INDIRECT(ADDRESS(ROW()+30,SUM(RIGHT(CELL("filename",E4),2)*1,4),4,1,"F2"),1)="","",CONCATENATE(F2!$A38," ",F2!$B38))
A9: =IF(INDIRECT(ADDRESS(ROW()+18,SUM(RIGHT(CELL("filename",E5),2)*1,4),4,1,"F2"),1)="","",CONCATENATE(F2!$A27," ",F2!$B27)) | E9: =IF(INDIRECT(ADDRESS(ROW()+30,SUM(RIGHT(CELL("filename",E5),2)*1,4),4,1,"F2"),1)="","",CONCATENATE(F2!$A39," ",F2!$B39))
A10: =IF(INDIRECT(ADDRESS(ROW()+18,SUM(RIGHT(CELL("filename",E6),2)*1,4),4,1,"F2"),1)="","",CONCATENATE(F2!$A28," ",F2!$B28)) | E10: =IF(INDIRECT(ADDRESS(ROW()+30,SUM(RIGHT(CELL("filename",E6),2)*1,4),4,1,"F2"),1)="","",CONCATENATE(F2!$A40," ",F2!$B40))
A11: =IF(INDIRECT(ADDRESS(ROW()+18,SUM(RIGHT(CELL("filename",E7),2)*1,4),4,1,"F2"),1)="","",CONCATENATE(F2!$A29," ",F2!$B29)) | E11: =IF(INDIRECT(ADDRESS(ROW()+30,SUM(RIGHT(CELL("filename",E7),2)*1,4),4,1,"F2"),1)="","",CONCATENATE(F2!$A41," ",F2!$B41))
A12: =IF(INDIRECT(ADDRESS(ROW()+18,SUM(RIGHT(CELL("filename",E8),2)*1,4),4,1,"F2"),1)="","",CONCATENATE(F2!$A30," ",F2!$B30)) | E12: =IF(INDIRECT(ADDRESS(ROW()+30,SUM(RIGHT(CELL("filename",E8),2)*1,4),4,1,"F2"),1)="","",CONCATENATE(F2!$A42," ",F2!$B42))
A13: =IF(INDIRECT(ADDRESS(ROW()+18,SUM(RIGHT(CELL("filename",E9),2)*1,4),4,1,"F2"),1)="","",CONCATENATE(F2!$A31," ",F2!$B31)) | E13: =IF(INDIRECT(ADDRESS(ROW()+30,SUM(RIGHT(CELL("filename",E9),2)*1,4),4,1,"F2"),1)="","",CONCATENATE(F2!$A43," ",F2!$B43))
A14: =IF(INDIRECT(ADDRESS(ROW()+18,SUM(RIGHT(CELL("filename",E10),2)*1,4),4,1,"F2"),1)="","",CONCATENATE(F2!$A32," ",F2!$B32)) | E14: =IF(INDIRECT(ADDRESS(ROW()+30,SUM(RIGHT(CELL("filename",E10),2)*1,4),4,1,"F2"),1)="","",CONCATENATE(F2!$A44," ",F2!$B44))
A15: =IF(INDIRECT(ADDRESS(ROW()+18,SUM(RIGHT(CELL("filename",E11),2)*1,4),4,1,"F2"),1)="","",CONCATENATE(F2!$A33," ",F2!$B33)) | E15: =IF(INDIRECT(ADDRESS(ROW()+30,SUM(RIGHT(CELL("filename",E11),2)*1,4),4,1,"F2"),1)="","",CONCATENATE(F2!$A45," ",F2!$B45))
A16: =IF(INDIRECT(ADDRESS(ROW()+18,SUM(RIGHT(CELL("filename",E12),2)*1,4),4,1,"F2"),1)="","",CONCATENATE(F2!$A34," ",F2!$B34)) | E16: =IF(INDIRECT(ADDRESS(ROW()+30,SUM(RIGHT(CELL("filename",E12),2)*1,4),4,1,"F2"),1)="","",CONCATENATE(F2!$A46," ",F2!$B46))
A18: SAISONNIERS | B18: HEURE | C18: SIGNATURE | E18: STAGIAIRES | F18: HEURE | G18: SIGNATURE
A19: 3 | E19: 4
A20: =IF(INDIRECT(ADDRESS(ROW()-17,SUM(RIGHT(CELL("filename",E1),2)*1,4),4,1,"F2"),1)="","",CONCATENATE(F2!$A3," ",F2!$B3)) | E20: =IF(INDIRECT(ADDRESS(ROW()-7,SUM(RIGHT(CELL("filename",E1),2)*1,4),4,1,"F2"),1)="","",CONCATENATE(F2!$A13," ",F2!$B13))
A21: =IF(INDIRECT(ADDRESS(ROW()-17,SUM(RIGHT(CELL("filename",E2),2)*1,4),4,1,"F2"),1)="","",CONCATENATE(F2!$A4," ",F2!$B4)) | E21: =IF(INDIRECT(ADDRESS(ROW()-7,SUM(RIGHT(CELL("filename",E2),2)*1,4),4,1,"F2"),1)="","",CONCATENATE(F2!$A14," ",F2!$B14))
A22: =IF(INDIRECT(ADDRESS(ROW()-17,SUM(RIGHT(CELL("filename",E3),2)*1,4),4,1,"F2"),1)="","",CONCATENATE(F2!$A5," ",F2!$B5)) | E22: =IF(INDIRECT(ADDRESS(ROW()-7,SUM(RIGHT(CELL("filename",E3),2)*1,4),4,1,"F2"),1)="","",CONCATENATE(F2!$A15," ",F2!$B15))
A23: =IF(INDIRECT(ADDRESS(ROW()-17,SUM(RIGHT(CELL("filename",E4),2)*1,4),4,1,"F2"),1)="","",CONCATENATE(F2!$A6," ",F2!$B6)) | E23: =IF(INDIRECT(ADDRESS(ROW()-7,SUM(RIGHT(CELL("filename",E4),2)*1,4),4,1,"F2"),1)="","",CONCATENATE(F2!$A16," ",F2!$B16))
A24: =IF(INDIRECT(ADDRESS(ROW()-17,SUM(RIGHT(CELL("filename",E5),2)*1,4),4,1,"F2"),1)="","",CONCATENATE(F2!$A7," ",F2!$B7)) | E24: =IF(INDIRECT(ADDRESS(ROW()-7,SUM(RIGHT(CELL("filename",E5),2)*1,4),4,1,"F2"),1)="","",CONCATENATE(F2!$A17," ",F2!$B17))
A25: =IF(INDIRECT(ADDRESS(ROW()-17,SUM(RIGHT(CELL("filename",E6),2)*1,4),4,1,"F2"),1)="","",CONCATENATE(F2!$A8," ",F2!$B8)) | E25: =IF(INDIRECT(ADDRESS(ROW()-7,SUM(RIGHT(CELL("filename",E6),2)*1,4),4,1,"F2"),1)="","",CONCATENATE(F2!$A18," ",F2!$B18))
A26: =IF(INDIRECT(ADDRESS(ROW()-17,SUM(RIGHT(CELL("filename",E7),2)*1,4),4,1,"F2"),1)="","",CONCATENATE(F2!$A9," ",F2!$B9)) | E26: =IF(INDIRECT(ADDRESS(ROW()-7,SUM(RIGHT(CELL("filename",E7),2)*1,4),4,1,"F2"),1)="","",CONCATENATE(F2!$A19," ",F2!$B19))
A27: =IF(INDIRECT(ADDRESS(ROW()-17,SUM(RIGHT(CELL("filename",E8),2)*1,4),4,1,"F2"),1)="","",CONCATENATE(F2!$A10," ",F2!$B10)) | E27: =IF(INDIRECT(ADDRESS(ROW()-7,SUM(RIGHT(CELL("filename",E8),2)*1,4),4,1,"F2"),1)="","",CONCATENATE(F2!$A20," ",F2!$B20))
A28: =IF(INDIRECT(ADDRESS(ROW()-17,SUM(RIGHT(CELL("filename",E9),2)*1,4),4,1,"F2"),1)="","",CONCATENATE(F2!$A11," ",F2!$B11)) | E28: =IF(INDIRECT(ADDRESS(ROW()-7,SUM(RIGHT(CELL("filename",E9),2)*1,4),4,1,"F2"),1)="","",CONCATENATE(F2!$A21," ",F2!$B21))
A29: =IF(INDIRECT(ADDRESS(ROW()-17,SUM(RIGHT(CELL("filename",E10),2)*1,4),4,1,"F2"),1)="","",CONCATENATE(F2!$A12," ",F2!$B12)) | E29: =IF(INDIRECT(ADDRESS(ROW()-7,SUM(RIGHT(CELL("filename",E10),2)*1,4),4,1,"F2"),1)="","",CONCATENATE(F2!$A22," ",F2!$B22))

Sheet 09
A1: ="EMARGEMENT CONTRACTUELS "&UPPER(TEXT(F2!E1,"mmm aaaa")) -> EMARGEMENT CONTRACTUELS JUIL. 2018
A2: =DATE(YEAR(F2!E1),MONTH(F2!E1),DAY(SUM(RIGHT(CELL("filename",E1),2)*1,1))) -> 43290
A3: CONTRACTUELS | B3: HEURE | C3: SIGNATURE | E3: CONTRACTUELS | F3: HEURE | G3: SIGNATURE
A4: 1 | E4: 2
A5: =IF(INDIRECT(ADDRESS(ROW()+18,SUM(RIGHT(CELL("filename",E1),2)*1,4),4,1,"F2"),1)="","",CONCATENATE(F2!$A23," ",F2!$B23)) -> AGENT 1 | E5: =IF(INDIRECT(ADDRESS(ROW()+30,SUM(RIGHT(CELL("filename",E1),2)*1,4),4,1,"F2"),1)="","",CONCATENATE(F2!$A35," ",F2!$B35)) -> AGENT 13
A6: =IF(INDIRECT(ADDRESS(ROW()+18,SUM(RIGHT(CELL("filename",E2),2)*1,4),4,1,"F2"),1)="","",CONCATENATE(F2!$A24," ",F2!$B24)) -> AGENT 2 | E6: =IF(INDIRECT(ADDRESS(ROW()+30,SUM(RIGHT(CELL("filename",E2),2)*1,4),4,1,"F2"),1)="","",CONCATENATE(F2!$A36," ",F2!$B36)) -> AGENT 14
A7: =IF(INDIRECT(ADDRESS(ROW()+18,SUM(RIGHT(CELL("filename",E3),2)*1,4),4,1,"F2"),1)="","",CONCATENATE(F2!$A25," ",F2!$B25)) -> AGENT 3 | E7: =IF(INDIRECT(ADDRESS(ROW()+30,SUM(RIGHT(CELL("filename",E3),2)*1,4),4,1,"F2"),1)="","",CONCATENATE(F2!$A37," ",F2!$B37)) -> AGENT 15
A8: =IF(INDIRECT(ADDRESS(ROW()+18,SUM(RIGHT(CELL("filename",E4),2)*1,4),4,1,"F2"),1)="","",CONCATENATE(F2!$A26," ",F2!$B26)) -> AGENT 4 | E8: =IF(INDIRECT(ADDRESS(ROW()+30,SUM(RIGHT(CELL("filename",E4),2)*1,4),4,1,"F2"),1)="","",CONCATENATE(F2!$A38," ",F2!$B38)) -> AGENT 16
A9: =IF(INDIRECT(ADDRESS(ROW()+18,SUM(RIGHT(CELL("filename",E5),2)*1,4),4,1,"F2"),1)="","",CONCATENATE(F2!$A27," ",F2!$B27)) | E9: =IF(INDIRECT(ADDRESS(ROW()+30,SUM(RIGHT(CELL("filename",E5),2)*1,4),4,1,"F2"),1)="","",CONCATENATE(F2!$A39," ",F2!$B39)) -> AGENT 17
A10: =IF(INDIRECT(ADDRESS(ROW()+18,SUM(RIGHT(CELL("filename",E6),2)*1,4),4,1,"F2"),1)="","",CONCATENATE(F2!$A28," ",F2!$B28)) | E10: =IF(INDIRECT(ADDRESS(ROW()+30,SUM(RIGHT(CELL("filename",E6),2)*1,4),4,1,"F2"),1)="","",CONCATENATE(F2!$A40," ",F2!$B40)) -> AGENT 18
A11: =IF(INDIRECT(ADDRESS(ROW()+18,SUM(RIGHT(CELL("filename",E7),2)*1,4),4,1,"F2"),1)="","",CONCATENATE(F2!$A29," ",F2!$B29)) -> AGENT 7 | E11: =IF(INDIRECT(ADDRESS(ROW()+30,SUM(RIGHT(CELL("filename",E7),2)*1,4),4,1,"F2"),1)="","",CONCATENATE(F2!$A41," ",F2!$B41)) -> AGENT 19
A12: =IF(INDIRECT(ADDRESS(ROW()+18,SUM(RIGHT(CELL("filename",E8),2)*1,4),4,1,"F2"),1)="","",CONCATENATE(F2!$A30," ",F2!$B30)) -> AGENT 8 | E12: =IF(INDIRECT(ADDRESS(ROW()+30,SUM(RIGHT(CELL("filename",E8),2)*1,4),4,1,"F2"),1)="","",CONCATENATE(F2!$A42," ",F2!$B42)) -> AGENT 20
A13: =IF(INDIRECT(ADDRESS(ROW()+18,SUM(RIGHT(CELL("filename",E9),2)*1,4),4,1,"F2"),1)="","",CONCATENATE(F2!$A31," ",F2!$B31)) -> AGENT 9 | E13: =IF(INDIRECT(ADDRESS(ROW()+30,SUM(RIGHT(CELL("filename",E9),2)*1,4),4,1,"F2"),1)="","",CONCATENATE(F2!$A43," ",F2!$B43)) -> AGENT 21
A14: =IF(INDIRECT(ADDRESS(ROW()+18,SUM(RIGHT(CELL("filename",E10),2)*1,4),4,1,"F2"),1)="","",CONCATENATE(F2!$A32," ",F2!$B32)) -> AGENT 10 | E14: =IF(INDIRECT(ADDRESS(ROW()+30,SUM(RIGHT(CELL("filename",E10),2)*1,4),4,1,"F2"),1)="","",CONCATENATE(F2!$A44," ",F2!$B44))
A15: =IF(INDIRECT(ADDRESS(ROW()+18,SUM(RIGHT(CELL("filename",E11),2)*1,4),4,1,"F2"),1)="","",CONCATENATE(F2!$A33," ",F2!$B33)) -> AGENT 11 | E15: =IF(INDIRECT(ADDRESS(ROW()+30,SUM(RIGHT(CELL("filename",E11),2)*1,4),4,1,"F2"),1)="","",CONCATENATE(F2!$A45," ",F2!$B45)) -> AGENT 23
A16: =IF(INDIRECT(ADDRESS(ROW()+18,SUM(RIGHT(CELL("filename",E12),2)*1,4),4,1,"F2"),1)="","",CONCATENATE(F2!$A34," ",F2!$B34)) -> AGENT 12 | E16: =IF(INDIRECT(ADDRESS(ROW()+30,SUM(RIGHT(CELL("filename",E12),2)*1,4),4,1,"F2"),1)="","",CONCATENATE(F2!$A46," ",F2!$B46)) -> AGENT 24
A18: SAISONNIERS | B18: HEURE | C18: SIGNATURE | E18: STAGIAIRES | F18: HEURE | G18: SIGNATURE
A19: 3 | E19: 4
A20: =IF(INDIRECT(ADDRESS(ROW()-17,SUM(RIGHT(CELL("filename",E1),2)*1,4),4,1,"F2"),1)="","",CONCATENATE(F2!$A3," ",F2!$B3)) -> SAISONNIER 1 | E20: =IF(INDIRECT(ADDRESS(ROW()-7,SUM(RIGHT(CELL("filename",E1),2)*1,4),4,1,"F2"),1)="","",CONCATENATE(F2!$A13," ",F2!$B13)) -> STAGIAIRE 1
A21: =IF(INDIRECT(ADDRESS(ROW()-17,SUM(RIGHT(CELL("filename",E2),2)*1,4),4,1,"F2"),1)="","",CONCATENATE(F2!$A4," ",F2!$B4)) -> SAISONNIER 2 | E21: =IF(INDIRECT(ADDRESS(ROW()-7,SUM(RIGHT(CELL("filename",E2),2)*1,4),4,1,"F2"),1)="","",CONCATENATE(F2!$A14," ",F2!$B14)) -> STAGIAIRE 2
A22: =IF(INDIRECT(ADDRESS(ROW()-17,SUM(RIGHT(CELL("filename",E3),2)*1,4),4,1,"F2"),1)="","",CONCATENATE(F2!$A5," ",F2!$B5)) | E22: =IF(INDIRECT(ADDRESS(ROW()-7,SUM(RIGHT(CELL("filename",E3),2)*1,4),4,1,"F2"),1)="","",CONCATENATE(F2!$A15," ",F2!$B15)) -> STAGIAIRE 3
A23: =IF(INDIRECT(ADDRESS(ROW()-17,SUM(RIGHT(CELL("filename",E4),2)*1,4),4,1,"F2"),1)="","",CONCATENATE(F2!$A6," ",F2!$B6)) -> SAISONNIER 4 | E23: =IF(INDIRECT(ADDRESS(ROW()-7,SUM(RIGHT(CELL("filename",E4),2)*1,4),4,1,"F2"),1)="","",CONCATENATE(F2!$A16," ",F2!$B16)) -> STAGIAIRE 4
A24: =IF(INDIRECT(ADDRESS(ROW()-17,SUM(RIGHT(CELL("filename",E5),2)*1,4),4,1,"F2"),1)="","",CONCATENATE(F2!$A7," ",F2!$B7)) -> SAISONNIER 5 | E24: =IF(INDIRECT(ADDRESS(ROW()-7,SUM(RIGHT(CELL("filename",E5),2)*1,4),4,1,"F2"),1)="","",CONCATENATE(F2!$A17," ",F2!$B17)) -> STAGIAIRE 5
A25: =IF(INDIRECT(ADDRESS(ROW()-17,SUM(RIGHT(CELL("filename",E6),2)*1,4),4,1,"F2"),1)="","",CONCATENATE(F2!$A8," ",F2!$B8)) -> SAISONNIER 6 | E25: =IF(INDIRECT(ADDRESS(ROW()-7,SUM(RIGHT(CELL("filename",E6),2)*1,4),4,1,"F2"),1)="","",CONCATENATE(F2!$A18," ",F2!$B18)) -> STAGIAIRE 6
A26: =IF(INDIRECT(ADDRESS(ROW()-17,SUM(RIGHT(CELL("filename",E7),2)*1,4),4,1,"F2"),1)="","",CONCATENATE(F2!$A9," ",F2!$B9)) -> SAISONNIER 7 | E26: =IF(INDIRECT(ADDRESS(ROW()-7,SUM(RIGHT(CELL("filename",E7),2)*1,4),4,1,"F2"),1)="","",CONCATENATE(F2!$A19," ",F2!$B19)) -> STAGIAIRE 7
A27: =IF(INDIRECT(ADDRESS(ROW()-17,SUM(RIGHT(CELL("filename",E8),2)*1,4),4,1,"F2"),1)="","",CONCATENATE(F2!$A10," ",F2!$B10)) -> SAISONNIER 8 | E27: =IF(INDIRECT(ADDRESS(ROW()-7,SUM(RIGHT(CELL("filename",E8),2)*1,4),4,1,"F2"),1)="","",CONCATENATE(F2!$A20," ",F2!$B20)) -> STAGIAIRE 8
A28: =IF(INDIRECT(ADDRESS(ROW()-17,SUM(RIGHT(CELL("filename",E9),2)*1,4),4,1,"F2"),1)="","",CONCATENATE(F2!$A11," ",F2!$B11)) | E28: =IF(INDIRECT(ADDRESS(ROW()-7,SUM(RIGHT(CELL("filename",E9),2)*1,4),4,1,"F2"),1)="","",CONCATENATE(F2!$A21," ",F2!$B21))
A29: =IF(INDIRECT(ADDRESS(ROW()-17,SUM(RIGHT(CELL("filename",E10),2)*1,4),4,1,"F2"),1)="","",CONCATENATE(F2!$A12," ",F2!$B12)) | E29: =IF(INDIRECT(ADDRESS(ROW()-7,SUM(RIGHT(CELL("filename",E10),2)*1,4),4,1,"F2"),1)="","",CONCATENATE(F2!$A22," ",F2!$B22))

Sheet 10
A1: ="EMARGEMENT CONTRACTUELS "&UPPER(TEXT(F2!E1,"mmm aaaa")) -> EMARGEMENT CONTRACTUELS JUIL. 2018
A2: =DATE(YEAR(F2!E1),MONTH(F2!E1),DAY(SUM(RIGHT(CELL("filename",E1),2)*1,1))) -> 43291
A3: CONTRACTUELS | B3: HEURE | C3: SIGNATURE | E3: CONTRACTUELS | F3: HEURE | G3: SIGNATURE
A4: 1 | E4: 2
A5: =IF(INDIRECT(ADDRESS(ROW()+18,SUM(RIGHT(CELL("filename",E1),2)*1,4),4,1,"F2"),1)="","",CONCATENATE(F2!$A23," ",F2!$B23)) -> AGENT 1 | E5: =IF(INDIRECT(ADDRESS(ROW()+30,SUM(RIGHT(CELL("filename",E1),2)*1,4),4,1,"F2"),1)="","",CONCATENATE(F2!$A35," ",F2!$B35)) -> AGENT 13
A6: =IF(INDIRECT(ADDRESS(ROW()+18,SUM(RIGHT(CELL("filename",E2),2)*1,4),4,1,"F2"),1)="","",CONCATENATE(F2!$A24," ",F2!$B24)) -> AGENT 2 | E6: =IF(INDIRECT(ADDRESS(ROW()+30,SUM(RIGHT(CELL("filename",E2),2)*1,4),4,1,"F2"),1)="","",CONCATENATE(F2!$A36," ",F2!$B36)) -> AGENT 14
A7: =IF(INDIRECT(ADDRESS(ROW()+18,SUM(RIGHT(CELL("filename",E3),2)*1,4),4,1,"F2"),1)="","",CONCATENATE(F2!$A25," ",F2!$B25)) -> AGENT 3 | E7: =IF(INDIRECT(ADDRESS(ROW()+30,SUM(RIGHT(CELL("filename",E3),2)*1,4),4,1,"F2"),1)="","",CONCATENATE(F2!$A37," ",F2!$B37)) -> AGENT 15
A8: =IF(INDIRECT(ADDRESS(ROW()+18,SUM(RIGHT(CELL("filename",E4),2)*1,4),4,1,"F2"),1)="","",CONCATENATE(F2!$A26," ",F2!$B26)) -> AGENT 4 | E8: =IF(INDIRECT(ADDRESS(ROW()+30,SUM(RIGHT(CELL("filename",E4),2)*1,4),4,1,"F2"),1)="","",CONCATENATE(F2!$A38," ",F2!$B38)) -> AGENT 16
A9: =IF(INDIRECT(ADDRESS(ROW()+18,SUM(RIGHT(CELL("filename",E5),2)*1,4),4,1,"F2"),1)="","",CONCATENATE(F2!$A27," ",F2!$B27)) | E9: =IF(INDIRECT(ADDRESS(ROW()+30,SUM(RIGHT(CELL("filename",E5),2)*1,4),4,1,"F2"),1)="","",CONCATENATE(F2!$A39," ",F2!$B39)) -> AGENT 17
A10: =IF(INDIRECT(ADDRESS(ROW()+18,SUM(RIGHT(CELL("filename",E6),2)*1,4),4,1,"F2"),1)="","",CONCATENATE(F2!$A28," ",F2!$B28)) -> AGENT 6 | E10: =IF(INDIRECT(ADDRESS(ROW()+30,SUM(RIGHT(CELL("filename",E6),2)*1,4),4,1,"F2"),1)="","",CONCATENATE(F2!$A40," ",F2!$B40)) -> AGENT 18
A11: =IF(INDIRECT(ADDRESS(ROW()+18,SUM(RIGHT(CELL("filename",E7),2)*1,4),4,1,"F2"),1)="","",CONCATENATE(F2!$A29," ",F2!$B29)) -> AGENT 7 | E11: =IF(INDIRECT(ADDRESS(ROW()+30,SUM(RIGHT(CELL("filename",E7),2)*1,4),4,1,"F2"),1)="","",CONCATENATE(F2!$A41," ",F2!$B41)) -> AGENT 19
A12: =IF(INDIRECT(ADDRESS(ROW()+18,SUM(RIGHT(CELL("filename",E8),2)*1,4),4,1,"F2"),1)="","",CONCATENATE(F2!$A30," ",F2!$B30)) -> AGENT 8 | E12: =IF(INDIRECT(ADDRESS(ROW()+30,SUM(RIGHT(CELL("filename",E8),2)*1,4),4,1,"F2"),1)="","",CONCATENATE(F2!$A42," ",F2!$B42)) -> AGENT 20
A13: =IF(INDIRECT(ADDRESS(ROW()+18,SUM(RIGHT(CELL("filename",E9),2)*1,4),4,1,"F2"),1)="","",CONCATENATE(F2!$A31," ",F2!$B31)) -> AGENT 9 | E13: =IF(INDIRECT(ADDRESS(ROW()+30,SUM(RIGHT(CELL("filename",E9),2)*1,4),4,1,"F2"),1)="","",CONCATENATE(F2!$A43," ",F2!$B43)) -> AGENT 21
A14: =IF(INDIRECT(ADDRESS(ROW()+18,SUM(RIGHT(CELL("filename",E10),2)*1,4),4,1,"F2"),1)="","",CONCATENATE(F2!$A32," ",F2!$B32)) -> AGENT 10 | E14: =IF(INDIRECT(ADDRESS(ROW()+30,SUM(RIGHT(CELL("filename",E10),2)*1,4),4,1,"F2"),1)="","",CONCATENATE(F2!$A44," ",F2!$B44))
A15: =IF(INDIRECT(ADDRESS(ROW()+18,SUM(RIGHT(CELL("filename",E11),2)*1,4),4,1,"F2"),1)="","",CONCATENATE(F2!$A33," ",F2!$B33)) -> AGENT 11 | E15: =IF(INDIRECT(ADDRESS(ROW()+30,SUM(RIGHT(CELL("filename",E11),2)*1,4),4,1,"F2"),1)="","",CONCATENATE(F2!$A45," ",F2!$B45)) -> AGENT 23
A16: =IF(INDIRECT(ADDRESS(ROW()+18,SUM(RIGHT(CELL("filename",E12),2)*1,4),4,1,"F2"),1)="","",CONCATENATE(F2!$A34," ",F2!$B34)) -> AGENT 12 | E16: =IF(INDIRECT(ADDRESS(ROW()+30,SUM(RIGHT(CELL("filename",E12),2)*1,4),4,1,"F2"),1)="","",CONCATENATE(F2!$A46," ",F2!$B46)) -> AGENT 24
A18: SAISONNIERS | B18: HEURE | C18: SIGNATURE | E18: STAGIAIRES | F18: HEURE | G18: SIGNATURE
A19: 3 | E19: 4
A20: =IF(INDIRECT(ADDRESS(ROW()-17,SUM(RIGHT(CELL("filename",E1),2)*1,4),4,1,"F2"),1)="","",CONCATENATE(F2!$A3," ",F2!$B3)) -> SAISONNIER 1 | E20: =IF(INDIRECT(ADDRESS(ROW()-7,SUM(RIGHT(CELL("filename",E1),2)*1,4),4,1,"F2"),1)="","",CONCATENATE(F2!$A13," ",F2!$B13)) -> STAGIAIRE 1
A21: =IF(INDIRECT(ADDRESS(ROW()-17,SUM(RIGHT(CELL("filename",E2),2)*1,4),4,1,"F2"),1)="","",CONCATENATE(F2!$A4," ",F2!$B4)) -> SAISONNIER 2 | E21: =IF(INDIRECT(ADDRESS(ROW()-7,SUM(RIGHT(CELL("filename",E2),2)*1,4),4,1,"F2"),1)="","",CONCATENATE(F2!$A14," ",F2!$B14)) -> STAGIAIRE 2
A22: =IF(INDIRECT(ADDRESS(ROW()-17,SUM(RIGHT(CELL("filename",E3),2)*1,4),4,1,"F2"),1)="","",CONCATENATE(F2!$A5," ",F2!$B5)) | E22: =IF(INDIRECT(ADDRESS(ROW()-7,SUM(RIGHT(CELL("filename",E3),2)*1,4),4,1,"F2"),1)="","",CONCATENATE(F2!$A15," ",F2!$B15)) -> STAGIAIRE 3
A23: =IF(INDIRECT(ADDRESS(ROW()-17,SUM(RIGHT(CELL("filename",E4),2)*1,4),4,1,"F2"),1)="","",CONCATENATE(F2!$A6," ",F2!$B6)) -> SAISONNIER 4 | E23: =IF(INDIRECT(ADDRESS(ROW()-7,SUM(RIGHT(CELL("filename",E4),2)*1,4),4,1,"F2"),1)="","",CONCATENATE(F2!$A16," ",F2!$B16)) -> STAGIAIRE 4
A24: =IF(INDIRECT(ADDRESS(ROW()-17,SUM(RIGHT(CELL("filename",E5),2)*1,4),4,1,"F2"),1)="","",CONCATENATE(F2!$A7," ",F2!$B7)) -> SAISONNIER 5 | E24: =IF(INDIRECT(ADDRESS(ROW()-7,SUM(RIGHT(CELL("filename",E5),2)*1,4),4,1,"F2"),1)="","",CONCATENATE(F2!$A17," ",F2!$B17)) -> STAGIAIRE 5
A25: =IF(INDIRECT(ADDRESS(ROW()-17,SUM(RIGHT(CELL("filename",E6),2)*1,4),4,1,"F2"),1)="","",CONCATENATE(F2!$A8," ",F2!$B8)) -> SAISONNIER 6 | E25: =IF(INDIRECT(ADDRESS(ROW()-7,SUM(RIGHT(CELL("filename",E6),2)*1,4),4,1,"F2"),1)="","",CONCATENATE(F2!$A18," ",F2!$B18)) -> STAGIAIRE 6
A26: =IF(INDIRECT(ADDRESS(ROW()-17,SUM(RIGHT(CELL("filename",E7),2)*1,4),4,1,"F2"),1)="","",CONCATENATE(F2!$A9," ",F2!$B9)) -> SAISONNIER 7 | E26: =IF(INDIRECT(ADDRESS(ROW()-7,SUM(RIGHT(CELL("filename",E7),2)*1,4),4,1,"F2"),1)="","",CONCATENATE(F2!$A19," ",F2!$B19)) -> STAGIAIRE 7
A27: =IF(INDIRECT(ADDRESS(ROW()-17,SUM(RIGHT(CELL("filename",E8),2)*1,4),4,1,"F2"),1)="","",CONCATENATE(F2!$A10," ",F2!$B10)) -> SAISONNIER 8 | E27: =IF(INDIRECT(ADDRESS(ROW()-7,SUM(RIGHT(CELL("filename",E8),2)*1,4),4,1,"F2"),1)="","",CONCATENATE(F2!$A20," ",F2!$B20)) -> STAGIAIRE 8
A28: =IF(INDIRECT(ADDRESS(ROW()-17,SUM(RIGHT(CELL("filename",E9),2)*1,4),4,1,"F2"),1)="","",CONCATENATE(F2!$A11," ",F2!$B11)) | E28: =IF(INDIRECT(ADDRESS(ROW()-7,SUM(RIGHT(CELL("filename",E9),2)*1,4),4,1,"F2"),1)="","",CONCATENATE(F2!$A21," ",F2!$B21))
A29: =IF(INDIRECT(ADDRESS(ROW()-17,SUM(RIGHT(CELL("filename",E10),2)*1,4),4,1,"F2"),1)="","",CONCATENATE(F2!$A12," ",F2!$B12)) | E29: =IF(INDIRECT(ADDRESS(ROW()-7,SUM(RIGHT(CELL("filename",E10),2)*1,4),4,1,"F2"),1)="","",CONCATENATE(F2!$A22," ",F2!$B22))

Sheet 11
A1: ="EMARGEMENT CONTRACTUELS "&UPPER(TEXT(F2!E1,"mmm aaaa")) -> EMARGEMENT CONTRACTUELS JUIL. 2018
A2: =DATE(YEAR(F2!E1),MONTH(F2!E1),DAY(SUM(RIGHT(CELL("filename",E1),2)*1,1))) -> 43292
A3: CONTRACTUELS | B3: HEURE | C3: SIGNATURE | E3: CONTRACTUELS | F3: HEURE | G3: SIGNATURE
A4: 1 | E4: 2
A5: =IF(INDIRECT(ADDRESS(ROW()+18,SUM(RIGHT(CELL("filename",E1),2)*1,4),4,1,"F2"),1)="","",CONCATENATE(F2!$A23," ",F2!$B23)) -> AGENT 1 | E5: =IF(INDIRECT(ADDRESS(ROW()+30,SUM(RIGHT(CELL("filename",E1),2)*1,4),4,1,"F2"),1)="","",CONCATENATE(F2!$A35," ",F2!$B35)) -> AGENT 13
A6: =IF(INDIRECT(ADDRESS(ROW()+18,SUM(RIGHT(CELL("filename",E2),2)*1,4),4,1,"F2"),1)="","",CONCATENATE(F2!$A24," ",F2!$B24)) -> AGENT 2 | E6: =IF(INDIRECT(ADDRESS(ROW()+30,SUM(RIGHT(CELL("filename",E2),2)*1,4),4,1,"F2"),1)="","",CONCATENATE(F2!$A36," ",F2!$B36)) -> AGENT 14
A7: =IF(INDIRECT(ADDRESS(ROW()+18,SUM(RIGHT(CELL("filename",E3),2)*1,4),4,1,"F2"),1)="","",CONCATENATE(F2!$A25," ",F2!$B25)) -> AGENT 3 | E7: =IF(INDIRECT(ADDRESS(ROW()+30,SUM(RIGHT(CELL("filename",E3),2)*1,4),4,1,"F2"),1)="","",CONCATENATE(F2!$A37," ",F2!$B37)) -> AGENT 15
A8: =IF(INDIRECT(ADDRESS(ROW()+18,SUM(RIGHT(CELL("filename",E4),2)*1,4),4,1,"F2"),1)="","",CONCATENATE(F2!$A26," ",F2!$B26)) -> AGENT 4 | E8: =IF(INDIRECT(ADDRESS(ROW()+30,SUM(RIGHT(CELL("filename",E4),2)*1,4),4,1,"F2"),1)="","",CONCATENATE(F2!$A38," ",F2!$B38)) -> AGENT 16
A9: =IF(INDIRECT(ADDRESS(ROW()+18,SUM(RIGHT(CELL("filename",E5),2)*1,4),4,1,"F2"),1)="","",CONCATENATE(F2!$A27," ",F2!$B27)) | E9: =IF(INDIRECT(ADDRESS(ROW()+30,SUM(RIGHT(CELL("filename",E5),2)*1,4),4,1,"F2"),1)="","",CONCATENATE(F2!$A39," ",F2!$B39)) -> AGENT 17
A10: =IF(INDIRECT(ADDRESS(ROW()+18,SUM(RIGHT(CELL("filename",E6),2)*1,4),4,1,"F2"),1)="","",CONCATENATE(F2!$A28," ",F2!$B28)) -> AGENT 6 | E10: =IF(INDIRECT(ADDRESS(ROW()+30,SUM(RIGHT(CELL("filename",E6),2)*1,4),4,1,"F2"),1)="","",CONCATENATE(F2!$A40," ",F2!$B40)) -> AGENT 18
A11: =IF(INDIRECT(ADDRESS(ROW()+18,SUM(RIGHT(CELL("filename",E7),2)*1,4),4,1,"F2"),1)="","",CONCATENATE(F2!$A29," ",F2!$B29)) -> AGENT 7 | E11: =IF(INDIRECT(ADDRESS(ROW()+30,SUM(RIGHT(CELL("filename",E7),2)*1,4),4,1,"F2"),1)="","",CONCATENATE(F2!$A41," ",F2!$B41)) -> AGENT 19
A12: =IF(INDIRECT(ADDRESS(ROW()+18,SUM(RIGHT(CELL("filename",E8),2)*1,4),4,1,"F2"),1)="","",CONCATENATE(F2!$A30," ",F2!$B30)) -> AGENT 8 | E12: =IF(INDIRECT(ADDRESS(ROW()+30,SUM(RIGHT(CELL("filename",E8),2)*1,4),4,1,"F2"),1)="","",CONCATENATE(F2!$A42," ",F2!$B42)) -> AGENT 20
A13: =IF(INDIRECT(ADDRESS(ROW()+18,SUM(RIGHT(CELL("filename",E9),2)*1,4),4,1,"F2"),1)="","",CONCATENATE(F2!$A31," ",F2!$B31)) -> AGENT 9 | E13: =IF(INDIRECT(ADDRESS(ROW()+30,SUM(RIGHT(CELL("filename",E9),2)*1,4),4,1,"F2"),1)="","",CONCATENATE(F2!$A43," ",F2!$B43)) -> AGENT 21
A14: =IF(INDIRECT(ADDRESS(ROW()+18,SUM(RIGHT(CELL("filename",E10),2)*1,4),4,1,"F2"),1)="","",CONCATENATE(F2!$A32," ",F2!$B32)) -> AGENT 10 | E14: =IF(INDIRECT(ADDRESS(ROW()+30,SUM(RIGHT(CELL("filename",E10),2)*1,4),4,1,"F2"),1)="","",CONCATENATE(F2!$A44," ",F2!$B44))
A15: =IF(INDIRECT(ADDRESS(ROW()+18,SUM(RIGHT(CELL("filename",E11),2)*1,4),4,1,"F2"),1)="","",CONCATENATE(F2!$A33," ",F2!$B33)) -> AGENT 11 | E15: =IF(INDIRECT(ADDRESS(ROW()+30,SUM(RIGHT(CELL("filename",E11),2)*1,4),4,1,"F2"),1)="","",CONCATENATE(F2!$A45," ",F2!$B45)) -> AGENT 23
A16: =IF(INDIRECT(ADDRESS(ROW()+18,SUM(RIGHT(CELL("filename",E12),2)*1,4),4,1,"F2"),1)="","",CONCATENATE(F2!$A34," ",F2!$B34)) -> AGENT 12 | E16: =IF(INDIRECT(ADDRESS(ROW()+30,SUM(RIGHT(CELL("filename",E12),2)*1,4),4,1,"F2"),1)="","",CONCATENATE(F2!$A46," ",F2!$B46)) -> AGENT 24
A18: SAISONNIERS | B18: HEURE | C18: SIGNATURE | E18: STAGIAIRES | F18: HEURE | G18: SIGNATURE
A19: 3 | E19: 4
A20: =IF(INDIRECT(ADDRESS(ROW()-17,SUM(RIGHT(CELL("filename",E1),2)*1,4),4,1,"F2"),1)="","",CONCATENATE(F2!$A3," ",F2!$B3)) | E20: =IF(INDIRECT(ADDRESS(ROW()-7,SUM(RIGHT(CELL("filename",E1),2)*1,4),4,1,"F2"),1)="","",CONCATENATE(F2!$A13," ",F2!$B13)) -> STAGIAIRE 1
A21: =IF(INDIRECT(ADDRESS(ROW()-17,SUM(RIGHT(CELL("filename",E2),2)*1,4),4,1,"F2"),1)="","",CONCATENATE(F2!$A4," ",F2!$B4)) -> SAISONNIER 2 | E21: =IF(INDIRECT(ADDRESS(ROW()-7,SUM(RIGHT(CELL("filename",E2),2)*1,4),4,1,"F2"),1)="","",CONCATENATE(F2!$A14," ",F2!$B14)) -> STAGIAIRE 2
A22: =IF(INDIRECT(ADDRESS(ROW()-17,SUM(RIGHT(CELL("filename",E3),2)*1,4),4,1,"F2"),1)="","",CONCATENATE(F2!$A5," ",F2!$B5)) | E22: =IF(INDIRECT(ADDRESS(ROW()-7,SUM(RIGHT(CELL("filename",E3),2)*1,4),4,1,"F2"),1)="","",CONCATENATE(F2!$A15," ",F2!$B15)) -> STAGIAIRE 3
A23: =IF(INDIRECT(ADDRESS(ROW()-17,SUM(RIGHT(CELL("filename",E4),2)*1,4),4,1,"F2"),1)="","",CONCATENATE(F2!$A6," ",F2!$B6)) -> SAISONNIER 4 | E23: =IF(INDIRECT(ADDRESS(ROW()-7,SUM(RIGHT(CELL("filename",E4),2)*1,4),4,1,"F2"),1)="","",CONCATENATE(F2!$A16," ",F2!$B16)) -> STAGIAIRE 4
A24: =IF(INDIRECT(ADDRESS(ROW()-17,SUM(RIGHT(CELL("filename",E5),2)*1,4),4,1,"F2"),1)="","",CONCATENATE(F2!$A7," ",F2!$B7)) -> SAISONNIER 5 | E24: =IF(INDIRECT(ADDRESS(ROW()-7,SUM(RIGHT(CELL("filename",E5),2)*1,4),4,1,"F2"),1)="","",CONCATENATE(F2!$A17," ",F2!$B17)) -> STAGIAIRE 5
A25: =IF(INDIRECT(ADDRESS(ROW()-17,SUM(RIGHT(CELL("filename",E6),2)*1,4),4,1,"F2"),1)="","",CONCATENATE(F2!$A8," ",F2!$B8)) -> SAISONNIER 6 | E25: =IF(INDIRECT(ADDRESS(ROW()-7,SUM(RIGHT(CELL("filename",E6),2)*1,4),4,1,"F2"),1)="","",CONCATENATE(F2!$A18," ",F2!$B18)) -> STAGIAIRE 6
A26: =IF(INDIRECT(ADDRESS(ROW()-17,SUM(RIGHT(CELL("filename",E7),2)*1,4),4,1,"F2"),1)="","",CONCATENATE(F2!$A9," ",F2!$B9)) -> SAISONNIER 7 | E26: =IF(INDIRECT(ADDRESS(ROW()-7,SUM(RIGHT(CELL("filename",E7),2)*1,4),4,1,"F2"),1)="","",CONCATENATE(F2!$A19," ",F2!$B19)) -> STAGIAIRE 7
A27: =IF(INDIRECT(ADDRESS(ROW()-17,SUM(RIGHT(CELL("filename",E8),2)*1,4),4,1,"F2"),1)="","",CONCATENATE(F2!$A10," ",F2!$B10)) -> SAISONNIER 8 | E27: =IF(INDIRECT(ADDRESS(ROW()-7,SUM(RIGHT(CELL("filename",E8),2)*1,4),4,1,"F2"),1)="","",CONCATENATE(F2!$A20," ",F2!$B20)) -> STAGIAIRE 8
A28: =IF(INDIRECT(ADDRESS(ROW()-17,SUM(RIGHT(CELL("filename",E9),2)*1,4),4,1,"F2"),1)="","",CONCATENATE(F2!$A11," ",F2!$B11)) | E28: =IF(INDIRECT(ADDRESS(ROW()-7,SUM(RIGHT(CELL("filename",E9),2)*1,4),4,1,"F2"),1)="","",CONCATENATE(F2!$A21," ",F2!$B21))
A29: =IF(INDIRECT(ADDRESS(ROW()-17,SUM(RIGHT(CELL("filename",E10),2)*1,4),4,1,"F2"),1)="","",CONCATENATE(F2!$A12," ",F2!$B12)) | E29: =IF(INDIRECT(ADDRESS(ROW()-7,SUM(RIGHT(CELL("filename",E10),2)*1,4),4,1,"F2"),1)="","",CONCATENATE(F2!$A22," ",F2!$B22))

Sheet 12
A1: ="EMARGEMENT CONTRACTUELS "&UPPER(TEXT(F2!E1,"mmm aaaa")) -> EMARGEMENT CONTRACTUELS JUIL. 2018
A2: =DATE(YEAR(F2!E1),MONTH(F2!E1),DAY(SUM(RIGHT(CELL("filename",E1),2)*1,1))) -> 43293
A3: CONTRACTUELS | B3: HEURE | C3: SIGNATURE | E3: CONTRACTUELS | F3: HEURE | G3: SIGNATURE
A4: 1 | E4: 2
A5: =IF(INDIRECT(ADDRESS(ROW()+18,SUM(RIGHT(CELL("filename",E1),2)*1,4),4,1,"F2"),1)="","",CONCATENATE(F2!$A23," ",F2!$B23)) -> AGENT 1 | E5: =IF(INDIRECT(ADDRESS(ROW()+30,SUM(RIGHT(CELL("filename",E1),2)*1,4),4,1,"F2"),1)="","",CONCATENATE(F2!$A35," ",F2!$B35)) -> AGENT 13
A6: =IF(INDIRECT(ADDRESS(ROW()+18,SUM(RIGHT(CELL("filename",E2),2)*1,4),4,1,"F2"),1)="","",CONCATENATE(F2!$A24," ",F2!$B24)) -> AGENT 2 | E6: =IF(INDIRECT(ADDRESS(ROW()+30,SUM(RIGHT(CELL("filename",E2),2)*1,4),4,1,"F2"),1)="","",CONCATENATE(F2!$A36," ",F2!$B36)) -> AGENT 14
A7: =IF(INDIRECT(ADDRESS(ROW()+18,SUM(RIGHT(CELL("filename",E3),2)*1,4),4,1,"F2"),1)="","",CONCATENATE(F2!$A25," ",F2!$B25)) -> AGENT 3 | E7: =IF(INDIRECT(ADDRESS(ROW()+30,SUM(RIGHT(CELL("filename",E3),2)*1,4),4,1,"F2"),1)="","",CONCATENATE(F2!$A37," ",F2!$B37)) -> AGENT 15
A8: =IF(INDIRECT(ADDRESS(ROW()+18,SUM(RIGHT(CELL("filename",E4),2)*1,4),4,1,"F2"),1)="","",CONCATENATE(F2!$A26," ",F2!$B26)) -> AGENT 4 | E8: =IF(INDIRECT(ADDRESS(ROW()+30,SUM(RIGHT(CELL("filename",E4),2)*1,4),4,1,"F2"),1)="","",CONCATENATE(F2!$A38," ",F2!$B38)) -> AGENT 16
A9: =IF(INDIRECT(ADDRESS(ROW()+18,SUM(RIGHT(CELL("filename",E5),2)*1,4),4,1,"F2"),1)="","",CONCATENATE(F2!$A27," ",F2!$B27)) | E9: =IF(INDIRECT(ADDRESS(ROW()+30,SUM(RIGHT(CELL("filename",E5),2)*1,4),4,1,"F2"),1)="","",CONCATENATE(F2!$A39," ",F2!$B39)) -> AGENT 17
A10: =IF(INDIRECT(ADDRESS(ROW()+18,SUM(RIGHT(CELL("filename",E6),2)*1,4),4,1,"F2"),1)="","",CONCATENATE(F2!$A28," ",F2!$B28)) -> AGENT 6 | E10: =IF(INDIRECT(ADDRESS(ROW()+30,SUM(RIGHT(CELL("filename",E6),2)*1,4),4,1,"F2"),1)="","",CONCATENATE(F2!$A40," ",F2!$B40)) -> AGENT 18
A11: =IF(INDIRECT(ADDRESS(ROW()+18,SUM(RIGHT(CELL("filename",E7),2)*1,4),4,1,"F2"),1)="","",CONCATENATE(F2!$A29," ",F2!$B29)) -> AGENT 7 | E11: =IF(INDIRECT(ADDRESS(ROW()+30,SUM(RIGHT(CELL("filename",E7),2)*1,4),4,1,"F2"),1)="","",CONCATENATE(F2!$A41," ",F2!$B41)) -> AGENT 19
A12: =IF(INDIRECT(ADDRESS(ROW()+18,SUM(RIGHT(CELL("filename",E8),2)*1,4),4,1,"F2"),1)="","",CONCATENATE(F2!$A30," ",F2!$B30)) -> AGENT 8 | E12: =IF(INDIRECT(ADDRESS(ROW()+30,SUM(RIGHT(CELL("filename",E8),2)*1,4),4,1,"F2"),1)="","",CONCATENATE(F2!$A42," ",F2!$B42)) -> AGENT 20
A13: =IF(INDIRECT(ADDRESS(ROW()+18,SUM(RIGHT(CELL("filename",E9),2)*1,4),4,1,"F2"),1)="","",CONCATENATE(F2!$A31," ",F2!$B31)) -> AGENT 9 | E13: =IF(INDIRECT(ADDRESS(ROW()+30,SUM(RIGHT(CELL("filename",E9),2)*1,4),4,1,"F2"),1)="","",CONCATENATE(F2!$A43," ",F2!$B43)) -> AGENT 21
A14: =IF(INDIRECT(ADDRESS(ROW()+18,SUM(RIGHT(CELL("filename",E10),2)*1,4),4,1,"F2"),1)="","",CONCATENATE(F2!$A32," ",F2!$B32)) -> AGENT 10 | E14: =IF(INDIRECT(ADDRESS(ROW()+30,SUM(RIGHT(CELL("filename",E10),2)*1,4),4,1,"F2"),1)="","",CONCATENATE(F2!$A44," ",F2!$B44))
A15: =IF(INDIRECT(ADDRESS(ROW()+18,SUM(RIGHT(CELL("filename",E11),2)*1,4),4,1,"F2"),1)="","",CONCATENATE(F2!$A33," ",F2!$B33)) -> AGENT 11 | E15: =IF(INDIRECT(ADDRESS(ROW()+30,SUM(RIGHT(CELL("filename",E11),2)*1,4),4,1,"F2"),1)="","",CONCATENATE(F2!$A45," ",F2!$B45)) -> AGENT 23
A16: =IF(INDIRECT(ADDRESS(ROW()+18,SUM(RIGHT(CELL("filename",E12),2)*1,4),4,1,"F2"),1)="","",CONCATENATE(F2!$A34," ",F2!$B34)) -> AGENT 12 | E16: =IF(INDIRECT(ADDRESS(ROW()+30,SUM(RIGHT(CELL("filename",E12),2)*1,4),4,1,"F2"),1)="","",CONCATENATE(F2!$A46," ",F2!$B46)) -> AGENT 24
A18: SAISONNIERS | B18: HEURE | C18: SIGNATURE | E18: STAGIAIRES | F18: HEURE | G18: SIGNATURE
A19: 3 | E19: 4
A20: =IF(INDIRECT(ADDRESS(ROW()-17,SUM(RIGHT(CELL("filename",E1),2)*1,4),4,1,"F2"),1)="","",CONCATENATE(F2!$A3," ",F2!$B3)) | E20: =IF(INDIRECT(ADDRESS(ROW()-7,SUM(RIGHT(CELL("filename",E1),2)*1,4),4,1,"F2"),1)="","",CONCATENATE(F2!$A13," ",F2!$B13)) -> STAGIAIRE 1
A21: =IF(INDIRECT(ADDRESS(ROW()-17,SUM(RIGHT(CELL("filename",E2),2)*1,4),4,1,"F2"),1)="","",CONCATENATE(F2!$A4," ",F2!$B4)) -> SAISONNIER 2 | E21: =IF(INDIRECT(ADDRESS(ROW()-7,SUM(RIGHT(CELL("filename",E2),2)*1,4),4,1,"F2"),1)="","",CONCATENATE(F2!$A14," ",F2!$B14)) -> STAGIAIRE 2
A22: =IF(INDIRECT(ADDRESS(ROW()-17,SUM(RIGHT(CELL("filename",E3),2)*1,4),4,1,"F2"),1)="","",CONCATENATE(F2!$A5," ",F2!$B5)) -> SAISONNIER 3 | E22: =IF(INDIRECT(ADDRESS(ROW()-7,SUM(RIGHT(CELL("filename",E3),2)*1,4),4,1,"F2"),1)="","",CONCATENATE(F2!$A15," ",F2!$B15)) -> STAGIAIRE 3
A23: =IF(INDIRECT(ADDRESS(ROW()-17,SUM(RIGHT(CELL("filename",E4),2)*1,4),4,1,"F2"),1)="","",CONCATENATE(F2!$A6," ",F2!$B6)) -> SAISONNIER 4 | E23: =IF(INDIRECT(ADDRESS(ROW()-7,SUM(RIGHT(CELL("filename",E4),2)*1,4),4,1,"F2"),1)="","",CONCATENATE(F2!$A16," ",F2!$B16)) -> STAGIAIRE 4
A24: =IF(INDIRECT(ADDRESS(ROW()-17,SUM(RIGHT(CELL("filename",E5),2)*1,4),4,1,"F2"),1)="","",CONCATENATE(F2!$A7," ",F2!$B7)) -> SAISONNIER 5 | E24: =IF(INDIRECT(ADDRESS(ROW()-7,SUM(RIGHT(CELL("filename",E5),2)*1,4),4,1,"F2"),1)="","",CONCATENATE(F2!$A17," ",F2!$B17)) -> STAGIAIRE 5
A25: =IF(INDIRECT(ADDRESS(ROW()-17,SUM(RIGHT(CELL("filename",E6),2)*1,4),4,1,"F2"),1)="","",CONCATENATE(F2!$A8," ",F2!$B8)) -> SAISONNIER 6 | E25: =IF(INDIRECT(ADDRESS(ROW()-7,SUM(RIGHT(CELL("filename",E6),2)*1,4),4,1,"F2"),1)="","",CONCATENATE(F2!$A18," ",F2!$B18)) -> STAGIAIRE 6
A26: =IF(INDIRECT(ADDRESS(ROW()-17,SUM(RIGHT(CELL("filename",E7),2)*1,4),4,1,"F2"),1)="","",CONCATENATE(F2!$A9," ",F2!$B9)) -> SAISONNIER 7 | E26: =IF(INDIRECT(ADDRESS(ROW()-7,SUM(RIGHT(CELL("filename",E7),2)*1,4),4,1,"F2"),1)="","",CONCATENATE(F2!$A19," ",F2!$B19)) -> STAGIAIRE 7
A27: =IF(INDIRECT(ADDRESS(ROW()-17,SUM(RIGHT(CELL("filename",E8),2)*1,4),4,1,"F2"),1)="","",CONCATENATE(F2!$A10," ",F2!$B10)) -> SAISONNIER 8 | E27: =IF(INDIRECT(ADDRESS(ROW()-7,SUM(RIGHT(CELL("filename",E8),2)*1,4),4,1,"F2"),1)="","",CONCATENATE(F2!$A20," ",F2!$B20)) -> STAGIAIRE 8
A28: =IF(INDIRECT(ADDRESS(ROW()-17,SUM(RIGHT(CELL("filename",E9),2)*1,4),4,1,"F2"),1)="","",CONCATENATE(F2!$A11," ",F2!$B11)) | E28: =IF(INDIRECT(ADDRESS(ROW()-7,SUM(RIGHT(CELL("filename",E9),2)*1,4),4,1,"F2"),1)="","",CONCATENATE(F2!$A21," ",F2!$B21))
A29: =IF(INDIRECT(ADDRESS(ROW()-17,SUM(RIGHT(CELL("filename",E10),2)*1,4),4,1,"F2"),1)="","",CONCATENATE(F2!$A12," ",F2!$B12)) | E29: =IF(INDIRECT(ADDRESS(ROW()-7,SUM(RIGHT(CELL("filename",E10),2)*1,4),4,1,"F2"),1)="","",CONCATENATE(F2!$A22," ",F2!$B22))

Sheet 13
A1: ="EMARGEMENT CONTRACTUELS "&UPPER(TEXT(F2!E1,"mmm aaaa")) -> EMARGEMENT CONTRACTUELS JUIL. 2018
A2: =DATE(YEAR(F2!E1),MONTH(F2!E1),DAY(SUM(RIGHT(CELL("filename",E1),2)*1,1))) -> 43294
A3: CONTRACTUELS | B3: HEURE | C3: SIGNATURE | E3: CONTRACTUELS | F3: HEURE | G3: SIGNATURE
A4: 1 | E4: 2
A5: =IF(INDIRECT(ADDRESS(ROW()+18,SUM(RIGHT(CELL("filename",E1),2)*1,4),4,1,"F2"),1)="","",CONCATENATE(F2!$A23," ",F2!$B23)) -> AGENT 1 | E5: =IF(INDIRECT(ADDRESS(ROW()+30,SUM(RIGHT(CELL("filename",E1),2)*1,4),4,1,"F2"),1)="","",CONCATENATE(F2!$A35," ",F2!$B35)) -> AGENT 13
A6: =IF(INDIRECT(ADDRESS(ROW()+18,SUM(RIGHT(CELL("filename",E2),2)*1,4),4,1,"F2"),1)="","",CONCATENATE(F2!$A24," ",F2!$B24)) -> AGENT 2 | E6: =IF(INDIRECT(ADDRESS(ROW()+30,SUM(RIGHT(CELL("filename",E2),2)*1,4),4,1,"F2"),1)="","",CONCATENATE(F2!$A36," ",F2!$B36)) -> AGENT 14
A7: =IF(INDIRECT(ADDRESS(ROW()+18,SUM(RIGHT(CELL("filename",E3),2)*1,4),4,1,"F2"),1)="","",CONCATENATE(F2!$A25," ",F2!$B25)) -> AGENT 3 | E7: =IF(INDIRECT(ADDRESS(ROW()+30,SUM(RIGHT(CELL("filename",E3),2)*1,4),4,1,"F2"),1)="","",CONCATENATE(F2!$A37," ",F2!$B37)) -> AGENT 15
A8: =IF(INDIRECT(ADDRESS(ROW()+18,SUM(RIGHT(CELL("filename",E4),2)*1,4),4,1,"F2"),1)="","",CONCATENATE(F2!$A26," ",F2!$B26)) -> AGENT 4 | E8: =IF(INDIRECT(ADDRESS(ROW()+30,SUM(RIGHT(CELL("filename",E4),2)*1,4),4,1,"F2"),1)="","",CONCATENATE(F2!$A38," ",F2!$B38)) -> AGENT 16
A9: =IF(INDIRECT(ADDRESS(ROW()+18,SUM(RIGHT(CELL("filename",E5),2)*1,4),4,1,"F2"),1)="","",CONCATENATE(F2!$A27," ",F2!$B27)) | E9: =IF(INDIRECT(ADDRESS(ROW()+30,SUM(RIGHT(CELL("filename",E5),2)*1,4),4,1,"F2"),1)="","",CONCATENATE(F2!$A39," ",F2!$B39)) -> AGENT 17
A10: =IF(INDIRECT(ADDRESS(ROW()+18,SUM(RIGHT(CELL("filename",E6),2)*1,4),4,1,"F2"),1)="","",CONCATENATE(F2!$A28," ",F2!$B28)) -> AGENT 6 | E10: =IF(INDIRECT(ADDRESS(ROW()+30,SUM(RIGHT(CELL("filename",E6),2)*1,4),4,1,"F2"),1)="","",CONCATENATE(F2!$A40," ",F2!$B40)) -> AGENT 18
A11: =IF(INDIRECT(ADDRESS(ROW()+18,SUM(RIGHT(CELL("filename",E7),2)*1,4),4,1,"F2"),1)="","",CONCATENATE(F2!$A29," ",F2!$B29)) -> AGENT 7 | E11: =IF(INDIRECT(ADDRESS(ROW()+30,SUM(RIGHT(CELL("filename",E7),2)*1,4),4,1,"F2"),1)="","",CONCATENATE(F2!$A41," ",F2!$B41)) -> AGENT 19
A12: =IF(INDIRECT(ADDRESS(ROW()+18,SUM(RIGHT(CELL("filename",E8),2)*1,4),4,1,"F2"),1)="","",CONCATENATE(F2!$A30," ",F2!$B30)) -> AGENT 8 | E12: =IF(INDIRECT(ADDRESS(ROW()+30,SUM(RIGHT(CELL("filename",E8),2)*1,4),4,1,"F2"),1)="","",CONCATENATE(F2!$A42," ",F2!$B42)) -> AGENT 20
A13: =IF(INDIRECT(ADDRESS(ROW()+18,SUM(RIGHT(CELL("filename",E9),2)*1,4),4,1,"F2"),1)="","",CONCATENATE(F2!$A31," ",F2!$B31)) -> AGENT 9 | E13: =IF(INDIRECT(ADDRESS(ROW()+30,SUM(RIGHT(CELL("filename",E9),2)*1,4),4,1,"F2"),1)="","",CONCATENATE(F2!$A43," ",F2!$B43)) -> AGENT 21
A14: =IF(INDIRECT(ADDRESS(ROW()+18,SUM(RIGHT(CELL("filename",E10),2)*1,4),4,1,"F2"),1)="","",CONCATENATE(F2!$A32," ",F2!$B32)) -> AGENT 10 | E14: =IF(INDIRECT(ADDRESS(ROW()+30,SUM(RIGHT(CELL("filename",E10),2)*1,4),4,1,"F2"),1)="","",CONCATENATE(F2!$A44," ",F2!$B44))
A15: =IF(INDIRECT(ADDRESS(ROW()+18,SUM(RIGHT(CELL("filename",E11),2)*1,4),4,1,"F2"),1)="","",CONCATENATE(F2!$A33," ",F2!$B33)) -> AGENT 11 | E15: =IF(INDIRECT(ADDRESS(ROW()+30,SUM(RIGHT(CELL("filename",E11),2)*1,4),4,1,"F2"),1)="","",CONCATENATE(F2!$A45," ",F2!$B45)) -> AGENT 23
A16: =IF(INDIRECT(ADDRESS(ROW()+18,SUM(RIGHT(CELL("filename",E12),2)*1,4),4,1,"F2"),1)="","",CONCATENATE(F2!$A34," ",F2!$B34)) -> AGENT 12 | E16: =IF(INDIRECT(ADDRESS(ROW()+30,SUM(RIGHT(CELL("filename",E12),2)*1,4),4,1,"F2"),1)="","",CONCATENATE(F2!$A46," ",F2!$B46)) -> AGENT 24
A18: SAISONNIERS | B18: HEURE | C18: SIGNATURE | E18: STAGIAIRES | F18: HEURE | G18: SIGNATURE
A19: 3 | E19: 4
A20: =IF(INDIRECT(ADDRESS(ROW()-17,SUM(RIGHT(CELL("filename",E1),2)*1,4),4,1,"F2"),1)="","",CONCATENATE(F2!$A3," ",F2!$B3)) | E20: =IF(INDIRECT(ADDRESS(ROW()-7,SUM(RIGHT(CELL("filename",E1),2)*1,4),4,1,"F2"),1)="","",CONCATENATE(F2!$A13," ",F2!$B13)) -> STAGIAIRE 1
A21: =IF(INDIRECT(ADDRESS(ROW()-17,SUM(RIGHT(CELL("filename",E2),2)*1,4),4,1,"F2"),1)="","",CONCATENATE(F2!$A4," ",F2!$B4)) -> SAISONNIER 2 | E21: =IF(INDIRECT(ADDRESS(ROW()-7,SUM(RIGHT(CELL("filename",E2),2)*1,4),4,1,"F2"),1)="","",CONCATENATE(F2!$A14," ",F2!$B14)) -> STAGIAIRE 2
A22: =IF(INDIRECT(ADDRESS(ROW()-17,SUM(RIGHT(CELL("filename",E3),2)*1,4),4,1,"F2"),1)="","",CONCATENATE(F2!$A5," ",F2!$B5)) -> SAISONNIER 3 | E22: =IF(INDIRECT(ADDRESS(ROW()-7,SUM(RIGHT(CELL("filename",E3),2)*1,4),4,1,"F2"),1)="","",CONCATENATE(F2!$A15," ",F2!$B15)) -> STAGIAIRE 3
A23: =IF(INDIRECT(ADDRESS(ROW()-17,SUM(RIGHT(CELL("filename",E4),2)*1,4),4,1,"F2"),1)="","",CONCATENATE(F2!$A6," ",F2!$B6)) -> SAISONNIER 4 | E23: =IF(INDIRECT(ADDRESS(ROW()-7,SUM(RIGHT(CELL("filename",E4),2)*1,4),4,1,"F2"),1)="","",CONCATENATE(F2!$A16," ",F2!$B16)) -> STAGIAIRE 4
A24: =IF(INDIRECT(ADDRESS(ROW()-17,SUM(RIGHT(CELL("filename",E5),2)*1,4),4,1,"F2"),1)="","",CONCATENATE(F2!$A7," ",F2!$B7)) -> SAISONNIER 5 | E24: =IF(INDIRECT(ADDRESS(ROW()-7,SUM(RIGHT(CELL("filename",E5),2)*1,4),4,1,"F2"),1)="","",CONCATENATE(F2!$A17," ",F2!$B17)) -> STAGIAIRE 5
A25: =IF(INDIRECT(ADDRESS(ROW()-17,SUM(RIGHT(CELL("filename",E6),2)*1,4),4,1,"F2"),1)="","",CONCATENATE(F2!$A8," ",F2!$B8)) -> SAISONNIER 6 | E25: =IF(INDIRECT(ADDRESS(ROW()-7,SUM(RIGHT(CELL("filename",E6),2)*1,4),4,1,"F2"),1)="","",CONCATENATE(F2!$A18," ",F2!$B18)) -> STAGIAIRE 6
A26: =IF(INDIRECT(ADDRESS(ROW()-17,SUM(RIGHT(CELL("filename",E7),2)*1,4),4,1,"F2"),1)="","",CONCATENATE(F2!$A9," ",F2!$B9)) -> SAISONNIER 7 | E26: =IF(INDIRECT(ADDRESS(ROW()-7,SUM(RIGHT(CELL("filename",E7),2)*1,4),4,1,"F2"),1)="","",CONCATENATE(F2!$A19," ",F2!$B19)) -> STAGIAIRE 7
A27: =IF(INDIRECT(ADDRESS(ROW()-17,SUM(RIGHT(CELL("filename",E8),2)*1,4),4,1,"F2"),1)="","",CONCATENATE(F2!$A10," ",F2!$B10)) -> SAISONNIER 8 | E27: =IF(INDIRECT(ADDRESS(ROW()-7,SUM(RIGHT(CELL("filename",E8),2)*1,4),4,1,"F2"),1)="","",CONCATENATE(F2!$A20," ",F2!$B20)) -> STAGIAIRE 8
A28: =IF(INDIRECT(ADDRESS(ROW()-17,SUM(RIGHT(CELL("filename",E9),2)*1,4),4,1,"F2"),1)="","",CONCATENATE(F2!$A11," ",F2!$B11)) | E28: =IF(INDIRECT(ADDRESS(ROW()-7,SUM(RIGHT(CELL("filename",E9),2)*1,4),4,1,"F2"),1)="","",CONCATENATE(F2!$A21," ",F2!$B21))
A29: =IF(INDIRECT(ADDRESS(ROW()-17,SUM(RIGHT(CELL("filename",E10),2)*1,4),4,1,"F2"),1)="","",CONCATENATE(F2!$A12," ",F2!$B12)) | E29: =IF(INDIRECT(ADDRESS(ROW()-7,SUM(RIGHT(CELL("filename",E10),2)*1,4),4,1,"F2"),1)="","",CONCATENATE(F2!$A22," ",F2!$B22))

Sheet 14
A1: ="EMARGEMENT CONTRACTUELS "&UPPER(TEXT(F2!E1,"mmm aaaa")) -> EMARGEMENT CONTRACTUELS JUIL. 2018
A2: =DATE(YEAR(F2!E1),MONTH(F2!E1),DAY(SUM(RIGHT(CELL("filename",E1),2)*1,1))) -> 43295
A3: CONTRACTUELS | B3: HEURE | C3: SIGNATURE | E3: CONTRACTUELS | F3: HEURE | G3: SIGNATURE
A4: 1 | E4: 2
A5: =IF(INDIRECT(ADDRESS(ROW()+18,SUM(RIGHT(CELL("filename",E1),2)*1,4),4,1,"F2"),1)="","",CONCATENATE(F2!$A23," ",F2!$B23)) | E5: =IF(INDIRECT(ADDRESS(ROW()+30,SUM(RIGHT(CELL("filename",E1),2)*1,4),4,1,"F2"),1)="","",CONCATENATE(F2!$A35," ",F2!$B35))
A6: =IF(INDIRECT(ADDRESS(ROW()+18,SUM(RIGHT(CELL("filename",E2),2)*1,4),4,1,"F2"),1)="","",CONCATENATE(F2!$A24," ",F2!$B24)) | E6: =IF(INDIRECT(ADDRESS(ROW()+30,SUM(RIGHT(CELL("filename",E2),2)*1,4),4,1,"F2"),1)="","",CONCATENATE(F2!$A36," ",F2!$B36))
A7: =IF(INDIRECT(ADDRESS(ROW()+18,SUM(RIGHT(CELL("filename",E3),2)*1,4),4,1,"F2"),1)="","",CONCATENATE(F2!$A25," ",F2!$B25)) | E7: =IF(INDIRECT(ADDRESS(ROW()+30,SUM(RIGHT(CELL("filename",E3),2)*1,4),4,1,"F2"),1)="","",CONCATENATE(F2!$A37," ",F2!$B37))
A8: =IF(INDIRECT(ADDRESS(ROW()+18,SUM(RIGHT(CELL("filename",E4),2)*1,4),4,1,"F2"),1)="","",CONCATENATE(F2!$A26," ",F2!$B26)) | E8: =IF(INDIRECT(ADDRESS(ROW()+30,SUM(RIGHT(CELL("filename",E4),2)*1,4),4,1,"F2"),1)="","",CONCATENATE(F2!$A38," ",F2!$B38))
A9: =IF(INDIRECT(ADDRESS(ROW()+18,SUM(RIGHT(CELL("filename",E5),2)*1,4),4,1,"F2"),1)="","",CONCATENATE(F2!$A27," ",F2!$B27)) | E9: =IF(INDIRECT(ADDRESS(ROW()+30,SUM(RIGHT(CELL("filename",E5),2)*1,4),4,1,"F2"),1)="","",CONCATENATE(F2!$A39," ",F2!$B39))
A10: =IF(INDIRECT(ADDRESS(ROW()+18,SUM(RIGHT(CELL("filename",E6),2)*1,4),4,1,"F2"),1)="","",CONCATENATE(F2!$A28," ",F2!$B28)) | E10: =IF(INDIRECT(ADDRESS(ROW()+30,SUM(RIGHT(CELL("filename",E6),2)*1,4),4,1,"F2"),1)="","",CONCATENATE(F2!$A40," ",F2!$B40))
A11: =IF(INDIRECT(ADDRESS(ROW()+18,SUM(RIGHT(CELL("filename",E7),2)*1,4),4,1,"F2"),1)="","",CONCATENATE(F2!$A29," ",F2!$B29)) | E11: =IF(INDIRECT(ADDRESS(ROW()+30,SUM(RIGHT(CELL("filename",E7),2)*1,4),4,1,"F2"),1)="","",CONCATENATE(F2!$A41," ",F2!$B41))
A12: =IF(INDIRECT(ADDRESS(ROW()+18,SUM(RIGHT(CELL("filename",E8),2)*1,4),4,1,"F2"),1)="","",CONCATENATE(F2!$A30," ",F2!$B30)) | E12: =IF(INDIRECT(ADDRESS(ROW()+30,SUM(RIGHT(CELL("filename",E8),2)*1,4),4,1,"F2"),1)="","",CONCATENATE(F2!$A42," ",F2!$B42))
A13: =IF(INDIRECT(ADDRESS(ROW()+18,SUM(RIGHT(CELL("filename",E9),2)*1,4),4,1,"F2"),1)="","",CONCATENATE(F2!$A31," ",F2!$B31)) | E13: =IF(INDIRECT(ADDRESS(ROW()+30,SUM(RIGHT(CELL("filename",E9),2)*1,4),4,1,"F2"),1)="","",CONCATENATE(F2!$A43," ",F2!$B43))
A14: =IF(INDIRECT(ADDRESS(ROW()+18,SUM(RIGHT(CELL("filename",E10),2)*1,4),4,1,"F2"),1)="","",CONCATENATE(F2!$A32," ",F2!$B32)) | E14: =IF(INDIRECT(ADDRESS(ROW()+30,SUM(RIGHT(CELL("filename",E10),2)*1,4),4,1,"F2"),1)="","",CONCATENATE(F2!$A44," ",F2!$B44))
A15: =IF(INDIRECT(ADDRESS(ROW()+18,SUM(RIGHT(CELL("filename",E11),2)*1,4),4,1,"F2"),1)="","",CONCATENATE(F2!$A33," ",F2!$B33)) | E15: =IF(INDIRECT(ADDRESS(ROW()+30,SUM(RIGHT(CELL("filename",E11),2)*1,4),4,1,"F2"),1)="","",CONCATENATE(F2!$A45," ",F2!$B45))
A16: =IF(INDIRECT(ADDRESS(ROW()+18,SUM(RIGHT(CELL("filename",E12),2)*1,4),4,1,"F2"),1)="","",CONCATENATE(F2!$A34," ",F2!$B34)) | E16: =IF(INDIRECT(ADDRESS(ROW()+30,SUM(RIGHT(CELL("filename",E12),2)*1,4),4,1,"F2"),1)="","",CONCATENATE(F2!$A46," ",F2!$B46))
A18: SAISONNIERS | B18: HEURE | C18: SIGNATURE | E18: STAGIAIRES | F18: HEURE | G18: SIGNATURE
A19: 3 | E19: 4
A20: =IF(INDIRECT(ADDRESS(ROW()-17,SUM(RIGHT(CELL("filename",E1),2)*1,4),4,1,"F2"),1)="","",CONCATENATE(F2!$A3," ",F2!$B3)) | E20: =IF(INDIRECT(ADDRESS(ROW()-7,SUM(RIGHT(CELL("filename",E1),2)*1,4),4,1,"F2"),1)="","",CONCATENATE(F2!$A13," ",F2!$B13))
A21: =IF(INDIRECT(ADDRESS(ROW()-17,SUM(RIGHT(CELL("filename",E2),2)*1,4),4,1,"F2"),1)="","",CONCATENATE(F2!$A4," ",F2!$B4)) | E21: =IF(INDIRECT(ADDRESS(ROW()-7,SUM(RIGHT(CELL("filename",E2),2)*1,4),4,1,"F2"),1)="","",CONCATENATE(F2!$A14," ",F2!$B14))
A22: =IF(INDIRECT(ADDRESS(ROW()-17,SUM(RIGHT(CELL("filename",E3),2)*1,4),4,1,"F2"),1)="","",CONCATENATE(F2!$A5," ",F2!$B5)) | E22: =IF(INDIRECT(ADDRESS(ROW()-7,SUM(RIGHT(CELL("filename",E3),2)*1,4),4,1,"F2"),1)="","",CONCATENATE(F2!$A15," ",F2!$B15))
A23: =IF(INDIRECT(ADDRESS(ROW()-17,SUM(RIGHT(CELL("filename",E4),2)*1,4),4,1,"F2"),1)="","",CONCATENATE(F2!$A6," ",F2!$B6)) | E23: =IF(INDIRECT(ADDRESS(ROW()-7,SUM(RIGHT(CELL("filename",E4),2)*1,4),4,1,"F2"),1)="","",CONCATENATE(F2!$A16," ",F2!$B16))
A24: =IF(INDIRECT(ADDRESS(ROW()-17,SUM(RIGHT(CELL("filename",E5),2)*1,4),4,1,"F2"),1)="","",CONCATENATE(F2!$A7," ",F2!$B7)) | E24: =IF(INDIRECT(ADDRESS(ROW()-7,SUM(RIGHT(CELL("filename",E5),2)*1,4),4,1,"F2"),1)="","",CONCATENATE(F2!$A17," ",F2!$B17))
A25: =IF(INDIRECT(ADDRESS(ROW()-17,SUM(RIGHT(CELL("filename",E6),2)*1,4),4,1,"F2"),1)="","",CONCATENATE(F2!$A8," ",F2!$B8)) | E25: =IF(INDIRECT(ADDRESS(ROW()-7,SUM(RIGHT(CELL("filename",E6),2)*1,4),4,1,"F2"),1)="","",CONCATENATE(F2!$A18," ",F2!$B18))
A26: =IF(INDIRECT(ADDRESS(ROW()-17,SUM(RIGHT(CELL("filename",E7),2)*1,4),4,1,"F2"),1)="","",CONCATENATE(F2!$A9," ",F2!$B9)) | E26: =IF(INDIRECT(ADDRESS(ROW()-7,SUM(RIGHT(CELL("filename",E7),2)*1,4),4,1,"F2"),1)="","",CONCATENATE(F2!$A19," ",F2!$B19))
A27: =IF(INDIRECT(ADDRESS(ROW()-17,SUM(RIGHT(CELL("filename",E8),2)*1,4),4,1,"F2"),1)="","",CONCATENATE(F2!$A10," ",F2!$B10)) | E27: =IF(INDIRECT(ADDRESS(ROW()-7,SUM(RIGHT(CELL("filename",E8),2)*1,4),4,1,"F2"),1)="","",CONCATENATE(F2!$A20," ",F2!$B20))
A28: =IF(INDIRECT(ADDRESS(ROW()-17,SUM(RIGHT(CELL("filename",E9),2)*1,4),4,1,"F2"),1)="","",CONCATENATE(F2!$A11," ",F2!$B11)) | E28: =IF(INDIRECT(ADDRESS(ROW()-7,SUM(RIGHT(CELL("filename",E9),2)*1,4),4,1,"F2"),1)="","",CONCATENATE(F2!$A21," ",F2!$B21))
A29: =IF(INDIRECT(ADDRESS(ROW()-17,SUM(RIGHT(CELL("filename",E10),2)*1,4),4,1,"F2"),1)="","",CONCATENATE(F2!$A12," ",F2!$B12)) | E29: =IF(INDIRECT(ADDRESS(ROW()-7,SUM(RIGHT(CELL("filename",E10),2)*1,4),4,1,"F2"),1)="","",CONCATENATE(F2!$A22," ",F2!$B22))

Sheet 15
A1: ="EMARGEMENT CONTRACTUELS "&UPPER(TEXT(F2!E1,"mmm aaaa")) -> EMARGEMENT CONTRACTUELS JUIL. 2018
A2: =DATE(YEAR(F2!E1),MONTH(F2!E1),DAY(SUM(RIGHT(CELL("filename",E1),2)*1,1))) -> 43296
A3: CONTRACTUELS | B3: HEURE | C3: SIGNATURE | E3: CONTRACTUELS | F3: HEURE | G3: SIGNATURE
A4: 1 | E4: 2
A5: =IF(INDIRECT(ADDRESS(ROW()+18,SUM(RIGHT(CELL("filename",E1),2)*1,4),4,1,"F2"),1)="","",CONCATENATE(F2!$A23," ",F2!$B23)) | E5: =IF(INDIRECT(ADDRESS(ROW()+30,SUM(RIGHT(CELL("filename",E1),2)*1,4),4,1,"F2"),1)="","",CONCATENATE(F2!$A35," ",F2!$B35))
A6: =IF(INDIRECT(ADDRESS(ROW()+18,SUM(RIGHT(CELL("filename",E2),2)*1,4),4,1,"F2"),1)="","",CONCATENATE(F2!$A24," ",F2!$B24)) | E6: =IF(INDIRECT(ADDRESS(ROW()+30,SUM(RIGHT(CELL("filename",E2),2)*1,4),4,1,"F2"),1)="","",CONCATENATE(F2!$A36," ",F2!$B36))
A7: =IF(INDIRECT(ADDRESS(ROW()+18,SUM(RIGHT(CELL("filename",E3),2)*1,4),4,1,"F2"),1)="","",CONCATENATE(F2!$A25," ",F2!$B25)) | E7: =IF(INDIRECT(ADDRESS(ROW()+30,SUM(RIGHT(CELL("filename",E3),2)*1,4),4,1,"F2"),1)="","",CONCATENATE(F2!$A37," ",F2!$B37))
A8: =IF(INDIRECT(ADDRESS(ROW()+18,SUM(RIGHT(CELL("filename",E4),2)*1,4),4,1,"F2"),1)="","",CONCATENATE(F2!$A26," ",F2!$B26)) | E8: =IF(INDIRECT(ADDRESS(ROW()+30,SUM(RIGHT(CELL("filename",E4),2)*1,4),4,1,"F2"),1)="","",CONCATENATE(F2!$A38," ",F2!$B38))
A9: =IF(INDIRECT(ADDRESS(ROW()+18,SUM(RIGHT(CELL("filename",E5),2)*1,4),4,1,"F2"),1)="","",CONCATENATE(F2!$A27," ",F2!$B27)) | E9: =IF(INDIRECT(ADDRESS(ROW()+30,SUM(RIGHT(CELL("filename",E5),2)*1,4),4,1,"F2"),1)="","",CONCATENATE(F2!$A39," ",F2!$B39))
A10: =IF(INDIRECT(ADDRESS(ROW()+18,SUM(RIGHT(CELL("filename",E6),2)*1,4),4,1,"F2"),1)="","",CONCATENATE(F2!$A28," ",F2!$B28)) | E10: =IF(INDIRECT(ADDRESS(ROW()+30,SUM(RIGHT(CELL("filename",E6),2)*1,4),4,1,"F2"),1)="","",CONCATENATE(F2!$A40," ",F2!$B40))
A11: =IF(INDIRECT(ADDRESS(ROW()+18,SUM(RIGHT(CELL("filename",E7),2)*1,4),4,1,"F2"),1)="","",CONCATENATE(F2!$A29," ",F2!$B29)) | E11: =IF(INDIRECT(ADDRESS(ROW()+30,SUM(RIGHT(CELL("filename",E7),2)*1,4),4,1,"F2"),1)="","",CONCATENATE(F2!$A41," ",F2!$B41))
A12: =IF(INDIRECT(ADDRESS(ROW()+18,SUM(RIGHT(CELL("filename",E8),2)*1,4),4,1,"F2"),1)="","",CONCATENATE(F2!$A30," ",F2!$B30)) | E12: =IF(INDIRECT(ADDRESS(ROW()+30,SUM(RIGHT(CELL("filename",E8),2)*1,4),4,1,"F2"),1)="","",CONCATENATE(F2!$A42," ",F2!$B42))
A13: =IF(INDIRECT(ADDRESS(ROW()+18,SUM(RIGHT(CELL("filename",E9),2)*1,4),4,1,"F2"),1)="","",CONCATENATE(F2!$A31," ",F2!$B31)) | E13: =IF(INDIRECT(ADDRESS(ROW()+30,SUM(RIGHT(CELL("filename",E9),2)*1,4),4,1,"F2"),1)="","",CONCATENATE(F2!$A43," ",F2!$B43))
A14: =IF(INDIRECT(ADDRESS(ROW()+18,SUM(RIGHT(CELL("filename",E10),2)*1,4),4,1,"F2"),1)="","",CONCATENATE(F2!$A32," ",F2!$B32)) | E14: =IF(INDIRECT(ADDRESS(ROW()+30,SUM(RIGHT(CELL("filename",E10),2)*1,4),4,1,"F2"),1)="","",CONCATENATE(F2!$A44," ",F2!$B44))
A15: =IF(INDIRECT(ADDRESS(ROW()+18,SUM(RIGHT(CELL("filename",E11),2)*1,4),4,1,"F2"),1)="","",CONCATENATE(F2!$A33," ",F2!$B33)) | E15: =IF(INDIRECT(ADDRESS(ROW()+30,SUM(RIGHT(CELL("filename",E11),2)*1,4),4,1,"F2"),1)="","",CONCATENATE(F2!$A45," ",F2!$B45))
A16: =IF(INDIRECT(ADDRESS(ROW()+18,SUM(RIGHT(CELL("filename",E12),2)*1,4),4,1,"F2"),1)="","",CONCATENATE(F2!$A34," ",F2!$B34)) | E16: =IF(INDIRECT(ADDRESS(ROW()+30,SUM(RIGHT(CELL("filename",E12),2)*1,4),4,1,"F2"),1)="","",CONCATENATE(F2!$A46," ",F2!$B46))
A18: SAISONNIERS | B18: HEURE | C18: SIGNATURE | E18: STAGIAIRES | F18: HEURE | G18: SIGNATURE
A19: 3 | E19: 4
A20: =IF(INDIRECT(ADDRESS(ROW()-17,SUM(RIGHT(CELL("filename",E1),2)*1,4),4,1,"F2"),1)="","",CONCATENATE(F2!$A3," ",F2!$B3)) | E20: =IF(INDIRECT(ADDRESS(ROW()-7,SUM(RIGHT(CELL("filename",E1),2)*1,4),4,1,"F2"),1)="","",CONCATENATE(F2!$A13," ",F2!$B13))
A21: =IF(INDIRECT(ADDRESS(ROW()-17,SUM(RIGHT(CELL("filename",E2),2)*1,4),4,1,"F2"),1)="","",CONCATENATE(F2!$A4," ",F2!$B4)) | E21: =IF(INDIRECT(ADDRESS(ROW()-7,SUM(RIGHT(CELL("filename",E2),2)*1,4),4,1,"F2"),1)="","",CONCATENATE(F2!$A14," ",F2!$B14))
A22: =IF(INDIRECT(ADDRESS(ROW()-17,SUM(RIGHT(CELL("filename",E3),2)*1,4),4,1,"F2"),1)="","",CONCATENATE(F2!$A5," ",F2!$B5)) | E22: =IF(INDIRECT(ADDRESS(ROW()-7,SUM(RIGHT(CELL("filename",E3),2)*1,4),4,1,"F2"),1)="","",CONCATENATE(F2!$A15," ",F2!$B15))
A23: =IF(INDIRECT(ADDRESS(ROW()-17,SUM(RIGHT(CELL("filename",E4),2)*1,4),4,1,"F2"),1)="","",CONCATENATE(F2!$A6," ",F2!$B6)) | E23: =IF(INDIRECT(ADDRESS(ROW()-7,SUM(RIGHT(CELL("filename",E4),2)*1,4),4,1,"F2"),1)="","",CONCATENATE(F2!$A16," ",F2!$B16))
A24: =IF(INDIRECT(ADDRESS(ROW()-17,SUM(RIGHT(CELL("filename",E5),2)*1,4),4,1,"F2"),1)="","",CONCATENATE(F2!$A7," ",F2!$B7)) | E24: =IF(INDIRECT(ADDRESS(ROW()-7,SUM(RIGHT(CELL("filename",E5),2)*1,4),4,1,"F2"),1)="","",CONCATENATE(F2!$A17," ",F2!$B17))
A25: =IF(INDIRECT(ADDRESS(ROW()-17,SUM(RIGHT(CELL("filename",E6),2)*1,4),4,1,"F2"),1)="","",CONCATENATE(F2!$A8," ",F2!$B8)) | E25: =IF(INDIRECT(ADDRESS(ROW()-7,SUM(RIGHT(CELL("filename",E6),2)*1,4),4,1,"F2"),1)="","",CONCATENATE(F2!$A18," ",F2!$B18))
A26: =IF(INDIRECT(ADDRESS(ROW()-17,SUM(RIGHT(CELL("filename",E7),2)*1,4),4,1,"F2"),1)="","",CONCATENATE(F2!$A9," ",F2!$B9)) | E26: =IF(INDIRECT(ADDRESS(ROW()-7,SUM(RIGHT(CELL("filename",E7),2)*1,4),4,1,"F2"),1)="","",CONCATENATE(F2!$A19," ",F2!$B19))
A27: =IF(INDIRECT(ADDRESS(ROW()-17,SUM(RIGHT(CELL("filename",E8),2)*1,4),4,1,"F2"),1)="","",CONCATENATE(F2!$A10," ",F2!$B10)) | E27: =IF(INDIRECT(ADDRESS(ROW()-7,SUM(RIGHT(CELL("filename",E8),2)*1,4),4,1,"F2"),1)="","",CONCATENATE(F2!$A20," ",F2!$B20))
A28: =IF(INDIRECT(ADDRESS(ROW()-17,SUM(RIGHT(CELL("filename",E9),2)*1,4),4,1,"F2"),1)="","",CONCATENATE(F2!$A11," ",F2!$B11)) | E28: =IF(INDIRECT(ADDRESS(ROW()-7,SUM(RIGHT(CELL("filename",E9),2)*1,4),4,1,"F2"),1)="","",CONCATENATE(F2!$A21," ",F2!$B21))
A29: =IF(INDIRECT(ADDRESS(ROW()-17,SUM(RIGHT(CELL("filename",E10),2)*1,4),4,1,"F2"),1)="","",CONCATENATE(F2!$A12," ",F2!$B12)) | E29: =IF(INDIRECT(ADDRESS(ROW()-7,SUM(RIGHT(CELL("filename",E10),2)*1,4),4,1,"F2"),1)="","",CONCATENATE(F2!$A22," ",F2!$B22))

Sheet 16
A1: ="EMARGEMENT CONTRACTUELS "&UPPER(TEXT(F2!E1,"mmm aaaa")) -> EMARGEMENT CONTRACTUELS JUIL. 2018
A2: =DATE(YEAR(F2!E1),MONTH(F2!E1),DAY(SUM(RIGHT(CELL("filename",E1),2)*1,1))) -> 43297
A3: CONTRACTUELS | B3: HEURE | C3: SIGNATURE | E3: CONTRACTUELS | F3: HEURE | G3: SIGNATURE
A4: 1 | E4: 2
A5: =IF(INDIRECT(ADDRESS(ROW()+18,SUM(RIGHT(CELL("filename",E1),2)*1,4),4,1,"F2"),1)="","",CONCATENATE(F2!$A23," ",F2!$B23)) -> AGENT 1 | E5: =IF(INDIRECT(ADDRESS(ROW()+30,SUM(RIGHT(CELL("filename",E1),2)*1,4),4,1,"F2"),1)="","",CONCATENATE(F2!$A35," ",F2!$B35)) -> AGENT 13
A6: =IF(INDIRECT(ADDRESS(ROW()+18,SUM(RIGHT(CELL("filename",E2),2)*1,4),4,1,"F2"),1)="","",CONCATENATE(F2!$A24," ",F2!$B24)) -> AGENT 2 | E6: =IF(INDIRECT(ADDRESS(ROW()+30,SUM(RIGHT(CELL("filename",E2),2)*1,4),4,1,"F2"),1)="","",CONCATENATE(F2!$A36," ",F2!$B36)) -> AGENT 14
A7: =IF(INDIRECT(ADDRESS(ROW()+18,SUM(RIGHT(CELL("filename",E3),2)*1,4),4,1,"F2"),1)="","",CONCATENATE(F2!$A25," ",F2!$B25)) -> AGENT 3 | E7: =IF(INDIRECT(ADDRESS(ROW()+30,SUM(RIGHT(CELL("filename",E3),2)*1,4),4,1,"F2"),1)="","",CONCATENATE(F2!$A37," ",F2!$B37)) -> AGENT 15
A8: =IF(INDIRECT(ADDRESS(ROW()+18,SUM(RIGHT(CELL("filename",E4),2)*1,4),4,1,"F2"),1)="","",CONCATENATE(F2!$A26," ",F2!$B26)) -> AGENT 4 | E8: =IF(INDIRECT(ADDRESS(ROW()+30,SUM(RIGHT(CELL("filename",E4),2)*1,4),4,1,"F2"),1)="","",CONCATENATE(F2!$A38," ",F2!$B38)) -> AGENT 16
A9: =IF(INDIRECT(ADDRESS(ROW()+18,SUM(RIGHT(CELL("filename",E5),2)*1,4),4,1,"F2"),1)="","",CONCATENATE(F2!$A27," ",F2!$B27)) | E9: =IF(INDIRECT(ADDRESS(ROW()+30,SUM(RIGHT(CELL("filename",E5),2)*1,4),4,1,"F2"),1)="","",CONCATENATE(F2!$A39," ",F2!$B39)) -> AGENT 17
A10: =IF(INDIRECT(ADDRESS(ROW()+18,SUM(RIGHT(CELL("filename",E6),2)*1,4),4,1,"F2"),1)="","",CONCATENATE(F2!$A28," ",F2!$B28)) | E10: =IF(INDIRECT(ADDRESS(ROW()+30,SUM(RIGHT(CELL("filename",E6),2)*1,4),4,1,"F2"),1)="","",CONCATENATE(F2!$A40," ",F2!$B40)) -> AGENT 18
A11: =IF(INDIRECT(ADDRESS(ROW()+18,SUM(RIGHT(CELL("filename",E7),2)*1,4),4,1,"F2"),1)="","",CONCATENATE(F2!$A29," ",F2!$B29)) -> AGENT 7 | E11: =IF(INDIRECT(ADDRESS(ROW()+30,SUM(RIGHT(CELL("filename",E7),2)*1,4),4,1,"F2"),1)="","",CONCATENATE(F2!$A41," ",F2!$B41)) -> AGENT 19
A12: =IF(INDIRECT(ADDRESS(ROW()+18,SUM(RIGHT(CELL("filename",E8),2)*1,4),4,1,"F2"),1)="","",CONCATENATE(F2!$A30," ",F2!$B30)) -> AGENT 8 | E12: =IF(INDIRECT(ADDRESS(ROW()+30,SUM(RIGHT(CELL("filename",E8),2)*1,4),4,1,"F2"),1)="","",CONCATENATE(F2!$A42," ",F2!$B42)) -> AGENT 20
A13: =IF(INDIRECT(ADDRESS(ROW()+18,SUM(RIGHT(CELL("filename",E9),2)*1,4),4,1,"F2"),1)="","",CONCATENATE(F2!$A31," ",F2!$B31)) -> AGENT 9 | E13: =IF(INDIRECT(ADDRESS(ROW()+30,SUM(RIGHT(CELL("filename",E9),2)*1,4),4,1,"F2"),1)="","",CONCATENATE(F2!$A43," ",F2!$B43)) -> AGENT 21
A14: =IF(INDIRECT(ADDRESS(ROW()+18,SUM(RIGHT(CELL("filename",E10),2)*1,4),4,1,"F2"),1)="","",CONCATENATE(F2!$A32," ",F2!$B32)) -> AGENT 10 | E14: =IF(INDIRECT(ADDRESS(ROW()+30,SUM(RIGHT(CELL("filename",E10),2)*1,4),4,1,"F2"),1)="","",CONCATENATE(F2!$A44," ",F2!$B44))
A15: =IF(INDIRECT(ADDRESS(ROW()+18,SUM(RIGHT(CELL("filename",E11),2)*1,4),4,1,"F2"),1)="","",CONCATENATE(F2!$A33," ",F2!$B33)) -> AGENT 11 | E15: =IF(INDIRECT(ADDRESS(ROW()+30,SUM(RIGHT(CELL("filename",E11),2)*1,4),4,1,"F2"),1)="","",CONCATENATE(F2!$A45," ",F2!$B45)) -> AGENT 23
A16: =IF(INDIRECT(ADDRESS(ROW()+18,SUM(RIGHT(CELL("filename",E12),2)*1,4),4,1,"F2"),1)="","",CONCATENATE(F2!$A34," ",F2!$B34)) -> AGENT 12 | E16: =IF(INDIRECT(ADDRESS(ROW()+30,SUM(RIGHT(CELL("filename",E12),2)*1,4),4,1,"F2"),1)="","",CONCATENATE(F2!$A46," ",F2!$B46)) -> AGENT 24
A18: SAISONNIERS | B18: HEURE | C18: SIGNATURE | E18: STAGIAIRES | F18: HEURE | G18: SIGNATURE
A19: 3 | E19: 4
A20: =IF(INDIRECT(ADDRESS(ROW()-17,SUM(RIGHT(CELL("filename",E1),2)*1,4),4,1,"F2"),1)="","",CONCATENATE(F2!$A3," ",F2!$B3)) | E20: =IF(INDIRECT(ADDRESS(ROW()-7,SUM(RIGHT(CELL("filename",E1),2)*1,4),4,1,"F2"),1)="","",CONCATENATE(F2!$A13," ",F2!$B13)) -> STAGIAIRE 1
A21: =IF(INDIRECT(ADDRESS(ROW()-17,SUM(RIGHT(CELL("filename",E2),2)*1,4),4,1,"F2"),1)="","",CONCATENATE(F2!$A4," ",F2!$B4)) | E21: =IF(INDIRECT(ADDRESS(ROW()-7,SUM(RIGHT(CELL("filename",E2),2)*1,4),4,1,"F2"),1)="","",CONCATENATE(F2!$A14," ",F2!$B14)) -> STAGIAIRE 2
A22: =IF(INDIRECT(ADDRESS(ROW()-17,SUM(RIGHT(CELL("filename",E3),2)*1,4),4,1,"F2"),1)="","",CONCATENATE(F2!$A5," ",F2!$B5)) -> SAISONNIER 3 | E22: =IF(INDIRECT(ADDRESS(ROW()-7,SUM(RIGHT(CELL("filename",E3),2)*1,4),4,1,"F2"),1)="","",CONCATENATE(F2!$A15," ",F2!$B15)) -> STAGIAIRE 3
A23: =IF(INDIRECT(ADDRESS(ROW()-17,SUM(RIGHT(CELL("filename",E4),2)*1,4),4,1,"F2"),1)="","",CONCATENATE(F2!$A6," ",F2!$B6)) -> SAISONNIER 4 | E23: =IF(INDIRECT(ADDRESS(ROW()-7,SUM(RIGHT(CELL("filename",E4),2)*1,4),4,1,"F2"),1)="","",CONCATENATE(F2!$A16," ",F2!$B16)) -> STAGIAIRE 4
A24: =IF(INDIRECT(ADDRESS(ROW()-17,SUM(RIGHT(CELL("filename",E5),2)*1,4),4,1,"F2"),1)="","",CONCATENATE(F2!$A7," ",F2!$B7)) -> SAISONNIER 5 | E24: =IF(INDIRECT(ADDRESS(ROW()-7,SUM(RIGHT(CELL("filename",E5),2)*1,4),4,1,"F2"),1)="","",CONCATENATE(F2!$A17," ",F2!$B17)) -> STAGIAIRE 5
A25: =IF(INDIRECT(ADDRESS(ROW()-17,SUM(RIGHT(CELL("filename",E6),2)*1,4),4,1,"F2"),1)="","",CONCATENATE(F2!$A8," ",F2!$B8)) -> SAISONNIER 6 | E25: =IF(INDIRECT(ADDRESS(ROW()-7,SUM(RIGHT(CELL("filename",E6),2)*1,4),4,1,"F2"),1)="","",CONCATENATE(F2!$A18," ",F2!$B18)) -> STAGIAIRE 6
A26: =IF(INDIRECT(ADDRESS(ROW()-17,SUM(RIGHT(CELL("filename",E7),2)*1,4),4,1,"F2"),1)="","",CONCATENATE(F2!$A9," ",F2!$B9)) -> SAISONNIER 7 | E26: =IF(INDIRECT(ADDRESS(ROW()-7,SUM(RIGHT(CELL("filename",E7),2)*1,4),4,1,"F2"),1)="","",CONCATENATE(F2!$A19," ",F2!$B19)) -> STAGIAIRE 7
A27: =IF(INDIRECT(ADDRESS(ROW()-17,SUM(RIGHT(CELL("filename",E8),2)*1,4),4,1,"F2"),1)="","",CONCATENATE(F2!$A10," ",F2!$B10)) -> SAISONNIER 8 | E27: =IF(INDIRECT(ADDRESS(ROW()-7,SUM(RIGHT(CELL("filename",E8),2)*1,4),4,1,"F2"),1)="","",CONCATENATE(F2!$A20," ",F2!$B20)) -> STAGIAIRE 8
A28: =IF(INDIRECT(ADDRESS(ROW()-17,SUM(RIGHT(CELL("filename",E9),2)*1,4),4,1,"F2"),1)="","",CONCATENATE(F2!$A11," ",F2!$B11)) | E28: =IF(INDIRECT(ADDRESS(ROW()-7,SUM(RIGHT(CELL("filename",E9),2)*1,4),4,1,"F2"),1)="","",CONCATENATE(F2!$A21," ",F2!$B21))
A29: =IF(INDIRECT(ADDRESS(ROW()-17,SUM(RIGHT(CELL("filename",E10),2)*1,4),4,1,"F2"),1)="","",CONCATENATE(F2!$A12," ",F2!$B12)) | E29: =IF(INDIRECT(ADDRESS(ROW()-7,SUM(RIGHT(CELL("filename",E10),2)*1,4),4,1,"F2"),1)="","",CONCATENATE(F2!$A22," ",F2!$B22))

Sheet 17
A1: ="EMARGEMENT CONTRACTUELS "&UPPER(TEXT(F2!E1,"mmm aaaa")) -> EMARGEMENT CONTRACTUELS JUIL. 2018
A2: =DATE(YEAR(F2!E1),MONTH(F2!E1),DAY(SUM(RIGHT(CELL("filename",E1),2)*1,1))) -> 43298
A3: CONTRACTUELS | B3: HEURE | C3: SIGNATURE | E3: CONTRACTUELS | F3: HEURE | G3: SIGNATURE
A4: 1 | E4: 2
A5: =IF(INDIRECT(ADDRESS(ROW()+18,SUM(RIGHT(CELL("filename",E1),2)*1,4),4,1,"F2"),1)="","",CONCATENATE(F2!$A23," ",F2!$B23)) -> AGENT 1 | E5: =IF(INDIRECT(ADDRESS(ROW()+30,SUM(RIGHT(CELL("filename",E1),2)*1,4),4,1,"F2"),1)="","",CONCATENATE(F2!$A35," ",F2!$B35)) -> AGENT 13
A6: =IF(INDIRECT(ADDRESS(ROW()+18,SUM(RIGHT(CELL("filename",E2),2)*1,4),4,1,"F2"),1)="","",CONCATENATE(F2!$A24," ",F2!$B24)) -> AGENT 2 | E6: =IF(INDIRECT(ADDRESS(ROW()+30,SUM(RIGHT(CELL("filename",E2),2)*1,4),4,1,"F2"),1)="","",CONCATENATE(F2!$A36," ",F2!$B36)) -> AGENT 14
A7: =IF(INDIRECT(ADDRESS(ROW()+18,SUM(RIGHT(CELL("filename",E3),2)*1,4),4,1,"F2"),1)="","",CONCATENATE(F2!$A25," ",F2!$B25)) -> AGENT 3 | E7: =IF(INDIRECT(ADDRESS(ROW()+30,SUM(RIGHT(CELL("filename",E3),2)*1,4),4,1,"F2"),1)="","",CONCATENATE(F2!$A37," ",F2!$B37)) -> AGENT 15
A8: =IF(INDIRECT(ADDRESS(ROW()+18,SUM(RIGHT(CELL("filename",E4),2)*1,4),4,1,"F2"),1)="","",CONCATENATE(F2!$A26," ",F2!$B26)) -> AGENT 4 | E8: =IF(INDIRECT(ADDRESS(ROW()+30,SUM(RIGHT(CELL("filename",E4),2)*1,4),4,1,"F2"),1)="","",CONCATENATE(F2!$A38," ",F2!$B38)) -> AGENT 16
A9: =IF(INDIRECT(ADDRESS(ROW()+18,SUM(RIGHT(CELL("filename",E5),2)*1,4),4,1,"F2"),1)="","",CONCATENATE(F2!$A27," ",F2!$B27)) | E9: =IF(INDIRECT(ADDRESS(ROW()+30,SUM(RIGHT(CELL("filename",E5),2)*1,4),4,1,"F2"),1)="","",CONCATENATE(F2!$A39," ",F2!$B39)) -> AGENT 17
A10: =IF(INDIRECT(ADDRESS(ROW()+18,SUM(RIGHT(CELL("filename",E6),2)*1,4),4,1,"F2"),1)="","",CONCATENATE(F2!$A28," ",F2!$B28)) | E10: =IF(INDIRECT(ADDRESS(ROW()+30,SUM(RIGHT(CELL("filename",E6),2)*1,4),4,1,"F2"),1)="","",CONCATENATE(F2!$A40," ",F2!$B40)) -> AGENT 18
A11: =IF(INDIRECT(ADDRESS(ROW()+18,SUM(RIGHT(CELL("filename",E7),2)*1,4),4,1,"F2"),1)="","",CONCATENATE(F2!$A29," ",F2!$B29)) -> AGENT 7 | E11: =IF(INDIRECT(ADDRESS(ROW()+30,SUM(RIGHT(CELL("filename",E7),2)*1,4),4,1,"F2"),1)="","",CONCATENATE(F2!$A41," ",F2!$B41)) -> AGENT 19
A12: =IF(INDIRECT(ADDRESS(ROW()+18,SUM(RIGHT(CELL("filename",E8),2)*1,4),4,1,"F2"),1)="","",CONCATENATE(F2!$A30," ",F2!$B30)) -> AGENT 8 | E12: =IF(INDIRECT(ADDRESS(ROW()+30,SUM(RIGHT(CELL("filename",E8),2)*1,4),4,1,"F2"),1)="","",CONCATENATE(F2!$A42," ",F2!$B42)) -> AGENT 20
A13: =IF(INDIRECT(ADDRESS(ROW()+18,SUM(RIGHT(CELL("filename",E9),2)*1,4),4,1,"F2"),1)="","",CONCATENATE(F2!$A31," ",F2!$B31)) -> AGENT 9 | E13: =IF(INDIRECT(ADDRESS(ROW()+30,SUM(RIGHT(CELL("filename",E9),2)*1,4),4,1,"F2"),1)="","",CONCATENATE(F2!$A43," ",F2!$B43)) -> AGENT 21
A14: =IF(INDIRECT(ADDRESS(ROW()+18,SUM(RIGHT(CELL("filename",E10),2)*1,4),4,1,"F2"),1)="","",CONCATENATE(F2!$A32," ",F2!$B32)) -> AGENT 10 | E14: =IF(INDIRECT(ADDRESS(ROW()+30,SUM(RIGHT(CELL("filename",E10),2)*1,4),4,1,"F2"),1)="","",CONCATENATE(F2!$A44," ",F2!$B44))
A15: =IF(INDIRECT(ADDRESS(ROW()+18,SUM(RIGHT(CELL("filename",E11),2)*1,4),4,1,"F2"),1)="","",CONCATENATE(F2!$A33," ",F2!$B33)) -> AGENT 11 | E15: =IF(INDIRECT(ADDRESS(ROW()+30,SUM(RIGHT(CELL("filename",E11),2)*1,4),4,1,"F2"),1)="","",CONCATENATE(F2!$A45," ",F2!$B45)) -> AGENT 23
A16: =IF(INDIRECT(ADDRESS(ROW()+18,SUM(RIGHT(CELL("filename",E12),2)*1,4),4,1,"F2"),1)="","",CONCATENATE(F2!$A34," ",F2!$B34)) -> AGENT 12 | E16: =IF(INDIRECT(ADDRESS(ROW()+30,SUM(RIGHT(CELL("filename",E12),2)*1,4),4,1,"F2"),1)="","",CONCATENATE(F2!$A46," ",F2!$B46)) -> AGENT 24
A18: SAISONNIERS | B18: HEURE | C18: SIGNATURE | E18: STAGIAIRES | F18: HEURE | G18: SIGNATURE
A19: 3 | E19: 4
A20: =IF(INDIRECT(ADDRESS(ROW()-17,SUM(RIGHT(CELL("filename",E1),2)*1,4),4,1,"F2"),1)="","",CONCATENATE(F2!$A3," ",F2!$B3)) | E20: =IF(INDIRECT(ADDRESS(ROW()-7,SUM(RIGHT(CELL("filename",E1),2)*1,4),4,1,"F2"),1)="","",CONCATENATE(F2!$A13," ",F2!$B13)) -> STAGIAIRE 1
A21: =IF(INDIRECT(ADDRESS(ROW()-17,SUM(RIGHT(CELL("filename",E2),2)*1,4),4,1,"F2"),1)="","",CONCATENATE(F2!$A4," ",F2!$B4)) | E21: =IF(INDIRECT(ADDRESS(ROW()-7,SUM(RIGHT(CELL("filename",E2),2)*1,4),4,1,"F2"),1)="","",CONCATENATE(F2!$A14," ",F2!$B14)) -> STAGIAIRE 2
A22: =IF(INDIRECT(ADDRESS(ROW()-17,SUM(RIGHT(CELL("filename",E3),2)*1,4),4,1,"F2"),1)="","",CONCATENATE(F2!$A5," ",F2!$B5)) -> SAISONNIER 3 | E22: =IF(INDIRECT(ADDRESS(ROW()-7,SUM(RIGHT(CELL("filename",E3),2)*1,4),4,1,"F2"),1)="","",CONCATENATE(F2!$A15," ",F2!$B15)) -> STAGIAIRE 3
A23: =IF(INDIRECT(ADDRESS(ROW()-17,SUM(RIGHT(CELL("filename",E4),2)*1,4),4,1,"F2"),1)="","",CONCATENATE(F2!$A6," ",F2!$B6)) -> SAISONNIER 4 | E23: =IF(INDIRECT(ADDRESS(ROW()-7,SUM(RIGHT(CELL("filename",E4),2)*1,4),4,1,"F2"),1)="","",CONCATENATE(F2!$A16," ",F2!$B16)) -> STAGIAIRE 4
A24: =IF(INDIRECT(ADDRESS(ROW()-17,SUM(RIGHT(CELL("filename",E5),2)*1,4),4,1,"F2"),1)="","",CONCATENATE(F2!$A7," ",F2!$B7)) -> SAISONNIER 5 | E24: =IF(INDIRECT(ADDRESS(ROW()-7,SUM(RIGHT(CELL("filename",E5),2)*1,4),4,1,"F2"),1)="","",CONCATENATE(F2!$A17," ",F2!$B17)) -> STAGIAIRE 5
A25: =IF(INDIRECT(ADDRESS(ROW()-17,SUM(RIGHT(CELL("filename",E6),2)*1,4),4,1,"F2"),1)="","",CONCATENATE(F2!$A8," ",F2!$B8)) -> SAISONNIER 6 | E25: =IF(INDIRECT(ADDRESS(ROW()-7,SUM(RIGHT(CELL("filename",E6),2)*1,4),4,1,"F2"),1)="","",CONCATENATE(F2!$A18," ",F2!$B18)) -> STAGIAIRE 6
A26: =IF(INDIRECT(ADDRESS(ROW()-17,SUM(RIGHT(CELL("filename",E7),2)*1,4),4,1,"F2"),1)="","",CONCATENATE(F2!$A9," ",F2!$B9)) -> SAISONNIER 7 | E26: =IF(INDIRECT(ADDRESS(ROW()-7,SUM(RIGHT(CELL("filename",E7),2)*1,4),4,1,"F2"),1)="","",CONCATENATE(F2!$A19," ",F2!$B19)) -> STAGIAIRE 7
A27: =IF(INDIRECT(ADDRESS(ROW()-17,SUM(RIGHT(CELL("filename",E8),2)*1,4),4,1,"F2"),1)="","",CONCATENATE(F2!$A10," ",F2!$B10)) -> SAISONNIER 8 | E27: =IF(INDIRECT(ADDRESS(ROW()-7,SUM(RIGHT(CELL("filename",E8),2)*1,4),4,1,"F2"),1)="","",CONCATENATE(F2!$A20," ",F2!$B20)) -> STAGIAIRE 8
A28: =IF(INDIRECT(ADDRESS(ROW()-17,SUM(RIGHT(CELL("filename",E9),2)*1,4),4,1,"F2"),1)="","",CONCATENATE(F2!$A11," ",F2!$B11)) | E28: =IF(INDIRECT(ADDRESS(ROW()-7,SUM(RIGHT(CELL("filename",E9),2)*1,4),4,1,"F2"),1)="","",CONCATENATE(F2!$A21," ",F2!$B21))
A29: =IF(INDIRECT(ADDRESS(ROW()-17,SUM(RIGHT(CELL("filename",E10),2)*1,4),4,1,"F2"),1)="","",CONCATENATE(F2!$A12," ",F2!$B12)) | E29: =IF(INDIRECT(ADDRESS(ROW()-7,SUM(RIGHT(CELL("filename",E10),2)*1,4),4,1,"F2"),1)="","",CONCATENATE(F2!$A22," ",F2!$B22))

Sheet 18
A1: ="EMARGEMENT CONTRACTUELS "&UPPER(TEXT(F2!E1,"mmm aaaa")) -> EMARGEMENT CONTRACTUELS JUIL. 2018
A2: =DATE(YEAR(F2!E1),MONTH(F2!E1),DAY(SUM(RIGHT(CELL("filename",E1),2)*1,1))) -> 43299
A3: CONTRACTUELS | B3: HEURE | C3: SIGNATURE | E3: CONTRACTUELS | F3: HEURE | G3: SIGNATURE
A4: 1 | E4: 2
A5: =IF(INDIRECT(ADDRESS(ROW()+18,SUM(RIGHT(CELL("filename",E1),2)*1,4),4,1,"F2"),1)="","",CONCATENATE(F2!$A23," ",F2!$B23)) -> AGENT 1 | E5: =IF(INDIRECT(ADDRESS(ROW()+30,SUM(RIGHT(CELL("filename",E1),2)*1,4),4,1,"F2"),1)="","",CONCATENATE(F2!$A35," ",F2!$B35)) -> AGENT 13
A6: =IF(INDIRECT(ADDRESS(ROW()+18,SUM(RIGHT(CELL("filename",E2),2)*1,4),4,1,"F2"),1)="","",CONCATENATE(F2!$A24," ",F2!$B24)) -> AGENT 2 | E6: =IF(INDIRECT(ADDRESS(ROW()+30,SUM(RIGHT(CELL("filename",E2),2)*1,4),4,1,"F2"),1)="","",CONCATENATE(F2!$A36," ",F2!$B36)) -> AGENT 14
A7: =IF(INDIRECT(ADDRESS(ROW()+18,SUM(RIGHT(CELL("filename",E3),2)*1,4),4,1,"F2"),1)="","",CONCATENATE(F2!$A25," ",F2!$B25)) -> AGENT 3 | E7: =IF(INDIRECT(ADDRESS(ROW()+30,SUM(RIGHT(CELL("filename",E3),2)*1,4),4,1,"F2"),1)="","",CONCATENATE(F2!$A37," ",F2!$B37)) -> AGENT 15
A8: =IF(INDIRECT(ADDRESS(ROW()+18,SUM(RIGHT(CELL("filename",E4),2)*1,4),4,1,"F2"),1)="","",CONCATENATE(F2!$A26," ",F2!$B26)) -> AGENT 4 | E8: =IF(INDIRECT(ADDRESS(ROW()+30,SUM(RIGHT(CELL("filename",E4),2)*1,4),4,1,"F2"),1)="","",CONCATENATE(F2!$A38," ",F2!$B38)) -> AGENT 16
A9: =IF(INDIRECT(ADDRESS(ROW()+18,SUM(RIGHT(CELL("filename",E5),2)*1,4),4,1,"F2"),1)="","",CONCATENATE(F2!$A27," ",F2!$B27)) | E9: =IF(INDIRECT(ADDRESS(ROW()+30,SUM(RIGHT(CELL("filename",E5),2)*1,4),4,1,"F2"),1)="","",CONCATENATE(F2!$A39," ",F2!$B39)) -> AGENT 17
A10: =IF(INDIRECT(ADDRESS(ROW()+18,SUM(RIGHT(CELL("filename",E6),2)*1,4),4,1,"F2"),1)="","",CONCATENATE(F2!$A28," ",F2!$B28)) | E10: =IF(INDIRECT(ADDRESS(ROW()+30,SUM(RIGHT(CELL("filename",E6),2)*1,4),4,1,"F2"),1)="","",CONCATENATE(F2!$A40," ",F2!$B40)) -> AGENT 18
A11: =IF(INDIRECT(ADDRESS(ROW()+18,SUM(RIGHT(CELL("filename",E7),2)*1,4),4,1,"F2"),1)="","",CONCATENATE(F2!$A29," ",F2!$B29)) -> AGENT 7 | E11: =IF(INDIRECT(ADDRESS(ROW()+30,SUM(RIGHT(CELL("filename",E7),2)*1,4),4,1,"F2"),1)="","",CONCATENATE(F2!$A41," ",F2!$B41)) -> AGENT 19
A12: =IF(INDIRECT(ADDRESS(ROW()+18,SUM(RIGHT(CELL("filename",E8),2)*1,4),4,1,"F2"),1)="","",CONCATENATE(F2!$A30," ",F2!$B30)) -> AGENT 8 | E12: =IF(INDIRECT(ADDRESS(ROW()+30,SUM(RIGHT(CELL("filename",E8),2)*1,4),4,1,"F2"),1)="","",CONCATENATE(F2!$A42," ",F2!$B42)) -> AGENT 20
A13: =IF(INDIRECT(ADDRESS(ROW()+18,SUM(RIGHT(CELL("filename",E9),2)*1,4),4,1,"F2"),1)="","",CONCATENATE(F2!$A31," ",F2!$B31)) -> AGENT 9 | E13: =IF(INDIRECT(ADDRESS(ROW()+30,SUM(RIGHT(CELL("filename",E9),2)*1,4),4,1,"F2"),1)="","",CONCATENATE(F2!$A43," ",F2!$B43)) -> AGENT 21
A14: =IF(INDIRECT(ADDRESS(ROW()+18,SUM(RIGHT(CELL("filename",E10),2)*1,4),4,1,"F2"),1)="","",CONCATENATE(F2!$A32," ",F2!$B32)) -> AGENT 10 | E14: =IF(INDIRECT(ADDRESS(ROW()+30,SUM(RIGHT(CELL("filename",E10),2)*1,4),4,1,"F2"),1)="","",CONCATENATE(F2!$A44," ",F2!$B44))
