Workbook

Sheet consignes
A1: 1) | B1: feuille F2, en cliquant en C1, vous sélectionnez toute la zone des présences, afin de pouvoir l’effacer pour le mois suivant
A2: 2) | B2: choisir le mois en feuille F2, en cliquant dans la liste déroulante en E1,
A3: 3) | B3: servir la zone des présences, si vide, travaille tout le mois excepté samedi(jour7) et dimanche(jour1)

Sheet F2
C1: =HYPERLINK("#C3:D46","Présence"&CHAR(10)&"du / au"&CHAR(10)&"raz mois") -> Présence du / au raz mois | E1: 43282
B2: =EOMONTH(E1,0) -> 43312 | C2: Début | D2: Fin | E2: =IF(DAY(COLUMN()-3)>DAY($B2),"",DATE(YEAR($E1),MONTH($E1),DAY(COLUMN()-3))) -> 43282 | F2: =IF(DAY(COLUMN()-3)>DAY($B2),"",DATE(YEAR($E1),MONTH($E1),DAY(COLUMN()-3))) -> 43283 | G2: =IF(DAY(COLUMN()-3)>DAY($B2),"",DATE(YEAR($E1),MONTH($E1),DAY(COLUMN()-3))) -> 43284 | H2: =IF(DAY(COLUMN()-3)>DAY($B2),"",DATE(YEAR($E1),MONTH($E1),DAY(COLUMN()-3))) -> 43285 | I2: =IF(DAY(COLUMN()-3)>DAY($B2),"",DATE(YEAR($E1),MONTH($E1),DAY(COLUMN()-3))) -> 43286 | J2: =IF(DAY(COLUMN()-3)>DAY($B2),"",DATE(YEAR($E1),MONTH($E1),DAY(COLUMN()-3))) -> 43287 | K2: =IF(DAY(COLUMN()-3)>DAY($B2),"",DATE(YEAR($E1),MONTH($E1),DAY(COLUMN()-3))) -> 43288 | L2: =IF(DAY(COLUMN()-3)>DAY($B2),"",DATE(YEAR($E1),MONTH($E1),DAY(COLUMN()-3))) -> 43289 | ... AI2: =IF(DAY(COLUMN()-3)>DAY($B2),"",DATE(YEAR($E1),MONTH($E1),DAY(COLUMN()-3))) -> 43312 | AJ2: Jours travaillés dans le mois
A3: SAISONNIER | B3: 1 | C3: 9 | D3: 10 | E3: =IF(OR($B3="",E$2=""),"",IF(OR(WEEKDAY(E$2)=7,WEEKDAY(E$2)=1),"",IF(AND($C3="",$D3=""),1,IF(AND($C3<=DAY(E$2),$D3=""),1,IF(AND($C3<=DAY(E$2),$D3>=DAY(E$2)),1,IF(AND($C3="",$D3>=DAY(E$2)),1,"")))))) | F3: =IF(OR($B3="",F$2=""),"",IF(OR(WEEKDAY(F$2)=7,WEEKDAY(F$2)=1),"",IF(AND($C3="",$D3=""),1,IF(AND($C3<=DAY(F$2),$D3=""),1,IF(AND($C3<=DAY(F$2),$D3>=DAY(F$2)),1,IF(AND($C3="",$D3>=DAY(F$2)),1,"")))))) | G3: =IF(OR($B3="",G$2=""),"",IF(OR(WEEKDAY(G$2)=7,WEEKDAY(G$2)=1),"",IF(AND($C3="",$D3=""),1,IF(AND($C3<=DAY(G$2),$D3=""),1,IF(AND($C3<=DAY(G$2),$D3>=DAY(G$2)),1,IF(AND($C3="",$D3>=DAY(G$2)),1,"")))))) | H3: =IF(OR($B3="",H$2=""),"",IF(OR(WEEKDAY(H$2)=7,WEEKDAY(H$2)=1),"",IF(AND($C3="",$D3=""),1,IF(AND($C3<=DAY(H$2),$D3=""),1,IF(AND($C3<=DAY(H$2),$D3>=DAY(H$2)),1,IF(AND($C3="",$D3>=DAY(H$2)),1,"")))))) | I3: =IF(OR($B3="",I$2=""),"",IF(OR(WEEKDAY(I$2)=7,WEEKDAY(I$2)=1),"",IF(AND($C3="",$D3=""),1,IF(AND($C3<=DAY(I$2),$D3=""),1,IF(AND($C3<=DAY(I$2),$D3>=DAY(I$2)),1,IF(AND($C3="",$D3>=DAY(I$2)),1,"")))))) | J3: =IF(OR($B3="",J$2=""),"",IF(OR(WEEKDAY(J$2)=7,WEEKDAY(J$2)=1),"",IF(AND($C3="",$D3=""),1,IF(AND($C3<=DAY(J$2),$D3=""),1,IF(AND($C3<=DAY(J$2),$D3>=DAY(J$2)),1,IF(AND($C3="",$D3>=DAY(J$2)),1,"")))))) | K3: =IF(OR($B3="",K$2=""),"",IF(OR(WEEKDAY(K$2)=7,WEEKDAY(K$2)=1),"",IF(AND($C3="",$D3=""),1,IF(AND($C3<=DAY(K$2),$D3=""),1,IF(AND($C3<=DAY(K$2),$D3>=DAY(K$2)),1,IF(AND($C3="",$D3>=DAY(K$2)),1,"")))))) | L3: =IF(OR($B3="",L$2=""),"",IF(OR(WEEKDAY(L$2)=7,WEEKDAY(L$2)=1),"",IF(AND($C3="",$D3=""),1,IF(AND($C3<=DAY(L$2),$D3=""),1,IF(AND($C3<=DAY(L$2),$D3>=DAY(L$2)),1,IF(AND($C3="",$D3>=DAY(L$2)),1,"")))))) | ... AI3: =IF(OR($B3="",AI$2=""),"",IF(OR(WEEKDAY(AI$2)=7,WEEKDAY(AI$2)=1),"",IF(AND($C3="",$D3=""),1,IF(AND($C3<=DAY(AI$2),$D3=""),1,IF(AND($C3<=DAY(AI$2),$D3>=DAY(AI$2)),1,IF(AND($C3="",$D3>=DAY(AI$2)),1,"")))))) | AJ3: =IF($B3="","",SUM(E3:AI3)) -> 2
A4: SAISONNIER | B4: 2 | D4: 15 | E4: =IF(OR($B4="",E$2=""),"",IF(OR(WEEKDAY(E$2)=7,WEEKDAY(E$2)=1),"",IF(AND($C4="",$D4=""),1,IF(AND($C4<=DAY(E$2),$D4=""),1,IF(AND($C4<=DAY(E$2),$D4>=DAY(E$2)),1,IF(AND($C4="",$D4>=DAY(E$2)),1,"")))))) | F4: =IF(OR($B4="",F$2=""),"",IF(OR(WEEKDAY(F$2)=7,WEEKDAY(F$2)=1),"",IF(AND($C4="",$D4=""),1,IF(AND($C4<=DAY(F$2),$D4=""),1,IF(AND($C4<=DAY(F$2),$D4>=DAY(F$2)),1,IF(AND($C4="",$D4>=DAY(F$2)),1,"")))))) -> 1 | G4: =IF(OR($B4="",G$2=""),"",IF(OR(WEEKDAY(G$2)=7,WEEKDAY(G$2)=1),"",IF(AND($C4="",$D4=""),1,IF(AND($C4<=DAY(G$2),$D4=""),1,IF(AND($C4<=DAY(G$2),$D4>=DAY(G$2)),1,IF(AND($C4="",$D4>=DAY(G$2)),1,"")))))) -> 1 | H4: =IF(OR($B4="",H$2=""),"",IF(OR(WEEKDAY(H$2)=7,WEEKDAY(H$2)=1),"",IF(AND($C4="",$D4=""),1,IF(AND($C4<=DAY(H$2),$D4=""),1,IF(AND($C4<=DAY(H$2),$D4>=DAY(H$2)),1,IF(AND($C4="",$D4>=DAY(H$2)),1,"")))))) -> 1 | I4: =IF(OR($B4="",I$2=""),"",IF(OR(WEEKDAY(I$2)=7,WEEKDAY(I$2)=1),"",IF(AND($C4="",$D4=""),1,IF(AND($C4<=DAY(I$2),$D4=""),1,IF(AND($C4<=DAY(I$2),$D4>=DAY(I$2)),1,IF(AND($C4="",$D4>=DAY(I$2)),1,"")))))) -> 1 | J4: =IF(OR($B4="",J$2=""),"",IF(OR(WEEKDAY(J$2)=7,WEEKDAY(J$2)=1),"",IF(AND($C4="",$D4=""),1,IF(AND($C4<=DAY(J$2),$D4=""),1,IF(AND($C4<=DAY(J$2),$D4>=DAY(J$2)),1,IF(AND($C4="",$D4>=DAY(J$2)),1,"")))))) -> 1 | K4: =IF(OR($B4="",K$2=""),"",IF(OR(WEEKDAY(K$2)=7,WEEKDAY(K$2)=1),"",IF(AND($C4="",$D4=""),1,IF(AND($C4<=DAY(K$2),$D4=""),1,IF(AND($C4<=DAY(K$2),$D4>=DAY(K$2)),1,IF(AND($C4="",$D4>=DAY(K$2)),1,"")))))) | L4: =IF(OR($B4="",L$2=""),"",IF(OR(WEEKDAY(L$2)=7,WEEKDAY(L$2)=1),"",IF(AND($C4="",$D4=""),1,IF(AND($C4<=DAY(L$2),$D4=""),1,IF(AND($C4<=DAY(L$2),$D4>=DAY(L$2)),1,IF(AND($C4="",$D4>=DAY(L$2)),1,"")))))) | ... AI4: =IF(OR($B4="",AI$2=""),"",IF(OR(WEEKDAY(AI$2)=7,WEEKDAY(AI$2)=1),"",IF(AND($C4="",$D4=""),1,IF(AND($C4<=DAY(AI$2),$D4=""),1,IF(AND($C4<=DAY(AI$2),$D4>=DAY(AI$2)),1,IF(AND($C4="",$D4>=DAY(AI$2)),1,"")))))) | AJ4: =IF($B4="","",SUM(E4:AI4)) -> 10
A5: SAISONNIER | B5: 3 | C5: 12 | E5: =IF(OR($B5="",E$2=""),"",IF(OR(WEEKDAY(E$2)=7,WEEKDAY(E$2)=1),"",IF(AND($C5="",$D5=""),1,IF(AND($C5<=DAY(E$2),$D5=""),1,IF(AND($C5<=DAY(E$2),$D5>=DAY(E$2)),1,IF(AND($C5="",$D5>=DAY(E$2)),1,"")))))) | F5: =IF(OR($B5="",F$2=""),"",IF(OR(WEEKDAY(F$2)=7,WEEKDAY(F$2)=1),"",IF(AND($C5="",$D5=""),1,IF(AND($C5<=DAY(F$2),$D5=""),1,IF(AND($C5<=DAY(F$2),$D5>=DAY(F$2)),1,IF(AND($C5="",$D5>=DAY(F$2)),1,"")))))) | G5: =IF(OR($B5="",G$2=""),"",IF(OR(WEEKDAY(G$2)=7,WEEKDAY(G$2)=1),"",IF(AND($C5="",$D5=""),1,IF(AND($C5<=DAY(G$2),$D5=""),1,IF(AND($C5<=DAY(G$2),$D5>=DAY(G$2)),1,IF(AND($C5="",$D5>=DAY(G$2)),1,"")))))) | H5: =IF(OR($B5="",H$2=""),"",IF(OR(WEEKDAY(H$2)=7,WEEKDAY(H$2)=1),"",IF(AND($C5="",$D5=""),1,IF(AND($C5<=DAY(H$2),$D5=""),1,IF(AND($C5<=DAY(H$2),$D5>=DAY(H$2)),1,IF(AND($C5="",$D5>=DAY(H$2)),1,"")))))) | I5: =IF(OR($B5="",I$2=""),"",IF(OR(WEEKDAY(I$2)=7,WEEKDAY(I$2)=1),"",IF(AND($C5="",$D5=""),1,IF(AND($C5<=DAY(I$2),$D5=""),1,IF(AND($C5<=DAY(I$2),$D5>=DAY(I$2)),1,IF(AND($C5="",$D5>=DAY(I$2)),1,"")))))) | J5: =IF(OR($B5="",J$2=""),"",IF(OR(WEEKDAY(J$2)=7,WEEKDAY(J$2)=1),"",IF(AND($C5="",$D5=""),1,IF(AND($C5<=DAY(J$2),$D5=""),1,IF(AND($C5<=DAY(J$2),$D5>=DAY(J$2)),1,IF(AND($C5="",$D5>=DAY(J$2)),1,"")))))) | K5: =IF(OR($B5="",K$2=""),"",IF(OR(WEEKDAY(K$2)=7,WEEKDAY(K$2)=1),"",IF(AND($C5="",$D5=""),1,IF(AND($C5<=DAY(K$2),$D5=""),1,IF(AND($C5<=DAY(K$2),$D5>=DAY(K$2)),1,IF(AND($C5="",$D5>=DAY(K$2)),1,"")))))) | L5: =IF(OR($B5="",L$2=""),"",IF(OR(WEEKDAY(L$2)=7,WEEKDAY(L$2)=1),"",IF(AND($C5="",$D5=""),1,IF(AND($C5<=DAY(L$2),$D5=""),1,IF(AND($C5<=DAY(L$2),$D5>=DAY(L$2)),1,IF(AND($C5="",$D5>=DAY(L$2)),1,"")))))) | ... AI5: =IF(OR($B5="",AI$2=""),"",IF(OR(WEEKDAY(AI$2)=7,WEEKDAY(AI$2)=1),"",IF(AND($C5="",$D5=""),1,IF(AND($C5<=DAY(AI$2),$D5=""),1,IF(AND($C5<=DAY(AI$2),$D5>=DAY(AI$2)),1,IF(AND($C5="",$D5>=DAY(AI$2)),1,"")))))) -> 1 | AJ5: =IF($B5="","",SUM(E5:AI5)) -> 14
A6: SAISONNIER | B6: 4 | C6: 7 | D6: 19 | E6: =IF(OR($B6="",E$2=""),"",IF(OR(WEEKDAY(E$2)=7,WEEKDAY(E$2)=1),"",IF(AND($C6="",$D6=""),1,IF(AND($C6<=DAY(E$2),$D6=""),1,IF(AND($C6<=DAY(E$2),$D6>=DAY(E$2)),1,IF(AND($C6="",$D6>=DAY(E$2)),1,"")))))) | F6: =IF(OR($B6="",F$2=""),"",IF(OR(WEEKDAY(F$2)=7,WEEKDAY(F$2)=1),"",IF(AND($C6="",$D6=""),1,IF(AND($C6<=DAY(F$2),$D6=""),1,IF(AND($C6<=DAY(F$2),$D6>=DAY(F$2)),1,IF(AND($C6="",$D6>=DAY(F$2)),1,"")))))) | G6: =IF(OR($B6="",G$2=""),"",IF(OR(WEEKDAY(G$2)=7,WEEKDAY(G$2)=1),"",IF(AND($C6="",$D6=""),1,IF(AND($C6<=DAY(G$2),$D6=""),1,IF(AND($C6<=DAY(G$2),$D6>=DAY(G$2)),1,IF(AND($C6="",$D6>=DAY(G$2)),1,"")))))) | H6: =IF(OR($B6="",H$2=""),"",IF(OR(WEEKDAY(H$2)=7,WEEKDAY(H$2)=1),"",IF(AND($C6="",$D6=""),1,IF(AND($C6<=DAY(H$2),$D6=""),1,IF(AND($C6<=DAY(H$2),$D6>=DAY(H$2)),1,IF(AND($C6="",$D6>=DAY(H$2)),1,"")))))) | I6: =IF(OR($B6="",I$2=""),"",IF(OR(WEEKDAY(I$2)=7,WEEKDAY(I$2)=1),"",IF(AND($C6="",$D6=""),1,IF(AND($C6<=DAY(I$2),$D6=""),1,IF(AND($C6<=DAY(I$2),$D6>=DAY(I$2)),1,IF(AND($C6="",$D6>=DAY(I$2)),1,"")))))) | J6: =IF(OR($B6="",J$2=""),"",IF(OR(WEEKDAY(J$2)=7,WEEKDAY(J$2)=1),"",IF(AND($C6="",$D6=""),1,IF(AND($C6<=DAY(J$2),$D6=""),1,IF(AND($C6<=DAY(J$2),$D6>=DAY(J$2)),1,IF(AND($C6="",$D6>=DAY(J$2)),1,"")))))) | K6: =IF(OR($B6="",K$2=""),"",IF(OR(WEEKDAY(K$2)=7,WEEKDAY(K$2)=1),"",IF(AND($C6="",$D6=""),1,IF(AND($C6<=DAY(K$2),$D6=""),1,IF(AND($C6<=DAY(K$2),$D6>=DAY(K$2)),1,IF(AND($C6="",$D6>=DAY(K$2)),1,"")))))) | L6: =IF(OR($B6="",L$2=""),"",IF(OR(WEEKDAY(L$2)=7,WEEKDAY(L$2)=1),"",IF(AND($C6="",$D6=""),1,IF(AND($C6<=DAY(L$2),$D6=""),1,IF(AND($C6<=DAY(L$2),$D6>=DAY(L$2)),1,IF(AND($C6="",$D6>=DAY(L$2)),1,"")))))) | ... AI6: =IF(OR($B6="",AI$2=""),"",IF(OR(WEEKDAY(AI$2)=7,WEEKDAY(AI$2)=1),"",IF(AND($C6="",$D6=""),1,IF(AND($C6<=DAY(AI$2),$D6=""),1,IF(AND($C6<=DAY(AI$2),$D6>=DAY(AI$2)),1,IF(AND($C6="",$D6>=DAY(AI$2)),1,"")))))) | AJ6: =IF($B6="","",SUM(E6:AI6)) -> 9
A7: SAISONNIER | B7: 5 | E7: =IF(OR($B7="",E$2=""),"",IF(OR(WEEKDAY(E$2)=7,WEEKDAY(E$2)=1),"",IF(AND($C7="",$D7=""),1,IF(AND($C7<=DAY(E$2),$D7=""),1,IF(AND($C7<=DAY(E$2),$D7>=DAY(E$2)),1,IF(AND($C7="",$D7>=DAY(E$2)),1,"")))))) | F7: =IF(OR($B7="",F$2=""),"",IF(OR(WEEKDAY(F$2)=7,WEEKDAY(F$2)=1),"",IF(AND($C7="",$D7=""),1,IF(AND($C7<=DAY(F$2),$D7=""),1,IF(AND($C7<=DAY(F$2),$D7>=DAY(F$2)),1,IF(AND($C7="",$D7>=DAY(F$2)),1,"")))))) -> 1 | G7: =IF(OR($B7="",G$2=""),"",IF(OR(WEEKDAY(G$2)=7,WEEKDAY(G$2)=1),"",IF(AND($C7="",$D7=""),1,IF(AND($C7<=DAY(G$2),$D7=""),1,IF(AND($C7<=DAY(G$2),$D7>=DAY(G$2)),1,IF(AND($C7="",$D7>=DAY(G$2)),1,"")))))) -> 1 | H7: =IF(OR($B7="",H$2=""),"",IF(OR(WEEKDAY(H$2)=7,WEEKDAY(H$2)=1),"",IF(AND($C7="",$D7=""),1,IF(AND($C7<=DAY(H$2),$D7=""),1,IF(AND($C7<=DAY(H$2),$D7>=DAY(H$2)),1,IF(AND($C7="",$D7>=DAY(H$2)),1,"")))))) -> 1 | I7: =IF(OR($B7="",I$2=""),"",IF(OR(WEEKDAY(I$2)=7,WEEKDAY(I$2)=1),"",IF(AND($C7="",$D7=""),1,IF(AND($C7<=DAY(I$2),$D7=""),1,IF(AND($C7<=DAY(I$2),$D7>=DAY(I$2)),1,IF(AND($C7="",$D7>=DAY(I$2)),1,"")))))) -> 1 | J7: =IF(OR($B7="",J$2=""),"",IF(OR(WEEKDAY(J$2)=7,WEEKDAY(J$2)=1),"",IF(AND($C7="",$D7=""),1,IF(AND($C7<=DAY(J$2),$D7=""),1,IF(AND($C7<=DAY(J$2),$D7>=DAY(J$2)),1,IF(AND($C7="",$D7>=DAY(J$2)),1,"")))))) -> 1 | K7: =IF(OR($B7="",K$2=""),"",IF(OR(WEEKDAY(K$2)=7,WEEKDAY(K$2)=1),"",IF(AND($C7="",$D7=""),1,IF(AND($C7<=DAY(K$2),$D7=""),1,IF(AND($C7<=DAY(K$2),$D7>=DAY(K$2)),1,IF(AND($C7="",$D7>=DAY(K$2)),1,"")))))) | L7: =IF(OR($B7="",L$2=""),"",IF(OR(WEEKDAY(L$2)=7,WEEKDAY(L$2)=1),"",IF(AND($C7="",$D7=""),1,IF(AND($C7<=DAY(L$2),$D7=""),1,IF(AND($C7<=DAY(L$2),$D7>=DAY(L$2)),1,IF(AND($C7="",$D7>=DAY(L$2)),1,"")))))) | ... AI7: =IF(OR($B7="",AI$2=""),"",IF(OR(WEEKDAY(AI$2)=7,WEEKDAY(AI$2)=1),"",IF(AND($C7="",$D7=""),1,IF(AND($C7<=DAY(AI$2),$D7=""),1,IF(AND($C7<=DAY(AI$2),$D7>=DAY(AI$2)),1,IF(AND($C7="",$D7>=DAY(AI$2)),1,"")))))) -> 1 | AJ7: =IF($B7="","",SUM(E7:AI7)) -> 22
A8: SAISONNIER | B8: 6 | E8: =IF(OR($B8="",E$2=""),"",IF(OR(WEEKDAY(E$2)=7,WEEKDAY(E$2)=1),"",IF(AND($C8="",$D8=""),1,IF(AND($C8<=DAY(E$2),$D8=""),1,IF(AND($C8<=DAY(E$2),$D8>=DAY(E$2)),1,IF(AND($C8="",$D8>=DAY(E$2)),1,"")))))) | F8: =IF(OR($B8="",F$2=""),"",IF(OR(WEEKDAY(F$2)=7,WEEKDAY(F$2)=1),"",IF(AND($C8="",$D8=""),1,IF(AND($C8<=DAY(F$2),$D8=""),1,IF(AND($C8<=DAY(F$2),$D8>=DAY(F$2)),1,IF(AND($C8="",$D8>=DAY(F$2)),1,"")))))) -> 1 | G8: =IF(OR($B8="",G$2=""),"",IF(OR(WEEKDAY(G$2)=7,WEEKDAY(G$2)=1),"",IF(AND($C8="",$D8=""),1,IF(AND($C8<=DAY(G$2),$D8=""),1,IF(AND($C8<=DAY(G$2),$D8>=DAY(G$2)),1,IF(AND($C8="",$D8>=DAY(G$2)),1,"")))))) -> 1 | H8: =IF(OR($B8="",H$2=""),"",IF(OR(WEEKDAY(H$2)=7,WEEKDAY(H$2)=1),"",IF(AND($C8="",$D8=""),1,IF(AND($C8<=DAY(H$2),$D8=""),1,IF(AND($C8<=DAY(H$2),$D8>=DAY(H$2)),1,IF(AND($C8="",$D8>=DAY(H$2)),1,"")))))) -> 1 | I8: =IF(OR($B8="",I$2=""),"",IF(OR(WEEKDAY(I$2)=7,WEEKDAY(I$2)=1),"",IF(AND($C8="",$D8=""),1,IF(AND($C8<=DAY(I$2),$D8=""),1,IF(AND($C8<=DAY(I$2),$D8>=DAY(I$2)),1,IF(AND($C8="",$D8>=DAY(I$2)),1,"")))))) -> 1 | J8: =IF(OR($B8="",J$2=""),"",IF(OR(WEEKDAY(J$2)=7,WEEKDAY(J$2)=1),"",IF(AND($C8="",$D8=""),1,IF(AND($C8<=DAY(J$2),$D8=""),1,IF(AND($C8<=DAY(J$2),$D8>=DAY(J$2)),1,IF(AND($C8="",$D8>=DAY(J$2)),1,"")))))) -> 1 | K8: =IF(OR($B8="",K$2=""),"",IF(OR(WEEKDAY(K$2)=7,WEEKDAY(K$2)=1),"",IF(AND($C8="",$D8=""),1,IF(AND($C8<=DAY(K$2),$D8=""),1,IF(AND($C8<=DAY(K$2),$D8>=DAY(K$2)),1,IF(AND($C8="",$D8>=DAY(K$2)),1,"")))))) | L8: =IF(OR($B8="",L$2=""),"",IF(OR(WEEKDAY(L$2)=7,WEEKDAY(L$2)=1),"",IF(AND($C8="",$D8=""),1,IF(AND($C8<=DAY(L$2),$D8=""),1,IF(AND($C8<=DAY(L$2),$D8>=DAY(L$2)),1,IF(AND($C8="",$D8>=DAY(L$2)),1,"")))))) | ... AI8: =IF(OR($B8="",AI$2=""),"",IF(OR(WEEKDAY(AI$2)=7,WEEKDAY(AI$2)=1),"",IF(AND($C8="",$D8=""),1,IF(AND($C8<=DAY(AI$2),$D8=""),1,IF(AND($C8<=DAY(AI$2),$D8>=DAY(AI$2)),1,IF(AND($C8="",$D8>=DAY(AI$2)),1,"")))))) -> 1 | AJ8: =IF($B8="","",SUM(E8:AI8)) -> 22
A9: SAISONNIER | B9: 7 | E9: =IF(OR($B9="",E$2=""),"",IF(OR(WEEKDAY(E$2)=7,WEEKDAY(E$2)=1),"",IF(AND($C9="",$D9=""),1,IF(AND($C9<=DAY(E$2),$D9=""),1,IF(AND($C9<=DAY(E$2),$D9>=DAY(E$2)),1,IF(AND($C9="",$D9>=DAY(E$2)),1,"")))))) | F9: =IF(OR($B9="",F$2=""),"",IF(OR(WEEKDAY(F$2)=7,WEEKDAY(F$2)=1),"",IF(AND($C9="",$D9=""),1,IF(AND($C9<=DAY(F$2),$D9=""),1,IF(AND($C9<=DAY(F$2),$D9>=DAY(F$2)),1,IF(AND($C9="",$D9>=DAY(F$2)),1,"")))))) -> 1 | G9: =IF(OR($B9="",G$2=""),"",IF(OR(WEEKDAY(G$2)=7,WEEKDAY(G$2)=1),"",IF(AND($C9="",$D9=""),1,IF(AND($C9<=DAY(G$2),$D9=""),1,IF(AND($C9<=DAY(G$2),$D9>=DAY(G$2)),1,IF(AND($C9="",$D9>=DAY(G$2)),1,"")))))) -> 1 | H9: =IF(OR($B9="",H$2=""),"",IF(OR(WEEKDAY(H$2)=7,WEEKDAY(H$2)=1),"",IF(AND($C9="",$D9=""),1,IF(AND($C9<=DAY(H$2),$D9=""),1,IF(AND($C9<=DAY(H$2),$D9>=DAY(H$2)),1,IF(AND($C9="",$D9>=DAY(H$2)),1,"")))))) -> 1 | I9: =IF(OR($B9="",I$2=""),"",IF(OR(WEEKDAY(I$2)=7,WEEKDAY(I$2)=1),"",IF(AND($C9="",$D9=""),1,IF(AND($C9<=DAY(I$2),$D9=""),1,IF(AND($C9<=DAY(I$2),$D9>=DAY(I$2)),1,IF(AND($C9="",$D9>=DAY(I$2)),1,"")))))) -> 1 | J9: =IF(OR($B9="",J$2=""),"",IF(OR(WEEKDAY(J$2)=7,WEEKDAY(J$2)=1),"",IF(AND($C9="",$D9=""),1,IF(AND($C9<=DAY(J$2),$D9=""),1,IF(AND($C9<=DAY(J$2),$D9>=DAY(J$2)),1,IF(AND($C9="",$D9>=DAY(J$2)),1,"")))))) -> 1 | K9: =IF(OR($B9="",K$2=""),"",IF(OR(WEEKDAY(K$2)=7,WEEKDAY(K$2)=1),"",IF(AND($C9="",$D9=""),1,IF(AND($C9<=DAY(K$2),$D9=""),1,IF(AND($C9<=DAY(K$2),$D9>=DAY(K$2)),1,IF(AND($C9="",$D9>=DAY(K$2)),1,"")))))) | L9: =IF(OR($B9="",L$2=""),"",IF(OR(WEEKDAY(L$2)=7,WEEKDAY(L$2)=1),"",IF(AND($C9="",$D9=""),1,IF(AND($C9<=DAY(L$2),$D9=""),1,IF(AND($C9<=DAY(L$2),$D9>=DAY(L$2)),1,IF(AND($C9="",$D9>=DAY(L$2)),1,"")))))) | ... AI9: =IF(OR($B9="",AI$2=""),"",IF(OR(WEEKDAY(AI$2)=7,WEEKDAY(AI$2)=1),"",IF(AND($C9="",$D9=""),1,IF(AND($C9<=DAY(AI$2),$D9=""),1,IF(AND($C9<=DAY(AI$2),$D9>=DAY(AI$2)),1,IF(AND($C9="",$D9>=DAY(AI$2)),1,"")))))) -> 1 | AJ9: =IF($B9="","",SUM(E9:AI9)) -> 22
A10: SAISONNIER | B10: 8 | E10: =IF(OR($B10="",E$2=""),"",IF(OR(WEEKDAY(E$2)=7,WEEKDAY(E$2)=1),"",IF(AND($C10="",$D10=""),1,IF(AND($C10<=DAY(E$2),$D10=""),1,IF(AND($C10<=DAY(E$2),$D10>=DAY(E$2)),1,IF(AND($C10="",$D10>=DAY(E$2)),1,"")))))) | F10: =IF(OR($B10="",F$2=""),"",IF(OR(WEEKDAY(F$2)=7,WEEKDAY(F$2)=1),"",IF(AND($C10="",$D10=""),1,IF(AND($C10<=DAY(F$2),$D10=""),1,IF(AND($C10<=DAY(F$2),$D10>=DAY(F$2)),1,IF(AND($C10="",$D10>=DAY(F$2)),1,"")))))) -> 1 | G10: =IF(OR($B10="",G$2=""),"",IF(OR(WEEKDAY(G$2)=7,WEEKDAY(G$2)=1),"",IF(AND($C10="",$D10=""),1,IF(AND($C10<=DAY(G$2),$D10=""),1,IF(AND($C10<=DAY(G$2),$D10>=DAY(G$2)),1,IF(AND($C10="",$D10>=DAY(G$2)),1,"")))))) -> 1 | H10: =IF(OR($B10="",H$2=""),"",IF(OR(WEEKDAY(H$2)=7,WEEKDAY(H$2)=1),"",IF(AND($C10="",$D10=""),1,IF(AND($C10<=DAY(H$2),$D10=""),1,IF(AND($C10<=DAY(H$2),$D10>=DAY(H$2)),1,IF(AND($C10="",$D10>=DAY(H$2)),1,"")))))) -> 1 | I10: =IF(OR($B10="",I$2=""),"",IF(OR(WEEKDAY(I$2)=7,WEEKDAY(I$2)=1),"",IF(AND($C10="",$D10=""),1,IF(AND($C10<=DAY(I$2),$D10=""),1,IF(AND($C10<=DAY(I$2),$D10>=DAY(I$2)),1,IF(AND($C10="",$D10>=DAY(I$2)),1,"")))))) -> 1 | J10: =IF(OR($B10="",J$2=""),"",IF(OR(WEEKDAY(J$2)=7,WEEKDAY(J$2)=1),"",IF(AND($C10="",$D10=""),1,IF(AND($C10<=DAY(J$2),$D10=""),1,IF(AND($C10<=DAY(J$2),$D10>=DAY(J$2)),1,IF(AND($C10="",$D10>=DAY(J$2)),1,"")))))) -> 1 | K10: =IF(OR($B10="",K$2=""),"",IF(OR(WEEKDAY(K$2)=7,WEEKDAY(K$2)=1),"",IF(AND($C10="",$D10=""),1,IF(AND($C10<=DAY(K$2),$D10=""),1,IF(AND($C10<=DAY(K$2),$D10>=DAY(K$2)),1,IF(AND($C10="",$D10>=DAY(K$2)),1,"")))))) | L10: =IF(OR($B10="",L$2=""),"",IF(OR(WEEKDAY(L$2)=7,WEEKDAY(L$2)=1),"",IF(AND($C10="",$D10=""),1,IF(AND($C10<=DAY(L$2),$D10=""),1,IF(AND($C10<=DAY(L$2),$D10>=DAY(L$2)),1,IF(AND($C10="",$D10>=DAY(L$2)),1,"")))))) | ... AI10: =IF(OR($B10="",AI$2=""),"",IF(OR(WEEKDAY(AI$2)=7,WEEKDAY(AI$2)=1),"",IF(AND($C10="",$D10=""),1,IF(AND($C10<=DAY(AI$2),$D10=""),1,IF(AND($C10<=DAY(AI$2),$D10>=DAY(AI$2)),1,IF(AND($C10="",$D10>=DAY(AI$2)),1,"")))))) -> 1 | AJ10: =IF($B10="","",SUM(E10:AI10)) -> 22
E11: =IF(OR($B11="",E$2=""),"",IF(OR(WEEKDAY(E$2)=7,WEEKDAY(E$2)=1),"",IF(AND($C11="",$D11=""),1,IF(AND($C11<=DAY(E$2),$D11=""),1,IF(AND($C11<=DAY(E$2),$D11>=DAY(E$2)),1,IF(AND($C11="",$D11>=DAY(E$2)),1,"")))))) | F11: =IF(OR($B11="",F$2=""),"",IF(OR(WEEKDAY(F$2)=7,WEEKDAY(F$2)=1),"",IF(AND($C11="",$D11=""),1,IF(AND($C11<=DAY(F$2),$D11=""),1,IF(AND($C11<=DAY(F$2),$D11>=DAY(F$2)),1,IF(AND($C11="",$D11>=DAY(F$2)),1,"")))))) | G11: =IF(OR($B11="",G$2=""),"",IF(OR(WEEKDAY(G$2)=7,WEEKDAY(G$2)=1),"",IF(AND($C11="",$D11=""),1,IF(AND($C11<=DAY(G$2),$D11=""),1,IF(AND($C11<=DAY(G$2),$D11>=DAY(G$2)),1,IF(AND($C11="",$D11>=DAY(G$2)),1,"")))))) | H11: =IF(OR($B11="",H$2=""),"",IF(OR(WEEKDAY(H$2)=7,WEEKDAY(H$2)=1),"",IF(AND($C11="",$D11=""),1,IF(AND($C11<=DAY(H$2),$D11=""),1,IF(AND($C11<=DAY(H$2),$D11>=DAY(H$2)),1,IF(AND($C11="",$D11>=DAY(H$2)),1,"")))))) | I11: =IF(OR($B11="",I$2=""),"",IF(OR(WEEKDAY(I$2)=7,WEEKDAY(I$2)=1),"",IF(AND($C11="",$D11=""),1,IF(AND($C11<=DAY(I$2),$D11=""),1,IF(AND($C11<=DAY(I$2),$D11>=DAY(I$2)),1,IF(AND($C11="",$D11>=DAY(I$2)),1,"")))))) | J11: =IF(OR($B11="",J$2=""),"",IF(OR(WEEKDAY(J$2)=7,WEEKDAY(J$2)=1),"",IF(AND($C11="",$D11=""),1,IF(AND($C11<=DAY(J$2),$D11=""),1,IF(AND($C11<=DAY(J$2),$D11>=DAY(J$2)),1,IF(AND($C11="",$D11>=DAY(J$2)),1,"")))))) | K11: =IF(OR($B11="",K$2=""),"",IF(OR(WEEKDAY(K$2)=7,WEEKDAY(K$2)=1),"",IF(AND($C11="",$D11=""),1,IF(AND($C11<=DAY(K$2),$D11=""),1,IF(AND($C11<=DAY(K$2),$D11>=DAY(K$2)),1,IF(AND($C11="",$D11>=DAY(K$2)),1,"")))))) | L11: =IF(OR($B11="",L$2=""),"",IF(OR(WEEKDAY(L$2)=7,WEEKDAY(L$2)=1),"",IF(AND($C11="",$D11=""),1,IF(AND($C11<=DAY(L$2),$D11=""),1,IF(AND($C11<=DAY(L$2),$D11>=DAY(L$2)),1,IF(AND($C11="",$D11>=DAY(L$2)),1,"")))))) | ... AI11: =IF(OR($B11="",AI$2=""),"",IF(OR(WEEKDAY(AI$2)=7,WEEKDAY(AI$2)=1),"",IF(AND($C11="",$D11=""),1,IF(AND($C11<=DAY(AI$2),$D11=""),1,IF(AND($C11<=DAY(AI$2),$D11>=DAY(AI$2)),1,IF(AND($C11="",$D11>=DAY(AI$2)),1,"")))))) | AJ11: =IF($B11="","",SUM(E11:AI11))
E12: =IF(OR($B12="",E$2=""),"",IF(OR(WEEKDAY(E$2)=7,WEEKDAY(E$2)=1),"",IF(AND($C12="",$D12=""),1,IF(AND($C12<=DAY(E$2),$D12=""),1,IF(AND($C12<=DAY(E$2),$D12>=DAY(E$2)),1,IF(AND($C12="",$D12>=DAY(E$2)),1,"")))))) | F12: =IF(OR($B12="",F$2=""),"",IF(OR(WEEKDAY(F$2)=7,WEEKDAY(F$2)=1),"",IF(AND($C12="",$D12=""),1,IF(AND($C12<=DAY(F$2),$D12=""),1,IF(AND($C12<=DAY(F$2),$D12>=DAY(F$2)),1,IF(AND($C12="",$D12>=DAY(F$2)),1,"")))))) | G12: =IF(OR($B12="",G$2=""),"",IF(OR(WEEKDAY(G$2)=7,WEEKDAY(G$2)=1),"",IF(AND($C12="",$D12=""),1,IF(AND($C12<=DAY(G$2),$D12=""),1,IF(AND($C12<=DAY(G$2),$D12>=DAY(G$2)),1,IF(AND($C12="",$D12>=DAY(G$2)),1,"")))))) | H12: =IF(OR($B12="",H$2=""),"",IF(OR(WEEKDAY(H$2)=7,WEEKDAY(H$2)=1),"",IF(AND($C12="",$D12=""),1,IF(AND($C12<=DAY(H$2),$D12=""),1,IF(AND($C12<=DAY(H$2),$D12>=DAY(H$2)),1,IF(AND($C12="",$D12>=DAY(H$2)),1,"")))))) | I12: =IF(OR($B12="",I$2=""),"",IF(OR(WEEKDAY(I$2)=7,WEEKDAY(I$2)=1),"",IF(AND($C12="",$D12=""),1,IF(AND($C12<=DAY(I$2),$D12=""),1,IF(AND($C12<=DAY(I$2),$D12>=DAY(I$2)),1,IF(AND($C12="",$D12>=DAY(I$2)),1,"")))))) | J12: =IF(OR($B12="",J$2=""),"",IF(OR(WEEKDAY(J$2)=7,WEEKDAY(J$2)=1),"",IF(AND($C12="",$D12=""),1,IF(AND($C12<=DAY(J$2),$D12=""),1,IF(AND($C12<=DAY(J$2),$D12>=DAY(J$2)),1,IF(AND($C12="",$D12>=DAY(J$2)),1,"")))))) | K12: =IF(OR($B12="",K$2=""),"",IF(OR(WEEKDAY(K$2)=7,WEEKDAY(K$2)=1),"",IF(AND($C12="",$D12=""),1,IF(AND($C12<=DAY(K$2),$D12=""),1,IF(AND($C12<=DAY(K$2),$D12>=DAY(K$2)),1,IF(AND($C12="",$D12>=DAY(K$2)),1,"")))))) | L12: =IF(OR($B12="",L$2=""),"",IF(OR(WEEKDAY(L$2)=7,WEEKDAY(L$2)=1),"",IF(AND($C12="",$D12=""),1,IF(AND($C12<=DAY(L$2),$D12=""),1,IF(AND($C12<=DAY(L$2),$D12>=DAY(L$2)),1,IF(AND($C12="",$D12>=DAY(L$2)),1,"")))))) | ... AI12: =IF(OR($B12="",AI$2=""),"",IF(OR(WEEKDAY(AI$2)=7,WEEKDAY(AI$2)=1),"",IF(AND($C12="",$D12=""),1,IF(AND($C12<=DAY(AI$2),$D12=""),1,IF(AND($C12<=DAY(AI$2),$D12>=DAY(AI$2)),1,IF(AND($C12="",$D12>=DAY(AI$2)),1,"")))))) | AJ12: =IF($B12="","",SUM(E12:AI12))
A13: STAGIAIRE | B13: 1 | E13: =IF(OR($B13="",E$2=""),"",IF(OR(WEEKDAY(E$2)=7,WEEKDAY(E$2)=1),"",IF(AND($C13="",$D13=""),1,IF(AND($C13<=DAY(E$2),$D13=""),1,IF(AND($C13<=DAY(E$2),$D13>=DAY(E$2)),1,IF(AND($C13="",$D13>=DAY(E$2)),1,"")))))) | F13: =IF(OR($B13="",F$2=""),"",IF(OR(WEEKDAY(F$2)=7,WEEKDAY(F$2)=1),"",IF(AND($C13="",$D13=""),1,IF(AND($C13<=DAY(F$2),$D13=""),1,IF(AND($C13<=DAY(F$2),$D13>=DAY(F$2)),1,IF(AND($C13="",$D13>=DAY(F$2)),1,"")))))) -> 1 | G13: =IF(OR($B13="",G$2=""),"",IF(OR(WEEKDAY(G$2)=7,WEEKDAY(G$2)=1),"",IF(AND($C13="",$D13=""),1,IF(AND($C13<=DAY(G$2),$D13=""),1,IF(AND($C13<=DAY(G$2),$D13>=DAY(G$2)),1,IF(AND($C13="",$D13>=DAY(G$2)),1,"")))))) -> 1 | H13: =IF(OR($B13="",H$2=""),"",IF(OR(WEEKDAY(H$2)=7,WEEKDAY(H$2)=1),"",IF(AND($C13="",$D13=""),1,IF(AND($C13<=DAY(H$2),$D13=""),1,IF(AND($C13<=DAY(H$2),$D13>=DAY(H$2)),1,IF(AND($C13="",$D13>=DAY(H$2)),1,"")))))) -> 1 | I13: =IF(OR($B13="",I$2=""),"",IF(OR(WEEKDAY(I$2)=7,WEEKDAY(I$2)=1),"",IF(AND($C13="",$D13=""),1,IF(AND($C13<=DAY(I$2),$D13=""),1,IF(AND($C13<=DAY(I$2),$D13>=DAY(I$2)),1,IF(AND($C13="",$D13>=DAY(I$2)),1,"")))))) -> 1 | J13: =IF(OR($B13="",J$2=""),"",IF(OR(WEEKDAY(J$2)=7,WEEKDAY(J$2)=1),"",IF(AND($C13="",$D13=""),1,IF(AND($C13<=DAY(J$2),$D13=""),1,IF(AND($C13<=DAY(J$2),$D13>=DAY(J$2)),1,IF(AND($C13="",$D13>=DAY(J$2)),1,"")))))) -> 1 | K13: =IF(OR($B13="",K$2=""),"",IF(OR(WEEKDAY(K$2)=7,WEEKDAY(K$2)=1),"",IF(AND($C13="",$D13=""),1,IF(AND($C13<=DAY(K$2),$D13=""),1,IF(AND($C13<=DAY(K$2),$D13>=DAY(K$2)),1,IF(AND($C13="",$D13>=DAY(K$2)),1,"")))))) | L13: =IF(OR($B13="",L$2=""),"",IF(OR(WEEKDAY(L$2)=7,WEEKDAY(L$2)=1),"",IF(AND($C13="",$D13=""),1,IF(AND($C13<=DAY(L$2),$D13=""),1,IF(AND($C13<=DAY(L$2),$D13>=DAY(L$2)),1,IF(AND($C13="",$D13>=DAY(L$2)),1,"")))))) | ... AI13: =IF(OR($B13="",AI$2=""),"",IF(OR(WEEKDAY(AI$2)=7,WEEKDAY(AI$2)=1),"",IF(AND($C13="",$D13=""),1,IF(AND($C13<=DAY(AI$2),$D13=""),1,IF(AND($C13<=DAY(AI$2),$D13>=DAY(AI$2)),1,IF(AND($C13="",$D13>=DAY(AI$2)),1,"")))))) -> 1 | AJ13: =IF($B13="","",SUM(E13:AI13)) -> 22
A14: STAGIAIRE | B14: 2 | E14: =IF(OR($B14="",E$2=""),"",IF(OR(WEEKDAY(E$2)=7,WEEKDAY(E$2)=1),"",IF(AND($C14="",$D14=""),1,IF(AND($C14<=DAY(E$2),$D14=""),1,IF(AND($C14<=DAY(E$2),$D14>=DAY(E$2)),1,IF(AND($C14="",$D14>=DAY(E$2)),1,"")))))) | F14: =IF(OR($B14="",F$2=""),"",IF(OR(WEEKDAY(F$2)=7,WEEKDAY(F$2)=1),"",IF(AND($C14="",$D14=""),1,IF(AND($C14<=DAY(F$2),$D14=""),1,IF(AND($C14<=DAY(F$2),$D14>=DAY(F$2)),1,IF(AND($C14="",$D14>=DAY(F$2)),1,"")))))) -> 1 | G14: =IF(OR($B14="",G$2=""),"",IF(OR(WEEKDAY(G$2)=7,WEEKDAY(G$2)=1),"",IF(AND($C14="",$D14=""),1,IF(AND($C14<=DAY(G$2),$D14=""),1,IF(AND($C14<=DAY(G$2),$D14>=DAY(G$2)),1,IF(AND($C14="",$D14>=DAY(G$2)),1,"")))))) -> 1 | H14: =IF(OR($B14="",H$2=""),"",IF(OR(WEEKDAY(H$2)=7,WEEKDAY(H$2)=1),"",IF(AND($C14="",$D14=""),1,IF(AND($C14<=DAY(H$2),$D14=""),1,IF(AND($C14<=DAY(H$2),$D14>=DAY(H$2)),1,IF(AND($C14="",$D14>=DAY(H$2)),1,"")))))) -> 1 | I14: =IF(OR($B14="",I$2=""),"",IF(OR(WEEKDAY(I$2)=7,WEEKDAY(I$2)=1),"",IF(AND($C14="",$D14=""),1,IF(AND($C14<=DAY(I$2),$D14=""),1,IF(AND($C14<=DAY(I$2),$D14>=DAY(I$2)),1,IF(AND($C14="",$D14>=DAY(I$2)),1,"")))))) -> 1 | J14: =IF(OR($B14="",J$2=""),"",IF(OR(WEEKDAY(J$2)=7,WEEKDAY(J$2)=1),"",IF(AND($C14="",$D14=""),1,IF(AND($C14<=DAY(J$2),$D14=""),1,IF(AND($C14<=DAY(J$2),$D14>=DAY(J$2)),1,IF(AND($C14="",$D14>=DAY(J$2)),1,"")))))) -> 1 | K14: =IF(OR($B14="",K$2=""),"",IF(OR(WEEKDAY(K$2)=7,WEEKDAY(K$2)=1),"",IF(AND($C14="",$D14=""),1,IF(AND($C14<=DAY(K$2),$D14=""),1,IF(AND($C14<=DAY(K$2),$D14>=DAY(K$2)),1,IF(AND($C14="",$D14>=DAY(K$2)),1,"")))))) | L14: =IF(OR($B14="",L$2=""),"",IF(OR(WEEKDAY(L$2)=7,WEEKDAY(L$2)=1),"",IF(AND($C14="",$D14=""),1,IF(AND($C14<=DAY(L$2),$D14=""),1,IF(AND($C14<=DAY(L$2),$D14>=DAY(L$2)),1,IF(AND($C14="",$D14>=DAY(L$2)),1,"")))))) | ... AI14: =IF(OR($B14="",AI$2=""),"",IF(OR(WEEKDAY(AI$2)=7,WEEKDAY(AI$2)=1),"",IF(AND($C14="",$D14=""),1,IF(AND($C14<=DAY(AI$2),$D14=""),1,IF(AND($C14<=DAY(AI$2),$D14>=DAY(AI$2)),1,IF(AND($C14="",$D14>=DAY(AI$2)),1,"")))))) -> 1 | AJ14: =IF($B14="","",SUM(E14:AI14)) -> 22
A15: STAGIAIRE | B15: 3 | E15: =IF(OR($B15="",E$2=""),"",IF(OR(WEEKDAY(E$2)=7,WEEKDAY(E$2)=1),"",IF(AND($C15="",$D15=""),1,IF(AND($C15<=DAY(E$2),$D15=""),1,IF(AND($C15<=DAY(E$2),$D15>=DAY(E$2)),1,IF(AND($C15="",$D15>=DAY(E$2)),1,"")))))) | F15: =IF(OR($B15="",F$2=""),"",IF(OR(WEEKDAY(F$2)=7,WEEKDAY(F$2)=1),"",IF(AND($C15="",$D15=""),1,IF(AND($C15<=DAY(F$2),$D15=""),1,IF(AND($C15<=DAY(F$2),$D15>=DAY(F$2)),1,IF(AND($C15="",$D15>=DAY(F$2)),1,"")))))) -> 1 | G15: =IF(OR($B15="",G$2=""),"",IF(OR(WEEKDAY(G$2)=7,WEEKDAY(G$2)=1),"",IF(AND($C15="",$D15=""),1,IF(AND($C15<=DAY(G$2),$D15=""),1,IF(AND($C15<=DAY(G$2),$D15>=DAY(G$2)),1,IF(AND($C15="",$D15>=DAY(G$2)),1,"")))))) -> 1 | H15: =IF(OR($B15="",H$2=""),"",IF(OR(WEEKDAY(H$2)=7,WEEKDAY(H$2)=1),"",IF(AND($C15="",$D15=""),1,IF(AND($C15<=DAY(H$2),$D15=""),1,IF(AND($C15<=DAY(H$2),$D15>=DAY(H$2)),1,IF(AND($C15="",$D15>=DAY(H$2)),1,"")))))) -> 1 | I15: =IF(OR($B15="",I$2=""),"",IF(OR(WEEKDAY(I$2)=7,WEEKDAY(I$2)=1),"",IF(AND($C15="",$D15=""),1,IF(AND($C15<=DAY(I$2),$D15=""),1,IF(AND($C15<=DAY(I$2),$D15>=DAY(I$2)),1,IF(AND($C15="",$D15>=DAY(I$2)),1,"")))))) -> 1 | J15: =IF(OR($B15="",J$2=""),"",IF(OR(WEEKDAY(J$2)=7,WEEKDAY(J$2)=1),"",IF(AND($C15="",$D15=""),1,IF(AND($C15<=DAY(J$2),$D15=""),1,IF(AND($C15<=DAY(J$2),$D15>=DAY(J$2)),1,IF(AND($C15="",$D15>=DAY(J$2)),1,"")))))) -> 1 | K15: =IF(OR($B15="",K$2=""),"",IF(OR(WEEKDAY(K$2)=7,WEEKDAY(K$2)=1),"",IF(AND($C15="",$D15=""),1,IF(AND($C15<=DAY(K$2),$D15=""),1,IF(AND($C15<=DAY(K$2),$D15>=DAY(K$2)),1,IF(AND($C15="",$D15>=DAY(K$2)),1,"")))))) | L15: =IF(OR($B15="",L$2=""),"",IF(OR(WEEKDAY(L$2)=7,WEEKDAY(L$2)=1),"",IF(AND($C15="",$D15=""),1,IF(AND($C15<=DAY(L$2),$D15=""),1,IF(AND($C15<=DAY(L$2),$D15>=DAY(L$2)),1,IF(AND($C15="",$D15>=DAY(L$2)),1,"")))))) | ... AI15: =IF(OR($B15="",AI$2=""),"",IF(OR(WEEKDAY(AI$2)=7,WEEKDAY(AI$2)=1),"",IF(AND($C15="",$D15=""),1,IF(AND($C15<=DAY(AI$2),$D15=""),1,IF(AND($C15<=DAY(AI$2),$D15>=DAY(AI$2)),1,IF(AND($C15="",$D15>=DAY(AI$2)),1,"")))))) -> 1 | AJ15: =IF($B15="","",SUM(E15:AI15)) -> 22
A16: STAGIAIRE | B16: 4 | C16: 6 | D16: 25 | E16: =IF(OR($B16="",E$2=""),"",IF(OR(WEEKDAY(E$2)=7,WEEKDAY(E$2)=1),"",IF(AND($C16="",$D16=""),1,IF(AND($C16<=DAY(E$2),$D16=""),1,IF(AND($C16<=DAY(E$2),$D16>=DAY(E$2)),1,IF(AND($C16="",$D16>=DAY(E$2)),1,"")))))) | F16: =IF(OR($B16="",F$2=""),"",IF(OR(WEEKDAY(F$2)=7,WEEKDAY(F$2)=1),"",IF(AND($C16="",$D16=""),1,IF(AND($C16<=DAY(F$2),$D16=""),1,IF(AND($C16<=DAY(F$2),$D16>=DAY(F$2)),1,IF(AND($C16="",$D16>=DAY(F$2)),1,"")))))) | G16: =IF(OR($B16="",G$2=""),"",IF(OR(WEEKDAY(G$2)=7,WEEKDAY(G$2)=1),"",IF(AND($C16="",$D16=""),1,IF(AND($C16<=DAY(G$2),$D16=""),1,IF(AND($C16<=DAY(G$2),$D16>=DAY(G$2)),1,IF(AND($C16="",$D16>=DAY(G$2)),1,"")))))) | H16: =IF(OR($B16="",H$2=""),"",IF(OR(WEEKDAY(H$2)=7,WEEKDAY(H$2)=1),"",IF(AND($C16="",$D16=""),1,IF(AND($C16<=DAY(H$2),$D16=""),1,IF(AND($C16<=DAY(H$2),$D16>=DAY(H$2)),1,IF(AND($C16="",$D16>=DAY(H$2)),1,"")))))) | I16: =IF(OR($B16="",I$2=""),"",IF(OR(WEEKDAY(I$2)=7,WEEKDAY(I$2)=1),"",IF(AND($C16="",$D16=""),1,IF(AND($C16<=DAY(I$2),$D16=""),1,IF(AND($C16<=DAY(I$2),$D16>=DAY(I$2)),1,IF(AND($C16="",$D16>=DAY(I$2)),1,"")))))) | J16: =IF(OR($B16="",J$2=""),"",IF(OR(WEEKDAY(J$2)=7,WEEKDAY(J$2)=1),"",IF(AND($C16="",$D16=""),1,IF(AND($C16<=DAY(J$2),$D16=""),1,IF(AND($C16<=DAY(J$2),$D16>=DAY(J$2)),1,IF(AND($C16="",$D16>=DAY(J$2)),1,"")))))) -> 1 | K16: =IF(OR($B16="",K$2=""),"",IF(OR(WEEKDAY(K$2)=7,WEEKDAY(K$2)=1),"",IF(AND($C16="",$D16=""),1,IF(AND($C16<=DAY(K$2),$D16=""),1,IF(AND($C16<=DAY(K$2),$D16>=DAY(K$2)),1,IF(AND($C16="",$D16>=DAY(K$2)),1,"")))))) | L16: =IF(OR($B16="",L$2=""),"",IF(OR(WEEKDAY(L$2)=7,WEEKDAY(L$2)=1),"",IF(AND($C16="",$D16=""),1,IF(AND($C16<=DAY(L$2),$D16=""),1,IF(AND($C16<=DAY(L$2),$D16>=DAY(L$2)),1,IF(AND($C16="",$D16>=DAY(L$2)),1,"")))))) | ... AI16: =IF(OR($B16="",AI$2=""),"",IF(OR(WEEKDAY(AI$2)=7,WEEKDAY(AI$2)=1),"",IF(AND($C16="",$D16=""),1,IF(AND($C16<=DAY(AI$2),$D16=""),1,IF(AND($C16<=DAY(AI$2),$D16>=DAY(AI$2)),1,IF(AND($C16="",$D16>=DAY(AI$2)),1,"")))))) | AJ16: =IF($B16="","",SUM(E16:AI16)) -> 14
A17: STAGIAIRE | B17: 5 | E17: =IF(OR($B17="",E$2=""),"",IF(OR(WEEKDAY(E$2)=7,WEEKDAY(E$2)=1),"",IF(AND($C17="",$D17=""),1,IF(AND($C17<=DAY(E$2),$D17=""),1,IF(AND($C17<=DAY(E$2),$D17>=DAY(E$2)),1,IF(AND($C17="",$D17>=DAY(E$2)),1,"")))))) | F17: =IF(OR($B17="",F$2=""),"",IF(OR(WEEKDAY(F$2)=7,WEEKDAY(F$2)=1),"",IF(AND($C17="",$D17=""),1,IF(AND($C17<=DAY(F$2),$D17=""),1,IF(AND($C17<=DAY(F$2),$D17>=DAY(F$2)),1,IF(AND($C17="",$D17>=DAY(F$2)),1,"")))))) -> 1 | G17: =IF(OR($B17="",G$2=""),"",IF(OR(WEEKDAY(G$2)=7,WEEKDAY(G$2)=1),"",IF(AND($C17="",$D17=""),1,IF(AND($C17<=DAY(G$2),$D17=""),1,IF(AND($C17<=DAY(G$2),$D17>=DAY(G$2)),1,IF(AND($C17="",$D17>=DAY(G$2)),1,"")))))) -> 1 | H17: =IF(OR($B17="",H$2=""),"",IF(OR(WEEKDAY(H$2)=7,WEEKDAY(H$2)=1),"",IF(AND($C17="",$D17=""),1,IF(AND($C17<=DAY(H$2),$D17=""),1,IF(AND($C17<=DAY(H$2),$D17>=DAY(H$2)),1,IF(AND($C17="",$D17>=DAY(H$2)),1,"")))))) -> 1 | I17: =IF(OR($B17="",I$2=""),"",IF(OR(WEEKDAY(I$2)=7,WEEKDAY(I$2)=1),"",IF(AND($C17="",$D17=""),1,IF(AND($C17<=DAY(I$2),$D17=""),1,IF(AND($C17<=DAY(I$2),$D17>=DAY(I$2)),1,IF(AND($C17="",$D17>=DAY(I$2)),1,"")))))) -> 1 | J17: =IF(OR($B17="",J$2=""),"",IF(OR(WEEKDAY(J$2)=7,WEEKDAY(J$2)=1),"",IF(AND($C17="",$D17=""),1,IF(AND($C17<=DAY(J$2),$D17=""),1,IF(AND($C17<=DAY(J$2),$D17>=DAY(J$2)),1,IF(AND($C17="",$D17>=DAY(J$2)),1,"")))))) -> 1 | K17: =IF(OR($B17="",K$2=""),"",IF(OR(WEEKDAY(K$2)=7,WEEKDAY(K$2)=1),"",IF(AND($C17="",$D17=""),1,IF(AND($C17<=DAY(K$2),$D17=""),1,IF(AND($C17<=DAY(K$2),$D17>=DAY(K$2)),1,IF(AND($C17="",$D17>=DAY(K$2)),1,"")))))) | L17: =IF(OR($B17="",L$2=""),"",IF(OR(WEEKDAY(L$2)=7,WEEKDAY(L$2)=1),"",IF(AND($C17="",$D17=""),1,IF(AND($C17<=DAY(L$2),$D17=""),1,IF(AND($C17<=DAY(L$2),$D17>=DAY(L$2)),1,IF(AND($C17="",$D17>=DAY(L$2)),1,"")))))) | ... AI17: =IF(OR($B17="",AI$2=""),"",IF(OR(WEEKDAY(AI$2)=7,WEEKDAY(AI$2)=1),"",IF(AND($C17="",$D17=""),1,IF(AND($C17<=DAY(AI$2),$D17=""),1,IF(AND($C17<=DAY(AI$2),$D17>=DAY(AI$2)),1,IF(AND($C17="",$D17>=DAY(AI$2)),1,"")))))) -> 1 | AJ17: =IF($B17="","",SUM(E17:AI17)) -> 22
A18: STAGIAIRE | B18: 6 | E18: =IF(OR($B18="",E$2=""),"",IF(OR(WEEKDAY(E$2)=7,WEEKDAY(E$2)=1),"",IF(AND($C18="",$D18=""),1,IF(AND($C18<=DAY(E$2),$D18=""),1,IF(AND($C18<=DAY(E$2),$D18>=DAY(E$2)),1,IF(AND($C18="",$D18>=DAY(E$2)),1,"")))))) | F18: =IF(OR($B18="",F$2=""),"",IF(OR(WEEKDAY(F$2)=7,WEEKDAY(F$2)=1),"",IF(AND($C18="",$D18=""),1,IF(AND($C18<=DAY(F$2),$D18=""),1,IF(AND($C18<=DAY(F$2),$D18>=DAY(F$2)),1,IF(AND($C18="",$D18>=DAY(F$2)),1,"")))))) -> 1 | G18: =IF(OR($B18="",G$2=""),"",IF(OR(WEEKDAY(G$2)=7,WEEKDAY(G$2)=1),"",IF(AND($C18="",$D18=""),1,IF(AND($C18<=DAY(G$2),$D18=""),1,IF(AND($C18<=DAY(G$2),$D18>=DAY(G$2)),1,IF(AND($C18="",$D18>=DAY(G$2)),1,"")))))) -> 1 | H18: =IF(OR($B18="",H$2=""),"",IF(OR(WEEKDAY(H$2)=7,WEEKDAY(H$2)=1),"",IF(AND($C18="",$D18=""),1,IF(AND($C18<=DAY(H$2),$D18=""),1,IF(AND($C18<=DAY(H$2),$D18>=DAY(H$2)),1,IF(AND($C18="",$D18>=DAY(H$2)),1,"")))))) -> 1 | I18: =IF(OR($B18="",I$2=""),"",IF(OR(WEEKDAY(I$2)=7,WEEKDAY(I$2)=1),"",IF(AND($C18="",$D18=""),1,IF(AND($C18<=DAY(I$2),$D18=""),1,IF(AND($C18<=DAY(I$2),$D18>=DAY(I$2)),1,IF(AND($C18="",$D18>=DAY(I$2)),1,"")))))) -> 1 | J18: =IF(OR($B18="",J$2=""),"",IF(OR(WEEKDAY(J$2)=7,WEEKDAY(J$2)=1),"",IF(AND($C18="",$D18=""),1,IF(AND($C18<=DAY(J$2),$D18=""),1,IF(AND($C18<=DAY(J$2),$D18>=DAY(J$2)),1,IF(AND($C18="",$D18>=DAY(J$2)),1,"")))))) -> 1 | K18: =IF(OR($B18="",K$2=""),"",IF(OR(WEEKDAY(K$2)=7,WEEKDAY(K$2)=1),"",IF(AND($C18="",$D18=""),1,IF(AND($C18<=DAY(K$2),$D18=""),1,IF(AND($C18<=DAY(K$2),$D18>=DAY(K$2)),1,IF(AND($C18="",$D18>=DAY(K$2)),1,"")))))) | L18: =IF(OR($B18="",L$2=""),"",IF(OR(WEEKDAY(L$2)=7,WEEKDAY(L$2)=1),"",IF(AND($C18="",$D18=""),1,IF(AND($C18<=DAY(L$2),$D18=""),1,IF(AND($C18<=DAY(L$2),$D18>=DAY(L$2)),1,IF(AND($C18="",$D18>=DAY(L$2)),1,"")))))) | ... AI18: =IF(OR($B18="",AI$2=""),"",IF(OR(WEEKDAY(AI$2)=7,WEEKDAY(AI$2)=1),"",IF(AND($C18="",$D18=""),1,IF(AND($C18<=DAY(AI$2),$D18=""),1,IF(AND($C18<=DAY(AI$2),$D18>=DAY(AI$2)),1,IF(AND($C18="",$D18>=DAY(AI$2)),1,"")))))) -> 1 | AJ18: =IF($B18="","",SUM(E18:AI18)) -> 22
A19: STAGIAIRE | B19: 7 | E19: =IF(OR($B19="",E$2=""),"",IF(OR(WEEKDAY(E$2)=7,WEEKDAY(E$2)=1),"",IF(AND($C19="",$D19=""),1,IF(AND($C19<=DAY(E$2),$D19=""),1,IF(AND($C19<=DAY(E$2),$D19>=DAY(E$2)),1,IF(AND($C19="",$D19>=DAY(E$2)),1,"")))))) | F19: =IF(OR($B19="",F$2=""),"",IF(OR(WEEKDAY(F$2)=7,WEEKDAY(F$2)=1),"",IF(AND($C19="",$D19=""),1,IF(AND($C19<=DAY(F$2),$D19=""),1,IF(AND($C19<=DAY(F$2),$D19>=DAY(F$2)),1,IF(AND($C19="",$D19>=DAY(F$2)),1,"")))))) -> 1 | G19: =IF(OR($B19="",G$2=""),"",IF(OR(WEEKDAY(G$2)=7,WEEKDAY(G$2)=1),"",IF(AND($C19="",$D19=""),1,IF(AND($C19<=DAY(G$2),$D19=""),1,IF(AND($C19<=DAY(G$2),$D19>=DAY(G$2)),1,IF(AND($C19="",$D19>=DAY(G$2)),1,"")))))) -> 1 | H19: =IF(OR($B19="",H$2=""),"",IF(OR(WEEKDAY(H$2)=7,WEEKDAY(H$2)=1),"",IF(AND($C19="",$D19=""),1,IF(AND($C19<=DAY(H$2),$D19=""),1,IF(AND($C19<=DAY(H$2),$D19>=DAY(H$2)),1,IF(AND($C19="",$D19>=DAY(H$2)),1,"")))))) -> 1 | I19: =IF(OR($B19="",I$2=""),"",IF(OR(WEEKDAY(I$2)=7,WEEKDAY(I$2)=1),"",IF(AND($C19="",$D19=""),1,IF(AND($C19<=DAY(I$2),$D19=""),1,IF(AND($C19<=DAY(I$2),$D19>=DAY(I$2)),1,IF(AND($C19="",$D19>=DAY(I$2)),1,"")))))) -> 1 | J19: =IF(OR($B19="",J$2=""),"",IF(OR(WEEKDAY(J$2)=7,WEEKDAY(J$2)=1),"",IF(AND($C19="",$D19=""),1,IF(AND($C19<=DAY(J$2),$D19=""),1,IF(AND($C19<=DAY(J$2),$D19>=DAY(J$2)),1,IF(AND($C19="",$D19>=DAY(J$2)),1,"")))))) -> 1 | K19: =IF(OR($B19="",K$2=""),"",IF(OR(WEEKDAY(K$2)=7,WEEKDAY(K$2)=1),"",IF(AND($C19="",$D19=""),1,IF(AND($C19<=DAY(K$2),$D19=""),1,IF(AND($C19<=DAY(K$2),$D19>=DAY(K$2)),1,IF(AND($C19="",$D19>=DAY(K$2)),1,"")))))) | L19: =IF(OR($B19="",L$2=""),"",IF(OR(WEEKDAY(L$2)=7,WEEKDAY(L$2)=1),"",IF(AND($C19="",$D19=""),1,IF(AND($C19<=DAY(L$2),$D19=""),1,IF(AND($C19<=DAY(L$2),$D19>=DAY(L$2)),1,IF(AND($C19="",$D19>=DAY(L$2)),1,"")))))) | ... AI19: =IF(OR($B19="",AI$2=""),"",IF(OR(WEEKDAY(AI$2)=7,WEEKDAY(AI$2)=1),"",IF(AND($C19="",$D19=""),1,IF(AND($C19<=DAY(AI$2),$D19=""),1,IF(AND($C19<=DAY(AI$2),$D19>=DAY(AI$2)),1,IF(AND($C19="",$D19>=DAY(AI$2)),1,"")))))) -> 1 | AJ19: =IF($B19="","",SUM(E19:AI19)) -> 22
A20: STAGIAIRE | B20: 8 | E20: =IF(OR($B20="",E$2=""),"",IF(OR(WEEKDAY(E$2)=7,WEEKDAY(E$2)=1),"",IF(AND($C20="",$D20=""),1,IF(AND($C20<=DAY(E$2),$D20=""),1,IF(AND($C20<=DAY(E$2),$D20>=DAY(E$2)),1,IF(AND($C20="",$D20>=DAY(E$2)),1,"")))))) | F20: =IF(OR($B20="",F$2=""),"",IF(OR(WEEKDAY(F$2)=7,WEEKDAY(F$2)=1),"",IF(AND($C20="",$D20=""),1,IF(AND($C20<=DAY(F$2),$D20=""),1,IF(AND($C20<=DAY(F$2),$D20>=DAY(F$2)),1,IF(AND($C20="",$D20>=DAY(F$2)),1,"")))))) -> 1 | G20: =IF(OR($B20="",G$2=""),"",IF(OR(WEEKDAY(G$2)=7,WEEKDAY(G$2)=1),"",IF(AND($C20="",$D20=""),1,IF(AND($C20<=DAY(G$2),$D20=""),1,IF(AND($C20<=DAY(G$2),$D20>=DAY(G$2)),1,IF(AND($C20="",$D20>=DAY(G$2)),1,"")))))) -> 1 | H20: =IF(OR($B20="",H$2=""),"",IF(OR(WEEKDAY(H$2)=7,WEEKDAY(H$2)=1),"",IF(AND($C20="",$D20=""),1,IF(AND($C20<=DAY(H$2),$D20=""),1,IF(AND($C20<=DAY(H$2),$D20>=DAY(H$2)),1,IF(AND($C20="",$D20>=DAY(H$2)),1,"")))))) -> 1 | I20: =IF(OR($B20="",I$2=""),"",IF(OR(WEEKDAY(I$2)=7,WEEKDAY(I$2)=1),"",IF(AND($C20="",$D20=""),1,IF(AND($C20<=DAY(I$2),$D20=""),1,IF(AND($C20<=DAY(I$2),$D20>=DAY(I$2)),1,IF(AND($C20="",$D20>=DAY(I$2)),1,"")))))) -> 1 | J20: =IF(OR($B20="",J$2=""),"",IF(OR(WEEKDAY(J$2)=7,WEEKDAY(J$2)=1),"",IF(AND($C20="",$D20=""),1,IF(AND($C20<=DAY(J$2),$D20=""),1,IF(AND($C20<=DAY(J$2),$D20>=DAY(J$2)),1,IF(AND($C20="",$D20>=DAY(J$2)),1,"")))))) -> 1 | K20: =IF(OR($B20="",K$2=""),"",IF(OR(WEEKDAY(K$2)=7,WEEKDAY(K$2)=1),"",IF(AND($C20="",$D20=""),1,IF(AND($C20<=DAY(K$2),$D20=""),1,IF(AND($C20<=DAY(K$2),$D20>=DAY(K$2)),1,IF(AND($C20="",$D20>=DAY(K$2)),1,"")))))) | L20: =IF(OR($B20="",L$2=""),"",IF(OR(WEEKDAY(L$2)=7,WEEKDAY(L$2)=1),"",IF(AND($C20="",$D20=""),1,IF(AND($C20<=DAY(L$2),$D20=""),1,IF(AND($C20<=DAY(L$2),$D20>=DAY(L$2)),1,IF(AND($C20="",$D20>=DAY(L$2)),1,"")))))) | ... AI20: =IF(OR($B20="",AI$2=""),"",IF(OR(WEEKDAY(AI$2)=7,WEEKDAY(AI$2)=1),"",IF(AND($C20="",$D20=""),1,IF(AND($C20<=DAY(AI$2),$D20=""),1,IF(AND($C20<=DAY(AI$2),$D20>=DAY(AI$2)),1,IF(AND($C20="",$D20>=DAY(AI$2)),1,"")))))) -> 1 | AJ20: =IF($B20="","",SUM(E20:AI20)) -> 22
E21: =IF(OR($B21="",E$2=""),"",IF(OR(WEEKDAY(E$2)=7,WEEKDAY(E$2)=1),"",IF(AND($C21="",$D21=""),1,IF(AND($C21<=DAY(E$2),$D21=""),1,IF(AND($C21<=DAY(E$2),$D21>=DAY(E$2)),1,IF(AND($C21="",$D21>=DAY(E$2)),1,"")))))) | F21: =IF(OR($B21="",F$2=""),"",IF(OR(WEEKDAY(F$2)=7,WEEKDAY(F$2)=1),"",IF(AND($C21="",$D21=""),1,IF(AND($C21<=DAY(F$2),$D21=""),1,IF(AND($C21<=DAY(F$2),$D21>=DAY(F$2)),1,IF(AND($C21="",$D21>=DAY(F$2)),1,"")))))) | G21: =IF(OR($B21="",G$2=""),"",IF(OR(WEEKDAY(G$2)=7,WEEKDAY(G$2)=1),"",IF(AND($C21="",$D21=""),1,IF(AND($C21<=DAY(G$2),$D21=""),1,IF(AND($C21<=DAY(G$2),$D21>=DAY(G$2)),1,IF(AND($C21="",$D21>=DAY(G$2)),1,"")))))) | H21: =IF(OR($B21="",H$2=""),"",IF(OR(WEEKDAY(H$2)=7,WEEKDAY(H$2)=1),"",IF(AND($C21="",$D21=""),1,IF(AND($C21<=DAY(H$2),$D21=""),1,IF(AND($C21<=DAY(H$2),$D21>=DAY(H$2)),1,IF(AND($C21="",$D21>=DAY(H$2)),1,"")))))) | I21: =IF(OR($B21="",I$2=""),"",IF(OR(WEEKDAY(I$2)=7,WEEKDAY(I$2)=1),"",IF(AND($C21="",$D21=""),1,IF(AND($C21<=DAY(I$2),$D21=""),1,IF(AND($C21<=DAY(I$2),$D21>=DAY(I$2)),1,IF(AND($C21="",$D21>=DAY(I$2)),1,"")))))) | J21: =IF(OR($B21="",J$2=""),"",IF(OR(WEEKDAY(J$2)=7,WEEKDAY(J$2)=1),"",IF(AND($C21="",$D21=""),1,IF(AND($C21<=DAY(J$2),$D21=""),1,IF(AND($C21<=DAY(J$2),$D21>=DAY(J$2)),1,IF(AND($C21="",$D21>=DAY(J$2)),1,"")))))) | K21: =IF(OR($B21="",K$2=""),"",IF(OR(WEEKDAY(K$2)=7,WEEKDAY(K$2)=1),"",IF(AND($C21="",$D21=""),1,IF(AND($C21<=DAY(K$2),$D21=""),1,IF(AND($C21<=DAY(K$2),$D21>=DAY(K$2)),1,IF(AND($C21="",$D21>=DAY(K$2)),1,"")))))) | L21: =IF(OR($B21="",L$2=""),"",IF(OR(WEEKDAY(L$2)=7,WEEKDAY(L$2)=1),"",IF(AND($C21="",$D21=""),1,IF(AND($C21<=DAY(L$2),$D21=""),1,IF(AND($C21<=DAY(L$2),$D21>=DAY(L$2)),1,IF(AND($C21="",$D21>=DAY(L$2)),1,"")))))) | ... AI21: =IF(OR($B21="",AI$2=""),"",IF(OR(WEEKDAY(AI$2)=7,WEEKDAY(AI$2)=1),"",IF(AND($C21="",$D21=""),1,IF(AND($C21<=DAY(AI$2),$D21=""),1,IF(AND($C21<=DAY(AI$2),$D21>=DAY(AI$2)),1,IF(AND($C21="",$D21>=DAY(AI$2)),1,"")))))) | AJ21: =IF($B21="","",SUM(E21:AI21))
E22: =IF(OR($B22="",E$2=""),"",IF(OR(WEEKDAY(E$2)=7,WEEKDAY(E$2)=1),"",IF(AND($C22="",$D22=""),1,IF(AND($C22<=DAY(E$2),$D22=""),1,IF(AND($C22<=DAY(E$2),$D22>=DAY(E$2)),1,IF(AND($C22="",$D22>=DAY(E$2)),1,"")))))) | F22: =IF(OR($B22="",F$2=""),"",IF(OR(WEEKDAY(F$2)=7,WEEKDAY(F$2)=1),"",IF(AND($C22="",$D22=""),1,IF(AND($C22<=DAY(F$2),$D22=""),1,IF(AND($C22<=DAY(F$2),$D22>=DAY(F$2)),1,IF(AND($C22="",$D22>=DAY(F$2)),1,"")))))) | G22: =IF(OR($B22="",G$2=""),"",IF(OR(WEEKDAY(G$2)=7,WEEKDAY(G$2)=1),"",IF(AND($C22="",$D22=""),1,IF(AND($C22<=DAY(G$2),$D22=""),1,IF(AND($C22<=DAY(G$2),$D22>=DAY(G$2)),1,IF(AND($C22="",$D22>=DAY(G$2)),1,"")))))) | H22: =IF(OR($B22="",H$2=""),"",IF(OR(WEEKDAY(H$2)=7,WEEKDAY(H$2)=1),"",IF(AND($C22="",$D22=""),1,IF(AND($C22<=DAY(H$2),$D22=""),1,IF(AND($C22<=DAY(H$2),$D22>=DAY(H$2)),1,IF(AND($C22="",$D22>=DAY(H$2)),1,"")))))) | I22: =IF(OR($B22="",I$2=""),"",IF(OR(WEEKDAY(I$2)=7,WEEKDAY(I$2)=1),"",IF(AND($C22="",$D22=""),1,IF(AND($C22<=DAY(I$2),$D22=""),1,IF(AND($C22<=DAY(I$2),$D22>=DAY(I$2)),1,IF(AND($C22="",$D22>=DAY(I$2)),1,"")))))) | J22: =IF(OR($B22="",J$2=""),"",IF(OR(WEEKDAY(J$2)=7,WEEKDAY(J$2)=1),"",IF(AND($C22="",$D22=""),1,IF(AND($C22<=DAY(J$2),$D22=""),1,IF(AND($C22<=DAY(J$2),$D22>=DAY(J$2)),1,IF(AND($C22="",$D22>=DAY(J$2)),1,"")))))) | K22: =IF(OR($B22="",K$2=""),"",IF(OR(WEEKDAY(K$2)=7,WEEKDAY(K$2)=1),"",IF(AND($C22="",$D22=""),1,IF(AND($C22<=DAY(K$2),$D22=""),1,IF(AND($C22<=DAY(K$2),$D22>=DAY(K$2)),1,IF(AND($C22="",$D22>=DAY(K$2)),1,"")))))) | L22: =IF(OR($B22="",L$2=""),"",IF(OR(WEEKDAY(L$2)=7,WEEKDAY(L$2)=1),"",IF(AND($C22="",$D22=""),1,IF(AND($C22<=DAY(L$2),$D22=""),1,IF(AND($C22<=DAY(L$2),$D22>=DAY(L$2)),1,IF(AND($C22="",$D22>=DAY(L$2)),1,"")))))) | ... AI22: =IF(OR($B22="",AI$2=""),"",IF(OR(WEEKDAY(AI$2)=7,WEEKDAY(AI$2)=1),"",IF(AND($C22="",$D22=""),1,IF(AND($C22<=DAY(AI$2),$D22=""),1,IF(AND($C22<=DAY(AI$2),$D22>=DAY(AI$2)),1,IF(AND($C22="",$D22>=DAY(AI$2)),1,"")))))) | AJ22: =IF($B22="","",SUM(E22:AI22))
A23: AGENT | B23: 1 | E23: =IF(OR($B23="",E$2=""),"",IF(OR(WEEKDAY(E$2)=7,WEEKDAY(E$2)=1),"",IF(AND($C23="",$D23=""),1,IF(AND($C23<=DAY(E$2),$D23=""),1,IF(AND($C23<=DAY(E$2),$D23>=DAY(E$2)),1,IF(AND($C23="",$D23>=DAY(E$2)),1,"")))))) | F23: =IF(OR($B23="",F$2=""),"",IF(OR(WEEKDAY(F$2)=7,WEEKDAY(F$2)=1),"",IF(AND($C23="",$D23=""),1,IF(AND($C23<=DAY(F$2),$D23=""),1,IF(AND($C23<=DAY(F$2),$D23>=DAY(F$2)),1,IF(AND($C23="",$D23>=DAY(F$2)),1,"")))))) -> 1 | G23: =IF(OR($B23="",G$2=""),"",IF(OR(WEEKDAY(G$2)=7,WEEKDAY(G$2)=1),"",IF(AND($C23="",$D23=""),1,IF(AND($C23<=DAY(G$2),$D23=""),1,IF(AND($C23<=DAY(G$2),$D23>=DAY(G$2)),1,IF(AND($C23="",$D23>=DAY(G$2)),1,"")))))) -> 1 | H23: =IF(OR($B23="",H$2=""),"",IF(OR(WEEKDAY(H$2)=7,WEEKDAY(H$2)=1),"",IF(AND($C23="",$D23=""),1,IF(AND($C23<=DAY(H$2),$D23=""),1,IF(AND($C23<=DAY(H$2),$D23>=DAY(H$2)),1,IF(AND($C23="",$D23>=DAY(H$2)),1,"")))))) -> 1 | I23: =IF(OR($B23="",I$2=""),"",IF(OR(WEEKDAY(I$2)=7,WEEKDAY(I$2)=1),"",IF(AND($C23="",$D23=""),1,IF(AND($C23<=DAY(I$2),$D23=""),1,IF(AND($C23<=DAY(I$2),$D23>=DAY(I$2)),1,IF(AND($C23="",$D23>=DAY(I$2)),1,"")))))) -> 1 | J23: =IF(OR($B23="",J$2=""),"",IF(OR(WEEKDAY(J$2)=7,WEEKDAY(J$2)=1),"",IF(AND($C23="",$D23=""),1,IF(AND($C23<=DAY(J$2),$D23=""),1,IF(AND($C23<=DAY(J$2),$D23>=DAY(J$2)),1,IF(AND($C23="",$D23>=DAY(J$2)),1,"")))))) -> 1 | K23: =IF(OR($B23="",K$2=""),"",IF(OR(WEEKDAY(K$2)=7,WEEKDAY(K$2)=1),"",IF(AND($C23="",$D23=""),1,IF(AND($C23<=DAY(K$2),$D23=""),1,IF(AND($C23<=DAY(K$2),$D23>=DAY(K$2)),1,IF(AND($C23="",$D23>=DAY(K$2)),1,"")))))) | L23: =IF(OR($B23="",L$2=""),"",IF(OR(WEEKDAY(L$2)=7,WEEKDAY(L$2)=1),"",IF(AND($C23="",$D23=""),1,IF(AND($C23<=DAY(L$2),$D23=""),1,IF(AND($C23<=DAY(L$2),$D23>=DAY(L$2)),1,IF(AND($C23="",$D23>=DAY(L$2)),1,"")))))) | ... AI23: =IF(OR($B23="",AI$2=""),"",IF(OR(WEEKDAY(AI$2)=7,WEEKDAY(AI$2)=1),"",IF(AND($C23="",$D23=""),1,IF(AND($C23<=DAY(AI$2),$D23=""),1,IF(AND($C23<=DAY(AI$2),$D23>=DAY(AI$2)),1,IF(AND($C23="",$D23>=DAY(AI$2)),1,"")))))) -> 1 | AJ23: =IF($B23="","",SUM(E23:AI23)) -> 22
A24: AGENT | B24: 2 | E24: =IF(OR($B24="",E$2=""),"",IF(OR(WEEKDAY(E$2)=7,WEEKDAY(E$2)=1),"",IF(AND($C24="",$D24=""),1,IF(AND($C24<=DAY(E$2),$D24=""),1,IF(AND($C24<=DAY(E$2),$D24>=DAY(E$2)),1,IF(AND($C24="",$D24>=DAY(E$2)),1,"")))))) | F24: =IF(OR($B24="",F$2=""),"",IF(OR(WEEKDAY(F$2)=7,WEEKDAY(F$2)=1),"",IF(AND($C24="",$D24=""),1,IF(AND($C24<=DAY(F$2),$D24=""),1,IF(AND($C24<=DAY(F$2),$D24>=DAY(F$2)),1,IF(AND($C24="",$D24>=DAY(F$2)),1,"")))))) -> 1 | G24: =IF(OR($B24="",G$2=""),"",IF(OR(WEEKDAY(G$2)=7,WEEKDAY(G$2)=1),"",IF(AND($C24="",$D24=""),1,IF(AND($C24<=DAY(G$2),$D24=""),1,IF(AND($C24<=DAY(G$2),$D24>=DAY(G$2)),1,IF(AND($C24="",$D24>=DAY(G$2)),1,"")))))) -> 1 | H24: =IF(OR($B24="",H$2=""),"",IF(OR(WEEKDAY(H$2)=7,WEEKDAY(H$2)=1),"",IF(AND($C24="",$D24=""),1,IF(AND($C24<=DAY(H$2),$D24=""),1,IF(AND($C24<=DAY(H$2),$D24>=DAY(H$2)),1,IF(AND($C24="",$D24>=DAY(H$2)),1,"")))))) -> 1 | I24: =IF(OR($B24="",I$2=""),"",IF(OR(WEEKDAY(I$2)=7,WEEKDAY(I$2)=1),"",IF(AND($C24="",$D24=""),1,IF(AND($C24<=DAY(I$2),$D24=""),1,IF(AND($C24<=DAY(I$2),$D24>=DAY(I$2)),1,IF(AND($C24="",$D24>=DAY(I$2)),1,"")))))) -> 1 | J24: =IF(OR($B24="",J$2=""),"",IF(OR(WEEKDAY(J$2)=7,WEEKDAY(J$2)=1),"",IF(AND($C24="",$D24=""),1,IF(AND($C24<=DAY(J$2),$D24=""),1,IF(AND($C24<=DAY(J$2),$D24>=DAY(J$2)),1,IF(AND($C24="",$D24>=DAY(J$2)),1,"")))))) -> 1 | K24: =IF(OR($B24="",K$2=""),"",IF(OR(WEEKDAY(K$2)=7,WEEKDAY(K$2)=1),"",IF(AND($C24="",$D24=""),1,IF(AND($C24<=DAY(K$2),$D24=""),1,IF(AND($C24<=DAY(K$2),$D24>=DAY(K$2)),1,IF(AND($C24="",$D24>=DAY(K$2)),1,"")))))) | L24: =IF(OR($B24="",L$2=""),"",IF(OR(WEEKDAY(L$2)=7,WEEKDAY(L$2)=1),"",IF(AND($C24="",$D24=""),1,IF(AND($C24<=DAY(L$2),$D24=""),1,IF(AND($C24<=DAY(L$2),$D24>=DAY(L$2)),1,IF(AND($C24="",$D24>=DAY(L$2)),1,"")))))) | ... AI24: =IF(OR($B24="",AI$2=""),"",IF(OR(WEEKDAY(AI$2)=7,WEEKDAY(AI$2)=1),"",IF(AND($C24="",$D24=""),1,IF(AND($C24<=DAY(AI$2),$D24=""),1,IF(AND($C24<=DAY(AI$2),$D24>=DAY(AI$2)),1,IF(AND($C24="",$D24>=DAY(AI$2)),1,"")))))) -> 1 | AJ24: =IF($B24="","",SUM(E24:AI24)) -> 22
A25: AGENT | B25: 3 | E25: =IF(OR($B25="",E$2=""),"",IF(OR(WEEKDAY(E$2)=7,WEEKDAY(E$2)=1),"",IF(AND($C25="",$D25=""),1,IF(AND($C25<=DAY(E$2),$D25=""),1,IF(AND($C25<=DAY(E$2),$D25>=DAY(E$2)),1,IF(AND($C25="",$D25>=DAY(E$2)),1,"")))))) | F25: =IF(OR($B25="",F$2=""),"",IF(OR(WEEKDAY(F$2)=7,WEEKDAY(F$2)=1),"",IF(AND($C25="",$D25=""),1,IF(AND($C25<=DAY(F$2),$D25=""),1,IF(AND($C25<=DAY(F$2),$D25>=DAY(F$2)),1,IF(AND($C25="",$D25>=DAY(F$2)),1,"")))))) -> 1 | G25: =IF(OR($B25="",G$2=""),"",IF(OR(WEEKDAY(G$2)=7,WEEKDAY(G$2)=1),"",IF(AND($C25="",$D25=""),1,IF(AND($C25<=DAY(G$2),$D25=""),1,IF(AND($C25<=DAY(G$2),$D25>=DAY(G$2)),1,IF(AND($C25="",$D25>=DAY(G$2)),1,"")))))) -> 1 | H25: =IF(OR($B25="",H$2=""),"",IF(OR(WEEKDAY(H$2)=7,WEEKDAY(H$2)=1),"",IF(AND($C25="",$D25=""),1,IF(AND($C25<=DAY(H$2),$D25=""),1,IF(AND($C25<=DAY(H$2),$D25>=DAY(H$2)),1,IF(AND($C25="",$D25>=DAY(H$2)),1,"")))))) -> 1 | I25: =IF(OR($B25="",I$2=""),"",IF(OR(WEEKDAY(I$2)=7,WEEKDAY(I$2)=1),"",IF(AND($C25="",$D25=""),1,IF(AND($C25<=DAY(I$2),$D25=""),1,IF(AND($C25<=DAY(I$2),$D25>=DAY(I$2)),1,IF(AND($C25="",$D25>=DAY(I$2)),1,"")))))) -> 1 | J25: =IF(OR($B25="",J$2=""),"",IF(OR(WEEKDAY(J$2)=7,WEEKDAY(J$2)=1),"",IF(AND($C25="",$D25=""),1,IF(AND($C25<=DAY(J$2),$D25=""),1,IF(AND($C25<=DAY(J$2),$D25>=DAY(J$2)),1,IF(AND($C25="",$D25>=DAY(J$2)),1,"")))))) -> 1 | K25: =IF(OR($B25="",K$2=""),"",IF(OR(WEEKDAY(K$2)=7,WEEKDAY(K$2)=1),"",IF(AND($C25="",$D25=""),1,IF(AND($C25<=DAY(K$2),$D25=""),1,IF(AND($C25<=DAY(K$2),$D25>=DAY(K$2)),1,IF(AND($C25="",$D25>=DAY(K$2)),1,"")))))) | L25: =IF(OR($B25="",L$2=""),"",IF(OR(WEEKDAY(L$2)=7,WEEKDAY(L$2)=1),"",IF(AND($C25="",$D25=""),1,IF(AND($C25<=DAY(L$2),$D25=""),1,IF(AND($C25<=DAY(L$2),$D25>=DAY(L$2)),1,IF(AND($C25="",$D25>=DAY(L$2)),1,"")))))) | ... AI25: =IF(OR($B25="",AI$2=""),"",IF(OR(WEEKDAY(AI$2)=7,WEEKDAY(AI$2)=1),"",IF(AND($C25="",$D25=""),1,IF(AND($C25<=DAY(AI$2),$D25=""),1,IF(AND($C25<=DAY(AI$2),$D25>=DAY(AI$2)),1,IF(AND($C25="",$D25>=DAY(AI$2)),1,"")))))) -> 1 | AJ25: =IF($B25="","",SUM(E25:AI25)) -> 22
A26: AGENT | B26: 4 | E26: =IF(OR($B26="",E$2=""),"",IF(OR(WEEKDAY(E$2)=7,WEEKDAY(E$2)=1),"",IF(AND($C26="",$D26=""),1,IF(AND($C26<=DAY(E$2),$D26=""),1,IF(AND($C26<=DAY(E$2),$D26>=DAY(E$2)),1,IF(AND($C26="",$D26>=DAY(E$2)),1,"")))))) | F26: =IF(OR($B26="",F$2=""),"",IF(OR(WEEKDAY(F$2)=7,WEEKDAY(F$2)=1),"",IF(AND($C26="",$D26=""),1,IF(AND($C26<=DAY(F$2),$D26=""),1,IF(AND($C26<=DAY(F$2),$D26>=DAY(F$2)),1,IF(AND($C26="",$D26>=DAY(F$2)),1,"")))))) -> 1 | G26: =IF(OR($B26="",G$2=""),"",IF(OR(WEEKDAY(G$2)=7,WEEKDAY(G$2)=1),"",IF(AND($C26="",$D26=""),1,IF(AND($C26<=DAY(G$2),$D26=""),1,IF(AND($C26<=DAY(G$2),$D26>=DAY(G$2)),1,IF(AND($C26="",$D26>=DAY(G$2)),1,"")))))) -> 1 | H26: =IF(OR($B26="",H$2=""),"",IF(OR(WEEKDAY(H$2)=7,WEEKDAY(H$2)=1),"",IF(AND($C26="",$D26=""),1,IF(AND($C26<=DAY(H$2),$D26=""),1,IF(AND($C26<=DAY(H$2),$D26>=DAY(H$2)),1,IF(AND($C26="",$D26>=DAY(H$2)),1,"")))))) -> 1 | I26: =IF(OR($B26="",I$2=""),"",IF(OR(WEEKDAY(I$2)=7,WEEKDAY(I$2)=1),"",IF(AND($C26="",$D26=""),1,IF(AND($C26<=DAY(I$2),$D26=""),1,IF(AND($C26<=DAY(I$2),$D26>=DAY(I$2)),1,IF(AND($C26="",$D26>=DAY(I$2)),1,"")))))) -> 1 | J26: =IF(OR($B26="",J$2=""),"",IF(OR(WEEKDAY(J$2)=7,WEEKDAY(J$2)=1),"",IF(AND($C26="",$D26=""),1,IF(AND($C26<=DAY(J$2),$D26=""),1,IF(AND($C26<=DAY(J$2),$D26>=DAY(J$2)),1,IF(AND($C26="",$D26>=DAY(J$2)),1,"")))))) -> 1 | K26: =IF(OR($B26="",K$2=""),"",IF(OR(WEEKDAY(K$2)=7,WEEKDAY(K$2)=1),"",IF(AND($C26="",$D26=""),1,IF(AND($C26<=DAY(K$2),$D26=""),1,IF(AND($C26<=DAY(K$2),$D26>=DAY(K$2)),1,IF(AND($C26="",$D26>=DAY(K$2)),1,"")))))) | L26: =IF(OR($B26="",L$2=""),"",IF(OR(WEEKDAY(L$2)=7,WEEKDAY(L$2)=1),"",IF(AND($C26="",$D26=""),1,IF(AND($C26<=DAY(L$2),$D26=""),1,IF(AND($C26<=DAY(L$2),$D26>=DAY(L$2)),1,IF(AND($C26="",$D26>=DAY(L$2)),1,"")))))) | ... AI26: =IF(OR($B26="",AI$2=""),"",IF(OR(WEEKDAY(AI$2)=7,WEEKDAY(AI$2)=1),"",IF(AND($C26="",$D26=""),1,IF(AND($C26<=DAY(AI$2),$D26=""),1,IF(AND($C26<=DAY(AI$2),$D26>=DAY(AI$2)),1,IF(AND($C26="",$D26>=DAY(AI$2)),1,"")))))) -> 1 | AJ26: =IF($B26="","",SUM(E26:AI26)) -> 22
A27: AGENT | B27: 5 | C27: 27 | D27: 27 | E27: =IF(OR($B27="",E$2=""),"",IF(OR(WEEKDAY(E$2)=7,WEEKDAY(E$2)=1),"",IF(AND($C27="",$D27=""),1,IF(AND($C27<=DAY(E$2),$D27=""),1,IF(AND($C27<=DAY(E$2),$D27>=DAY(E$2)),1,IF(AND($C27="",$D27>=DAY(E$2)),1,"")))))) | F27: =IF(OR($B27="",F$2=""),"",IF(OR(WEEKDAY(F$2)=7,WEEKDAY(F$2)=1),"",IF(AND($C27="",$D27=""),1,IF(AND($C27<=DAY(F$2),$D27=""),1,IF(AND($C27<=DAY(F$2),$D27>=DAY(F$2)),1,IF(AND($C27="",$D27>=DAY(F$2)),1,"")))))) | G27: =IF(OR($B27="",G$2=""),"",IF(OR(WEEKDAY(G$2)=7,WEEKDAY(G$2)=1),"",IF(AND($C27="",$D27=""),1,IF(AND($C27<=DAY(G$2),$D27=""),1,IF(AND($C27<=DAY(G$2),$D27>=DAY(G$2)),1,IF(AND($C27="",$D27>=DAY(G$2)),1,"")))))) | H27: =IF(OR($B27="",H$2=""),"",IF(OR(WEEKDAY(H$2)=7,WEEKDAY(H$2)=1),"",IF(AND($C27="",$D27=""),1,IF(AND($C27<=DAY(H$2),$D27=""),1,IF(AND($C27<=DAY(H$2),$D27>=DAY(H$2)),1,IF(AND($C27="",$D27>=DAY(H$2)),1,"")))))) | I27: =IF(OR($B27="",I$2=""),"",IF(OR(WEEKDAY(I$2)=7,WEEKDAY(I$2)=1),"",IF(AND($C27="",$D27=""),1,IF(AND($C27<=DAY(I$2),$D27=""),1,IF(AND($C27<=DAY(I$2),$D27>=DAY(I$2)),1,IF(AND($C27="",$D27>=DAY(I$2)),1,"")))))) | J27: =IF(OR($B27="",J$2=""),"",IF(OR(WEEKDAY(J$2)=7,WEEKDAY(J$2)=1),"",IF(AND($C27="",$D27=""),1,IF(AND($C27<=DAY(J$2),$D27=""),1,IF(AND($C27<=DAY(J$2),$D27>=DAY(J$2)),1,IF(AND($C27="",$D27>=DAY(J$2)),1,"")))))) | K27: =IF(OR($B27="",K$2=""),"",IF(OR(WEEKDAY(K$2)=7,WEEKDAY(K$2)=1),"",IF(AND($C27="",$D27=""),1,IF(AND($C27<=DAY(K$2),$D27=""),1,IF(AND($C27<=DAY(K$2),$D27>=DAY(K$2)),1,IF(AND($C27="",$D27>=DAY(K$2)),1,"")))))) | L27: =IF(OR($B27="",L$2=""),"",IF(OR(WEEKDAY(L$2)=7,WEEKDAY(L$2)=1),"",IF(AND($C27="",$D27=""),1,IF(AND($C27<=DAY(L$2),$D27=""),1,IF(AND($C27<=DAY(L$2),$D27>=DAY(L$2)),1,IF(AND($C27="",$D27>=DAY(L$2)),1,"")))))) | ... AI27: =IF(OR($B27="",AI$2=""),"",IF(OR(WEEKDAY(AI$2)=7,WEEKDAY(AI$2)=1),"",IF(AND($C27="",$D27=""),1,IF(AND($C27<=DAY(AI$2),$D27=""),1,IF(AND($C27<=DAY(AI$2),$D27>=DAY(AI$2)),1,IF(AND($C27="",$D27>=DAY(AI$2)),1,"")))))) | AJ27: =IF($B27="","",SUM(E27:AI27)) -> 1
A28: AGENT | B28: 6 | C28: 10 | D28: 13 | E28: =IF(OR($B28="",E$2=""),"",IF(OR(WEEKDAY(E$2)=7,WEEKDAY(E$2)=1),"",IF(AND($C28="",$D28=""),1,IF(AND($C28<=DAY(E$2),$D28=""),1,IF(AND($C28<=DAY(E$2),$D28>=DAY(E$2)),1,IF(AND($C28="",$D28>=DAY(E$2)),1,"")))))) | F28: =IF(OR($B28="",F$2=""),"",IF(OR(WEEKDAY(F$2)=7,WEEKDAY(F$2)=1),"",IF(AND($C28="",$D28=""),1,IF(AND($C28<=DAY(F$2),$D28=""),1,IF(AND($C28<=DAY(F$2),$D28>=DAY(F$2)),1,IF(AND($C28="",$D28>=DAY(F$2)),1,"")))))) | G28: =IF(OR($B28="",G$2=""),"",IF(OR(WEEKDAY(G$2)=7,WEEKDAY(G$2)=1),"",IF(AND($C28="",$D28=""),1,IF(AND($C28<=DAY(G$2),$D28=""),1,IF(AND($C28<=DAY(G$2),$D28>=DAY(G$2)),1,IF(AND($C28="",$D28>=DAY(G$2)),1,"")))))) | H28: =IF(OR($B28="",H$2=""),"",IF(OR(WEEKDAY(H$2)=7,WEEKDAY(H$2)=1),"",IF(AND($C28="",$D28=""),1,IF(AND($C28<=DAY(H$2),$D28=""),1,IF(AND($C28<=DAY(H$2),$D28>=DAY(H$2)),1,IF(AND($C28="",$D28>=DAY(H$2)),1,"")))))) | I28: =IF(OR($B28="",I$2=""),"",IF(OR(WEEKDAY(I$2)=7,WEEKDAY(I$2)=1),"",IF(AND($C28="",$D28=""),1,IF(AND($C28<=DAY(I$2),$D28=""),1,IF(AND($C28<=DAY(I$2),$D28>=DAY(I$2)),1,IF(AND($C28="",$D28>=DAY(I$2)),1,"")))))) | J28: =IF(OR($B28="",J$2=""),"",IF(OR(WEEKDAY(J$2)=7,WEEKDAY(J$2)=1),"",IF(AND($C28="",$D28=""),1,IF(AND($C28<=DAY(J$2),$D28=""),1,IF(AND($C28<=DAY(J$2),$D28>=DAY(J$2)),1,IF(AND($C28="",$D28>=DAY(J$2)),1,"")))))) | K28: =IF(OR($B28="",K$2=""),"",IF(OR(WEEKDAY(K$2)=7,WEEKDAY(K$2)=1),"",IF(AND($C28="",$D28=""),1,IF(AND($C28<=DAY(K$2),$D28=""),1,IF(AND($C28<=DAY(K$2),$D28>=DAY(K$2)),1,IF(AND($C28="",$D28>=DAY(K$2)),1,"")))))) | L28: =IF(OR($B28="",L$2=""),"",IF(OR(WEEKDAY(L$2)=7,WEEKDAY(L$2)=1),"",IF(AND($C28="",$D28=""),1,IF(AND($C28<=DAY(L$2),$D28=""),1,IF(AND($C28<=DAY(L$2),$D28>=DAY(L$2)),1,IF(AND($C28="",$D28>=DAY(L$2)),1,"")))))) | ... AI28: =IF(OR($B28="",AI$2=""),"",IF(OR(WEEKDAY(AI$2)=7,WEEKDAY(AI$2)=1),"",IF(AND($C28="",$D28=""),1,IF(AND($C28<=DAY(AI$2),$D28=""),1,IF(AND($C28<=DAY(AI$2),$D28>=DAY(AI$2)),1,IF(AND($C28="",$D28>=DAY(AI$2)),1,"")))))) | AJ28: =IF($B28="","",SUM(E28:AI28)) -> 4
A29: AGENT | B29: 7 | E29: =IF(OR($B29="",E$2=""),"",IF(OR(WEEKDAY(E$2)=7,WEEKDAY(E$2)=1),"",IF(AND($C29="",$D29=""),1,IF(AND($C29<=DAY(E$2),$D29=""),1,IF(AND($C29<=DAY(E$2),$D29>=DAY(E$2)),1,IF(AND($C29="",$D29>=DAY(E$2)),1,"")))))) | F29: =IF(OR($B29="",F$2=""),"",IF(OR(WEEKDAY(F$2)=7,WEEKDAY(F$2)=1),"",IF(AND($C29="",$D29=""),1,IF(AND($C29<=DAY(F$2),$D29=""),1,IF(AND($C29<=DAY(F$2),$D29>=DAY(F$2)),1,IF(AND($C29="",$D29>=DAY(F$2)),1,"")))))) -> 1 | G29: =IF(OR($B29="",G$2=""),"",IF(OR(WEEKDAY(G$2)=7,WEEKDAY(G$2)=1),"",IF(AND($C29="",$D29=""),1,IF(AND($C29<=DAY(G$2),$D29=""),1,IF(AND($C29<=DAY(G$2),$D29>=DAY(G$2)),1,IF(AND($C29="",$D29>=DAY(G$2)),1,"")))))) -> 1 | H29: =IF(OR($B29="",H$2=""),"",IF(OR(WEEKDAY(H$2)=7,WEEKDAY(H$2)=1),"",IF(AND($C29="",$D29=""),1,IF(AND($C29<=DAY(H$2),$D29=""),1,IF(AND($C29<=DAY(H$2),$D29>=DAY(H$2)),1,IF(AND($C29="",$D29>=DAY(H$2)),1,"")))))) -> 1 | I29: =IF(OR($B29="",I$2=""),"",IF(OR(WEEKDAY(I$2)=7,WEEKDAY(I$2)=1),"",IF(AND($C29="",$D29=""),1,IF(AND($C29<=DAY(I$2),$D29=""),1,IF(AND($C29<=DAY(I$2),$D29>=DAY(I$2)),1,IF(AND($C29="",$D29>=DAY(I$2)),1,"")))))) -> 1 | J29: =IF(OR($B29="",J$2=""),"",IF(OR(WEEKDAY(J$2)=7,WEEKDAY(J$2)=1),"",IF(AND($C29="",$D29=""),1,IF(AND($C29<=DAY(J$2),$D29=""),1,IF(AND($C29<=DAY(J$2),$D29>=DAY(J$2)),1,IF(AND($C29="",$D29>=DAY(J$2)),1,"")))))) -> 1 | K29: =IF(OR($B29="",K$2=""),"",IF(OR(WEEKDAY(K$2)=7,WEEKDAY(K$2)=1),"",IF(AND($C29="",$D29=""),1,IF(AND($C29<=DAY(K$2),$D29=""),1,IF(AND($C29<=DAY(K$2),$D29>=DAY(K$2)),1,IF(AND($C29="",$D29>=DAY(K$2)),1,"")))))) | L29: =IF(OR($B29="",L$2=""),"",IF(OR(WEEKDAY(L$2)=7,WEEKDAY(L$2)=1),"",IF(AND($C29="",$D29=""),1,IF(AND($C29<=DAY(L$2),$D29=""),1,IF(AND($C29<=DAY(L$2),$D29>=DAY(L$2)),1,IF(AND($C29="",$D29>=DAY(L$2)),1,"")))))) | ... AI29: =IF(OR($B29="",AI$2=""),"",IF(OR(WEEKDAY(AI$2)=7,WEEKDAY(AI$2)=1),"",IF(AND($C29="",$D29=""),1,IF(AND($C29<=DAY(AI$2),$D29=""),1,IF(AND($C29<=DAY(AI$2),$D29>=DAY(AI$2)),1,IF(AND($C29="",$D29>=DAY(AI$2)),1,"")))))) -> 1 | AJ29: =IF($B29="","",SUM(E29:AI29)) -> 22
A30: AGENT | B30: 8 | E30: =IF(OR($B30="",E$2=""),"",IF(OR(WEEKDAY(E$2)=7,WEEKDAY(E$2)=1),"",IF(AND($C30="",$D30=""),1,IF(AND($C30<=DAY(E$2),$D30=""),1,IF(AND($C30<=DAY(E$2),$D30>=DAY(E$2)),1,IF(AND($C30="",$D30>=DAY(E$2)),1,"")))))) | F30: =IF(OR($B30="",F$2=""),"",IF(OR(WEEKDAY(F$2)=7,WEEKDAY(F$2)=1),"",IF(AND($C30="",$D30=""),1,IF(AND($C30<=DAY(F$2),$D30=""),1,IF(AND($C30<=DAY(F$2),$D30>=DAY(F$2)),1,IF(AND($C30="",$D30>=DAY(F$2)),1,"")))))) -> 1 | G30: =IF(OR($B30="",G$2=""),"",IF(OR(WEEKDAY(G$2)=7,WEEKDAY(G$2)=1),"",IF(AND($C30="",$D30=""),1,IF(AND($C30<=DAY(G$2),$D30=""),1,IF(AND($C30<=DAY(G$2),$D30>=DAY(G$2)),1,IF(AND($C30="",$D30>=DAY(G$2)),1,"")))))) -> 1 | H30: =IF(OR($B30="",H$2=""),"",IF(OR(WEEKDAY(H$2)=7,WEEKDAY(H$2)=1),"",IF(AND($C30="",$D30=""),1,IF(AND($C30<=DAY(H$2),$D30=""),1,IF(AND($C30<=DAY(H$2),$D30>=DAY(H$2)),1,IF(AND($C30="",$D30>=DAY(H$2)),1,"")))))) -> 1 | I30: =IF(OR($B30="",I$2=""),"",IF(OR(WEEKDAY(I$2)=7,WEEKDAY(I$2)=1),"",IF(AND($C30="",$D30=""),1,IF(AND($C30<=DAY(I$2),$D30=""),1,IF(AND($C30<=DAY(I$2),$D30>=DAY(I$2)),1,IF(AND($C30="",$D30>=DAY(I$2)),1,"")))))) -> 1 | J30: =IF(OR($B30="",J$2=""),"",IF(OR(WEEKDAY(J$2)=7,WEEKDAY(J$2)=1),"",IF(AND($C30="",$D30=""),1,IF(AND($C30<=DAY(J$2),$D30=""),1,IF(AND($C30<=DAY(J$2),$D30>=DAY(J$2)),1,IF(AND($C30="",$D30>=DAY(J$2)),1,"")))))) -> 1 | K30: =IF(OR($B30="",K$2=""),"",IF(OR(WEEKDAY(K$2)=7,WEEKDAY(K$2)=1),"",IF(AND($C30="",$D30=""),1,IF(AND($C30<=DAY(K$2),$D30=""),1,IF(AND($C30<=DAY(K$2),$D30>=DAY(K$2)),1,IF(AND($C30="",$D30>=DAY(K$2)),1,"")))))) | L30: =IF(OR($B30="",L$2=""),"",IF(OR(WEEKDAY(L$2)=7,WEEKDAY(L$2)=1),"",IF(AND($C30="",$D30=""),1,IF(AND($C30<=DAY(L$2),$D30=""),1,IF(AND($C30<=DAY(L$2),$D30>=DAY(L$2)),1,IF(AND($C30="",$D30>=DAY(L$2)),1,"")))))) | ... AI30: =IF(OR($B30="",AI$2=""),"",IF(OR(WEEKDAY(AI$2)=7,WEEKDAY(AI$2)=1),"",IF(AND($C30="",$D30=""),1,IF(AND($C30<=DAY(AI$2),$D30=""),1,IF(AND($C30<=DAY(AI$2),$D30>=DAY(AI$2)),1,IF(AND($C30="",$D30>=DAY(AI$2)),1,"")))))) -> 1 | AJ30: =IF($B30="","",SUM(E30:AI30)) -> 22
A31: AGENT | B31: 9 | E31: =IF(OR($B31="",E$2=""),"",IF(OR(WEEKDAY(E$2)=7,WEEKDAY(E$2)=1),"",IF(AND($C31="",$D31=""),1,IF(AND($C31<=DAY(E$2),$D31=""),1,IF(AND($C31<=DAY(E$2),$D31>=DAY(E$2)),1,IF(AND($C31="",$D31>=DAY(E$2)),1,"")))))) | F31: =IF(OR($B31="",F$2=""),"",IF(OR(WEEKDAY(F$2)=7,WEEKDAY(F$2)=1),"",IF(AND($C31="",$D31=""),1,IF(AND($C31<=DAY(F$2),$D31=""),1,IF(AND($C31<=DAY(F$2),$D31>=DAY(F$2)),1,IF(AND($C31="",$D31>=DAY(F$2)),1,"")))))) -> 1 | G31: =IF(OR($B31="",G$2=""),"",IF(OR(WEEKDAY(G$2)=7,WEEKDAY(G$2)=1),"",IF(AND($C31="",$D31=""),1,IF(AND($C31<=DAY(G$2),$D31=""),1,IF(AND($C31<=DAY(G$2),$D31>=DAY(G$2)),1,IF(AND($C31="",$D31>=DAY(G$2)),1,"")))))) -> 1 | H31: =IF(OR($B31="",H$2=""),"",IF(OR(WEEKDAY(H$2)=7,WEEKDAY(H$2)=1),"",IF(AND($C31="",$D31=""),1,IF(AND($C31<=DAY(H$2),$D31=""),1,IF(AND($C31<=DAY(H$2),$D31>=DAY(H$2)),1,IF(AND($C31="",$D31>=DAY(H$2)),1,"")))))) -> 1 | I31: =IF(OR($B31="",I$2=""),"",IF(OR(WEEKDAY(I$2)=7,WEEKDAY(I$2)=1),"",IF(AND($C31="",$D31=""),1,IF(AND($C31<=DAY(I$2),$D31=""),1,IF(AND($C31<=DAY(I$2),$D31>=DAY(I$2)),1,IF(AND($C31="",$D31>=DAY(I$2)),1,"")))))) -> 1 | J31: =IF(OR($B31="",J$2=""),"",IF(OR(WEEKDAY(J$2)=7,WEEKDAY(J$2)=1),"",IF(AND($C31="",$D31=""),1,IF(AND($C31<=DAY(J$2),$D31=""),1,IF(AND($C31<=DAY(J$2),$D31>=DAY(J$2)),1,IF(AND($C31="",$D31>=DAY(J$2)),1,"")))))) -> 1 | K31: =IF(OR($B31="",K$2=""),"",IF(OR(WEEKDAY(K$2)=7,WEEKDAY(K$2)=1),"",IF(AND($C31="",$D31=""),1,IF(AND($C31<=DAY(K$2),$D31=""),1,IF(AND($C31<=DAY(K$2),$D31>=DAY(K$2)),1,IF(AND($C31="",$D31>=DAY(K$2)),1,"")))))) | L31: =IF(OR($B31="",L$2=""),"",IF(OR(WEEKDAY(L$2)=7,WEEKDAY(L$2)=1),"",IF(AND($C31="",$D31=""),1,IF(AND($C31<=DAY(L$2),$D31=""),1,IF(AND($C31<=DAY(L$2),$D31>=DAY(L$2)),1,IF(AND($C31="",$D31>=DAY(L$2)),1,"")))))) | ... AI31: =IF(OR($B31="",AI$2=""),"",IF(OR(WEEKDAY(AI$2)=7,WEEKDAY(AI$2)=1),"",IF(AND($C31="",$D31=""),1,IF(AND($C31<=DAY(AI$2),$D31=""),1,IF(AND($C31<=DAY(AI$2),$D31>=DAY(AI$2)),1,IF(AND($C31="",$D31>=DAY(AI$2)),1,"")))))) -> 1 | AJ31: =IF($B31="","",SUM(E31:AI31)) -> 22
