Workbook

Sheet ANALYSE CA
A2: ='ANALYSE CA'!M9=IF('analyse ca'!#ref!=1,"B",(IF('analyse ca'!#ref!=2,"C",(IF('analyse ca'!#ref!=3,"D",(IF('analyse ca'!#ref!=4,"E",(IF('analyse ca'!#ref!=5,"F",(IF('analyse ca'!#ref!=6,"G",(IF('analyse ca'!#ref!=7,"H",(IF('analyse ca'!#ref!=8,"I",(IF('analyse ca'!#ref!=9,"J",(IF('analyse ca'!#ref!=10,"K",(IF('analyse ca'!#ref!=11,"L",(IF('analyse ca'!#ref!=12,"M","ERREUR MOIS en H8"))))))))))))))))))))))) -> #VALUE! | B2: ="ANALYSE DU CHIFFRE D'AFFAIRES" -> ANALYSE DU CHIFFRE D'AFFAIRES
D7: Analyse mensuelle | H7: Analyse cumulée
C8: Mois | D8: 2019 | E8: 2018 | F8: 2017 | G8: 2016 | H8: 2019 | I8: 2018 | J8: 2017 | K8: 2016
C9: 1 | E9: =SUMIF('CA 2018'!$A$2:$A$20,C9,'CA 2018'!$B$2:$B$20) -> 0 | F9: =SUMIF('CA 2017'!$A$2:$A$20,C9,'CA 2017'!$B$2:$B$20) -> 0 | G9: =SUMIF('CA 2016'!$A$2:$A$20,C9,'CA 2016'!$B$2:$B$20) -> 10 | I9: =E9 -> 0 | J9: =F9 -> 0 | K9: =G9 -> 10
C10: 2 | E10: =SUMIF('CA 2018'!$A$2:$A$20,C10,'CA 2018'!$B$2:$B$20) -> 110 | F10: =SUMIF('CA 2017'!$A$2:$A$20,C10,'CA 2017'!$B$2:$B$20) -> 110 | G10: =SUMIF('CA 2016'!$A$2:$A$20,C10,'CA 2016'!$B$2:$B$20) -> 20 | I10: =I9+E10 -> 110 | J10: =J9+F10 -> 110 | K10: =K9+G10 -> 30
C11: 3 | E11: =SUMIF('CA 2018'!$A$2:$A$20,C11,'CA 2018'!$B$2:$B$20) -> 10 | F11: =SUMIF('CA 2017'!$A$2:$A$20,C11,'CA 2017'!$B$2:$B$20) -> 10 | G11: =SUMIF('CA 2016'!$A$2:$A$20,C11,'CA 2016'!$B$2:$B$20) -> 30 | I11: =I10+E11 -> 120 | J11: =J10+F11 -> 120 | K11: =K10+G11 -> 60
C12: 4 | E12: =SUMIF('CA 2018'!$A$2:$A$20,C12,'CA 2018'!$B$2:$B$20) -> 0 | F12: =SUMIF('CA 2017'!$A$2:$A$20,C12,'CA 2017'!$B$2:$B$20) -> 0 | G12: =SUMIF('CA 2016'!$A$2:$A$20,C12,'CA 2016'!$B$2:$B$20) -> 150 | I12: =I11+E12 -> 120 | J12: =J11+F12 -> 120 | K12: =K11+G12 -> 210
C13: 5 | E13: =SUMIF('CA 2018'!$A$2:$A$20,C13,'CA 2018'!$B$2:$B$20) -> 300 | F13: =SUMIF('CA 2017'!$A$2:$A$20,C13,'CA 2017'!$B$2:$B$20) -> 300 | G13: =SUMIF('CA 2016'!$A$2:$A$20,C13,'CA 2016'!$B$2:$B$20) -> 240 | I13: =I12+E13 -> 420 | J13: =J12+F13 -> 420 | K13: =K12+G13 -> 450
C14: 6 | E14: =SUMIF('CA 2018'!$A$2:$A$20,C14,'CA 2018'!$B$2:$B$20) -> 230 | F14: =SUMIF('CA 2017'!$A$2:$A$20,C14,'CA 2017'!$B$2:$B$20) -> 230 | G14: =SUMIF('CA 2016'!$A$2:$A$20,C14,'CA 2016'!$B$2:$B$20) -> 330 | I14: =I13+E14 -> 650 | J14: =J13+F14 -> 650 | K14: =K13+G14 -> 780
C15: 7 | E15: =SUMIF('CA 2018'!$A$2:$A$20,C15,'CA 2018'!$B$2:$B$20) -> 180 | F15: =SUMIF('CA 2017'!$A$2:$A$20,C15,'CA 2017'!$B$2:$B$20) -> 180 | G15: =SUMIF('CA 2016'!$A$2:$A$20,C15,'CA 2016'!$B$2:$B$20) -> 270 | I15: =I14+E15 -> 830 | J15: =J14+F15 -> 830 | K15: =K14+G15 -> 1050
C16: 8 | E16: =SUMIF('CA 2018'!$A$2:$A$20,C16,'CA 2018'!$B$2:$B$20) -> 300 | F16: =SUMIF('CA 2017'!$A$2:$A$20,C16,'CA 2017'!$B$2:$B$20) -> 300 | G16: =SUMIF('CA 2016'!$A$2:$A$20,C16,'CA 2016'!$B$2:$B$20) -> 0 | I16: =I15+E16 -> 1130 | J16: =J15+F16 -> 1130 | K16: =K15+G16 -> 1050
C17: 9 | E17: =SUMIF('CA 2018'!$A$2:$A$20,C17,'CA 2018'!$B$2:$B$20) -> 230 | F17: =SUMIF('CA 2017'!$A$2:$A$20,C17,'CA 2017'!$B$2:$B$20) -> 230 | G17: =SUMIF('CA 2016'!$A$2:$A$20,C17,'CA 2016'!$B$2:$B$20) -> 310 | I17: =I16+E17 -> 1360 | J17: =J16+F17 -> 1360 | K17: =K16+G17 -> 1360
C18: 10 | E18: =SUMIF('CA 2018'!$A$2:$A$20,C18,'CA 2018'!$B$2:$B$20) -> 0 | F18: =SUMIF('CA 2017'!$A$2:$A$20,C18,'CA 2017'!$B$2:$B$20) -> 170 | G18: =SUMIF('CA 2016'!$A$2:$A$20,C18,'CA 2016'!$B$2:$B$20) -> 540 | I18: =I17+E18 -> 1360 | J18: =J17+F18 -> 1530 | K18: =K17+G18 -> 1900
C19: 11 | E19: =SUMIF('CA 2018'!$A$2:$A$20,C19,'CA 2018'!$B$2:$B$20) -> 180 | F19: =SUMIF('CA 2017'!$A$2:$A$20,C19,'CA 2017'!$B$2:$B$20) -> 0 | G19: =SUMIF('CA 2016'!$A$2:$A$20,C19,'CA 2016'!$B$2:$B$20) -> 0 | I19: =I18+E19 -> 1540 | J19: =J18+F19 -> 1530 | K19: =K18+G19 -> 1900
C20: 12 | E20: =E19+A20 -> 180 | F20: =F19+B20 -> 0 | G20: =G19+C20 -> 12 | I20: =I19+E20 -> 1720 | J20: =J19+F20 -> 1530 | K20: =K19+G20 -> 1912

Sheet CA 2018
A1: Mois | B1: CA
A2: 3 | B2: 10 | E2: =
A3: 5 | B3: 20
A4: 5 | B4: 30
A5: 6 | B5: 40
A6: 6 | B6: 50
A7: 7 | B7: 60
A8: 8 | B8: 70
A9: 8 | B9: 80
A10: 5 | B10: 90
A11: 9 | B11: 100
A12: 2 | B12: 110
A13: 7 | B13: 120
A14: 9 | B14: 130
... A21: 10 | B21: 170
B22: =SUM(B2:B21) -> 2100

Sheet CA 2017
A1: Mois | B1: CA
A2: 3 | B2: 10
A3: 5 | B3: 20
A4: 5 | B4: 30
A5: 6 | B5: 40
A6: 6 | B6: 50
A7: 7 | B7: 60
A8: 8 | B8: 70
A9: 8 | B9: 80
A10: 5 | B10: 90
A11: 9 | B11: 100
A12: 2 | B12: 110
A13: 7 | B13: 120
... A18: 10 | B18: 170
B19: =SUM(B2:B18) -> 1530

Sheet CA 2016
A1: Mois | B1: CA
A2: 1 | B2: 10
A3: 2 | B3: 20
A4: 3 | B4: 30
A5: 4 | B5: 40
A6: 4 | B6: 50
A7: 4 | B7: 60
A8: 5 | B8: 70
A9: 5 | B9: 80
A10: 5 | B10: 90
A11: 6 | B11: 100
A12: 6 | B12: 110
A13: 6 | B13: 120
... A20: 10 | B20: 190
B21: =SUM(B2:B20) -> 1900
