Workbook

Sheet A
A1: client | B1: adresse | C1: tel | D1: email | E1: identifiant
A2: a | B2: aa | C2: aaa | D2: aaa@ | E2: Aa
A3: b | B3: bb | C3: bbb | D3: bbb@ | E3: Bb
A4: c | B4: cc | C4: ccc | D4: ccc@ | E4: Cc
A5: d | B5: dd | C5: ddd | D5: ddd@ | E5: Dd
A6: e | B6: ee | C6: eee | D6: eee@ | E6: Ee
A7: f | B7: ff | C7: fff | D7: fff@ | E7: Ff
A8: g | B8: gg | C8: ggg | D8: ggg@ | E8: Gg

Sheet B
A1: Client | B1: Identifiant
A2: g | B2: =+VLOOKUP(A2,A!$A$2:$E$8,5,0) -> Gg | C2: =HYPERLINK("#A.E"&MATCH(B2,A!$E$2:$E$8,0)+1,"Plus d'information Cliquer ICI") -> Plus d'information Cliquer ICI
A3: f | B3: =+VLOOKUP(A3,A!$A$2:$E$8,5,0) -> Ff | C3: =HYPERLINK("#A.E"&MATCH(B3,A!$E$2:$E$8,0)+1,"Plus d'information Cliquer ICI") -> Plus d'information Cliquer ICI
A4: c | B4: =+VLOOKUP(A4,A!$A$2:$E$8,5,0) -> Cc | C4: =HYPERLINK("#A.E"&MATCH(B4,A!$E$2:$E$8,0)+1,"Plus d'information Cliquer ICI") -> Plus d'information Cliquer ICI
A5: d | B5: =+VLOOKUP(A5,A!$A$2:$E$8,5,0) -> Dd | C5: =HYPERLINK("#A.E"&MATCH(B5,A!$E$2:$E$8,0)+1,"Plus d'information Cliquer ICI") -> Plus d'information Cliquer ICI
A6: a | B6: =+VLOOKUP(A6,A!$A$2:$E$8,5,0) -> Aa | C6: =HYPERLINK("#A.E"&MATCH(B6,A!$E$2:$E$8,0)+1,"Plus d'information Cliquer ICI") -> Plus d'information Cliquer ICI
A7: b | B7: =+VLOOKUP(A7,A!$A$2:$E$8,5,0) -> Bb | C7: =HYPERLINK("#A.E"&MATCH(B7,A!$E$2:$E$8,0)+1,"Plus d'information Cliquer ICI") -> Plus d'information Cliquer ICI
A8: e | B8: =+VLOOKUP(A8,A!$A$2:$E$8,5,0) -> Ee | C8: =HYPERLINK("#A.E"&MATCH(B8,A!$E$2:$E$8,0)+1,"Plus d'information Cliquer ICI") -> Plus d'information Cliquer ICI
A16: option 2
A17: Client | B17: Identifiant
A18: g | B18: =+VLOOKUP(A18,A!$A$2:$E$8,5,0) -> Gg | C18: =HYPERLINK("#A.A"&MATCH(B18,A!$E$2:$E$8,0)+1,"feuille A vers le client "&A18) -> feuille A vers le client g
A19: f | B19: =+VLOOKUP(A19,A!$A$2:$E$8,5,0) -> Ff | C19: =HYPERLINK("#A.A"&MATCH(B19,A!$E$2:$E$8,0)+1,"feuille A vers le client "&A19) -> feuille A vers le client f
A20: c | B20: =+VLOOKUP(A20,A!$A$2:$E$8,5,0) -> Cc | C20: =HYPERLINK("#A.A"&MATCH(B20,A!$E$2:$E$8,0)+1,"feuille A vers le client "&A20) -> feuille A vers le client c
A21: d | B21: =+VLOOKUP(A21,A!$A$2:$E$8,5,0) -> Dd | C21: =HYPERLINK("#A.A"&MATCH(B21,A!$E$2:$E$8,0)+1,"feuille A vers le client "&A21) -> feuille A vers le client d
A22: a | B22: =+VLOOKUP(A22,A!$A$2:$E$8,5,0) -> Aa | C22: =HYPERLINK("#A.A"&MATCH(B22,A!$E$2:$E$8,0)+1,"feuille A vers le client "&A22) -> feuille A vers le client a
A23: b | B23: =+VLOOKUP(A23,A!$A$2:$E$8,5,0) -> Bb | C23: =HYPERLINK("#A.A"&MATCH(B23,A!$E$2:$E$8,0)+1,"feuille A vers le client "&A23) -> feuille A vers le client b
A24: e | B24: =+VLOOKUP(A24,A!$A$2:$E$8,5,0) -> Ee | C24: =HYPERLINK("#A.A"&MATCH(B24,A!$E$2:$E$8,0)+1,"feuille A vers le client "&A24) -> feuille A vers le client e

Sheet Feuil3
