Workbook

Sheet Service
A1: Service | B1: Fournisseur
A2: DÉCOUPE | B2: =IF(ISERROR(SMALL('Liste fournisseur'!K$1:K$23,ROW()-1)),"",INDIRECT("'Liste fournisseur'!A"&SMALL('Liste fournisseur'!K$1:K$23,ROW()-1),1)) -> ATELIER GOMEX
A3: PLIAGE | B3: =IF(ISERROR(SMALL('Liste fournisseur'!K$1:K$23,ROW()-1)),"",INDIRECT("'Liste fournisseur'!A"&SMALL('Liste fournisseur'!K$1:K$23,ROW()-1),1)) -> CANMEC
A4: SOUDAGE | B4: =IF(ISERROR(SMALL('Liste fournisseur'!K$1:K$23,ROW()-1)),"",INDIRECT("'Liste fournisseur'!A"&SMALL('Liste fournisseur'!K$1:K$23,ROW()-1),1)) -> MERCIER INDUSTRIES
A5: PEINTURE | B5: =IF(ISERROR(SMALL('Liste fournisseur'!K$1:K$23,ROW()-1)),"",INDIRECT("'Liste fournisseur'!A"&SMALL('Liste fournisseur'!K$1:K$23,ROW()-1),1)) -> S-HUOT
A6: USINAGE | B6: =IF(ISERROR(SMALL('Liste fournisseur'!K$1:K$23,ROW()-1)),"",INDIRECT("'Liste fournisseur'!A"&SMALL('Liste fournisseur'!K$1:K$23,ROW()-1),1))
A7: GROS USINAGE | B7: =IF(ISERROR(SMALL('Liste fournisseur'!K$1:K$23,ROW()-1)),"",INDIRECT("'Liste fournisseur'!A"&SMALL('Liste fournisseur'!K$1:K$23,ROW()-1),1))
A8: ESSAIS LEVAGE | B8: =IF(ISERROR(SMALL('Liste fournisseur'!K$1:K$23,ROW()-1)),"",INDIRECT("'Liste fournisseur'!A"&SMALL('Liste fournisseur'!K$1:K$23,ROW()-1),1))
A9: TRAITEMENTS | B9: =IF(ISERROR(SMALL('Liste fournisseur'!K$1:K$23,ROW()-1)),"",INDIRECT("'Liste fournisseur'!A"&SMALL('Liste fournisseur'!K$1:K$23,ROW()-1),1))
A10: INSPECTIONS | B10: =IF(ISERROR(SMALL('Liste fournisseur'!K$1:K$23,ROW()-1)),"",INDIRECT("'Liste fournisseur'!A"&SMALL('Liste fournisseur'!K$1:K$23,ROW()-1),1))
B11: =IF(ISERROR(SMALL('Liste fournisseur'!K$1:K$23,ROW()-1)),"",INDIRECT("'Liste fournisseur'!A"&SMALL('Liste fournisseur'!K$1:K$23,ROW()-1),1))
B12: =IF(ISERROR(SMALL('Liste fournisseur'!K$1:K$23,ROW()-1)),"",INDIRECT("'Liste fournisseur'!A"&SMALL('Liste fournisseur'!K$1:K$23,ROW()-1),1))
B13: =IF(ISERROR(SMALL('Liste fournisseur'!K$1:K$23,ROW()-1)),"",INDIRECT("'Liste fournisseur'!A"&SMALL('Liste fournisseur'!K$1:K$23,ROW()-1),1))
B14: =IF(ISERROR(SMALL('Liste fournisseur'!K$1:K$23,ROW()-1)),"",INDIRECT("'Liste fournisseur'!A"&SMALL('Liste fournisseur'!K$1:K$23,ROW()-1),1))

Sheet Liste fournisseur
B1: DÉCOUPE | C1: PLIAGE | D1: SOUDAGE | E1: USINAGE | F1: GROS USINAGE | G1: PEINTURE | H1: INSPECTIONS | I1: TRAITEMENTS | J1: ESSAIS LEVAGE
A2: ATELIER GOMEX | B2: ATELIER GOMEX | C2: ATELIER GOMEX | D2: ATELIER GOMEX | E2: ATELIER GOMEX | F2: ATELIER GOMEX | G2: ATELIER GOMEX | H2: ATELIER GOMEX | I2: ATELIER GOMEX | J2: ATELIER GOMEX | K2: =IF(AND(A2<>"",(L2*M2*N2*O2*P2*Q2*R2*S2*T2)=1),ROW(),"") -> 2 | L2: =IF(Service!$A$2="",1,$A2=INDIRECT(ADDRESS(ROW(),MATCH(Service!$A$2,$B$1:$J$1,0)+1),1)) -> 1 | M2: =IF(Service!$A$3="",1,$A2=INDIRECT(ADDRESS(ROW(),MATCH(Service!$A$3,$B$1:$J$1,0)+1),1)) -> 1 | N2: =IF(Service!$A$4="",1,$A2=INDIRECT(ADDRESS(ROW(),MATCH(Service!$A$4,$B$1:$J$1,0)+1),1)) -> 1 | O2: =IF(Service!$A$5="",1,$A2=INDIRECT(ADDRESS(ROW(),MATCH(Service!$A$5,$B$1:$J$1,0)+1),1)) -> 1 | P2: =IF(Service!$A$6="",1,$A2=INDIRECT(ADDRESS(ROW(),MATCH(Service!$A$6,$B$1:$J$1,0)+1),1)) -> 1 | Q2: =IF(Service!$A$7="",1,$A2=INDIRECT(ADDRESS(ROW(),MATCH(Service!$A$7,$B$1:$J$1,0)+1),1)) -> 1 | R2: =IF(Service!$A$8="",1,A2=INDIRECT(ADDRESS(ROW(),MATCH(Service!$A$8,$B$1:$J$1,0)+1),1)) -> 1 | S2: =IF(Service!$A$9="",1,$A2=INDIRECT(ADDRESS(ROW(),MATCH(Service!$A$9,$B$1:$J$1,0)+1),1)) -> 1 | T2: =IF(Service!$A$10="",1,$A2=INDIRECT(ADDRESS(ROW(),MATCH(Service!$A$10,$B$1:$J$1,0)+1),1)) -> 1
A3: CANMEC | B3: CANMEC | C3: CANMEC | D3: CANMEC | E3: CANMEC | F3: CANMEC | G3: CANMEC | H3: CANMEC | I3: CANMEC | J3: CANMEC | K3: =IF(AND(A3<>"",(L3*M3*N3*O3*P3*Q3*R3*S3*T3)=1),ROW(),"") -> 3 | L3: =IF(Service!$A$2="",1,$A3=INDIRECT(ADDRESS(ROW(),MATCH(Service!$A$2,$B$1:$J$1,0)+1),1)) -> 1 | M3: =IF(Service!$A$3="",1,$A3=INDIRECT(ADDRESS(ROW(),MATCH(Service!$A$3,$B$1:$J$1,0)+1),1)) -> 1 | N3: =IF(Service!$A$4="",1,$A3=INDIRECT(ADDRESS(ROW(),MATCH(Service!$A$4,$B$1:$J$1,0)+1),1)) -> 1 | O3: =IF(Service!$A$5="",1,$A3=INDIRECT(ADDRESS(ROW(),MATCH(Service!$A$5,$B$1:$J$1,0)+1),1)) -> 1 | P3: =IF(Service!$A$6="",1,$A3=INDIRECT(ADDRESS(ROW(),MATCH(Service!$A$6,$B$1:$J$1,0)+1),1)) -> 1 | Q3: =IF(Service!$A$7="",1,$A3=INDIRECT(ADDRESS(ROW(),MATCH(Service!$A$7,$B$1:$J$1,0)+1),1)) -> 1 | R3: =IF(Service!$A$8="",1,A3=INDIRECT(ADDRESS(ROW(),MATCH(Service!$A$8,$B$1:$J$1,0)+1),1)) -> 1 | S3: =IF(Service!$A$9="",1,$A3=INDIRECT(ADDRESS(ROW(),MATCH(Service!$A$9,$B$1:$J$1,0)+1),1)) -> 1 | T3: =IF(Service!$A$10="",1,$A3=INDIRECT(ADDRESS(ROW(),MATCH(Service!$A$10,$B$1:$J$1,0)+1),1)) -> 1
A4: MERCIER INDUSTRIES | B4: MERCIER INDUSTRIES | C4: MERCIER INDUSTRIES | D4: MERCIER INDUSTRIES | E4: MERCIER INDUSTRIES | F4: MERCIER INDUSTRIES | G4: MERCIER INDUSTRIES | H4: MERCIER INDUSTRIES | I4: MERCIER INDUSTRIES | J4: MERCIER INDUSTRIES | K4: =IF(AND(A4<>"",(L4*M4*N4*O4*P4*Q4*R4*S4*T4)=1),ROW(),"") -> 4 | L4: =IF(Service!$A$2="",1,$A4=INDIRECT(ADDRESS(ROW(),MATCH(Service!$A$2,$B$1:$J$1,0)+1),1)) -> 1 | M4: =IF(Service!$A$3="",1,$A4=INDIRECT(ADDRESS(ROW(),MATCH(Service!$A$3,$B$1:$J$1,0)+1),1)) -> 1 | N4: =IF(Service!$A$4="",1,$A4=INDIRECT(ADDRESS(ROW(),MATCH(Service!$A$4,$B$1:$J$1,0)+1),1)) -> 1 | O4: =IF(Service!$A$5="",1,$A4=INDIRECT(ADDRESS(ROW(),MATCH(Service!$A$5,$B$1:$J$1,0)+1),1)) -> 1 | P4: =IF(Service!$A$6="",1,$A4=INDIRECT(ADDRESS(ROW(),MATCH(Service!$A$6,$B$1:$J$1,0)+1),1)) -> 1 | Q4: =IF(Service!$A$7="",1,$A4=INDIRECT(ADDRESS(ROW(),MATCH(Service!$A$7,$B$1:$J$1,0)+1),1)) -> 1 | R4: =IF(Service!$A$8="",1,A4=INDIRECT(ADDRESS(ROW(),MATCH(Service!$A$8,$B$1:$J$1,0)+1),1)) -> 1 | S4: =IF(Service!$A$9="",1,$A4=INDIRECT(ADDRESS(ROW(),MATCH(Service!$A$9,$B$1:$J$1,0)+1),1)) -> 1 | T4: =IF(Service!$A$10="",1,$A4=INDIRECT(ADDRESS(ROW(),MATCH(Service!$A$10,$B$1:$J$1,0)+1),1)) -> 1
A5: S-HUOT | B5: S-HUOT | C5: S-HUOT | D5: S-HUOT | E5: S-HUOT | F5: S-HUOT | G5: S-HUOT | H5: S-HUOT | I5: S-HUOT | J5: S-HUOT | K5: =IF(AND(A5<>"",(L5*M5*N5*O5*P5*Q5*R5*S5*T5)=1),ROW(),"") -> 5 | L5: =IF(Service!$A$2="",1,$A5=INDIRECT(ADDRESS(ROW(),MATCH(Service!$A$2,$B$1:$J$1,0)+1),1)) -> 1 | M5: =IF(Service!$A$3="",1,$A5=INDIRECT(ADDRESS(ROW(),MATCH(Service!$A$3,$B$1:$J$1,0)+1),1)) -> 1 | N5: =IF(Service!$A$4="",1,$A5=INDIRECT(ADDRESS(ROW(),MATCH(Service!$A$4,$B$1:$J$1,0)+1),1)) -> 1 | O5: =IF(Service!$A$5="",1,$A5=INDIRECT(ADDRESS(ROW(),MATCH(Service!$A$5,$B$1:$J$1,0)+1),1)) -> 1 | P5: =IF(Service!$A$6="",1,$A5=INDIRECT(ADDRESS(ROW(),MATCH(Service!$A$6,$B$1:$J$1,0)+1),1)) -> 1 | Q5: =IF(Service!$A$7="",1,$A5=INDIRECT(ADDRESS(ROW(),MATCH(Service!$A$7,$B$1:$J$1,0)+1),1)) -> 1 | R5: =IF(Service!$A$8="",1,A5=INDIRECT(ADDRESS(ROW(),MATCH(Service!$A$8,$B$1:$J$1,0)+1),1)) -> 1 | S5: =IF(Service!$A$9="",1,$A5=INDIRECT(ADDRESS(ROW(),MATCH(Service!$A$9,$B$1:$J$1,0)+1),1)) -> 1 | T5: =IF(Service!$A$10="",1,$A5=INDIRECT(ADDRESS(ROW(),MATCH(Service!$A$10,$B$1:$J$1,0)+1),1)) -> 1
A6: BR MÉTAL | B6: BR MÉTAL | C6: BR MÉTAL | D6: BR MÉTAL | E6: BR MÉTAL | F6: BR MÉTAL | G6: BR MÉTAL | H6: BR MÉTAL | I6: BR MÉTAL | K6: =IF(AND(A6<>"",(L6*M6*N6*O6*P6*Q6*R6*S6*T6)=1),ROW(),"") | L6: =IF(Service!$A$2="",1,$A6=INDIRECT(ADDRESS(ROW(),MATCH(Service!$A$2,$B$1:$J$1,0)+1),1)) -> 1 | M6: =IF(Service!$A$3="",1,$A6=INDIRECT(ADDRESS(ROW(),MATCH(Service!$A$3,$B$1:$J$1,0)+1),1)) -> 1 | N6: =IF(Service!$A$4="",1,$A6=INDIRECT(ADDRESS(ROW(),MATCH(Service!$A$4,$B$1:$J$1,0)+1),1)) -> 1 | O6: =IF(Service!$A$5="",1,$A6=INDIRECT(ADDRESS(ROW(),MATCH(Service!$A$5,$B$1:$J$1,0)+1),1)) -> 1 | P6: =IF(Service!$A$6="",1,$A6=INDIRECT(ADDRESS(ROW(),MATCH(Service!$A$6,$B$1:$J$1,0)+1),1)) -> 1 | Q6: =IF(Service!$A$7="",1,$A6=INDIRECT(ADDRESS(ROW(),MATCH(Service!$A$7,$B$1:$J$1,0)+1),1)) -> 1 | R6: =IF(Service!$A$8="",1,A6=INDIRECT(ADDRESS(ROW(),MATCH(Service!$A$8,$B$1:$J$1,0)+1),1)) -> 0 | S6: =IF(Service!$A$9="",1,$A6=INDIRECT(ADDRESS(ROW(),MATCH(Service!$A$9,$B$1:$J$1,0)+1),1)) -> 1 | T6: =IF(Service!$A$10="",1,$A6=INDIRECT(ADDRESS(ROW(),MATCH(Service!$A$10,$B$1:$J$1,0)+1),1)) -> 1
A7: JMY | B7: JMY | C7: JMY | D7: JMY | E7: JMY | F7: JMY | G7: JMY | H7: JMY | J7: JMY | K7: =IF(AND(A7<>"",(L7*M7*N7*O7*P7*Q7*R7*S7*T7)=1),ROW(),"") | L7: =IF(Service!$A$2="",1,$A7=INDIRECT(ADDRESS(ROW(),MATCH(Service!$A$2,$B$1:$J$1,0)+1),1)) -> 1 | M7: =IF(Service!$A$3="",1,$A7=INDIRECT(ADDRESS(ROW(),MATCH(Service!$A$3,$B$1:$J$1,0)+1),1)) -> 1 | N7: =IF(Service!$A$4="",1,$A7=INDIRECT(ADDRESS(ROW(),MATCH(Service!$A$4,$B$1:$J$1,0)+1),1)) -> 1 | O7: =IF(Service!$A$5="",1,$A7=INDIRECT(ADDRESS(ROW(),MATCH(Service!$A$5,$B$1:$J$1,0)+1),1)) -> 1 | P7: =IF(Service!$A$6="",1,$A7=INDIRECT(ADDRESS(ROW(),MATCH(Service!$A$6,$B$1:$J$1,0)+1),1)) -> 1 | Q7: =IF(Service!$A$7="",1,$A7=INDIRECT(ADDRESS(ROW(),MATCH(Service!$A$7,$B$1:$J$1,0)+1),1)) -> 1 | R7: =IF(Service!$A$8="",1,A7=INDIRECT(ADDRESS(ROW(),MATCH(Service!$A$8,$B$1:$J$1,0)+1),1)) -> 1 | S7: =IF(Service!$A$9="",1,$A7=INDIRECT(ADDRESS(ROW(),MATCH(Service!$A$9,$B$1:$J$1,0)+1),1)) -> 0 | T7: =IF(Service!$A$10="",1,$A7=INDIRECT(ADDRESS(ROW(),MATCH(Service!$A$10,$B$1:$J$1,0)+1),1)) -> 1
A8: HYDREXCEL | B8: HYDREXCEL | C8: HYDREXCEL | D8: HYDREXCEL | E8: HYDREXCEL | G8: HYDREXCEL | H8: HYDREXCEL | J8: HYDREXCEL | K8: =IF(AND(A8<>"",(L8*M8*N8*O8*P8*Q8*R8*S8*T8)=1),ROW(),"") | L8: =IF(Service!$A$2="",1,$A8=INDIRECT(ADDRESS(ROW(),MATCH(Service!$A$2,$B$1:$J$1,0)+1),1)) -> 1 | M8: =IF(Service!$A$3="",1,$A8=INDIRECT(ADDRESS(ROW(),MATCH(Service!$A$3,$B$1:$J$1,0)+1),1)) -> 1 | N8: =IF(Service!$A$4="",1,$A8=INDIRECT(ADDRESS(ROW(),MATCH(Service!$A$4,$B$1:$J$1,0)+1),1)) -> 1 | O8: =IF(Service!$A$5="",1,$A8=INDIRECT(ADDRESS(ROW(),MATCH(Service!$A$5,$B$1:$J$1,0)+1),1)) -> 1 | P8: =IF(Service!$A$6="",1,$A8=INDIRECT(ADDRESS(ROW(),MATCH(Service!$A$6,$B$1:$J$1,0)+1),1)) -> 1 | Q8: =IF(Service!$A$7="",1,$A8=INDIRECT(ADDRESS(ROW(),MATCH(Service!$A$7,$B$1:$J$1,0)+1),1)) -> 0 | R8: =IF(Service!$A$8="",1,A8=INDIRECT(ADDRESS(ROW(),MATCH(Service!$A$8,$B$1:$J$1,0)+1),1)) -> 1 | S8: =IF(Service!$A$9="",1,$A8=INDIRECT(ADDRESS(ROW(),MATCH(Service!$A$9,$B$1:$J$1,0)+1),1)) -> 0 | T8: =IF(Service!$A$10="",1,$A8=INDIRECT(ADDRESS(ROW(),MATCH(Service!$A$10,$B$1:$J$1,0)+1),1)) -> 1
A9: SCP 89/Pedno | B9: SCP 89/Pedno | C9: SCP 89/Pedno | D9: SCP 89/Pedno | E9: SCP 89/Pedno | F9: SCP 89/Pedno | H9: SCP 89/Pedno | K9: =IF(AND(A9<>"",(L9*M9*N9*O9*P9*Q9*R9*S9*T9)=1),ROW(),"") | L9: =IF(Service!$A$2="",1,$A9=INDIRECT(ADDRESS(ROW(),MATCH(Service!$A$2,$B$1:$J$1,0)+1),1)) -> 1 | M9: =IF(Service!$A$3="",1,$A9=INDIRECT(ADDRESS(ROW(),MATCH(Service!$A$3,$B$1:$J$1,0)+1),1)) -> 1 | N9: =IF(Service!$A$4="",1,$A9=INDIRECT(ADDRESS(ROW(),MATCH(Service!$A$4,$B$1:$J$1,0)+1),1)) -> 1 | O9: =IF(Service!$A$5="",1,$A9=INDIRECT(ADDRESS(ROW(),MATCH(Service!$A$5,$B$1:$J$1,0)+1),1)) -> 0 | P9: =IF(Service!$A$6="",1,$A9=INDIRECT(ADDRESS(ROW(),MATCH(Service!$A$6,$B$1:$J$1,0)+1),1)) -> 1 | Q9: =IF(Service!$A$7="",1,$A9=INDIRECT(ADDRESS(ROW(),MATCH(Service!$A$7,$B$1:$J$1,0)+1),1)) -> 1 | R9: =IF(Service!$A$8="",1,A9=INDIRECT(ADDRESS(ROW(),MATCH(Service!$A$8,$B$1:$J$1,0)+1),1)) -> 0 | S9: =IF(Service!$A$9="",1,$A9=INDIRECT(ADDRESS(ROW(),MATCH(Service!$A$9,$B$1:$J$1,0)+1),1)) -> 0 | T9: =IF(Service!$A$10="",1,$A9=INDIRECT(ADDRESS(ROW(),MATCH(Service!$A$10,$B$1:$J$1,0)+1),1)) -> 1
A10: AFS (Atelier Fabrication Saguenay) | B10: AFS (Atelier Fabrication Saguenay) | C10: AFS (Atelier Fabrication Saguenay) | D10: AFS (Atelier Fabrication Saguenay) | G10: AFS (Atelier Fabrication Saguenay) | K10: =IF(AND(A10<>"",(L10*M10*N10*O10*P10*Q10*R10*S10*T10)=1),ROW(),"") | L10: =IF(Service!$A$2="",1,$A10=INDIRECT(ADDRESS(ROW(),MATCH(Service!$A$2,$B$1:$J$1,0)+1),1)) -> 1 | M10: =IF(Service!$A$3="",1,$A10=INDIRECT(ADDRESS(ROW(),MATCH(Service!$A$3,$B$1:$J$1,0)+1),1)) -> 1 | N10: =IF(Service!$A$4="",1,$A10=INDIRECT(ADDRESS(ROW(),MATCH(Service!$A$4,$B$1:$J$1,0)+1),1)) -> 1 | O10: =IF(Service!$A$5="",1,$A10=INDIRECT(ADDRESS(ROW(),MATCH(Service!$A$5,$B$1:$J$1,0)+1),1)) -> 1 | P10: =IF(Service!$A$6="",1,$A10=INDIRECT(ADDRESS(ROW(),MATCH(Service!$A$6,$B$1:$J$1,0)+1),1)) -> 0 | Q10: =IF(Service!$A$7="",1,$A10=INDIRECT(ADDRESS(ROW(),MATCH(Service!$A$7,$B$1:$J$1,0)+1),1)) -> 0 | R10: =IF(Service!$A$8="",1,A10=INDIRECT(ADDRESS(ROW(),MATCH(Service!$A$8,$B$1:$J$1,0)+1),1)) -> 0 | S10: =IF(Service!$A$9="",1,$A10=INDIRECT(ADDRESS(ROW(),MATCH(Service!$A$9,$B$1:$J$1,0)+1),1)) -> 0 | T10: =IF(Service!$A$10="",1,$A10=INDIRECT(ADDRESS(ROW(),MATCH(Service!$A$10,$B$1:$J$1,0)+1),1)) -> 0
A11: COUPESAG | B11: COUPESAG | C11: COUPESAG | D11: COUPESAG | G11: COUPESAG | K11: =IF(AND(A11<>"",(L11*M11*N11*O11*P11*Q11*R11*S11*T11)=1),ROW(),"") | L11: =IF(Service!$A$2="",1,$A11=INDIRECT(ADDRESS(ROW(),MATCH(Service!$A$2,$B$1:$J$1,0)+1),1)) -> 1 | M11: =IF(Service!$A$3="",1,$A11=INDIRECT(ADDRESS(ROW(),MATCH(Service!$A$3,$B$1:$J$1,0)+1),1)) -> 1 | N11: =IF(Service!$A$4="",1,$A11=INDIRECT(ADDRESS(ROW(),MATCH(Service!$A$4,$B$1:$J$1,0)+1),1)) -> 1 | O11: =IF(Service!$A$5="",1,$A11=INDIRECT(ADDRESS(ROW(),MATCH(Service!$A$5,$B$1:$J$1,0)+1),1)) -> 1 | P11: =IF(Service!$A$6="",1,$A11=INDIRECT(ADDRESS(ROW(),MATCH(Service!$A$6,$B$1:$J$1,0)+1),1)) -> 0 | Q11: =IF(Service!$A$7="",1,$A11=INDIRECT(ADDRESS(ROW(),MATCH(Service!$A$7,$B$1:$J$1,0)+1),1)) -> 0 | R11: =IF(Service!$A$8="",1,A11=INDIRECT(ADDRESS(ROW(),MATCH(Service!$A$8,$B$1:$J$1,0)+1),1)) -> 0 | S11: =IF(Service!$A$9="",1,$A11=INDIRECT(ADDRESS(ROW(),MATCH(Service!$A$9,$B$1:$J$1,0)+1),1)) -> 0 | T11: =IF(Service!$A$10="",1,$A11=INDIRECT(ADDRESS(ROW(),MATCH(Service!$A$10,$B$1:$J$1,0)+1),1)) -> 0
A12: INDUSTRIES PHD | B12: INDUSTRIES PHD | C12: INDUSTRIES PHD | D12: INDUSTRIES PHD | G12: INDUSTRIES PHD | K12: =IF(AND(A12<>"",(L12*M12*N12*O12*P12*Q12*R12*S12*T12)=1),ROW(),"") | L12: =IF(Service!$A$2="",1,$A12=INDIRECT(ADDRESS(ROW(),MATCH(Service!$A$2,$B$1:$J$1,0)+1),1)) -> 1 | M12: =IF(Service!$A$3="",1,$A12=INDIRECT(ADDRESS(ROW(),MATCH(Service!$A$3,$B$1:$J$1,0)+1),1)) -> 1 | N12: =IF(Service!$A$4="",1,$A12=INDIRECT(ADDRESS(ROW(),MATCH(Service!$A$4,$B$1:$J$1,0)+1),1)) -> 1 | O12: =IF(Service!$A$5="",1,$A12=INDIRECT(ADDRESS(ROW(),MATCH(Service!$A$5,$B$1:$J$1,0)+1),1)) -> 1 | P12: =IF(Service!$A$6="",1,$A12=INDIRECT(ADDRESS(ROW(),MATCH(Service!$A$6,$B$1:$J$1,0)+1),1)) -> 0 | Q12: =IF(Service!$A$7="",1,$A12=INDIRECT(ADDRESS(ROW(),MATCH(Service!$A$7,$B$1:$J$1,0)+1),1)) -> 0 | R12: =IF(Service!$A$8="",1,A12=INDIRECT(ADDRESS(ROW(),MATCH(Service!$A$8,$B$1:$J$1,0)+1),1)) -> 0 | S12: =IF(Service!$A$9="",1,$A12=INDIRECT(ADDRESS(ROW(),MATCH(Service!$A$9,$B$1:$J$1,0)+1),1)) -> 0 | T12: =IF(Service!$A$10="",1,$A12=INDIRECT(ADDRESS(ROW(),MATCH(Service!$A$10,$B$1:$J$1,0)+1),1)) -> 0
A13: INDUSTRIES PLD | B13: INDUSTRIES PLD | C13: INDUSTRIES PLD | D13: INDUSTRIES PLD | E13: INDUSTRIES PLD | K13: =IF(AND(A13<>"",(L13*M13*N13*O13*P13*Q13*R13*S13*T13)=1),ROW(),"") | L13: =IF(Service!$A$2="",1,$A13=INDIRECT(ADDRESS(ROW(),MATCH(Service!$A$2,$B$1:$J$1,0)+1),1)) -> 1 | M13: =IF(Service!$A$3="",1,$A13=INDIRECT(ADDRESS(ROW(),MATCH(Service!$A$3,$B$1:$J$1,0)+1),1)) -> 1 | N13: =IF(Service!$A$4="",1,$A13=INDIRECT(ADDRESS(ROW(),MATCH(Service!$A$4,$B$1:$J$1,0)+1),1)) -> 1 | O13: =IF(Service!$A$5="",1,$A13=INDIRECT(ADDRESS(ROW(),MATCH(Service!$A$5,$B$1:$J$1,0)+1),1)) -> 0 | P13: =IF(Service!$A$6="",1,$A13=INDIRECT(ADDRESS(ROW(),MATCH(Service!$A$6,$B$1:$J$1,0)+1),1)) -> 1 | Q13: =IF(Service!$A$7="",1,$A13=INDIRECT(ADDRESS(ROW(),MATCH(Service!$A$7,$B$1:$J$1,0)+1),1)) -> 0 | R13: =IF(Service!$A$8="",1,A13=INDIRECT(ADDRESS(ROW(),MATCH(Service!$A$8,$B$1:$J$1,0)+1),1)) -> 0 | S13: =IF(Service!$A$9="",1,$A13=INDIRECT(ADDRESS(ROW(),MATCH(Service!$A$9,$B$1:$J$1,0)+1),1)) -> 0 | T13: =IF(Service!$A$10="",1,$A13=INDIRECT(ADDRESS(ROW(),MATCH(Service!$A$10,$B$1:$J$1,0)+1),1)) -> 0
K14: =IF(AND(A14<>"",(L14*M14*N14*O14*P14*Q14*R14*S14*T14)=1),ROW(),"") | L14: =IF(Service!$A$2="",1,$A14=INDIRECT(ADDRESS(ROW(),MATCH(Service!$A$2,$B$1:$J$1,0)+1),1)) -> 1 | M14: =IF(Service!$A$3="",1,$A14=INDIRECT(ADDRESS(ROW(),MATCH(Service!$A$3,$B$1:$J$1,0)+1),1)) -> 1 | N14: =IF(Service!$A$4="",1,$A14=INDIRECT(ADDRESS(ROW(),MATCH(Service!$A$4,$B$1:$J$1,0)+1),1)) -> 1 | O14: =IF(Service!$A$5="",1,$A14=INDIRECT(ADDRESS(ROW(),MATCH(Service!$A$5,$B$1:$J$1,0)+1),1)) -> 1 | P14: =IF(Service!$A$6="",1,$A14=INDIRECT(ADDRESS(ROW(),MATCH(Service!$A$6,$B$1:$J$1,0)+1),1)) -> 1 | Q14: =IF(Service!$A$7="",1,$A14=INDIRECT(ADDRESS(ROW(),MATCH(Service!$A$7,$B$1:$J$1,0)+1),1)) -> 1 | R14: =IF(Service!$A$8="",1,A14=INDIRECT(ADDRESS(ROW(),MATCH(Service!$A$8,$B$1:$J$1,0)+1),1)) -> 1 | S14: =IF(Service!$A$9="",1,$A14=INDIRECT(ADDRESS(ROW(),MATCH(Service!$A$9,$B$1:$J$1,0)+1),1)) -> 1 | T14: =IF(Service!$A$10="",1,$A14=INDIRECT(ADDRESS(ROW(),MATCH(Service!$A$10,$B$1:$J$1,0)+1),1)) -> 1
K15: =IF(AND(A15<>"",(L15*M15*N15*O15*P15*Q15*R15*S15*T15)=1),ROW(),"") | L15: =IF(Service!$A$2="",1,$A15=INDIRECT(ADDRESS(ROW(),MATCH(Service!$A$2,$B$1:$J$1,0)+1),1)) -> 1 | M15: =IF(Service!$A$3="",1,$A15=INDIRECT(ADDRESS(ROW(),MATCH(Service!$A$3,$B$1:$J$1,0)+1),1)) -> 1 | N15: =IF(Service!$A$4="",1,$A15=INDIRECT(ADDRESS(ROW(),MATCH(Service!$A$4,$B$1:$J$1,0)+1),1)) -> 1 | O15: =IF(Service!$A$5="",1,$A15=INDIRECT(ADDRESS(ROW(),MATCH(Service!$A$5,$B$1:$J$1,0)+1),1)) -> 1 | P15: =IF(Service!$A$6="",1,$A15=INDIRECT(ADDRESS(ROW(),MATCH(Service!$A$6,$B$1:$J$1,0)+1),1)) -> 1 | Q15: =IF(Service!$A$7="",1,$A15=INDIRECT(ADDRESS(ROW(),MATCH(Service!$A$7,$B$1:$J$1,0)+1),1)) -> 1 | R15: =IF(Service!$A$8="",1,A15=INDIRECT(ADDRESS(ROW(),MATCH(Service!$A$8,$B$1:$J$1,0)+1),1)) -> 1 | S15: =IF(Service!$A$9="",1,$A15=INDIRECT(ADDRESS(ROW(),MATCH(Service!$A$9,$B$1:$J$1,0)+1),1)) -> 1 | T15: =IF(Service!$A$10="",1,$A15=INDIRECT(ADDRESS(ROW(),MATCH(Service!$A$10,$B$1:$J$1,0)+1),1)) -> 1
K16: =IF(AND(A16<>"",(L16*M16*N16*O16*P16*Q16*R16*S16*T16)=1),ROW(),"") | L16: =IF(Service!$A$2="",1,$A16=INDIRECT(ADDRESS(ROW(),MATCH(Service!$A$2,$B$1:$J$1,0)+1),1)) -> 1 | M16: =IF(Service!$A$3="",1,$A16=INDIRECT(ADDRESS(ROW(),MATCH(Service!$A$3,$B$1:$J$1,0)+1),1)) -> 1 | N16: =IF(Service!$A$4="",1,$A16=INDIRECT(ADDRESS(ROW(),MATCH(Service!$A$4,$B$1:$J$1,0)+1),1)) -> 1 | O16: =IF(Service!$A$5="",1,$A16=INDIRECT(ADDRESS(ROW(),MATCH(Service!$A$5,$B$1:$J$1,0)+1),1)) -> 1 | P16: =IF(Service!$A$6="",1,$A16=INDIRECT(ADDRESS(ROW(),MATCH(Service!$A$6,$B$1:$J$1,0)+1),1)) -> 1 | Q16: =IF(Service!$A$7="",1,$A16=INDIRECT(ADDRESS(ROW(),MATCH(Service!$A$7,$B$1:$J$1,0)+1),1)) -> 1 | R16: =IF(Service!$A$8="",1,A16=INDIRECT(ADDRESS(ROW(),MATCH(Service!$A$8,$B$1:$J$1,0)+1),1)) -> 1 | S16: =IF(Service!$A$9="",1,$A16=INDIRECT(ADDRESS(ROW(),MATCH(Service!$A$9,$B$1:$J$1,0)+1),1)) -> 1 | T16: =IF(Service!$A$10="",1,$A16=INDIRECT(ADDRESS(ROW(),MATCH(Service!$A$10,$B$1:$J$1,0)+1),1)) -> 1
K17: =IF(AND(A17<>"",(L17*M17*N17*O17*P17*Q17*R17*S17*T17)=1),ROW(),"") | L17: =IF(Service!$A$2="",1,$A17=INDIRECT(ADDRESS(ROW(),MATCH(Service!$A$2,$B$1:$J$1,0)+1),1)) -> 1 | M17: =IF(Service!$A$3="",1,$A17=INDIRECT(ADDRESS(ROW(),MATCH(Service!$A$3,$B$1:$J$1,0)+1),1)) -> 1 | N17: =IF(Service!$A$4="",1,$A17=INDIRECT(ADDRESS(ROW(),MATCH(Service!$A$4,$B$1:$J$1,0)+1),1)) -> 1 | O17: =IF(Service!$A$5="",1,$A17=INDIRECT(ADDRESS(ROW(),MATCH(Service!$A$5,$B$1:$J$1,0)+1),1)) -> 1 | P17: =IF(Service!$A$6="",1,$A17=INDIRECT(ADDRESS(ROW(),MATCH(Service!$A$6,$B$1:$J$1,0)+1),1)) -> 1 | Q17: =IF(Service!$A$7="",1,$A17=INDIRECT(ADDRESS(ROW(),MATCH(Service!$A$7,$B$1:$J$1,0)+1),1)) -> 1 | R17: =IF(Service!$A$8="",1,A17=INDIRECT(ADDRESS(ROW(),MATCH(Service!$A$8,$B$1:$J$1,0)+1),1)) -> 1 | S17: =IF(Service!$A$9="",1,$A17=INDIRECT(ADDRESS(ROW(),MATCH(Service!$A$9,$B$1:$J$1,0)+1),1)) -> 1 | T17: =IF(Service!$A$10="",1,$A17=INDIRECT(ADDRESS(ROW(),MATCH(Service!$A$10,$B$1:$J$1,0)+1),1)) -> 1
K18: =IF(AND(A18<>"",(L18*M18*N18*O18*P18*Q18*R18*S18*T18)=1),ROW(),"") | L18: =IF(Service!$A$2="",1,$A18=INDIRECT(ADDRESS(ROW(),MATCH(Service!$A$2,$B$1:$J$1,0)+1),1)) -> 1 | M18: =IF(Service!$A$3="",1,$A18=INDIRECT(ADDRESS(ROW(),MATCH(Service!$A$3,$B$1:$J$1,0)+1),1)) -> 1 | N18: =IF(Service!$A$4="",1,$A18=INDIRECT(ADDRESS(ROW(),MATCH(Service!$A$4,$B$1:$J$1,0)+1),1)) -> 1 | O18: =IF(Service!$A$5="",1,$A18=INDIRECT(ADDRESS(ROW(),MATCH(Service!$A$5,$B$1:$J$1,0)+1),1)) -> 1 | P18: =IF(Service!$A$6="",1,$A18=INDIRECT(ADDRESS(ROW(),MATCH(Service!$A$6,$B$1:$J$1,0)+1),1)) -> 1 | Q18: =IF(Service!$A$7="",1,$A18=INDIRECT(ADDRESS(ROW(),MATCH(Service!$A$7,$B$1:$J$1,0)+1),1)) -> 1 | R18: =IF(Service!$A$8="",1,A18=INDIRECT(ADDRESS(ROW(),MATCH(Service!$A$8,$B$1:$J$1,0)+1),1)) -> 1 | S18: =IF(Service!$A$9="",1,$A18=INDIRECT(ADDRESS(ROW(),MATCH(Service!$A$9,$B$1:$J$1,0)+1),1)) -> 1 | T18: =IF(Service!$A$10="",1,$A18=INDIRECT(ADDRESS(ROW(),MATCH(Service!$A$10,$B$1:$J$1,0)+1),1)) -> 1
K19: =IF(AND(A19<>"",(L19*M19*N19*O19*P19*Q19*R19*S19*T19)=1),ROW(),"") | L19: =IF(Service!$A$2="",1,$A19=INDIRECT(ADDRESS(ROW(),MATCH(Service!$A$2,$B$1:$J$1,0)+1),1)) -> 1 | M19: =IF(Service!$A$3="",1,$A19=INDIRECT(ADDRESS(ROW(),MATCH(Service!$A$3,$B$1:$J$1,0)+1),1)) -> 1 | N19: =IF(Service!$A$4="",1,$A19=INDIRECT(ADDRESS(ROW(),MATCH(Service!$A$4,$B$1:$J$1,0)+1),1)) -> 1 | O19: =IF(Service!$A$5="",1,$A19=INDIRECT(ADDRESS(ROW(),MATCH(Service!$A$5,$B$1:$J$1,0)+1),1)) -> 1 | P19: =IF(Service!$A$6="",1,$A19=INDIRECT(ADDRESS(ROW(),MATCH(Service!$A$6,$B$1:$J$1,0)+1),1)) -> 1 | Q19: =IF(Service!$A$7="",1,$A19=INDIRECT(ADDRESS(ROW(),MATCH(Service!$A$7,$B$1:$J$1,0)+1),1)) -> 1 | R19: =IF(Service!$A$8="",1,A19=INDIRECT(ADDRESS(ROW(),MATCH(Service!$A$8,$B$1:$J$1,0)+1),1)) -> 1 | S19: =IF(Service!$A$9="",1,$A19=INDIRECT(ADDRESS(ROW(),MATCH(Service!$A$9,$B$1:$J$1,0)+1),1)) -> 1 | T19: =IF(Service!$A$10="",1,$A19=INDIRECT(ADDRESS(ROW(),MATCH(Service!$A$10,$B$1:$J$1,0)+1),1)) -> 1
K20: =IF(AND(A20<>"",(L20*M20*N20*O20*P20*Q20*R20*S20*T20)=1),ROW(),"") | L20: =IF(Service!$A$2="",1,$A20=INDIRECT(ADDRESS(ROW(),MATCH(Service!$A$2,$B$1:$J$1,0)+1),1)) -> 1 | M20: =IF(Service!$A$3="",1,$A20=INDIRECT(ADDRESS(ROW(),MATCH(Service!$A$3,$B$1:$J$1,0)+1),1)) -> 1 | N20: =IF(Service!$A$4="",1,$A20=INDIRECT(ADDRESS(ROW(),MATCH(Service!$A$4,$B$1:$J$1,0)+1),1)) -> 1 | O20: =IF(Service!$A$5="",1,$A20=INDIRECT(ADDRESS(ROW(),MATCH(Service!$A$5,$B$1:$J$1,0)+1),1)) -> 1 | P20: =IF(Service!$A$6="",1,$A20=INDIRECT(ADDRESS(ROW(),MATCH(Service!$A$6,$B$1:$J$1,0)+1),1)) -> 1 | Q20: =IF(Service!$A$7="",1,$A20=INDIRECT(ADDRESS(ROW(),MATCH(Service!$A$7,$B$1:$J$1,0)+1),1)) -> 1 | R20: =IF(Service!$A$8="",1,A20=INDIRECT(ADDRESS(ROW(),MATCH(Service!$A$8,$B$1:$J$1,0)+1),1)) -> 1 | S20: =IF(Service!$A$9="",1,$A20=INDIRECT(ADDRESS(ROW(),MATCH(Service!$A$9,$B$1:$J$1,0)+1),1)) -> 1 | T20: =IF(Service!$A$10="",1,$A20=INDIRECT(ADDRESS(ROW(),MATCH(Service!$A$10,$B$1:$J$1,0)+1),1)) -> 1
K21: =IF(AND(A21<>"",(L21*M21*N21*O21*P21*Q21*R21*S21*T21)=1),ROW(),"") | L21: =IF(Service!$A$2="",1,$A21=INDIRECT(ADDRESS(ROW(),MATCH(Service!$A$2,$B$1:$J$1,0)+1),1)) -> 1 | M21: =IF(Service!$A$3="",1,$A21=INDIRECT(ADDRESS(ROW(),MATCH(Service!$A$3,$B$1:$J$1,0)+1),1)) -> 1 | N21: =IF(Service!$A$4="",1,$A21=INDIRECT(ADDRESS(ROW(),MATCH(Service!$A$4,$B$1:$J$1,0)+1),1)) -> 1 | O21: =IF(Service!$A$5="",1,$A21=INDIRECT(ADDRESS(ROW(),MATCH(Service!$A$5,$B$1:$J$1,0)+1),1)) -> 1 | P21: =IF(Service!$A$6="",1,$A21=INDIRECT(ADDRESS(ROW(),MATCH(Service!$A$6,$B$1:$J$1,0)+1),1)) -> 1 | Q21: =IF(Service!$A$7="",1,$A21=INDIRECT(ADDRESS(ROW(),MATCH(Service!$A$7,$B$1:$J$1,0)+1),1)) -> 1 | R21: =IF(Service!$A$8="",1,A21=INDIRECT(ADDRESS(ROW(),MATCH(Service!$A$8,$B$1:$J$1,0)+1),1)) -> 1 | S21: =IF(Service!$A$9="",1,$A21=INDIRECT(ADDRESS(ROW(),MATCH(Service!$A$9,$B$1:$J$1,0)+1),1)) -> 1 | T21: =IF(Service!$A$10="",1,$A21=INDIRECT(ADDRESS(ROW(),MATCH(Service!$A$10,$B$1:$J$1,0)+1),1)) -> 1
K22: =IF(AND(A22<>"",(L22*M22*N22*O22*P22*Q22*R22*S22*T22)=1),ROW(),"") | L22: =IF(Service!$A$2="",1,$A22=INDIRECT(ADDRESS(ROW(),MATCH(Service!$A$2,$B$1:$J$1,0)+1),1)) -> 1 | M22: =IF(Service!$A$3="",1,$A22=INDIRECT(ADDRESS(ROW(),MATCH(Service!$A$3,$B$1:$J$1,0)+1),1)) -> 1 | N22: =IF(Service!$A$4="",1,$A22=INDIRECT(ADDRESS(ROW(),MATCH(Service!$A$4,$B$1:$J$1,0)+1),1)) -> 1 | O22: =IF(Service!$A$5="",1,$A22=INDIRECT(ADDRESS(ROW(),MATCH(Service!$A$5,$B$1:$J$1,0)+1),1)) -> 1 | P22: =IF(Service!$A$6="",1,$A22=INDIRECT(ADDRESS(ROW(),MATCH(Service!$A$6,$B$1:$J$1,0)+1),1)) -> 1 | Q22: =IF(Service!$A$7="",1,$A22=INDIRECT(ADDRESS(ROW(),MATCH(Service!$A$7,$B$1:$J$1,0)+1),1)) -> 1 | R22: =IF(Service!$A$8="",1,A22=INDIRECT(ADDRESS(ROW(),MATCH(Service!$A$8,$B$1:$J$1,0)+1),1)) -> 1 | S22: =IF(Service!$A$9="",1,$A22=INDIRECT(ADDRESS(ROW(),MATCH(Service!$A$9,$B$1:$J$1,0)+1),1)) -> 1 | T22: =IF(Service!$A$10="",1,$A22=INDIRECT(ADDRESS(ROW(),MATCH(Service!$A$10,$B$1:$J$1,0)+1),1)) -> 1
K23: =IF(AND(A23<>"",(L23*M23*N23*O23*P23*Q23*R23*S23*T23)=1),ROW(),"") | L23: =IF(Service!$A$2="",1,$A23=INDIRECT(ADDRESS(ROW(),MATCH(Service!$A$2,$B$1:$J$1,0)+1),1)) -> 1 | M23: =IF(Service!$A$3="",1,$A23=INDIRECT(ADDRESS(ROW(),MATCH(Service!$A$3,$B$1:$J$1,0)+1),1)) -> 1 | N23: =IF(Service!$A$4="",1,$A23=INDIRECT(ADDRESS(ROW(),MATCH(Service!$A$4,$B$1:$J$1,0)+1),1)) -> 1 | O23: =IF(Service!$A$5="",1,$A23=INDIRECT(ADDRESS(ROW(),MATCH(Service!$A$5,$B$1:$J$1,0)+1),1)) -> 1 | P23: =IF(Service!$A$6="",1,$A23=INDIRECT(ADDRESS(ROW(),MATCH(Service!$A$6,$B$1:$J$1,0)+1),1)) -> 1 | Q23: =IF(Service!$A$7="",1,$A23=INDIRECT(ADDRESS(ROW(),MATCH(Service!$A$7,$B$1:$J$1,0)+1),1)) -> 1 | R23: =IF(Service!$A$8="",1,A23=INDIRECT(ADDRESS(ROW(),MATCH(Service!$A$8,$B$1:$J$1,0)+1),1)) -> 1 | S23: =IF(Service!$A$9="",1,$A23=INDIRECT(ADDRESS(ROW(),MATCH(Service!$A$9,$B$1:$J$1,0)+1),1)) -> 1 | T23: =IF(Service!$A$10="",1,$A23=INDIRECT(ADDRESS(ROW(),MATCH(Service!$A$10,$B$1:$J$1,0)+1),1)) -> 1
B24: =IF(ISNUMBER(MATCH(B$1,Service!$A$2:$A$10,0)),"",B$1) | C24: =IF(ISNUMBER(MATCH(C$1,Service!$A$2:$A$10,0)),"",C$1) | D24: =IF(ISNUMBER(MATCH(D$1,Service!$A$2:$A$10,0)),"",D$1) | E24: =IF(ISNUMBER(MATCH(E$1,Service!$A$2:$A$10,0)),"",E$1) | F24: =IF(ISNUMBER(MATCH(F$1,Service!$A$2:$A$10,0)),"",F$1) | G24: =IF(ISNUMBER(MATCH(G$1,Service!$A$2:$A$10,0)),"",G$1) | H24: =IF(ISNUMBER(MATCH(H$1,Service!$A$2:$A$10,0)),"",H$1) | I24: =IF(ISNUMBER(MATCH(I$1,Service!$A$2:$A$10,0)),"",I$1) | J24: =IF(ISNUMBER(MATCH(J$1,Service!$A$2:$A$10,0)),"",J$1)
