Workbook

Sheet BASE
A1: Date Livraison | B1: Etape - Tracteur | C1: Etape - Remorque | D1: Sociétés | E1: Etape - Conducteur | F1: Ville Exped. | G1: Ville Dest. | H1: Produit - Qté facturée | I1: Produit - Montant | J1: €/tonne | M1: Tracteur | N1: Remorque | O1: Société | P1: Conducteur
A2: 26/01/2018 | B2: DB 147 QY | C2: CJ 823 HC | D2: LAFAGE FRERES | E2: JULAN DIMITRY-CHARLES | F2: MAGESCQ | G2: JOSSE | H2: 31.24 | I2: 106.53 | J2: =+I2/H2 -> 3.4100512 | M2: DB 147 QY | N2: CJ 823 HC | O2: LAFAGE FRERES | P2: JULAN DIMITRY-CHARLES
A3: 26/01/2018 | B3: DB 147 QY | C3: CJ 823 HC | D3: LAFAGE FRERES | E3: JULAN DIMITRY-CHARLES | F3: BISCARROSSE | G3: JOSSE | H3: 29.99 | I3: 190.44 | J3: =+I3/H3 -> 6.3501167 | M3: AD 537 GX | N3: CA 672 ET | O3: DANIEL | P3: LAGGER CHRISTOPHE
A4: 26/01/2018 | B4: DB 147 QY | C4: CJ 823 HC | D4: LAFAGE FRERES | E4: JULAN DIMITRY-CHARLES | F4: USTARITZ | G4: JOSSE | H4: 30.76 | I4: 123.04 | J4: =+I4/H4 -> 4 | O4: CARRIERES DANIEL
A5: 29/01/2018 | B5: DB 147 QY | C5: CJ 823 HC | D5: LAFAGE FRERES | E5: JULAN DIMITRY-CHARLES | F5: LESCAR | G5: PONTONX/ADOUR | H5: 29.84 | I5: 187.1 | J5: =+I5/H5 -> 6.2701072 | O5: LAFAGE FRERES
A6: 29/01/2018 | B6: DB 147 QY | C6: CJ 823 HC | D6: DANIEL | E6: JULAN DIMITRY-CHARLES | F6: ASSON | G6: PONTONX/ADOUR | H6: 30.6 | I6: 159.12 | J6: =+I6/H6 -> 5.2 | O6: DRAGAGES DU PONT
A7: 29/01/2018 | B7: DB 147 QY | C7: CJ 823 HC | D7: LAFAGE FRERES | E7: JULAN DIMITRY-CHARLES | F7: SOUSTONS | G7: PONTONX/ADOUR | H7: 30.74 | I7: 133.1 | J7: =+I7/H7 -> 4.3298634 | O7: SOPRAVEM
A8: 30/01/2018 | B8: DB 147 QY | C8: CJ 823 HC | D8: LAFAGE FRERES | E8: JULAN DIMITRY-CHARLES | F8: SAINT JEAN D'ILLAC | G8: PONTONX/ADOUR | H8: 30.4 | I8: 316.16 | J8: =+I8/H8 -> 10.4
A9: 01/02/2018 | B9: DB 147 QY | C9: CJ 823 HC | D9: CARRIERES DANIEL | E9: JULAN DIMITRY-CHARLES | F9: ASASP ARROS | G9: VIELLENAVE DE NAVARRENX | H9: 30.65 | I9: 113.41 | J9: =+I9/H9 -> 3.7001631
A10: 01/02/2018 | B10: DB 147 QY | C10: CJ 823 HC | D10: LAFAGE FRERES | E10: JULAN DIMITRY-CHARLES | F10: PONTONX/ADOUR | G10: ABOS | H10: 30.76 | I10: 192.87 | J10: =+I10/H10 -> 6.270156
A11: 02/02/2018 | B11: DB 147 QY | C11: CJ 823 HC | D11: LAFAGE FRERES | E11: JULAN DIMITRY-CHARLES | F11: PONTONX/ADOUR | G11: MORLAAS | H11: 30.7 | I11: 192.49 | J11: =+I11/H11 -> 6.2700326
A12: 05/02/2018 | B12: DB 147 QY | C12: CJ 823 HC | D12: LAFAGE FRERES | E12: JULAN DIMITRY-CHARLES | F12: PONTONX/ADOUR | G12: MAGESCQ | H12: 30.82 | I12: 105.1 | J12: =+I12/H12 -> 3.4101233
A13: 06/02/2018 | B13: DB 147 QY | C13: CJ 823 HC | D13: LAFAGE FRERES | E13: JULAN DIMITRY-CHARLES | F13: PONTONX/ADOUR | G13: LOUER | H13: 30 | I13: 76.5 | J13: =+I13/H13 -> 2.55
A14: 06/02/2018 | B14: DB 147 QY | C14: CJ 823 HC | D14: LAFAGE FRERES | E14: JULAN DIMITRY-CHARLES | F14: PONTONX/ADOUR | G14: ST SEVER | H14: 30.34 | I14: 124.09 | J14: =+I14/H14 -> 4.0899802
A15: 06/02/2018 | B15: DB 147 QY | C15: CJ 823 HC | D15: LAFAGE FRERES | E15: JULAN DIMITRY-CHARLES | F15: MONTAUT | G15: PONTONX/ADOUR | H15: 30.75 | I15: 61.5 | J15: =+I15/H15 -> 2
A16: 07/02/2018 | B16: DB 147 QY | C16: CJ 823 HC | D16: LAFAGE FRERES | E16: JULAN DIMITRY-CHARLES | F16: PONTONX/ADOUR | G16: SAINT GLADIE ARRIVE MUNEIN | H16: 30.38 | I16: 173.47 | J16: =+I16/H16 -> 5.7100066
A17: 08/02/2018 | B17: DB 147 QY | C17: CJ 823 HC | D17: LAFAGE FRERES | E17: JULAN DIMITRY-CHARLES | F17: PONTONX/ADOUR | G17: LURBE ST CRISTAU | H17: 30.89 | I17: 117.69 | J17: =+I17/H17 -> 3.8099709
A18: 08/02/2018 | B18: DB 147 QY | C18: CJ 823 HC | D18: CARRIERES DANIEL | E18: JULAN DIMITRY-CHARLES | F18: ASASP ARROS | G18: PONTONX/ADOUR | H18: 30.55 | I18: 158.86 | J18: =+I18/H18 -> 5.2
A19: 08/02/2018 | B19: DB 147 QY | C19: CJ 823 HC | D19: LAFAGE FRERES | E19: JULAN DIMITRY-CHARLES | F19: PONTONX/ADOUR | G19: JOSSE | H19: 30.52 | I19: 122.08 | J19: =+I19/H19 -> 4
... A76: 27/02/2018 | B76: CY 670 PP | C76: BY 053 XC | D76: LAFAGE FRERES | E76: AUDAIRE HERVE | F76: PONTONX/ADOUR | G76: SOORTS HOSSEGOR | H76: 29.85 | I76: 145.07 | J76: =+I76/H76 -> 4.8599665

Sheet SIMULATION
A1: Ville Exped. | B1: Ville Dest. | C1: Qté facturée | D1: €/tonne | E1: Produit - Montant
A2: BISCARROSSE | B2: JOSSE | C2: 13 | D2: =IFERROR(INDIRECT("F3.J"&SMALL(F3!I:I,1),1),"complétez A B et C2, après avoir ajouté votre itinéraire dans l'onglet 'F3' s'il n'existe pas encore") -> 6.35 | E2: =+C2*D2 -> 82.55

Sheet F3
A1: =BASE!F1 -> Ville Exped. | B1: =BASE!G1 -> Ville Dest. | C1: =BASE!H1 -> Produit - Qté facturée | D1: =BASE!I1 -> Produit - Montant | E1: =BASE!J1 -> €/tonne | F1: Depuis | G1: Vers
A2: ABOS | B2: LABASTIDE CEZERACQ | C2: 30.2 | D2: 54.36 | E2: 1.8 | F2: =SIMULATION!A2 -> BISCARROSSE | G2: =SIMULATION!B2 -> JOSSE | H2: =IF(A2=F$2,B2,"") | I2: =IF(AND(F$2=A2,G$2=B2),ROW(),"") | J2: =TRUNC(ROUND(E2,2),2) -> 1.8
A3: ABOS | B3: TARNOS | C3: 30.9 | D3: 251.84 | E3: 8.1501618 | H3: =IF(A3=F$2,B3,"") | I3: =IF(AND(F$2=A3,G$2=B3),ROW(),"") | J3: =TRUNC(ROUND(E3,2),2) -> 8.15
A4: ASASP ARROS | B4: PONTONX/ADOUR | C4: 30.55 | D4: 158.86 | E4: 5.2 | H4: =IF(A4=F$2,B4,"") | I4: =IF(AND(F$2=A4,G$2=B4),ROW(),"") | J4: =TRUNC(ROUND(E4,2),2) -> 5.2
A5: ASASP ARROS | B5: VIELLENAVE DE NAVARRENX | C5: 30.65 | D5: 113.41 | E5: 3.7001631 | H5: =IF(A5=F$2,B5,"") | I5: =IF(AND(F$2=A5,G$2=B5),ROW(),"") | J5: =TRUNC(ROUND(E5,2),2) -> 3.7
A6: ASSON | B6: BAUDREIX | C6: 31.04 | D6: 55.87 | E6: 1.7999356 | H6: =IF(A6=F$2,B6,"") | I6: =IF(AND(F$2=A6,G$2=B6),ROW(),"") | J6: =TRUNC(ROUND(E6,2),2) -> 1.8
A7: ASSON | B7: BAYONNE | C7: 30.7 | D7: 153.5 | E7: 5 | H7: =IF(A7=F$2,B7,"") | I7: =IF(AND(F$2=A7,G$2=B7),ROW(),"") | J7: =TRUNC(ROUND(E7,2),2) -> 5
A8: ASSON | B8: BENESSE MAREMNE | C8: 31.1 | D8: 160.17 | E8: 5.1501608 | H8: =IF(A8=F$2,B8,"") | I8: =IF(AND(F$2=A8,G$2=B8),ROW(),"") | J8: =TRUNC(ROUND(E8,2),2) -> 5.15
A9: ASSON | B9: BISCARROSSE | C9: 30.7 | D9: 319.28 | E9: 10.4 | H9: =IF(A9=F$2,B9,"") | I9: =IF(AND(F$2=A9,G$2=B9),ROW(),"") | J9: =TRUNC(ROUND(E9,2),2) -> 10.4
A10: ASSON | B10: CESTAS | C10: 30.3 | D10: 315.12 | E10: 10.4 | H10: =IF(A10=F$2,B10,"") | I10: =IF(AND(F$2=A10,G$2=B10),ROW(),"") | J10: =TRUNC(ROUND(E10,2),2) -> 10.4
A11: ASSON | B11: PAU | C11: 30.99 | D11: 123.96 | E11: 4 | H11: =IF(A11=F$2,B11,"") | I11: =IF(AND(F$2=A11,G$2=B11),ROW(),"") | J11: =TRUNC(ROUND(E11,2),2) -> 4
A12: ASSON | B12: PONTONX/ADOUR | C12: 30.6 | D12: 159.12 | E12: 5.2 | H12: =IF(A12=F$2,B12,"") | I12: =IF(AND(F$2=A12,G$2=B12),ROW(),"") | J12: =TRUNC(ROUND(E12,2),2) -> 5.2
A13: ASSON | B13: SAINT CASTIN | C13: 29.7 | D13: 142.86 | E13: 4.810101 | H13: =IF(A13=F$2,B13,"") | I13: =IF(AND(F$2=A13,G$2=B13),ROW(),"") | J13: =TRUNC(ROUND(E13,2),2) -> 4.81
A14: ASSON | B14: SEDZERE | C14: 31 | D14: 137.02 | E14: 4.42 | H14: =IF(A14=F$2,B14,"") | I14: =IF(AND(F$2=A14,G$2=B14),ROW(),"") | J14: =TRUNC(ROUND(E14,2),2) -> 4.42
... A75: USTARITZ | B75: JOSSE | C75: 30.76 | D75: 123.04 | E75: 4 | H75: =IF(A75=F$2,B75,"") | I75: =IF(AND(F$2=A75,G$2=B75),ROW(),"") | J75: =TRUNC(ROUND(E75,2),2) -> 4
