Workbook

Sheet Grand-livre des comptes
I6: Date de tirage | Q6: Page : | R6: 1
A8: Date | B8: C.j | D8: N° pièce | G8: Libellé écriture | J8: Let | K8: Mouvement débit | N8: Mouvement crédit | Q8: Solde progressif
C12: Compte à créer
A13: 43606 | B13: VE | F13: Facture Normale | M13: 2109.59 | R13: 2109.59 | T13: =CONCATENATE(A13," ",TEXT(R12-R13,"# ##0,00")*1) -> 43606 -2109,59 | U13: =MATCH(T13,Feuil1!K$1:K$19,0) -> #N/A
A14: 43606 | B14: VE | F14: Ticket | M14: 207.43 | R14: 2317.02 | T14: =CONCATENATE(A14," ",TEXT(R13-R14,"# ##0,00")*1) -> 43606 -207,43 | U14: =MATCH(T14,Feuil1!K$1:K$19,0) -> #N/A
A15: 43606 | B15: CA | F15: CB | O15: 24.99 | R15: 2292.03 | T15: =CONCATENATE(A15," ",TEXT(R14-R15,"# ##0,00")*1) -> 43606 24,99 | U15: =MATCH(T15,Feuil1!K$1:K$19,0) -> 1
A16: 43606 | B16: CA | F16: CB | O16: 38.01 | R16: 2254.02 | T16: =CONCATENATE(A16," ",TEXT(R15-R16,"# ##0,00")*1) -> 43606 38,01 | U16: =MATCH(T16,Feuil1!K$1:K$19,0) -> 2
A17: 43606 | B17: CA | F17: CB | O17: 49.5 | R17: 2204.52 | T17: =CONCATENATE(A17," ",TEXT(R16-R17,"# ##0,00")*1) -> 43606 49,5 | U17: =MATCH(T17,Feuil1!K$1:K$19,0) -> #N/A
A18: 43606 | B18: CA | F18: CB | O18: 52.26 | R18: 2152.26 | T18: =CONCATENATE(A18," ",TEXT(R17-R18,"# ##0,00")*1) -> 43606 52,26 | U18: =MATCH(T18,Feuil1!K$1:K$19,0) -> 3
A19: 43606 | B19: CA | F19: CB | O19: 55.02 | R19: 2097.24 | T19: =CONCATENATE(A19," ",TEXT(R18-R19,"# ##0,00")*1) -> 43606 55,02 | U19: =MATCH(T19,Feuil1!K$1:K$19,0) -> 4
A20: 43606 | B20: CA | F20: CB | O20: 171 | R20: 1926.24 | T20: =CONCATENATE(A20," ",TEXT(R19-R20,"# ##0,00")*1) -> 43606 171 | U20: =MATCH(T20,Feuil1!K$1:K$19,0) -> #N/A
A21: 43606 | B21: CA | F21: CB | O21: 237.42 | R21: 1688.82 | T21: =CONCATENATE(A21," ",TEXT(R20-R21,"# ##0,00")*1) -> 43606 237,42 | U21: =MATCH(T21,Feuil1!K$1:K$19,0) -> 5
A22: 43606 | B22: CA | F22: ChÃ¨que | O22: 42.4 | R22: 1646.42 | T22: =CONCATENATE(A22," ",TEXT(R21-R22,"# ##0,00")*1) -> 43606 42,4 | U22: =MATCH(T22,Feuil1!K$1:K$19,0) -> #N/A
A23: 43606 | B23: CA | F23: EspÃ¨ces | M23: 10.8 | R23: 1657.22 | T23: =CONCATENATE(A23," ",TEXT(R22-R23,"# ##0,00")*1) -> 43606 -10,8 | U23: =MATCH(T23,Feuil1!K$1:K$19,0) -> #N/A
A24: 43606 | B24: CA | F24: EspÃ¨ces | O24: 20 | R24: 1637.22 | T24: =CONCATENATE(A24," ",TEXT(R23-R24,"# ##0,00")*1) -> 43606 20 | U24: =MATCH(T24,Feuil1!K$1:K$19,0) -> #N/A
A25: 43606 | B25: CA | F25: CB | O25: 71.99 | R25: 1565.23 | T25: =CONCATENATE(A25," ",TEXT(R24-R25,"# ##0,00")*1) -> 43606 71,99 | U25: =MATCH(T25,Feuil1!K$1:K$19,0) -> 6
A26: 43606 | B26: CA | F26: CB | O26: 41 | R26: 1524.23 | T26: =CONCATENATE(A26," ",TEXT(R25-R26,"# ##0,00")*1) -> 43606 41 | U26: =MATCH(T26,Feuil1!K$1:K$19,0) -> #N/A
A27: 43606 | B27: CA | F27: CB | O27: 25 | R27: 1499.23 | T27: =CONCATENATE(A27," ",TEXT(R26-R27,"# ##0,00")*1) -> 43606 25 | U27: =MATCH(T27,Feuil1!K$1:K$19,0) -> #N/A
A28: 43606 | B28: CA | F28: CB | O28: 12.9 | R28: 1486.33 | T28: =CONCATENATE(A28," ",TEXT(R27-R28,"# ##0,00")*1) -> 43606 12,9 | U28: =MATCH(T28,Feuil1!K$1:K$19,0) -> #N/A
A29: 43606 | B29: CA | F29: CB | O29: 14.85 | R29: 1471.48 | T29: =CONCATENATE(A29," ",TEXT(R28-R29,"# ##0,00")*1) -> 43606 14,85 | U29: =MATCH(T29,Feuil1!K$1:K$19,0) -> 7
A30: 43606 | B30: CA | F30: CB | O30: 15.5 | R30: 1455.98 | T30: =CONCATENATE(A30," ",TEXT(R29-R30,"# ##0,00")*1) -> 43606 15,5 | U30: =MATCH(T30,Feuil1!K$1:K$19,0) -> #N/A
A31: 43606 | B31: CA | F31: CB | O31: 16.99 | R31: 1438.99 | T31: =CONCATENATE(A31," ",TEXT(R30-R31,"# ##0,00")*1) -> 43606 16,99 | U31: =MATCH(T31,Feuil1!K$1:K$19,0) -> 8

Sheet Feuil1
B1: 43606 | C1: F | D1: 750600000002 | H1: 24.99 | J1: =MATCH(K1,'Grand-livre des comptes'!T$13:T$31,0)+12 -> 15 | K1: =CONCATENATE(B1," ",TEXT(H1,"# ##0,00")) -> 43606 24,99
B2: 43606 | C2: F | D2: 750600000003 | H2: 38.01 | J2: =MATCH(K2,'Grand-livre des comptes'!T$13:T$31,0)+12 -> 16 | K2: =CONCATENATE(B2," ",TEXT(H2,"# ##0,00")) -> 43606 38,01
B3: 43606 | C3: F | D3: 750600000001 | H3: 52.26 | J3: =MATCH(K3,'Grand-livre des comptes'!T$13:T$31,0)+12 -> 18 | K3: =CONCATENATE(B3," ",TEXT(H3,"# ##0,00")) -> 43606 52,26
B4: 43606 | C4: F | D4: 750600000005 | H4: 55.02 | J4: =MATCH(K4,'Grand-livre des comptes'!T$13:T$31,0)+12 -> 19 | K4: =CONCATENATE(B4," ",TEXT(H4,"# ##0,00")) -> 43606 55,02
B5: 43606 | C5: F | D5: 750600000006 | H5: 237.42 | J5: =MATCH(K5,'Grand-livre des comptes'!T$13:T$31,0)+12 -> 21 | K5: =CONCATENATE(B5," ",TEXT(H5,"# ##0,00")) -> 43606 237,42
B6: 43606 | C6: T | D6: 750600000006 | H6: 71.99 | J6: =MATCH(K6,'Grand-livre des comptes'!T$13:T$31,0)+12 -> 25 | K6: =CONCATENATE(B6," ",TEXT(H6,"# ##0,00")) -> 43606 71,99
B7: 43606 | C7: T | D7: 750600000008 | H7: 14.85 | J7: =MATCH(K7,'Grand-livre des comptes'!T$13:T$31,0)+12 -> 29 | K7: =CONCATENATE(B7," ",TEXT(H7,"# ##0,00")) -> 43606 14,85
B8: 43606 | C8: T | D8: 750600000005 | H8: 16.99 | J8: =MATCH(K8,'Grand-livre des comptes'!T$13:T$31,0)+12 -> 31 | K8: =CONCATENATE(B8," ",TEXT(H8,"# ##0,00")) -> 43606 16,99
B9: 43606 | C9: F | D9: 750300000001 | H9: 270.99 | J9: =MATCH(K9,'Grand-livre des comptes'!T$13:T$31,0)+12 -> #N/A | K9: =CONCATENATE(B9," ",TEXT(H9,"# ##0,00")) -> 43606 270,99
B10: 43606 | C10: F | D10: 750300000002 | H10: 549 | J10: =MATCH(K10,'Grand-livre des comptes'!T$13:T$31,0)+12 -> #N/A | K10: =CONCATENATE(B10," ",TEXT(H10,"# ##0,00")) -> 43606 549,00
B11: 43606 | C11: F | D11: 750300000003 | H11: 619 | J11: =MATCH(K11,'Grand-livre des comptes'!T$13:T$31,0)+12 -> #N/A | K11: =CONCATENATE(B11," ",TEXT(H11,"# ##0,00")) -> 43606 619,00
B12: 43606 | C12: T | D12: 750600000001 | H12: 25 | J12: =MATCH(K12,'Grand-livre des comptes'!T$13:T$31,0)+12 -> #N/A | K12: =CONCATENATE(B12," ",TEXT(H12,"# ##0,00")) -> 43606 25,00
... B19: 43606 | C19: F | D19: 750600000008 | H19: 42.4 | J19: =MATCH(K19,'Grand-livre des comptes'!T$13:T$31,0)+12 -> #N/A | K19: =CONCATENATE(B19," ",TEXT(H19,"# ##0,00")) -> 43606 42,40
H20: 2317.02 | I20: =SUM(H1:H19) -> 2317.02
