Workbook

Sheet Inventaire du Stock
A1: ÉTAT DU STOCK ACTUEL AU 27/04/2018 à 10:34:14
A3: REFERENCE | B3: PRODUIT | C3: VOLUME | D3: QUANTITE EN STOCK | E3: TARIF | F3: TVA | G3: VALEUR | H3: CODE BARRES
A4: 3301 | B4: BTE 50 RATIONS SOUPE TOMATE/VERMICELLE KNORR | C4: U | G4: =_xlfn.AGGREGATE(6,6,D4*E4*(1+F4)) -> 0
A5: 6593 | B5: KG BLEU RECT. 50% MG PAIN 2 KG | C5: Kg | G5: =_xlfn.AGGREGATE(6,6,D5*E5*(1+F5)) -> 0
A6: 12880 | B6: C/120X20G GOUTER CHOCO REM LU | C6: Carton | D6: 12 | E6: 0.7 | F6: 0.055 | G6: =_xlfn.AGGREGATE(6,6,D6*E6*(1+F6)) -> 8.862
A7: 19927 | B7: SEAU 5KG MOUTARDE AMORA | C7: U | G7: =_xlfn.AGGREGATE(6,6,D7*E7*(1+F7)) -> 0
A8: 22855 | B8: K SPAGUETTI Q.S. LUSTUCRU S/5KG | C8: Kg | G8: =_xlfn.AGGREGATE(6,6,D8*E8*(1+F8)) -> 0
A9: 23713 | B9: CARTON 120X20G ALU MIEL DE FLEURS LIQUIDE | C9: Carton | G9: =_xlfn.AGGREGATE(6,6,D9*E9*(1+F9)) -> 0
A10: 029272-Ref-DT | B10: KG BRIE PCE 2.9 KG ENV 50% MG BRIDEL | C10: Kg | G10: =_xlfn.AGGREGATE(6,6,D10*E10*(1+F10)) -> 0
A11: 029272-DP-24 08 17 | B11: KG BRIE PCE 2.9 KG ENV 50% MG BRIDEL - /DP/ - 24 08 17 | C11: Kg | D11: 3.28 | E11: 4.5 | F11: 0.055 | G11: =_xlfn.AGGREGATE(6,6,D11*E11*(1+F11)) -> 15.5718
A12: 55558 | B12: LITRE CREME ANGLAISE UHT DANONE C/6 | C12: L | G12: =_xlfn.AGGREGATE(6,6,D12*E12*(1+F12)) -> 0
A13: 58388 | B13: BIDON 5L SAUCE SALADE GYMA | G13: =_xlfn.AGGREGATE(6,6,D13*E13*(1+F13)) -> 0
A14: 59816 | B14: C/80X20G KIRI CREME 65% MG BEL | C14: U | G14: =_xlfn.AGGREGATE(6,6,D14*E14*(1+F14)) -> 0
A15: 63743 | B15: C/150 R 2 PAIN D'EPICES 40 G LU | G15: =_xlfn.AGGREGATE(6,6,D15*E15*(1+F15)) -> 0
A16: 63958 | B16: CARTON 120 RAT. 2 CHAMONIX 25 GRS LU | C16: Carton | G16: =_xlfn.AGGREGATE(6,6,D16*E16*(1+F16)) -> 0
A17: 72751 | B17: KG SEMOULE DE BLE FINE SAC 5 KG | G17: =_xlfn.AGGREGATE(6,6,D17*E17*(1+F17)) -> 0
A18: 74948 | B18: C/100 CHIPS 30 GRS VICO | C18: Carton | G18: =_xlfn.AGGREGATE(6,6,D18*E18*(1+F18)) -> 0
A19: 80762 | B19: KG ROTI DE PORC LONGE S/OS 2,6 / 3,2 KG CHARAL | C19: Kg | G19: =_xlfn.AGGREGATE(6,6,D19*E19*(1+F19)) -> 0
A20: 81489 | B20: B/100 SHT SERVICE THE LIPTON YELLOW | C20: U | G20: =_xlfn.AGGREGATE(6,6,D20*E20*(1+F20)) -> 0
A21: 83816 | B21: C/96X22 GRS MINI BABYBEL ROUGE 45% MG | C21: Carton | G21: =_xlfn.AGGREGATE(6,6,D21*E21*(1+F21)) -> 0
A22: 86629 | B22: 5/1 BETTERAVE LANIERE D'AUCY | C22: U | G22: =_xlfn.AGGREGATE(6,6,D22*E22*(1+F22)) -> 0
A23: 878 | B23: DAVIGEL POIRE WILLIAMS 1.2 KG FRANCE | C23: U | G23: =_xlfn.AGGREGATE(6,6,D23*E23*(1+F23)) -> 0
A24: 9570 | B24: SALADIERE NICOISE THON 115GX24 SAUPIQUET | C24: U | G24: =_xlfn.AGGREGATE(6,6,D24*E24*(1+F24)) -> 0
A25: 9571 | B25: SALADIERE PARISIENNE THON 115GX24 SAUPIQUET | C25: U | G25: =_xlfn.AGGREGATE(6,6,D25*E25*(1+F25)) -> 0
A26: 987 | B26: CONFITURE DE FRAISE BARQ 30 GRS VALADE CARTON X 120 | C26: Carton | G26: =_xlfn.AGGREGATE(6,6,D26*E26*(1+F26)) -> 0
A27: 10008 | B27: MOUTARDE DIJON SEAU 5 KG CHARB | C27: U | G27: =_xlfn.AGGREGATE(6,6,D27*E27*(1+F27)) -> 0
A28: 10310 | B28: CURRY GOLD 440 GRS DUCROS | C28: U | G28: =_xlfn.AGGREGATE(6,6,D28*E28*(1+F28)) -> 0
A29: 103788 | B29: KG CUISSE POULET 180/200 GRS IQF DEJOINT | C29: Kg | G29: =_xlfn.AGGREGATE(6,6,D29*E29*(1+F29)) -> 0
... A31: 1262 | B31: COUPE PECHE MELBA CRT X 48 | C31: U | G31: =_xlfn.AGGREGATE(6,6,D31*E31*(1+F31)) -> 0
A32: 12782 | B32: EVENTAILS GAUFFRES 1.250 KG BUHLER | G32: =_xlfn.AGGREGATE(6,6,D32*E32*(1+F32)) -> 0
A33: 129395 | B33: C/120X37.5GRS CAKE AUX FRUITS ROCHER | G33: =_xlfn.AGGREGATE(6,6,D33*E33*(1+F33)) -> 0
A34: 130989 | B34: C/120X35G TRANCHE CAKE FRUITS ROCHER | G34: =_xlfn.AGGREGATE(6,6,D34*E34*(1+F34)) -> 0
A35: 136457 | B35: PCE 1 KG QUICHE LORRAINE BANDE S/ENTAME | G35: =_xlfn.AGGREGATE(6,6,D35*E35*(1+F35)) -> 0
A36: 13683 | B36: COUSCOUS MOYEN SAC DE 5 KG ZAKIA | G36: =_xlfn.AGGREGATE(6,6,D36*E36*(1+F36)) -> 0
A37: 140954 | B37: KG TOMME SAVOIE 45% MG 1,5 KG AFFORET | G37: =_xlfn.AGGREGATE(6,6,D37*E37*(1+F37)) -> 0
A38: 142026 | B38: BRICK 1L JUS ORANGE BOPI | G38: =_xlfn.AGGREGATE(6,6,D38*E38*(1+F38)) -> 0
A39: 143743 | B39: KG HACHE BOEUF GRAINS 15% MG 1KG CHI | G39: =_xlfn.AGGREGATE(6,6,D39*E39*(1+F39)) -> 0
A40: 14778 | B40: CORN FLAKES 1KG KELLOGGS | G40: =_xlfn.AGGREGATE(6,6,D40*E40*(1+F40)) -> 0
A41: 1524 | B41: EXTREME CHOCOLAT 16X120 ML ESP | G41: =_xlfn.AGGREGATE(6,6,D41*E41*(1+F41)) -> 0
A42: 15779 | B42: ARTICHAUT FOND 20/30 3/1 COHEVI | G42: =_xlfn.AGGREGATE(6,6,D42*E42*(1+F42)) -> 0
...

Sheet Recherche
D1: RLX
A2: =IF(ISERROR(FIND(D$1,'Inventaire du Stock'!B4)),"",HYPERLINK("#$'Inventaire du Stock'.B"&ROW()+2,INDIRECT("'inventaire du stock'!b"&ROW()+2))) | B2: =IF(A2="","",ROW()+2) | D2: =IFERROR(HYPERLINK(CONCATENATE("#","'inventaire du stock'!b",SMALL(B:B,ROW()-1)),INDIRECT("'inventaire du stock'!b"&SMALL(B:B,ROW()-1),1)),"") -> RLX ALU 200MX0.45 11 MI BTE DISTRIBUTRICE
A3: =IF(ISERROR(FIND(D$1,'Inventaire du Stock'!B5)),"",HYPERLINK("#$'Inventaire du Stock'.B"&ROW()+2,INDIRECT("'inventaire du stock'!b"&ROW()+2))) | B3: =IF(A3="","",ROW()+2) | D3: =IFERROR(HYPERLINK(CONCATENATE("#","'inventaire du stock'!b",SMALL(B:B,ROW()-1)),INDIRECT("'inventaire du stock'!b"&SMALL(B:B,ROW()-1),1)),"")
A4: =IF(ISERROR(FIND(D$1,'Inventaire du Stock'!B6)),"",HYPERLINK("#$'Inventaire du Stock'.B"&ROW()+2,INDIRECT("'inventaire du stock'!b"&ROW()+2))) | B4: =IF(A4="","",ROW()+2) | D4: =IFERROR(HYPERLINK(CONCATENATE("#","'inventaire du stock'!b",SMALL(B:B,ROW()-1)),INDIRECT("'inventaire du stock'!b"&SMALL(B:B,ROW()-1),1)),"")
A5: =IF(ISERROR(FIND(D$1,'Inventaire du Stock'!B7)),"",HYPERLINK("#$'Inventaire du Stock'.B"&ROW()+2,INDIRECT("'inventaire du stock'!b"&ROW()+2))) | B5: =IF(A5="","",ROW()+2) | D5: =IFERROR(HYPERLINK(CONCATENATE("#","'inventaire du stock'!b",SMALL(B:B,ROW()-1)),INDIRECT("'inventaire du stock'!b"&SMALL(B:B,ROW()-1),1)),"")
A6: =IF(ISERROR(FIND(D$1,'Inventaire du Stock'!B8)),"",HYPERLINK("#$'Inventaire du Stock'.B"&ROW()+2,INDIRECT("'inventaire du stock'!b"&ROW()+2))) | B6: =IF(A6="","",ROW()+2) | D6: =IFERROR(HYPERLINK(CONCATENATE("#","'inventaire du stock'!b",SMALL(B:B,ROW()-1)),INDIRECT("'inventaire du stock'!b"&SMALL(B:B,ROW()-1),1)),"")
A7: =IF(ISERROR(FIND(D$1,'Inventaire du Stock'!B9)),"",HYPERLINK("#$'Inventaire du Stock'.B"&ROW()+2,INDIRECT("'inventaire du stock'!b"&ROW()+2))) | B7: =IF(A7="","",ROW()+2) | D7: =IFERROR(HYPERLINK(CONCATENATE("#","'inventaire du stock'!b",SMALL(B:B,ROW()-1)),INDIRECT("'inventaire du stock'!b"&SMALL(B:B,ROW()-1),1)),"")
A8: =IF(ISERROR(FIND(D$1,'Inventaire du Stock'!B10)),"",HYPERLINK("#$'Inventaire du Stock'.B"&ROW()+2,INDIRECT("'inventaire du stock'!b"&ROW()+2))) | B8: =IF(A8="","",ROW()+2) | D8: =IFERROR(HYPERLINK(CONCATENATE("#","'inventaire du stock'!b",SMALL(B:B,ROW()-1)),INDIRECT("'inventaire du stock'!b"&SMALL(B:B,ROW()-1),1)),"")
A9: =IF(ISERROR(FIND(D$1,'Inventaire du Stock'!B11)),"",HYPERLINK("#$'Inventaire du Stock'.B"&ROW()+2,INDIRECT("'inventaire du stock'!b"&ROW()+2))) | B9: =IF(A9="","",ROW()+2) | D9: =IFERROR(HYPERLINK(CONCATENATE("#","'inventaire du stock'!b",SMALL(B:B,ROW()-1)),INDIRECT("'inventaire du stock'!b"&SMALL(B:B,ROW()-1),1)),"")
A10: =IF(ISERROR(FIND(D$1,'Inventaire du Stock'!B12)),"",HYPERLINK("#$'Inventaire du Stock'.B"&ROW()+2,INDIRECT("'inventaire du stock'!b"&ROW()+2))) | B10: =IF(A10="","",ROW()+2) | D10: =IFERROR(HYPERLINK(CONCATENATE("#","'inventaire du stock'!b",SMALL(B:B,ROW()-1)),INDIRECT("'inventaire du stock'!b"&SMALL(B:B,ROW()-1),1)),"")
A11: =IF(ISERROR(FIND(D$1,'Inventaire du Stock'!B13)),"",HYPERLINK("#$'Inventaire du Stock'.B"&ROW()+2,INDIRECT("'inventaire du stock'!b"&ROW()+2))) | B11: =IF(A11="","",ROW()+2) | D11: =IFERROR(HYPERLINK(CONCATENATE("#","'inventaire du stock'!b",SMALL(B:B,ROW()-1)),INDIRECT("'inventaire du stock'!b"&SMALL(B:B,ROW()-1),1)),"")
A12: =IF(ISERROR(FIND(D$1,'Inventaire du Stock'!B14)),"",HYPERLINK("#$'Inventaire du Stock'.B"&ROW()+2,INDIRECT("'inventaire du stock'!b"&ROW()+2))) | B12: =IF(A12="","",ROW()+2) | D12: =IFERROR(HYPERLINK(CONCATENATE("#","'inventaire du stock'!b",SMALL(B:B,ROW()-1)),INDIRECT("'inventaire du stock'!b"&SMALL(B:B,ROW()-1),1)),"")
A13: =IF(ISERROR(FIND(D$1,'Inventaire du Stock'!B15)),"",HYPERLINK("#$'Inventaire du Stock'.B"&ROW()+2,INDIRECT("'inventaire du stock'!b"&ROW()+2))) | B13: =IF(A13="","",ROW()+2) | D13: =IFERROR(HYPERLINK(CONCATENATE("#","'inventaire du stock'!b",SMALL(B:B,ROW()-1)),INDIRECT("'inventaire du stock'!b"&SMALL(B:B,ROW()-1),1)),"")
... A21: =IF(ISERROR(FIND(D$1,'Inventaire du Stock'!B23)),"",HYPERLINK("#$'Inventaire du Stock'.B"&ROW()+2,INDIRECT("'inventaire du stock'!b"&ROW()+2))) | B21: =IF(A21="","",ROW()+2) | D21: =IFERROR(HYPERLINK(CONCATENATE("#","'inventaire du stock'!b",SMALL(B:B,ROW()-1)),INDIRECT("'inventaire du stock'!b"&SMALL(B:B,ROW()-1),1)),"")
A22: =IF(ISERROR(FIND(D$1,'Inventaire du Stock'!B24)),"",HYPERLINK("#$'Inventaire du Stock'.B"&ROW()+2,INDIRECT("'inventaire du stock'!b"&ROW()+2))) | B22: =IF(A22="","",ROW()+2)
A23: =IF(ISERROR(FIND(D$1,'Inventaire du Stock'!B25)),"",HYPERLINK("#$'Inventaire du Stock'.B"&ROW()+2,INDIRECT("'inventaire du stock'!b"&ROW()+2))) | B23: =IF(A23="","",ROW()+2)
A24: =IF(ISERROR(FIND(D$1,'Inventaire du Stock'!B26)),"",HYPERLINK("#$'Inventaire du Stock'.B"&ROW()+2,INDIRECT("'inventaire du stock'!b"&ROW()+2))) | B24: =IF(A24="","",ROW()+2)
A25: =IF(ISERROR(FIND(D$1,'Inventaire du Stock'!B27)),"",HYPERLINK("#$'Inventaire du Stock'.B"&ROW()+2,INDIRECT("'inventaire du stock'!b"&ROW()+2))) | B25: =IF(A25="","",ROW()+2)
A26: =IF(ISERROR(FIND(D$1,'Inventaire du Stock'!B28)),"",HYPERLINK("#$'Inventaire du Stock'.B"&ROW()+2,INDIRECT("'inventaire du stock'!b"&ROW()+2))) | B26: =IF(A26="","",ROW()+2)
A27: =IF(ISERROR(FIND(D$1,'Inventaire du Stock'!B29)),"",HYPERLINK("#$'Inventaire du Stock'.B"&ROW()+2,INDIRECT("'inventaire du stock'!b"&ROW()+2))) | B27: =IF(A27="","",ROW()+2)
A28: =IF(ISERROR(FIND(D$1,'Inventaire du Stock'!B30)),"",HYPERLINK("#$'Inventaire du Stock'.B"&ROW()+2,INDIRECT("'inventaire du stock'!b"&ROW()+2))) | B28: =IF(A28="","",ROW()+2)
A29: =IF(ISERROR(FIND(D$1,'Inventaire du Stock'!B31)),"",HYPERLINK("#$'Inventaire du Stock'.B"&ROW()+2,INDIRECT("'inventaire du stock'!b"&ROW()+2))) | B29: =IF(A29="","",ROW()+2)
A30: =IF(ISERROR(FIND(D$1,'Inventaire du Stock'!B32)),"",HYPERLINK("#$'Inventaire du Stock'.B"&ROW()+2,INDIRECT("'inventaire du stock'!b"&ROW()+2))) | B30: =IF(A30="","",ROW()+2)
A31: =IF(ISERROR(FIND(D$1,'Inventaire du Stock'!B33)),"",HYPERLINK("#$'Inventaire du Stock'.B"&ROW()+2,INDIRECT("'inventaire du stock'!b"&ROW()+2))) | B31: =IF(A31="","",ROW()+2)
A32: =IF(ISERROR(FIND(D$1,'Inventaire du Stock'!B34)),"",HYPERLINK("#$'Inventaire du Stock'.B"&ROW()+2,INDIRECT("'inventaire du stock'!b"&ROW()+2))) | B32: =IF(A32="","",ROW()+2)
A33: =IF(ISERROR(FIND(D$1,'Inventaire du Stock'!B35)),"",HYPERLINK("#$'Inventaire du Stock'.B"&ROW()+2,INDIRECT("'inventaire du stock'!b"&ROW()+2))) | B33: =IF(A33="","",ROW()+2)
... A350: =IF(ISERROR(FIND(D$1,'Inventaire du Stock'!B352)),"",HYPERLINK("#$'Inventaire du Stock'.B"&ROW()+2,INDIRECT("'inventaire du stock'!b"&ROW()+2))) | B350: =IF(A350="","",ROW()+2)
