Workbook

Sheet Inventaire du Stock
A1: ÉTAT DU STOCK ACTUEL AU 27/04/2018 à 10:34:14
A3: REFERENCE | B3: PRODUIT | C3: VOLUME | D3: QUANTITE EN STOCK | E3: TARIF | F3: TVA | G3: VALEUR | H3: CODE BARRES
A4: 3301 | B4: BTE 50 RATIONS SOUPE TOMATE/VERMICELLE KNORR | C4: U | G4: =_xlfn.AGGREGATE(6,6,D4*E4*(1+F4)) -> 0
A5: 6593 | B5: KG BLEU RECT. 50% MG PAIN 2 KG | C5: Kg | G5: =_xlfn.AGGREGATE(6,6,D5*E5*(1+F5)) -> 0
A6: 12880 | B6: C/120X20G GOUTER CHOCO REM LU | C6: Carton | D6: 12 | E6: 0.7 | F6: 0.055 | G6: =_xlfn.AGGREGATE(6,6,D6*E6*(1+F6)) -> 8.862
A7: 19927 | B7: SEAU 5KG MOUTARDE AMORA | C7: U | G7: =_xlfn.AGGREGATE(6,6,D7*E7*(1+F7)) -> 0
A8: 22855 | B8: K SPAGUETTI Q.S. LUSTUCRU S/5KG | C8: Kg | G8: =_xlfn.AGGREGATE(6,6,D8*E8*(1+F8)) -> 0
A9: 23713 | B9: CARTON 120X20G ALU MIEL DE FLEURS LIQUIDE | C9: Carton | G9: =_xlfn.AGGREGATE(6,6,D9*E9*(1+F9)) -> 0
A10: 029272-Ref-DT | B10: KG BRIE PCE 2.9 KG ENV 50% MG BRIDEL | C10: Kg | G10: =_xlfn.AGGREGATE(6,6,D10*E10*(1+F10)) -> 0
A11: 029272-DP-24 08 17 | B11: KG BRIE PCE 2.9 KG ENV 50% MG BRIDEL - /DP/ - 24 08 17 | C11: Kg | D11: 3.28 | E11: 4.5 | F11: 0.055 | G11: =_xlfn.AGGREGATE(6,6,D11*E11*(1+F11)) -> 15.5718
A12: 55558 | B12: LITRE CREME ANGLAISE UHT DANONE C/6 | C12: L | G12: =_xlfn.AGGREGATE(6,6,D12*E12*(1+F12)) -> 0
A13: 58388 | B13: BIDON 5L SAUCE SALADE GYMA | G13: =_xlfn.AGGREGATE(6,6,D13*E13*(1+F13)) -> 0
A14: 59816 | B14: C/80X20G KIRI CREME 65% MG BEL | C14: U | G14: =_xlfn.AGGREGATE(6,6,D14*E14*(1+F14)) -> 0
A15: 63743 | B15: C/150 R 2 PAIN D'EPICES 40 G LU | G15: =_xlfn.AGGREGATE(6,6,D15*E15*(1+F15)) -> 0
A16: 63958 | B16: CARTON 120 RAT. 2 CHAMONIX 25 GRS LU | C16: Carton | G16: =_xlfn.AGGREGATE(6,6,D16*E16*(1+F16)) -> 0
A17: 72751 | B17: KG SEMOULE DE BLE FINE SAC 5 KG | G17: =_xlfn.AGGREGATE(6,6,D17*E17*(1+F17)) -> 0
A18: 74948 | B18: C/100 CHIPS 30 GRS VICO | C18: Carton | G18: =_xlfn.AGGREGATE(6,6,D18*E18*(1+F18)) -> 0
A19: 80762 | B19: KG ROTI DE PORC LONGE S/OS 2,6 / 3,2 KG CHARAL | C19: Kg | G19: =_xlfn.AGGREGATE(6,6,D19*E19*(1+F19)) -> 0
A20: 81489 | B20: B/100 SHT SERVICE THE LIPTON YELLOW | C20: U | G20: =_xlfn.AGGREGATE(6,6,D20*E20*(1+F20)) -> 0
A21: 83816 | B21: C/96X22 GRS MINI BABYBEL ROUGE 45% MG | C21: Carton | G21: =_xlfn.AGGREGATE(6,6,D21*E21*(1+F21)) -> 0
A22: 86629 | B22: 5/1 BETTERAVE LANIERE D'AUCY | C22: U | G22: =_xlfn.AGGREGATE(6,6,D22*E22*(1+F22)) -> 0
A23: 878 | B23: DAVIGEL POIRE WILLIAMS 1.2 KG FRANCE | C23: U | G23: =_xlfn.AGGREGATE(6,6,D23*E23*(1+F23)) -> 0
A24: 9570 | B24: SALADIERE NICOISE THON 115GX24 SAUPIQUET | C24: U | G24: =_xlfn.AGGREGATE(6,6,D24*E24*(1+F24)) -> 0
A25: 9571 | B25: SALADIERE PARISIENNE THON 115GX24 SAUPIQUET | C25: U | G25: =_xlfn.AGGREGATE(6,6,D25*E25*(1+F25)) -> 0
A26: 987 | B26: CONFITURE DE FRAISE BARQ 30 GRS VALADE CARTON X 120 | C26: Carton | G26: =_xlfn.AGGREGATE(6,6,D26*E26*(1+F26)) -> 0
A27: 10008 | B27: MOUTARDE DIJON SEAU 5 KG CHARB | C27: U | G27: =_xlfn.AGGREGATE(6,6,D27*E27*(1+F27)) -> 0
A28: 10310 | B28: CURRY GOLD 440 GRS DUCROS | C28: U | G28: =_xlfn.AGGREGATE(6,6,D28*E28*(1+F28)) -> 0
A29: 103788 | B29: KG CUISSE POULET 180/200 GRS IQF DEJOINT | C29: Kg | G29: =_xlfn.AGGREGATE(6,6,D29*E29*(1+F29)) -> 0
... A31: 1262 | B31: COUPE PECHE MELBA CRT X 48 | C31: U | G31: =_xlfn.AGGREGATE(6,6,D31*E31*(1+F31)) -> 0
A32: 12782 | B32: EVENTAILS GAUFFRES 1.250 KG BUHLER | G32: =_xlfn.AGGREGATE(6,6,D32*E32*(1+F32)) -> 0
A33: 129395 | B33: C/120X37.5GRS CAKE AUX FRUITS ROCHER | G33: =_xlfn.AGGREGATE(6,6,D33*E33*(1+F33)) -> 0
A34: 130989 | B34: C/120X35G TRANCHE CAKE FRUITS ROCHER | G34: =_xlfn.AGGREGATE(6,6,D34*E34*(1+F34)) -> 0
A35: 136457 | B35: PCE 1 KG QUICHE LORRAINE BANDE S/ENTAME | G35: =_xlfn.AGGREGATE(6,6,D35*E35*(1+F35)) -> 0
A36: 13683 | B36: COUSCOUS MOYEN SAC DE 5 KG ZAKIA | G36: =_xlfn.AGGREGATE(6,6,D36*E36*(1+F36)) -> 0
A37: 140954 | B37: KG TOMME SAVOIE 45% MG 1,5 KG AFFORET | G37: =_xlfn.AGGREGATE(6,6,D37*E37*(1+F37)) -> 0
A38: 142026 | B38: BRICK 1L JUS ORANGE BOPI | G38: =_xlfn.AGGREGATE(6,6,D38*E38*(1+F38)) -> 0
A39: 143743 | B39: KG HACHE BOEUF GRAINS 15% MG 1KG CHI | G39: =_xlfn.AGGREGATE(6,6,D39*E39*(1+F39)) -> 0
A40: 14778 | B40: CORN FLAKES 1KG KELLOGGS | G40: =_xlfn.AGGREGATE(6,6,D40*E40*(1+F40)) -> 0
A41: 1524 | B41: EXTREME CHOCOLAT 16X120 ML ESP | G41: =_xlfn.AGGREGATE(6,6,D41*E41*(1+F41)) -> 0
A42: 15779 | B42: ARTICHAUT FOND 20/30 3/1 COHEVI | G42: =_xlfn.AGGREGATE(6,6,D42*E42*(1+F42)) -> 0
A43: 158709 | B43: K MACARONI Q.S. LUSTUCRU S/5KG | G43: =_xlfn.AGGREGATE(6,6,D43*E43*(1+F43)) -> 0
... A54: 196529 | B54: KG OIGNONS EMINCES 6-8 mm 2K5 PRIMANCE | G54: =_xlfn.AGGREGATE(6,6,D54*E54*(1+F54)) -> 0
A55: 196547 | B55: KG PRINTANIERE DE LEGUMES 2K5 PRIMANCE | C55: Kg | G55: =_xlfn.AGGREGATE(6,6,D55*E55*(1+F55)) -> 0
A56: 202125 | B56: FRUISS MENTHE S/SUCRE 1L ROUTIN | C56: U | G56: =_xlfn.AGGREGATE(6,6,D56*E56*(1+F56)) -> 0
A57: 20214 | B57: FRUISS CITRON S/SUCRE 1L ROUTIN | C57: U | G57: =_xlfn.AGGREGATE(6,6,D57*E57*(1+F57)) -> 0
A58: 20235 | B58: SIROP CITRON 1 LITRE FRUISCO | C58: U | G58: =_xlfn.AGGREGATE(6,6,D58*E58*(1+F58)) -> 0
A59: 20237 | B59: SIROP GRENADINE 1L FRUISCO | C59: U | G59: =_xlfn.AGGREGATE(6,6,D59*E59*(1+F59)) -> 0
A60: 20499 | B60: CORNICHONS 60/79 BTE 5/1 VALTONIA | C60: U | G60: =_xlfn.AGGREGATE(6,6,D60*E60*(1+F60)) -> 0
A61: 20647 | B61: JUS VEAU LIE 750 GRS/30 L KNORR | C61: U | G61: =_xlfn.AGGREGATE(6,6,D61*E61*(1+F61)) -> 0
A62: 20654 | B62: FUMET DE POISSON 750 G/50 L KNOOR | C62: U | G62: =_xlfn.AGGREGATE(6,6,D62*E62*(1+F62)) -> 0
A63: 207329 | B63: 5/1 COCKTAIL FRUIT SIROP PRIMANCE | C63: U | G63: =_xlfn.AGGREGATE(6,6,D63*E63*(1+F63)) -> 0
A64: 210716 | B64: CARTON 110X55 GRS PETIT PAIN 13 CM PRECUIT | C64: U | G64: =_xlfn.AGGREGATE(6,6,D64*E64*(1+F64)) -> 0
A65: 210774 | B65: 5/1 PETITS POIS TF CAROT. PRIMANCE | C65: U | G65: =_xlfn.AGGREGATE(6,6,D65*E65*(1+F65)) -> 0
A66: 211688 | B66: 4/4 MAIS DOUX SOUS VIDE PRIMANCE | C66: U | G66: =_xlfn.AGGREGATE(6,6,D66*E66*(1+F66)) -> 0
... A99: 28711 | B99: CHOCO COUV 49,5% PAIN 2K5 PUPIER | C99: Kg | G99: =_xlfn.AGGREGATE(6,6,D99*E99*(1+F99)) -> 0
A100: 295295 | B100: CART 120X20 G PATE A TARTINER CHOCO/NOISETTE GYMA | C100: Carton | D100: 1 | E100: 0.2 | F100: 0.21 | G100: =_xlfn.AGGREGATE(6,6,D100*E100*(1+F100)) -> 0.242
A101: 302083 | B101: SCHT 950 GRS BONBONS ASSORTIS DOLIS | C101: U | G101: =_xlfn.AGGREGATE(6,6,D101*E101*(1+F101)) -> 0
A102: 31450 | B102: THON LISTAO MCX 4/4 VALTONIA | C102: U | G102: =_xlfn.AGGREGATE(6,6,D102*E102*(1+F102)) -> 0
A103: 3220 | B103: QUEUE DE CREVETTE DECORTIQUEE SCHT 500 GRS | C103: U | G103: =_xlfn.AGGREGATE(6,6,D103*E103*(1+F103)) -> 0
A104: 333946 | B104: A10 COCKTAIL FRUITS EXOTIQUES | C104: U | G104: =_xlfn.AGGREGATE(6,6,D104*E104*(1+F104)) -> 0
A105: 33736 | B105: CAFE MOULU 50A/ 50R 1KG DEBRIO | C105: Kg | G105: =_xlfn.AGGREGATE(6,6,D105*E105*(1+F105)) -> 0
A106: 33800 | B106: CONFITURE ABRICOT PL. 30GRSX120 VALTONIA | C106: Kg | G106: =_xlfn.AGGREGATE(6,6,D106*E106*(1+F106)) -> 0
A107: 33802 | B107: CONFITURE FRAISE PL. 30GRX120 VALTONIA | C107: Carton | G107: =_xlfn.AGGREGATE(6,6,D107*E107*(1+F107)) -> 0
A108: 359554 | B108: C/60 X70 GRS FEUILLETE HOT DOG | C108: U | G108: =_xlfn.AGGREGATE(6,6,D108*E108*(1+F108)) -> 0
A109: 3600 | B109: FRAMBOISIER VANILLE MADAGASCAR 1,055 KG FRA | C109: U | G109: =_xlfn.AGGREGATE(6,6,D109*E109*(1+F109)) -> 0
A110: 360271 | B110: KG BEURRE DOUX PLAQUETTE 250 GRS | C110: Kg | G110: =_xlfn.AGGREGATE(6,6,D110*E110*(1+F110)) -> 0
A111: 360685 | B111: C/ 48 X125 G YAOURT NATURE DANONE | C111: U | G111: =_xlfn.AGGREGATE(6,6,D111*E111*(1+F111)) -> 0
A112: 3607 | B112: OPERA 950 GRS FRANCE | C112: U | G112: =_xlfn.AGGREGATE(6,6,D112*E112*(1+F112)) -> 0
... A244: 9620 | B244: SAUCISSON SEC PUR PORC SUPERIEUR PCE DE 1,4 KG | C244: Kg | G244: =_xlfn.AGGREGATE(6,6,D244*E244*(1+F244)) -> 0
A245: OO174330 | B245: Kit visiteur jetable 4 pièces en sachet de 10 MUTEXIL | C245: U | G245: =_xlfn.AGGREGATE(6,6,D245*E245*(1+F245)) -> 0
A246: OO11751 | B246: Aluminium en boîte distributrice 45 x 200 m ASSAINYTHOL | C246: U | G246: =_xlfn.AGGREGATE(6,6,D246*E246*(1+F246)) -> 0
A247: OO11729 | B247: Aluminium en boîte distributrice 30 cm x 200 m ASSAINYTHOL | C247: U | G247: =_xlfn.AGGREGATE(6,6,D247*E247*(1+F247)) -> 0
A248: OO23112 | B248: Godet en aluminium 125 cc en paquet de 100 PUBLIEMBAL | C248: U | G248: =_xlfn.AGGREGATE(6,6,D248*E248*(1+F248)) -> 0
A249: oo11718 | B249: Film PVC en boîte distributrice 45 cm x 300 m ASSAINYTHOL | C249: U | G249: =_xlfn.AGGREGATE(6,6,D249*E249*(1+F249)) -> 0
A250: oo11715 | B250: Film PVC en boîte distributrice 30 cm x 300 m ASSAINYTHOL | C250: U | G250: =_xlfn.AGGREGATE(6,6,D250*E250*(1+F250)) -> 0
A251: oo174440 | B251: Calot réglable blanc en papier en boîte de 100 MUTEXIL | C251: U | G251: =_xlfn.AGGREGATE(6,6,D251*E251*(1+F251)) -> 0
A252: oo62984 | B252: Boîte charnière avec couvercle 500 cc en sachet de 50 ALPHAFORM | C252: U | G252: =_xlfn.AGGREGATE(6,6,D252*E252*(1+F252)) -> 0
A253: oo34234 | B253: Décontaminant pour végétaux (légume et fruit) en bidon 5 kg ASPEC | C253: U | G253: =_xlfn.AGGREGATE(6,6,D253*E253*(1+F253)) -> 0
A254: oo174544 | B254: Charlotte clip blanche en polypropylène en sachet de 100 MUTEXIL | C254: U | G254: =_xlfn.AGGREGATE(6,6,D254*E254*(1+F254)) -> 0
A255: o174547 | B255: Charlotte à visière blanche en polypropylène en boîte de 100 MUTEXIL | C255: U | G255: =_xlfn.AGGREGATE(6,6,D255*E255*(1+F255)) -> 0
A256: oo89767 | B256: Gant jetable blanc en latex taille 7/8 en boîte de 100 | C256: U | G256: =_xlfn.AGGREGATE(6,6,D256*E256*(1+F256)) -> 0
... A279: oo91662 | B279: Sac poubelle lien classique noir 110 L en rouleau de 20 BARBIER | C279: U | G279: =_xlfn.AGGREGATE(6,6,D279*E279*(1+F279)) -> 0
A280: 97348 | B280: C'SIMPLE LIQUIDE PLONGE DESINFECTANT 5 L | C280: U | G280: =_xlfn.AGGREGATE(6,6,D280*E280*(1+F280)) -> 0
A281: 2835 | B281: EXCEL ARGOS DÉTERGENT CHAMBRE FROIDE 5L | C281: U | G281: =_xlfn.AGGREGATE(6,6,D281*E281*(1+F281)) -> 0
A282: 1386 | B282: CARÉLYS LINGETTES ALIMENTAIRES DESINFECTANTES BTE DE 200 | C282: U | G282: =_xlfn.AGGREGATE(6,6,D282*E282*(1+F282)) -> 0
A283: oo14620 | B283: Détergent dégraissant désinfectant en bidon 5 kg ASSAINYTHOL | C283: U | G283: =_xlfn.AGGREGATE(6,6,D283*E283*(1+F283)) -> 0
A284: o137224 | B284: Liquide dégraissant four friteuse en bidon 5 kg ASSAINYTHOL | C284: U | G284: =_xlfn.AGGREGATE(6,6,D284*E284*(1+F284)) -> 0
A285: oo34794 | B285: Liquide biologique entretien bac à graisse en bidon 5 kg ASSAINYTHOL | C285: U | G285: =_xlfn.AGGREGATE(6,6,D285*E285*(1+F285)) -> 0
A286: oo137282 | B286: Désinfectant sans rinçage en pulvérisateur 500 ml ASSAINYTHOL | C286: U | G286: =_xlfn.AGGREGATE(6,6,D286*E286*(1+F286)) -> 0
A287: oo63843 | B287: Détergent dégraissant désinfectant D10.1 en bidon 5 L SUMA | C287: U | G287: =_xlfn.AGGREGATE(6,6,D287*E287*(1+F287)) -> 0
A288: o174595 | B288: Anti parasites en aérosol 250 ml KING DERM'ALPES | C288: U | G288: =_xlfn.AGGREGATE(6,6,D288*E288*(1+F288)) -> 0
A289: ooo7958 | B289: Javel à 2,6% de chlore actif en bidon 5 L | C289: U | G289: =_xlfn.AGGREGATE(6,6,D289*E289*(1+F289)) -> 0
A290: o137239 | B290: Décrassant surpuissant sols en bidon 5 kg ASSAINYTHOL | C290: U | G290: =_xlfn.AGGREGATE(6,6,D290*E290*(1+F290)) -> 0
A291: oo12997 | B291: Nettoyant vitres et surfaces en bidon 5L ASSAINYTHOL | C291: U | G291: =_xlfn.AGGREGATE(6,6,D291*E291*(1+F291)) -> 0
A292: oo23648 | B292: Liquide assouplissant concentré parfum floral en bidon 5 kg ASSAINYTHOL | C292: U | G292: =_xlfn.AGGREGATE(6,6,D292*E292*(1+F292)) -> 0
A293: oo11322 | B293: Lessive en poudre tous textiles en sac 12 kg ASSAINYTHOL | C293: Kg | G293: =_xlfn.AGGREGATE(6,6,D293*E293*(1+F293)) -> 0
A294: oo50044 | B294: Lessive liquide concentrée tous textiles parfum fraîcheur alpine en bidon 5 kg ASSAINYTHOL | C294: U | G294: =_xlfn.AGGREGATE(6,6,D294*E294*(1+F294)) -> 0
... A311: 0091609 | B311: Housse trancheuse transparente en rouleau de 25 BARBIER | C311: U | G311: =_xlfn.AGGREGATE(6,6,D311*E311*(1+F311)) -> 0
A312: 740 | B312: EXCEL ARGOS DECAPANT FRITEUSE POUDRE SEAU 10 KG | C312: U | G312: =_xlfn.AGGREGATE(6,6,D312*E312*(1+F312)) -> 0
A313: 1337 | B313: L.V.E. DÉCAPANT FOUR AÉROSOL 600ML | C313: U | G313: =_xlfn.AGGREGATE(6,6,D313*E313*(1+F313)) -> 0
...

Sheet Recherche
D1: RLX
A2: =IF(ISERROR(FIND(D$1,'Inventaire du Stock'!B4)),"",HYPERLINK("#$'Inventaire du Stock'.B"&ROW()+2,INDIRECT("'inventaire du stock'!b"&ROW()+2))) | B2: =IF(A2="","",ROW()+2) | D2: =IFERROR(HYPERLINK(CONCATENATE("#","'inventaire du stock'!b",SMALL(B:B,ROW()-1)),INDIRECT("'inventaire du stock'!b"&SMALL(B:B,ROW()-1),1)),"") -> RLX ALU 200MX0.45 11 MI BTE DISTRIBUTRICE
A3: =IF(ISERROR(FIND(D$1,'Inventaire du Stock'!B5)),"",HYPERLINK("#$'Inventaire du Stock'.B"&ROW()+2,INDIRECT("'inventaire du stock'!b"&ROW()+2))) | B3: =IF(A3="","",ROW()+2) | D3: =IFERROR(HYPERLINK(CONCATENATE("#","'inventaire du stock'!b",SMALL(B:B,ROW()-1)),INDIRECT("'inventaire du stock'!b"&SMALL(B:B,ROW()-1),1)),"")
A4: =IF(ISERROR(FIND(D$1,'Inventaire du Stock'!B6)),"",HYPERLINK("#$'Inventaire du Stock'.B"&ROW()+2,INDIRECT("'inventaire du stock'!b"&ROW()+2))) | B4: =IF(A4="","",ROW()+2) | D4: =IFERROR(HYPERLINK(CONCATENATE("#","'inventaire du stock'!b",SMALL(B:B,ROW()-1)),INDIRECT("'inventaire du stock'!b"&SMALL(B:B,ROW()-1),1)),"")
A5: =IF(ISERROR(FIND(D$1,'Inventaire du Stock'!B7)),"",HYPERLINK("#$'Inventaire du Stock'.B"&ROW()+2,INDIRECT("'inventaire du stock'!b"&ROW()+2))) | B5: =IF(A5="","",ROW()+2) | D5: =IFERROR(HYPERLINK(CONCATENATE("#","'inventaire du stock'!b",SMALL(B:B,ROW()-1)),INDIRECT("'inventaire du stock'!b"&SMALL(B:B,ROW()-1),1)),"")
A6: =IF(ISERROR(FIND(D$1,'Inventaire du Stock'!B8)),"",HYPERLINK("#$'Inventaire du Stock'.B"&ROW()+2,INDIRECT("'inventaire du stock'!b"&ROW()+2))) | B6: =IF(A6="","",ROW()+2) | D6: =IFERROR(HYPERLINK(CONCATENATE("#","'inventaire du stock'!b",SMALL(B:B,ROW()-1)),INDIRECT("'inventaire du stock'!b"&SMALL(B:B,ROW()-1),1)),"")
A7: =IF(ISERROR(FIND(D$1,'Inventaire du Stock'!B9)),"",HYPERLINK("#$'Inventaire du Stock'.B"&ROW()+2,INDIRECT("'inventaire du stock'!b"&ROW()+2))) | B7: =IF(A7="","",ROW()+2) | D7: =IFERROR(HYPERLINK(CONCATENATE("#","'inventaire du stock'!b",SMALL(B:B,ROW()-1)),INDIRECT("'inventaire du stock'!b"&SMALL(B:B,ROW()-1),1)),"")
A8: =IF(ISERROR(FIND(D$1,'Inventaire du Stock'!B10)),"",HYPERLINK("#$'Inventaire du Stock'.B"&ROW()+2,INDIRECT("'inventaire du stock'!b"&ROW()+2))) | B8: =IF(A8="","",ROW()+2) | D8: =IFERROR(HYPERLINK(CONCATENATE("#","'inventaire du stock'!b",SMALL(B:B,ROW()-1)),INDIRECT("'inventaire du stock'!b"&SMALL(B:B,ROW()-1),1)),"")
A9: =IF(ISERROR(FIND(D$1,'Inventaire du Stock'!B11)),"",HYPERLINK("#$'Inventaire du Stock'.B"&ROW()+2,INDIRECT("'inventaire du stock'!b"&ROW()+2))) | B9: =IF(A9="","",ROW()+2) | D9: =IFERROR(HYPERLINK(CONCATENATE("#","'inventaire du stock'!b",SMALL(B:B,ROW()-1)),INDIRECT("'inventaire du stock'!b"&SMALL(B:B,ROW()-1),1)),"")
A10: =IF(ISERROR(FIND(D$1,'Inventaire du Stock'!B12)),"",HYPERLINK("#$'Inventaire du Stock'.B"&ROW()+2,INDIRECT("'inventaire du stock'!b"&ROW()+2))) | B10: =IF(A10="","",ROW()+2) | D10: =IFERROR(HYPERLINK(CONCATENATE("#","'inventaire du stock'!b",SMALL(B:B,ROW()-1)),INDIRECT("'inventaire du stock'!b"&SMALL(B:B,ROW()-1),1)),"")
A11: =IF(ISERROR(FIND(D$1,'Inventaire du Stock'!B13)),"",HYPERLINK("#$'Inventaire du Stock'.B"&ROW()+2,INDIRECT("'inventaire du stock'!b"&ROW()+2))) | B11: =IF(A11="","",ROW()+2) | D11: =IFERROR(HYPERLINK(CONCATENATE("#","'inventaire du stock'!b",SMALL(B:B,ROW()-1)),INDIRECT("'inventaire du stock'!b"&SMALL(B:B,ROW()-1),1)),"")
A12: =IF(ISERROR(FIND(D$1,'Inventaire du Stock'!B14)),"",HYPERLINK("#$'Inventaire du Stock'.B"&ROW()+2,INDIRECT("'inventaire du stock'!b"&ROW()+2))) | B12: =IF(A12="","",ROW()+2) | D12: =IFERROR(HYPERLINK(CONCATENATE("#","'inventaire du stock'!b",SMALL(B:B,ROW()-1)),INDIRECT("'inventaire du stock'!b"&SMALL(B:B,ROW()-1),1)),"")
A13: =IF(ISERROR(FIND(D$1,'Inventaire du Stock'!B15)),"",HYPERLINK("#$'Inventaire du Stock'.B"&ROW()+2,INDIRECT("'inventaire du stock'!b"&ROW()+2))) | B13: =IF(A13="","",ROW()+2) | D13: =IFERROR(HYPERLINK(CONCATENATE("#","'inventaire du stock'!b",SMALL(B:B,ROW()-1)),INDIRECT("'inventaire du stock'!b"&SMALL(B:B,ROW()-1),1)),"")
... A21: =IF(ISERROR(FIND(D$1,'Inventaire du Stock'!B23)),"",HYPERLINK("#$'Inventaire du Stock'.B"&ROW()+2,INDIRECT("'inventaire du stock'!b"&ROW()+2))) | B21: =IF(A21="","",ROW()+2) | D21: =IFERROR(HYPERLINK(CONCATENATE("#","'inventaire du stock'!b",SMALL(B:B,ROW()-1)),INDIRECT("'inventaire du stock'!b"&SMALL(B:B,ROW()-1),1)),"")
A22: =IF(ISERROR(FIND(D$1,'Inventaire du Stock'!B24)),"",HYPERLINK("#$'Inventaire du Stock'.B"&ROW()+2,INDIRECT("'inventaire du stock'!b"&ROW()+2))) | B22: =IF(A22="","",ROW()+2)
A23: =IF(ISERROR(FIND(D$1,'Inventaire du Stock'!B25)),"",HYPERLINK("#$'Inventaire du Stock'.B"&ROW()+2,INDIRECT("'inventaire du stock'!b"&ROW()+2))) | B23: =IF(A23="","",ROW()+2)
A24: =IF(ISERROR(FIND(D$1,'Inventaire du Stock'!B26)),"",HYPERLINK("#$'Inventaire du Stock'.B"&ROW()+2,INDIRECT("'inventaire du stock'!b"&ROW()+2))) | B24: =IF(A24="","",ROW()+2)
A25: =IF(ISERROR(FIND(D$1,'Inventaire du Stock'!B27)),"",HYPERLINK("#$'Inventaire du Stock'.B"&ROW()+2,INDIRECT("'inventaire du stock'!b"&ROW()+2))) | B25: =IF(A25="","",ROW()+2)
A26: =IF(ISERROR(FIND(D$1,'Inventaire du Stock'!B28)),"",HYPERLINK("#$'Inventaire du Stock'.B"&ROW()+2,INDIRECT("'inventaire du stock'!b"&ROW()+2))) | B26: =IF(A26="","",ROW()+2)
A27: =IF(ISERROR(FIND(D$1,'Inventaire du Stock'!B29)),"",HYPERLINK("#$'Inventaire du Stock'.B"&ROW()+2,INDIRECT("'inventaire du stock'!b"&ROW()+2))) | B27: =IF(A27="","",ROW()+2)
A28: =IF(ISERROR(FIND(D$1,'Inventaire du Stock'!B30)),"",HYPERLINK("#$'Inventaire du Stock'.B"&ROW()+2,INDIRECT("'inventaire du stock'!b"&ROW()+2))) | B28: =IF(A28="","",ROW()+2)
A29: =IF(ISERROR(FIND(D$1,'Inventaire du Stock'!B31)),"",HYPERLINK("#$'Inventaire du Stock'.B"&ROW()+2,INDIRECT("'inventaire du stock'!b"&ROW()+2))) | B29: =IF(A29="","",ROW()+2)
A30: =IF(ISERROR(FIND(D$1,'Inventaire du Stock'!B32)),"",HYPERLINK("#$'Inventaire du Stock'.B"&ROW()+2,INDIRECT("'inventaire du stock'!b"&ROW()+2))) | B30: =IF(A30="","",ROW()+2)
A31: =IF(ISERROR(FIND(D$1,'Inventaire du Stock'!B33)),"",HYPERLINK("#$'Inventaire du Stock'.B"&ROW()+2,INDIRECT("'inventaire du stock'!b"&ROW()+2))) | B31: =IF(A31="","",ROW()+2)
A32: =IF(ISERROR(FIND(D$1,'Inventaire du Stock'!B34)),"",HYPERLINK("#$'Inventaire du Stock'.B"&ROW()+2,INDIRECT("'inventaire du stock'!b"&ROW()+2))) | B32: =IF(A32="","",ROW()+2)
A33: =IF(ISERROR(FIND(D$1,'Inventaire du Stock'!B35)),"",HYPERLINK("#$'Inventaire du Stock'.B"&ROW()+2,INDIRECT("'inventaire du stock'!b"&ROW()+2))) | B33: =IF(A33="","",ROW()+2)
... A350: =IF(ISERROR(FIND(D$1,'Inventaire du Stock'!B352)),"",HYPERLINK("#$'Inventaire du Stock'.B"&ROW()+2,INDIRECT("'inventaire du stock'!b"&ROW()+2))) | B350: =IF(A350="","",ROW()+2)
