Workbook

Sheet rev
B2: PERIODICITE ENTRETIEN | D2: =INDIRECT("'PRECO CONSTRUCTEUR'!F"&SMALL('PRECO CONSTRUCTEUR'!$G$1:$G$24,1),1) -> VIDANGE FILTRES AIR HUILE GAZOLE HABITACLE
B3: A EFFECTUER
F7: Model Description | H7: Marque | J7: fuel
H8: RENAULT | J8: GO
F10: Modele Code | H10: Serial
D12: KM
D13: 61000
B16: j aimerai que dans la colonne D2, cela puisse me ramener la préconisation du constructeur selon le km de celui-ci
B17: dans cet exemple le véhicule renault a 61000 km donc tous les filtres c est un DIESEL
B18: si ess je remplace les 4 bougies

Sheet PRECO CONSTRUCTEUR
A1: AUDIESS | B1: AUDI | C1: ESS | D1: 1 ere revision | F1: VIDANGE FILTRE HUILE | G1: =IF(AND(CONCATENATE(rev!$H$8,rev!$J$8)=A1,rev!$D$13<=E1*1.2,rev!$D$13>=E1*0.8),ROW(),"")
A2: AUDIESS | B2: AUDI | C2: ESS | D2: 2 eme revision | G2: =IF(AND(CONCATENATE(rev!$H$8,rev!$J$8)=A2,rev!$D$13<=E2*1.2,rev!$D$13>=E2*0.8),ROW(),"")
A3: AUDIGO | B3: AUDI | C3: GO | D3: 1 ere revision | E3: 30000 | F3: VIDANGE FILTRE HUILE | G3: =IF(AND(CONCATENATE(rev!$H$8,rev!$J$8)=A3,rev!$D$13<=E3*1.2,rev!$D$13>=E3*0.8),ROW(),"")
A4: AUDIGO | B4: AUDI | C4: GO | D4: 2 eme revision | E4: 60000 | G4: =IF(AND(CONCATENATE(rev!$H$8,rev!$J$8)=A4,rev!$D$13<=E4*1.2,rev!$D$13>=E4*0.8),ROW(),"")
A5: BMWESS | B5: BMW | C5: ESS | D5: 1 ere revision | F5: VIDANGE FILTRE HUILE | G5: =IF(AND(CONCATENATE(rev!$H$8,rev!$J$8)=A5,rev!$D$13<=E5*1.2,rev!$D$13>=E5*0.8),ROW(),"")
A6: BMWESS | B6: BMW | C6: ESS | D6: 2 eme revision | G6: =IF(AND(CONCATENATE(rev!$H$8,rev!$J$8)=A6,rev!$D$13<=E6*1.2,rev!$D$13>=E6*0.8),ROW(),"")
A7: BMWGO | B7: BMW | C7: GO | D7: 1 ere revision | E7: 30000 | F7: VIDANGE FILTRE HUILE | G7: =IF(AND(CONCATENATE(rev!$H$8,rev!$J$8)=A7,rev!$D$13<=E7*1.2,rev!$D$13>=E7*0.8),ROW(),"")
A8: BMWGO | B8: BMW | C8: GO | D8: 2 eme revision | G8: =IF(AND(CONCATENATE(rev!$H$8,rev!$J$8)=A8,rev!$D$13<=E8*1.2,rev!$D$13>=E8*0.8),ROW(),"")
A9: CITROENESS | B9: CITROEN | C9: ESS | D9: 1 ere revision | E9: 25000 | F9: VIDANGE FILTRE HUILE | G9: =IF(AND(CONCATENATE(rev!$H$8,rev!$J$8)=A9,rev!$D$13<=E9*1.2,rev!$D$13>=E9*0.8),ROW(),"")
A10: CITROENESS | B10: CITROEN | C10: ESS | D10: 2 eme revision | E10: 50000 | F10: VIDANGE FILTRE HUILE AIR BOUGIES | G10: =IF(AND(CONCATENATE(rev!$H$8,rev!$J$8)=A10,rev!$D$13<=E10*1.2,rev!$D$13>=E10*0.8),ROW(),"")
A11: CITROENGO | B11: CITROEN | C11: GO | D11: 1 ere revision | E11: 25000 | F11: VIDANGE FILTRE HUILE | G11: =IF(AND(CONCATENATE(rev!$H$8,rev!$J$8)=A11,rev!$D$13<=E11*1.2,rev!$D$13>=E11*0.8),ROW(),"")
A12: CITROENGO | B12: CITROEN | C12: GO | D12: 2 eme revision | E12: 50000 | F12: VIDANGE FILTRE HUILE AIR GAZOLE | G12: =IF(AND(CONCATENATE(rev!$H$8,rev!$J$8)=A12,rev!$D$13<=E12*1.2,rev!$D$13>=E12*0.8),ROW(),"")
A13: FIATESS | B13: FIAT | C13: ESS | D13: 1 ere revision | E13: 40000 | F13: VIDANGE FILTRE HUILE | G13: =IF(AND(CONCATENATE(rev!$H$8,rev!$J$8)=A13,rev!$D$13<=E13*1.2,rev!$D$13>=E13*0.8),ROW(),"")
A14: FIATESS | B14: FIAT | C14: ESS | D14: 2 eme revision | G14: =IF(AND(CONCATENATE(rev!$H$8,rev!$J$8)=A14,rev!$D$13<=E14*1.2,rev!$D$13>=E14*0.8),ROW(),"")
A15: FIATGO | B15: FIAT | C15: GO | D15: 1 ere revision | E15: 40000 | F15: VIDANGE FILTRE HUILE | G15: =IF(AND(CONCATENATE(rev!$H$8,rev!$J$8)=A15,rev!$D$13<=E15*1.2,rev!$D$13>=E15*0.8),ROW(),"")
A16: FIATGO | B16: FIAT | C16: GO | D16: 2 eme revision | G16: =IF(AND(CONCATENATE(rev!$H$8,rev!$J$8)=A16,rev!$D$13<=E16*1.2,rev!$D$13>=E16*0.8),ROW(),"")
A17: FORDESS | B17: FORD | C17: ESS | D17: 1 ere revision | E17: 20000 | F17: VIDANGE FILTRE HUILE | G17: =IF(AND(CONCATENATE(rev!$H$8,rev!$J$8)=A17,rev!$D$13<=E17*1.2,rev!$D$13>=E17*0.8),ROW(),"")
A18: FORDESS | B18: FORD | C18: ESS | D18: 2 eme revision | G18: =IF(AND(CONCATENATE(rev!$H$8,rev!$J$8)=A18,rev!$D$13<=E18*1.2,rev!$D$13>=E18*0.8),ROW(),"")
A19: FORDGO | B19: FORD | C19: GO | D19: 1 ere revision | E19: 20000 | F19: VIDANGE FILTRE HUILE | G19: =IF(AND(CONCATENATE(rev!$H$8,rev!$J$8)=A19,rev!$D$13<=E19*1.2,rev!$D$13>=E19*0.8),ROW(),"")
A20: FORDGO | B20: FORD | C20: GO | D20: 2 eme revision | G20: =IF(AND(CONCATENATE(rev!$H$8,rev!$J$8)=A20,rev!$D$13<=E20*1.2,rev!$D$13>=E20*0.8),ROW(),"")
A21: RENAULTESS | B21: RENAULT | C21: ESS | D21: 1 ere revision | E21: 30000 | F21: VIDANGE FILTRE HUILE | G21: =IF(AND(CONCATENATE(rev!$H$8,rev!$J$8)=A21,rev!$D$13<=E21*1.2,rev!$D$13>=E21*0.8),ROW(),"")
A22: RENAULTESS | B22: RENAULT | C22: ESS | D22: 2 eme revision | E22: 60000 | F22: VIDANGE FILTRES AIR HUILE BOUGIES HABITACLE | G22: =IF(AND(CONCATENATE(rev!$H$8,rev!$J$8)=A22,rev!$D$13<=E22*1.2,rev!$D$13>=E22*0.8),ROW(),"")
A23: RENAULTGO | B23: RENAULT | C23: GO | D23: 1 ere revision | E23: 30000 | F23: VIDANGE FILTRE HUILE | G23: =IF(AND(CONCATENATE(rev!$H$8,rev!$J$8)=A23,rev!$D$13<=E23*1.2,rev!$D$13>=E23*0.8),ROW(),"")
A24: RENAULTGO | B24: RENAULT | C24: GO | D24: 2 eme revision | E24: 60000 | F24: VIDANGE FILTRES AIR HUILE GAZOLE HABITACLE | G24: =IF(AND(CONCATENATE(rev!$H$8,rev!$J$8)=A24,rev!$D$13<=E24*1.2,rev!$D$13>=E24*0.8),ROW(),"") -> 24
