Workbook

Sheet CHARLEBOURG
B1: Centre bus: | C1: CHARLEBOURG
B2: Adresse: | C2: 41, Boulevard National 92250 La Garenne Colombes
A3: Lignes: | B3: Destination: | C3: <-> | D3: Destination
A4: 73 | B4: LA GARENNE-COLOMBES CHARLEBOURG | C4: LA DÉFENSE | D4: MUSÉE D'ORSAY | F4: =IF(OR(Résultat!A$1=B4,Résultat!A$1=D4),ROW(),"")
A5: 93 | B5: SURESNES - DE GAULLE | D5: INVALIDES | F5: =IF(OR(Résultat!A$1=B5,Résultat!A$1=D5),ROW(),"")
A6: 144 | B6: RUEIL-MALMAISON RER | C6: SURESNES - DE GAULLE | D6: LA DÉFENSE | F6: =IF(OR(Résultat!A$1=B6,Résultat!A$1=D6),ROW(),"") -> 6
A7: 163 | B7: NANTERRE-PRÉFECTURE RER | D7: PORTE DE CHAMPERRET | F7: =IF(OR(Résultat!A$1=B7,Résultat!A$1=D7),ROW(),"")
A8: 164 | B8: ARGENTEUIL - COLLÈGE CLAUDE MONET | D8: PORTE DE CHAMPERRET | F8: =IF(OR(Résultat!A$1=B8,Résultat!A$1=D8),ROW(),"")
A9: 165 | B9: PORTE DE CHAMPERRET | D9: ASNIÈRES - 18 JUIN 1940 | F9: =IF(OR(Résultat!A$1=B9,Résultat!A$1=D9),ROW(),"")
A10: 167 | B10: COLOMBES - AUDRA | D10: PONT DE LEVALLOIS | F10: =IF(OR(Résultat!A$1=B10,Résultat!A$1=D10),ROW(),"")
A11: 175 | B11: PORTE DE SAINT-CLOUD | D11: ASNIÈRES-GENNEVILLIERS - GABRIEL PÉRI | F11: =IF(OR(Résultat!A$1=B11,Résultat!A$1=D11),ROW(),"")
A12: 176 | B12: COLOMBES - PETIT GENNEVILLIERS | C12: ÉGLISE DE COLOMBES | D12: PONT DE NEUILLY | F12: =IF(OR(Résultat!A$1=B12,Résultat!A$1=D12),ROW(),"")
A13: 262 | B13: GARE DE MAISONS-LAFFITE RER | D13: PONT DE BEZONS | F13: =IF(OR(Résultat!A$1=B13,Résultat!A$1=D13),ROW(),"")
A14: 276 | B14: LA DÉFENSE | D14: ASNIÈRES-GENNEVILLIERS - LES COURTILLES | F14: =IF(OR(Résultat!A$1=B14,Résultat!A$1=D14),ROW(),"") -> 14
A15: 360 | B15: HOPITAL DE GARCHES | D15: LA DÉFENSE | F15: =IF(OR(Résultat!A$1=B15,Résultat!A$1=D15),ROW(),"") -> 15
A16: 366 | B16: ÉGLISE DE COLOMBES | D16: ASNIÈRES - BORDS DE SEINE | F16: =IF(OR(Résultat!A$1=B16,Résultat!A$1=D16),ROW(),"")
A17: 378 | B17: NANTERRE-VILLE RER | D17: ASNIÈRES-GENNEVILLIERS - LES COURTILLES | F17: =IF(OR(Résultat!A$1=B17,Résultat!A$1=D17),ROW(),"")
A18: Buséolien 1 | B18: CIMETIÈRE NOUVEAU | D18: ÉCOLE DES SPORTS - ÎLE DE PUTEAUX | F18: =IF(OR(Résultat!A$1=B18,Résultat!A$1=D18),ROW(),"")
A19: Buséolien 2 | B19: CIMETIÈRE NOUVEAU | D19: CONSERVATOIRE PRESENSSÉ | F19: =IF(OR(Résultat!A$1=B19,Résultat!A$1=D19),ROW(),"")
A20: 566 | B20: RUE DE L'INDUSTRIE | C20: (CIRCULAIRE COLOMBES) | D20: RUE DE L'INDUSTRIE | F20: =IF(OR(Résultat!A$1=B20,Résultat!A$1=D20),ROW(),"")
A21: NOCTILIEN
A22: N11 | B22: PONT DE NEUILLY | D22: CHÂTEAU DE VINCENNES | F22: =IF(OR(Résultat!A$1=B22,Résultat!A$1=D22),ROW(),"")
A23: N24 | B23: BEZONS - GRAND CERF | D23: CHATELET | F23: =IF(OR(Résultat!A$1=B23,Résultat!A$1=D23),ROW(),"")
C54: Centre bus: | D54: CHARLEBOURG

Sheet NANTERRE
B1: Centre bus: | C1: NANTERRE
B2: Adresse: | C2: 31, Rue Kléber 92000 Nanterre
A3: Lignes: | B3: Destination: | C3: <-> | D3: Destination
A4: 141 | B4: LYCEE DE RUEIL-MALMAISON | D4: LA DÉFENSE | F4: =IF(OR(Résultat!A$1=B4,Résultat!A$1=D4),ROW(),"") -> 4
A5: 157 | B5: NANTERRE - BOULEVARD DE LA SEINE | D5: PONT DE NEUILLY | F5: =IF(OR(Résultat!A$1=B5,Résultat!A$1=D5),ROW(),"")
A6: 158 | B6: RUEIL-MALMAISON RER | D6: PONT DE NEUILLY | F6: =IF(OR(Résultat!A$1=B6,Résultat!A$1=D6),ROW(),"")
A7: 159 | B7: NANTERRE - CITE DU VIEUX PONT | D7: LA DÉFENSE | F7: =IF(OR(Résultat!A$1=B7,Résultat!A$1=D7),ROW(),"") -> 7
A8: 160 | B8: NANTERRE-PRÉFECTURE RER | D8: PONT DE SAINT-CLOUD - ALBERT KAHN | F8: =IF(OR(Résultat!A$1=B8,Résultat!A$1=D8),ROW(),"")
A9: 241 | B9: RUEIL-MALMAISON RER | D9: PORTE D'AUTEUIL | F9: =IF(OR(Résultat!A$1=B9,Résultat!A$1=D9),ROW(),"")
A10: 244 | B10: RUEIL-MALMAISON RER | D10: PORTE MAILLOT | F10: =IF(OR(Résultat!A$1=B10,Résultat!A$1=D10),ROW(),"")
A11: 258 | B11: RUEIL-MALMAISON - LA JONCHERE | D11: LA DÉFENSE | F11: =IF(OR(Résultat!A$1=B11,Résultat!A$1=D11),ROW(),"") -> 11
A12: 259 | B12: SAINT-GERMAIN-EN-LAYE RER | D12: NANTERRE - ANATOLE FRANCE. | F12: =IF(OR(Résultat!A$1=B12,Résultat!A$1=D12),ROW(),"")
A13: 272 | B13: SARTROUVILLE RER | D13: GARE D'ARGENTEUIL | F13: =IF(OR(Résultat!A$1=B13,Résultat!A$1=D13),ROW(),"")
A14: 275 | B14: LA DÉFENSE | D14: PONT DE LEVALLOIS | F14: =IF(OR(Résultat!A$1=B14,Résultat!A$1=D14),ROW(),"") -> 14
A15: 278 | B15: LA DÉFENSE | D15: BOIS-COLOMBES - LES BRUYERES | F15: =IF(OR(Résultat!A$1=B15,Résultat!A$1=D15),ROW(),"") -> 15
A16: 304 | B16: NANTERRE - PLACE DE LA BOULE | C16: Desserte "Quartier République" à horaire spécifique. | D16: ASNIERES-GENNEVILLIERS - LES COURTILLES | F16: =IF(OR(Résultat!A$1=B16,Résultat!A$1=D16),ROW(),"")
A17: 367 | B17: RUEIL-MALMAISON RER | D17: PONT DE BEZONS | F17: =IF(OR(Résultat!A$1=B17,Résultat!A$1=D17),ROW(),"")
A18: Ligne Bleu | B18: CHEMIN DE L'ILE | D18: CIMETIERE DU MONT VALERIEN | F18: =IF(OR(Résultat!A$1=B18,Résultat!A$1=D18),ROW(),"")
A19: Ligne Rouge | B19: PLAINCHAMP-ROCHET | C19: PLACE DE LA BOULE-GAMBETTA | D19: DROITS DE L'HOMME | F19: =IF(OR(Résultat!A$1=B19,Résultat!A$1=D19),ROW(),"")
A20: 563 | B20: NANTERRE - PLACE DE LA BOULE - GAMBETTA | D20: SURESNES - DE GAULLE | F20: =IF(OR(Résultat!A$1=B20,Résultat!A$1=D20),ROW(),"")
A21: 564 | B21: COLLEGE LA MALMAISON | C21: (CIRCULAIRE) | D21: COLLEGE LA MALMAISON | F21: =IF(OR(Résultat!A$1=B21,Résultat!A$1=D21),ROW(),"")
A22: 565 | B22: MAIRIE DE RUEIL | D22: HAUTS DE RUEIL EGLISE DE BUZENVAL | F22: =IF(OR(Résultat!A$1=B22,Résultat!A$1=D22),ROW(),"")
C23: NOCTILIEN
A24: N53 | B24: NANTERRE - ANATOLE FRANCE. | D24: GARE SAINT-LAZARE | F24: =IF(OR(Résultat!A$1=B24,Résultat!A$1=D24),ROW(),"")
C43: Centre bus: | D43: NANTERRE

Sheet Résultat
A1: LA DÉFENSE
A2: CHARLEBOURG | B2: NANTERRE
A3: =IF(IFERROR(SMALL(CHARLEBOURG!F:F,ROW()-2),"")="","",HYPERLINK(CONCATENATE("C:\Users\Charlie V\Desktop\BUS-RATP\CHARLEBOURG\",INDIRECT("CHARLEBOURG!A"&SMALL(CHARLEBOURG!F:F,ROW()-2),1),".pdf"),INDIRECT("CHARLEBOURG!A"&SMALL(CHARLEBOURG!F:F,ROW()-2),1))) -> 144 | B3: =IF(IFERROR(SMALL(NANTERRE!F:F,ROW()-2),"")="","",HYPERLINK(CONCATENATE("C:\Users\Charlie V\Desktop\BUS-RATP\NANTERRE\",INDIRECT("NANTERRE!A"&SMALL(NANTERRE!F:F,ROW()-2),1),".pdf"),INDIRECT("NANTERRE!A"&SMALL(NANTERRE!F:F,ROW()-2),1))) -> 141
A4: =IF(IFERROR(SMALL(CHARLEBOURG!F:F,ROW()-2),"")="","",HYPERLINK(CONCATENATE("C:\Users\Charlie V\Desktop\BUS-RATP\CHARLEBOURG\",INDIRECT("CHARLEBOURG!A"&SMALL(CHARLEBOURG!F:F,ROW()-2),1),".pdf"),INDIRECT("CHARLEBOURG!A"&SMALL(CHARLEBOURG!F:F,ROW()-2),1))) -> 276 | B4: =IF(IFERROR(SMALL(NANTERRE!F:F,ROW()-2),"")="","",HYPERLINK(CONCATENATE("C:\Users\Charlie V\Desktop\BUS-RATP\NANTERRE\",INDIRECT("NANTERRE!A"&SMALL(NANTERRE!F:F,ROW()-2),1),".pdf"),INDIRECT("NANTERRE!A"&SMALL(NANTERRE!F:F,ROW()-2),1))) -> 159
A5: =IF(IFERROR(SMALL(CHARLEBOURG!F:F,ROW()-2),"")="","",HYPERLINK(CONCATENATE("C:\Users\Charlie V\Desktop\BUS-RATP\CHARLEBOURG\",INDIRECT("CHARLEBOURG!A"&SMALL(CHARLEBOURG!F:F,ROW()-2),1),".pdf"),INDIRECT("CHARLEBOURG!A"&SMALL(CHARLEBOURG!F:F,ROW()-2),1))) -> 360 | B5: =IF(IFERROR(SMALL(NANTERRE!F:F,ROW()-2),"")="","",HYPERLINK(CONCATENATE("C:\Users\Charlie V\Desktop\BUS-RATP\NANTERRE\",INDIRECT("NANTERRE!A"&SMALL(NANTERRE!F:F,ROW()-2),1),".pdf"),INDIRECT("NANTERRE!A"&SMALL(NANTERRE!F:F,ROW()-2),1))) -> 258
A6: =IF(IFERROR(SMALL(CHARLEBOURG!F:F,ROW()-2),"")="","",HYPERLINK(CONCATENATE("C:\Users\Charlie V\Desktop\BUS-RATP\CHARLEBOURG\",INDIRECT("CHARLEBOURG!A"&SMALL(CHARLEBOURG!F:F,ROW()-2),1),".pdf"),INDIRECT("CHARLEBOURG!A"&SMALL(CHARLEBOURG!F:F,ROW()-2),1))) | B6: =IF(IFERROR(SMALL(NANTERRE!F:F,ROW()-2),"")="","",HYPERLINK(CONCATENATE("C:\Users\Charlie V\Desktop\BUS-RATP\NANTERRE\",INDIRECT("NANTERRE!A"&SMALL(NANTERRE!F:F,ROW()-2),1),".pdf"),INDIRECT("NANTERRE!A"&SMALL(NANTERRE!F:F,ROW()-2),1))) -> 275
A7: =IF(IFERROR(SMALL(CHARLEBOURG!F:F,ROW()-2),"")="","",HYPERLINK(CONCATENATE("C:\Users\Charlie V\Desktop\BUS-RATP\CHARLEBOURG\",INDIRECT("CHARLEBOURG!A"&SMALL(CHARLEBOURG!F:F,ROW()-2),1),".pdf"),INDIRECT("CHARLEBOURG!A"&SMALL(CHARLEBOURG!F:F,ROW()-2),1))) | B7: =IF(IFERROR(SMALL(NANTERRE!F:F,ROW()-2),"")="","",HYPERLINK(CONCATENATE("C:\Users\Charlie V\Desktop\BUS-RATP\NANTERRE\",INDIRECT("NANTERRE!A"&SMALL(NANTERRE!F:F,ROW()-2),1),".pdf"),INDIRECT("NANTERRE!A"&SMALL(NANTERRE!F:F,ROW()-2),1))) -> 278
E53: =IF(A$1=F53,ROW(),"") | F53: ARGENTEUIL - COLLÈGE CLAUDE MONET | G53: C ARGENTEUIL - COLLÈGE CLAUDE MONET
E54: =IF(A$1=F54,ROW(),"") | F54: ASNIÈRES - 18 JUIN 1940 | G54: C ASNIÈRES - 18 JUIN 1940
E55: =IF(A$1=F55,ROW(),"") | F55: ASNIÈRES - BORDS DE SEINE | G55: C ASNIÈRES - BORDS DE SEINE
E56: =IF(A$1=F56,ROW(),"") | F56: ASNIÈRES-GENNEVILLIERS - GABRIEL PÉRI | G56: C ASNIÈRES-GENNEVILLIERS - GABRIEL PÉRI
E57: =IF(A$1=F57,ROW(),"") | F57: ASNIÈRES-GENNEVILLIERS - LES COURTILLES | G57: C ASNIÈRES-GENNEVILLIERS - LES COURTILLES | H57: N ASNIERES-GENNEVILLIERS - LES COURTILLES
E58: =IF(A$1=F58,ROW(),"") | F58: BEZONS - GRAND CERF | G58: C BEZONS - GRAND CERF
E59: =IF(A$1=F59,ROW(),"") | F59: BOIS-COLOMBES - LES BRUYERES | H59: N BOIS-COLOMBES - LES BRUYERES
E60: =IF(A$1=F60,ROW(),"") | F60: CHÂTEAU DE VINCENNES | G60: C CHÂTEAU DE VINCENNES
E61: =IF(A$1=F61,ROW(),"") | F61: CHATELET | G61: C CHATELET
E62: =IF(A$1=F62,ROW(),"") | F62: CHEMIN DE L'ILE | H62: N CHEMIN DE L'ILE
E63: =IF(A$1=F63,ROW(),"") | F63: CIMETIERE DU MONT VALERIEN | H63: N CIMETIERE DU MONT VALERIEN
E64: =IF(A$1=F64,ROW(),"") | F64: CIMETIÈRE NOUVEAU | G64: C CIMETIÈRE NOUVEAU
E65: =IF(A$1=F65,ROW(),"") | F65: COLLEGE LA MALMAISON | H65: N COLLEGE LA MALMAISON
E66: =IF(A$1=F66,ROW(),"") | F66: COLOMBES - AUDRA | G66: C COLOMBES - AUDRA
E67: =IF(A$1=F67,ROW(),"") | F67: COLOMBES - PETIT GENNEVILLIERS | G67: C COLOMBES - PETIT GENNEVILLIERS
E68: =IF(A$1=F68,ROW(),"") | F68: CONSERVATOIRE PRESENSSÉ | G68: C CONSERVATOIRE PRESENSSÉ
E69: =IF(A$1=F69,ROW(),"") | F69: DROITS DE L'HOMME | H69: N DROITS DE L'HOMME
E70: =IF(A$1=F70,ROW(),"") | F70: ÉCOLE DES SPORTS - ÎLE DE PUTEAUX | G70: C ÉCOLE DES SPORTS - ÎLE DE PUTEAUX
E71: =IF(A$1=F71,ROW(),"") | F71: ÉGLISE DE COLOMBES | G71: C ÉGLISE DE COLOMBES
E72: =IF(A$1=F72,ROW(),"") | F72: GARE D'ARGENTEUIL | H72: N GARE D'ARGENTEUIL
E73: =IF(A$1=F73,ROW(),"") | F73: GARE DE MAISONS-LAFFITE RER | G73: C GARE DE MAISONS-LAFFITE RER
E74: =IF(A$1=F74,ROW(),"") | F74: GARE SAINT-LAZARE | H74: N GARE SAINT-LAZARE
E75: =IF(A$1=F75,ROW(),"") | F75: HAUTS DE RUEIL EGLISE DE BUZENVAL | H75: N HAUTS DE RUEIL EGLISE DE BUZENVAL
E76: =IF(A$1=F76,ROW(),"") | F76: HOPITAL DE GARCHES | G76: C HOPITAL DE GARCHES
E77: =IF(A$1=F77,ROW(),"") | F77: INVALIDES | G77: C INVALIDES
E78: =IF(A$1=F78,ROW(),"") -> 78 | F78: LA DÉFENSE | G78: C LA DÉFENSE | H78: N LA DEFENSE
E79: =IF(A$1=F79,ROW(),"") | F79: LA GARENNE-COLOMBES CHARLEBOURG | G79: C LA GARENNE-COLOMBES CHARLEBOURG
E80: =IF(A$1=F80,ROW(),"") | F80: LYCEE DE RUEIL-MALMAISON | H80: N LYCEE DE RUEIL-MALMAISON
E81: =IF(A$1=F81,ROW(),"") | F81: MAIRIE DE RUEIL | H81: N MAIRIE DE RUEIL
E82: =IF(A$1=F82,ROW(),"") | F82: MUSÉE D'ORSAY | G82: C MUSÉE D'ORSAY
E83: =IF(A$1=F83,ROW(),"") | F83: NANTERRE - ANATOLE FRANCE. | H83: N NANTERRE - ANATOLE FRANCE.
E84: =IF(A$1=F84,ROW(),"") | F84: NANTERRE - BOULEVARD DE LA SEINE | H84: N NANTERRE - BOULEVARD DE LA SEINE
E85: =IF(A$1=F85,ROW(),"") | F85: NANTERRE - CITE DU VIEUX PONT | H85: N NANTERRE - CITE DU VIEUX PONT
...
