Workbook

Sheet edition 
A1: IDCherche | B1: Date | C1: Name | D1: Cash ID | E1: Debit | F1: Credit | G1: statut | H1: Trouvé dans : point de vente
A2: =RIGHT(TRIM(D2),4)&" "&TRIM(F2) -> 0600 171,6 | B2: 42736 | C2: 3035 | D2: XXXXXXXXXXXX0600 | E2: 0 | F2: 171.6 | H2: =IF(ISERROR(VLOOKUP(A2,'point de vente'!$A$2:$D$200,4,0)),"introuvable, n'a pas été vendu",VLOOKUP(A2,'point de vente'!$A$2:$D$200,4,0)) -> introuvable, n'a pas été vendu
A3: =RIGHT(TRIM(D3),4)&" "&TRIM(F3) -> 1055 15567,8 | B3: 42736 | C3: 3115 | D3: XXXXXXXXXXXX1055 | E3: 0 | F3: 15567.8 | G3: consommé en date 05/01/2017 | H3: =IF(ISERROR(VLOOKUP(A3,'point de vente'!$A$2:$D$200,4,0)),"introuvable, n'a pas été vendu",VLOOKUP(A3,'point de vente'!$A$2:$D$200,4,0)) -> 15567.8
A4: =RIGHT(TRIM(D4),4)&" "&TRIM(F4) -> 2528 180 | B4: 42736 | C4: 4005 | D4: XXXXXXXXXXXX2528 | E4: 0 | F4: 180 | G4: consommé en date 15/01/2017 | H4: =IF(ISERROR(VLOOKUP(A4,'point de vente'!$A$2:$D$200,4,0)),"introuvable, n'a pas été vendu",VLOOKUP(A4,'point de vente'!$A$2:$D$200,4,0)) -> 180
A5: =RIGHT(TRIM(D5),4)&" "&TRIM(F5) -> 2683 1838,4 | B5: 42740 | C5: 3118 | D5: XXXXXXXXXXXX2683 | E5: 0 | F5: 1838.4 | G5: consommé en date 10/01/2017 | H5: =IF(ISERROR(VLOOKUP(A5,'point de vente'!$A$2:$D$200,4,0)),"introuvable, n'a pas été vendu",VLOOKUP(A5,'point de vente'!$A$2:$D$200,4,0)) -> 1838.4
A6: =RIGHT(TRIM(D6),4)&" "&TRIM(F6) -> 3384 9151,6 | B6: 42736 | C6: 4029 | D6: XXXXXXXXXXXX3384 | E6: 0 | F6: 9151.6 | G6: consommé en date 02/01/2017 | H6: =IF(ISERROR(VLOOKUP(A6,'point de vente'!$A$2:$D$200,4,0)),"introuvable, n'a pas été vendu",VLOOKUP(A6,'point de vente'!$A$2:$D$200,4,0)) -> 9151.6
A7: =RIGHT(TRIM(D7),4)&" "&TRIM(F7) -> 5137 3029,4 | B7: 42736 | C7: 5095 | D7: XXXXXXXXXXXX5137 | E7: 0 | F7: 3029.4 | H7: =IF(ISERROR(VLOOKUP(A7,'point de vente'!$A$2:$D$200,4,0)),"introuvable, n'a pas été vendu",VLOOKUP(A7,'point de vente'!$A$2:$D$200,4,0)) -> introuvable, n'a pas été vendu
A8: =RIGHT(TRIM(D8),4)&" "&TRIM(F8) -> 5203 300 | B8: 42736 | C8: 5046 | D8: XXXXXXXXXXXX5203 | E8: 0 | F8: 300 | G8: non consommé | H8: =IF(ISERROR(VLOOKUP(A8,'point de vente'!$A$2:$D$200,4,0)),"introuvable, n'a pas été vendu",VLOOKUP(A8,'point de vente'!$A$2:$D$200,4,0)) -> introuvable, n'a pas été vendu
A9: =RIGHT(TRIM(D9),4)&" "&TRIM(F9) -> 5203 5772 | B9: 42736 | C9: 5046 | D9: XXXXXXXXXXXX5203 | E9: 0 | F9: 5772 | G9: consommé en date 04/01/2017 | H9: =IF(ISERROR(VLOOKUP(A9,'point de vente'!$A$2:$D$200,4,0)),"introuvable, n'a pas été vendu",VLOOKUP(A9,'point de vente'!$A$2:$D$200,4,0)) -> 5772
A10: =RIGHT(TRIM(D10),4)&" "&TRIM(F10) -> 5873 8035,8 | B10: 42745 | C10: 5076 | D10: XXXXXXXXXXXX5873 | E10: 0 | F10: 8035.8 | G10: non consommé | H10: =IF(ISERROR(VLOOKUP(A10,'point de vente'!$A$2:$D$200,4,0)),"introuvable, n'a pas été vendu",VLOOKUP(A10,'point de vente'!$A$2:$D$200,4,0)) -> introuvable, n'a pas été vendu
A11: =RIGHT(TRIM(D11),4)&" "&TRIM(F11) -> 6802 3007,2 | B11: 42736 | C11: 5098 | D11: XXXXXXXXXXXX6802 | E11: 0 | F11: 3007.2 | G11: non consommé | H11: =IF(ISERROR(VLOOKUP(A11,'point de vente'!$A$2:$D$200,4,0)),"introuvable, n'a pas été vendu",VLOOKUP(A11,'point de vente'!$A$2:$D$200,4,0)) -> introuvable, n'a pas été vendu
A12: =RIGHT(TRIM(D12),4)&" "&TRIM(F12) -> 7470 179,4 | B12: 42736 | C12: 3119 | D12: XXXXXXXXXXXX7470 | E12: 0 | F12: 179.4 | H12: =IF(ISERROR(VLOOKUP(A12,'point de vente'!$A$2:$D$200,4,0)),"introuvable, n'a pas été vendu",VLOOKUP(A12,'point de vente'!$A$2:$D$200,4,0)) -> introuvable, n'a pas été vendu
A13: =RIGHT(TRIM(D13),4)&" "&TRIM(F13) -> 7905 3100 | B13: 42736 | C13: 3071 | D13: XXXXXXXXXXXX7905 | E13: 0 | F13: 3100 | G13: non consommé | H13: =IF(ISERROR(VLOOKUP(A13,'point de vente'!$A$2:$D$200,4,0)),"introuvable, n'a pas été vendu",VLOOKUP(A13,'point de vente'!$A$2:$D$200,4,0)) -> introuvable, n'a pas été vendu
A14: =RIGHT(TRIM(D14),4)&" "&TRIM(F14) -> 7969 16988,8 | B14: 42736 | C14: 5102 | D14: XXXXXXXXXXXX7969 | E14: 0 | F14: 16988.8 | H14: =IF(ISERROR(VLOOKUP(A14,'point de vente'!$A$2:$D$200,4,0)),"introuvable, n'a pas été vendu",VLOOKUP(A14,'point de vente'!$A$2:$D$200,4,0)) -> 16988.8
A15: =RIGHT(TRIM(D15),4)&" "&TRIM(F15) -> 8907 5657,2 | B15: 42736 | C15: 4069 | D15: XXXXXXXXXXXX8907 | E15: 0 | F15: 5657.2 | G15: non consommé | H15: =IF(ISERROR(VLOOKUP(A15,'point de vente'!$A$2:$D$200,4,0)),"introuvable, n'a pas été vendu",VLOOKUP(A15,'point de vente'!$A$2:$D$200,4,0)) -> introuvable, n'a pas été vendu

Sheet point de vente
A1: IDTrouve | B1: DATE | C1: CASH ID | D1: CREDIT | E1: statut | F1: Trouvé dans : edition
A2: =RIGHT(TRIM(C2),4)&" "&TRIM(D2) -> 1055 15567,8 | B2: 42740 | C2: 553979******1055 | D2: 15567.8 | E2: =IF(ISERROR(VLOOKUP(RIGHT(TRIM(C2),4)&" "&TRIM(D2),'edition '!$A$2:$G$200,7,0)),"non édité",IF(VLOOKUP(RIGHT(TRIM(C2),4)&" "&TRIM(D2),'edition '!$A$2:$G$200,7,0)="","trouvé sans commentaire","")) | F2: =IF(ISERROR(VLOOKUP(RIGHT(TRIM(C2),4)&" "&TRIM(D2),'edition '!$A$2:$G$200,7,0)),"",VLOOKUP(RIGHT(TRIM(C2),4)&" "&TRIM(D2),'edition '!$A$2:$G$200,7,0)) -> consommé en date 05/01/2017
A3: =RIGHT(TRIM(C3),4)&" "&TRIM(D3) -> 2440 1041 | B3: 42736 | C3: 554759******2440 | D3: 1041 | E3: =IF(ISERROR(VLOOKUP(RIGHT(TRIM(C3),4)&" "&TRIM(D3),'edition '!$A$2:$G$200,7,0)),"non édité",IF(VLOOKUP(RIGHT(TRIM(C3),4)&" "&TRIM(D3),'edition '!$A$2:$G$200,7,0)="","trouvé sans commentaire","")) -> non édité | F3: =IF(ISERROR(VLOOKUP(RIGHT(TRIM(C3),4)&" "&TRIM(D3),'edition '!$A$2:$G$200,7,0)),"",VLOOKUP(RIGHT(TRIM(C3),4)&" "&TRIM(D3),'edition '!$A$2:$G$200,7,0))
A4: =RIGHT(TRIM(C4),4)&" "&TRIM(D4) -> 2528 180 | B4: 42750 | C4: 479785******2528 | D4: 180 | E4: =IF(ISERROR(VLOOKUP(RIGHT(TRIM(C4),4)&" "&TRIM(D4),'edition '!$A$2:$G$200,7,0)),"non édité",IF(VLOOKUP(RIGHT(TRIM(C4),4)&" "&TRIM(D4),'edition '!$A$2:$G$200,7,0)="","trouvé sans commentaire","")) | F4: =IF(ISERROR(VLOOKUP(RIGHT(TRIM(C4),4)&" "&TRIM(D4),'edition '!$A$2:$G$200,7,0)),"",VLOOKUP(RIGHT(TRIM(C4),4)&" "&TRIM(D4),'edition '!$A$2:$G$200,7,0)) -> consommé en date 15/01/2017
A5: =RIGHT(TRIM(C5),4)&" "&TRIM(D5) -> 2567 1079 | B5: 42737 | C5: 540506******2567 | D5: 1079 | E5: =IF(ISERROR(VLOOKUP(RIGHT(TRIM(C5),4)&" "&TRIM(D5),'edition '!$A$2:$G$200,7,0)),"non édité",IF(VLOOKUP(RIGHT(TRIM(C5),4)&" "&TRIM(D5),'edition '!$A$2:$G$200,7,0)="","trouvé sans commentaire","")) -> non édité | F5: =IF(ISERROR(VLOOKUP(RIGHT(TRIM(C5),4)&" "&TRIM(D5),'edition '!$A$2:$G$200,7,0)),"",VLOOKUP(RIGHT(TRIM(C5),4)&" "&TRIM(D5),'edition '!$A$2:$G$200,7,0))
A6: =RIGHT(TRIM(C6),4)&" "&TRIM(D6) -> 2683 1838,4 | B6: 42745 | C6: 542555******2683 | D6: 1838.4 | E6: =IF(ISERROR(VLOOKUP(RIGHT(TRIM(C6),4)&" "&TRIM(D6),'edition '!$A$2:$G$200,7,0)),"non édité",IF(VLOOKUP(RIGHT(TRIM(C6),4)&" "&TRIM(D6),'edition '!$A$2:$G$200,7,0)="","trouvé sans commentaire","")) | F6: =IF(ISERROR(VLOOKUP(RIGHT(TRIM(C6),4)&" "&TRIM(D6),'edition '!$A$2:$G$200,7,0)),"",VLOOKUP(RIGHT(TRIM(C6),4)&" "&TRIM(D6),'edition '!$A$2:$G$200,7,0)) -> consommé en date 10/01/2017
A7: =RIGHT(TRIM(C7),4)&" "&TRIM(D7) -> 3016 2874,4 | B7: 42736 | C7: 405525******3016 | D7: 2874.4 | E7: =IF(ISERROR(VLOOKUP(RIGHT(TRIM(C7),4)&" "&TRIM(D7),'edition '!$A$2:$G$200,7,0)),"non édité",IF(VLOOKUP(RIGHT(TRIM(C7),4)&" "&TRIM(D7),'edition '!$A$2:$G$200,7,0)="","trouvé sans commentaire","")) -> non édité | F7: =IF(ISERROR(VLOOKUP(RIGHT(TRIM(C7),4)&" "&TRIM(D7),'edition '!$A$2:$G$200,7,0)),"",VLOOKUP(RIGHT(TRIM(C7),4)&" "&TRIM(D7),'edition '!$A$2:$G$200,7,0))
A8: =RIGHT(TRIM(C8),4)&" "&TRIM(D8) -> 3384 9151,6 | B8: 42737 | C8: 479785******3384 | D8: 9151.6 | E8: =IF(ISERROR(VLOOKUP(RIGHT(TRIM(C8),4)&" "&TRIM(D8),'edition '!$A$2:$G$200,7,0)),"non édité",IF(VLOOKUP(RIGHT(TRIM(C8),4)&" "&TRIM(D8),'edition '!$A$2:$G$200,7,0)="","trouvé sans commentaire","")) | F8: =IF(ISERROR(VLOOKUP(RIGHT(TRIM(C8),4)&" "&TRIM(D8),'edition '!$A$2:$G$200,7,0)),"",VLOOKUP(RIGHT(TRIM(C8),4)&" "&TRIM(D8),'edition '!$A$2:$G$200,7,0)) -> consommé en date 02/01/2017
A9: =RIGHT(TRIM(C9),4)&" "&TRIM(D9) -> 5203 5772 | B9: 42739 | C9: 497940******5203 | D9: 5772 | E9: =IF(ISERROR(VLOOKUP(RIGHT(TRIM(C9),4)&" "&TRIM(D9),'edition '!$A$2:$G$200,7,0)),"non édité",IF(VLOOKUP(RIGHT(TRIM(C9),4)&" "&TRIM(D9),'edition '!$A$2:$G$200,7,0)="","trouvé sans commentaire","")) | F9: =IF(ISERROR(VLOOKUP(RIGHT(TRIM(C9),4)&" "&TRIM(D9),'edition '!$A$2:$G$200,7,0)),"",VLOOKUP(RIGHT(TRIM(C9),4)&" "&TRIM(D9),'edition '!$A$2:$G$200,7,0)) -> consommé en date 04/01/2017
A10: =RIGHT(TRIM(C10),4)&" "&TRIM(D10) -> 5420 8277,4 | B10: 42736 | C10: 454313******5420 | D10: 8277.4 | E10: =IF(ISERROR(VLOOKUP(RIGHT(TRIM(C10),4)&" "&TRIM(D10),'edition '!$A$2:$G$200,7,0)),"non édité",IF(VLOOKUP(RIGHT(TRIM(C10),4)&" "&TRIM(D10),'edition '!$A$2:$G$200,7,0)="","trouvé sans commentaire","")) -> non édité | F10: =IF(ISERROR(VLOOKUP(RIGHT(TRIM(C10),4)&" "&TRIM(D10),'edition '!$A$2:$G$200,7,0)),"",VLOOKUP(RIGHT(TRIM(C10),4)&" "&TRIM(D10),'edition '!$A$2:$G$200,7,0))
A11: =RIGHT(TRIM(C11),4)&" "&TRIM(D11) -> 6019 2800 | B11: 42737 | C11: 463403******6019 | D11: 2800 | E11: =IF(ISERROR(VLOOKUP(RIGHT(TRIM(C11),4)&" "&TRIM(D11),'edition '!$A$2:$G$200,7,0)),"non édité",IF(VLOOKUP(RIGHT(TRIM(C11),4)&" "&TRIM(D11),'edition '!$A$2:$G$200,7,0)="","trouvé sans commentaire","")) -> non édité | F11: =IF(ISERROR(VLOOKUP(RIGHT(TRIM(C11),4)&" "&TRIM(D11),'edition '!$A$2:$G$200,7,0)),"",VLOOKUP(RIGHT(TRIM(C11),4)&" "&TRIM(D11),'edition '!$A$2:$G$200,7,0))
A12: =RIGHT(TRIM(C12),4)&" "&TRIM(D12) -> 7969 16988,8 | B12: 42742 | C12: 477921******7969 | D12: 16988.8 | E12: =IF(ISERROR(VLOOKUP(RIGHT(TRIM(C12),4)&" "&TRIM(D12),'edition '!$A$2:$G$200,7,0)),"non édité",IF(VLOOKUP(RIGHT(TRIM(C12),4)&" "&TRIM(D12),'edition '!$A$2:$G$200,7,0)="","-trouvé sans commentaire","")) -> -trouvé sans commentaire | F12: =IF(ISERROR(VLOOKUP(RIGHT(TRIM(C12),4)&" "&TRIM(D12),'edition '!$A$2:$G$200,7,0)),"",VLOOKUP(RIGHT(TRIM(C12),4)&" "&TRIM(D12),'edition '!$A$2:$G$200,7,0)) -> 0
A13: =RIGHT(TRIM(C13),4)&" "&TRIM(D13) -> 8952 950 | B13: 42736 | C13: 423367******8952 | D13: 950 | E13: =IF(ISERROR(VLOOKUP(RIGHT(TRIM(C13),4)&" "&TRIM(D13),'edition '!$A$2:$G$200,7,0)),"non édité",IF(VLOOKUP(RIGHT(TRIM(C13),4)&" "&TRIM(D13),'edition '!$A$2:$G$200,7,0)="","trouvé sans commentaire","")) -> non édité | F13: =IF(ISERROR(VLOOKUP(RIGHT(TRIM(C13),4)&" "&TRIM(D13),'edition '!$A$2:$G$200,7,0)),"",VLOOKUP(RIGHT(TRIM(C13),4)&" "&TRIM(D13),'edition '!$A$2:$G$200,7,0))
F14: =IF(ISERROR(VLOOKUP(RIGHT(TRIM(C14),4)&" "&TRIM(D14),'edition '!$A$2:$G$200,7,0)),"",VLOOKUP(RIGHT(TRIM(C14),4)&" "&TRIM(D14),'edition '!$A$2:$G$200,7,0))

Sheet Feuil1
